{"text_format":"1","workbook":"xlsx","n_sheets":7,"sheets":["PLAN DE ACCION CONSOLIDACION","INFO_ANÁLISIS DE CONTEXTO","INFO_ESTRATEGIAS","PLAN DE ACCION","GESTION","INVERSION","JURISDICCIONAL"],"not_rendered":{"charts":0,"images":5,"macros":1,"external_links":2,"defined_names":17,"comments":0,"pivot_tables":0},"unopened":[],"bounds":{"document_bytes":16777216,"sheet_cells":100000,"rows_first":2000,"rows_last":500,"rows_between":2000,"halvings":0,"cell_chars":16384,"cell_head_chars":4096},"cells_cut":0,"cells_raw":0,"read":"row_number_cap","date_system":"1900"}

{"sheet":"PLAN DE ACCION CONSOLIDACION","index":0,"n_rows":29,"n_cols":24,"rows_kept":29,"cut":false,"hidden":true,"merged":[[1,2,1,21],[2,0,3,0],[2,1,3,1],[2,2,3,2],[2,3,3,3],[2,4,3,4],[2,5,2,7],[2,8,2,10],[2,11,2,15],[2,16,2,18],[2,19,3,19],[2,20,2,21],[2,22,2,23],[4,0,8,0],[4,1,8,1],[4,3,8,3],[9,0,14,0],[9,1,14,1],[9,3,14,3],[27,0,28,0],[27,1,28,1],[27,3,28,3],[15,0,21,0],[15,1,21,1],[15,3,21,3],[22,0,26,0],[22,1,26,1],[22,3,26,3]]}
[]
[null,null,"CONSEJO SUPERIOR DE LA JUDICATURA \nUNIDADES MISIONALES DEL CONSEJO SUPERIOR DE LA JUDICATURA - \nDIRECCIÓN EJECUTIVA DE ADMINISTRACIÓN JUDICIAL -UNIDADES MISIONALES DE LA DEAJ\nDIRECCIONES SECCIONALES DE ADMINISTRACIÓN JUDICIAL "]
["No. ","OBJETIVOS ESTRATEGICOS PLAN SECTORIAL DE DESARROLLO 2023-2026","OBJETIVOS ESPECIFICOS PLAN SECTORIAL DE DESARROLLO 2023-2026","OBJETIVOS DEL SIGCMA","DESCRIPCIÓN DE LA ACTIVIDAD (INVERSIÓN O DE GESTIÓN) ","MAPA DE PROCESO DEL SIGCMA (RELACIONE  EL PROCESO ESTRATÉGICO, MISIONAL, APOYO y EVALUACIÓN - MEJORA)",null,null,"MEDICIÓN DE LA GESTIÓN ",null,null,"PROYECTOS DE INVERSIÓN DE ACUERDO CON LOS OBJETIVOS DEL PLAN SECTORIAL DE DESARROLLO",null,null,null,null,"MEDICIÓN (INVERSIÓN INDICADORES POAI- GESTIÓN INDICADORES",null,null,"RESPONSABLE POR PROYECTO O ACTIVIDAD","FECHA DEL PROYECTO/ACTIVIDAD",null,"ANÁLISIS DE RESULTADOS"]
[null,null,null,null,null,"NOMBRE DEL PROCESO","CENTRAL","SECCIONAL","ENTREGABLE","INDICADOR","DESCRIBIR EL INDICADOR","PROGRAMA DE INVERSIÓN","NOMBRE DEL PROYECTO DE INVERSIÓN ","CODIGO BPIN (PROYECTO)","CODIGO PRESUPUESTAL","ACTIVIDAD DE INVERSIÓN (POAI)","ENTREGABLE","INDICADOR","DESCRIBIR EL INDICADOR",null,"INICIO \nDÍA/MES/AÑO","FIN\nDÍA/MES/AÑO","CUMPLIMIENTO DEL OBJETIVO (ACUMULADO DE LOS 4 TRIMESTRES)"," ANÁLISIS RESULTADO\nFINAL - ACUMULADO"]
[1,"Acceso a Infraestructura Física"," 1. Ampliar el acceso a justicia para atender las necesidades jurídicas de los \nciudadanos con un enfoque diferencial, de una manera pronta, reduciendo las \ninequidades y las brechas territoriales de acceso.","\n2. Asegurar  el cumplimiento de los objetivos institucionales, la normatividad aplicable,  la mejora del SIGCMA y la satisfacción de los usuarios, revisando de  forma continua y sistemática la planificación de la gestión y fortaleciendo la administración de riesgos y sus controles. (1,2,3 y 5)\n\n4. Hacer un uso racional de los recursos naturales aplicando los principios y fases de la Economía Circular, para prevenir, mitigar y controlar los impactos ambientales. (4)\n\n"]
[null,null,"2. Mejorar los tiempos de respuesta de la Rama Judicial y reducir el inventario de \nprocesos, identificando los retos internos y promoviendo tanto acciones articuladas\nespecíficas para abordarlos como estrategias coordinadas para enfrentar las \nbarreras que dependen de otras entidades."]
[null,null,"3. Coadyuvar en la garantía de la idoneidad en el ejercicio de la profesión jurídica de acuerdo con lo establecido en la Ley 1905 de 2018"]
[null,null,"4. Avanzar en la disposición de una infraestructura óptima para el acceso a la justicia en la Rama Judicial de modo que se fortalezca la presencia territorial, teniendo en cuenta las posibilidades que ofrece la transformación digital y las necesidades que se derivan de ella, y considerando tanto las necesidades de los usuarios como las de los servidores judiciales."]
[null,null,"5. Impulsar el uso de mecanismos alternativos para la solución de conflictos y la \nampliación de la justicia restaurativa y terapéutica y el robustecimiento de las alternativas al encarcelamiento"]
[2,"Servicios digitales y de tecnología, innovación y análisis de la información","1. Ampliar el acceso a la justicia a través de la consolidación del uso de los servicios \ndigitales que conforman el sistema único integrado de gestión judicial en todos los \ndespachos judiciales y dependencias de apoyo y, específicamente, incluyendo el \ndespliegue e implementación del Expediente Judicial Electrónico en todas las \njurisdicciones y especialidades.","6. Proteger, preservar y administrar los activos de información  implementando acciones  para gestionar de forma adecuada los incidentes  , proteger los datos personales y adoptar mecanismos  de ciberseguridad y aseguramiento de la  continuidad del negocio (1, 2, 3, 4, 5 y 6)"]
[null,null,"2. Integrar y hacer compatibles todos los aplicativos de transición con SIUGJ, para que la migración de los expedientes judiciales a dicha plataforma sea real y no suponga afectaciones en la prestación del servicio de justicia."]
[null,null,"\n3. Fortalecer las capacidades institucionales, adecuar el modelo operativo y de \nservicio, bajo un enfoque de Arquitectura Empresarial y de fortalecimiento del \nacceso a la justicia."]
[null,null,"\n4.Consolidar la cultura y apropiación de la transformación digital en los servidores y \nusuarios de los servicios de la Rama Judicial y reducir brechas de acceso y conocimiento, incluyendo la oferta efectiva de información sobre el uso de las nuevas herramientas virtuales implementadas en las diferentes jurisdicciones, con especial énfasis en las zonas del país donde es evidente la brecha digital."]
[null,null,"\n5.Consolidar la infraestructura y los recursos necesarios para la implementación exitosa de la transformación digital, incluyendo la disposición de internet de calidad en el 100% de las sedes en la Rama Judicial y modernizar los servicios tecnológicos de soporte. "]
[null,null,"\n6.Integrar y optimizar los servicios administrativos de la Rama Judicial bajo un enfoque de transformación digital e innovación incluyendo los componentes financiero, administrativo, talento humano, entre otros"]
[3,"Confianza pública, transparencia y rendición de cuentas","1. Incrementar la cantidad, la calidad y pertinencia de los datos sobre el funcionamiento del servicio de justicia bajo un modelo de gobierno de datos y un liderazgo unificado. \n","1. Gestionar el desarrollo de las competencias, la toma de conciencia , la cultura  organizacional  y el compromiso de los  servidores judiciales, contratistas, practicantes y  judicantes de contribuir a generar valor público en la administración de justicia, en el marco de  cumplimiento de los requisitos  aplicables y el comportamiento ético. (3 y 7)\n\n3. Fomentar la transparencia y la participación generando lineamientos y promoviendo la rendición de cuentas ,la consulta, reporte y planteamiento de inquietudes en relación con las decisiones y aspectos del SIGCMA. (3, 4, 5 y 6)\n\n4. Hacer un uso racional de los recursos naturales aplicando los principios y fases de la Economía Circular, para prevenir, mitigar y controlar los impactos ambientales. (1 y 7)\n"]
[null,null,"2. Consolidar la administración de la información entendida como todas las acciones \norientadas a garantizar el acceso, consulta, uso y conservación de la información \nde justicia de manera ágil, flexible e inteligente, bajo un enfoque de innovación."]
[null,null,"3. Fortalecer el Sistema integrado de Gestión de la Rama, orientado a la implementación y certificación de las normas antisoborno."]
[null,null,"4. Aumentar la confianza, la cercanía y acceso a los servicios de la Rama Judicial a \ntravés, entre otros, de una comunicación clara y asertiva con la ciudadanía."]
[null,null,"5. Prevenir fenómenos asociados con actos de corrupción en la Rama Judicial y \nreducir las experiencias de corrupción de usuarios y servidores judiciales."]
[null,null,"6. Promover la rendición de cuentas y la colaboración real con la ciudadanía como \nfundamento para diseñar acciones de mejoramiento del acceso a la justicia."]
[null,null,"7. Continuar la consolidación del SIGCMA, a través de los procesos de formación en \nmodelos de gestión, logrando la implementación y ampliación de este en los esquemas certificados de manera gradual, teniendo en cuenta las capacidades de los diferentes despachos judiciales y dependencias de la Rama Judicial y articulando el enfoque de Arquitectura Empresarial para el desarrollo del PETD a través de la gestión del conocimiento para la gestión del cambio propendiendo por una cultura de la calidad, la transparencia, la rendición de cuentas, la anticorrupción y el antisoborno"]
[4,"Talento Humano","1. Ampliar la cobertura de la carrera judicial optimizando los procesos de los concursos de méritos y propender por mitigar su litigiosidad.","1. Gestionar el desarrollo de las competencias, la toma de conciencia , la cultura  organizacional  y el compromiso de los  servidores judiciales, contratistas, practicantes y  judicantes de contribuir a generar valor público en la administración de justicia, en el marco de  cumplimiento de los requisitos  aplicables y el comportamiento ético. (1, 2, 3 y 4)\n\n5. Generar espacios de trabajo seguros y saludables que contribuyan a minimizar los  incidentes, accidentes y enfermedades laborales derivados de las condiciones y actos  inseguros y fomentar  el autocuidado, los  estilos de vida y el trabajo saludable en los servidores judiciales, contratistas, judicantes y practicantes. (5)\n"]
[null,null,"2. Impactar la función y servicios que presta la Rama Judicial, a través de una\nformación integral desde una visión de gestión del conocimiento, relacionada con \nlos problemas de la justicia y los problemas de gestión de quienes administran los \nrecursos de la justicia, y potenciando el uso de medios virtuales."]
[null,null,"3. Promover la incorporación de la perspectiva de género y el enfoque diferencial en \nlos fallos judiciales y en la atención a los ciudadanos, la administración de la Rama \nJudicial, la administración de la carrera judicial y la elaboración de listas para altas \nCortes. "]
[null,null,"4. Desarrollar en los servidores judiciales y demás grupos de valor relevantes las \ncompetencias necesarias para la efectividad de la transformación digital de modo \nque puedan, entre otros, utilizar con solvencia las herramientas digitales dispuestas \npara sus respectivas funciones. Además, fortalecer y actualizar los conocimientos \ndel personal a cargo de la gestión de proyectos de tecnología."]
[null,null,"5. Promover el bienestar de todos los servidores judiciales a través de la implementación de un sistema que contemple los diferentes niveles de estrategias y acciones necesarios para mejorar el clima laboral, la salud física y mental y la calidad del tiempo de descanso."]
[5,"Gobernanza, planeación estratégica y capacidad de toma de decisiones","1. Implementar un nuevo modelo integrado para la planeación estratégica, el \nseguimiento y la medición del desempeño institucional.","\n2. Asegurar  el cumplimiento de los objetivos institucionales, la normatividad aplicable,  la mejora del SIGCMA y la satisfacción de los usuarios, revisando de  forma continua y sistemática la planificación de la gestión y fortaleciendo la administración de riesgos y sus controles. (1 y 2)"]
[null,null,"2. Definir e implementar el modelo optimizado de formulación, seguimiento y \nevaluación de la política pública judicial."]

{"sheet":"INFO_ANÁLISIS DE CONTEXTO","index":1,"n_rows":84,"n_cols":10,"rows_kept":84,"cut":false,"hidden":false,"merged":[[22,0,25,0],[51,0,60,0],[31,0,37,0],[38,0,41,0],[42,0,47,0],[48,0,50,0],[61,0,63,0],[76,0,80,0],[0,1,0,3],[29,0,29,4],[1,1,1,2],[3,1,3,4],[5,0,6,0],[5,1,5,2],[5,3,5,4],[6,1,6,2],[6,3,6,4],[27,0,28,0],[8,0,8,4],[10,0,11,0],[12,0,14,0],[15,0,21,0],[83,1,83,2],[82,1,82,2],[64,0,65,0],[66,0,67,0],[68,0,75,0]]}
[null,"ANÁLISIS DE CONTEXTO"]
["CONSEJO SECCIONAL/DIRECCIÓN SECCIONAL DE ADMINISTRACIÓN JUDICIAL Y/O DISTRITO JUDICIAL SEGÚN SEA EL CASO",null,null,"PROCESO "]
[]
["DEPENDENCIA ADMINISTRATIVA O JUDICIAL CERTIFICADA "]
[]
["OBJETIVO DEL PROCESO","MAPA DE PROCESOS CONSEJO SUPERIOR DE LA JUDICATURA",null,"PROCESOS DEPENDENCIA JUDICIALES CERTIFICADAS"]
[]
[]
["CONTEXTO EXTERNO "]
["FACTORES TEMÁTICOS","No.","AMENAZAS (Factores específicos) ","No. ","OPORTUNIDADES (Factores específicos) "]
["Político (cambios de gobierno, legislación, políticas públicas, regulación)",1,"Cambios de gerentes públicos",1,"Ley 2213 de 2022  por medio de la cual se establece la vigencia permanente del Decreto Legislativo 806 de 2020 y se adoptan medidas para implementar las tecnologías de la información y las comunicaciones en las actuaciones judiciales, agilizar los procesos judiciales y flexibilizar la atención a los usuarios del servicio de justicia y se dictan otras disposiciones"]
[null,2,"Cambio de Normatividad y Regulaciones Expedidas por el Gobierno Nacional o el Congreso de la Republica que afecten la administración de Justicia.",null,null,null,null,"ley 2213 de 2022"]
["Económicos y Financieros (disponibilidad de capital, liquidez, mercados financieros, desempleo, competencia)",3,"Presupuesto insuficiente asignado para  la vigencia 2024 de la Rama Judicial",2,"Incremento del PIB que potencialice el crecimiento económico del país y viabilice la asignación suficiente de recursos para la Rama Judicial "]
[null,4,"No contar con el PAC oportunamente para la ejecución de proyectos de inversión"]
[null,5,"Numero deficiente de proveedores inscritos en la plataforma de Colombia Compra Eficiente, para suplir las necesidades de adquisición de bienes y servicios "]
["Sociales  y culturales (cultura, religión, demografía, responsabilidad social, orden público)",6,"Interrupción del servicio público de Administrar Justicia a causa del conflicto armado de la región.",3,"Incremento de la credibilidad y confianza en la administración de justicia al implementar y certificar sus Sistemas de Gestión. \n\n"]
[null,7,"Interrupción del servicio público de Administrar Justicia a causa del pandemias y sus variantes.",4,"Visibilizacion de la Administración de Justicia  entre los actores no formales de la justicia (Grupos y minorías Indígenas, género)"]
[null,8,"Interrupción del servicio público de Administrar Justicia por razones de orden público"]
[null,9,"Limitaciones en  la movilidad asociados a factores del orden público "]
[null,10,"Aumento de la demanda de Justicia a causa de la problemática social"]
[null,11,"Amenazas a servidores judiciales en razón al ejercicio de sus funciones."]
[null,12,"Afectaciones a la infraestructura física de las sedes Judiciales "]
["Tecnológicos (desarrollo digital, avances en tecnología, acceso a sistemas de información externos, gobierno en línea)",13,"Perdida o hackeo de información derivada de ataques cibernéticos",5,"Marco regulatorio del  MINTICS, para la gobernanza, gobernabilidad y transformación digital"]
[null,14,"Indisponibilidad y/o colapso de la infraestructura tecnológica ",6,"Desarrollo de alianzas estratégicas para el fortalecimiento del servicio público de administración de justicia, a través de las TICs"]
[null,15,"Afectación de la prestación del servicio de conectividad ",7,"Generar espacios donde se realicen acuerdo interinstitucionales para poder consultar información que beneficie la administración de justicia"]
[null,16,"Ausencia de portal único de información del Estado (Ramas del poder, órganos autónomos y demás entes especiales), que garantice la consulta de información en línea de toda la información oficial. Gobierno en Línea)"]
["Legales y reglamentarios (estándares nacionales, internacionales, regulación)",17,"Normas expedidas que afecten el desarrollo de las etapas propias de los procesos",8,"Actualización del marco normativo"]
["Ambientales (emisiones y residuos, energía, catástrofes naturales, desarrollo sostenible)",18,"Fenómenos naturales (Inundación, quema de bosques, sismo, vendavales, epidemias y plagas)"]
[null,19,"Aumento de los impactos ambientales negativos por pandemias"]
["CONTEXTO INTERNO "]
["FACTORES TEMÁTICOS","No.","DEBILIDADES  (Factores específicos)  ","No. ","FORTALEZAS(Factores específicos)"]
["Estratégicos (direccionamiento estratégico, planeación institucional, liderazgo, trabajo en equipo)",1,"No realización oportuna del plan de acción, matriz de riesgos y demás documentos del SIGCMA, con su seguimiento correspondiente en los periodos establecidos,  conforme a los lineamientos emitidos desde el despacho de la Magistrada Líder del SIGCMA y la Coordinación Nacional del SIGCMA",1,"Contar con el Plan Sectorial de Desarrollo de la Rama Judicial"]
[null,2,"Falta de socialización de estrategias con las dependencias para fomentar el trabajo colaborativo para la implementación del Plan Estratégico de Transformación Digital (PETD) de la Rama Judicial ",2,"Socialización de buenas prácticas de la gestión judicial en el contexto internacional a través de la CICAJ o eventos de Cumbre"]
[null,null,null,3,"Mantenimiento y ampliación de SIGCMA en los esquemas que se encuentra certificados la Rama Judicial"]
[null,null,null,4,"Definición de roles y responsabilidades de los  líderes de proceso para el funcionamiento del SIGCMA"]
[null,null,null,5,"Contar con la Norma Técnica de Calidad Actualizada NTC 6256 y GTC 286 2021"]
[null,null,null,6,"El compromiso de la Alta Dirección y de los líderes de proceso para ampliar, mantener y mejorar el SIGCMA"]
[null,null,null,7,"Encuentro nacional e internacional del SIGCMA"]
["Recursos financieros (presupuesto de funcionamiento, recursos de inversión",3,"Recursos insuficientes para atender el Plan de necesidades formulado",8,"Presupuesto asignado para el desarrollo de proyecto de inversión del SIGCMA"]
[null,null,null,9,"Conocimiento de la reglamentación que establece el procedimiento para el manejo de los recursos presupuestales, financieros y de contratación estatal"]
[null,null,null,10,"Estandarización de procesos y procedimientos para el desarrollo del proceso contractual"]
[null,null,null,11,"Manual de contratación actualizado"]
["Personal (competencia del personal, disponibilidad, suficiencia, seguridad y salud  en el trabajo)",4,"No contar con el recurso humano suficiente y necesario para responder a la demanda de Justicia",12,"Personal integrado por servidores judiciales de alto nivel profesional y capacitado para llevar a cabo las funciones asignadas"]
[null,5,"Servidores Judiciales con comorbilidades y/o enfermedades laborales"]
[null,6,"Extensión en los horarios laborales de trabajo en casa y presencial, que afecta el bienestar físico, mental y emocional en los servidores judiciales y su entorno familiar",13,"Desarrollo y fortalecimiento de competencias de los servidores judiciales en modelos de gestión"]
[null,7,"Carencia  de manual  de funciones y procedimientos  para los servidores Judiciales ",14,"Mejor prestación del servicio de administración de justicia debido a la implementación de buenas practicas en bioseguridad definidos por la Rama Judicial"]
[null,8,"Debilidad en los procesos de inducción y reinducción de los servidores judiciales",15,"Fortalecimiento de los concursos de méritos para ingreso de la Rama Judicial"]
[null,9,"Debilidad en el desarrollo de competencias propias para el desarrollo de las actividades asignadas",16,"El desarrollo de competencia a través de procesos de sensibilización, capacitación y formación en modelo de gestión para el desarrollo de competencias de los servidores judiciales."]
["Proceso (capacidad, diseño, ejecución, proveedores, entradas, salidas, gestión del conocimiento)",10,"Resistencia por parte de algunos servidores judiciales a implementar la gestión de conocimiento para la gestión del cambio en lo relativo al SIGCMA, a modelos de gestión, implementación de PETD, ambiental, seguridad y salud en el trabajo, seguridad informática, normas antisoborno, normas de bioseguridad etc.  ",17,"Actualización de la plataforma estratégica para responder a los cambios normativos y legales"]
[null,11,"Falta de tiempo para acceder a la formación  de alto interés, tales como: Sensibilizaciones, cursos, talleres,  capacitaciones, diplomados, entre otros",18,"Aplicabilidad de la Gestión del conocimiento generada por las experiencias de los servidores judiciales documentada en instructivos y guías\n"]
[null,12,"Debilidad en la retroalimentación de la evaluación  realizada a los proveedores y contratistas del producto o servicio entregado",19,"Fortalecimiento en los procesos de contratación por el uso adecuado del SECOP II"]
["Tecnológicos ",13,"Debilidad de la plataforma tecnológica a nivel nacional de  software y hardware en las sedes administrativas y judiciales",20,"Accesibilidad a nuevas herramientas virtuales, que facilitan el acceso a la información, la optimización del tiempo y contribuyen a la disminución de los consumos de papel"]
[null,14,"Falta de apropiación y aplicación del conocimiento de los avances tecnológicos",21,"Capacitación para el uso de herramientas tecnológicas  "]
[null,15,"Carencia de formación en tecnologías de la información y la comunicación aplicadas al desarrollo de la gestión Judicial estableciendo las diferencias entre:\nTransformación digital, digitalización, expediente digital y estrategias para la digitalización"]
[null,16,"Fallas de conectividad para la realización de las actividades propias del proceso."]
[null,17,"Falta de cobertura tecnológica en las sedes judiciales "]
[null,18,"Carencia de modelos gobernanza de Tecnologías de la Información (TI) en la entidad"]
[null,19,"Carencia del software de gestión para el manejo integral de la información."]
[null,20,"Falta de  comunicación asertiva entre los diferentes actores para la articulación de proyectos tecnológicos"]
[null,21,"Debilidad en la generación de estrategias articuladas para la digitalización entre los proveedores y las dependencias Judiciales y Administrativas"]
[null,22,"Deficiencia en el  mantenimiento de la pagina web de la Rama Judicial"]
["Documentación (actualización, coherencia, aplicabilidad) ",23,"Los documentos actuales no están alineados al PETD 2021-2025",22,"La estandarización de la plataforma estratégica del SIGCMA y documentos impartidos  desde la Coordinación Nacional del SIGCMA para la mejor prestación del servicio"]
[null,24,"Falta de comunicación y socialización de tablas de retención documental",23,"Micrositio de fácil acceso a los documentos propios del Sistema Integrado de Gestión y Control de la Calidad y el Medio Ambiente."]
[null,25,"Debilidad en  la estandarización de tablas de retención documental"]
["Infraestructura física (suficiencia, comodidad)",26,"Sedes Judiciales arrendadas, en comodato y propias que no cuentan con las condiciones mínimas de seguridad para los servidores judiciales, contratistas y usuarios de la justicia según la normatividad vigente",24,"Cumplimiento del plan de infraestructura de la Rama Judicial"]
[]
["Elementos de trabajo (papel, equipos, herramientas)",27,"Falta de modernización y mantenimiento del mobiliario con que cuenta la Rama Judicial",25,"Uso adecuado de los elementos de trabajo"]
[null,null,null,26,"Actualización permanente de la plataforma tecnológica de la Rama Judicial para el cumplimiento del PETD"]
["Comunicación Interna (canales utilizados y su efectividad, flujo de la información necesaria para el desarrollo de las actividades)",28,"Uso deficiente de las herramientas de comunicación establecidas en el plan de comunicaciones",27,"Elaboración y seguimiento del Plan de Comunicaciones"]
[null,29,"Desaprovechamiento de canales de comunicaciones, para generar mayor información a las partes interesadas",28,"Implementación de estrategias y mecanismos para el fortalecimiento de la atención al usuario"]
[null,null,null,29,"Fortalecimiento de la pagina web institucional y mecanismos de comunicación"]
[null,null,null,30,"Uso adecuado del micrositio asignado al Consejo Seccional de la Judicatura"]
[null,null,null,31,"Uso adecuado de los correos electrónicos"]
[null,null,null,32,"Uso adecuado del aplicativo SIGOBIUS"]
[null,null,null,33,"Fortalecimiento para el tratamiento de PQRS"]
[null,null,null,34,"Uso adecuado de la imagen corporativa y los logos en los cuales se encuentra certificada la Rama Judicial"]
["Ambientales",30,"Desconocimiento del Plan de Gestión Ambiental que aplica para la Rama Judicial Acuerdo PSAA14-10160",35,"Disminución en el uso de papel, toners y demás elementos de oficina al implementar el uso de medios tecnológicos"]
[null,31,"Ausencia de indicadores ambientales establecidos en los programas de gestión del Acuerdo PSAA14-10160",36,"Participación virtual es los espacios  de sensibilización ambiental, como el Día SIGCMA"]
[null,32,"Baja implementación en sistemas ahorradores de agua  y energía en sedes judiciales y administrativas",37,"Mantener la certificación operaciones inseguras: Sellos de bioseguridad huella de confianza"]
[null,33,"Falta en la separación adecuada de residuos en la fuente ",38,"Formación de Auditores en la Norma NTC ISO 14001:2015 y en la Norma Técnica de la Rama Judicial NTC 6256 :2018",null,null,null,null," "]
[null,34,"Desconocimiento por parte de los brigadistas, servidores judiciales y contratistas de las acciones necesarias para actuar ante una emergencia ambiental",39,"Implementación de buenas practicas tendientes a la protección del medio ambiente"]
[]
["CÓDIGO\nF-ESG-10","ELABORÓ\nLIDER DEL PROCESO ",null,"REVISÓ\nCOORDINACIÓN NACIONAL DEL SIGCMA ","APROBÓ\nCOMITÉ NACIONAL DEL SIGCMA"]
["VERSIÓN\n02","FECHA\n06/11/2023",null,"FECHA\n12/12/2023","FECHA\n13/12/2023"]

{"sheet":"INFO_ESTRATEGIAS","index":2,"n_rows":13,"n_cols":6,"rows_kept":13,"cut":false,"hidden":false,"merged":[[1,0,1,5],[2,0,3,0],[2,1,2,4],[0,1,0,4]]}
[null,"ESTRATEGIAS"]
["ESTRATEGIAS  DOFA"]
["ESTRATEGIA/ACCIÓN/ PROYECTO","GESTIONA ",null,null,null,"DOCUMENTADA EN "]
[null,"A","O","D","F"]
["Desarrollar el plan de formación de la Escuela Judicial para el fortalecimiento de competencias de los servidores judiciales ",null,null,8.9,13.16,"Plan de acción "]
["Asistir y participar activamente en los procesos de sensibilización, capacitación y formación en los procesos SIGCMA ",null,null,11,"6,16, 36","Plan de acción "]
["Realizar seguimiento al plan de acción y realizar el reporte oportuno",null,null,1,"6, 12, 23","Plan de acción "]
["Implementar mecanismos para la retroalimentación de las  partes interesadas",16,3.4,"1, 12, 34","27,28,29,34","Plan de acción "]
["Mantener, actualizar y documentar  el Sistema Integrado de Gestión SIGCMA, en el contexto especifico","13,14,15",7,"1,10,13,16,17,19","4,6,7,8,5,10,17,1820,22,23,37","Plan de acción "]
["Solicitar apoyo al CENDOJ para realización de capacitaciones en tablas de retención documental (TRD)",null,null,"24,25,29",28,"Plan de acción "]
["Hacer uso de la información y de las herramientas tecnológicas dispuestas para la prestación del servicios",null,null,"13,14,15,16,28",20.21,"Plan de acción "]
["Motivar a los servidores judiciales en la Implementación del plan de gestión ambiental en cada sede administrativa o judicial",null,null,"30,31,32,33,34","35,36,38,39","Plan de acción "]
["Realizar identificación y cumplimiento de los requisitos legales y reglamentarios",2.17,8,1,"3,9,17","Matriz de riesgos"]

{"sheet":"PLAN DE ACCION","index":3,"n_rows":1047890,"n_cols":11,"rows_kept":4500,"cut":true,"hidden":false,"merged":[[2,1,3,1],[4,1,5,1],[2,0,3,0],[4,0,5,0],[2,2,3,2],[4,2,5,2]],"bounds":{"rows_first":2000,"rows_last":500,"rows_between":2000,"halvings":0},"read":"row_number_cap"}
[]
[]
[]
[]
[]
[]
[]
[]
[]
[]
[]
[]
[]
[]
[]
[]
[]
[]
[]
[]
[]
[]
[]
[]
[]
[]
[]
[]
[]
[]
[]
[]
[]
[]
[]
[]
[]
[]
[]
[]
[]
[]
[]
[]
[]
[]
[]
[]
[]
[]
[]
[]
[]
[]
[]
[]
[]
[]
[]
[]
[]
[]
[]
[]
[]
[]
[]
[]
[]
[]
[]
[]
[]
[]
[]
[]
[]
[]
[]
[]
[]
[]
[]
[]
[]
[]
[]
[]
[]
[]
[]
[]
[]
[]
[]
[]
[]
[]
[]
[]
[]
[]
[]
[]
[]
[]
[]
[]
[]
[]
[]
[]
[]
[]
[]
[]
[]
[]
[]
[]
[]
[]
[]
[]
[]
[]
[]
[]
[]
[]
[]
[]
[]
[]
[]
[]
[]
[]
[]
[]
[]
[]
[]
[]
[]
[]
[]
[]
[]
[]
[]
[]
[]
[]
[]
[]
[]
[]
[]
[]
[]
[]
[]
[]
[]
[]
[]
[]
[]
[]
[]
[]
[]
[]
[]
[]
[]
[]
[]
[]
[]
[]
[]
[]
[]
[]
[]
[]
[]
[]
[]
[]
[]
[]
[]
[]
[]
[]
[]
[]
[]
[]
[]
[]
[]
[]
[]
[]
[]
[]
[]
[]
[]
[]
[]
[]
[]
[]
[]
[]
[]
[]
[]
[]
[]
[]
[]
[]
[]
[]
[]
[]
[]
[]
[]
[]
[]
[]
[]
[]
[]
[]
[]
[]
[]
[]
[]
[]
[]
[]
[]
[]
[]
[]
[]
[]
[]
[]
[]
[]
[]
[]
[]
[]
[]
[]
[]
[]
[]
[]
[]
[]
[]
[]
[]
[]
[]
[]
[]
[]
[]
[]
[]
[]
[]
[]
[]
[]
[]
[]
[]
[]
[]
[]
[]
[]
[]
[]
[]
[]
[]
[]
[]
[]
[]
[]
[]
[]
[]
[]
[]
[]
[]
[]
[]
[]
[]
[]
[]
[]
[]
[]
[]
[]
[]
[]
[]
[]
[]
[]
[]
[]
[]
[]
[]
[]
[]
[]
[]
[]
[]
[]
[]
[]
[]
[]
[]
[]
[]
[]
[]
[]
[]
[]
[]
[]
[]
[]
[]
[]
[]
[]
[]
[]
[]
[]
[]
[]
[]
[]
[]
[]
[]
[]
[]
[]
[]
[]
[]
[]
[]
[]
[]
[]
[]
[]
[]
[]
[]
[]
[]
[]
[]
[]
[]
[]
[]
[]
[]
[]
[]
[]
[]
[]
[]
[]
[]
[]
[]
[]
[]
[]
[]
[]
[]
[]
[]
[]
[]
[]
[]
[]
[]
[]
[]
[]
[]
[]
[]
[]
[]
[]
[]
[]
[]
[]
[]
[]
[]
[]
[]
[]
[]
[]
[]
[]
[]
[]
[]
[]
[]
[]
[]
[]
[]
[]
[]
[]
[]
[]
[]
[]
[]
[]
[]
[]
[]
[]
[]
[]
[]
[]
[]
[]
[]
[]
[]
[]
[]
[]
[]
[]
[]
[]
[]
[]
[]
[]
[]
[]
[]
[]
[]
[]
[]
[]
[]
[]
[]
[]
[]
[]
[]
[]
[]
[]
[]
[]
[]
[]
[]
[]
[]
[]
[]
[]
[]
[]
[]
[]
[]
[]
[]
[]
[]
[]
[]
[]
[]
[]
[]
[]
[]
[]
[]
[]
[]
[]
[]
[]
[]
[]
[]
[]
[]
[]
[]
[]
[]
[]
[]
[]
[]
[]
[]
[]
[]
[]
[]
[]
[]
[]
[]
[]
[]
[]
[]
[]
[]
[]
[]
[]
[]
[]
[]
[]
[]
[]
[]
[]
[]
[]
[]
[]
[]
[]
[]
[]
[]
[]
[]
[]
[]
[]
[]
[]
[]
[]
[]
[]
[]
[]
[]
[]
[]
[]
[]
[]
[]
[]
[]
[]
[]
[]
[]
[]
[]
[]
[]
[]
[]
[]
[]
[]
[]
[]
[]
[]
[]
[]
[]
[]
[]
[]
[]
[]
[]
[]
[]
[]
[]
[]
[]
[]
[]
[]
[]
[]
[]
[]
[]
[]
[]
[]
[]
[]
[]
[]
[]
[]
[]
[]
[]
[]
[]
[]
[]
[]
[]
[]
[]
[]
[]
[]
[]
[]
[]
[]
[]
[]
[]
[]
[]
[]
[]
[]
[]
[]
[]
[]
[]
[]
[]
[]
[]
[]
[]
[]
[]
[]
[]
[]
[]
[]
[]
[]
[]
[]
[]
[]
[]
[]
[]
[]
[]
[]
[]
[]
[]
[]
[]
[]
[]
[]
[]
[]
[]
[]
[]
[]
[]
[]
[]
[]
[]
[]
[]
[]
[]
[]
[]
[]
[]
[]
[]
[]
[]
[]
[]
[]
[]
[]
[]
[]
[]
[]
[]
[]
[]
[]
[]
[]
[]
[]
[]
[]
[]
[]
[]
[]
[]
[]
[]
[]
[]
[]
[]
[]
[]
[]
[]
[]
[]
[]
[]
[]
[]
[]
[]
[]
[]
[]
[]
[]
[]
[]
[]
[]
[]
[]
[]
[]
[]
[]
[]
[]
[]
[]
[]
[]
[]
[]
[]
[]
[]
[]
[]
[]
[]
[]
[]
[]
[]
[]
[]
[]
[]
[]
[]
[]
[]
[]
[]
[]
[]
[]
[]
[]
[]
[]
[]
[]
[]
[]
[]
[]
[]
[]
[]
[]
[]
[]
[]
[]
[]
[]
[]
[]
[]
[]
[]
[]
[]
[]
[]
[]
[]
[]
[]
[]
[]
[]
[]
[]
[]
[]
[]
[]
[]
[]
[]
[]
[]
[]
[]
[]
[]
[]
[]
[]
[]
[]
[]
[]
[]
[]
[]
[]
[]
[]
[]
[]
[]
[]
[]
[]
[]
[]
[]
[]
[]
[]
[]
[]
[]
[]
[]
[]
[]
[]
[]
[]
[]
[]
[]
[]
[]
[]
[]
[]
[]
[]
[]
[]
[]
[]
[]
[]
[]
[]
[]
[]
[]
[]
[]
[]
[]
[]
[]
[]
[]
[]
[]
[]
[]
[]
[]
[]
[]
[]
[]
[]
[]
[]
[]
[]
[]
[]
[]
[]
[]
[]
[]
[]
[]
[]
[]
[]
[]
[]
[]
[]
[]
[]
[]
[]
[]
[]
[]
[]
[]
[]
[]
[]
[]
[]
[]
[]
[]
[]
[]
[]
[]
[]
[]
[]
[]
[]
[]
[]
[]
[]
[]
[]
[]
[]
[]
[]
[]
[]
[]
[]
[]
[]
[]
[]
[]
[]
[]
[]
[]
[]
[]
[]
[]
[]
[]
[]
[]
[]
[]
[]
[]
[]
[]
[]
[]
[]
[]
[]
[]
[]
[]
[]
[]
[]
[]
[]
[]
[]
[]
[]
[]
[]
[]
[]
[]
[]
[]
[]
[]
[]
[]
[]
[]
[]
[]
[]
[]
[]
[]
[]
[]
[]
[]
[]
[]
[]
[]
[]
[]
[]
[]
[]
[]
[]
[]
[]
[]
[]
[]
[]
[]
[]
[]
[]
[]
[]
[]
[]
[]
[]
[]
[]
[]
[]
[]
[]
[]
[]
[]
[]
[]
[]
[]
[]
[]
[]
[]
[]
[]
[]
[]
[]
[]
[]
[]
[]
[]
[]
[]
[]
[]
[]
[]
[]
[]
[]
[]
[]
[]
[]
[]
[]
[]
[]
[]
[]
[]
[]
[]
[]
[]
[]
[]
[]
[]
[]
[]
[]
[]
[]
[]
[]
[]
[]
[]
[]
[]
[]
[]
[]
[]
[]
[]
[]
[]
[]
[]
[]
[]
[]
[]
[]
[]
[]
[]
[]
[]
[]
[]
[]
[]
[]
[]
[]
[]
[]
[]
[]
[]
[]
[]
[]
[]
[]
[]
[]
[]
[]
[]
[]
[]
[]
[]
[]
[]
[]
[]
[]
[]
[]
[]
[]
[]
[]
[]
[]
[]
[]
[]
[]
[]
[]
[]
[]
[]
[]
[]
[]
[]
[]
[]
[]
[]
[]
[]
[]
[]
[]
[]
[]
[]
[]
[]
[]
[]
[]
[]
[]
[]
[]
[]
[]
[]
[]
[]
[]
[]
[]
[]
[]
[]
[]
[]
[]
[]
[]
[]
[]
[]
[]
[]
[]
[]
[]
[]
[]
[]
[]
[]
[]
[]
[]
[]
[]
[]
[]
[]
[]
[]
[]
[]
[]
[]
[]
[]
[]
[]
[]
[]
[]
[]
[]
[]
[]
[]
[]
[]
[]
[]
[]
[]
[]
[]
[]
[]
[]
[]
[]
[]
[]
[]
[]
[]
[]
[]
[]
[]
[]
[]
[]
[]
[]
[]
[]
[]
[]
[]
[]
[]
[]
[]
[]
[]
[]
[]
[]
[]
[]
[]
[]
[]
[]
[]
[]
[]
[]
[]
[]
[]
[]
[]
[]
[]
[]
[]
[]
[]
[]
[]
[]
[]
[]
[]
[]
[]
[]
[]
[]
[]
[]
[]
[]
[]
[]
[]
[]
[]
[]
[]
[]
[]
[]
[]
[]
[]
[]
[]
[]
[]
[]
[]
[]
[]
[]
[]
[]
[]
[]
[]
[]
[]
[]
[]
[]
[]
[]
[]
[]
[]
[]
[]
[]
[]
[]
[]
[]
[]
[]
[]
[]
[]
[]
[]
[]
[]
[]
[]
[]
[]
[]
[]
[]
[]
[]
[]
[]
[]
[]
[]
[]
[]
[]
[]
[]
[]
[]
[]
[]
[]
[]
[]
[]
[]
[]
[]
[]
[]
[]
[]
[]
[]
[]
[]
[]
[]
[]
[]
[]
[]
[]
[]
[]
[]
[]
[]
[]
[]
[]
[]
[]
[]
[]
[]
[]
[]
[]
[]
[]
[]
[]
[]
[]
[]
[]
[]
[]
[]
[]
[]
[]
[]
[]
[]
[]
[]
[]
[]
[]
[]
[]
[]
[]
[]
[]
[]
[]
[]
[]
[]
[]
[]
[]
[]
[]
[]
[]
[]
[]
[]
[]
[]
[]
[]
[]
[]
[]
[]
[]
[]
[]
[]
[]
[]
[]
[]
[]
[]
[]
[]
[]
[]
[]
[]
[]
[]
[]
[]
[]
[]
[]
[]
[]
[]
[]
[]
[]
[]
[]
[]
[]
[]
[]
[]
[]
[]
[]
[]
[]
[]
[]
[]
[]
[]
[]
[]
[]
[]
[]
[]
[]
[]
[]
[]
[]
[]
[]
[]
[]
[]
[]
[]
[]
[]
[]
[]
[]
[]
[]
[]
[]
[]
[]
[]
[]
[]
[]
[]
[]
[]
[]
[]
[]
[]
[]
[]
[]
[]
[]
[]
[]
[]
[]
[]
[]
[]
[]
[]
[]
[]
[]
[]
[]
[]
[]
[]
[]
[]
[]
[]
[]
[]
[]
[]
[]
[]
[]
[]
[]
[]
[]
[]
[]
[]
[]
[]
[]
[]
[]
[]
[]
[]
[]
[]
[]
[]
[]
[]
[]
[]
[]
[]
[]
[]
[]
[]
[]
[]
[]
[]
[]
[]
[]
[]
[]
[]
[]
[]
[]
[]
[]
[]
[]
[]
[]
[]
[]
[]
[]
[]
[]
[]
[]
[]
[]
[]
[]
[]
[]
[]
[]
[]
[]
[]
[]
[]
[]
[]
[]
[]
[]
[]
[]
[]
[]
[]
[]
[]
[]
[]
[]
[]
[]
[]
[]
[]
[]
[]
[]
[]
[]
[]
[]
[]
[]
[]
[]
[]
[]
[]
[]
[]
[]
[]
[]
[]
[]
[]
[]
[]
[]
[]
[]
[]
[]
[]
[]
[]
[]
[]
[]
[]
[]
[]
[]
[]
[]
[]
[]
[]
[]
[]
[]
[]
[]
[]
[]
[]
[]
[]
[]
[]
[]
[]
[]
[]
[]
[]
[]
[]
[]
[]
[]
[]
[]
[]
[]
[]
[]
[]
[]
[]
[]
[]
[]
[]
[]
[]
[]
[]
[]
[]
[]
[]
[]
[]
[]
[]
[]
[]
[]
[]
[]
[]
[]
[]
[]
[]
[]
[]
[]
[]
[]
[]
[]
[]
[]
[]
[]
[]
[]
[]
[]
[]
[]
[]
[]
[]
[]
[]
[]
[]
[]
[]
[]
[]
[]
[]
[]
[]
[]
[]
[]
[]
[]
[]
[]
[]
[]
[]
[]
[]
[]
[]
[]
[]
[]
[]
[]
[]
[]
[]
[]
[]
[]
[]
[]
[]
[]
[]
[]
[]
[]
[]
[]
[]
[]
[]
[]
[]
[]
[]
[]
[]
[]
[]
[]
[]
[]
[]
[]
[]
[]
[]
[]
[]
[]
[]
[]
[]
[]
[]
[]
[]
[]
[]
[]
[]
[]
[]
[]
[]
[]
[]
[]
[]
[]
[]
[]
[]
[]
[]
[]
[]
[]
[]
[]
[]
[]
[]
[]
[]
[]
[]
[]
[]
[]
[]
[]
[]
[]
[]
[]
[]
[]
[]
[]
[]
[]
[]
[]
[]
[]
[]
[]
[]
[]
[]
[]
[]
[]
[]
[]
[]
[]
[]
[]
[]
[]
[]
[]
[]
[]
[]
[]
[]
[]
[]
[]
[]
[]
[]
[]
[]
[]
[]
[]
[]
[]
[]
[]
[]
[]
[]
[]
[]
[]
[]
[]
[]
[]
[]
[]
[]
[]
[]
[]
[]
[]
[]
[]
[]
[]
[]
[]
[]
[]
[]
[]
[]
[]
[]
[]
[]
[]
[]
[]
[]
[]
[]
[]
[]
[]
[]
[]
[]
[]
[]
[]
[]
[]
[]
[]
[]
[]
[]
[]
[]
[]
[]
[]
[]
[]
[]
[]
[]
[]
[]
[]
[]
[]
[]
[]
[]
[]
[]
[]
[]
[]
[]
[]
[]
[]
[]
[]
[]
[]
[]
[]
[]
[]
[]
[]
[]
[]
[]
[]
[]
[]
[]
[]
[]
[]
[]
[]
[]
[]
[]
[]
[]
[]
[]
[]
[]
[]
[]
[]
[]
[]
[]
[]
[]
[]
[]
[]
[]
[]
[]
[]
[]
[]
[]
[]
[]
[]
[]
[]
[]
[]
[]
[]
[]
[]
[]
[]
[]
[]
[]
[]
[]
[]
[]
[]
[]
[]
[]
[]
[]
[]
[]
[]
[]
[]
[]
[]
[]
[]
[]
[]
[]
[]
[]
[]
[]
[]
[]
[]
[]
[]
[]
[]
[]
[]
[]
[]
[]
[]
[]
[]
[]
[]
[]
[]
[]
[]
[]
[]
[]
[]
[]
[]
[]
[]
[]
[]
[]
[]
[]
[]
[]
[]
[]
[]
[]
[]
[]
[]
[]
[]
[]
[]
[]
[]
[]
[]
[]
[]
[]
[]
[]
[]
[]
[]
[]
[]
[]
[]
[]
[]
[]
[]
[]
[]
[]
[]
[]
[]
[]
[]
[]
[]
[]
[]
[]
[]
[]
[]
[]
[]
[]
[]
[]
[]
[]
[]
[]
[]
[]
[]
[]
[]
[]
[]
[]
[]
[]
[]
[]
[]
[]
[]
[]
[]
[]
[]
[]
[]
[]
[]
[]
[]
[]
[]
[]
[]
[]
[]
[]
[]
[]
[]
[]
[]
[]
[]
[]
[]
[]
[]
[]
[]
[]
[]
[]
[]
[]
[]
[]
[]
[]
[]
[]
[]
[]
[]
[]
[]
[]
[]
[]
[]
[]
[]
[]
[]
[]
[]
[]
[]
[]
[]
[]
[]
[]
[]
[]
[]
[]
[]
[]
[]
[]
[]
[]
[]
[]
[]
[]
[]
[]
[]
[]
[]
[]
[]
[]
[]
[]
[]
[]
[]
[]
[]
[]
[]
[]
[]
[]
[]
[]
[]
[]
[]
[]
[]
[]
[]
[]
[]
[]
[]
[]
[]
[]
[]
[]
[]
[]
[]
[]
[]
[]
[]
[]
[]
[]
[]
[]
[]
[]
[]
[]
[]
[]
[]
[]
[]
[]
[]
[]
[]
[]
[]
[]
[]
[]
[]
[]
[]
[]
[]
[]
[]
[]
[]
[]
[]
[]
[]
[]
[]
[]
[]
[]
[]
[]
[]
[]
[]
[]
[]
[]
[]
[]
[]
[]
[]
[]
[]
[]
[]
[]
[]
[]
[]
[]
[]
[]
[]
[]
[]
[]
[]
[]
[]
[]
[]
[]
[]
[]
[]
[]
[]
[]
[]
[]
[]
[]
[]
[]
[]
[]
[]
[]
[]
[]
[]
[]
[]
[]
[]
[]
[]
[]
[]
[]
[]
[]
[]
[]
[]
[]
[]
[]
[]
[]
[]
[]
[]
[]
[]
[]
[]
[]
[]
[]
[]
[]
[]
[]
[]
[]
[]
[]
[]
[]
[]
[]
[]
[]
[]
[]
[]
[]
[]
[]
[]
[]
[]
[]
[]
[]
[]
[]
[]
[]
[]
[]
[]
[]
[]
[]
[]
[]
[]
[]
[]
[]
[]
[]
[]
[]
[]
[]
[]
[]
[]
[]
[]
[]
[]
[]
[]
[]
[]
[]
[]
[]
[]
[]
[]
[]
[]
[]
[]
[]
[]
[]
[]
[]
[]
[]
[]
[]
[]
[]
[]
[]
[]
[]
[]
[]
[]
[]
[]
[]
[]
[]
[]
[]
[]
[]
[]
[]
[]
[]
[]
[]
[]
[]
[]
[]
[]
[]
[]
[]
[]
[]
[]
[]
[]
[]
[]
[]
[]
[]
[]
[]
[]
[]
[]
[]
[]
[]
[]
[]
[]
[]
[]
[]
[]
[]
[]
[]
[]
[]
[]
[]
[]
[]
[]
[]
[]
[]
[]
[]
[]
[]
[]
[]
[]
[]
[]
[]
[]
[]
[]
[]
[]
[]
[]
[]
[]
[]
[]
[]
[]
[]
[]
[]
[]
[]
[]
[]
[]
[]
[]
[]
[]
[]
[]
[]
[]
[]
[]
[]
[]
[]
[]
[]
[]
[]
[]
[]
[]
[]
[]
[]
[]
[]
[]
[]
[]
[]
[]
[]
[]
[]
[]
[]
[]
[]
[]
[]
[]
[]
[]
[]
[]
[]
[]
[]
[]
[]
[]
[]
[]
[]
[]
[]
[]
[]
[]
[]
[]
[]
[]
[]
[]
[]
[]
[]
[]
[]
[]
[]
[]
[]
[]
[]
[]
[]
[]
[]
[]
[]
[]
[]
[]
[]
[]
[]
[]
[]
[]
[]
[]
[]
[]
[]
[]
[]
[]
[]
[]
[]
[]
[]
[]
[]
[]
[]
[]
[]
[]
[]
[]
[]
[]
[]
[]
[]
[]
[]
[]
[]
[]
[]
[]
[]
[]
[]
[]
[]
[]
[]
[]
[]
[]
[]
[]
[]
[]
[]
[]
[]
[]
[]
[]
[]
[]
[]
[]
[]
[]
[]
[]
[]
[]
[]
[]
[]
[]
[]
[]
[]
[]
[]
[]
[]
[]
[]
[]
[]
[]
[]
[]
[]
[]
[]
[]
[]
[]
[]
[]
[]
[]
[]
[]
[]
[]
[]
[]
[]
[]
[]
[]
[]
[]
[]
[]
[]
[]
[]
[]
[]
[]
[]
[]
[]
[]
[]
[]
[]
[]
[]
[]
[]
[]
[]
[]
[]
[]
[]
[]
[]
[]
[]
[]
[]
[]
[]
[]
[]
[]
[]
[]
[]
[]
[]
[]
[]
[]
[]
[]
[]
[]
[]
[]
[]
[]
[]
[]
[]
[]
[]
[]
[]
[]
[]
[]
[]
[]
[]
[]
[]
[]
[]
[]
[]
[]
[]
[]
[]
[]
[]
[]
[]
[]
[]
[]
[]
[]
[]
[]
[]
[]
[]
[]
[]
[]
[]
[]
[]
[]
[]
[]
[]
[]
[]
[]
[]
[]
[]
[]
[]
[]
[]
[]
[]
[]
[]
[]
[]
[]
[]
[]
[]
[]
[]
[]
[]
[]
[]
[]
[]
[]
[]
[]
[]
[]
[]
[]
[]
[]
[]
[]
[]
[]
[]
[]
[]
[]
[]
[]
[]
[]
[]
[]
[]
[]
[]
[]
[]
[]
[]
[]
[]
[]
[]
[]
[]
[]
[]
[]
[]
[]
[]
[]
[]
[]
[]
[]
[]
[]
[]
[]
[]
[]
[]
[]
[]
[]
[]
[]
[]
[]
[]
[]
[]
[]
[]
[]
[]
[]
[]
[]
[]
[]
[]
[]
[]
[]
[]
[]
[]
[]
[]
[]
[]
[]
[]
[]
[]
[]
[]
[]
[]
[]
[]
[]
[]
[]
[]
[]
[]
[]
[]
[]
[]
[]
[]
[]
[]
[]
[]
[]
[]
[]
[]
[]
[]
[]
[]
[]
[]
[]
[]
[]
[]
[]
[]
[]
[]
[]
[]
[]
[]
[]
[]
[]
[]
[]
[]
[]
[]
[]
[]
[]
[]
[]
[]
[]
[]
[]
[]
[]
[]
[]
[]
[]
[]
[]
[]
[]
[]
[]
[]
[]
[]
[]
[]
[]
[]
[]
[]
[]
[]
[]
[]
[]
[]
[]
[]
[]
[]
[]
[]
[]
[]
[]
[]
[]
[]
[]
[]
[]
[]
[]
[]
[]
[]
[]
[]
[]
[]
[]
[]
[]
[]
[]
[]
[]
[]
[]
[]
[]
[]
[]
[]
[]
[]
[]
[]
[]
[]
[]
[]
[]
[]
[]
[]
[]
[]
[]
[]
[]
[]
[]
[]
[]
[]
[]
[]
[]
[]
[]
[]
[]
[]
[]
[]
[]
[]
[]
[]
[]
[]
[]
[]
[]
[]
[]
[]
[]
[]
[]
[]
[]
[]
[]
[]
[]
[]
[]
[]
[]
[]
[]
[]
[]
[]
[]
[]
[]
[]
[]
[]
[]
[]
[]
[]
[]
[]
[]
[]
[]
[]
[]
[]
[]
[]
[]
[]
[]
[]
[]
[]
[]
[]
[]
[]
[]
[]
[]
[]
[]
[]
[]
[]
[]
[]
[]
[]
[]
[]
[]
[]
[]
[]
[]
[]
[]
[]
[]
[]
[]
[]
[]
[]
[]
[]
[]
[]
[]
[]
[]
[]
[]
[]
[]
[]
[]
[]
[]
[]
[]
[]
[]
[]
[]
[]
[]
[]
[]
[]
[]
[]
[]
[]
[]
[]
[]
[]
[]
[]
[]
[]
[]
[]
[]
[]
[]
[]
[]
[]
[]
[]
[]
[]
[]
[]
[]
[]
[]
[]
[]
[]
[]
[]
[]
[]
[]
[]
[]
[]
[]
[]
[]
[]
[]
[]
[]
[]
[]
[]
[]
[]
[]
[]
[]
[]
[]
[]
[]
[]
[]
[]
[]
[]
[]
[]
[]
[]
[]
[]
[]
[]
[]
[]
[]
[]
[]
[]
[]
[]
[]
[]
[]
[]
[]
[]
[]
[]
[]
[]
[]
[]
[]
[]
[]
[]
[]
[]
[]
[]
[]
[]
[]
[]
[]
[]
[]
[]
[]
[]
[]
[]
[]
[]
[]
[]
[]
[]
[]
[]
[]
[]
[]
[]
[]
[]
[]
[]
[]
[]
[]
[]
[]
[]
[]
[]
[]
[]
[]
[]
[]
[]
[]
[]
[]
[]
[]
[]
[]
[]
[]
[]
[]
[]
[]
[]
[]
[]
[]
[]
[]
[]
[]
[]
[]
[]
[]
[]
[]
[]
[]
[]
[]
[]
[]
[]
[]
[]
[]
[]
[]
[]
[]
[]
[]
[]
[]
[]
[]
[]
[]
[]
[]
[]
[]
[]
[]
[]
[]
[]
[]
[]
[]
[]
[]
[]
[]
[]
[]
[]
[]
[]
[]
[]
[]
[]
[]
[]
[]
[]
[]
[]
[]
[]
[]
[]
[]
[]
[]
[]
[]
[]
[]
[]
[]
[]
[]
[]
[]
[]
[]
[]
[]
[]
[]
[]
[]
[]
[]
[]
[]
[]
[]
[]
[]
[]
[]
[]
[]
[]
[]
[]
[]
[]
[]
[]
[]
[]
[]
[]
[]
[]
[]
[]
[]
[]
[]
[]
[]
[]
[]
[]
[]
[]
[]
[]
[]
[]
[]
[]
[]
[]
[]
[]
[]
[]
[]
[]
[]
[]
[]
[]
[]
[]
[]
[]
[]
[]
[]
[]
[]
[]
[]
[]
[]
[]
[]
[]
[]
[]
[]
[]
[]
[]
[]
[]
[]
[]
[]
[]
[]
[]
[]
[]
[]
[]
[]
[]
[]
[]
[]
[]
[]
[]
[]
[]
[]
[]
[]
[]
[]
[]
[]
[]
[]
[]
[]
[]
[]
[]
[]
[]
[]
[]
[]
[]
[]
[]
[]
[]
[]
[]
[]
[]
[]
[]
[]
[]
[]
[]
[]
[]
[]
[]
[]
[]
[]
[]
[]
[]
[]
[]
[]
[]
[]
[]
[]
[]
[]
[]
[]
[]
[]
[]
[]
[]
[]
[]
[]
[]
[]
[]
[]
[]
[]
[]
[]
[]
[]
[]
[]
[]
[]
[]
[]
[]
[]
[]
[]
[]
[]
[]
[]
[]
[]
[]
[]
[]
[]
[]
[]
[]
[]
[]
[]
[]
[]
[]
[]
[]
[]
[]
[]
[]
[]
[]
[]
[]
[]
[]
[]
[]
[]
[]
[]
[]
[]
[]
[]
[]
[]
[]
[]
[]
[]
[]
[]
[]
[]
[]
[]
[]
[]
[]
[]
[]
[]
[]
[]
[]
[]
[]
[]
[]
[]
[]
[]
[]
[]
[]
[]
[]
[]
[]
[]
[]
[]
[]
[]
[]
[]
[]
[]
[]
[]
[]
[]
[]
[]
[]
[]
[]
[]
[]
[]
[]
[]
[]
[]
[]
[]
[]
[]
[]
[]
[]
[]
[]
[]
[]
[]
[]
[]
[]
[]
[]
[]
[]
[]
[]
[]
[]
[]
[]
[]
[]
[]
[]
[]
[]
[]
[]
[]
[]
[]
[]
[]
[]
[]
[]
[]
[]
[]
[]
[]
[]
[]
[]
[]
[]
[]
[]
[]
[]
[]
[]
[]
[]
[]
[]
[]
[]
[]
[]
[]
[]
[]
[]
[]
[]
[]
[]
[]
[]
[]
[]
[]
[]
[]
[]
[]
[]
[]
[]
[]
[]
[]
[]
[]
[]
[]
[]
[]
[]
[]
[]
[]
[]
[]
[]
[]
[]
[]
[]
[]
[]
[]
[]
[]
[]
[]
[]
[]
[]
[]
[]
[]
[]
[]
[]
[]
[]
[]
[]
[]
[]
[]
[]
[]
[]
[]
[]
[]
[]
[]
[]
[]
[]
[]
[]
[]
[]
[]
[]
[]
[]
[]
[]
[]
[]
[]
[]
[]
[]
[]
[]
[]
[]
[]
[]
[]
[]
[]
[]
[]
[]
[]
[]
[]
[]
[]
[]
[]
[]
[]
[]
[]
[]
[]
[]
[]
[]
[]
[]
[]
[]
[]
[]
[]
[]
[]
[]
[]
[]
[]
[]
[]
[]
[]
[]
[]
[]
[]
[]
[]
[]
[]
[]
[]
[]
[]
[]
[]
[]
[]
[]
[]
[]
[]
[]
[]
[]
[]
[]
[]
[]
[]
[]
[]
[]
[]
[]
[]
[]
[]
[]
[]
[]
[]
[]
[]
[]
[]
[]
[]
[]
[]
[]
[]
[]
[]
[]
[]
[]
[]
[]
[]
[]
[]
[]
[]
[]
[]
[]
[]
[]
[]
[]
[]
[]
[]
[]
[]
[]
[]
[]
[]
[]
[]
[]
[]
[]
[]
[]
[]
[]
[]
[]
[]
[]
[]
[]
[]
[]
[]
[]
[]
[]
[]
[]
[]
[]
[]
[]
[]
[]
[]
[]
[]
[]
[]
[]
[]
[]
[]
[]
[]
[]
[]
[]
[]
[]
[]
[]
[]
[]
[]
[]
[]
[]
[]
[]
[]
[]
[]
[]
[]
[]
[]
[]
[]
[]
[]
[]
[]
[]
[]
[]
[]
[]
[]
[]
[]
[]
[]
[]
[]
[]
[]
[]
[]
[]
[]
[]
[]
[]
[]
[]
[]
[]
[]
[]
[]
[]
[]
[]
[]
[]
[]
[]
[]
[]
[]
[]
[]
[]
[]
[]
[]
[]
[]
[]
[]
[]
[]
[]
[]
[]
[]
[]
[]
[]
[]
[]
[]
[]
[]
[]
[]
[]
[]
[]
[]
[]
[]
[]
[]
[]
[]
[]
[]
[]
[]
[]
[]
[]
[]
[]
[]
[]
[]
[]
[]
[]
[]
[]
[]
[]
[]
[]
[]
[]
[]
[]
[]
[]
[]
[]
[]
[]
[]
[]
[]
[]
[]
[]
[]
[]
[]
[]
[]
[]
[]
[]
[]
[]
[]
[]
[]
[]
[]
[]
[]
[]
[]
[]
[]
[]
[]
[]
[]
[]
[]
[]
[]
[]
[]
[]
[]
[]
[]
[]
[]
["Admin - Planeación Estratégica","Estratégicos","Central","Gestión","ANÁLISIS RESULTADO\nTRIMESTRE",null,"Estratégicos","Misionales","Apoyo","Evaluación y Mejora","Transversal_todos_procesos"]
["Admin - Comunicación Institucional","Misionales","Seccional","Producto",null,"Entregable","Admin - Planeación Estratégica","Admin - Reordenamiento Judicial","Admin - Gestión Documental","Admin - Gestión de Control Interno y Auditoría","Transversal_todos_procesos"]
["Admin - Gestión para la Integración de Listas de Altas Cortes","Apoyo",null,null,null,"Meta cuantificable","Admin - Comunicación Institucional","Admin - Modernización de la Gestión Judicial","Admin - Gestión Tecnológica","Admin - Mejoramiento del Sistema Integrado de Gestión y Control de la Calidad y del Medio Ambiente"]
["Admin - Reordenamiento Judicial","Evaluación_y_Mejora",null,null,null,null,"Admin - Gestión para la Integración de Listas de Altas Cortes","Admin - Mejoramiento de la Infraestructura Física","Admin - Gestión de la Información Estadística","Juris - Gestión de Mejoramiento del SIGCMA"]
["Admin - Modernización de la Gestión Judicial","Transversal_todos_procesos",null,null,null,null,"Juris - Gestión de Planeación Estratégica","Admin - Administración de la Carrera Judicial","Admin - Gestión Humana"]
["Admin - Mejoramiento de la Infraestructura Física",null,null,null,null,null,"Juris - Gestión de Comunicación Institucional","Admin - Gestión de la Formación Judicial","Admin - Gestión de Seguridad y Salud en el Trabajo"]
["Admin - Administración de la Carrera Judicial",null,null,null,null,null,null,"Admin - Gestión de la Información Judicial","Admin - Asistencia Legal"]
["Admin - Gestión de la Formación Judicial",null,null,null,null,null,null,"Admin - Registro y Control de Abogados y Auxiliares de la Justicia","Admin - Administración de la Seguridad"]
["Admin - Gestión de la Información Judicial",null,null,null,null,null,null,"Juris - Gestión de Acciones Constitucionales","Admin - Gestión Administrativa"]
["Admin - Registro y Control de Abogados y Auxiliares de la Justicia",null,null,null,null,null,null,"Juris - Gestión Proceso Ordinario","Admin - Compras Públicas"]
["Admin - Gestión Documental",null,null,null,null,null,null,null,"Admin - Gestión Financiera y Presupuestal"]
["Admin - Gestión Tecnológica",null,null,null,null,null,null,null,"Juris - Atención al Usuario"]
["Admin - Gestión de la Información Estadística",null,null,null,null,null,null,null,"Juris - Gestión de Servicios Judiciales"]
["Admin - Gestión Humana",null,null,null,null,null,null,null,"Juris - Gestión de Servicios Administrativos"]
["Admin - Gestión de Seguridad y Salud en el Trabajo"]
["Admin - Asistencia Legal"]
["Admin - Administración de la Seguridad"]
["Admin - Gestión Administrativa"]
["Admin - Compras Públicas"]
["Admin - Gestión Financiera y Presupuestal"]
["Admin - Gestión de Control Interno y Auditoría"]
["Admin - Mejoramiento del Sistema Integrado de Gestión y Control de la Calidad y del Medio Ambiente"]
["Juris - Gestión de Planeación Estratégica"]
["Juris - Gestión de Comunicación Institucional"]
["Juris - Gestión de Acciones Constitucionales"]
["Juris - Gestión Proceso Ordinario"]
["Juris - Atención al Usuario"]
["Juris - Gestión de Servicios Judiciales"]
["Juris - Gestión de Servicios Administrativos"]
["Juris - Gestión de Mejoramiento del SIGCMA"]

{"sheet":"GESTION","index":4,"n_rows":255,"n_cols":20,"rows_kept":255,"cut":false,"hidden":false,"merged":[[245,2,254,2],[235,3,254,3],[235,1,254,1],[235,0,254,0],[185,3,224,3],[225,2,234,2],[225,3,234,3],[185,1,234,1],[235,2,244,2],[115,1,184,1],[115,0,184,0],[185,2,194,2],[195,2,204,2],[205,2,214,2],[185,0,234,0],[145,2,154,2],[155,2,164,2],[165,2,174,2],[215,2,224,2],[145,3,174,3],[175,2,184,2],[175,3,184,3],[115,2,124,2],[115,3,124,3],[125,2,134,2],[135,2,144,2],[135,3,144,3],[125,3,134,3],[95,2,104,2],[105,2,114,2],[55,3,114,3],[55,1,114,1],[55,0,114,0],[5,0,54,0],[55,2,64,2],[65,2,74,2],[75,2,84,2],[85,2,94,2],[35,2,44,2],[35,3,44,3],[45,2,54,2],[45,3,54,3],[5,1,54,1],[5,3,14,3],[15,2,24,2],[15,3,24,3],[25,2,34,2],[25,3,34,3],[5,2,14,2],[1,0,1,18],[1,19,1,28],[2,0,2,3],[3,0,4,1],[3,2,4,2],[3,3,4,3],[3,4,3,6],[3,7,3,17],[2,4,2,17],[2,18,4,18]]}
[]
["CONSEJO SUPERIOR DE LA JUDICATURA \nUNIDADES MISIONALES DEL CONSEJO SUPERIOR DE LA JUDICATURA - \nDIRECCIÓN EJECUTIVA DE ADMINISTRACIÓN JUDICIAL - UNIDADES MISIONALES DE LA DEAJ\nDIRECCIONES SECCIONALES DE ADMINISTRACIÓN JUDICIAL - DEPENDENCIAS JUDICIALES CERTIFICADAS",null,null,null,null,null,null,null,null,null,null,null,null,null,null,null,null,null,null,"GENERADOR DE SEGUIMIENTOS TRIMESTRALES"]
["PLAN SECTORIAL DE DESARROLLO 2023-2026 - OBJETIVOS SIGCMA",null,null,null,"PLAN DE ACCIÓN Y SEGUIMIENTO A LA GESTIÓN INSTITUCIONAL (DE ACUERDO CON LA FUNCIÓN MISIONAL ASIGNADA )",null,null,null,null,null,null,null,null,null,null,null,null,null," ANÁLISIS RESULTADO"]
["OBJETIVO ESTRATÉGICO",null,"OBJETIVO ESPECÍFICO PSD","OBJETIVO ESPECÍFICO SIGCMA","MAPA PROCESO SIGCMA",null,null,"MEDICIÓN DE LA GESTIÓN ANUAL"]
[null,null,null,null,"NOMBRE MACRO PROCESO SIGCMA","PROCESO SIGCMA","NIVEL ","ACTIVIDADES ","INDIQUE SI ES ENTREGABLE O META CUANTIFICABLE","META ANUAL","UNIDAD DE MEDIDA","RESPONSABLE DEL PROCESO ","MEDIO O MECANISMO A TRAVES DEL CUAL SE HACE EL SEGUIMIENTO\n(Producto y/o servicio principal)","INICIO \nDÍA/MES/AÑO","FIN\nDÍA/MES/AÑO","AVANCE DE LA META ","NIVEL CUMPLIMIENTO","DIFICULTADES PARA LOGRAR LA META PROPUESTA"]
["1. Acceso e Infraestructura Física","Acceso e Infraestructura Física: Ampliar, en todo el territorio nacional, el acceso a una justicia efectiva, pronta, equitativa e incluyente, reduciendo el atraso y la congestión, de acuerdo con las necesidades de la demanda de justicia por jurisdicción y especialidad, y mejorando la articulación con la justicia restaurativa y terapéutica, y otros mecanismos de solución de conflictos y consolidando una infraestructura física óptima para el acceso a la justicia.","1. Ampliar el acceso a justicia para atender las necesidades jurídicas de los ciudadanos con un enfoque diferencial, de una manera pronta, reduciendo las inequidades y las brechas territoriales de acceso.","2. Asegurar  el cumplimiento de los objetivos institucionales, la normatividad aplicable,  la mejora del SIGCMA y la satisfacción de los usuarios, revisando de  forma continua y sistemática la planificación de la gestión y fortaleciendo la administración de riesgos y sus controles","Misionales","Admin - Reordenamiento Judicial","Seccional","Identificar las necesidades y requerimientos de  los despachos judiciales para la creación de cargos y despachos transitorios o permanentes para  presentar propuestas de reordenamiento al Consejo Superior de la Judicatura","Entregable",null,null,"Magistrados del Consejo Seccional","Oficios","2024-01-01","2024-12-31",{"$f":"IFERROR(MAX(#REF!,#REF!,#REF!,#REF!),\" \")","v":" "},{"$f":"IFERROR(P6/J6,\"\")","v":""},{"$f":"IFERROR(_xlfn.CONCAT(\"Trimestre 1\",CHAR(10),#REF!,CHAR(10),\"Trimestre 2\",CHAR(10),#REF!,CHAR(10),\"Trimestre 3\",CHAR(10),#REF!,CHAR(10),\"Trimestre 4\",CHAR(10),#REF!),\" \")","v":" "},{"$f":"IFERROR(_xlfn.CONCAT(\"Trimestre 1\",CHAR(10),#REF!,CHAR(10),\"Trimestre 2\",CHAR(10),#REF!,CHAR(10),\"Trimestre 3\",CHAR(10),#REF!,CHAR(10),\"Trimestre 4\",CHAR(10),#REF!),\" \")","v":" "}]
[null,null,null,null,"Misionales","Admin - Reordenamiento Judicial","Seccional","Proponer el fortalecimiento de la planta de cargos del Consejo Seccional de la Judicatura de Antioquia  y Dirección Seccional de Administración Judicial  mediante la creación de cargos permanentes","Entregable",null,null,"Magistrados del Consejo Seccional","Oficios","2024-01-01","2024-12-31",{"$f":"IFERROR(MAX(#REF!,#REF!,#REF!,#REF!),\" \")","v":" "},"",{"$f":"IFERROR(_xlfn.CONCAT(\"Trimestre 1\",CHAR(10),#REF!,CHAR(10),\"Trimestre 2\",CHAR(10),#REF!,CHAR(10),\"Trimestre 3\",CHAR(10),#REF!,CHAR(10),\"Trimestre 4\",CHAR(10),#REF!),\" \")","v":" "},{"$f":"IFERROR(_xlfn.CONCAT(\"Trimestre 1\",CHAR(10),#REF!,CHAR(10),\"Trimestre 2\",CHAR(10),#REF!,CHAR(10),\"Trimestre 3\",CHAR(10),#REF!,CHAR(10),\"Trimestre 4\",CHAR(10),#REF!),\" \")","v":" "}]
[null,null,null,null,null,null,null,null,null,null,null,null,null,null,null,{"$f":"IFERROR(MAX(#REF!,#REF!,#REF!,#REF!),\" \")","v":" "},null,{"$f":"IFERROR(_xlfn.CONCAT(\"Trimestre 1\",CHAR(10),#REF!,CHAR(10),\"Trimestre 2\",CHAR(10),#REF!,CHAR(10),\"Trimestre 3\",CHAR(10),#REF!,CHAR(10),\"Trimestre 4\",CHAR(10),#REF!),\" \")","v":" "},{"$f":"IFERROR(_xlfn.CONCAT(\"Trimestre 1\",CHAR(10),#REF!,CHAR(10),\"Trimestre 2\",CHAR(10),#REF!,CHAR(10),\"Trimestre 3\",CHAR(10),#REF!,CHAR(10),\"Trimestre 4\",CHAR(10),#REF!),\" \")","v":" "}]
[null,null,null,null,null,null,null,null,null,null,null,null,null,null,null,{"$f":"IFERROR(MAX(#REF!,#REF!,#REF!,#REF!),\" \")","v":" "},null,{"$f":"IFERROR(_xlfn.CONCAT(\"Trimestre 1\",CHAR(10),#REF!,CHAR(10),\"Trimestre 2\",CHAR(10),#REF!,CHAR(10),\"Trimestre 3\",CHAR(10),#REF!,CHAR(10),\"Trimestre 4\",CHAR(10),#REF!),\" \")","v":" "},{"$f":"IFERROR(_xlfn.CONCAT(\"Trimestre 1\",CHAR(10),#REF!,CHAR(10),\"Trimestre 2\",CHAR(10),#REF!,CHAR(10),\"Trimestre 3\",CHAR(10),#REF!,CHAR(10),\"Trimestre 4\",CHAR(10),#REF!),\" \")","v":" "}]
[null,null,null,null,null,null,null,null,null,null,null,null,null,null,null,{"$f":"IFERROR(MAX(#REF!,#REF!,#REF!,#REF!),\" \")","v":" "},null,{"$f":"IFERROR(_xlfn.CONCAT(\"Trimestre 1\",CHAR(10),#REF!,CHAR(10),\"Trimestre 2\",CHAR(10),#REF!,CHAR(10),\"Trimestre 3\",CHAR(10),#REF!,CHAR(10),\"Trimestre 4\",CHAR(10),#REF!),\" \")","v":" "},{"$f":"IFERROR(_xlfn.CONCAT(\"Trimestre 1\",CHAR(10),#REF!,CHAR(10),\"Trimestre 2\",CHAR(10),#REF!,CHAR(10),\"Trimestre 3\",CHAR(10),#REF!,CHAR(10),\"Trimestre 4\",CHAR(10),#REF!),\" \")","v":" "}]
[null,null,null,null,null,null,null,null,null,null,null,null,null,null,null,{"$f":"IFERROR(MAX(#REF!,#REF!,#REF!,#REF!),\" \")","v":" "},null,{"$f":"IFERROR(_xlfn.CONCAT(\"Trimestre 1\",CHAR(10),#REF!,CHAR(10),\"Trimestre 2\",CHAR(10),#REF!,CHAR(10),\"Trimestre 3\",CHAR(10),#REF!,CHAR(10),\"Trimestre 4\",CHAR(10),#REF!),\" \")","v":" "},{"$f":"IFERROR(_xlfn.CONCAT(\"Trimestre 1\",CHAR(10),#REF!,CHAR(10),\"Trimestre 2\",CHAR(10),#REF!,CHAR(10),\"Trimestre 3\",CHAR(10),#REF!,CHAR(10),\"Trimestre 4\",CHAR(10),#REF!),\" \")","v":" "}]
[null,null,null,null,null,null,null,null,null,null,null,null,null,null,null,{"$f":"IFERROR(MAX(#REF!,#REF!,#REF!,#REF!),\" \")","v":" "},null,{"$f":"IFERROR(_xlfn.CONCAT(\"Trimestre 1\",CHAR(10),#REF!,CHAR(10),\"Trimestre 2\",CHAR(10),#REF!,CHAR(10),\"Trimestre 3\",CHAR(10),#REF!,CHAR(10),\"Trimestre 4\",CHAR(10),#REF!),\" \")","v":" "},{"$f":"IFERROR(_xlfn.CONCAT(\"Trimestre 1\",CHAR(10),#REF!,CHAR(10),\"Trimestre 2\",CHAR(10),#REF!,CHAR(10),\"Trimestre 3\",CHAR(10),#REF!,CHAR(10),\"Trimestre 4\",CHAR(10),#REF!),\" \")","v":" "}]
[null,null,null,null,null,null,null,null,null,null,null,null,null,null,null,{"$f":"IFERROR(MAX(#REF!,#REF!,#REF!,#REF!),\" \")","v":" "},"",{"$f":"IFERROR(_xlfn.CONCAT(\"Trimestre 1\",CHAR(10),#REF!,CHAR(10),\"Trimestre 2\",CHAR(10),#REF!,CHAR(10),\"Trimestre 3\",CHAR(10),#REF!,CHAR(10),\"Trimestre 4\",CHAR(10),#REF!),\" \")","v":" "},{"$f":"IFERROR(_xlfn.CONCAT(\"Trimestre 1\",CHAR(10),#REF!,CHAR(10),\"Trimestre 2\",CHAR(10),#REF!,CHAR(10),\"Trimestre 3\",CHAR(10),#REF!,CHAR(10),\"Trimestre 4\",CHAR(10),#REF!),\" \")","v":" "}]
[null,null,null,null,null,null,null,null,null,null,null,null,null,null,null,{"$f":"IFERROR(MAX(#REF!,#REF!,#REF!,#REF!),\" \")","v":" "},"",{"$f":"IFERROR(_xlfn.CONCAT(\"Trimestre 1\",CHAR(10),#REF!,CHAR(10),\"Trimestre 2\",CHAR(10),#REF!,CHAR(10),\"Trimestre 3\",CHAR(10),#REF!,CHAR(10),\"Trimestre 4\",CHAR(10),#REF!),\" \")","v":" "},{"$f":"IFERROR(_xlfn.CONCAT(\"Trimestre 1\",CHAR(10),#REF!,CHAR(10),\"Trimestre 2\",CHAR(10),#REF!,CHAR(10),\"Trimestre 3\",CHAR(10),#REF!,CHAR(10),\"Trimestre 4\",CHAR(10),#REF!),\" \")","v":" "}]
[null,null,null,null,null,null,null,null,null,null,null,null,null,null,null,{"$f":"IFERROR(MAX(#REF!,#REF!,#REF!,#REF!),\" \")","v":" "},"",{"$f":"IFERROR(_xlfn.CONCAT(\"Trimestre 1\",CHAR(10),#REF!,CHAR(10),\"Trimestre 2\",CHAR(10),#REF!,CHAR(10),\"Trimestre 3\",CHAR(10),#REF!,CHAR(10),\"Trimestre 4\",CHAR(10),#REF!),\" \")","v":" "},{"$f":"IFERROR(_xlfn.CONCAT(\"Trimestre 1\",CHAR(10),#REF!,CHAR(10),\"Trimestre 2\",CHAR(10),#REF!,CHAR(10),\"Trimestre 3\",CHAR(10),#REF!,CHAR(10),\"Trimestre 4\",CHAR(10),#REF!),\" \")","v":" "}]
[null,null,"2. Mejorar los tiempos de respuesta de la Rama Judicial y reducir el inventario de procesos, identificando los retos internos y promoviendo tanto acciones articuladas específicas para abordarlos como estrategias coordinadas para enfrentar las barreras que dependen de otras entidades.","2. Asegurar  el cumplimiento de los objetivos institucionales, la normatividad aplicable,  la mejora del SIGCMA y la satisfacción de los usuarios, revisando de  forma continua y sistemática la planificación de la gestión y fortaleciendo la administración de riesgos y sus controles",null,null,null,null,null,null,null,null,null,null,null,{"$f":"IFERROR(MAX(#REF!,#REF!,#REF!,#REF!),\" \")","v":" "},"",{"$f":"IFERROR(_xlfn.CONCAT(\"Trimestre 1\",CHAR(10),#REF!,CHAR(10),\"Trimestre 2\",CHAR(10),#REF!,CHAR(10),\"Trimestre 3\",CHAR(10),#REF!,CHAR(10),\"Trimestre 4\",CHAR(10),#REF!),\" \")","v":" "},{"$f":"IFERROR(_xlfn.CONCAT(\"Trimestre 1\",CHAR(10),#REF!,CHAR(10),\"Trimestre 2\",CHAR(10),#REF!,CHAR(10),\"Trimestre 3\",CHAR(10),#REF!,CHAR(10),\"Trimestre 4\",CHAR(10),#REF!),\" \")","v":" "}]
[null,null,null,null,null,null,null,null,null,null,null,null,null,null,null,{"$f":"IFERROR(MAX(#REF!,#REF!,#REF!,#REF!),\" \")","v":" "},"",{"$f":"IFERROR(_xlfn.CONCAT(\"Trimestre 1\",CHAR(10),#REF!,CHAR(10),\"Trimestre 2\",CHAR(10),#REF!,CHAR(10),\"Trimestre 3\",CHAR(10),#REF!,CHAR(10),\"Trimestre 4\",CHAR(10),#REF!),\" \")","v":" "},{"$f":"IFERROR(_xlfn.CONCAT(\"Trimestre 1\",CHAR(10),#REF!,CHAR(10),\"Trimestre 2\",CHAR(10),#REF!,CHAR(10),\"Trimestre 3\",CHAR(10),#REF!,CHAR(10),\"Trimestre 4\",CHAR(10),#REF!),\" \")","v":" "}]
[null,null,null,null,null,null,null,null,null,null,null,null,null,null,null,{"$f":"IFERROR(MAX(#REF!,#REF!,#REF!,#REF!),\" \")","v":" "},null,{"$f":"IFERROR(_xlfn.CONCAT(\"Trimestre 1\",CHAR(10),#REF!,CHAR(10),\"Trimestre 2\",CHAR(10),#REF!,CHAR(10),\"Trimestre 3\",CHAR(10),#REF!,CHAR(10),\"Trimestre 4\",CHAR(10),#REF!),\" \")","v":" "},{"$f":"IFERROR(_xlfn.CONCAT(\"Trimestre 1\",CHAR(10),#REF!,CHAR(10),\"Trimestre 2\",CHAR(10),#REF!,CHAR(10),\"Trimestre 3\",CHAR(10),#REF!,CHAR(10),\"Trimestre 4\",CHAR(10),#REF!),\" \")","v":" "}]
[null,null,null,null,"Apoyo","Admin - Gestión Administrativa","Seccional","Gestionar el suministro de gastos de viaje y pasajes a los servidores judiciales para el desarrollo de comisiones de servicios en cumplimientos de las funciones propias del cargo","Entregable",null,null,"Grupo de Servicios Administrativos","Listado suministro de tiquetes","2024-01-01","2024-12-31",{"$f":"IFERROR(MAX(#REF!,#REF!,#REF!,#REF!),\" \")","v":" "},null,{"$f":"IFERROR(_xlfn.CONCAT(\"Trimestre 1\",CHAR(10),#REF!,CHAR(10),\"Trimestre 2\",CHAR(10),#REF!,CHAR(10),\"Trimestre 3\",CHAR(10),#REF!,CHAR(10),\"Trimestre 4\",CHAR(10),#REF!),\" \")","v":" "},{"$f":"IFERROR(_xlfn.CONCAT(\"Trimestre 1\",CHAR(10),#REF!,CHAR(10),\"Trimestre 2\",CHAR(10),#REF!,CHAR(10),\"Trimestre 3\",CHAR(10),#REF!,CHAR(10),\"Trimestre 4\",CHAR(10),#REF!),\" \")","v":" "}]
[null,null,null,null,null,null,null,null,null,null,null,null,null,null,null,{"$f":"IFERROR(MAX(#REF!,#REF!,#REF!,#REF!),\" \")","v":" "},null,{"$f":"IFERROR(_xlfn.CONCAT(\"Trimestre 1\",CHAR(10),#REF!,CHAR(10),\"Trimestre 2\",CHAR(10),#REF!,CHAR(10),\"Trimestre 3\",CHAR(10),#REF!,CHAR(10),\"Trimestre 4\",CHAR(10),#REF!),\" \")","v":" "},{"$f":"IFERROR(_xlfn.CONCAT(\"Trimestre 1\",CHAR(10),#REF!,CHAR(10),\"Trimestre 2\",CHAR(10),#REF!,CHAR(10),\"Trimestre 3\",CHAR(10),#REF!,CHAR(10),\"Trimestre 4\",CHAR(10),#REF!),\" \")","v":" "}]
[null,null,null,null,null,null,null,null,null,null,null,null,null,null,null,{"$f":"IFERROR(MAX(#REF!,#REF!,#REF!,#REF!),\" \")","v":" "},null,{"$f":"IFERROR(_xlfn.CONCAT(\"Trimestre 1\",CHAR(10),#REF!,CHAR(10),\"Trimestre 2\",CHAR(10),#REF!,CHAR(10),\"Trimestre 3\",CHAR(10),#REF!,CHAR(10),\"Trimestre 4\",CHAR(10),#REF!),\" \")","v":" "},{"$f":"IFERROR(_xlfn.CONCAT(\"Trimestre 1\",CHAR(10),#REF!,CHAR(10),\"Trimestre 2\",CHAR(10),#REF!,CHAR(10),\"Trimestre 3\",CHAR(10),#REF!,CHAR(10),\"Trimestre 4\",CHAR(10),#REF!),\" \")","v":" "}]
[null,null,null,null,null,null,null,null,null,null,null,null,null,null,null,{"$f":"IFERROR(MAX(#REF!,#REF!,#REF!,#REF!),\" \")","v":" "},null,{"$f":"IFERROR(_xlfn.CONCAT(\"Trimestre 1\",CHAR(10),#REF!,CHAR(10),\"Trimestre 2\",CHAR(10),#REF!,CHAR(10),\"Trimestre 3\",CHAR(10),#REF!,CHAR(10),\"Trimestre 4\",CHAR(10),#REF!),\" \")","v":" "},{"$f":"IFERROR(_xlfn.CONCAT(\"Trimestre 1\",CHAR(10),#REF!,CHAR(10),\"Trimestre 2\",CHAR(10),#REF!,CHAR(10),\"Trimestre 3\",CHAR(10),#REF!,CHAR(10),\"Trimestre 4\",CHAR(10),#REF!),\" \")","v":" "}]
[null,null,null,null,null,null,null,null,null,null,null,null,null,null,null,{"$f":"IFERROR(MAX(#REF!,#REF!,#REF!,#REF!),\" \")","v":" "},"",{"$f":"IFERROR(_xlfn.CONCAT(\"Trimestre 1\",CHAR(10),#REF!,CHAR(10),\"Trimestre 2\",CHAR(10),#REF!,CHAR(10),\"Trimestre 3\",CHAR(10),#REF!,CHAR(10),\"Trimestre 4\",CHAR(10),#REF!),\" \")","v":" "},{"$f":"IFERROR(_xlfn.CONCAT(\"Trimestre 1\",CHAR(10),#REF!,CHAR(10),\"Trimestre 2\",CHAR(10),#REF!,CHAR(10),\"Trimestre 3\",CHAR(10),#REF!,CHAR(10),\"Trimestre 4\",CHAR(10),#REF!),\" \")","v":" "}]
[null,null,null,null,null,null,null,null,null,null,null,null,null,null,null,{"$f":"IFERROR(MAX(#REF!,#REF!,#REF!,#REF!),\" \")","v":" "},"",{"$f":"IFERROR(_xlfn.CONCAT(\"Trimestre 1\",CHAR(10),#REF!,CHAR(10),\"Trimestre 2\",CHAR(10),#REF!,CHAR(10),\"Trimestre 3\",CHAR(10),#REF!,CHAR(10),\"Trimestre 4\",CHAR(10),#REF!),\" \")","v":" "},{"$f":"IFERROR(_xlfn.CONCAT(\"Trimestre 1\",CHAR(10),#REF!,CHAR(10),\"Trimestre 2\",CHAR(10),#REF!,CHAR(10),\"Trimestre 3\",CHAR(10),#REF!,CHAR(10),\"Trimestre 4\",CHAR(10),#REF!),\" \")","v":" "}]
[null,null,null,null,null,null,null,null,null,null,null,null,null,null,null,{"$f":"IFERROR(MAX(#REF!,#REF!,#REF!,#REF!),\" \")","v":" "},"",{"$f":"IFERROR(_xlfn.CONCAT(\"Trimestre 1\",CHAR(10),#REF!,CHAR(10),\"Trimestre 2\",CHAR(10),#REF!,CHAR(10),\"Trimestre 3\",CHAR(10),#REF!,CHAR(10),\"Trimestre 4\",CHAR(10),#REF!),\" \")","v":" "},{"$f":"IFERROR(_xlfn.CONCAT(\"Trimestre 1\",CHAR(10),#REF!,CHAR(10),\"Trimestre 2\",CHAR(10),#REF!,CHAR(10),\"Trimestre 3\",CHAR(10),#REF!,CHAR(10),\"Trimestre 4\",CHAR(10),#REF!),\" \")","v":" "}]
[null,null,"3. Coadyuvar en la garantía de la idoneidad en el ejercicio de la profesión jurídica de acuerdo con lo establecido en la Ley 1905 de 2018","2. Asegurar  el cumplimiento de los objetivos institucionales, la normatividad aplicable,  la mejora del SIGCMA y la satisfacción de los usuarios, revisando de  forma continua y sistemática la planificación de la gestión y fortaleciendo la administración de riesgos y sus controles","Misionales","Admin - Registro y Control de Abogados y Auxiliares de la Justicia","Seccional","Actualizar las listas y las novedades de los auxiliares de la Justicia de la seccional Medellín","Entregable",null,null,"Oficina Judicial","Listas","2024-01-01","2024-12-31",{"$f":"IFERROR(MAX(#REF!,#REF!,#REF!,#REF!),\" \")","v":" "},"",{"$f":"IFERROR(_xlfn.CONCAT(\"Trimestre 1\",CHAR(10),#REF!,CHAR(10),\"Trimestre 2\",CHAR(10),#REF!,CHAR(10),\"Trimestre 3\",CHAR(10),#REF!,CHAR(10),\"Trimestre 4\",CHAR(10),#REF!),\" \")","v":" "},{"$f":"IFERROR(_xlfn.CONCAT(\"Trimestre 1\",CHAR(10),#REF!,CHAR(10),\"Trimestre 2\",CHAR(10),#REF!,CHAR(10),\"Trimestre 3\",CHAR(10),#REF!,CHAR(10),\"Trimestre 4\",CHAR(10),#REF!),\" \")","v":" "}]
[null,null,null,null,"Misionales","Admin - Registro y Control de Abogados y Auxiliares de la Justicia","Seccional","Consolidar las solicitudes de inscripción para el desempeño de la práctica académica, solicitada por instituciones educativas de Medellín y Antioquia","Entregable",null,null,"Secretaría del Consejo Seccional","Listado de inscritos","2024-01-01","2024-12-31",{"$f":"IFERROR(MAX(#REF!,#REF!,#REF!,#REF!),\" \")","v":" "},"",{"$f":"IFERROR(_xlfn.CONCAT(\"Trimestre 1\",CHAR(10),#REF!,CHAR(10),\"Trimestre 2\",CHAR(10),#REF!,CHAR(10),\"Trimestre 3\",CHAR(10),#REF!,CHAR(10),\"Trimestre 4\",CHAR(10),#REF!),\" \")","v":" "},{"$f":"IFERROR(_xlfn.CONCAT(\"Trimestre 1\",CHAR(10),#REF!,CHAR(10),\"Trimestre 2\",CHAR(10),#REF!,CHAR(10),\"Trimestre 3\",CHAR(10),#REF!,CHAR(10),\"Trimestre 4\",CHAR(10),#REF!),\" \")","v":" "}]
[null,null,null,null,null,null,null,null,null,null,null,null,null,null,null,{"$f":"IFERROR(MAX(#REF!,#REF!,#REF!,#REF!),\" \")","v":" "},null,{"$f":"IFERROR(_xlfn.CONCAT(\"Trimestre 1\",CHAR(10),#REF!,CHAR(10),\"Trimestre 2\",CHAR(10),#REF!,CHAR(10),\"Trimestre 3\",CHAR(10),#REF!,CHAR(10),\"Trimestre 4\",CHAR(10),#REF!),\" \")","v":" "},{"$f":"IFERROR(_xlfn.CONCAT(\"Trimestre 1\",CHAR(10),#REF!,CHAR(10),\"Trimestre 2\",CHAR(10),#REF!,CHAR(10),\"Trimestre 3\",CHAR(10),#REF!,CHAR(10),\"Trimestre 4\",CHAR(10),#REF!),\" \")","v":" "}]
[null,null,null,null,null,null,null,null,null,null,null,null,null,null,null,{"$f":"IFERROR(MAX(#REF!,#REF!,#REF!,#REF!),\" \")","v":" "},null,{"$f":"IFERROR(_xlfn.CONCAT(\"Trimestre 1\",CHAR(10),#REF!,CHAR(10),\"Trimestre 2\",CHAR(10),#REF!,CHAR(10),\"Trimestre 3\",CHAR(10),#REF!,CHAR(10),\"Trimestre 4\",CHAR(10),#REF!),\" \")","v":" "},{"$f":"IFERROR(_xlfn.CONCAT(\"Trimestre 1\",CHAR(10),#REF!,CHAR(10),\"Trimestre 2\",CHAR(10),#REF!,CHAR(10),\"Trimestre 3\",CHAR(10),#REF!,CHAR(10),\"Trimestre 4\",CHAR(10),#REF!),\" \")","v":" "}]
[null,null,null,null,null,null,null,null,null,null,null,null,null,null,null,{"$f":"IFERROR(MAX(#REF!,#REF!,#REF!,#REF!),\" \")","v":" "},null,{"$f":"IFERROR(_xlfn.CONCAT(\"Trimestre 1\",CHAR(10),#REF!,CHAR(10),\"Trimestre 2\",CHAR(10),#REF!,CHAR(10),\"Trimestre 3\",CHAR(10),#REF!,CHAR(10),\"Trimestre 4\",CHAR(10),#REF!),\" \")","v":" "},{"$f":"IFERROR(_xlfn.CONCAT(\"Trimestre 1\",CHAR(10),#REF!,CHAR(10),\"Trimestre 2\",CHAR(10),#REF!,CHAR(10),\"Trimestre 3\",CHAR(10),#REF!,CHAR(10),\"Trimestre 4\",CHAR(10),#REF!),\" \")","v":" "}]
[null,null,null,null,null,null,null,null,null,null,null,null,null,null,null,{"$f":"IFERROR(MAX(#REF!,#REF!,#REF!,#REF!),\" \")","v":" "},null,{"$f":"IFERROR(_xlfn.CONCAT(\"Trimestre 1\",CHAR(10),#REF!,CHAR(10),\"Trimestre 2\",CHAR(10),#REF!,CHAR(10),\"Trimestre 3\",CHAR(10),#REF!,CHAR(10),\"Trimestre 4\",CHAR(10),#REF!),\" \")","v":" "},{"$f":"IFERROR(_xlfn.CONCAT(\"Trimestre 1\",CHAR(10),#REF!,CHAR(10),\"Trimestre 2\",CHAR(10),#REF!,CHAR(10),\"Trimestre 3\",CHAR(10),#REF!,CHAR(10),\"Trimestre 4\",CHAR(10),#REF!),\" \")","v":" "}]
[null,null,null,null,null,null,null,null,null,null,null,null,null,null,null,{"$f":"IFERROR(MAX(#REF!,#REF!,#REF!,#REF!),\" \")","v":" "},null,{"$f":"IFERROR(_xlfn.CONCAT(\"Trimestre 1\",CHAR(10),#REF!,CHAR(10),\"Trimestre 2\",CHAR(10),#REF!,CHAR(10),\"Trimestre 3\",CHAR(10),#REF!,CHAR(10),\"Trimestre 4\",CHAR(10),#REF!),\" \")","v":" "},{"$f":"IFERROR(_xlfn.CONCAT(\"Trimestre 1\",CHAR(10),#REF!,CHAR(10),\"Trimestre 2\",CHAR(10),#REF!,CHAR(10),\"Trimestre 3\",CHAR(10),#REF!,CHAR(10),\"Trimestre 4\",CHAR(10),#REF!),\" \")","v":" "}]
[null,null,null,null,null,null,null,null,null,null,null,null,null,null,null,{"$f":"IFERROR(MAX(#REF!,#REF!,#REF!,#REF!),\" \")","v":" "},"",{"$f":"IFERROR(_xlfn.CONCAT(\"Trimestre 1\",CHAR(10),#REF!,CHAR(10),\"Trimestre 2\",CHAR(10),#REF!,CHAR(10),\"Trimestre 3\",CHAR(10),#REF!,CHAR(10),\"Trimestre 4\",CHAR(10),#REF!),\" \")","v":" "},{"$f":"IFERROR(_xlfn.CONCAT(\"Trimestre 1\",CHAR(10),#REF!,CHAR(10),\"Trimestre 2\",CHAR(10),#REF!,CHAR(10),\"Trimestre 3\",CHAR(10),#REF!,CHAR(10),\"Trimestre 4\",CHAR(10),#REF!),\" \")","v":" "}]
[null,null,null,null,null,null,null,null,null,null,null,null,null,null,null,{"$f":"IFERROR(MAX(#REF!,#REF!,#REF!,#REF!),\" \")","v":" "},"",{"$f":"IFERROR(_xlfn.CONCAT(\"Trimestre 1\",CHAR(10),#REF!,CHAR(10),\"Trimestre 2\",CHAR(10),#REF!,CHAR(10),\"Trimestre 3\",CHAR(10),#REF!,CHAR(10),\"Trimestre 4\",CHAR(10),#REF!),\" \")","v":" "},{"$f":"IFERROR(_xlfn.CONCAT(\"Trimestre 1\",CHAR(10),#REF!,CHAR(10),\"Trimestre 2\",CHAR(10),#REF!,CHAR(10),\"Trimestre 3\",CHAR(10),#REF!,CHAR(10),\"Trimestre 4\",CHAR(10),#REF!),\" \")","v":" "}]
[null,null,null,null,null,null,null,null,null,null,null,null,null,null,null,{"$f":"IFERROR(MAX(#REF!,#REF!,#REF!,#REF!),\" \")","v":" "},"",{"$f":"IFERROR(_xlfn.CONCAT(\"Trimestre 1\",CHAR(10),#REF!,CHAR(10),\"Trimestre 2\",CHAR(10),#REF!,CHAR(10),\"Trimestre 3\",CHAR(10),#REF!,CHAR(10),\"Trimestre 4\",CHAR(10),#REF!),\" \")","v":" "},{"$f":"IFERROR(_xlfn.CONCAT(\"Trimestre 1\",CHAR(10),#REF!,CHAR(10),\"Trimestre 2\",CHAR(10),#REF!,CHAR(10),\"Trimestre 3\",CHAR(10),#REF!,CHAR(10),\"Trimestre 4\",CHAR(10),#REF!),\" \")","v":" "}]
[null,null,"4. Avanzar en la disposición de una infraestructura óptima para el acceso a la justicia en la Rama Judicial de modo que se fortalezca la presencia territorial, teniendo en cuenta las posibilidades que ofrece la transformación digital y las necesidades que se derivan de ella, y considerando tanto las necesidades de los usuarios como las de los servidores judiciales.","4. Hacer un uso racional de los recursos naturales aplicando los principios y fases de la Economía Circular, para prevenir, mitigar y controlar los impactos ambientales","Misionales","Admin - Mejoramiento de la Infraestructura Física","Seccional","Consolidar los requerimientos de mejoramiento de la infraestructura propia, para los despachos judiciales y dependencias administrativas de nustra seccional y remitir la solicitud de asignación de presupuesto a la DEAJ, a través del anteproyecto de presupuesto.","Entregable",null,null,"Área Administrativa/Ingeniero","PAI/PAA","2024-01-01","2024-12-31",{"$f":"IFERROR(MAX(#REF!,#REF!,#REF!,#REF!),\" \")","v":" "},"",{"$f":"IFERROR(_xlfn.CONCAT(\"Trimestre 1\",CHAR(10),#REF!,CHAR(10),\"Trimestre 2\",CHAR(10),#REF!,CHAR(10),\"Trimestre 3\",CHAR(10),#REF!,CHAR(10),\"Trimestre 4\",CHAR(10),#REF!),\" \")","v":" "},{"$f":"IFERROR(_xlfn.CONCAT(\"Trimestre 1\",CHAR(10),#REF!,CHAR(10),\"Trimestre 2\",CHAR(10),#REF!,CHAR(10),\"Trimestre 3\",CHAR(10),#REF!,CHAR(10),\"Trimestre 4\",CHAR(10),#REF!),\" \")","v":" "}]
[null,null,null,null,"Misionales","Admin - Mejoramiento de la Infraestructura Física","Seccional","Estructurar, gestionar y tramitar los estudios previos y los documentos precontractuales para los diferentes procesos de contratación, de conformidad con las necesidades priorizadas, la asignación de presupuesto de infraestructura por parte del nivel nacional y el despliegue del plan de compras de la Seccional.","Entregable",null,null,"Área Administrativa/Ingeniero","Contratos","2024-01-01","2024-12-31",{"$f":"IFERROR(MAX(#REF!,#REF!,#REF!,#REF!),\" \")","v":" "},"",{"$f":"IFERROR(_xlfn.CONCAT(\"Trimestre 1\",CHAR(10),#REF!,CHAR(10),\"Trimestre 2\",CHAR(10),#REF!,CHAR(10),\"Trimestre 3\",CHAR(10),#REF!,CHAR(10),\"Trimestre 4\",CHAR(10),#REF!),\" \")","v":" "},{"$f":"IFERROR(_xlfn.CONCAT(\"Trimestre 1\",CHAR(10),#REF!,CHAR(10),\"Trimestre 2\",CHAR(10),#REF!,CHAR(10),\"Trimestre 3\",CHAR(10),#REF!,CHAR(10),\"Trimestre 4\",CHAR(10),#REF!),\" \")","v":" "}]
[null,null,null,null,"Apoyo","Admin - Gestión Administrativa","Seccional","Establecer y consolidar las necesidades de mejoramiento y mantenimiento de  bienes y servicios para la vigencia para la elaboración del PAA","Entregable",null,null,"Área Administrativa","Plan de Necesidades","2024-01-01","2024-12-31",{"$f":"IFERROR(MAX(#REF!,#REF!,#REF!,#REF!),\" \")","v":" "},"",{"$f":"IFERROR(_xlfn.CONCAT(\"Trimestre 1\",CHAR(10),#REF!,CHAR(10),\"Trimestre 2\",CHAR(10),#REF!,CHAR(10),\"Trimestre 3\",CHAR(10),#REF!,CHAR(10),\"Trimestre 4\",CHAR(10),#REF!),\" \")","v":" "},{"$f":"IFERROR(_xlfn.CONCAT(\"Trimestre 1\",CHAR(10),#REF!,CHAR(10),\"Trimestre 2\",CHAR(10),#REF!,CHAR(10),\"Trimestre 3\",CHAR(10),#REF!,CHAR(10),\"Trimestre 4\",CHAR(10),#REF!),\" \")","v":" "}]
[null,null,null,null,"Apoyo","Admin - Gestión Administrativa","Seccional","Consolidar las necesidades de suministro de mobiliario, papelería, insumos de impresión, útiles de escritorio, asi como equipos de cómputo y sus perifericos y aires acondicionados para los despachos judiciales y dependencias administrativas de la seccional y remitir la solicitud de asignación de presupuesto a la DEAJ, a través del anteproyecto de presupuesto.","Entregable",null,null,"Área Administrativa/Grupo Servicios Administrativos y Grupo Almacén","Listado de solicitud y atención de servicios","2024-01-01","2024-12-31",{"$f":"IFERROR(MAX(#REF!,#REF!,#REF!,#REF!),\" \")","v":" "},null,{"$f":"IFERROR(_xlfn.CONCAT(\"Trimestre 1\",CHAR(10),#REF!,CHAR(10),\"Trimestre 2\",CHAR(10),#REF!,CHAR(10),\"Trimestre 3\",CHAR(10),#REF!,CHAR(10),\"Trimestre 4\",CHAR(10),#REF!),\" \")","v":" "},{"$f":"IFERROR(_xlfn.CONCAT(\"Trimestre 1\",CHAR(10),#REF!,CHAR(10),\"Trimestre 2\",CHAR(10),#REF!,CHAR(10),\"Trimestre 3\",CHAR(10),#REF!,CHAR(10),\"Trimestre 4\",CHAR(10),#REF!),\" \")","v":" "}]
[null,null,null,null,"Apoyo","Admin - Gestión Administrativa",null,"Administrar y realizar seguimiento a los mantenimientos de los vehículos del parque automotor aisgnados a los funcionarios judiciales","Entregable",null,null,"Área Administrativa/Grupo Servicios Administrativos","Listado de mantenimiento vehículos","2024-01-01","2024-12-31",{"$f":"IFERROR(MAX(#REF!,#REF!,#REF!,#REF!),\" \")","v":" "},null,{"$f":"IFERROR(_xlfn.CONCAT(\"Trimestre 1\",CHAR(10),#REF!,CHAR(10),\"Trimestre 2\",CHAR(10),#REF!,CHAR(10),\"Trimestre 3\",CHAR(10),#REF!,CHAR(10),\"Trimestre 4\",CHAR(10),#REF!),\" \")","v":" "},{"$f":"IFERROR(_xlfn.CONCAT(\"Trimestre 1\",CHAR(10),#REF!,CHAR(10),\"Trimestre 2\",CHAR(10),#REF!,CHAR(10),\"Trimestre 3\",CHAR(10),#REF!,CHAR(10),\"Trimestre 4\",CHAR(10),#REF!),\" \")","v":" "}]
[null,null,null,null,"Apoyo","Admin - Gestión Administrativa","Seccional","Realizar el control a los ingresos y salidas de elementos del alcacen adquiridos por parte de la Dirección Eejecuitva Seccional","Entregable",null,null,"Área Administrativa/Grupo Almacén","Control de inventarios SICOF","2024-01-01","2024-12-31",{"$f":"IFERROR(MAX(#REF!,#REF!,#REF!,#REF!),\" \")","v":" "},null,{"$f":"IFERROR(_xlfn.CONCAT(\"Trimestre 1\",CHAR(10),#REF!,CHAR(10),\"Trimestre 2\",CHAR(10),#REF!,CHAR(10),\"Trimestre 3\",CHAR(10),#REF!,CHAR(10),\"Trimestre 4\",CHAR(10),#REF!),\" \")","v":" "},{"$f":"IFERROR(_xlfn.CONCAT(\"Trimestre 1\",CHAR(10),#REF!,CHAR(10),\"Trimestre 2\",CHAR(10),#REF!,CHAR(10),\"Trimestre 3\",CHAR(10),#REF!,CHAR(10),\"Trimestre 4\",CHAR(10),#REF!),\" \")","v":" "}]
[null,null,null,null,null,null,null,null,null,null,null,null,null,null,null,{"$f":"IFERROR(MAX(#REF!,#REF!,#REF!,#REF!),\" \")","v":" "},null,{"$f":"IFERROR(_xlfn.CONCAT(\"Trimestre 1\",CHAR(10),#REF!,CHAR(10),\"Trimestre 2\",CHAR(10),#REF!,CHAR(10),\"Trimestre 3\",CHAR(10),#REF!,CHAR(10),\"Trimestre 4\",CHAR(10),#REF!),\" \")","v":" "},{"$f":"IFERROR(_xlfn.CONCAT(\"Trimestre 1\",CHAR(10),#REF!,CHAR(10),\"Trimestre 2\",CHAR(10),#REF!,CHAR(10),\"Trimestre 3\",CHAR(10),#REF!,CHAR(10),\"Trimestre 4\",CHAR(10),#REF!),\" \")","v":" "}]
[null,null,null,null,"Apoyo","Admin - Gestión Administrativa","Seccional","Realizar seguimiento y verificación a las condiciones de seguiridad del  transporte los bienes de propiedad de la Rama Judicial ","Entregable",null,null,"Área Administrativa/Grupo Almacén","Listado de servicios","2024-01-01","2024-12-31",{"$f":"IFERROR(MAX(#REF!,#REF!,#REF!,#REF!),\" \")","v":" "},null,{"$f":"IFERROR(_xlfn.CONCAT(\"Trimestre 1\",CHAR(10),#REF!,CHAR(10),\"Trimestre 2\",CHAR(10),#REF!,CHAR(10),\"Trimestre 3\",CHAR(10),#REF!,CHAR(10),\"Trimestre 4\",CHAR(10),#REF!),\" \")","v":" "},{"$f":"IFERROR(_xlfn.CONCAT(\"Trimestre 1\",CHAR(10),#REF!,CHAR(10),\"Trimestre 2\",CHAR(10),#REF!,CHAR(10),\"Trimestre 3\",CHAR(10),#REF!,CHAR(10),\"Trimestre 4\",CHAR(10),#REF!),\" \")","v":" "}]
[null,null,null,null,"Apoyo","Admin - Asistencia Legal","Seccional","Realizar el procedimiento de  baja de bienes del almacen y realizar el respectivo proceso de retiro de elementos del inventario","Entregable",null,null,"Área Administrativa/Grupo Almacén","Procedimiento de bajas","2024-01-01","2024-12-31",{"$f":"IFERROR(MAX(#REF!,#REF!,#REF!,#REF!),\" \")","v":" "},"",{"$f":"IFERROR(_xlfn.CONCAT(\"Trimestre 1\",CHAR(10),#REF!,CHAR(10),\"Trimestre 2\",CHAR(10),#REF!,CHAR(10),\"Trimestre 3\",CHAR(10),#REF!,CHAR(10),\"Trimestre 4\",CHAR(10),#REF!),\" \")","v":" "},{"$f":"IFERROR(_xlfn.CONCAT(\"Trimestre 1\",CHAR(10),#REF!,CHAR(10),\"Trimestre 2\",CHAR(10),#REF!,CHAR(10),\"Trimestre 3\",CHAR(10),#REF!,CHAR(10),\"Trimestre 4\",CHAR(10),#REF!),\" \")","v":" "}]
[null,null,null,null,"Apoyo","Admin - Gestión Administrativa","Seccional","Estructurar, gestionar y tramitar los estudios previos y los documentos precontractuales para los diferentes procesos de contratación, de conformidad con las necesidades priorizadas, la asignación de presupuesto de funcionamiento por parte del nivel nacional y el despliegue del plan de compras de la Seccional.","Entregable",null,null,"Área Administrativa","Estudicios previos/analisis del sector","2024-01-01","2024-12-31",{"$f":"IFERROR(MAX(#REF!,#REF!,#REF!,#REF!),\" \")","v":" "},"",{"$f":"IFERROR(_xlfn.CONCAT(\"Trimestre 1\",CHAR(10),#REF!,CHAR(10),\"Trimestre 2\",CHAR(10),#REF!,CHAR(10),\"Trimestre 3\",CHAR(10),#REF!,CHAR(10),\"Trimestre 4\",CHAR(10),#REF!),\" \")","v":" "},{"$f":"IFERROR(_xlfn.CONCAT(\"Trimestre 1\",CHAR(10),#REF!,CHAR(10),\"Trimestre 2\",CHAR(10),#REF!,CHAR(10),\"Trimestre 3\",CHAR(10),#REF!,CHAR(10),\"Trimestre 4\",CHAR(10),#REF!),\" \")","v":" "}]
[null,null,"5. Impulsar el uso de mecanismos alternativos para la solución de conflictos y la ampliación de la justicia restaurativa y terapéutica y el robustecimiento de las alternativas al encarcelamiento","2. Asegurar  el cumplimiento de los objetivos institucionales, la normatividad aplicable,  la mejora del SIGCMA y la satisfacción de los usuarios, revisando de  forma continua y sistemática la planificación de la gestión y fortaleciendo la administración de riesgos y sus controles",null,null,null,null,null,null,null,null,null,null,null,{"$f":"IFERROR(MAX(#REF!,#REF!,#REF!,#REF!),\" \")","v":" "},"",{"$f":"IFERROR(_xlfn.CONCAT(\"Trimestre 1\",CHAR(10),#REF!,CHAR(10),\"Trimestre 2\",CHAR(10),#REF!,CHAR(10),\"Trimestre 3\",CHAR(10),#REF!,CHAR(10),\"Trimestre 4\",CHAR(10),#REF!),\" \")","v":" "},{"$f":"IFERROR(_xlfn.CONCAT(\"Trimestre 1\",CHAR(10),#REF!,CHAR(10),\"Trimestre 2\",CHAR(10),#REF!,CHAR(10),\"Trimestre 3\",CHAR(10),#REF!,CHAR(10),\"Trimestre 4\",CHAR(10),#REF!),\" \")","v":" "}]
[null,null,null,null,null,null,null,null,null,null,null,null,null,null,null,{"$f":"IFERROR(MAX(#REF!,#REF!,#REF!,#REF!),\" \")","v":" "},"",{"$f":"IFERROR(_xlfn.CONCAT(\"Trimestre 1\",CHAR(10),#REF!,CHAR(10),\"Trimestre 2\",CHAR(10),#REF!,CHAR(10),\"Trimestre 3\",CHAR(10),#REF!,CHAR(10),\"Trimestre 4\",CHAR(10),#REF!),\" \")","v":" "},{"$f":"IFERROR(_xlfn.CONCAT(\"Trimestre 1\",CHAR(10),#REF!,CHAR(10),\"Trimestre 2\",CHAR(10),#REF!,CHAR(10),\"Trimestre 3\",CHAR(10),#REF!,CHAR(10),\"Trimestre 4\",CHAR(10),#REF!),\" \")","v":" "}]
[null,null,null,null,null,null,null,null,null,null,null,null,null,null,null,{"$f":"IFERROR(MAX(#REF!,#REF!,#REF!,#REF!),\" \")","v":" "},null,{"$f":"IFERROR(_xlfn.CONCAT(\"Trimestre 1\",CHAR(10),#REF!,CHAR(10),\"Trimestre 2\",CHAR(10),#REF!,CHAR(10),\"Trimestre 3\",CHAR(10),#REF!,CHAR(10),\"Trimestre 4\",CHAR(10),#REF!),\" \")","v":" "},{"$f":"IFERROR(_xlfn.CONCAT(\"Trimestre 1\",CHAR(10),#REF!,CHAR(10),\"Trimestre 2\",CHAR(10),#REF!,CHAR(10),\"Trimestre 3\",CHAR(10),#REF!,CHAR(10),\"Trimestre 4\",CHAR(10),#REF!),\" \")","v":" "}]
[null,null,null,null,null,null,null,null,null,null,null,null,null,null,null,{"$f":"IFERROR(MAX(#REF!,#REF!,#REF!,#REF!),\" \")","v":" "},null,{"$f":"IFERROR(_xlfn.CONCAT(\"Trimestre 1\",CHAR(10),#REF!,CHAR(10),\"Trimestre 2\",CHAR(10),#REF!,CHAR(10),\"Trimestre 3\",CHAR(10),#REF!,CHAR(10),\"Trimestre 4\",CHAR(10),#REF!),\" \")","v":" "},{"$f":"IFERROR(_xlfn.CONCAT(\"Trimestre 1\",CHAR(10),#REF!,CHAR(10),\"Trimestre 2\",CHAR(10),#REF!,CHAR(10),\"Trimestre 3\",CHAR(10),#REF!,CHAR(10),\"Trimestre 4\",CHAR(10),#REF!),\" \")","v":" "}]
[null,null,null,null,null,null,null,null,null,null,null,null,null,null,null,{"$f":"IFERROR(MAX(#REF!,#REF!,#REF!,#REF!),\" \")","v":" "},null,{"$f":"IFERROR(_xlfn.CONCAT(\"Trimestre 1\",CHAR(10),#REF!,CHAR(10),\"Trimestre 2\",CHAR(10),#REF!,CHAR(10),\"Trimestre 3\",CHAR(10),#REF!,CHAR(10),\"Trimestre 4\",CHAR(10),#REF!),\" \")","v":" "},{"$f":"IFERROR(_xlfn.CONCAT(\"Trimestre 1\",CHAR(10),#REF!,CHAR(10),\"Trimestre 2\",CHAR(10),#REF!,CHAR(10),\"Trimestre 3\",CHAR(10),#REF!,CHAR(10),\"Trimestre 4\",CHAR(10),#REF!),\" \")","v":" "}]
[null,null,null,null,null,null,null,null,null,null,null,null,null,null,null,{"$f":"IFERROR(MAX(#REF!,#REF!,#REF!,#REF!),\" \")","v":" "},null,{"$f":"IFERROR(_xlfn.CONCAT(\"Trimestre 1\",CHAR(10),#REF!,CHAR(10),\"Trimestre 2\",CHAR(10),#REF!,CHAR(10),\"Trimestre 3\",CHAR(10),#REF!,CHAR(10),\"Trimestre 4\",CHAR(10),#REF!),\" \")","v":" "},{"$f":"IFERROR(_xlfn.CONCAT(\"Trimestre 1\",CHAR(10),#REF!,CHAR(10),\"Trimestre 2\",CHAR(10),#REF!,CHAR(10),\"Trimestre 3\",CHAR(10),#REF!,CHAR(10),\"Trimestre 4\",CHAR(10),#REF!),\" \")","v":" "}]
[null,null,null,null,null,null,null,null,null,null,null,null,null,null,null,{"$f":"IFERROR(MAX(#REF!,#REF!,#REF!,#REF!),\" \")","v":" "},null,{"$f":"IFERROR(_xlfn.CONCAT(\"Trimestre 1\",CHAR(10),#REF!,CHAR(10),\"Trimestre 2\",CHAR(10),#REF!,CHAR(10),\"Trimestre 3\",CHAR(10),#REF!,CHAR(10),\"Trimestre 4\",CHAR(10),#REF!),\" \")","v":" "},{"$f":"IFERROR(_xlfn.CONCAT(\"Trimestre 1\",CHAR(10),#REF!,CHAR(10),\"Trimestre 2\",CHAR(10),#REF!,CHAR(10),\"Trimestre 3\",CHAR(10),#REF!,CHAR(10),\"Trimestre 4\",CHAR(10),#REF!),\" \")","v":" "}]
[null,null,null,null,null,null,null,null,null,null,null,null,null,null,null,{"$f":"IFERROR(MAX(#REF!,#REF!,#REF!,#REF!),\" \")","v":" "},"",{"$f":"IFERROR(_xlfn.CONCAT(\"Trimestre 1\",CHAR(10),#REF!,CHAR(10),\"Trimestre 2\",CHAR(10),#REF!,CHAR(10),\"Trimestre 3\",CHAR(10),#REF!,CHAR(10),\"Trimestre 4\",CHAR(10),#REF!),\" \")","v":" "},{"$f":"IFERROR(_xlfn.CONCAT(\"Trimestre 1\",CHAR(10),#REF!,CHAR(10),\"Trimestre 2\",CHAR(10),#REF!,CHAR(10),\"Trimestre 3\",CHAR(10),#REF!,CHAR(10),\"Trimestre 4\",CHAR(10),#REF!),\" \")","v":" "}]
[null,null,null,null,null,null,null,null,null,null,null,null,null,null,null,{"$f":"IFERROR(MAX(#REF!,#REF!,#REF!,#REF!),\" \")","v":" "},"",{"$f":"IFERROR(_xlfn.CONCAT(\"Trimestre 1\",CHAR(10),#REF!,CHAR(10),\"Trimestre 2\",CHAR(10),#REF!,CHAR(10),\"Trimestre 3\",CHAR(10),#REF!,CHAR(10),\"Trimestre 4\",CHAR(10),#REF!),\" \")","v":" "},{"$f":"IFERROR(_xlfn.CONCAT(\"Trimestre 1\",CHAR(10),#REF!,CHAR(10),\"Trimestre 2\",CHAR(10),#REF!,CHAR(10),\"Trimestre 3\",CHAR(10),#REF!,CHAR(10),\"Trimestre 4\",CHAR(10),#REF!),\" \")","v":" "}]
[null,null,null,null,null,null,null,null,null,null,null,null,null,null,null,{"$f":"IFERROR(MAX(#REF!,#REF!,#REF!,#REF!),\" \")","v":" "},"",{"$f":"IFERROR(_xlfn.CONCAT(\"Trimestre 1\",CHAR(10),#REF!,CHAR(10),\"Trimestre 2\",CHAR(10),#REF!,CHAR(10),\"Trimestre 3\",CHAR(10),#REF!,CHAR(10),\"Trimestre 4\",CHAR(10),#REF!),\" \")","v":" "},{"$f":"IFERROR(_xlfn.CONCAT(\"Trimestre 1\",CHAR(10),#REF!,CHAR(10),\"Trimestre 2\",CHAR(10),#REF!,CHAR(10),\"Trimestre 3\",CHAR(10),#REF!,CHAR(10),\"Trimestre 4\",CHAR(10),#REF!),\" \")","v":" "}]
["2. Servicios digitales y de tecnología, innovación y análisis de la información.","Servicios digitales y de tecnología, innovación y análisis de la información: Consolidar una justicia integrada y soportada en servicios digitales y de tecnología, innovación y análisis de la información, con una cultura digital apropiada, segura y sensible a las realidades del territorio nacional. ","1. Ampliar el acceso a la justicia a través de la consolidación del uso de los servicios digitales que conforman el sistema único integrado de gestión judicial en todos los despachos judiciales y dependencias de apoyo y, específicamente, incluyendo el despliegue e implementación del Expediente Judicial Electrónico en todas las jurisdicciones y especialidades.","6. Proteger, preservar y administrar los activos de información  implementando acciones  para gestionar de forma adecuada los incidentes, proteger los datos personales y adoptar mecanismos  de ciberseguridad y aseguramiento de la  continuidad del negocio.",null,null,null,null,null,null,null,null,null,null,null,{"$f":"IFERROR(MAX(#REF!,#REF!,#REF!,#REF!),\" \")","v":" "},"",{"$f":"IFERROR(_xlfn.CONCAT(\"Trimestre 1\",CHAR(10),#REF!,CHAR(10),\"Trimestre 2\",CHAR(10),#REF!,CHAR(10),\"Trimestre 3\",CHAR(10),#REF!,CHAR(10),\"Trimestre 4\",CHAR(10),#REF!),\" \")","v":" "},{"$f":"IFERROR(_xlfn.CONCAT(\"Trimestre 1\",CHAR(10),#REF!,CHAR(10),\"Trimestre 2\",CHAR(10),#REF!,CHAR(10),\"Trimestre 3\",CHAR(10),#REF!,CHAR(10),\"Trimestre 4\",CHAR(10),#REF!),\" \")","v":" "}]
[null,null,null,null,null,null,null,null,null,null,null,null,null,null,null,{"$f":"IFERROR(MAX(#REF!,#REF!,#REF!,#REF!),\" \")","v":" "},"",{"$f":"IFERROR(_xlfn.CONCAT(\"Trimestre 1\",CHAR(10),#REF!,CHAR(10),\"Trimestre 2\",CHAR(10),#REF!,CHAR(10),\"Trimestre 3\",CHAR(10),#REF!,CHAR(10),\"Trimestre 4\",CHAR(10),#REF!),\" \")","v":" "},{"$f":"IFERROR(_xlfn.CONCAT(\"Trimestre 1\",CHAR(10),#REF!,CHAR(10),\"Trimestre 2\",CHAR(10),#REF!,CHAR(10),\"Trimestre 3\",CHAR(10),#REF!,CHAR(10),\"Trimestre 4\",CHAR(10),#REF!),\" \")","v":" "}]
[null,null,null,null,null,null,null,null,null,null,null,null,null,null,null,{"$f":"IFERROR(MAX(#REF!,#REF!,#REF!,#REF!),\" \")","v":" "},"",{"$f":"IFERROR(_xlfn.CONCAT(\"Trimestre 1\",CHAR(10),#REF!,CHAR(10),\"Trimestre 2\",CHAR(10),#REF!,CHAR(10),\"Trimestre 3\",CHAR(10),#REF!,CHAR(10),\"Trimestre 4\",CHAR(10),#REF!),\" \")","v":" "},{"$f":"IFERROR(_xlfn.CONCAT(\"Trimestre 1\",CHAR(10),#REF!,CHAR(10),\"Trimestre 2\",CHAR(10),#REF!,CHAR(10),\"Trimestre 3\",CHAR(10),#REF!,CHAR(10),\"Trimestre 4\",CHAR(10),#REF!),\" \")","v":" "}]
[null,null,null,null,null,null,null,null,null,null,null,null,null,null,null,{"$f":"IFERROR(MAX(#REF!,#REF!,#REF!,#REF!),\" \")","v":" "},null,{"$f":"IFERROR(_xlfn.CONCAT(\"Trimestre 1\",CHAR(10),#REF!,CHAR(10),\"Trimestre 2\",CHAR(10),#REF!,CHAR(10),\"Trimestre 3\",CHAR(10),#REF!,CHAR(10),\"Trimestre 4\",CHAR(10),#REF!),\" \")","v":" "},{"$f":"IFERROR(_xlfn.CONCAT(\"Trimestre 1\",CHAR(10),#REF!,CHAR(10),\"Trimestre 2\",CHAR(10),#REF!,CHAR(10),\"Trimestre 3\",CHAR(10),#REF!,CHAR(10),\"Trimestre 4\",CHAR(10),#REF!),\" \")","v":" "}]
[null,null,null,null,null,null,null,null,null,null,null,null,null,null,null,{"$f":"IFERROR(MAX(#REF!,#REF!,#REF!,#REF!),\" \")","v":" "},null,{"$f":"IFERROR(_xlfn.CONCAT(\"Trimestre 1\",CHAR(10),#REF!,CHAR(10),\"Trimestre 2\",CHAR(10),#REF!,CHAR(10),\"Trimestre 3\",CHAR(10),#REF!,CHAR(10),\"Trimestre 4\",CHAR(10),#REF!),\" \")","v":" "},{"$f":"IFERROR(_xlfn.CONCAT(\"Trimestre 1\",CHAR(10),#REF!,CHAR(10),\"Trimestre 2\",CHAR(10),#REF!,CHAR(10),\"Trimestre 3\",CHAR(10),#REF!,CHAR(10),\"Trimestre 4\",CHAR(10),#REF!),\" \")","v":" "}]
[null,null,null,null,null,null,null,null,null,null,null,null,null,null,null,{"$f":"IFERROR(MAX(#REF!,#REF!,#REF!,#REF!),\" \")","v":" "},null,{"$f":"IFERROR(_xlfn.CONCAT(\"Trimestre 1\",CHAR(10),#REF!,CHAR(10),\"Trimestre 2\",CHAR(10),#REF!,CHAR(10),\"Trimestre 3\",CHAR(10),#REF!,CHAR(10),\"Trimestre 4\",CHAR(10),#REF!),\" \")","v":" "},{"$f":"IFERROR(_xlfn.CONCAT(\"Trimestre 1\",CHAR(10),#REF!,CHAR(10),\"Trimestre 2\",CHAR(10),#REF!,CHAR(10),\"Trimestre 3\",CHAR(10),#REF!,CHAR(10),\"Trimestre 4\",CHAR(10),#REF!),\" \")","v":" "}]
[null,null,null,null,null,null,null,null,null,null,null,null,null,null,null,{"$f":"IFERROR(MAX(#REF!,#REF!,#REF!,#REF!),\" \")","v":" "},null,{"$f":"IFERROR(_xlfn.CONCAT(\"Trimestre 1\",CHAR(10),#REF!,CHAR(10),\"Trimestre 2\",CHAR(10),#REF!,CHAR(10),\"Trimestre 3\",CHAR(10),#REF!,CHAR(10),\"Trimestre 4\",CHAR(10),#REF!),\" \")","v":" "},{"$f":"IFERROR(_xlfn.CONCAT(\"Trimestre 1\",CHAR(10),#REF!,CHAR(10),\"Trimestre 2\",CHAR(10),#REF!,CHAR(10),\"Trimestre 3\",CHAR(10),#REF!,CHAR(10),\"Trimestre 4\",CHAR(10),#REF!),\" \")","v":" "}]
[null,null,null,null,null,null,null,null,null,null,null,null,null,null,null,{"$f":"IFERROR(MAX(#REF!,#REF!,#REF!,#REF!),\" \")","v":" "},null,{"$f":"IFERROR(_xlfn.CONCAT(\"Trimestre 1\",CHAR(10),#REF!,CHAR(10),\"Trimestre 2\",CHAR(10),#REF!,CHAR(10),\"Trimestre 3\",CHAR(10),#REF!,CHAR(10),\"Trimestre 4\",CHAR(10),#REF!),\" \")","v":" "},{"$f":"IFERROR(_xlfn.CONCAT(\"Trimestre 1\",CHAR(10),#REF!,CHAR(10),\"Trimestre 2\",CHAR(10),#REF!,CHAR(10),\"Trimestre 3\",CHAR(10),#REF!,CHAR(10),\"Trimestre 4\",CHAR(10),#REF!),\" \")","v":" "}]
[null,null,null,null,null,null,null,null,null,null,null,null,null,null,null,{"$f":"IFERROR(MAX(#REF!,#REF!,#REF!,#REF!),\" \")","v":" "},"",{"$f":"IFERROR(_xlfn.CONCAT(\"Trimestre 1\",CHAR(10),#REF!,CHAR(10),\"Trimestre 2\",CHAR(10),#REF!,CHAR(10),\"Trimestre 3\",CHAR(10),#REF!,CHAR(10),\"Trimestre 4\",CHAR(10),#REF!),\" \")","v":" "},{"$f":"IFERROR(_xlfn.CONCAT(\"Trimestre 1\",CHAR(10),#REF!,CHAR(10),\"Trimestre 2\",CHAR(10),#REF!,CHAR(10),\"Trimestre 3\",CHAR(10),#REF!,CHAR(10),\"Trimestre 4\",CHAR(10),#REF!),\" \")","v":" "}]
[null,null,null,null,null,null,null,null,null,null,null,null,null,null,null,{"$f":"IFERROR(MAX(#REF!,#REF!,#REF!,#REF!),\" \")","v":" "},"",{"$f":"IFERROR(_xlfn.CONCAT(\"Trimestre 1\",CHAR(10),#REF!,CHAR(10),\"Trimestre 2\",CHAR(10),#REF!,CHAR(10),\"Trimestre 3\",CHAR(10),#REF!,CHAR(10),\"Trimestre 4\",CHAR(10),#REF!),\" \")","v":" "},{"$f":"IFERROR(_xlfn.CONCAT(\"Trimestre 1\",CHAR(10),#REF!,CHAR(10),\"Trimestre 2\",CHAR(10),#REF!,CHAR(10),\"Trimestre 3\",CHAR(10),#REF!,CHAR(10),\"Trimestre 4\",CHAR(10),#REF!),\" \")","v":" "}]
[null,null,"2. Integrar y hacer compatibles todos los aplicativos de transición con SIUGJ, para que la migración de los expedientes judiciales a dicha plataforma sea real y no suponga afectaciones en la prestación del servicio de justicia.",null,null,null,null,null,null,null,null,null,null,null,null,{"$f":"IFERROR(MAX(#REF!,#REF!,#REF!,#REF!),\" \")","v":" "},"",{"$f":"IFERROR(_xlfn.CONCAT(\"Trimestre 1\",CHAR(10),#REF!,CHAR(10),\"Trimestre 2\",CHAR(10),#REF!,CHAR(10),\"Trimestre 3\",CHAR(10),#REF!,CHAR(10),\"Trimestre 4\",CHAR(10),#REF!),\" \")","v":" "},{"$f":"IFERROR(_xlfn.CONCAT(\"Trimestre 1\",CHAR(10),#REF!,CHAR(10),\"Trimestre 2\",CHAR(10),#REF!,CHAR(10),\"Trimestre 3\",CHAR(10),#REF!,CHAR(10),\"Trimestre 4\",CHAR(10),#REF!),\" \")","v":" "}]
[null,null,null,null,null,null,null,null,null,null,null,null,null,null,null,{"$f":"IFERROR(MAX(#REF!,#REF!,#REF!,#REF!),\" \")","v":" "},"",{"$f":"IFERROR(_xlfn.CONCAT(\"Trimestre 1\",CHAR(10),#REF!,CHAR(10),\"Trimestre 2\",CHAR(10),#REF!,CHAR(10),\"Trimestre 3\",CHAR(10),#REF!,CHAR(10),\"Trimestre 4\",CHAR(10),#REF!),\" \")","v":" "},{"$f":"IFERROR(_xlfn.CONCAT(\"Trimestre 1\",CHAR(10),#REF!,CHAR(10),\"Trimestre 2\",CHAR(10),#REF!,CHAR(10),\"Trimestre 3\",CHAR(10),#REF!,CHAR(10),\"Trimestre 4\",CHAR(10),#REF!),\" \")","v":" "}]
[null,null,null,null,null,null,null,null,null,null,null,null,null,null,null,{"$f":"IFERROR(MAX(#REF!,#REF!,#REF!,#REF!),\" \")","v":" "},null,{"$f":"IFERROR(_xlfn.CONCAT(\"Trimestre 1\",CHAR(10),#REF!,CHAR(10),\"Trimestre 2\",CHAR(10),#REF!,CHAR(10),\"Trimestre 3\",CHAR(10),#REF!,CHAR(10),\"Trimestre 4\",CHAR(10),#REF!),\" \")","v":" "},{"$f":"IFERROR(_xlfn.CONCAT(\"Trimestre 1\",CHAR(10),#REF!,CHAR(10),\"Trimestre 2\",CHAR(10),#REF!,CHAR(10),\"Trimestre 3\",CHAR(10),#REF!,CHAR(10),\"Trimestre 4\",CHAR(10),#REF!),\" \")","v":" "}]
[null,null,null,null,null,null,null,null,null,null,null,null,null,null,null,{"$f":"IFERROR(MAX(#REF!,#REF!,#REF!,#REF!),\" \")","v":" "},null,{"$f":"IFERROR(_xlfn.CONCAT(\"Trimestre 1\",CHAR(10),#REF!,CHAR(10),\"Trimestre 2\",CHAR(10),#REF!,CHAR(10),\"Trimestre 3\",CHAR(10),#REF!,CHAR(10),\"Trimestre 4\",CHAR(10),#REF!),\" \")","v":" "},{"$f":"IFERROR(_xlfn.CONCAT(\"Trimestre 1\",CHAR(10),#REF!,CHAR(10),\"Trimestre 2\",CHAR(10),#REF!,CHAR(10),\"Trimestre 3\",CHAR(10),#REF!,CHAR(10),\"Trimestre 4\",CHAR(10),#REF!),\" \")","v":" "}]
[null,null,null,null,null,null,null,null,null,null,null,null,null,null,null,{"$f":"IFERROR(MAX(#REF!,#REF!,#REF!,#REF!),\" \")","v":" "},null,{"$f":"IFERROR(_xlfn.CONCAT(\"Trimestre 1\",CHAR(10),#REF!,CHAR(10),\"Trimestre 2\",CHAR(10),#REF!,CHAR(10),\"Trimestre 3\",CHAR(10),#REF!,CHAR(10),\"Trimestre 4\",CHAR(10),#REF!),\" \")","v":" "},{"$f":"IFERROR(_xlfn.CONCAT(\"Trimestre 1\",CHAR(10),#REF!,CHAR(10),\"Trimestre 2\",CHAR(10),#REF!,CHAR(10),\"Trimestre 3\",CHAR(10),#REF!,CHAR(10),\"Trimestre 4\",CHAR(10),#REF!),\" \")","v":" "}]
[null,null,null,null,null,null,null,null,null,null,null,null,null,null,null,{"$f":"IFERROR(MAX(#REF!,#REF!,#REF!,#REF!),\" \")","v":" "},null,{"$f":"IFERROR(_xlfn.CONCAT(\"Trimestre 1\",CHAR(10),#REF!,CHAR(10),\"Trimestre 2\",CHAR(10),#REF!,CHAR(10),\"Trimestre 3\",CHAR(10),#REF!,CHAR(10),\"Trimestre 4\",CHAR(10),#REF!),\" \")","v":" "},{"$f":"IFERROR(_xlfn.CONCAT(\"Trimestre 1\",CHAR(10),#REF!,CHAR(10),\"Trimestre 2\",CHAR(10),#REF!,CHAR(10),\"Trimestre 3\",CHAR(10),#REF!,CHAR(10),\"Trimestre 4\",CHAR(10),#REF!),\" \")","v":" "}]
[null,null,null,null,null,null,null,null,null,null,null,null,null,null,null,{"$f":"IFERROR(MAX(#REF!,#REF!,#REF!,#REF!),\" \")","v":" "},null,{"$f":"IFERROR(_xlfn.CONCAT(\"Trimestre 1\",CHAR(10),#REF!,CHAR(10),\"Trimestre 2\",CHAR(10),#REF!,CHAR(10),\"Trimestre 3\",CHAR(10),#REF!,CHAR(10),\"Trimestre 4\",CHAR(10),#REF!),\" \")","v":" "},{"$f":"IFERROR(_xlfn.CONCAT(\"Trimestre 1\",CHAR(10),#REF!,CHAR(10),\"Trimestre 2\",CHAR(10),#REF!,CHAR(10),\"Trimestre 3\",CHAR(10),#REF!,CHAR(10),\"Trimestre 4\",CHAR(10),#REF!),\" \")","v":" "}]
[null,null,null,null,null,null,null,null,null,null,null,null,null,null,null,{"$f":"IFERROR(MAX(#REF!,#REF!,#REF!,#REF!),\" \")","v":" "},{"$f":"IFERROR(P73/J73,\"\")","v":""},{"$f":"IFERROR(_xlfn.CONCAT(\"Trimestre 1\",CHAR(10),#REF!,CHAR(10),\"Trimestre 2\",CHAR(10),#REF!,CHAR(10),\"Trimestre 3\",CHAR(10),#REF!,CHAR(10),\"Trimestre 4\",CHAR(10),#REF!),\" \")","v":" "},{"$f":"IFERROR(_xlfn.CONCAT(\"Trimestre 1\",CHAR(10),#REF!,CHAR(10),\"Trimestre 2\",CHAR(10),#REF!,CHAR(10),\"Trimestre 3\",CHAR(10),#REF!,CHAR(10),\"Trimestre 4\",CHAR(10),#REF!),\" \")","v":" "}]
[null,null,null,null,null,null,null,null,null,null,null,null,null,null,null,{"$f":"IFERROR(MAX(#REF!,#REF!,#REF!,#REF!),\" \")","v":" "},"",{"$f":"IFERROR(_xlfn.CONCAT(\"Trimestre 1\",CHAR(10),#REF!,CHAR(10),\"Trimestre 2\",CHAR(10),#REF!,CHAR(10),\"Trimestre 3\",CHAR(10),#REF!,CHAR(10),\"Trimestre 4\",CHAR(10),#REF!),\" \")","v":" "},{"$f":"IFERROR(_xlfn.CONCAT(\"Trimestre 1\",CHAR(10),#REF!,CHAR(10),\"Trimestre 2\",CHAR(10),#REF!,CHAR(10),\"Trimestre 3\",CHAR(10),#REF!,CHAR(10),\"Trimestre 4\",CHAR(10),#REF!),\" \")","v":" "}]
[null,null,null,null,null,null,null,null,null,null,null,null,null,null,null,{"$f":"IFERROR(MAX(#REF!,#REF!,#REF!,#REF!),\" \")","v":" "},"",{"$f":"IFERROR(_xlfn.CONCAT(\"Trimestre 1\",CHAR(10),#REF!,CHAR(10),\"Trimestre 2\",CHAR(10),#REF!,CHAR(10),\"Trimestre 3\",CHAR(10),#REF!,CHAR(10),\"Trimestre 4\",CHAR(10),#REF!),\" \")","v":" "},{"$f":"IFERROR(_xlfn.CONCAT(\"Trimestre 1\",CHAR(10),#REF!,CHAR(10),\"Trimestre 2\",CHAR(10),#REF!,CHAR(10),\"Trimestre 3\",CHAR(10),#REF!,CHAR(10),\"Trimestre 4\",CHAR(10),#REF!),\" \")","v":" "}]
[null,null,"3. Fortalecer las capacidades institucionales, adecuar el modelo operativo y de servicio, bajo un enfoque de Arquitectura Empresarial y de fortalecimiento del acceso a la justicia.",null,null,null,null,null,null,null,null,null,null,null,null,{"$f":"IFERROR(MAX(#REF!,#REF!,#REF!,#REF!),\" \")","v":" "},"",{"$f":"IFERROR(_xlfn.CONCAT(\"Trimestre 1\",CHAR(10),#REF!,CHAR(10),\"Trimestre 2\",CHAR(10),#REF!,CHAR(10),\"Trimestre 3\",CHAR(10),#REF!,CHAR(10),\"Trimestre 4\",CHAR(10),#REF!),\" \")","v":" "},{"$f":"IFERROR(_xlfn.CONCAT(\"Trimestre 1\",CHAR(10),#REF!,CHAR(10),\"Trimestre 2\",CHAR(10),#REF!,CHAR(10),\"Trimestre 3\",CHAR(10),#REF!,CHAR(10),\"Trimestre 4\",CHAR(10),#REF!),\" \")","v":" "}]
[null,null,null,null,null,null,null,null,null,null,null,null,null,null,null,{"$f":"IFERROR(MAX(#REF!,#REF!,#REF!,#REF!),\" \")","v":" "},"",{"$f":"IFERROR(_xlfn.CONCAT(\"Trimestre 1\",CHAR(10),#REF!,CHAR(10),\"Trimestre 2\",CHAR(10),#REF!,CHAR(10),\"Trimestre 3\",CHAR(10),#REF!,CHAR(10),\"Trimestre 4\",CHAR(10),#REF!),\" \")","v":" "},{"$f":"IFERROR(_xlfn.CONCAT(\"Trimestre 1\",CHAR(10),#REF!,CHAR(10),\"Trimestre 2\",CHAR(10),#REF!,CHAR(10),\"Trimestre 3\",CHAR(10),#REF!,CHAR(10),\"Trimestre 4\",CHAR(10),#REF!),\" \")","v":" "}]
[null,null,null,null,null,null,null,null,null,null,null,null,null,null,null,{"$f":"IFERROR(MAX(#REF!,#REF!,#REF!,#REF!),\" \")","v":" "},null,{"$f":"IFERROR(_xlfn.CONCAT(\"Trimestre 1\",CHAR(10),#REF!,CHAR(10),\"Trimestre 2\",CHAR(10),#REF!,CHAR(10),\"Trimestre 3\",CHAR(10),#REF!,CHAR(10),\"Trimestre 4\",CHAR(10),#REF!),\" \")","v":" "},{"$f":"IFERROR(_xlfn.CONCAT(\"Trimestre 1\",CHAR(10),#REF!,CHAR(10),\"Trimestre 2\",CHAR(10),#REF!,CHAR(10),\"Trimestre 3\",CHAR(10),#REF!,CHAR(10),\"Trimestre 4\",CHAR(10),#REF!),\" \")","v":" "}]
[null,null,null,null,null,null,null,null,null,null,null,null,null,null,null,{"$f":"IFERROR(MAX(#REF!,#REF!,#REF!,#REF!),\" \")","v":" "},null,{"$f":"IFERROR(_xlfn.CONCAT(\"Trimestre 1\",CHAR(10),#REF!,CHAR(10),\"Trimestre 2\",CHAR(10),#REF!,CHAR(10),\"Trimestre 3\",CHAR(10),#REF!,CHAR(10),\"Trimestre 4\",CHAR(10),#REF!),\" \")","v":" "},{"$f":"IFERROR(_xlfn.CONCAT(\"Trimestre 1\",CHAR(10),#REF!,CHAR(10),\"Trimestre 2\",CHAR(10),#REF!,CHAR(10),\"Trimestre 3\",CHAR(10),#REF!,CHAR(10),\"Trimestre 4\",CHAR(10),#REF!),\" \")","v":" "}]
[null,null,null,null,null,null,null,null,null,null,null,null,null,null,null,{"$f":"IFERROR(MAX(#REF!,#REF!,#REF!,#REF!),\" \")","v":" "},null,{"$f":"IFERROR(_xlfn.CONCAT(\"Trimestre 1\",CHAR(10),#REF!,CHAR(10),\"Trimestre 2\",CHAR(10),#REF!,CHAR(10),\"Trimestre 3\",CHAR(10),#REF!,CHAR(10),\"Trimestre 4\",CHAR(10),#REF!),\" \")","v":" "},{"$f":"IFERROR(_xlfn.CONCAT(\"Trimestre 1\",CHAR(10),#REF!,CHAR(10),\"Trimestre 2\",CHAR(10),#REF!,CHAR(10),\"Trimestre 3\",CHAR(10),#REF!,CHAR(10),\"Trimestre 4\",CHAR(10),#REF!),\" \")","v":" "}]
[null,null,null,null,null,null,null,null,null,null,null,null,null,null,null,{"$f":"IFERROR(MAX(#REF!,#REF!,#REF!,#REF!),\" \")","v":" "},null,{"$f":"IFERROR(_xlfn.CONCAT(\"Trimestre 1\",CHAR(10),#REF!,CHAR(10),\"Trimestre 2\",CHAR(10),#REF!,CHAR(10),\"Trimestre 3\",CHAR(10),#REF!,CHAR(10),\"Trimestre 4\",CHAR(10),#REF!),\" \")","v":" "},{"$f":"IFERROR(_xlfn.CONCAT(\"Trimestre 1\",CHAR(10),#REF!,CHAR(10),\"Trimestre 2\",CHAR(10),#REF!,CHAR(10),\"Trimestre 3\",CHAR(10),#REF!,CHAR(10),\"Trimestre 4\",CHAR(10),#REF!),\" \")","v":" "}]
[null,null,null,null,null,null,null,null,null,null,null,null,null,null,null,{"$f":"IFERROR(MAX(#REF!,#REF!,#REF!,#REF!),\" \")","v":" "},null,{"$f":"IFERROR(_xlfn.CONCAT(\"Trimestre 1\",CHAR(10),#REF!,CHAR(10),\"Trimestre 2\",CHAR(10),#REF!,CHAR(10),\"Trimestre 3\",CHAR(10),#REF!,CHAR(10),\"Trimestre 4\",CHAR(10),#REF!),\" \")","v":" "},{"$f":"IFERROR(_xlfn.CONCAT(\"Trimestre 1\",CHAR(10),#REF!,CHAR(10),\"Trimestre 2\",CHAR(10),#REF!,CHAR(10),\"Trimestre 3\",CHAR(10),#REF!,CHAR(10),\"Trimestre 4\",CHAR(10),#REF!),\" \")","v":" "}]
[null,null,null,null,null,null,null,null,null,null,null,null,null,null,null,{"$f":"IFERROR(MAX(#REF!,#REF!,#REF!,#REF!),\" \")","v":" "},"",{"$f":"IFERROR(_xlfn.CONCAT(\"Trimestre 1\",CHAR(10),#REF!,CHAR(10),\"Trimestre 2\",CHAR(10),#REF!,CHAR(10),\"Trimestre 3\",CHAR(10),#REF!,CHAR(10),\"Trimestre 4\",CHAR(10),#REF!),\" \")","v":" "},{"$f":"IFERROR(_xlfn.CONCAT(\"Trimestre 1\",CHAR(10),#REF!,CHAR(10),\"Trimestre 2\",CHAR(10),#REF!,CHAR(10),\"Trimestre 3\",CHAR(10),#REF!,CHAR(10),\"Trimestre 4\",CHAR(10),#REF!),\" \")","v":" "}]
[null,null,null,null,null,null,null,null,null,null,null,null,null,null,null,{"$f":"IFERROR(MAX(#REF!,#REF!,#REF!,#REF!),\" \")","v":" "},"",{"$f":"IFERROR(_xlfn.CONCAT(\"Trimestre 1\",CHAR(10),#REF!,CHAR(10),\"Trimestre 2\",CHAR(10),#REF!,CHAR(10),\"Trimestre 3\",CHAR(10),#REF!,CHAR(10),\"Trimestre 4\",CHAR(10),#REF!),\" \")","v":" "},{"$f":"IFERROR(_xlfn.CONCAT(\"Trimestre 1\",CHAR(10),#REF!,CHAR(10),\"Trimestre 2\",CHAR(10),#REF!,CHAR(10),\"Trimestre 3\",CHAR(10),#REF!,CHAR(10),\"Trimestre 4\",CHAR(10),#REF!),\" \")","v":" "}]
[null,null,null,null,null,null,null,null,null,null,null,null,null,null,null,{"$f":"IFERROR(MAX(#REF!,#REF!,#REF!,#REF!),\" \")","v":" "},"",{"$f":"IFERROR(_xlfn.CONCAT(\"Trimestre 1\",CHAR(10),#REF!,CHAR(10),\"Trimestre 2\",CHAR(10),#REF!,CHAR(10),\"Trimestre 3\",CHAR(10),#REF!,CHAR(10),\"Trimestre 4\",CHAR(10),#REF!),\" \")","v":" "},{"$f":"IFERROR(_xlfn.CONCAT(\"Trimestre 1\",CHAR(10),#REF!,CHAR(10),\"Trimestre 2\",CHAR(10),#REF!,CHAR(10),\"Trimestre 3\",CHAR(10),#REF!,CHAR(10),\"Trimestre 4\",CHAR(10),#REF!),\" \")","v":" "}]
[null,null,"4.Consolidar la cultura y apropiación de la transformación digital en los servidores y usuarios de los servicios de la Rama Judicial y reducir brechas de acceso y conocimiento, incluyendo la oferta efectiva de información sobre el uso de las nuevas herramientas virtuales implementadas en las diferentes jurisdicciones, con especial énfasis en las zonas del país donde es evidente la brecha digital.",null,"Apoyo","Admin - Gestión Tecnológica","Seccional","Recibir y gestionar los requerimientos informáticos de los usuarios","Entregable",null,null,"Grupo de Mantenimiento y Soporte Tecnológico","Listado de requerimientos","2024-01-01","2024-12-31",{"$f":"IFERROR(MAX(#REF!,#REF!,#REF!,#REF!),\" \")","v":" "},"",{"$f":"IFERROR(_xlfn.CONCAT(\"Trimestre 1\",CHAR(10),#REF!,CHAR(10),\"Trimestre 2\",CHAR(10),#REF!,CHAR(10),\"Trimestre 3\",CHAR(10),#REF!,CHAR(10),\"Trimestre 4\",CHAR(10),#REF!),\" \")","v":" "},{"$f":"IFERROR(_xlfn.CONCAT(\"Trimestre 1\",CHAR(10),#REF!,CHAR(10),\"Trimestre 2\",CHAR(10),#REF!,CHAR(10),\"Trimestre 3\",CHAR(10),#REF!,CHAR(10),\"Trimestre 4\",CHAR(10),#REF!),\" \")","v":" "}]
[null,null,null,null,"Apoyo","Admin - Gestión Tecnológica","Seccional","Gestión de apoyo en proceso de creación  y habilitación de correo electrónico  para la recepción de trámites de justicia de cualquier jurisdicción.  ","Entregable",null,null,"Grupo de Mantenimiento y Soporte Tecnológico","Listado creacion de correos y de solicitudes de soporte","2024-01-01","2024-12-31",{"$f":"IFERROR(MAX(#REF!,#REF!,#REF!,#REF!),\" \")","v":" "},"",{"$f":"IFERROR(_xlfn.CONCAT(\"Trimestre 1\",CHAR(10),#REF!,CHAR(10),\"Trimestre 2\",CHAR(10),#REF!,CHAR(10),\"Trimestre 3\",CHAR(10),#REF!,CHAR(10),\"Trimestre 4\",CHAR(10),#REF!),\" \")","v":" "},{"$f":"IFERROR(_xlfn.CONCAT(\"Trimestre 1\",CHAR(10),#REF!,CHAR(10),\"Trimestre 2\",CHAR(10),#REF!,CHAR(10),\"Trimestre 3\",CHAR(10),#REF!,CHAR(10),\"Trimestre 4\",CHAR(10),#REF!),\" \")","v":" "}]
[null,null,null,null,"Apoyo","Admin - Gestión Tecnológica","Seccional","Asegurar el cumplimiento de la politica de seguridad de la información (copias de back up y reportes de incidentes)","Entregable",null,null,"Grupo de Mantenimiento y Soporte Tecnológico","Reporte de incidentes/copias de seguridad","2024-01-01","2024-12-31",{"$f":"IFERROR(MAX(#REF!,#REF!,#REF!,#REF!),\" \")","v":" "},null,{"$f":"IFERROR(_xlfn.CONCAT(\"Trimestre 1\",CHAR(10),#REF!,CHAR(10),\"Trimestre 2\",CHAR(10),#REF!,CHAR(10),\"Trimestre 3\",CHAR(10),#REF!,CHAR(10),\"Trimestre 4\",CHAR(10),#REF!),\" \")","v":" "},{"$f":"IFERROR(_xlfn.CONCAT(\"Trimestre 1\",CHAR(10),#REF!,CHAR(10),\"Trimestre 2\",CHAR(10),#REF!,CHAR(10),\"Trimestre 3\",CHAR(10),#REF!,CHAR(10),\"Trimestre 4\",CHAR(10),#REF!),\" \")","v":" "}]
[null,null,null,null,"Apoyo","Admin - Gestión Financiera y Presupuestal","Seccional","Brindar información sobre la apropiación disponible vigente para la Cobertura del Plan de Necesidades.","Entregable",null,null,"Área Financiera","Informes de ejecución Presupuestal","2024-01-01","2024-12-31",{"$f":"IFERROR(MAX(#REF!,#REF!,#REF!,#REF!),\" \")","v":" "},null,{"$f":"IFERROR(_xlfn.CONCAT(\"Trimestre 1\",CHAR(10),#REF!,CHAR(10),\"Trimestre 2\",CHAR(10),#REF!,CHAR(10),\"Trimestre 3\",CHAR(10),#REF!,CHAR(10),\"Trimestre 4\",CHAR(10),#REF!),\" \")","v":" "},{"$f":"IFERROR(_xlfn.CONCAT(\"Trimestre 1\",CHAR(10),#REF!,CHAR(10),\"Trimestre 2\",CHAR(10),#REF!,CHAR(10),\"Trimestre 3\",CHAR(10),#REF!,CHAR(10),\"Trimestre 4\",CHAR(10),#REF!),\" \")","v":" "}]
[null,null,null,null,"Apoyo","Admin - Gestión Financiera y Presupuestal","Seccional","Realizar la solicitud del PAC mensual para cubrir los gastos de personal, generales, transferencias e inversión conforme a las necesidades manifestadas por las diferentes áreas.","Entregable",null,null,"Área Financiera","Formatos de solicitud grupo PAC","2024-01-01","2024-12-31",{"$f":"IFERROR(MAX(#REF!,#REF!,#REF!,#REF!),\" \")","v":" "},null,{"$f":"IFERROR(_xlfn.CONCAT(\"Trimestre 1\",CHAR(10),#REF!,CHAR(10),\"Trimestre 2\",CHAR(10),#REF!,CHAR(10),\"Trimestre 3\",CHAR(10),#REF!,CHAR(10),\"Trimestre 4\",CHAR(10),#REF!),\" \")","v":" "},{"$f":"IFERROR(_xlfn.CONCAT(\"Trimestre 1\",CHAR(10),#REF!,CHAR(10),\"Trimestre 2\",CHAR(10),#REF!,CHAR(10),\"Trimestre 3\",CHAR(10),#REF!,CHAR(10),\"Trimestre 4\",CHAR(10),#REF!),\" \")","v":" "}]
[null,null,null,null,"Apoyo","Admin - Gestión Financiera y Presupuestal","Seccional","Brindar información sobre la ejecución presupuestal en gastos de funcionamiento y de inversión","Entregable",null,null,"Área Financiera","Informes de ejecución Presupuestal","2024-01-01","2024-12-31",{"$f":"IFERROR(MAX(#REF!,#REF!,#REF!,#REF!),\" \")","v":" "},null,{"$f":"IFERROR(_xlfn.CONCAT(\"Trimestre 1\",CHAR(10),#REF!,CHAR(10),\"Trimestre 2\",CHAR(10),#REF!,CHAR(10),\"Trimestre 3\",CHAR(10),#REF!,CHAR(10),\"Trimestre 4\",CHAR(10),#REF!),\" \")","v":" "},{"$f":"IFERROR(_xlfn.CONCAT(\"Trimestre 1\",CHAR(10),#REF!,CHAR(10),\"Trimestre 2\",CHAR(10),#REF!,CHAR(10),\"Trimestre 3\",CHAR(10),#REF!,CHAR(10),\"Trimestre 4\",CHAR(10),#REF!),\" \")","v":" "}]
[null,null,null,null,"Apoyo","Admin - Gestión Financiera y Presupuestal","Seccional","Realizar seguimiento y control de la cadena presupuestal en las diferentes etapas: Certificado de Disponibilidad Presupuestal -CDP-, Registro Preesupuestal -RP-, Obligaciones, Ordenes de Pago -OP-","Entregable",null,null,"Área Financiera","Listado de consecutivos","2024-01-01","2024-12-31",{"$f":"IFERROR(MAX(#REF!,#REF!,#REF!,#REF!),\" \")","v":" "},null,{"$f":"IFERROR(_xlfn.CONCAT(\"Trimestre 1\",CHAR(10),#REF!,CHAR(10),\"Trimestre 2\",CHAR(10),#REF!,CHAR(10),\"Trimestre 3\",CHAR(10),#REF!,CHAR(10),\"Trimestre 4\",CHAR(10),#REF!),\" \")","v":" "},{"$f":"IFERROR(_xlfn.CONCAT(\"Trimestre 1\",CHAR(10),#REF!,CHAR(10),\"Trimestre 2\",CHAR(10),#REF!,CHAR(10),\"Trimestre 3\",CHAR(10),#REF!,CHAR(10),\"Trimestre 4\",CHAR(10),#REF!),\" \")","v":" "}]
[null,null,null,null,"Apoyo","Admin - Gestión Financiera y Presupuestal","Seccional","Realizar  solicitudes de ajustes presupuestales","Entregable",null,null,"Área Financiera","oficios","2024-01-01","2024-12-31",{"$f":"IFERROR(MAX(#REF!,#REF!,#REF!,#REF!),\" \")","v":" "},"",{"$f":"IFERROR(_xlfn.CONCAT(\"Trimestre 1\",CHAR(10),#REF!,CHAR(10),\"Trimestre 2\",CHAR(10),#REF!,CHAR(10),\"Trimestre 3\",CHAR(10),#REF!,CHAR(10),\"Trimestre 4\",CHAR(10),#REF!),\" \")","v":" "},{"$f":"IFERROR(_xlfn.CONCAT(\"Trimestre 1\",CHAR(10),#REF!,CHAR(10),\"Trimestre 2\",CHAR(10),#REF!,CHAR(10),\"Trimestre 3\",CHAR(10),#REF!,CHAR(10),\"Trimestre 4\",CHAR(10),#REF!),\" \")","v":" "}]
[null,null,null,null,"Apoyo","Admin - Gestión Financiera y Presupuestal","Seccional","Seguimiento  a la  elaboración y presentación estados financieros","Entregable",null,null,"Área Financiera","informes ","2024-01-01","2024-12-31",{"$f":"IFERROR(MAX(#REF!,#REF!,#REF!,#REF!),\" \")","v":" "},"",{"$f":"IFERROR(_xlfn.CONCAT(\"Trimestre 1\",CHAR(10),#REF!,CHAR(10),\"Trimestre 2\",CHAR(10),#REF!,CHAR(10),\"Trimestre 3\",CHAR(10),#REF!,CHAR(10),\"Trimestre 4\",CHAR(10),#REF!),\" \")","v":" "},{"$f":"IFERROR(_xlfn.CONCAT(\"Trimestre 1\",CHAR(10),#REF!,CHAR(10),\"Trimestre 2\",CHAR(10),#REF!,CHAR(10),\"Trimestre 3\",CHAR(10),#REF!,CHAR(10),\"Trimestre 4\",CHAR(10),#REF!),\" \")","v":" "}]
[null,null,null,null,null,null,null,null,null,null,null,null,null,null,null,{"$f":"IFERROR(MAX(#REF!,#REF!,#REF!,#REF!),\" \")","v":" "},"",{"$f":"IFERROR(_xlfn.CONCAT(\"Trimestre 1\",CHAR(10),#REF!,CHAR(10),\"Trimestre 2\",CHAR(10),#REF!,CHAR(10),\"Trimestre 3\",CHAR(10),#REF!,CHAR(10),\"Trimestre 4\",CHAR(10),#REF!),\" \")","v":" "},{"$f":"IFERROR(_xlfn.CONCAT(\"Trimestre 1\",CHAR(10),#REF!,CHAR(10),\"Trimestre 2\",CHAR(10),#REF!,CHAR(10),\"Trimestre 3\",CHAR(10),#REF!,CHAR(10),\"Trimestre 4\",CHAR(10),#REF!),\" \")","v":" "}]
[null,null,"5.Consolidar la infraestructura y los recursos necesarios para la implementación exitosa de la transformación digital, incluyendo la disposición de internet de calidad en el 100% de las sedes en la Rama Judicial y modernizar los servicios tecnológicos de soporte. ",null,null,null,null,null,null,null,null,null,null,null,null,{"$f":"IFERROR(MAX(#REF!,#REF!,#REF!,#REF!),\" \")","v":" "},"",{"$f":"IFERROR(_xlfn.CONCAT(\"Trimestre 1\",CHAR(10),#REF!,CHAR(10),\"Trimestre 2\",CHAR(10),#REF!,CHAR(10),\"Trimestre 3\",CHAR(10),#REF!,CHAR(10),\"Trimestre 4\",CHAR(10),#REF!),\" \")","v":" "},{"$f":"IFERROR(_xlfn.CONCAT(\"Trimestre 1\",CHAR(10),#REF!,CHAR(10),\"Trimestre 2\",CHAR(10),#REF!,CHAR(10),\"Trimestre 3\",CHAR(10),#REF!,CHAR(10),\"Trimestre 4\",CHAR(10),#REF!),\" \")","v":" "}]
[null,null,null,null,null,null,null,null,null,null,null,null,null,null,null,{"$f":"IFERROR(MAX(#REF!,#REF!,#REF!,#REF!),\" \")","v":" "},"",{"$f":"IFERROR(_xlfn.CONCAT(\"Trimestre 1\",CHAR(10),#REF!,CHAR(10),\"Trimestre 2\",CHAR(10),#REF!,CHAR(10),\"Trimestre 3\",CHAR(10),#REF!,CHAR(10),\"Trimestre 4\",CHAR(10),#REF!),\" \")","v":" "},{"$f":"IFERROR(_xlfn.CONCAT(\"Trimestre 1\",CHAR(10),#REF!,CHAR(10),\"Trimestre 2\",CHAR(10),#REF!,CHAR(10),\"Trimestre 3\",CHAR(10),#REF!,CHAR(10),\"Trimestre 4\",CHAR(10),#REF!),\" \")","v":" "}]
[null,null,null,null,null,null,null,null,null,null,null,null,null,null,null,{"$f":"IFERROR(MAX(#REF!,#REF!,#REF!,#REF!),\" \")","v":" "},null,{"$f":"IFERROR(_xlfn.CONCAT(\"Trimestre 1\",CHAR(10),#REF!,CHAR(10),\"Trimestre 2\",CHAR(10),#REF!,CHAR(10),\"Trimestre 3\",CHAR(10),#REF!,CHAR(10),\"Trimestre 4\",CHAR(10),#REF!),\" \")","v":" "},{"$f":"IFERROR(_xlfn.CONCAT(\"Trimestre 1\",CHAR(10),#REF!,CHAR(10),\"Trimestre 2\",CHAR(10),#REF!,CHAR(10),\"Trimestre 3\",CHAR(10),#REF!,CHAR(10),\"Trimestre 4\",CHAR(10),#REF!),\" \")","v":" "}]
[null,null,null,null,null,null,null,null,null,null,null,null,null,null,null,{"$f":"IFERROR(MAX(#REF!,#REF!,#REF!,#REF!),\" \")","v":" "},null,{"$f":"IFERROR(_xlfn.CONCAT(\"Trimestre 1\",CHAR(10),#REF!,CHAR(10),\"Trimestre 2\",CHAR(10),#REF!,CHAR(10),\"Trimestre 3\",CHAR(10),#REF!,CHAR(10),\"Trimestre 4\",CHAR(10),#REF!),\" \")","v":" "},{"$f":"IFERROR(_xlfn.CONCAT(\"Trimestre 1\",CHAR(10),#REF!,CHAR(10),\"Trimestre 2\",CHAR(10),#REF!,CHAR(10),\"Trimestre 3\",CHAR(10),#REF!,CHAR(10),\"Trimestre 4\",CHAR(10),#REF!),\" \")","v":" "}]
[null,null,null,null,null,null,null,null,null,null,null,null,null,null,null,{"$f":"IFERROR(MAX(#REF!,#REF!,#REF!,#REF!),\" \")","v":" "},null,{"$f":"IFERROR(_xlfn.CONCAT(\"Trimestre 1\",CHAR(10),#REF!,CHAR(10),\"Trimestre 2\",CHAR(10),#REF!,CHAR(10),\"Trimestre 3\",CHAR(10),#REF!,CHAR(10),\"Trimestre 4\",CHAR(10),#REF!),\" \")","v":" "},{"$f":"IFERROR(_xlfn.CONCAT(\"Trimestre 1\",CHAR(10),#REF!,CHAR(10),\"Trimestre 2\",CHAR(10),#REF!,CHAR(10),\"Trimestre 3\",CHAR(10),#REF!,CHAR(10),\"Trimestre 4\",CHAR(10),#REF!),\" \")","v":" "}]
[null,null,null,null,null,null,null,null,null,null,null,null,null,null,null,{"$f":"IFERROR(MAX(#REF!,#REF!,#REF!,#REF!),\" \")","v":" "},null,{"$f":"IFERROR(_xlfn.CONCAT(\"Trimestre 1\",CHAR(10),#REF!,CHAR(10),\"Trimestre 2\",CHAR(10),#REF!,CHAR(10),\"Trimestre 3\",CHAR(10),#REF!,CHAR(10),\"Trimestre 4\",CHAR(10),#REF!),\" \")","v":" "},{"$f":"IFERROR(_xlfn.CONCAT(\"Trimestre 1\",CHAR(10),#REF!,CHAR(10),\"Trimestre 2\",CHAR(10),#REF!,CHAR(10),\"Trimestre 3\",CHAR(10),#REF!,CHAR(10),\"Trimestre 4\",CHAR(10),#REF!),\" \")","v":" "}]
[null,null,null,null,null,null,null,null,null,null,null,null,null,null,null,{"$f":"IFERROR(MAX(#REF!,#REF!,#REF!,#REF!),\" \")","v":" "},null,{"$f":"IFERROR(_xlfn.CONCAT(\"Trimestre 1\",CHAR(10),#REF!,CHAR(10),\"Trimestre 2\",CHAR(10),#REF!,CHAR(10),\"Trimestre 3\",CHAR(10),#REF!,CHAR(10),\"Trimestre 4\",CHAR(10),#REF!),\" \")","v":" "},{"$f":"IFERROR(_xlfn.CONCAT(\"Trimestre 1\",CHAR(10),#REF!,CHAR(10),\"Trimestre 2\",CHAR(10),#REF!,CHAR(10),\"Trimestre 3\",CHAR(10),#REF!,CHAR(10),\"Trimestre 4\",CHAR(10),#REF!),\" \")","v":" "}]
[null,null,null,null,null,null,null,null,null,null,null,null,null,null,null,{"$f":"IFERROR(MAX(#REF!,#REF!,#REF!,#REF!),\" \")","v":" "},"",{"$f":"IFERROR(_xlfn.CONCAT(\"Trimestre 1\",CHAR(10),#REF!,CHAR(10),\"Trimestre 2\",CHAR(10),#REF!,CHAR(10),\"Trimestre 3\",CHAR(10),#REF!,CHAR(10),\"Trimestre 4\",CHAR(10),#REF!),\" \")","v":" "},{"$f":"IFERROR(_xlfn.CONCAT(\"Trimestre 1\",CHAR(10),#REF!,CHAR(10),\"Trimestre 2\",CHAR(10),#REF!,CHAR(10),\"Trimestre 3\",CHAR(10),#REF!,CHAR(10),\"Trimestre 4\",CHAR(10),#REF!),\" \")","v":" "}]
[null,null,null,null,null,null,null,null,null,null,null,null,null,null,null,{"$f":"IFERROR(MAX(#REF!,#REF!,#REF!,#REF!),\" \")","v":" "},"",{"$f":"IFERROR(_xlfn.CONCAT(\"Trimestre 1\",CHAR(10),#REF!,CHAR(10),\"Trimestre 2\",CHAR(10),#REF!,CHAR(10),\"Trimestre 3\",CHAR(10),#REF!,CHAR(10),\"Trimestre 4\",CHAR(10),#REF!),\" \")","v":" "},{"$f":"IFERROR(_xlfn.CONCAT(\"Trimestre 1\",CHAR(10),#REF!,CHAR(10),\"Trimestre 2\",CHAR(10),#REF!,CHAR(10),\"Trimestre 3\",CHAR(10),#REF!,CHAR(10),\"Trimestre 4\",CHAR(10),#REF!),\" \")","v":" "}]
[null,null,null,null,null,null,null,null,null,null,null,null,null,null,null,{"$f":"IFERROR(MAX(#REF!,#REF!,#REF!,#REF!),\" \")","v":" "},"",{"$f":"IFERROR(_xlfn.CONCAT(\"Trimestre 1\",CHAR(10),#REF!,CHAR(10),\"Trimestre 2\",CHAR(10),#REF!,CHAR(10),\"Trimestre 3\",CHAR(10),#REF!,CHAR(10),\"Trimestre 4\",CHAR(10),#REF!),\" \")","v":" "},{"$f":"IFERROR(_xlfn.CONCAT(\"Trimestre 1\",CHAR(10),#REF!,CHAR(10),\"Trimestre 2\",CHAR(10),#REF!,CHAR(10),\"Trimestre 3\",CHAR(10),#REF!,CHAR(10),\"Trimestre 4\",CHAR(10),#REF!),\" \")","v":" "}]
[null,null,"6.Integrar y optimizar los servicios administrativos de la Rama Judicial bajo un enfoque de transformación digital e innovación incluyendo los componentes financiero, administrativo, talento humano, entre otros",null,"Apoyo","Admin - Gestión Humana","Seccional","Realizar el Registro de novedades de personal en el aplicativo nómina (asuntos laborales)","Entregable",null,null,"Área de Talento Humano/Grupo Asuntos Laborales","Listado de novedades","2024-01-01","2024-12-31",{"$f":"IFERROR(MAX(#REF!,#REF!,#REF!,#REF!),\" \")","v":" "},"",{"$f":"IFERROR(_xlfn.CONCAT(\"Trimestre 1\",CHAR(10),#REF!,CHAR(10),\"Trimestre 2\",CHAR(10),#REF!,CHAR(10),\"Trimestre 3\",CHAR(10),#REF!,CHAR(10),\"Trimestre 4\",CHAR(10),#REF!),\" \")","v":" "},{"$f":"IFERROR(_xlfn.CONCAT(\"Trimestre 1\",CHAR(10),#REF!,CHAR(10),\"Trimestre 2\",CHAR(10),#REF!,CHAR(10),\"Trimestre 3\",CHAR(10),#REF!,CHAR(10),\"Trimestre 4\",CHAR(10),#REF!),\" \")","v":" "}]
[null,null,null,null,"Apoyo","Admin - Gestión Humana","Seccional","Administrar y actualizar las hojas de vida de los servidores judiciales","Entregable",null,null,"Área de Talento Humano","Listado actualizaciones/carpetas actualizadas","2024-01-01","2024-12-31",{"$f":"IFERROR(MAX(#REF!,#REF!,#REF!,#REF!),\" \")","v":" "},null,{"$f":"IFERROR(_xlfn.CONCAT(\"Trimestre 1\",CHAR(10),#REF!,CHAR(10),\"Trimestre 2\",CHAR(10),#REF!,CHAR(10),\"Trimestre 3\",CHAR(10),#REF!,CHAR(10),\"Trimestre 4\",CHAR(10),#REF!),\" \")","v":" "},{"$f":"IFERROR(_xlfn.CONCAT(\"Trimestre 1\",CHAR(10),#REF!,CHAR(10),\"Trimestre 2\",CHAR(10),#REF!,CHAR(10),\"Trimestre 3\",CHAR(10),#REF!,CHAR(10),\"Trimestre 4\",CHAR(10),#REF!),\" \")","v":" "}]
[null,null,null,null,"Apoyo","Admin - Gestión Humana","Seccional","Tramitar solicitudes de certificados cetil de los servidores judiciales","Entregable",null,null,"Área de Talento Humano/Grupo Asuntos Laborales","Listado de solicitudes","2024-01-01","2024-12-31",{"$f":"IFERROR(MAX(#REF!,#REF!,#REF!,#REF!),\" \")","v":" "},null,{"$f":"IFERROR(_xlfn.CONCAT(\"Trimestre 1\",CHAR(10),#REF!,CHAR(10),\"Trimestre 2\",CHAR(10),#REF!,CHAR(10),\"Trimestre 3\",CHAR(10),#REF!,CHAR(10),\"Trimestre 4\",CHAR(10),#REF!),\" \")","v":" "},{"$f":"IFERROR(_xlfn.CONCAT(\"Trimestre 1\",CHAR(10),#REF!,CHAR(10),\"Trimestre 2\",CHAR(10),#REF!,CHAR(10),\"Trimestre 3\",CHAR(10),#REF!,CHAR(10),\"Trimestre 4\",CHAR(10),#REF!),\" \")","v":" "}]
[null,null,null,null,null,null,null,null,null,null,null,null,null,null,null,{"$f":"IFERROR(MAX(#REF!,#REF!,#REF!,#REF!),\" \")","v":" "},null,{"$f":"IFERROR(_xlfn.CONCAT(\"Trimestre 1\",CHAR(10),#REF!,CHAR(10),\"Trimestre 2\",CHAR(10),#REF!,CHAR(10),\"Trimestre 3\",CHAR(10),#REF!,CHAR(10),\"Trimestre 4\",CHAR(10),#REF!),\" \")","v":" "},{"$f":"IFERROR(_xlfn.CONCAT(\"Trimestre 1\",CHAR(10),#REF!,CHAR(10),\"Trimestre 2\",CHAR(10),#REF!,CHAR(10),\"Trimestre 3\",CHAR(10),#REF!,CHAR(10),\"Trimestre 4\",CHAR(10),#REF!),\" \")","v":" "}]
[null,null,null,null,null,null,null,null,null,null,null,null,null,null,null,{"$f":"IFERROR(MAX(#REF!,#REF!,#REF!,#REF!),\" \")","v":" "},null,{"$f":"IFERROR(_xlfn.CONCAT(\"Trimestre 1\",CHAR(10),#REF!,CHAR(10),\"Trimestre 2\",CHAR(10),#REF!,CHAR(10),\"Trimestre 3\",CHAR(10),#REF!,CHAR(10),\"Trimestre 4\",CHAR(10),#REF!),\" \")","v":" "},{"$f":"IFERROR(_xlfn.CONCAT(\"Trimestre 1\",CHAR(10),#REF!,CHAR(10),\"Trimestre 2\",CHAR(10),#REF!,CHAR(10),\"Trimestre 3\",CHAR(10),#REF!,CHAR(10),\"Trimestre 4\",CHAR(10),#REF!),\" \")","v":" "}]
[null,null,null,null,null,null,null,null,null,null,null,null,null,null,null,{"$f":"IFERROR(MAX(#REF!,#REF!,#REF!,#REF!),\" \")","v":" "},null,{"$f":"IFERROR(_xlfn.CONCAT(\"Trimestre 1\",CHAR(10),#REF!,CHAR(10),\"Trimestre 2\",CHAR(10),#REF!,CHAR(10),\"Trimestre 3\",CHAR(10),#REF!,CHAR(10),\"Trimestre 4\",CHAR(10),#REF!),\" \")","v":" "},{"$f":"IFERROR(_xlfn.CONCAT(\"Trimestre 1\",CHAR(10),#REF!,CHAR(10),\"Trimestre 2\",CHAR(10),#REF!,CHAR(10),\"Trimestre 3\",CHAR(10),#REF!,CHAR(10),\"Trimestre 4\",CHAR(10),#REF!),\" \")","v":" "}]
[null,null,null,null,null,null,null,null,null,null,null,null,null,null,null,{"$f":"IFERROR(MAX(#REF!,#REF!,#REF!,#REF!),\" \")","v":" "},"",{"$f":"IFERROR(_xlfn.CONCAT(\"Trimestre 1\",CHAR(10),#REF!,CHAR(10),\"Trimestre 2\",CHAR(10),#REF!,CHAR(10),\"Trimestre 3\",CHAR(10),#REF!,CHAR(10),\"Trimestre 4\",CHAR(10),#REF!),\" \")","v":" "},{"$f":"IFERROR(_xlfn.CONCAT(\"Trimestre 1\",CHAR(10),#REF!,CHAR(10),\"Trimestre 2\",CHAR(10),#REF!,CHAR(10),\"Trimestre 3\",CHAR(10),#REF!,CHAR(10),\"Trimestre 4\",CHAR(10),#REF!),\" \")","v":" "}]
[null,null,null,null,null,null,null,null,null,null,null,null,null,null,null,{"$f":"IFERROR(MAX(#REF!,#REF!,#REF!,#REF!),\" \")","v":" "},"",{"$f":"IFERROR(_xlfn.CONCAT(\"Trimestre 1\",CHAR(10),#REF!,CHAR(10),\"Trimestre 2\",CHAR(10),#REF!,CHAR(10),\"Trimestre 3\",CHAR(10),#REF!,CHAR(10),\"Trimestre 4\",CHAR(10),#REF!),\" \")","v":" "},{"$f":"IFERROR(_xlfn.CONCAT(\"Trimestre 1\",CHAR(10),#REF!,CHAR(10),\"Trimestre 2\",CHAR(10),#REF!,CHAR(10),\"Trimestre 3\",CHAR(10),#REF!,CHAR(10),\"Trimestre 4\",CHAR(10),#REF!),\" \")","v":" "}]
[null,null,null,null,null,null,null,null,null,null,null,null,null,null,null,{"$f":"IFERROR(MAX(#REF!,#REF!,#REF!,#REF!),\" \")","v":" "},"",{"$f":"IFERROR(_xlfn.CONCAT(\"Trimestre 1\",CHAR(10),#REF!,CHAR(10),\"Trimestre 2\",CHAR(10),#REF!,CHAR(10),\"Trimestre 3\",CHAR(10),#REF!,CHAR(10),\"Trimestre 4\",CHAR(10),#REF!),\" \")","v":" "},{"$f":"IFERROR(_xlfn.CONCAT(\"Trimestre 1\",CHAR(10),#REF!,CHAR(10),\"Trimestre 2\",CHAR(10),#REF!,CHAR(10),\"Trimestre 3\",CHAR(10),#REF!,CHAR(10),\"Trimestre 4\",CHAR(10),#REF!),\" \")","v":" "}]
[null,null,null,null,null,null,null,null,null,null,null,null,null,null,null,{"$f":"IFERROR(MAX(#REF!,#REF!,#REF!,#REF!),\" \")","v":" "},"",{"$f":"IFERROR(_xlfn.CONCAT(\"Trimestre 1\",CHAR(10),#REF!,CHAR(10),\"Trimestre 2\",CHAR(10),#REF!,CHAR(10),\"Trimestre 3\",CHAR(10),#REF!,CHAR(10),\"Trimestre 4\",CHAR(10),#REF!),\" \")","v":" "},{"$f":"IFERROR(_xlfn.CONCAT(\"Trimestre 1\",CHAR(10),#REF!,CHAR(10),\"Trimestre 2\",CHAR(10),#REF!,CHAR(10),\"Trimestre 3\",CHAR(10),#REF!,CHAR(10),\"Trimestre 4\",CHAR(10),#REF!),\" \")","v":" "}]
["3. Confianza pública, transparencia y rendición de cuentas","Confianza pública, transparencia y rendición de cuentas: Aumentar la confianza pública en la justicia a través de la transparencia, la rendición de cuentas y la participación, incluyendo la información de justicia y la producción, gestión y acceso a las fuentes de derecho, el fortalecimiento del sistema de gestión de calidad y medio ambiente (SIGCMA) y el mejoramiento de la calidad y publicidad de la información. ","1. Incrementar la cantidad, la calidad y pertinencia de los datos sobre el funcionamiento del servicio de justicia bajo un modelo de gobierno de datos y un liderazgo unificado. ","4. Hacer un uso racional de los recursos naturales aplicando los principios y fases de la Economía Circular, para prevenir, mitigar y controlar los impactos ambientales.","Apoyo","Admin - Gestión de la Información Estadística","Seccional","Analizar el informe de inconsistencias de los datos estadísticos de los despachos judiciales remitido por la  UDAE y realizar  los respectivos requerimientos y el registro de novedades en el SIERJU","Entregable",null,null,"Secretaría del Consejo Seccional","Reporte de análisis de Indicadores","2024-01-31","2024-12-31",{"$f":"IFERROR(MAX(#REF!,#REF!,#REF!,#REF!),\" \")","v":" "},"",{"$f":"IFERROR(_xlfn.CONCAT(\"Trimestre 1\",CHAR(10),#REF!,CHAR(10),\"Trimestre 2\",CHAR(10),#REF!,CHAR(10),\"Trimestre 3\",CHAR(10),#REF!,CHAR(10),\"Trimestre 4\",CHAR(10),#REF!),\" \")","v":" "},{"$f":"IFERROR(_xlfn.CONCAT(\"Trimestre 1\",CHAR(10),#REF!,CHAR(10),\"Trimestre 2\",CHAR(10),#REF!,CHAR(10),\"Trimestre 3\",CHAR(10),#REF!,CHAR(10),\"Trimestre 4\",CHAR(10),#REF!),\" \")","v":" "}]
[null,null,null,null,null,null,null,null,null,null,null,null,null,null,null,{"$f":"IFERROR(MAX(#REF!,#REF!,#REF!,#REF!),\" \")","v":" "},"",{"$f":"IFERROR(_xlfn.CONCAT(\"Trimestre 1\",CHAR(10),#REF!,CHAR(10),\"Trimestre 2\",CHAR(10),#REF!,CHAR(10),\"Trimestre 3\",CHAR(10),#REF!,CHAR(10),\"Trimestre 4\",CHAR(10),#REF!),\" \")","v":" "},{"$f":"IFERROR(_xlfn.CONCAT(\"Trimestre 1\",CHAR(10),#REF!,CHAR(10),\"Trimestre 2\",CHAR(10),#REF!,CHAR(10),\"Trimestre 3\",CHAR(10),#REF!,CHAR(10),\"Trimestre 4\",CHAR(10),#REF!),\" \")","v":" "}]
[null,null,null,null,null,null,null,null,null,null,null,null,null,null,null,{"$f":"IFERROR(MAX(#REF!,#REF!,#REF!,#REF!),\" \")","v":" "},null,{"$f":"IFERROR(_xlfn.CONCAT(\"Trimestre 1\",CHAR(10),#REF!,CHAR(10),\"Trimestre 2\",CHAR(10),#REF!,CHAR(10),\"Trimestre 3\",CHAR(10),#REF!,CHAR(10),\"Trimestre 4\",CHAR(10),#REF!),\" \")","v":" "},{"$f":"IFERROR(_xlfn.CONCAT(\"Trimestre 1\",CHAR(10),#REF!,CHAR(10),\"Trimestre 2\",CHAR(10),#REF!,CHAR(10),\"Trimestre 3\",CHAR(10),#REF!,CHAR(10),\"Trimestre 4\",CHAR(10),#REF!),\" \")","v":" "}]
[null,null,null,null,null,null,null,null,null,null,null,null,null,null,null,{"$f":"IFERROR(MAX(#REF!,#REF!,#REF!,#REF!),\" \")","v":" "},null,{"$f":"IFERROR(_xlfn.CONCAT(\"Trimestre 1\",CHAR(10),#REF!,CHAR(10),\"Trimestre 2\",CHAR(10),#REF!,CHAR(10),\"Trimestre 3\",CHAR(10),#REF!,CHAR(10),\"Trimestre 4\",CHAR(10),#REF!),\" \")","v":" "},{"$f":"IFERROR(_xlfn.CONCAT(\"Trimestre 1\",CHAR(10),#REF!,CHAR(10),\"Trimestre 2\",CHAR(10),#REF!,CHAR(10),\"Trimestre 3\",CHAR(10),#REF!,CHAR(10),\"Trimestre 4\",CHAR(10),#REF!),\" \")","v":" "}]
[null,null,null,null,null,null,null,null,null,null,null,null,null,null,null,{"$f":"IFERROR(MAX(#REF!,#REF!,#REF!,#REF!),\" \")","v":" "},null,{"$f":"IFERROR(_xlfn.CONCAT(\"Trimestre 1\",CHAR(10),#REF!,CHAR(10),\"Trimestre 2\",CHAR(10),#REF!,CHAR(10),\"Trimestre 3\",CHAR(10),#REF!,CHAR(10),\"Trimestre 4\",CHAR(10),#REF!),\" \")","v":" "},{"$f":"IFERROR(_xlfn.CONCAT(\"Trimestre 1\",CHAR(10),#REF!,CHAR(10),\"Trimestre 2\",CHAR(10),#REF!,CHAR(10),\"Trimestre 3\",CHAR(10),#REF!,CHAR(10),\"Trimestre 4\",CHAR(10),#REF!),\" \")","v":" "}]
[null,null,null,null,null,null,null,null,null,null,null,null,null,null,null,{"$f":"IFERROR(MAX(#REF!,#REF!,#REF!,#REF!),\" \")","v":" "},null,{"$f":"IFERROR(_xlfn.CONCAT(\"Trimestre 1\",CHAR(10),#REF!,CHAR(10),\"Trimestre 2\",CHAR(10),#REF!,CHAR(10),\"Trimestre 3\",CHAR(10),#REF!,CHAR(10),\"Trimestre 4\",CHAR(10),#REF!),\" \")","v":" "},{"$f":"IFERROR(_xlfn.CONCAT(\"Trimestre 1\",CHAR(10),#REF!,CHAR(10),\"Trimestre 2\",CHAR(10),#REF!,CHAR(10),\"Trimestre 3\",CHAR(10),#REF!,CHAR(10),\"Trimestre 4\",CHAR(10),#REF!),\" \")","v":" "}]
[null,null,null,null,null,null,null,null,null,null,null,null,null,null,null,{"$f":"IFERROR(MAX(#REF!,#REF!,#REF!,#REF!),\" \")","v":" "},null,{"$f":"IFERROR(_xlfn.CONCAT(\"Trimestre 1\",CHAR(10),#REF!,CHAR(10),\"Trimestre 2\",CHAR(10),#REF!,CHAR(10),\"Trimestre 3\",CHAR(10),#REF!,CHAR(10),\"Trimestre 4\",CHAR(10),#REF!),\" \")","v":" "},{"$f":"IFERROR(_xlfn.CONCAT(\"Trimestre 1\",CHAR(10),#REF!,CHAR(10),\"Trimestre 2\",CHAR(10),#REF!,CHAR(10),\"Trimestre 3\",CHAR(10),#REF!,CHAR(10),\"Trimestre 4\",CHAR(10),#REF!),\" \")","v":" "}]
[null,null,null,null,null,null,null,null,null,null,null,null,null,null,null,{"$f":"IFERROR(MAX(#REF!,#REF!,#REF!,#REF!),\" \")","v":" "},"",{"$f":"IFERROR(_xlfn.CONCAT(\"Trimestre 1\",CHAR(10),#REF!,CHAR(10),\"Trimestre 2\",CHAR(10),#REF!,CHAR(10),\"Trimestre 3\",CHAR(10),#REF!,CHAR(10),\"Trimestre 4\",CHAR(10),#REF!),\" \")","v":" "},{"$f":"IFERROR(_xlfn.CONCAT(\"Trimestre 1\",CHAR(10),#REF!,CHAR(10),\"Trimestre 2\",CHAR(10),#REF!,CHAR(10),\"Trimestre 3\",CHAR(10),#REF!,CHAR(10),\"Trimestre 4\",CHAR(10),#REF!),\" \")","v":" "}]
[null,null,null,null,null,null,null,null,null,null,null,null,null,null,null,{"$f":"IFERROR(MAX(#REF!,#REF!,#REF!,#REF!),\" \")","v":" "},"",{"$f":"IFERROR(_xlfn.CONCAT(\"Trimestre 1\",CHAR(10),#REF!,CHAR(10),\"Trimestre 2\",CHAR(10),#REF!,CHAR(10),\"Trimestre 3\",CHAR(10),#REF!,CHAR(10),\"Trimestre 4\",CHAR(10),#REF!),\" \")","v":" "},{"$f":"IFERROR(_xlfn.CONCAT(\"Trimestre 1\",CHAR(10),#REF!,CHAR(10),\"Trimestre 2\",CHAR(10),#REF!,CHAR(10),\"Trimestre 3\",CHAR(10),#REF!,CHAR(10),\"Trimestre 4\",CHAR(10),#REF!),\" \")","v":" "}]
[null,null,null,null,null,null,null,null,null,null,null,null,null,null,null,{"$f":"IFERROR(MAX(#REF!,#REF!,#REF!,#REF!),\" \")","v":" "},"",{"$f":"IFERROR(_xlfn.CONCAT(\"Trimestre 1\",CHAR(10),#REF!,CHAR(10),\"Trimestre 2\",CHAR(10),#REF!,CHAR(10),\"Trimestre 3\",CHAR(10),#REF!,CHAR(10),\"Trimestre 4\",CHAR(10),#REF!),\" \")","v":" "},{"$f":"IFERROR(_xlfn.CONCAT(\"Trimestre 1\",CHAR(10),#REF!,CHAR(10),\"Trimestre 2\",CHAR(10),#REF!,CHAR(10),\"Trimestre 3\",CHAR(10),#REF!,CHAR(10),\"Trimestre 4\",CHAR(10),#REF!),\" \")","v":" "}]
[null,null,"2. Consolidar la administración de la información entendida como todas las acciones rientadas a garantizar el acceso, consulta, uso y conservación de la información de justicia de manera ágil, flexible e inteligente, bajo un enfoque de innovación.",null,"Estratégicos","Admin - Comunicación Institucional","Seccional","Publicar en el micrositio los actos administrativos de carácter general relacionados con  la gestión  administrativa del Consejo y la Dirección Seccionales    ","Entregable",null,null,"Secretaría Consejo Seccional y Dirección Seccional","Documentos publicados","2024-01-01","2024-12-31",{"$f":"IFERROR(MAX(#REF!,#REF!,#REF!,#REF!),\" \")","v":" "},"",{"$f":"IFERROR(_xlfn.CONCAT(\"Trimestre 1\",CHAR(10),#REF!,CHAR(10),\"Trimestre 2\",CHAR(10),#REF!,CHAR(10),\"Trimestre 3\",CHAR(10),#REF!,CHAR(10),\"Trimestre 4\",CHAR(10),#REF!),\" \")","v":" "},{"$f":"IFERROR(_xlfn.CONCAT(\"Trimestre 1\",CHAR(10),#REF!,CHAR(10),\"Trimestre 2\",CHAR(10),#REF!,CHAR(10),\"Trimestre 3\",CHAR(10),#REF!,CHAR(10),\"Trimestre 4\",CHAR(10),#REF!),\" \")","v":" "}]
[null,null,null,null,"Estratégicos","Admin - Comunicación Institucional","Seccional","Mantener relaciones con los medios de comunicación para divulgar la gestión realizada por el Consejo Seccional y los despachos de los Distritos Judiciales.de Medellín Antioquia","Meta cuantificable",2,"Encuentros con  medios de comunicación","Consejo y Comunicadores Dirección Seccional","Entrevista/grabación","2024-01-01","2024-01-31",{"$f":"IFERROR(MAX(#REF!,#REF!,#REF!,#REF!),\" \")","v":" "},"",{"$f":"IFERROR(_xlfn.CONCAT(\"Trimestre 1\",CHAR(10),#REF!,CHAR(10),\"Trimestre 2\",CHAR(10),#REF!,CHAR(10),\"Trimestre 3\",CHAR(10),#REF!,CHAR(10),\"Trimestre 4\",CHAR(10),#REF!),\" \")","v":" "},{"$f":"IFERROR(_xlfn.CONCAT(\"Trimestre 1\",CHAR(10),#REF!,CHAR(10),\"Trimestre 2\",CHAR(10),#REF!,CHAR(10),\"Trimestre 3\",CHAR(10),#REF!,CHAR(10),\"Trimestre 4\",CHAR(10),#REF!),\" \")","v":" "}]
[null,null,null,null,"Apoyo","Admin - Compras Públicas","Seccional","Elaborar, consolidar, actualizar , modificar y publicar el Plan Anual de Adquisiciones de la  Dirección Seccional de Medellín en la plataforma SecopII","Entregable",null,null,"Área Administrativa/Líder Secop","Documento","2024-01-01","2024-12-31",{"$f":"IFERROR(MAX(#REF!,#REF!,#REF!,#REF!),\" \")","v":" "},null,{"$f":"IFERROR(_xlfn.CONCAT(\"Trimestre 1\",CHAR(10),#REF!,CHAR(10),\"Trimestre 2\",CHAR(10),#REF!,CHAR(10),\"Trimestre 3\",CHAR(10),#REF!,CHAR(10),\"Trimestre 4\",CHAR(10),#REF!),\" \")","v":" "},{"$f":"IFERROR(_xlfn.CONCAT(\"Trimestre 1\",CHAR(10),#REF!,CHAR(10),\"Trimestre 2\",CHAR(10),#REF!,CHAR(10),\"Trimestre 3\",CHAR(10),#REF!,CHAR(10),\"Trimestre 4\",CHAR(10),#REF!),\" \")","v":" "}]
[null,null,null,null,null,null,null,null,null,null,null,null,null,null,null,{"$f":"IFERROR(MAX(#REF!,#REF!,#REF!,#REF!),\" \")","v":" "},null,{"$f":"IFERROR(_xlfn.CONCAT(\"Trimestre 1\",CHAR(10),#REF!,CHAR(10),\"Trimestre 2\",CHAR(10),#REF!,CHAR(10),\"Trimestre 3\",CHAR(10),#REF!,CHAR(10),\"Trimestre 4\",CHAR(10),#REF!),\" \")","v":" "},{"$f":"IFERROR(_xlfn.CONCAT(\"Trimestre 1\",CHAR(10),#REF!,CHAR(10),\"Trimestre 2\",CHAR(10),#REF!,CHAR(10),\"Trimestre 3\",CHAR(10),#REF!,CHAR(10),\"Trimestre 4\",CHAR(10),#REF!),\" \")","v":" "}]
[null,null,null,null,"Apoyo","Admin - Gestión Documental","Seccional","Registrar y generar en el sistema de gestión de correspondencia institucional la información que se dirija y emita la Dirección y el Consejo Seccionales","Entregable",null,null,"Secretaría del Consejo y Dirección Seccional","Reportes de Sigobius","2024-01-01","2024-12-31",{"$f":"IFERROR(MAX(#REF!,#REF!,#REF!,#REF!),\" \")","v":" "},null,{"$f":"IFERROR(_xlfn.CONCAT(\"Trimestre 1\",CHAR(10),#REF!,CHAR(10),\"Trimestre 2\",CHAR(10),#REF!,CHAR(10),\"Trimestre 3\",CHAR(10),#REF!,CHAR(10),\"Trimestre 4\",CHAR(10),#REF!),\" \")","v":" "},{"$f":"IFERROR(_xlfn.CONCAT(\"Trimestre 1\",CHAR(10),#REF!,CHAR(10),\"Trimestre 2\",CHAR(10),#REF!,CHAR(10),\"Trimestre 3\",CHAR(10),#REF!,CHAR(10),\"Trimestre 4\",CHAR(10),#REF!),\" \")","v":" "}]
[null,null,null,null,"Apoyo","Admin - Gestión Documental","Seccional","Custodiar los Archivos Centrales de la Rama Judicial ubicados en la seccional Antioquia y prestar el servicio a los despachos para el desarchivo y rearchivo de los expedientes","Entregable",null,null,"Oficina Judicial","Listado de entradas de archivo y desarchivo de expedientes","2024-01-01","2024-12-31",{"$f":"IFERROR(MAX(#REF!,#REF!,#REF!,#REF!),\" \")","v":" "},null,{"$f":"IFERROR(_xlfn.CONCAT(\"Trimestre 1\",CHAR(10),#REF!,CHAR(10),\"Trimestre 2\",CHAR(10),#REF!,CHAR(10),\"Trimestre 3\",CHAR(10),#REF!,CHAR(10),\"Trimestre 4\",CHAR(10),#REF!),\" \")","v":" "},{"$f":"IFERROR(_xlfn.CONCAT(\"Trimestre 1\",CHAR(10),#REF!,CHAR(10),\"Trimestre 2\",CHAR(10),#REF!,CHAR(10),\"Trimestre 3\",CHAR(10),#REF!,CHAR(10),\"Trimestre 4\",CHAR(10),#REF!),\" \")","v":" "}]
[null,null,null,null,"Apoyo","Admin - Gestión Documental","Seccional","Controlar y Prestar soporte a los servicios  de franquicia postal, telegráfica ","Entregable",null,null,"Área Administrativa/Gestión Documental","Listado de envíos correo franquicia","2024-01-01","2024-12-31",{"$f":"IFERROR(MAX(#REF!,#REF!,#REF!,#REF!),\" \")","v":" "},null,{"$f":"IFERROR(_xlfn.CONCAT(\"Trimestre 1\",CHAR(10),#REF!,CHAR(10),\"Trimestre 2\",CHAR(10),#REF!,CHAR(10),\"Trimestre 3\",CHAR(10),#REF!,CHAR(10),\"Trimestre 4\",CHAR(10),#REF!),\" \")","v":" "},{"$f":"IFERROR(_xlfn.CONCAT(\"Trimestre 1\",CHAR(10),#REF!,CHAR(10),\"Trimestre 2\",CHAR(10),#REF!,CHAR(10),\"Trimestre 3\",CHAR(10),#REF!,CHAR(10),\"Trimestre 4\",CHAR(10),#REF!),\" \")","v":" "}]
[null,null,null,null,"Apoyo","Admin - Asistencia Legal","Seccional","Cuantificar el porcentaje de ejecución de actuaciones por apoderados judiciales  a nivel seccional (Medir carga lagoral)","Entregable",null,null,"Área de Asistencia Legal","Informe","2024-01-01","2024-12-31",{"$f":"IFERROR(MAX(#REF!,#REF!,#REF!,#REF!),\" \")","v":" "},"",{"$f":"IFERROR(_xlfn.CONCAT(\"Trimestre 1\",CHAR(10),#REF!,CHAR(10),\"Trimestre 2\",CHAR(10),#REF!,CHAR(10),\"Trimestre 3\",CHAR(10),#REF!,CHAR(10),\"Trimestre 4\",CHAR(10),#REF!),\" \")","v":" "},{"$f":"IFERROR(_xlfn.CONCAT(\"Trimestre 1\",CHAR(10),#REF!,CHAR(10),\"Trimestre 2\",CHAR(10),#REF!,CHAR(10),\"Trimestre 3\",CHAR(10),#REF!,CHAR(10),\"Trimestre 4\",CHAR(10),#REF!),\" \")","v":" "}]
[null,null,null,null,null,null,null,null,null,null,null,null,null,null,null,{"$f":"IFERROR(MAX(#REF!,#REF!,#REF!,#REF!),\" \")","v":" "},"",{"$f":"IFERROR(_xlfn.CONCAT(\"Trimestre 1\",CHAR(10),#REF!,CHAR(10),\"Trimestre 2\",CHAR(10),#REF!,CHAR(10),\"Trimestre 3\",CHAR(10),#REF!,CHAR(10),\"Trimestre 4\",CHAR(10),#REF!),\" \")","v":" "},{"$f":"IFERROR(_xlfn.CONCAT(\"Trimestre 1\",CHAR(10),#REF!,CHAR(10),\"Trimestre 2\",CHAR(10),#REF!,CHAR(10),\"Trimestre 3\",CHAR(10),#REF!,CHAR(10),\"Trimestre 4\",CHAR(10),#REF!),\" \")","v":" "}]
[null,null,null,null,null,null,null,null,null,null,null,null,null,null,null,{"$f":"IFERROR(MAX(#REF!,#REF!,#REF!,#REF!),\" \")","v":" "},{"$f":"IFERROR(P135/J135,\"\")","v":""},{"$f":"IFERROR(_xlfn.CONCAT(\"Trimestre 1\",CHAR(10),#REF!,CHAR(10),\"Trimestre 2\",CHAR(10),#REF!,CHAR(10),\"Trimestre 3\",CHAR(10),#REF!,CHAR(10),\"Trimestre 4\",CHAR(10),#REF!),\" \")","v":" "},{"$f":"IFERROR(_xlfn.CONCAT(\"Trimestre 1\",CHAR(10),#REF!,CHAR(10),\"Trimestre 2\",CHAR(10),#REF!,CHAR(10),\"Trimestre 3\",CHAR(10),#REF!,CHAR(10),\"Trimestre 4\",CHAR(10),#REF!),\" \")","v":" "}]
[null,null,"3. Fortalecer el Sistema integrado de Gestión de la Rama, orientado a la implementación y certificación de las normas antisoborno.","1. Gestionar el desarrollo de las competencias, la toma de conciencia , la cultura  organizacional  y el compromiso de los  servidores judiciales, contratistas, practicantes y  judicantes de contribuir a generar valor público en la administración de justicia, en el marco de  cumplimiento de los requisitos  aplicables y el comportamiento ético.\n3. Fomentar la transparencia y la participación generando lineamientos y promoviendo la rendición de cuentas ,la consulta, reporte y planteamiento de inquietudes en relación con las decisiones y aspectos del SIGCMA.",null,null,null,null,null,null,null,null,null,null,null,{"$f":"IFERROR(MAX(#REF!,#REF!,#REF!,#REF!),\" \")","v":" "},"",{"$f":"IFERROR(_xlfn.CONCAT(\"Trimestre 1\",CHAR(10),#REF!,CHAR(10),\"Trimestre 2\",CHAR(10),#REF!,CHAR(10),\"Trimestre 3\",CHAR(10),#REF!,CHAR(10),\"Trimestre 4\",CHAR(10),#REF!),\" \")","v":" "},{"$f":"IFERROR(_xlfn.CONCAT(\"Trimestre 1\",CHAR(10),#REF!,CHAR(10),\"Trimestre 2\",CHAR(10),#REF!,CHAR(10),\"Trimestre 3\",CHAR(10),#REF!,CHAR(10),\"Trimestre 4\",CHAR(10),#REF!),\" \")","v":" "}]
[null,null,null,null,"Apoyo","Admin - Compras Públicas","Seccional","Elaborar, adicionar y/o prorrogar los contratos suscritos por la DESAJ de Medellín","Entregable",null,null,"Grupo Contratación","Informe plataforma Secop II, Clausulados y minutas","2024-01-01","2024-12-31",{"$f":"IFERROR(MAX(#REF!,#REF!,#REF!,#REF!),\" \")","v":" "},"",{"$f":"IFERROR(_xlfn.CONCAT(\"Trimestre 1\",CHAR(10),#REF!,CHAR(10),\"Trimestre 2\",CHAR(10),#REF!,CHAR(10),\"Trimestre 3\",CHAR(10),#REF!,CHAR(10),\"Trimestre 4\",CHAR(10),#REF!),\" \")","v":" "},{"$f":"IFERROR(_xlfn.CONCAT(\"Trimestre 1\",CHAR(10),#REF!,CHAR(10),\"Trimestre 2\",CHAR(10),#REF!,CHAR(10),\"Trimestre 3\",CHAR(10),#REF!,CHAR(10),\"Trimestre 4\",CHAR(10),#REF!),\" \")","v":" "}]
[null,null,null,null,null,null,null,null,null,null,null,null,null,null,null,{"$f":"IFERROR(MAX(#REF!,#REF!,#REF!,#REF!),\" \")","v":" "},null,{"$f":"IFERROR(_xlfn.CONCAT(\"Trimestre 1\",CHAR(10),#REF!,CHAR(10),\"Trimestre 2\",CHAR(10),#REF!,CHAR(10),\"Trimestre 3\",CHAR(10),#REF!,CHAR(10),\"Trimestre 4\",CHAR(10),#REF!),\" \")","v":" "},{"$f":"IFERROR(_xlfn.CONCAT(\"Trimestre 1\",CHAR(10),#REF!,CHAR(10),\"Trimestre 2\",CHAR(10),#REF!,CHAR(10),\"Trimestre 3\",CHAR(10),#REF!,CHAR(10),\"Trimestre 4\",CHAR(10),#REF!),\" \")","v":" "}]
[null,null,null,null,null,null,null,null,null,null,null,null,null,null,null,{"$f":"IFERROR(MAX(#REF!,#REF!,#REF!,#REF!),\" \")","v":" "},null,{"$f":"IFERROR(_xlfn.CONCAT(\"Trimestre 1\",CHAR(10),#REF!,CHAR(10),\"Trimestre 2\",CHAR(10),#REF!,CHAR(10),\"Trimestre 3\",CHAR(10),#REF!,CHAR(10),\"Trimestre 4\",CHAR(10),#REF!),\" \")","v":" "},{"$f":"IFERROR(_xlfn.CONCAT(\"Trimestre 1\",CHAR(10),#REF!,CHAR(10),\"Trimestre 2\",CHAR(10),#REF!,CHAR(10),\"Trimestre 3\",CHAR(10),#REF!,CHAR(10),\"Trimestre 4\",CHAR(10),#REF!),\" \")","v":" "}]
[null,null,null,null,null,null,null,null,null,null,null,null,null,null,null,{"$f":"IFERROR(MAX(#REF!,#REF!,#REF!,#REF!),\" \")","v":" "},null,{"$f":"IFERROR(_xlfn.CONCAT(\"Trimestre 1\",CHAR(10),#REF!,CHAR(10),\"Trimestre 2\",CHAR(10),#REF!,CHAR(10),\"Trimestre 3\",CHAR(10),#REF!,CHAR(10),\"Trimestre 4\",CHAR(10),#REF!),\" \")","v":" "},{"$f":"IFERROR(_xlfn.CONCAT(\"Trimestre 1\",CHAR(10),#REF!,CHAR(10),\"Trimestre 2\",CHAR(10),#REF!,CHAR(10),\"Trimestre 3\",CHAR(10),#REF!,CHAR(10),\"Trimestre 4\",CHAR(10),#REF!),\" \")","v":" "}]
[null,null,null,null,null,null,null,null,null,null,null,null,null,null,null,{"$f":"IFERROR(MAX(#REF!,#REF!,#REF!,#REF!),\" \")","v":" "},null,{"$f":"IFERROR(_xlfn.CONCAT(\"Trimestre 1\",CHAR(10),#REF!,CHAR(10),\"Trimestre 2\",CHAR(10),#REF!,CHAR(10),\"Trimestre 3\",CHAR(10),#REF!,CHAR(10),\"Trimestre 4\",CHAR(10),#REF!),\" \")","v":" "},{"$f":"IFERROR(_xlfn.CONCAT(\"Trimestre 1\",CHAR(10),#REF!,CHAR(10),\"Trimestre 2\",CHAR(10),#REF!,CHAR(10),\"Trimestre 3\",CHAR(10),#REF!,CHAR(10),\"Trimestre 4\",CHAR(10),#REF!),\" \")","v":" "}]
[null,null,null,null,null,null,null,null,null,null,null,null,null,null,null,{"$f":"IFERROR(MAX(#REF!,#REF!,#REF!,#REF!),\" \")","v":" "},null,{"$f":"IFERROR(_xlfn.CONCAT(\"Trimestre 1\",CHAR(10),#REF!,CHAR(10),\"Trimestre 2\",CHAR(10),#REF!,CHAR(10),\"Trimestre 3\",CHAR(10),#REF!,CHAR(10),\"Trimestre 4\",CHAR(10),#REF!),\" \")","v":" "},{"$f":"IFERROR(_xlfn.CONCAT(\"Trimestre 1\",CHAR(10),#REF!,CHAR(10),\"Trimestre 2\",CHAR(10),#REF!,CHAR(10),\"Trimestre 3\",CHAR(10),#REF!,CHAR(10),\"Trimestre 4\",CHAR(10),#REF!),\" \")","v":" "}]
[null,null,null,null,null,null,null,null,null,null,null,null,null,null,null,{"$f":"IFERROR(MAX(#REF!,#REF!,#REF!,#REF!),\" \")","v":" "},"",{"$f":"IFERROR(_xlfn.CONCAT(\"Trimestre 1\",CHAR(10),#REF!,CHAR(10),\"Trimestre 2\",CHAR(10),#REF!,CHAR(10),\"Trimestre 3\",CHAR(10),#REF!,CHAR(10),\"Trimestre 4\",CHAR(10),#REF!),\" \")","v":" "},{"$f":"IFERROR(_xlfn.CONCAT(\"Trimestre 1\",CHAR(10),#REF!,CHAR(10),\"Trimestre 2\",CHAR(10),#REF!,CHAR(10),\"Trimestre 3\",CHAR(10),#REF!,CHAR(10),\"Trimestre 4\",CHAR(10),#REF!),\" \")","v":" "}]
[null,null,null,null,null,null,null,null,null,null,null,null,null,null,null,{"$f":"IFERROR(MAX(#REF!,#REF!,#REF!,#REF!),\" \")","v":" "},"",{"$f":"IFERROR(_xlfn.CONCAT(\"Trimestre 1\",CHAR(10),#REF!,CHAR(10),\"Trimestre 2\",CHAR(10),#REF!,CHAR(10),\"Trimestre 3\",CHAR(10),#REF!,CHAR(10),\"Trimestre 4\",CHAR(10),#REF!),\" \")","v":" "},{"$f":"IFERROR(_xlfn.CONCAT(\"Trimestre 1\",CHAR(10),#REF!,CHAR(10),\"Trimestre 2\",CHAR(10),#REF!,CHAR(10),\"Trimestre 3\",CHAR(10),#REF!,CHAR(10),\"Trimestre 4\",CHAR(10),#REF!),\" \")","v":" "}]
[null,null,null,null,null,null,null,null,null,null,null,null,null,null,null,{"$f":"IFERROR(MAX(#REF!,#REF!,#REF!,#REF!),\" \")","v":" "},"",{"$f":"IFERROR(_xlfn.CONCAT(\"Trimestre 1\",CHAR(10),#REF!,CHAR(10),\"Trimestre 2\",CHAR(10),#REF!,CHAR(10),\"Trimestre 3\",CHAR(10),#REF!,CHAR(10),\"Trimestre 4\",CHAR(10),#REF!),\" \")","v":" "},{"$f":"IFERROR(_xlfn.CONCAT(\"Trimestre 1\",CHAR(10),#REF!,CHAR(10),\"Trimestre 2\",CHAR(10),#REF!,CHAR(10),\"Trimestre 3\",CHAR(10),#REF!,CHAR(10),\"Trimestre 4\",CHAR(10),#REF!),\" \")","v":" "}]
[null,null,"4. Aumentar la confianza, la cercanía y acceso a los servicios de la Rama Judicial a través, entre otros, de una comunicación clara y asertiva con la ciudadanía.","3. Fomentar la transparencia y la participación generando lineamientos y promoviendo la rendición de cuentas ,la consulta, reporte y planteamiento de inquietudes en relación con las decisiones y aspectos del SIGCMA.","Estratégicos","Admin - Comunicación Institucional","Seccional","Dar respuesta oportuna a las acciones de tutela, derechos de petición y solicitudes de información      ","Entregable",null,null,"Secretaría/todos los procesos de la Dirección","Oficios","2024-01-01","2024-01-31",{"$f":"IFERROR(MAX(#REF!,#REF!,#REF!,#REF!),\" \")","v":" "},"",{"$f":"IFERROR(_xlfn.CONCAT(\"Trimestre 1\",CHAR(10),#REF!,CHAR(10),\"Trimestre 2\",CHAR(10),#REF!,CHAR(10),\"Trimestre 3\",CHAR(10),#REF!,CHAR(10),\"Trimestre 4\",CHAR(10),#REF!),\" \")","v":" "},{"$f":"IFERROR(_xlfn.CONCAT(\"Trimestre 1\",CHAR(10),#REF!,CHAR(10),\"Trimestre 2\",CHAR(10),#REF!,CHAR(10),\"Trimestre 3\",CHAR(10),#REF!,CHAR(10),\"Trimestre 4\",CHAR(10),#REF!),\" \")","v":" "}]
[null,null,null,null,"Estratégicos","Admin - Comunicación Institucional","Seccional","Realizar control  y seguimiento  a las Quejas, Reclamos y Sugerencias.","Entregable",null,null,"Secretaría/todos los procesos de la Dirección","Base de datos Excel","2024-01-01","2024-01-31",{"$f":"IFERROR(MAX(#REF!,#REF!,#REF!,#REF!),\" \")","v":" "},"",{"$f":"IFERROR(_xlfn.CONCAT(\"Trimestre 1\",CHAR(10),#REF!,CHAR(10),\"Trimestre 2\",CHAR(10),#REF!,CHAR(10),\"Trimestre 3\",CHAR(10),#REF!,CHAR(10),\"Trimestre 4\",CHAR(10),#REF!),\" \")","v":" "},{"$f":"IFERROR(_xlfn.CONCAT(\"Trimestre 1\",CHAR(10),#REF!,CHAR(10),\"Trimestre 2\",CHAR(10),#REF!,CHAR(10),\"Trimestre 3\",CHAR(10),#REF!,CHAR(10),\"Trimestre 4\",CHAR(10),#REF!),\" \")","v":" "}]
[null,null,null,null,null,null,null,null,null,null,null,null,null,null,null,{"$f":"IFERROR(MAX(#REF!,#REF!,#REF!,#REF!),\" \")","v":" "},null,{"$f":"IFERROR(_xlfn.CONCAT(\"Trimestre 1\",CHAR(10),#REF!,CHAR(10),\"Trimestre 2\",CHAR(10),#REF!,CHAR(10),\"Trimestre 3\",CHAR(10),#REF!,CHAR(10),\"Trimestre 4\",CHAR(10),#REF!),\" \")","v":" "},{"$f":"IFERROR(_xlfn.CONCAT(\"Trimestre 1\",CHAR(10),#REF!,CHAR(10),\"Trimestre 2\",CHAR(10),#REF!,CHAR(10),\"Trimestre 3\",CHAR(10),#REF!,CHAR(10),\"Trimestre 4\",CHAR(10),#REF!),\" \")","v":" "}]
[null,null,null,null,null,null,null,null,null,null,null,null,null,null,null,{"$f":"IFERROR(MAX(#REF!,#REF!,#REF!,#REF!),\" \")","v":" "},null,{"$f":"IFERROR(_xlfn.CONCAT(\"Trimestre 1\",CHAR(10),#REF!,CHAR(10),\"Trimestre 2\",CHAR(10),#REF!,CHAR(10),\"Trimestre 3\",CHAR(10),#REF!,CHAR(10),\"Trimestre 4\",CHAR(10),#REF!),\" \")","v":" "},{"$f":"IFERROR(_xlfn.CONCAT(\"Trimestre 1\",CHAR(10),#REF!,CHAR(10),\"Trimestre 2\",CHAR(10),#REF!,CHAR(10),\"Trimestre 3\",CHAR(10),#REF!,CHAR(10),\"Trimestre 4\",CHAR(10),#REF!),\" \")","v":" "}]
[null,null,null,null,"Estratégicos","Admin - Comunicación Institucional","Seccional","Publicar y divulgar en las redes sociales y descansapantallas la información interna relacionada con actividades y gestión de la Direccón y el Consejo seccionales","Meta cuantificable",60,"Publicaciones","Comunicadores Dirección Seccional","Publicaciones","2024-01-01","2024-12-31",{"$f":"IFERROR(MAX(#REF!,#REF!,#REF!,#REF!),\" \")","v":" "},null,{"$f":"IFERROR(_xlfn.CONCAT(\"Trimestre 1\",CHAR(10),#REF!,CHAR(10),\"Trimestre 2\",CHAR(10),#REF!,CHAR(10),\"Trimestre 3\",CHAR(10),#REF!,CHAR(10),\"Trimestre 4\",CHAR(10),#REF!),\" \")","v":" "},{"$f":"IFERROR(_xlfn.CONCAT(\"Trimestre 1\",CHAR(10),#REF!,CHAR(10),\"Trimestre 2\",CHAR(10),#REF!,CHAR(10),\"Trimestre 3\",CHAR(10),#REF!,CHAR(10),\"Trimestre 4\",CHAR(10),#REF!),\" \")","v":" "}]
[null,null,null,null,"Apoyo","Admin - Asistencia Legal","Seccional","Tramitar las respuestas a las peticiones de información de carácter particular o general, asi como los recursos presentados con el fin de agotar la vía administrativa en todos aquellos asuntos de competencia del Área Asistencia Legal","Entregable",null,null,"Área de Asistencia Legal","Oficio","2024-01-01","2024-12-31",{"$f":"IFERROR(MAX(#REF!,#REF!,#REF!,#REF!),\" \")","v":" "},null,{"$f":"IFERROR(_xlfn.CONCAT(\"Trimestre 1\",CHAR(10),#REF!,CHAR(10),\"Trimestre 2\",CHAR(10),#REF!,CHAR(10),\"Trimestre 3\",CHAR(10),#REF!,CHAR(10),\"Trimestre 4\",CHAR(10),#REF!),\" \")","v":" "},{"$f":"IFERROR(_xlfn.CONCAT(\"Trimestre 1\",CHAR(10),#REF!,CHAR(10),\"Trimestre 2\",CHAR(10),#REF!,CHAR(10),\"Trimestre 3\",CHAR(10),#REF!,CHAR(10),\"Trimestre 4\",CHAR(10),#REF!),\" \")","v":" "}]
[null,null,null,null,"Apoyo","Admin - Asistencia Legal","Seccional","Efectuar los estudios de viabilidad de solicitudes de conciliación prejudicial y judicial, en las que sea parte la Nación Rama Judicial","Entregable",null,null,"Área de Asistencia Legal","Actas de Comité","2024-01-01","2024-12-31",{"$f":"IFERROR(MAX(#REF!,#REF!,#REF!,#REF!),\" \")","v":" "},null,{"$f":"IFERROR(_xlfn.CONCAT(\"Trimestre 1\",CHAR(10),#REF!,CHAR(10),\"Trimestre 2\",CHAR(10),#REF!,CHAR(10),\"Trimestre 3\",CHAR(10),#REF!,CHAR(10),\"Trimestre 4\",CHAR(10),#REF!),\" \")","v":" "},{"$f":"IFERROR(_xlfn.CONCAT(\"Trimestre 1\",CHAR(10),#REF!,CHAR(10),\"Trimestre 2\",CHAR(10),#REF!,CHAR(10),\"Trimestre 3\",CHAR(10),#REF!,CHAR(10),\"Trimestre 4\",CHAR(10),#REF!),\" \")","v":" "}]
[null,null,null,null,"Apoyo","Admin - Gestión Humana","Seccional","Tramitar derechos de petición, solicitudes, tutelas y exhortos del área de Talento Humano","Entregable",null,null,"Área de Talento Humano/Grupo Asuntos Laborales","Oficios","2024-01-01","2024-12-31",{"$f":"IFERROR(MAX(#REF!,#REF!,#REF!,#REF!),\" \")","v":" "},"",{"$f":"IFERROR(_xlfn.CONCAT(\"Trimestre 1\",CHAR(10),#REF!,CHAR(10),\"Trimestre 2\",CHAR(10),#REF!,CHAR(10),\"Trimestre 3\",CHAR(10),#REF!,CHAR(10),\"Trimestre 4\",CHAR(10),#REF!),\" \")","v":" "},{"$f":"IFERROR(_xlfn.CONCAT(\"Trimestre 1\",CHAR(10),#REF!,CHAR(10),\"Trimestre 2\",CHAR(10),#REF!,CHAR(10),\"Trimestre 3\",CHAR(10),#REF!,CHAR(10),\"Trimestre 4\",CHAR(10),#REF!),\" \")","v":" "}]
[null,null,null,null,"Apoyo","Admin - Asistencia Legal","Seccional","Registro de procesos judiciales en el aplicativo EKOGUI","Entregable",null,null,"Área de Asistencia Legal","Reporte","2024-01-01","2024-12-31",{"$f":"IFERROR(MAX(#REF!,#REF!,#REF!,#REF!),\" \")","v":" "},"",{"$f":"IFERROR(_xlfn.CONCAT(\"Trimestre 1\",CHAR(10),#REF!,CHAR(10),\"Trimestre 2\",CHAR(10),#REF!,CHAR(10),\"Trimestre 3\",CHAR(10),#REF!,CHAR(10),\"Trimestre 4\",CHAR(10),#REF!),\" \")","v":" "},{"$f":"IFERROR(_xlfn.CONCAT(\"Trimestre 1\",CHAR(10),#REF!,CHAR(10),\"Trimestre 2\",CHAR(10),#REF!,CHAR(10),\"Trimestre 3\",CHAR(10),#REF!,CHAR(10),\"Trimestre 4\",CHAR(10),#REF!),\" \")","v":" "}]
[null,null,null,null,null,null,null,null,null,null,null,null,null,null,null,{"$f":"IFERROR(MAX(#REF!,#REF!,#REF!,#REF!),\" \")","v":" "},"",{"$f":"IFERROR(_xlfn.CONCAT(\"Trimestre 1\",CHAR(10),#REF!,CHAR(10),\"Trimestre 2\",CHAR(10),#REF!,CHAR(10),\"Trimestre 3\",CHAR(10),#REF!,CHAR(10),\"Trimestre 4\",CHAR(10),#REF!),\" \")","v":" "},{"$f":"IFERROR(_xlfn.CONCAT(\"Trimestre 1\",CHAR(10),#REF!,CHAR(10),\"Trimestre 2\",CHAR(10),#REF!,CHAR(10),\"Trimestre 3\",CHAR(10),#REF!,CHAR(10),\"Trimestre 4\",CHAR(10),#REF!),\" \")","v":" "}]
[null,null,"5. Prevenir fenómenos asociados con actos de corrupción en la Rama Judicial y reducir las experiencias de corrupción de usuarios y servidores judiciales.",null,"Estratégicos","Admin - Comunicación Institucional","Seccional","Expedir boletínes informativos sobre la gestión administrativa  ","Meta cuantificable",100,"Correos elctronicos","Comunicadores Dirección Seccional","Boletin, presentación,correo electrónico","2024-01-31","2024-12-31",{"$f":"IFERROR(MAX(#REF!,#REF!,#REF!,#REF!),\" \")","v":" "},"",{"$f":"IFERROR(_xlfn.CONCAT(\"Trimestre 1\",CHAR(10),#REF!,CHAR(10),\"Trimestre 2\",CHAR(10),#REF!,CHAR(10),\"Trimestre 3\",CHAR(10),#REF!,CHAR(10),\"Trimestre 4\",CHAR(10),#REF!),\" \")","v":" "},{"$f":"IFERROR(_xlfn.CONCAT(\"Trimestre 1\",CHAR(10),#REF!,CHAR(10),\"Trimestre 2\",CHAR(10),#REF!,CHAR(10),\"Trimestre 3\",CHAR(10),#REF!,CHAR(10),\"Trimestre 4\",CHAR(10),#REF!),\" \")","v":" "}]
[null,null,null,null,"Apoyo","Admin - Gestión de la Información Estadística","Seccional","Divulgar información y capacitar a los servidores judiciales sobre los instrumentos, manuales e indicadores propios de la gestión estadística y el uso del sistema de información SIERJU","Entregable",null,null,"Secretaría del Consejo Seccional","Informes","2024-01-31","2024-12-31",{"$f":"IFERROR(MAX(#REF!,#REF!,#REF!,#REF!),\" \")","v":" "},"",{"$f":"IFERROR(_xlfn.CONCAT(\"Trimestre 1\",CHAR(10),#REF!,CHAR(10),\"Trimestre 2\",CHAR(10),#REF!,CHAR(10),\"Trimestre 3\",CHAR(10),#REF!,CHAR(10),\"Trimestre 4\",CHAR(10),#REF!),\" \")","v":" "},{"$f":"IFERROR(_xlfn.CONCAT(\"Trimestre 1\",CHAR(10),#REF!,CHAR(10),\"Trimestre 2\",CHAR(10),#REF!,CHAR(10),\"Trimestre 3\",CHAR(10),#REF!,CHAR(10),\"Trimestre 4\",CHAR(10),#REF!),\" \")","v":" "}]
[null,null,null,null,"Apoyo","Admin - Gestión de la Información Estadística","Seccional","Brindar soporte técnico en las seccionales para el diligenciamiento de la información estadística.","Entregable",null,null,"Secretaría del Consejo Seccional","Solicitudes","2024-01-31","2024-12-31",{"$f":"IFERROR(MAX(#REF!,#REF!,#REF!,#REF!),\" \")","v":" "},null,{"$f":"IFERROR(_xlfn.CONCAT(\"Trimestre 1\",CHAR(10),#REF!,CHAR(10),\"Trimestre 2\",CHAR(10),#REF!,CHAR(10),\"Trimestre 3\",CHAR(10),#REF!,CHAR(10),\"Trimestre 4\",CHAR(10),#REF!),\" \")","v":" "},{"$f":"IFERROR(_xlfn.CONCAT(\"Trimestre 1\",CHAR(10),#REF!,CHAR(10),\"Trimestre 2\",CHAR(10),#REF!,CHAR(10),\"Trimestre 3\",CHAR(10),#REF!,CHAR(10),\"Trimestre 4\",CHAR(10),#REF!),\" \")","v":" "}]
[null,null,null,null,"Apoyo","Admin - Gestión de la Información Estadística","Seccional","Generar información estadística según Requerimientos","Entregable",null,null,"Secretaría del Consejo Seccional","Solicitudes","2024-01-31","2024-12-31",{"$f":"IFERROR(MAX(#REF!,#REF!,#REF!,#REF!),\" \")","v":" "},null,{"$f":"IFERROR(_xlfn.CONCAT(\"Trimestre 1\",CHAR(10),#REF!,CHAR(10),\"Trimestre 2\",CHAR(10),#REF!,CHAR(10),\"Trimestre 3\",CHAR(10),#REF!,CHAR(10),\"Trimestre 4\",CHAR(10),#REF!),\" \")","v":" "},{"$f":"IFERROR(_xlfn.CONCAT(\"Trimestre 1\",CHAR(10),#REF!,CHAR(10),\"Trimestre 2\",CHAR(10),#REF!,CHAR(10),\"Trimestre 3\",CHAR(10),#REF!,CHAR(10),\"Trimestre 4\",CHAR(10),#REF!),\" \")","v":" "}]
[null,null,null,null,null,null,null,null,null,null,null,null,null,null,null,{"$f":"IFERROR(MAX(#REF!,#REF!,#REF!,#REF!),\" \")","v":" "},null,{"$f":"IFERROR(_xlfn.CONCAT(\"Trimestre 1\",CHAR(10),#REF!,CHAR(10),\"Trimestre 2\",CHAR(10),#REF!,CHAR(10),\"Trimestre 3\",CHAR(10),#REF!,CHAR(10),\"Trimestre 4\",CHAR(10),#REF!),\" \")","v":" "},{"$f":"IFERROR(_xlfn.CONCAT(\"Trimestre 1\",CHAR(10),#REF!,CHAR(10),\"Trimestre 2\",CHAR(10),#REF!,CHAR(10),\"Trimestre 3\",CHAR(10),#REF!,CHAR(10),\"Trimestre 4\",CHAR(10),#REF!),\" \")","v":" "}]
[null,null,null,null,"Apoyo","Admin - Compras Públicas","Seccional","Imponer multas y sanciones por incumplimiento de obligaciones pactadas expresamente en los contratos","Entregable",null,null,"Grupo Contratación","Plataforma Rues Confecámaras - Informe","2024-01-01","2024-12-31",{"$f":"IFERROR(MAX(#REF!,#REF!,#REF!,#REF!),\" \")","v":" "},null,{"$f":"IFERROR(_xlfn.CONCAT(\"Trimestre 1\",CHAR(10),#REF!,CHAR(10),\"Trimestre 2\",CHAR(10),#REF!,CHAR(10),\"Trimestre 3\",CHAR(10),#REF!,CHAR(10),\"Trimestre 4\",CHAR(10),#REF!),\" \")","v":" "},{"$f":"IFERROR(_xlfn.CONCAT(\"Trimestre 1\",CHAR(10),#REF!,CHAR(10),\"Trimestre 2\",CHAR(10),#REF!,CHAR(10),\"Trimestre 3\",CHAR(10),#REF!,CHAR(10),\"Trimestre 4\",CHAR(10),#REF!),\" \")","v":" "}]
[null,null,null,null,"Apoyo","Admin - Gestión Humana","Seccional","Gestionar el recobro de incapacidades y mayores valores liquidados y pagados de nómina","Entregable",null,null,"Área de Talento Humano/Grupo Asuntos Laborales","Informe","2024-01-01","2024-12-31",{"$f":"IFERROR(MAX(#REF!,#REF!,#REF!,#REF!),\" \")","v":" "},null,{"$f":"IFERROR(_xlfn.CONCAT(\"Trimestre 1\",CHAR(10),#REF!,CHAR(10),\"Trimestre 2\",CHAR(10),#REF!,CHAR(10),\"Trimestre 3\",CHAR(10),#REF!,CHAR(10),\"Trimestre 4\",CHAR(10),#REF!),\" \")","v":" "},{"$f":"IFERROR(_xlfn.CONCAT(\"Trimestre 1\",CHAR(10),#REF!,CHAR(10),\"Trimestre 2\",CHAR(10),#REF!,CHAR(10),\"Trimestre 3\",CHAR(10),#REF!,CHAR(10),\"Trimestre 4\",CHAR(10),#REF!),\" \")","v":" "}]
[null,null,null,null,null,null,null,null,null,null,null,null,null,null,null,{"$f":"IFERROR(MAX(#REF!,#REF!,#REF!,#REF!),\" \")","v":" "},"",{"$f":"IFERROR(_xlfn.CONCAT(\"Trimestre 1\",CHAR(10),#REF!,CHAR(10),\"Trimestre 2\",CHAR(10),#REF!,CHAR(10),\"Trimestre 3\",CHAR(10),#REF!,CHAR(10),\"Trimestre 4\",CHAR(10),#REF!),\" \")","v":" "},{"$f":"IFERROR(_xlfn.CONCAT(\"Trimestre 1\",CHAR(10),#REF!,CHAR(10),\"Trimestre 2\",CHAR(10),#REF!,CHAR(10),\"Trimestre 3\",CHAR(10),#REF!,CHAR(10),\"Trimestre 4\",CHAR(10),#REF!),\" \")","v":" "}]
[null,null,null,null,null,null,null,null,null,null,null,null,null,null,null,{"$f":"IFERROR(MAX(#REF!,#REF!,#REF!,#REF!),\" \")","v":" "},"",{"$f":"IFERROR(_xlfn.CONCAT(\"Trimestre 1\",CHAR(10),#REF!,CHAR(10),\"Trimestre 2\",CHAR(10),#REF!,CHAR(10),\"Trimestre 3\",CHAR(10),#REF!,CHAR(10),\"Trimestre 4\",CHAR(10),#REF!),\" \")","v":" "},{"$f":"IFERROR(_xlfn.CONCAT(\"Trimestre 1\",CHAR(10),#REF!,CHAR(10),\"Trimestre 2\",CHAR(10),#REF!,CHAR(10),\"Trimestre 3\",CHAR(10),#REF!,CHAR(10),\"Trimestre 4\",CHAR(10),#REF!),\" \")","v":" "}]
[null,null,null,null,null,null,null,null,null,null,null,null,null,null,null,{"$f":"IFERROR(MAX(#REF!,#REF!,#REF!,#REF!),\" \")","v":" "},"",{"$f":"IFERROR(_xlfn.CONCAT(\"Trimestre 1\",CHAR(10),#REF!,CHAR(10),\"Trimestre 2\",CHAR(10),#REF!,CHAR(10),\"Trimestre 3\",CHAR(10),#REF!,CHAR(10),\"Trimestre 4\",CHAR(10),#REF!),\" \")","v":" "},{"$f":"IFERROR(_xlfn.CONCAT(\"Trimestre 1\",CHAR(10),#REF!,CHAR(10),\"Trimestre 2\",CHAR(10),#REF!,CHAR(10),\"Trimestre 3\",CHAR(10),#REF!,CHAR(10),\"Trimestre 4\",CHAR(10),#REF!),\" \")","v":" "}]
[null,null,"6. Promover la rendición de cuentas y la colaboración real con la ciudadanía como fundamento para diseñar acciones de mejoramiento del acceso a la justicia.",null,"Estratégicos","Admin - Comunicación Institucional","Seccional","Publicar el informe de rendición de cuentas y realizar audiencia publica a la comunidad ","Meta cuantificable",1,"Informe/audiencia","Alta Dirección","Informes","2024-01-01","2024-12-31",{"$f":"IFERROR(MAX(#REF!,#REF!,#REF!,#REF!),\" \")","v":" "},"",{"$f":"IFERROR(_xlfn.CONCAT(\"Trimestre 1\",CHAR(10),#REF!,CHAR(10),\"Trimestre 2\",CHAR(10),#REF!,CHAR(10),\"Trimestre 3\",CHAR(10),#REF!,CHAR(10),\"Trimestre 4\",CHAR(10),#REF!),\" \")","v":" "},{"$f":"IFERROR(_xlfn.CONCAT(\"Trimestre 1\",CHAR(10),#REF!,CHAR(10),\"Trimestre 2\",CHAR(10),#REF!,CHAR(10),\"Trimestre 3\",CHAR(10),#REF!,CHAR(10),\"Trimestre 4\",CHAR(10),#REF!),\" \")","v":" "}]
[null,null,null,null,null,null,null,null,null,null,null,null,null,null,null,{"$f":"IFERROR(MAX(#REF!,#REF!,#REF!,#REF!),\" \")","v":" "},"",{"$f":"IFERROR(_xlfn.CONCAT(\"Trimestre 1\",CHAR(10),#REF!,CHAR(10),\"Trimestre 2\",CHAR(10),#REF!,CHAR(10),\"Trimestre 3\",CHAR(10),#REF!,CHAR(10),\"Trimestre 4\",CHAR(10),#REF!),\" \")","v":" "},{"$f":"IFERROR(_xlfn.CONCAT(\"Trimestre 1\",CHAR(10),#REF!,CHAR(10),\"Trimestre 2\",CHAR(10),#REF!,CHAR(10),\"Trimestre 3\",CHAR(10),#REF!,CHAR(10),\"Trimestre 4\",CHAR(10),#REF!),\" \")","v":" "}]
[null,null,null,null,null,null,null,null,null,null,null,null,null,null,null,{"$f":"IFERROR(MAX(#REF!,#REF!,#REF!,#REF!),\" \")","v":" "},null,{"$f":"IFERROR(_xlfn.CONCAT(\"Trimestre 1\",CHAR(10),#REF!,CHAR(10),\"Trimestre 2\",CHAR(10),#REF!,CHAR(10),\"Trimestre 3\",CHAR(10),#REF!,CHAR(10),\"Trimestre 4\",CHAR(10),#REF!),\" \")","v":" "},{"$f":"IFERROR(_xlfn.CONCAT(\"Trimestre 1\",CHAR(10),#REF!,CHAR(10),\"Trimestre 2\",CHAR(10),#REF!,CHAR(10),\"Trimestre 3\",CHAR(10),#REF!,CHAR(10),\"Trimestre 4\",CHAR(10),#REF!),\" \")","v":" "}]
[null,null,null,null,null,null,null,null,null,null,null,null,null,null,null,{"$f":"IFERROR(MAX(#REF!,#REF!,#REF!,#REF!),\" \")","v":" "},null,{"$f":"IFERROR(_xlfn.CONCAT(\"Trimestre 1\",CHAR(10),#REF!,CHAR(10),\"Trimestre 2\",CHAR(10),#REF!,CHAR(10),\"Trimestre 3\",CHAR(10),#REF!,CHAR(10),\"Trimestre 4\",CHAR(10),#REF!),\" \")","v":" "},{"$f":"IFERROR(_xlfn.CONCAT(\"Trimestre 1\",CHAR(10),#REF!,CHAR(10),\"Trimestre 2\",CHAR(10),#REF!,CHAR(10),\"Trimestre 3\",CHAR(10),#REF!,CHAR(10),\"Trimestre 4\",CHAR(10),#REF!),\" \")","v":" "}]
[null,null,null,null,null,null,null,null,null,null,null,null,null,null,null,{"$f":"IFERROR(MAX(#REF!,#REF!,#REF!,#REF!),\" \")","v":" "},null,{"$f":"IFERROR(_xlfn.CONCAT(\"Trimestre 1\",CHAR(10),#REF!,CHAR(10),\"Trimestre 2\",CHAR(10),#REF!,CHAR(10),\"Trimestre 3\",CHAR(10),#REF!,CHAR(10),\"Trimestre 4\",CHAR(10),#REF!),\" \")","v":" "},{"$f":"IFERROR(_xlfn.CONCAT(\"Trimestre 1\",CHAR(10),#REF!,CHAR(10),\"Trimestre 2\",CHAR(10),#REF!,CHAR(10),\"Trimestre 3\",CHAR(10),#REF!,CHAR(10),\"Trimestre 4\",CHAR(10),#REF!),\" \")","v":" "}]
[null,null,null,null,null,null,null,null,null,null,null,null,null,null,null,{"$f":"IFERROR(MAX(#REF!,#REF!,#REF!,#REF!),\" \")","v":" "},null,{"$f":"IFERROR(_xlfn.CONCAT(\"Trimestre 1\",CHAR(10),#REF!,CHAR(10),\"Trimestre 2\",CHAR(10),#REF!,CHAR(10),\"Trimestre 3\",CHAR(10),#REF!,CHAR(10),\"Trimestre 4\",CHAR(10),#REF!),\" \")","v":" "},{"$f":"IFERROR(_xlfn.CONCAT(\"Trimestre 1\",CHAR(10),#REF!,CHAR(10),\"Trimestre 2\",CHAR(10),#REF!,CHAR(10),\"Trimestre 3\",CHAR(10),#REF!,CHAR(10),\"Trimestre 4\",CHAR(10),#REF!),\" \")","v":" "}]
[null,null,null,null,null,null,null,null,null,null,null,null,null,null,null,{"$f":"IFERROR(MAX(#REF!,#REF!,#REF!,#REF!),\" \")","v":" "},null,{"$f":"IFERROR(_xlfn.CONCAT(\"Trimestre 1\",CHAR(10),#REF!,CHAR(10),\"Trimestre 2\",CHAR(10),#REF!,CHAR(10),\"Trimestre 3\",CHAR(10),#REF!,CHAR(10),\"Trimestre 4\",CHAR(10),#REF!),\" \")","v":" "},{"$f":"IFERROR(_xlfn.CONCAT(\"Trimestre 1\",CHAR(10),#REF!,CHAR(10),\"Trimestre 2\",CHAR(10),#REF!,CHAR(10),\"Trimestre 3\",CHAR(10),#REF!,CHAR(10),\"Trimestre 4\",CHAR(10),#REF!),\" \")","v":" "}]
[null,null,null,null,null,null,null,null,null,null,null,null,null,null,null,{"$f":"IFERROR(MAX(#REF!,#REF!,#REF!,#REF!),\" \")","v":" "},"",{"$f":"IFERROR(_xlfn.CONCAT(\"Trimestre 1\",CHAR(10),#REF!,CHAR(10),\"Trimestre 2\",CHAR(10),#REF!,CHAR(10),\"Trimestre 3\",CHAR(10),#REF!,CHAR(10),\"Trimestre 4\",CHAR(10),#REF!),\" \")","v":" "},{"$f":"IFERROR(_xlfn.CONCAT(\"Trimestre 1\",CHAR(10),#REF!,CHAR(10),\"Trimestre 2\",CHAR(10),#REF!,CHAR(10),\"Trimestre 3\",CHAR(10),#REF!,CHAR(10),\"Trimestre 4\",CHAR(10),#REF!),\" \")","v":" "}]
[null,null,null,null,null,null,null,null,null,null,null,null,null,null,null,{"$f":"IFERROR(MAX(#REF!,#REF!,#REF!,#REF!),\" \")","v":" "},"",{"$f":"IFERROR(_xlfn.CONCAT(\"Trimestre 1\",CHAR(10),#REF!,CHAR(10),\"Trimestre 2\",CHAR(10),#REF!,CHAR(10),\"Trimestre 3\",CHAR(10),#REF!,CHAR(10),\"Trimestre 4\",CHAR(10),#REF!),\" \")","v":" "},{"$f":"IFERROR(_xlfn.CONCAT(\"Trimestre 1\",CHAR(10),#REF!,CHAR(10),\"Trimestre 2\",CHAR(10),#REF!,CHAR(10),\"Trimestre 3\",CHAR(10),#REF!,CHAR(10),\"Trimestre 4\",CHAR(10),#REF!),\" \")","v":" "}]
[null,null,null,null,null,null,null,null,null,null,null,null,null,null,null,{"$f":"IFERROR(MAX(#REF!,#REF!,#REF!,#REF!),\" \")","v":" "},"",{"$f":"IFERROR(_xlfn.CONCAT(\"Trimestre 1\",CHAR(10),#REF!,CHAR(10),\"Trimestre 2\",CHAR(10),#REF!,CHAR(10),\"Trimestre 3\",CHAR(10),#REF!,CHAR(10),\"Trimestre 4\",CHAR(10),#REF!),\" \")","v":" "},{"$f":"IFERROR(_xlfn.CONCAT(\"Trimestre 1\",CHAR(10),#REF!,CHAR(10),\"Trimestre 2\",CHAR(10),#REF!,CHAR(10),\"Trimestre 3\",CHAR(10),#REF!,CHAR(10),\"Trimestre 4\",CHAR(10),#REF!),\" \")","v":" "}]
[null,null,"7. Continuar la consolidación del SIGCMA, a través de los procesos de formación en modelos de gestión, logrando la implementación y ampliación de este en los esquemas certificados de manera gradual, teniendo en cuenta las capacidades de los diferentes despachos judiciales y dependencias de la Rama Judicial y articulando el enfoque de Arquitectura Empresarial para el desarrollo del PETD a través de la gestión del conocimiento para la gestión del cambio propendiendo por una cultura de la calidad, la transparencia, la rendición de cuentas, la anticorrupción y el antisoborno","1. Gestionar el desarrollo de las competencias, la toma de conciencia , la cultura  organizacional  y el compromiso de los  servidores judiciales, contratistas, practicantes y  judicantes de contribuir a generar valor público en la administración de justicia, en el marco de  cumplimiento de los requisitos  aplicables y el comportamiento ético.\n4. Hacer un uso racional de los recursos naturales aplicando los principios y fases de la Economía Circular, para prevenir, mitigar y controlar los impactos ambientales.","Estratégicos","Admin - Planeación Estratégica","Seccional","Realizar reuniones del Comité Seccional del Sistema Integrado de Gestión y Control de la Calidad y Medio Ambiente (SIGCMA)","Meta cuantificable",7,"Reuniones de comité","Alta Dirección/Profesional de calidad","Acta de reunión","2024-01-01","2024-12-31",{"$f":"IFERROR(MAX(#REF!,#REF!,#REF!,#REF!),\" \")","v":" "},"",{"$f":"IFERROR(_xlfn.CONCAT(\"Trimestre 1\",CHAR(10),#REF!,CHAR(10),\"Trimestre 2\",CHAR(10),#REF!,CHAR(10),\"Trimestre 3\",CHAR(10),#REF!,CHAR(10),\"Trimestre 4\",CHAR(10),#REF!),\" \")","v":" "},{"$f":"IFERROR(_xlfn.CONCAT(\"Trimestre 1\",CHAR(10),#REF!,CHAR(10),\"Trimestre 2\",CHAR(10),#REF!,CHAR(10),\"Trimestre 3\",CHAR(10),#REF!,CHAR(10),\"Trimestre 4\",CHAR(10),#REF!),\" \")","v":" "}]
[null,null,null,null,"Estratégicos","Admin - Planeación Estratégica","Seccional","Realizar actividades de planeación, ejecución, verificación y ajuste tendientes al mantenimiento y mejorar el SICGMA en las dependencias judiciales y administrativas de la Seccional Antioquia.","Entregable",null,null,"Alta Dirección/Profesional de calidad","Listado de asistencia","2024-01-01","2024-12-31",{"$f":"IFERROR(MAX(#REF!,#REF!,#REF!,#REF!),\" \")","v":" "},null,{"$f":"IFERROR(_xlfn.CONCAT(\"Trimestre 1\",CHAR(10),#REF!,CHAR(10),\"Trimestre 2\",CHAR(10),#REF!,CHAR(10),\"Trimestre 3\",CHAR(10),#REF!,CHAR(10),\"Trimestre 4\",CHAR(10),#REF!),\" \")","v":" "},{"$f":"IFERROR(_xlfn.CONCAT(\"Trimestre 1\",CHAR(10),#REF!,CHAR(10),\"Trimestre 2\",CHAR(10),#REF!,CHAR(10),\"Trimestre 3\",CHAR(10),#REF!,CHAR(10),\"Trimestre 4\",CHAR(10),#REF!),\" \")","v":" "}]
[null,null,null,null,"Estratégicos","Admin - Comunicación Institucional","Seccional","Radicar oportunamente las vigilancias judiciales administrativas que se adelanten de oficio o a petición de parte","Entregable",null,null,"Secretaría del Consejo Seccional","Archivo de vigilancias en Excel","2024-01-01","2024-12-31",{"$f":"IFERROR(MAX(#REF!,#REF!,#REF!,#REF!),\" \")","v":" "},null,{"$f":"IFERROR(_xlfn.CONCAT(\"Trimestre 1\",CHAR(10),#REF!,CHAR(10),\"Trimestre 2\",CHAR(10),#REF!,CHAR(10),\"Trimestre 3\",CHAR(10),#REF!,CHAR(10),\"Trimestre 4\",CHAR(10),#REF!),\" \")","v":" "},{"$f":"IFERROR(_xlfn.CONCAT(\"Trimestre 1\",CHAR(10),#REF!,CHAR(10),\"Trimestre 2\",CHAR(10),#REF!,CHAR(10),\"Trimestre 3\",CHAR(10),#REF!,CHAR(10),\"Trimestre 4\",CHAR(10),#REF!),\" \")","v":" "}]
[null,null,null,null,"Apoyo","Admin - Gestión Administrativa",null,"Desarrollar buenas prácticas en materia de Gestión Ambiental alineadas con el  Acuerdo PSAA14-10160, como instalación de sensores de proximidad para el encendido de luminarias, grifos ahorradores de agua y campañas de ahorro de papel e insumos de impresión.","Entregable",null,null,"Área Administrativa","Actas/cumplidos","2024-01-01","2024-12-31",{"$f":"IFERROR(MAX(#REF!,#REF!,#REF!,#REF!),\" \")","v":" "},null,{"$f":"IFERROR(_xlfn.CONCAT(\"Trimestre 1\",CHAR(10),#REF!,CHAR(10),\"Trimestre 2\",CHAR(10),#REF!,CHAR(10),\"Trimestre 3\",CHAR(10),#REF!,CHAR(10),\"Trimestre 4\",CHAR(10),#REF!),\" \")","v":" "},{"$f":"IFERROR(_xlfn.CONCAT(\"Trimestre 1\",CHAR(10),#REF!,CHAR(10),\"Trimestre 2\",CHAR(10),#REF!,CHAR(10),\"Trimestre 3\",CHAR(10),#REF!,CHAR(10),\"Trimestre 4\",CHAR(10),#REF!),\" \")","v":" "}]
[null,null,null,null,null,null,null,null,null,null,null,null,null,null,null,{"$f":"IFERROR(MAX(#REF!,#REF!,#REF!,#REF!),\" \")","v":" "},null,{"$f":"IFERROR(_xlfn.CONCAT(\"Trimestre 1\",CHAR(10),#REF!,CHAR(10),\"Trimestre 2\",CHAR(10),#REF!,CHAR(10),\"Trimestre 3\",CHAR(10),#REF!,CHAR(10),\"Trimestre 4\",CHAR(10),#REF!),\" \")","v":" "},{"$f":"IFERROR(_xlfn.CONCAT(\"Trimestre 1\",CHAR(10),#REF!,CHAR(10),\"Trimestre 2\",CHAR(10),#REF!,CHAR(10),\"Trimestre 3\",CHAR(10),#REF!,CHAR(10),\"Trimestre 4\",CHAR(10),#REF!),\" \")","v":" "}]
[null,null,null,null,"Apoyo","Admin - Asistencia Legal","Seccional","Radicar procesos cobro coactivo (Crear del proceso en el aplicativo de gestión de cobro coactivo)","Meta cuantificable",100,"Procesos por trimestre","Grupo Cobro Coactivo","Aplicativo de cobro coactivo","2024-01-01","2024-12-31",{"$f":"IFERROR(MAX(#REF!,#REF!,#REF!,#REF!),\" \")","v":" "},null,{"$f":"IFERROR(_xlfn.CONCAT(\"Trimestre 1\",CHAR(10),#REF!,CHAR(10),\"Trimestre 2\",CHAR(10),#REF!,CHAR(10),\"Trimestre 3\",CHAR(10),#REF!,CHAR(10),\"Trimestre 4\",CHAR(10),#REF!),\" \")","v":" "},{"$f":"IFERROR(_xlfn.CONCAT(\"Trimestre 1\",CHAR(10),#REF!,CHAR(10),\"Trimestre 2\",CHAR(10),#REF!,CHAR(10),\"Trimestre 3\",CHAR(10),#REF!,CHAR(10),\"Trimestre 4\",CHAR(10),#REF!),\" \")","v":" "}]
[null,null,null,null,"Apoyo","Admin - Asistencia Legal","Seccional","Realizar gestiones de cobro persuasivo a los deudores de la entidad. ","Entregable",null,null,"Grupo Cobro Coactivo","Listado de solicitues","2024-01-01","2024-12-31",{"$f":"IFERROR(MAX(#REF!,#REF!,#REF!,#REF!),\" \")","v":" "},"",{"$f":"IFERROR(_xlfn.CONCAT(\"Trimestre 1\",CHAR(10),#REF!,CHAR(10),\"Trimestre 2\",CHAR(10),#REF!,CHAR(10),\"Trimestre 3\",CHAR(10),#REF!,CHAR(10),\"Trimestre 4\",CHAR(10),#REF!),\" \")","v":" "},{"$f":"IFERROR(_xlfn.CONCAT(\"Trimestre 1\",CHAR(10),#REF!,CHAR(10),\"Trimestre 2\",CHAR(10),#REF!,CHAR(10),\"Trimestre 3\",CHAR(10),#REF!,CHAR(10),\"Trimestre 4\",CHAR(10),#REF!),\" \")","v":" "}]
[null,null,null,null,"Apoyo","Admin - Asistencia Legal","Seccional","Realizar gestiones de cobro coactivo a los deudores de la entidad. ","Entregable",null,null,"Grupo Cobro Coactivo","Acuerdos de pago","2024-01-01","2024-12-31",{"$f":"IFERROR(MAX(#REF!,#REF!,#REF!,#REF!),\" \")","v":" "},"",{"$f":"IFERROR(_xlfn.CONCAT(\"Trimestre 1\",CHAR(10),#REF!,CHAR(10),\"Trimestre 2\",CHAR(10),#REF!,CHAR(10),\"Trimestre 3\",CHAR(10),#REF!,CHAR(10),\"Trimestre 4\",CHAR(10),#REF!),\" \")","v":" "},{"$f":"IFERROR(_xlfn.CONCAT(\"Trimestre 1\",CHAR(10),#REF!,CHAR(10),\"Trimestre 2\",CHAR(10),#REF!,CHAR(10),\"Trimestre 3\",CHAR(10),#REF!,CHAR(10),\"Trimestre 4\",CHAR(10),#REF!),\" \")","v":" "}]
[null,null,null,null,"Evaluación_y_Mejora","Admin - Mejoramiento del Sistema Integrado de Gestión y Control de la Calidad y del Medio Ambiente","Seccional","Realizar acompañamiento para la implementación, mantenimiento y mejora de los Sistemas de Gestión ","Entregable",null,null,"Profesional de calidad","Listados de asistencia","2024-01-01","2024-12-31",{"$f":"IFERROR(MAX(#REF!,#REF!,#REF!,#REF!),\" \")","v":" "},"",{"$f":"IFERROR(_xlfn.CONCAT(\"Trimestre 1\",CHAR(10),#REF!,CHAR(10),\"Trimestre 2\",CHAR(10),#REF!,CHAR(10),\"Trimestre 3\",CHAR(10),#REF!,CHAR(10),\"Trimestre 4\",CHAR(10),#REF!),\" \")","v":" "},{"$f":"IFERROR(_xlfn.CONCAT(\"Trimestre 1\",CHAR(10),#REF!,CHAR(10),\"Trimestre 2\",CHAR(10),#REF!,CHAR(10),\"Trimestre 3\",CHAR(10),#REF!,CHAR(10),\"Trimestre 4\",CHAR(10),#REF!),\" \")","v":" "}]
[null,null,null,null,"Evaluación_y_Mejora","Admin - Mejoramiento del Sistema Integrado de Gestión y Control de la Calidad y del Medio Ambiente","Seccional","Realizar control al cumplimiento de las actividades definidas en el plan de acción del SIGCMA","Entregable",null,null,"Profesional de calidad","Listados de asistencia","2024-01-01","2024-12-31",{"$f":"IFERROR(MAX(#REF!,#REF!,#REF!,#REF!),\" \")","v":" "},"",{"$f":"IFERROR(_xlfn.CONCAT(\"Trimestre 1\",CHAR(10),#REF!,CHAR(10),\"Trimestre 2\",CHAR(10),#REF!,CHAR(10),\"Trimestre 3\",CHAR(10),#REF!,CHAR(10),\"Trimestre 4\",CHAR(10),#REF!),\" \")","v":" "},{"$f":"IFERROR(_xlfn.CONCAT(\"Trimestre 1\",CHAR(10),#REF!,CHAR(10),\"Trimestre 2\",CHAR(10),#REF!,CHAR(10),\"Trimestre 3\",CHAR(10),#REF!,CHAR(10),\"Trimestre 4\",CHAR(10),#REF!),\" \")","v":" "}]
["4. Talento Humano","Talento Humano: Fortalecer el talento humano en la Rama Judicial para que sea eficiente, capacitado y realice su labor en ambientes saludables y seguros. Ampliar la cobertura de la carrera judicial y mejorar la oferta de formación, que esté disponible para todos los servidores judiciales e impacte positivamente el servicio de justicia y responda a las necesidades reales del ejercicio de la función judicial.","1. Ampliar la cobertura de la carrera judicial optimizando los procesos de los concursos de méritos y propender por mitigar su litigiosidad.","1. Gestionar el desarrollo de las competencias, la toma de conciencia , la cultura  organizacional  y el compromiso de los  servidores judiciales, contratistas, practicantes y  judicantes de contribuir a generar valor público en la administración de justicia, en el marco de  cumplimiento de los requisitos  aplicables y el comportamiento ético.","Misionales","Admin - Administración de la Carrera Judicial","Seccional","Expedir y publicar los actos administrativos  que resulten de las diferentes etapas del concurso de méritos de empleados en los Distritos Judiciales de Medellín y Antioquia  (Tribunales, Juzgados, Centro de Servicios), ","Entregable",null,null,"Magistrados del Consejo Seccional","Acuerdos/Resoluciones","2024-01-01","2024-12-31",{"$f":"IFERROR(MAX(#REF!,#REF!,#REF!,#REF!),\" \")","v":" "},"",{"$f":"IFERROR(_xlfn.CONCAT(\"Trimestre 1\",CHAR(10),#REF!,CHAR(10),\"Trimestre 2\",CHAR(10),#REF!,CHAR(10),\"Trimestre 3\",CHAR(10),#REF!,CHAR(10),\"Trimestre 4\",CHAR(10),#REF!),\" \")","v":" "},{"$f":"IFERROR(_xlfn.CONCAT(\"Trimestre 1\",CHAR(10),#REF!,CHAR(10),\"Trimestre 2\",CHAR(10),#REF!,CHAR(10),\"Trimestre 3\",CHAR(10),#REF!,CHAR(10),\"Trimestre 4\",CHAR(10),#REF!),\" \")","v":" "}]
[null,null,null,null,"Misionales","Admin - Administración de la Carrera Judicial","Seccional","Identificar los sujetos calificables de la vigencia anterior, con el fin de realizar la calificación integral de servicios de los jueces de la Republica en los Distritos Judiciales de Medellín y Antioquia a la luz del Acuerdo PSAA16-10618 de 2016","Entregable",null,null,"Magistrados del Consejo Seccional","Acuerdos/Resoluciones","2024-01-01","2024-12-31",{"$f":"IFERROR(MAX(#REF!,#REF!,#REF!,#REF!),\" \")","v":" "},"",{"$f":"IFERROR(_xlfn.CONCAT(\"Trimestre 1\",CHAR(10),#REF!,CHAR(10),\"Trimestre 2\",CHAR(10),#REF!,CHAR(10),\"Trimestre 3\",CHAR(10),#REF!,CHAR(10),\"Trimestre 4\",CHAR(10),#REF!),\" \")","v":" "},{"$f":"IFERROR(_xlfn.CONCAT(\"Trimestre 1\",CHAR(10),#REF!,CHAR(10),\"Trimestre 2\",CHAR(10),#REF!,CHAR(10),\"Trimestre 3\",CHAR(10),#REF!,CHAR(10),\"Trimestre 4\",CHAR(10),#REF!),\" \")","v":" "}]
[null,null,null,null,"Misionales","Admin - Administración de la Carrera Judicial","Seccional","Practicar visitas presenciales o virtuales a los despachos judiciales para calificar el factor organización del trabajo ","Meta cuantificable",460,"Despachos judiciales","Magistrados del Consejo Seccional","Acta de visitas","2024-01-01","2024-12-31",{"$f":"IFERROR(MAX(#REF!,#REF!,#REF!,#REF!),\" \")","v":" "},null,{"$f":"IFERROR(_xlfn.CONCAT(\"Trimestre 1\",CHAR(10),#REF!,CHAR(10),\"Trimestre 2\",CHAR(10),#REF!,CHAR(10),\"Trimestre 3\",CHAR(10),#REF!,CHAR(10),\"Trimestre 4\",CHAR(10),#REF!),\" \")","v":" "},{"$f":"IFERROR(_xlfn.CONCAT(\"Trimestre 1\",CHAR(10),#REF!,CHAR(10),\"Trimestre 2\",CHAR(10),#REF!,CHAR(10),\"Trimestre 3\",CHAR(10),#REF!,CHAR(10),\"Trimestre 4\",CHAR(10),#REF!),\" \")","v":" "}]
[null,null,null,null,"Misionales","Admin - Administración de la Carrera Judicial","Seccional","Tramitar situaciones administrativas de servidores judiciales relacionadas con conceptos de traslado, permisos de estudio y de residencia, ademas de su respectiva notificación","Entregable",null,null,"Magistrados del Consejo Seccional","Resoluciones","2024-01-01","2024-12-31",{"$f":"IFERROR(MAX(#REF!,#REF!,#REF!,#REF!),\" \")","v":" "},null,{"$f":"IFERROR(_xlfn.CONCAT(\"Trimestre 1\",CHAR(10),#REF!,CHAR(10),\"Trimestre 2\",CHAR(10),#REF!,CHAR(10),\"Trimestre 3\",CHAR(10),#REF!,CHAR(10),\"Trimestre 4\",CHAR(10),#REF!),\" \")","v":" "},{"$f":"IFERROR(_xlfn.CONCAT(\"Trimestre 1\",CHAR(10),#REF!,CHAR(10),\"Trimestre 2\",CHAR(10),#REF!,CHAR(10),\"Trimestre 3\",CHAR(10),#REF!,CHAR(10),\"Trimestre 4\",CHAR(10),#REF!),\" \")","v":" "}]
[null,null,null,null,"Misionales","Admin - Administración de la Carrera Judicial","Seccional","Consolidar la calificación Integral de servicios de los Jueces de los Distritos Judiciales de Medellín y Antioquia, a la luz del Acuerdo PCSJA21-10618 de 2021.","Entregable",null,null,"Magistrados del Consejo Seccional","Base de datos en Excel","2024-01-01","2024-12-31",{"$f":"IFERROR(MAX(#REF!,#REF!,#REF!,#REF!),\" \")","v":" "},null,{"$f":"IFERROR(_xlfn.CONCAT(\"Trimestre 1\",CHAR(10),#REF!,CHAR(10),\"Trimestre 2\",CHAR(10),#REF!,CHAR(10),\"Trimestre 3\",CHAR(10),#REF!,CHAR(10),\"Trimestre 4\",CHAR(10),#REF!),\" \")","v":" "},{"$f":"IFERROR(_xlfn.CONCAT(\"Trimestre 1\",CHAR(10),#REF!,CHAR(10),\"Trimestre 2\",CHAR(10),#REF!,CHAR(10),\"Trimestre 3\",CHAR(10),#REF!,CHAR(10),\"Trimestre 4\",CHAR(10),#REF!),\" \")","v":" "}]
[null,null,null,null,"Misionales","Admin - Administración de la Carrera Judicial","Seccional","Evaluar  Factores  Rendimiento o eficiencia relacionados con el movimiento y trámite de procesos y organización del trabajo","Meta cuantificable",460,"Formularios de evaluación","Magistrados del Consejo Seccional","Formato","2024-01-01","2024-12-31",{"$f":"IFERROR(MAX(#REF!,#REF!,#REF!,#REF!),\" \")","v":" "},null,{"$f":"IFERROR(_xlfn.CONCAT(\"Trimestre 1\",CHAR(10),#REF!,CHAR(10),\"Trimestre 2\",CHAR(10),#REF!,CHAR(10),\"Trimestre 3\",CHAR(10),#REF!,CHAR(10),\"Trimestre 4\",CHAR(10),#REF!),\" \")","v":" "},{"$f":"IFERROR(_xlfn.CONCAT(\"Trimestre 1\",CHAR(10),#REF!,CHAR(10),\"Trimestre 2\",CHAR(10),#REF!,CHAR(10),\"Trimestre 3\",CHAR(10),#REF!,CHAR(10),\"Trimestre 4\",CHAR(10),#REF!),\" \")","v":" "}]
[null,null,null,null,"Misionales","Admin - Administración de la Carrera Judicial","Seccional","Tramitar y expedir los actos administrativos de reclasificación de empleados según el artículo 165 de la Ley 270 de 1996 y acuerdos 1242 de 2001 y 1395 de 2002","Entregable",null,null,"Magistrados del Consejo Seccional","Resoluciones","2024-01-01","2024-12-31",{"$f":"IFERROR(MAX(#REF!,#REF!,#REF!,#REF!),\" \")","v":" "},null,{"$f":"IFERROR(_xlfn.CONCAT(\"Trimestre 1\",CHAR(10),#REF!,CHAR(10),\"Trimestre 2\",CHAR(10),#REF!,CHAR(10),\"Trimestre 3\",CHAR(10),#REF!,CHAR(10),\"Trimestre 4\",CHAR(10),#REF!),\" \")","v":" "},{"$f":"IFERROR(_xlfn.CONCAT(\"Trimestre 1\",CHAR(10),#REF!,CHAR(10),\"Trimestre 2\",CHAR(10),#REF!,CHAR(10),\"Trimestre 3\",CHAR(10),#REF!,CHAR(10),\"Trimestre 4\",CHAR(10),#REF!),\" \")","v":" "}]
[null,null,null,null,"Misionales","Admin - Administración de la Carrera Judicial","Seccional","Expedir el registro seccional de elegibles por cargo.","Meta cuantificable",12,"Documento registro de elegibles","Magistrados del Consejo Seccional","Acuerdos ","2024-01-01","2024-12-31",{"$f":"IFERROR(MAX(#REF!,#REF!,#REF!,#REF!),\" \")","v":" "},"",{"$f":"IFERROR(_xlfn.CONCAT(\"Trimestre 1\",CHAR(10),#REF!,CHAR(10),\"Trimestre 2\",CHAR(10),#REF!,CHAR(10),\"Trimestre 3\",CHAR(10),#REF!,CHAR(10),\"Trimestre 4\",CHAR(10),#REF!),\" \")","v":" "},{"$f":"IFERROR(_xlfn.CONCAT(\"Trimestre 1\",CHAR(10),#REF!,CHAR(10),\"Trimestre 2\",CHAR(10),#REF!,CHAR(10),\"Trimestre 3\",CHAR(10),#REF!,CHAR(10),\"Trimestre 4\",CHAR(10),#REF!),\" \")","v":" "}]
[null,null,null,null,"Misionales","Admin - Administración de la Carrera Judicial","Seccional","Identificar, reportar y/o publicar mensualmente las vacantes de jueces y empleados identificadas y emitir los actos administrativos con los cuales se excluye, actualiza o inscribe en el escalafón a estos servidores judiciales.","Entregable",null,null,"Secretaría del Consejo Seccional","Reportes","2024-01-01","2024-12-31",{"$f":"IFERROR(MAX(#REF!,#REF!,#REF!,#REF!),\" \")","v":" "},"",{"$f":"IFERROR(_xlfn.CONCAT(\"Trimestre 1\",CHAR(10),#REF!,CHAR(10),\"Trimestre 2\",CHAR(10),#REF!,CHAR(10),\"Trimestre 3\",CHAR(10),#REF!,CHAR(10),\"Trimestre 4\",CHAR(10),#REF!),\" \")","v":" "},{"$f":"IFERROR(_xlfn.CONCAT(\"Trimestre 1\",CHAR(10),#REF!,CHAR(10),\"Trimestre 2\",CHAR(10),#REF!,CHAR(10),\"Trimestre 3\",CHAR(10),#REF!,CHAR(10),\"Trimestre 4\",CHAR(10),#REF!),\" \")","v":" "}]
[null,null,null,null,null,null,null,null,null,null,null,null,null,null,null,{"$f":"IFERROR(MAX(#REF!,#REF!,#REF!,#REF!),\" \")","v":" "},"",{"$f":"IFERROR(_xlfn.CONCAT(\"Trimestre 1\",CHAR(10),#REF!,CHAR(10),\"Trimestre 2\",CHAR(10),#REF!,CHAR(10),\"Trimestre 3\",CHAR(10),#REF!,CHAR(10),\"Trimestre 4\",CHAR(10),#REF!),\" \")","v":" "},{"$f":"IFERROR(_xlfn.CONCAT(\"Trimestre 1\",CHAR(10),#REF!,CHAR(10),\"Trimestre 2\",CHAR(10),#REF!,CHAR(10),\"Trimestre 3\",CHAR(10),#REF!,CHAR(10),\"Trimestre 4\",CHAR(10),#REF!),\" \")","v":" "}]
[null,null,"2. Impactar la función y servicios que presta la Rama Judicial, a través de una formación integral desde una visión de gestión del conocimiento, relacionada con los problemas de la justicia y los problemas de gestión de quienes administran los recursos de la justicia, y potenciando el uso de medios virtuales.",null,null,null,null,null,null,null,null,null,null,null,null,{"$f":"IFERROR(MAX(#REF!,#REF!,#REF!,#REF!),\" \")","v":" "},"",{"$f":"IFERROR(_xlfn.CONCAT(\"Trimestre 1\",CHAR(10),#REF!,CHAR(10),\"Trimestre 2\",CHAR(10),#REF!,CHAR(10),\"Trimestre 3\",CHAR(10),#REF!,CHAR(10),\"Trimestre 4\",CHAR(10),#REF!),\" \")","v":" "},{"$f":"IFERROR(_xlfn.CONCAT(\"Trimestre 1\",CHAR(10),#REF!,CHAR(10),\"Trimestre 2\",CHAR(10),#REF!,CHAR(10),\"Trimestre 3\",CHAR(10),#REF!,CHAR(10),\"Trimestre 4\",CHAR(10),#REF!),\" \")","v":" "}]
[null,null,null,null,null,null,null,null,null,null,null,null,null,null,null,{"$f":"IFERROR(MAX(#REF!,#REF!,#REF!,#REF!),\" \")","v":" "},{"$f":"IFERROR(P197/J197,\"\")","v":""},{"$f":"IFERROR(_xlfn.CONCAT(\"Trimestre 1\",CHAR(10),#REF!,CHAR(10),\"Trimestre 2\",CHAR(10),#REF!,CHAR(10),\"Trimestre 3\",CHAR(10),#REF!,CHAR(10),\"Trimestre 4\",CHAR(10),#REF!),\" \")","v":" "},{"$f":"IFERROR(_xlfn.CONCAT(\"Trimestre 1\",CHAR(10),#REF!,CHAR(10),\"Trimestre 2\",CHAR(10),#REF!,CHAR(10),\"Trimestre 3\",CHAR(10),#REF!,CHAR(10),\"Trimestre 4\",CHAR(10),#REF!),\" \")","v":" "}]
[null,null,null,null,null,null,null,null,null,null,null,null,null,null,null,{"$f":"IFERROR(MAX(#REF!,#REF!,#REF!,#REF!),\" \")","v":" "},null,{"$f":"IFERROR(_xlfn.CONCAT(\"Trimestre 1\",CHAR(10),#REF!,CHAR(10),\"Trimestre 2\",CHAR(10),#REF!,CHAR(10),\"Trimestre 3\",CHAR(10),#REF!,CHAR(10),\"Trimestre 4\",CHAR(10),#REF!),\" \")","v":" "},{"$f":"IFERROR(_xlfn.CONCAT(\"Trimestre 1\",CHAR(10),#REF!,CHAR(10),\"Trimestre 2\",CHAR(10),#REF!,CHAR(10),\"Trimestre 3\",CHAR(10),#REF!,CHAR(10),\"Trimestre 4\",CHAR(10),#REF!),\" \")","v":" "}]
[null,null,null,null,null,null,null,null,null,null,null,null,null,null,null,{"$f":"IFERROR(MAX(#REF!,#REF!,#REF!,#REF!),\" \")","v":" "},null,{"$f":"IFERROR(_xlfn.CONCAT(\"Trimestre 1\",CHAR(10),#REF!,CHAR(10),\"Trimestre 2\",CHAR(10),#REF!,CHAR(10),\"Trimestre 3\",CHAR(10),#REF!,CHAR(10),\"Trimestre 4\",CHAR(10),#REF!),\" \")","v":" "},{"$f":"IFERROR(_xlfn.CONCAT(\"Trimestre 1\",CHAR(10),#REF!,CHAR(10),\"Trimestre 2\",CHAR(10),#REF!,CHAR(10),\"Trimestre 3\",CHAR(10),#REF!,CHAR(10),\"Trimestre 4\",CHAR(10),#REF!),\" \")","v":" "}]
[null,null,null,null,null,null,null,null,null,null,null,null,null,null,null,{"$f":"IFERROR(MAX(#REF!,#REF!,#REF!,#REF!),\" \")","v":" "},null,{"$f":"IFERROR(_xlfn.CONCAT(\"Trimestre 1\",CHAR(10),#REF!,CHAR(10),\"Trimestre 2\",CHAR(10),#REF!,CHAR(10),\"Trimestre 3\",CHAR(10),#REF!,CHAR(10),\"Trimestre 4\",CHAR(10),#REF!),\" \")","v":" "},{"$f":"IFERROR(_xlfn.CONCAT(\"Trimestre 1\",CHAR(10),#REF!,CHAR(10),\"Trimestre 2\",CHAR(10),#REF!,CHAR(10),\"Trimestre 3\",CHAR(10),#REF!,CHAR(10),\"Trimestre 4\",CHAR(10),#REF!),\" \")","v":" "}]
[null,null,null,null,null,null,null,null,null,null,null,null,null,null,null,{"$f":"IFERROR(MAX(#REF!,#REF!,#REF!,#REF!),\" \")","v":" "},null,{"$f":"IFERROR(_xlfn.CONCAT(\"Trimestre 1\",CHAR(10),#REF!,CHAR(10),\"Trimestre 2\",CHAR(10),#REF!,CHAR(10),\"Trimestre 3\",CHAR(10),#REF!,CHAR(10),\"Trimestre 4\",CHAR(10),#REF!),\" \")","v":" "},{"$f":"IFERROR(_xlfn.CONCAT(\"Trimestre 1\",CHAR(10),#REF!,CHAR(10),\"Trimestre 2\",CHAR(10),#REF!,CHAR(10),\"Trimestre 3\",CHAR(10),#REF!,CHAR(10),\"Trimestre 4\",CHAR(10),#REF!),\" \")","v":" "}]
[null,null,null,null,null,null,null,null,null,null,null,null,null,null,null,{"$f":"IFERROR(MAX(#REF!,#REF!,#REF!,#REF!),\" \")","v":" "},null,{"$f":"IFERROR(_xlfn.CONCAT(\"Trimestre 1\",CHAR(10),#REF!,CHAR(10),\"Trimestre 2\",CHAR(10),#REF!,CHAR(10),\"Trimestre 3\",CHAR(10),#REF!,CHAR(10),\"Trimestre 4\",CHAR(10),#REF!),\" \")","v":" "},{"$f":"IFERROR(_xlfn.CONCAT(\"Trimestre 1\",CHAR(10),#REF!,CHAR(10),\"Trimestre 2\",CHAR(10),#REF!,CHAR(10),\"Trimestre 3\",CHAR(10),#REF!,CHAR(10),\"Trimestre 4\",CHAR(10),#REF!),\" \")","v":" "}]
[null,null,null,null,null,null,null,null,null,null,null,null,null,null,null,{"$f":"IFERROR(MAX(#REF!,#REF!,#REF!,#REF!),\" \")","v":" "},"",{"$f":"IFERROR(_xlfn.CONCAT(\"Trimestre 1\",CHAR(10),#REF!,CHAR(10),\"Trimestre 2\",CHAR(10),#REF!,CHAR(10),\"Trimestre 3\",CHAR(10),#REF!,CHAR(10),\"Trimestre 4\",CHAR(10),#REF!),\" \")","v":" "},{"$f":"IFERROR(_xlfn.CONCAT(\"Trimestre 1\",CHAR(10),#REF!,CHAR(10),\"Trimestre 2\",CHAR(10),#REF!,CHAR(10),\"Trimestre 3\",CHAR(10),#REF!,CHAR(10),\"Trimestre 4\",CHAR(10),#REF!),\" \")","v":" "}]
[null,null,null,null,null,null,null,null,null,null,null,null,null,null,null,{"$f":"IFERROR(MAX(#REF!,#REF!,#REF!,#REF!),\" \")","v":" "},"",{"$f":"IFERROR(_xlfn.CONCAT(\"Trimestre 1\",CHAR(10),#REF!,CHAR(10),\"Trimestre 2\",CHAR(10),#REF!,CHAR(10),\"Trimestre 3\",CHAR(10),#REF!,CHAR(10),\"Trimestre 4\",CHAR(10),#REF!),\" \")","v":" "},{"$f":"IFERROR(_xlfn.CONCAT(\"Trimestre 1\",CHAR(10),#REF!,CHAR(10),\"Trimestre 2\",CHAR(10),#REF!,CHAR(10),\"Trimestre 3\",CHAR(10),#REF!,CHAR(10),\"Trimestre 4\",CHAR(10),#REF!),\" \")","v":" "}]
[null,null,null,null,null,null,null,null,null,null,null,null,null,null,null,{"$f":"IFERROR(MAX(#REF!,#REF!,#REF!,#REF!),\" \")","v":" "},"",{"$f":"IFERROR(_xlfn.CONCAT(\"Trimestre 1\",CHAR(10),#REF!,CHAR(10),\"Trimestre 2\",CHAR(10),#REF!,CHAR(10),\"Trimestre 3\",CHAR(10),#REF!,CHAR(10),\"Trimestre 4\",CHAR(10),#REF!),\" \")","v":" "},{"$f":"IFERROR(_xlfn.CONCAT(\"Trimestre 1\",CHAR(10),#REF!,CHAR(10),\"Trimestre 2\",CHAR(10),#REF!,CHAR(10),\"Trimestre 3\",CHAR(10),#REF!,CHAR(10),\"Trimestre 4\",CHAR(10),#REF!),\" \")","v":" "}]
[null,null,"3. Promover la incorporación de la perspectiva de género y el enfoque diferencial en los fallos judiciales y en la atención a los ciudadanos, la administración de la Rama Judicial, la administración de la carrera judicial y la elaboración de listas para altas Cortes. ",null,null,null,null,null,null,null,null,null,null,null,null,{"$f":"IFERROR(MAX(#REF!,#REF!,#REF!,#REF!),\" \")","v":" "},"",{"$f":"IFERROR(_xlfn.CONCAT(\"Trimestre 1\",CHAR(10),#REF!,CHAR(10),\"Trimestre 2\",CHAR(10),#REF!,CHAR(10),\"Trimestre 3\",CHAR(10),#REF!,CHAR(10),\"Trimestre 4\",CHAR(10),#REF!),\" \")","v":" "},{"$f":"IFERROR(_xlfn.CONCAT(\"Trimestre 1\",CHAR(10),#REF!,CHAR(10),\"Trimestre 2\",CHAR(10),#REF!,CHAR(10),\"Trimestre 3\",CHAR(10),#REF!,CHAR(10),\"Trimestre 4\",CHAR(10),#REF!),\" \")","v":" "}]
[null,null,null,null,null,null,null,null,null,null,null,null,null,null,null,{"$f":"IFERROR(MAX(#REF!,#REF!,#REF!,#REF!),\" \")","v":" "},"",{"$f":"IFERROR(_xlfn.CONCAT(\"Trimestre 1\",CHAR(10),#REF!,CHAR(10),\"Trimestre 2\",CHAR(10),#REF!,CHAR(10),\"Trimestre 3\",CHAR(10),#REF!,CHAR(10),\"Trimestre 4\",CHAR(10),#REF!),\" \")","v":" "},{"$f":"IFERROR(_xlfn.CONCAT(\"Trimestre 1\",CHAR(10),#REF!,CHAR(10),\"Trimestre 2\",CHAR(10),#REF!,CHAR(10),\"Trimestre 3\",CHAR(10),#REF!,CHAR(10),\"Trimestre 4\",CHAR(10),#REF!),\" \")","v":" "}]
[null,null,null,null,null,null,null,null,null,null,null,null,null,null,null,{"$f":"IFERROR(MAX(#REF!,#REF!,#REF!,#REF!),\" \")","v":" "},null,{"$f":"IFERROR(_xlfn.CONCAT(\"Trimestre 1\",CHAR(10),#REF!,CHAR(10),\"Trimestre 2\",CHAR(10),#REF!,CHAR(10),\"Trimestre 3\",CHAR(10),#REF!,CHAR(10),\"Trimestre 4\",CHAR(10),#REF!),\" \")","v":" "},{"$f":"IFERROR(_xlfn.CONCAT(\"Trimestre 1\",CHAR(10),#REF!,CHAR(10),\"Trimestre 2\",CHAR(10),#REF!,CHAR(10),\"Trimestre 3\",CHAR(10),#REF!,CHAR(10),\"Trimestre 4\",CHAR(10),#REF!),\" \")","v":" "}]
[null,null,null,null,null,null,null,null,null,null,null,null,null,null,null,{"$f":"IFERROR(MAX(#REF!,#REF!,#REF!,#REF!),\" \")","v":" "},null,{"$f":"IFERROR(_xlfn.CONCAT(\"Trimestre 1\",CHAR(10),#REF!,CHAR(10),\"Trimestre 2\",CHAR(10),#REF!,CHAR(10),\"Trimestre 3\",CHAR(10),#REF!,CHAR(10),\"Trimestre 4\",CHAR(10),#REF!),\" \")","v":" "},{"$f":"IFERROR(_xlfn.CONCAT(\"Trimestre 1\",CHAR(10),#REF!,CHAR(10),\"Trimestre 2\",CHAR(10),#REF!,CHAR(10),\"Trimestre 3\",CHAR(10),#REF!,CHAR(10),\"Trimestre 4\",CHAR(10),#REF!),\" \")","v":" "}]
[null,null,null,null,null,null,null,null,null,null,null,null,null,null,null,{"$f":"IFERROR(MAX(#REF!,#REF!,#REF!,#REF!),\" \")","v":" "},null,{"$f":"IFERROR(_xlfn.CONCAT(\"Trimestre 1\",CHAR(10),#REF!,CHAR(10),\"Trimestre 2\",CHAR(10),#REF!,CHAR(10),\"Trimestre 3\",CHAR(10),#REF!,CHAR(10),\"Trimestre 4\",CHAR(10),#REF!),\" \")","v":" "},{"$f":"IFERROR(_xlfn.CONCAT(\"Trimestre 1\",CHAR(10),#REF!,CHAR(10),\"Trimestre 2\",CHAR(10),#REF!,CHAR(10),\"Trimestre 3\",CHAR(10),#REF!,CHAR(10),\"Trimestre 4\",CHAR(10),#REF!),\" \")","v":" "}]
[null,null,null,null,null,null,null,null,null,null,null,null,null,null,null,{"$f":"IFERROR(MAX(#REF!,#REF!,#REF!,#REF!),\" \")","v":" "},null,{"$f":"IFERROR(_xlfn.CONCAT(\"Trimestre 1\",CHAR(10),#REF!,CHAR(10),\"Trimestre 2\",CHAR(10),#REF!,CHAR(10),\"Trimestre 3\",CHAR(10),#REF!,CHAR(10),\"Trimestre 4\",CHAR(10),#REF!),\" \")","v":" "},{"$f":"IFERROR(_xlfn.CONCAT(\"Trimestre 1\",CHAR(10),#REF!,CHAR(10),\"Trimestre 2\",CHAR(10),#REF!,CHAR(10),\"Trimestre 3\",CHAR(10),#REF!,CHAR(10),\"Trimestre 4\",CHAR(10),#REF!),\" \")","v":" "}]
[null,null,null,null,null,null,null,null,null,null,null,null,null,null,null,{"$f":"IFERROR(MAX(#REF!,#REF!,#REF!,#REF!),\" \")","v":" "},null,{"$f":"IFERROR(_xlfn.CONCAT(\"Trimestre 1\",CHAR(10),#REF!,CHAR(10),\"Trimestre 2\",CHAR(10),#REF!,CHAR(10),\"Trimestre 3\",CHAR(10),#REF!,CHAR(10),\"Trimestre 4\",CHAR(10),#REF!),\" \")","v":" "},{"$f":"IFERROR(_xlfn.CONCAT(\"Trimestre 1\",CHAR(10),#REF!,CHAR(10),\"Trimestre 2\",CHAR(10),#REF!,CHAR(10),\"Trimestre 3\",CHAR(10),#REF!,CHAR(10),\"Trimestre 4\",CHAR(10),#REF!),\" \")","v":" "}]
[null,null,null,null,null,null,null,null,null,null,null,null,null,null,null,{"$f":"IFERROR(MAX(#REF!,#REF!,#REF!,#REF!),\" \")","v":" "},"",{"$f":"IFERROR(_xlfn.CONCAT(\"Trimestre 1\",CHAR(10),#REF!,CHAR(10),\"Trimestre 2\",CHAR(10),#REF!,CHAR(10),\"Trimestre 3\",CHAR(10),#REF!,CHAR(10),\"Trimestre 4\",CHAR(10),#REF!),\" \")","v":" "},{"$f":"IFERROR(_xlfn.CONCAT(\"Trimestre 1\",CHAR(10),#REF!,CHAR(10),\"Trimestre 2\",CHAR(10),#REF!,CHAR(10),\"Trimestre 3\",CHAR(10),#REF!,CHAR(10),\"Trimestre 4\",CHAR(10),#REF!),\" \")","v":" "}]
[null,null,null,null,null,null,null,null,null,null,null,null,null,null,null,{"$f":"IFERROR(MAX(#REF!,#REF!,#REF!,#REF!),\" \")","v":" "},"",{"$f":"IFERROR(_xlfn.CONCAT(\"Trimestre 1\",CHAR(10),#REF!,CHAR(10),\"Trimestre 2\",CHAR(10),#REF!,CHAR(10),\"Trimestre 3\",CHAR(10),#REF!,CHAR(10),\"Trimestre 4\",CHAR(10),#REF!),\" \")","v":" "},{"$f":"IFERROR(_xlfn.CONCAT(\"Trimestre 1\",CHAR(10),#REF!,CHAR(10),\"Trimestre 2\",CHAR(10),#REF!,CHAR(10),\"Trimestre 3\",CHAR(10),#REF!,CHAR(10),\"Trimestre 4\",CHAR(10),#REF!),\" \")","v":" "}]
[null,null,null,null,null,null,null,null,null,null,null,null,null,null,null,{"$f":"IFERROR(MAX(#REF!,#REF!,#REF!,#REF!),\" \")","v":" "},"",{"$f":"IFERROR(_xlfn.CONCAT(\"Trimestre 1\",CHAR(10),#REF!,CHAR(10),\"Trimestre 2\",CHAR(10),#REF!,CHAR(10),\"Trimestre 3\",CHAR(10),#REF!,CHAR(10),\"Trimestre 4\",CHAR(10),#REF!),\" \")","v":" "},{"$f":"IFERROR(_xlfn.CONCAT(\"Trimestre 1\",CHAR(10),#REF!,CHAR(10),\"Trimestre 2\",CHAR(10),#REF!,CHAR(10),\"Trimestre 3\",CHAR(10),#REF!,CHAR(10),\"Trimestre 4\",CHAR(10),#REF!),\" \")","v":" "}]
[null,null,"4. Desarrollar en los servidores judiciales y demás grupos de valor relevantes las competencias necesarias para la efectividad de la transformación digital de modo que puedan, entre otros, utilizar con solvencia las herramientas digitales dispuestas para sus respectivas funciones. Además, fortalecer y actualizar los conocimientos del personal a cargo de la gestión de proyectos de tecnología.",null,"Apoyo","Admin - Gestión de la Información Estadística","Seccional","Consolidar y evaluar las sugerencias recibidas. -Consecución de textos bibliograficos.","Entregable",null,null,"Área de Talento Humano/Biblioteca","Informe","2024-01-01","2024-12-31",{"$f":"IFERROR(MAX(#REF!,#REF!,#REF!,#REF!),\" \")","v":" "},"",{"$f":"IFERROR(_xlfn.CONCAT(\"Trimestre 1\",CHAR(10),#REF!,CHAR(10),\"Trimestre 2\",CHAR(10),#REF!,CHAR(10),\"Trimestre 3\",CHAR(10),#REF!,CHAR(10),\"Trimestre 4\",CHAR(10),#REF!),\" \")","v":" "},{"$f":"IFERROR(_xlfn.CONCAT(\"Trimestre 1\",CHAR(10),#REF!,CHAR(10),\"Trimestre 2\",CHAR(10),#REF!,CHAR(10),\"Trimestre 3\",CHAR(10),#REF!,CHAR(10),\"Trimestre 4\",CHAR(10),#REF!),\" \")","v":" "}]
[null,null,null,null,"Apoyo","Admin - Gestión de la Información Estadística","Seccional","LLevar el control de prestamo de textos bibliográficos, salones de capacitación, auditorio y reserva de biblioteca para capacitaciones.","Entregable",null,null,"Área de Talento Humano/Biblioteca","Informe","2024-01-01","2024-12-31",{"$f":"IFERROR(MAX(#REF!,#REF!,#REF!,#REF!),\" \")","v":" "},"",{"$f":"IFERROR(_xlfn.CONCAT(\"Trimestre 1\",CHAR(10),#REF!,CHAR(10),\"Trimestre 2\",CHAR(10),#REF!,CHAR(10),\"Trimestre 3\",CHAR(10),#REF!,CHAR(10),\"Trimestre 4\",CHAR(10),#REF!),\" \")","v":" "},{"$f":"IFERROR(_xlfn.CONCAT(\"Trimestre 1\",CHAR(10),#REF!,CHAR(10),\"Trimestre 2\",CHAR(10),#REF!,CHAR(10),\"Trimestre 3\",CHAR(10),#REF!,CHAR(10),\"Trimestre 4\",CHAR(10),#REF!),\" \")","v":" "}]
[null,null,null,null,"Apoyo","Admin - Gestión de la Información Estadística","Seccional","Catalogar, organizar e incorporar al sistema de información los textos bibliográficos.","Entregable",null,null,"Área de Talento Humano/Biblioteca","Informe","2024-01-01","2024-12-31",{"$f":"IFERROR(MAX(#REF!,#REF!,#REF!,#REF!),\" \")","v":" "},null,{"$f":"IFERROR(_xlfn.CONCAT(\"Trimestre 1\",CHAR(10),#REF!,CHAR(10),\"Trimestre 2\",CHAR(10),#REF!,CHAR(10),\"Trimestre 3\",CHAR(10),#REF!,CHAR(10),\"Trimestre 4\",CHAR(10),#REF!),\" \")","v":" "},{"$f":"IFERROR(_xlfn.CONCAT(\"Trimestre 1\",CHAR(10),#REF!,CHAR(10),\"Trimestre 2\",CHAR(10),#REF!,CHAR(10),\"Trimestre 3\",CHAR(10),#REF!,CHAR(10),\"Trimestre 4\",CHAR(10),#REF!),\" \")","v":" "}]
[null,null,null,null,null,null,null,null,null,null,null,null,null,null,null,{"$f":"IFERROR(MAX(#REF!,#REF!,#REF!,#REF!),\" \")","v":" "},null,{"$f":"IFERROR(_xlfn.CONCAT(\"Trimestre 1\",CHAR(10),#REF!,CHAR(10),\"Trimestre 2\",CHAR(10),#REF!,CHAR(10),\"Trimestre 3\",CHAR(10),#REF!,CHAR(10),\"Trimestre 4\",CHAR(10),#REF!),\" \")","v":" "},{"$f":"IFERROR(_xlfn.CONCAT(\"Trimestre 1\",CHAR(10),#REF!,CHAR(10),\"Trimestre 2\",CHAR(10),#REF!,CHAR(10),\"Trimestre 3\",CHAR(10),#REF!,CHAR(10),\"Trimestre 4\",CHAR(10),#REF!),\" \")","v":" "}]
[null,null,null,null,null,null,null,null,null,null,null,null,null,null,null,{"$f":"IFERROR(MAX(#REF!,#REF!,#REF!,#REF!),\" \")","v":" "},null,{"$f":"IFERROR(_xlfn.CONCAT(\"Trimestre 1\",CHAR(10),#REF!,CHAR(10),\"Trimestre 2\",CHAR(10),#REF!,CHAR(10),\"Trimestre 3\",CHAR(10),#REF!,CHAR(10),\"Trimestre 4\",CHAR(10),#REF!),\" \")","v":" "},{"$f":"IFERROR(_xlfn.CONCAT(\"Trimestre 1\",CHAR(10),#REF!,CHAR(10),\"Trimestre 2\",CHAR(10),#REF!,CHAR(10),\"Trimestre 3\",CHAR(10),#REF!,CHAR(10),\"Trimestre 4\",CHAR(10),#REF!),\" \")","v":" "}]
[null,null,null,null,null,null,null,null,null,null,null,null,null,null,null,{"$f":"IFERROR(MAX(#REF!,#REF!,#REF!,#REF!),\" \")","v":" "},null,{"$f":"IFERROR(_xlfn.CONCAT(\"Trimestre 1\",CHAR(10),#REF!,CHAR(10),\"Trimestre 2\",CHAR(10),#REF!,CHAR(10),\"Trimestre 3\",CHAR(10),#REF!,CHAR(10),\"Trimestre 4\",CHAR(10),#REF!),\" \")","v":" "},{"$f":"IFERROR(_xlfn.CONCAT(\"Trimestre 1\",CHAR(10),#REF!,CHAR(10),\"Trimestre 2\",CHAR(10),#REF!,CHAR(10),\"Trimestre 3\",CHAR(10),#REF!,CHAR(10),\"Trimestre 4\",CHAR(10),#REF!),\" \")","v":" "}]
[null,null,null,null,null,null,null,null,null,null,null,null,null,null,null,{"$f":"IFERROR(MAX(#REF!,#REF!,#REF!,#REF!),\" \")","v":" "},null,{"$f":"IFERROR(_xlfn.CONCAT(\"Trimestre 1\",CHAR(10),#REF!,CHAR(10),\"Trimestre 2\",CHAR(10),#REF!,CHAR(10),\"Trimestre 3\",CHAR(10),#REF!,CHAR(10),\"Trimestre 4\",CHAR(10),#REF!),\" \")","v":" "},{"$f":"IFERROR(_xlfn.CONCAT(\"Trimestre 1\",CHAR(10),#REF!,CHAR(10),\"Trimestre 2\",CHAR(10),#REF!,CHAR(10),\"Trimestre 3\",CHAR(10),#REF!,CHAR(10),\"Trimestre 4\",CHAR(10),#REF!),\" \")","v":" "}]
[null,null,null,null,null,null,null,null,null,null,null,null,null,null,null,{"$f":"IFERROR(MAX(#REF!,#REF!,#REF!,#REF!),\" \")","v":" "},"",{"$f":"IFERROR(_xlfn.CONCAT(\"Trimestre 1\",CHAR(10),#REF!,CHAR(10),\"Trimestre 2\",CHAR(10),#REF!,CHAR(10),\"Trimestre 3\",CHAR(10),#REF!,CHAR(10),\"Trimestre 4\",CHAR(10),#REF!),\" \")","v":" "},{"$f":"IFERROR(_xlfn.CONCAT(\"Trimestre 1\",CHAR(10),#REF!,CHAR(10),\"Trimestre 2\",CHAR(10),#REF!,CHAR(10),\"Trimestre 3\",CHAR(10),#REF!,CHAR(10),\"Trimestre 4\",CHAR(10),#REF!),\" \")","v":" "}]
[null,null,null,null,null,null,null,null,null,null,null,null,null,null,null,{"$f":"IFERROR(MAX(#REF!,#REF!,#REF!,#REF!),\" \")","v":" "},"",{"$f":"IFERROR(_xlfn.CONCAT(\"Trimestre 1\",CHAR(10),#REF!,CHAR(10),\"Trimestre 2\",CHAR(10),#REF!,CHAR(10),\"Trimestre 3\",CHAR(10),#REF!,CHAR(10),\"Trimestre 4\",CHAR(10),#REF!),\" \")","v":" "},{"$f":"IFERROR(_xlfn.CONCAT(\"Trimestre 1\",CHAR(10),#REF!,CHAR(10),\"Trimestre 2\",CHAR(10),#REF!,CHAR(10),\"Trimestre 3\",CHAR(10),#REF!,CHAR(10),\"Trimestre 4\",CHAR(10),#REF!),\" \")","v":" "}]
[null,null,null,null,null,null,null,null,null,null,null,null,null,null,null,{"$f":"IFERROR(MAX(#REF!,#REF!,#REF!,#REF!),\" \")","v":" "},"",{"$f":"IFERROR(_xlfn.CONCAT(\"Trimestre 1\",CHAR(10),#REF!,CHAR(10),\"Trimestre 2\",CHAR(10),#REF!,CHAR(10),\"Trimestre 3\",CHAR(10),#REF!,CHAR(10),\"Trimestre 4\",CHAR(10),#REF!),\" \")","v":" "},{"$f":"IFERROR(_xlfn.CONCAT(\"Trimestre 1\",CHAR(10),#REF!,CHAR(10),\"Trimestre 2\",CHAR(10),#REF!,CHAR(10),\"Trimestre 3\",CHAR(10),#REF!,CHAR(10),\"Trimestre 4\",CHAR(10),#REF!),\" \")","v":" "}]
[null,null,"5. Promover el bienestar de todos los servidores judiciales a través de la implementación de un sistema que contemple los diferentes niveles de estrategias y acciones necesarios para mejorar el clima laboral, la salud física y mental y la calidad del tiempo de descanso.","5. Generar espacios de trabajo seguros y saludables que contribuyan a minimizar los  incidentes, accidentes y enfermedades laborales derivados de las condiciones y actos  inseguros y fomentar  el autocuidado, los  estilos de vida y el trabajo saludable en los servidores judiciales, contratistas, judicantes y practicantes","Apoyo","Admin - Administración de la Seguridad","Seccional","Recibir y dar traslado de las solicitudes de verificación de condiciones de seguridad de los empleados y funcionarios","Entregable",null,null,"Grupo Servicios Administrativos","Informe de solicitudes","2024-01-01","2024-12-31",{"$f":"IFERROR(MAX(#REF!,#REF!,#REF!,#REF!),\" \")","v":" "},"",{"$f":"IFERROR(_xlfn.CONCAT(\"Trimestre 1\",CHAR(10),#REF!,CHAR(10),\"Trimestre 2\",CHAR(10),#REF!,CHAR(10),\"Trimestre 3\",CHAR(10),#REF!,CHAR(10),\"Trimestre 4\",CHAR(10),#REF!),\" \")","v":" "},{"$f":"IFERROR(_xlfn.CONCAT(\"Trimestre 1\",CHAR(10),#REF!,CHAR(10),\"Trimestre 2\",CHAR(10),#REF!,CHAR(10),\"Trimestre 3\",CHAR(10),#REF!,CHAR(10),\"Trimestre 4\",CHAR(10),#REF!),\" \")","v":" "}]
[null,null,null,null,"Apoyo","Admin - Administración de la Seguridad","Seccional","Realizar el mantenimiento  los circuitos cerrados de televisión y euipos de seguridad (maquinas rayos x, arcos detectores","Meta cuantificable",6,"Sedes judiciales con CCTV, arcos detectores y máquinas de rayos X","Grupo Servicios Administrativos","Informe de supervisión","2024-01-01","2024-12-31",{"$f":"IFERROR(MAX(#REF!,#REF!,#REF!,#REF!),\" \")","v":" "},"",{"$f":"IFERROR(_xlfn.CONCAT(\"Trimestre 1\",CHAR(10),#REF!,CHAR(10),\"Trimestre 2\",CHAR(10),#REF!,CHAR(10),\"Trimestre 3\",CHAR(10),#REF!,CHAR(10),\"Trimestre 4\",CHAR(10),#REF!),\" \")","v":" "},{"$f":"IFERROR(_xlfn.CONCAT(\"Trimestre 1\",CHAR(10),#REF!,CHAR(10),\"Trimestre 2\",CHAR(10),#REF!,CHAR(10),\"Trimestre 3\",CHAR(10),#REF!,CHAR(10),\"Trimestre 4\",CHAR(10),#REF!),\" \")","v":" "}]
[null,null,null,null,"Apoyo","Admin - Gestión de Seguridad y Salud en el Trabajo","Seccional","Ejecutar el Plan de trabajo de Seguridad y Salud en el Trabajo conforme a los lineamientos del nivel central","Meta cuantificable",99,"Actividades","Grupo SG-SST","Cronograma de actividades","2024-01-01","2024-12-31",{"$f":"IFERROR(MAX(#REF!,#REF!,#REF!,#REF!),\" \")","v":" "},null,{"$f":"IFERROR(_xlfn.CONCAT(\"Trimestre 1\",CHAR(10),#REF!,CHAR(10),\"Trimestre 2\",CHAR(10),#REF!,CHAR(10),\"Trimestre 3\",CHAR(10),#REF!,CHAR(10),\"Trimestre 4\",CHAR(10),#REF!),\" \")","v":" "},{"$f":"IFERROR(_xlfn.CONCAT(\"Trimestre 1\",CHAR(10),#REF!,CHAR(10),\"Trimestre 2\",CHAR(10),#REF!,CHAR(10),\"Trimestre 3\",CHAR(10),#REF!,CHAR(10),\"Trimestre 4\",CHAR(10),#REF!),\" \")","v":" "}]
[null,null,null,null,"Apoyo","Admin - Gestión de Seguridad y Salud en el Trabajo","Seccional","Reportar  incidentes, accidentes de trabajo y enfermedades laborales de los servidores judiciales","Entregable",null,null,"Grupo SG-SST","Listado de investigaciones","2024-01-01","2024-12-31",{"$f":"IFERROR(MAX(#REF!,#REF!,#REF!,#REF!),\" \")","v":" "},null,{"$f":"IFERROR(_xlfn.CONCAT(\"Trimestre 1\",CHAR(10),#REF!,CHAR(10),\"Trimestre 2\",CHAR(10),#REF!,CHAR(10),\"Trimestre 3\",CHAR(10),#REF!,CHAR(10),\"Trimestre 4\",CHAR(10),#REF!),\" \")","v":" "},{"$f":"IFERROR(_xlfn.CONCAT(\"Trimestre 1\",CHAR(10),#REF!,CHAR(10),\"Trimestre 2\",CHAR(10),#REF!,CHAR(10),\"Trimestre 3\",CHAR(10),#REF!,CHAR(10),\"Trimestre 4\",CHAR(10),#REF!),\" \")","v":" "}]
[null,null,null,null,"Apoyo","Admin - Gestión de Seguridad y Salud en el Trabajo","Seccional","Dar trámite a las solicitudes propias del SG-SST ","Entregable",null,null,"Grupo SG-SST","Listado de solicitudes","2024-01-01","2024-12-31",{"$f":"IFERROR(MAX(#REF!,#REF!,#REF!,#REF!),\" \")","v":" "},null,{"$f":"IFERROR(_xlfn.CONCAT(\"Trimestre 1\",CHAR(10),#REF!,CHAR(10),\"Trimestre 2\",CHAR(10),#REF!,CHAR(10),\"Trimestre 3\",CHAR(10),#REF!,CHAR(10),\"Trimestre 4\",CHAR(10),#REF!),\" \")","v":" "},{"$f":"IFERROR(_xlfn.CONCAT(\"Trimestre 1\",CHAR(10),#REF!,CHAR(10),\"Trimestre 2\",CHAR(10),#REF!,CHAR(10),\"Trimestre 3\",CHAR(10),#REF!,CHAR(10),\"Trimestre 4\",CHAR(10),#REF!),\" \")","v":" "}]
[null,null,null,null,"Apoyo","Admin - Gestión de Seguridad y Salud en el Trabajo","Seccional","Realizar Actividades de promoción de la salud y prevención de la enfermedad (PyP) y gestión de peligros, riesgos y accidentes de trabajo y enfermedad laboral","Meta cuantificable",1,"Actividales","Grupo SG-SST","Cronograma de actividades","2024-01-01","2024-12-31",{"$f":"IFERROR(MAX(#REF!,#REF!,#REF!,#REF!),\" \")","v":" "},null,{"$f":"IFERROR(_xlfn.CONCAT(\"Trimestre 1\",CHAR(10),#REF!,CHAR(10),\"Trimestre 2\",CHAR(10),#REF!,CHAR(10),\"Trimestre 3\",CHAR(10),#REF!,CHAR(10),\"Trimestre 4\",CHAR(10),#REF!),\" \")","v":" "},{"$f":"IFERROR(_xlfn.CONCAT(\"Trimestre 1\",CHAR(10),#REF!,CHAR(10),\"Trimestre 2\",CHAR(10),#REF!,CHAR(10),\"Trimestre 3\",CHAR(10),#REF!,CHAR(10),\"Trimestre 4\",CHAR(10),#REF!),\" \")","v":" "}]
[null,null,null,null,null,null,null,null,null,null,null,null,null,null,null,{"$f":"IFERROR(MAX(#REF!,#REF!,#REF!,#REF!),\" \")","v":" "},null,{"$f":"IFERROR(_xlfn.CONCAT(\"Trimestre 1\",CHAR(10),#REF!,CHAR(10),\"Trimestre 2\",CHAR(10),#REF!,CHAR(10),\"Trimestre 3\",CHAR(10),#REF!,CHAR(10),\"Trimestre 4\",CHAR(10),#REF!),\" \")","v":" "},{"$f":"IFERROR(_xlfn.CONCAT(\"Trimestre 1\",CHAR(10),#REF!,CHAR(10),\"Trimestre 2\",CHAR(10),#REF!,CHAR(10),\"Trimestre 3\",CHAR(10),#REF!,CHAR(10),\"Trimestre 4\",CHAR(10),#REF!),\" \")","v":" "}]
[null,null,null,null,null,null,null,null,null,null,null,null,null,null,null,{"$f":"IFERROR(MAX(#REF!,#REF!,#REF!,#REF!),\" \")","v":" "},"",{"$f":"IFERROR(_xlfn.CONCAT(\"Trimestre 1\",CHAR(10),#REF!,CHAR(10),\"Trimestre 2\",CHAR(10),#REF!,CHAR(10),\"Trimestre 3\",CHAR(10),#REF!,CHAR(10),\"Trimestre 4\",CHAR(10),#REF!),\" \")","v":" "},{"$f":"IFERROR(_xlfn.CONCAT(\"Trimestre 1\",CHAR(10),#REF!,CHAR(10),\"Trimestre 2\",CHAR(10),#REF!,CHAR(10),\"Trimestre 3\",CHAR(10),#REF!,CHAR(10),\"Trimestre 4\",CHAR(10),#REF!),\" \")","v":" "}]
[null,null,null,null,null,null,null,null,null,null,null,null,null,null,null,{"$f":"IFERROR(MAX(#REF!,#REF!,#REF!,#REF!),\" \")","v":" "},"",{"$f":"IFERROR(_xlfn.CONCAT(\"Trimestre 1\",CHAR(10),#REF!,CHAR(10),\"Trimestre 2\",CHAR(10),#REF!,CHAR(10),\"Trimestre 3\",CHAR(10),#REF!,CHAR(10),\"Trimestre 4\",CHAR(10),#REF!),\" \")","v":" "},{"$f":"IFERROR(_xlfn.CONCAT(\"Trimestre 1\",CHAR(10),#REF!,CHAR(10),\"Trimestre 2\",CHAR(10),#REF!,CHAR(10),\"Trimestre 3\",CHAR(10),#REF!,CHAR(10),\"Trimestre 4\",CHAR(10),#REF!),\" \")","v":" "}]
[null,null,null,null,null,null,null,null,null,null,null,null,null,null,null,{"$f":"IFERROR(MAX(#REF!,#REF!,#REF!,#REF!),\" \")","v":" "},"",{"$f":"IFERROR(_xlfn.CONCAT(\"Trimestre 1\",CHAR(10),#REF!,CHAR(10),\"Trimestre 2\",CHAR(10),#REF!,CHAR(10),\"Trimestre 3\",CHAR(10),#REF!,CHAR(10),\"Trimestre 4\",CHAR(10),#REF!),\" \")","v":" "},{"$f":"IFERROR(_xlfn.CONCAT(\"Trimestre 1\",CHAR(10),#REF!,CHAR(10),\"Trimestre 2\",CHAR(10),#REF!,CHAR(10),\"Trimestre 3\",CHAR(10),#REF!,CHAR(10),\"Trimestre 4\",CHAR(10),#REF!),\" \")","v":" "}]
["5. Gobernanza, planeación estratégica y capacidad de toma de decisiones","Gobernanza, planeación estratégica y capacidad de toma de decisiones: Fortalecer la gobernanza, la planeación estratégica y la capacidad de toma de decisiones de la Rama Judicial con base en la evidencia empírica y la articulación efectiva con las demás entidades, para que la perspectiva de género y el enfoque diferencial sean transversales en el presente plan. ","1. Implementar un nuevo modelo integrado para la planeación estratégica, el seguimiento y la medición del desempeño institucional.","2. Asegurar  el cumplimiento de los objetivos institucionales, la normatividad aplicable,  la mejora del SIGCMA y la satisfacción de los usuarios, revisando de  forma continua y sistemática la planificación de la gestión y fortaleciendo la administración de riesgos y sus controles.","Estratégicos","Admin - Planeación Estratégica","Seccional","Realizar y/o participar de los Comités o Mesas de Trabajo en los que la Corporación es responsable y/o miembro.","Entregable",null,null,"Magistrados del Consejo Seccional","Actas de sesión de sala","2024-01-01","2024-12-31",{"$f":"IFERROR(MAX(#REF!,#REF!,#REF!,#REF!),\" \")","v":" "},"",{"$f":"IFERROR(_xlfn.CONCAT(\"Trimestre 1\",CHAR(10),#REF!,CHAR(10),\"Trimestre 2\",CHAR(10),#REF!,CHAR(10),\"Trimestre 3\",CHAR(10),#REF!,CHAR(10),\"Trimestre 4\",CHAR(10),#REF!),\" \")","v":" "},{"$f":"IFERROR(_xlfn.CONCAT(\"Trimestre 1\",CHAR(10),#REF!,CHAR(10),\"Trimestre 2\",CHAR(10),#REF!,CHAR(10),\"Trimestre 3\",CHAR(10),#REF!,CHAR(10),\"Trimestre 4\",CHAR(10),#REF!),\" \")","v":" "}]
[null,null,null,null,"Apoyo","Admin - Compras Públicas","Seccional","Verificar el cumplimiento del Plan Anual de Adquisiciones","Entregable",null,null,"Área Administrativa","Informe","2024-01-01","2024-12-31",{"$f":"IFERROR(MAX(#REF!,#REF!,#REF!,#REF!),\" \")","v":" "},null,{"$f":"IFERROR(_xlfn.CONCAT(\"Trimestre 1\",CHAR(10),#REF!,CHAR(10),\"Trimestre 2\",CHAR(10),#REF!,CHAR(10),\"Trimestre 3\",CHAR(10),#REF!,CHAR(10),\"Trimestre 4\",CHAR(10),#REF!),\" \")","v":" "},{"$f":"IFERROR(_xlfn.CONCAT(\"Trimestre 1\",CHAR(10),#REF!,CHAR(10),\"Trimestre 2\",CHAR(10),#REF!,CHAR(10),\"Trimestre 3\",CHAR(10),#REF!,CHAR(10),\"Trimestre 4\",CHAR(10),#REF!),\" \")","v":" "}]
[null,null,null,null,"Apoyo","Admin - Gestión Humana","Seccional","Diseñar y ejecutar programas de bienestar para los distritos judiciales de Antioquia Medellín","Entregable",null,null,"Área de Talento Humano/Profesional bienestar","Informe","2024-01-01","2024-12-31",{"$f":"IFERROR(MAX(#REF!,#REF!,#REF!,#REF!),\" \")","v":" "},null,{"$f":"IFERROR(_xlfn.CONCAT(\"Trimestre 1\",CHAR(10),#REF!,CHAR(10),\"Trimestre 2\",CHAR(10),#REF!,CHAR(10),\"Trimestre 3\",CHAR(10),#REF!,CHAR(10),\"Trimestre 4\",CHAR(10),#REF!),\" \")","v":" "},{"$f":"IFERROR(_xlfn.CONCAT(\"Trimestre 1\",CHAR(10),#REF!,CHAR(10),\"Trimestre 2\",CHAR(10),#REF!,CHAR(10),\"Trimestre 3\",CHAR(10),#REF!,CHAR(10),\"Trimestre 4\",CHAR(10),#REF!),\" \")","v":" "}]
[null,null,null,null,"Apoyo","Admin - Gestión Humana","Seccional","Desarrollar las actividades(registro en eplicativo efinomina y plataformas de aportes a la seguridad social ) para la vinculación de los servidores judiciales","Entregable",null,null,"Área de Talento Humano/Oficina de afiliaciones","Actos Administrativos","2024-01-01","2024-12-31",{"$f":"IFERROR(MAX(#REF!,#REF!,#REF!,#REF!),\" \")","v":" "},null,{"$f":"IFERROR(_xlfn.CONCAT(\"Trimestre 1\",CHAR(10),#REF!,CHAR(10),\"Trimestre 2\",CHAR(10),#REF!,CHAR(10),\"Trimestre 3\",CHAR(10),#REF!,CHAR(10),\"Trimestre 4\",CHAR(10),#REF!),\" \")","v":" "},{"$f":"IFERROR(_xlfn.CONCAT(\"Trimestre 1\",CHAR(10),#REF!,CHAR(10),\"Trimestre 2\",CHAR(10),#REF!,CHAR(10),\"Trimestre 3\",CHAR(10),#REF!,CHAR(10),\"Trimestre 4\",CHAR(10),#REF!),\" \")","v":" "}]
[null,null,null,null,"Apoyo","Admin - Gestión Financiera y Presupuestal","Seccional","Realizar comité de planeación para evaluar el avance de ejecución de los recursos presupuestales asigandos y evaluación de solicitudes y traslados presupuestales","Meta cuantificable",12,"Reuniones de comité","Área Financiera","Actas de reunión","2024-01-01","2024-12-31",{"$f":"IFERROR(MAX(#REF!,#REF!,#REF!,#REF!),\" \")","v":" "},null,{"$f":"IFERROR(_xlfn.CONCAT(\"Trimestre 1\",CHAR(10),#REF!,CHAR(10),\"Trimestre 2\",CHAR(10),#REF!,CHAR(10),\"Trimestre 3\",CHAR(10),#REF!,CHAR(10),\"Trimestre 4\",CHAR(10),#REF!),\" \")","v":" "},{"$f":"IFERROR(_xlfn.CONCAT(\"Trimestre 1\",CHAR(10),#REF!,CHAR(10),\"Trimestre 2\",CHAR(10),#REF!,CHAR(10),\"Trimestre 3\",CHAR(10),#REF!,CHAR(10),\"Trimestre 4\",CHAR(10),#REF!),\" \")","v":" "}]
[null,null,null,null,"Apoyo","Admin - Asistencia Legal","Seccional","Realizar el recaudo de obligaciones a favor de la nación Rama Judicial","Entregable",null,null,"Grupo Cobro Coactivo","Reporte de contabilidad","2024-01-01","2024-12-31",{"$f":"IFERROR(MAX(#REF!,#REF!,#REF!,#REF!),\" \")","v":" "},null,{"$f":"IFERROR(_xlfn.CONCAT(\"Trimestre 1\",CHAR(10),#REF!,CHAR(10),\"Trimestre 2\",CHAR(10),#REF!,CHAR(10),\"Trimestre 3\",CHAR(10),#REF!,CHAR(10),\"Trimestre 4\",CHAR(10),#REF!),\" \")","v":" "},{"$f":"IFERROR(_xlfn.CONCAT(\"Trimestre 1\",CHAR(10),#REF!,CHAR(10),\"Trimestre 2\",CHAR(10),#REF!,CHAR(10),\"Trimestre 3\",CHAR(10),#REF!,CHAR(10),\"Trimestre 4\",CHAR(10),#REF!),\" \")","v":" "}]
[null,null,null,null,"Evaluación_y_Mejora","Admin - Mejoramiento del Sistema Integrado de Gestión y Control de la Calidad y del Medio Ambiente","Seccional","Elaborar y publicar de  la encuesta de satisfacción  del usuario interno y externo para establecer su percepción frente a los productos y servicios que se ofrecen desde el Consejo Seccional de la Judicatura de Antioquia y la Direccion Seccional de Administración Judicial de Medellín.","Meta cuantificable",2,"Formulario de encuesta","Dirección Seccional","Publicaciones en micro sitio","2024-01-01","2024-12-31",{"$f":"IFERROR(MAX(#REF!,#REF!,#REF!,#REF!),\" \")","v":" "},"",{"$f":"IFERROR(_xlfn.CONCAT(\"Trimestre 1\",CHAR(10),#REF!,CHAR(10),\"Trimestre 2\",CHAR(10),#REF!,CHAR(10),\"Trimestre 3\",CHAR(10),#REF!,CHAR(10),\"Trimestre 4\",CHAR(10),#REF!),\" \")","v":" "},{"$f":"IFERROR(_xlfn.CONCAT(\"Trimestre 1\",CHAR(10),#REF!,CHAR(10),\"Trimestre 2\",CHAR(10),#REF!,CHAR(10),\"Trimestre 3\",CHAR(10),#REF!,CHAR(10),\"Trimestre 4\",CHAR(10),#REF!),\" \")","v":" "}]
[null,null,null,null,null,null,null,null,null,null,null,null,null,null,null,{"$f":"IFERROR(MAX(#REF!,#REF!,#REF!,#REF!),\" \")","v":" "},"",{"$f":"IFERROR(_xlfn.CONCAT(\"Trimestre 1\",CHAR(10),#REF!,CHAR(10),\"Trimestre 2\",CHAR(10),#REF!,CHAR(10),\"Trimestre 3\",CHAR(10),#REF!,CHAR(10),\"Trimestre 4\",CHAR(10),#REF!),\" \")","v":" "},{"$f":"IFERROR(_xlfn.CONCAT(\"Trimestre 1\",CHAR(10),#REF!,CHAR(10),\"Trimestre 2\",CHAR(10),#REF!,CHAR(10),\"Trimestre 3\",CHAR(10),#REF!,CHAR(10),\"Trimestre 4\",CHAR(10),#REF!),\" \")","v":" "}]
[null,null,null,null,null,null,null,null,null,null,null,null,null,null,null,{"$f":"IFERROR(MAX(#REF!,#REF!,#REF!,#REF!),\" \")","v":" "},"",{"$f":"IFERROR(_xlfn.CONCAT(\"Trimestre 1\",CHAR(10),#REF!,CHAR(10),\"Trimestre 2\",CHAR(10),#REF!,CHAR(10),\"Trimestre 3\",CHAR(10),#REF!,CHAR(10),\"Trimestre 4\",CHAR(10),#REF!),\" \")","v":" "},{"$f":"IFERROR(_xlfn.CONCAT(\"Trimestre 1\",CHAR(10),#REF!,CHAR(10),\"Trimestre 2\",CHAR(10),#REF!,CHAR(10),\"Trimestre 3\",CHAR(10),#REF!,CHAR(10),\"Trimestre 4\",CHAR(10),#REF!),\" \")","v":" "}]
[null,null,null,null,null,null,null,null,null,null,null,null,null,null,null,{"$f":"IFERROR(MAX(#REF!,#REF!,#REF!,#REF!),\" \")","v":" "},"",{"$f":"IFERROR(_xlfn.CONCAT(\"Trimestre 1\",CHAR(10),#REF!,CHAR(10),\"Trimestre 2\",CHAR(10),#REF!,CHAR(10),\"Trimestre 3\",CHAR(10),#REF!,CHAR(10),\"Trimestre 4\",CHAR(10),#REF!),\" \")","v":" "},{"$f":"IFERROR(_xlfn.CONCAT(\"Trimestre 1\",CHAR(10),#REF!,CHAR(10),\"Trimestre 2\",CHAR(10),#REF!,CHAR(10),\"Trimestre 3\",CHAR(10),#REF!,CHAR(10),\"Trimestre 4\",CHAR(10),#REF!),\" \")","v":" "}]
[null,null,"2. Definir e implementar el modelo optimizado de formulación, seguimiento y evaluación de la política pública judicial.",null,null,null,null,null,null,null,null,null,null,null,null,{"$f":"IFERROR(MAX(#REF!,#REF!,#REF!,#REF!),\" \")","v":" "},"",{"$f":"IFERROR(_xlfn.CONCAT(\"Trimestre 1\",CHAR(10),#REF!,CHAR(10),\"Trimestre 2\",CHAR(10),#REF!,CHAR(10),\"Trimestre 3\",CHAR(10),#REF!,CHAR(10),\"Trimestre 4\",CHAR(10),#REF!),\" \")","v":" "},{"$f":"IFERROR(_xlfn.CONCAT(\"Trimestre 1\",CHAR(10),#REF!,CHAR(10),\"Trimestre 2\",CHAR(10),#REF!,CHAR(10),\"Trimestre 3\",CHAR(10),#REF!,CHAR(10),\"Trimestre 4\",CHAR(10),#REF!),\" \")","v":" "}]
[null,null,null,null,null,null,null,null,null,null,null,null,null,null,null,{"$f":"IFERROR(MAX(#REF!,#REF!,#REF!,#REF!),\" \")","v":" "},"",{"$f":"IFERROR(_xlfn.CONCAT(\"Trimestre 1\",CHAR(10),#REF!,CHAR(10),\"Trimestre 2\",CHAR(10),#REF!,CHAR(10),\"Trimestre 3\",CHAR(10),#REF!,CHAR(10),\"Trimestre 4\",CHAR(10),#REF!),\" \")","v":" "},{"$f":"IFERROR(_xlfn.CONCAT(\"Trimestre 1\",CHAR(10),#REF!,CHAR(10),\"Trimestre 2\",CHAR(10),#REF!,CHAR(10),\"Trimestre 3\",CHAR(10),#REF!,CHAR(10),\"Trimestre 4\",CHAR(10),#REF!),\" \")","v":" "}]
[null,null,null,null,null,null,null,null,null,null,null,null,null,null,null,{"$f":"IFERROR(MAX(#REF!,#REF!,#REF!,#REF!),\" \")","v":" "},null,{"$f":"IFERROR(_xlfn.CONCAT(\"Trimestre 1\",CHAR(10),#REF!,CHAR(10),\"Trimestre 2\",CHAR(10),#REF!,CHAR(10),\"Trimestre 3\",CHAR(10),#REF!,CHAR(10),\"Trimestre 4\",CHAR(10),#REF!),\" \")","v":" "},{"$f":"IFERROR(_xlfn.CONCAT(\"Trimestre 1\",CHAR(10),#REF!,CHAR(10),\"Trimestre 2\",CHAR(10),#REF!,CHAR(10),\"Trimestre 3\",CHAR(10),#REF!,CHAR(10),\"Trimestre 4\",CHAR(10),#REF!),\" \")","v":" "}]
[null,null,null,null,null,null,null,null,null,null,null,null,null,null,null,{"$f":"IFERROR(MAX(#REF!,#REF!,#REF!,#REF!),\" \")","v":" "},null,{"$f":"IFERROR(_xlfn.CONCAT(\"Trimestre 1\",CHAR(10),#REF!,CHAR(10),\"Trimestre 2\",CHAR(10),#REF!,CHAR(10),\"Trimestre 3\",CHAR(10),#REF!,CHAR(10),\"Trimestre 4\",CHAR(10),#REF!),\" \")","v":" "},{"$f":"IFERROR(_xlfn.CONCAT(\"Trimestre 1\",CHAR(10),#REF!,CHAR(10),\"Trimestre 2\",CHAR(10),#REF!,CHAR(10),\"Trimestre 3\",CHAR(10),#REF!,CHAR(10),\"Trimestre 4\",CHAR(10),#REF!),\" \")","v":" "}]
[null,null,null,null,null,null,null,null,null,null,null,null,null,null,null,{"$f":"IFERROR(MAX(#REF!,#REF!,#REF!,#REF!),\" \")","v":" "},null,{"$f":"IFERROR(_xlfn.CONCAT(\"Trimestre 1\",CHAR(10),#REF!,CHAR(10),\"Trimestre 2\",CHAR(10),#REF!,CHAR(10),\"Trimestre 3\",CHAR(10),#REF!,CHAR(10),\"Trimestre 4\",CHAR(10),#REF!),\" \")","v":" "},{"$f":"IFERROR(_xlfn.CONCAT(\"Trimestre 1\",CHAR(10),#REF!,CHAR(10),\"Trimestre 2\",CHAR(10),#REF!,CHAR(10),\"Trimestre 3\",CHAR(10),#REF!,CHAR(10),\"Trimestre 4\",CHAR(10),#REF!),\" \")","v":" "}]
[null,null,null,null,null,null,null,null,null,null,null,null,null,null,null,{"$f":"IFERROR(MAX(#REF!,#REF!,#REF!,#REF!),\" \")","v":" "},null,{"$f":"IFERROR(_xlfn.CONCAT(\"Trimestre 1\",CHAR(10),#REF!,CHAR(10),\"Trimestre 2\",CHAR(10),#REF!,CHAR(10),\"Trimestre 3\",CHAR(10),#REF!,CHAR(10),\"Trimestre 4\",CHAR(10),#REF!),\" \")","v":" "},{"$f":"IFERROR(_xlfn.CONCAT(\"Trimestre 1\",CHAR(10),#REF!,CHAR(10),\"Trimestre 2\",CHAR(10),#REF!,CHAR(10),\"Trimestre 3\",CHAR(10),#REF!,CHAR(10),\"Trimestre 4\",CHAR(10),#REF!),\" \")","v":" "}]
[null,null,null,null,null,null,null,null,null,null,null,null,null,null,null,{"$f":"IFERROR(MAX(#REF!,#REF!,#REF!,#REF!),\" \")","v":" "},null,{"$f":"IFERROR(_xlfn.CONCAT(\"Trimestre 1\",CHAR(10),#REF!,CHAR(10),\"Trimestre 2\",CHAR(10),#REF!,CHAR(10),\"Trimestre 3\",CHAR(10),#REF!,CHAR(10),\"Trimestre 4\",CHAR(10),#REF!),\" \")","v":" "},{"$f":"IFERROR(_xlfn.CONCAT(\"Trimestre 1\",CHAR(10),#REF!,CHAR(10),\"Trimestre 2\",CHAR(10),#REF!,CHAR(10),\"Trimestre 3\",CHAR(10),#REF!,CHAR(10),\"Trimestre 4\",CHAR(10),#REF!),\" \")","v":" "}]
[null,null,null,null,null,null,null,null,null,null,null,null,null,null,null,{"$f":"IFERROR(MAX(#REF!,#REF!,#REF!,#REF!),\" \")","v":" "},"",{"$f":"IFERROR(_xlfn.CONCAT(\"Trimestre 1\",CHAR(10),#REF!,CHAR(10),\"Trimestre 2\",CHAR(10),#REF!,CHAR(10),\"Trimestre 3\",CHAR(10),#REF!,CHAR(10),\"Trimestre 4\",CHAR(10),#REF!),\" \")","v":" "},{"$f":"IFERROR(_xlfn.CONCAT(\"Trimestre 1\",CHAR(10),#REF!,CHAR(10),\"Trimestre 2\",CHAR(10),#REF!,CHAR(10),\"Trimestre 3\",CHAR(10),#REF!,CHAR(10),\"Trimestre 4\",CHAR(10),#REF!),\" \")","v":" "}]
[null,null,null,null,null,null,null,null,null,null,null,null,null,null,null,{"$f":"IFERROR(MAX(#REF!,#REF!,#REF!,#REF!),\" \")","v":" "},"",{"$f":"IFERROR(_xlfn.CONCAT(\"Trimestre 1\",CHAR(10),#REF!,CHAR(10),\"Trimestre 2\",CHAR(10),#REF!,CHAR(10),\"Trimestre 3\",CHAR(10),#REF!,CHAR(10),\"Trimestre 4\",CHAR(10),#REF!),\" \")","v":" "},{"$f":"IFERROR(_xlfn.CONCAT(\"Trimestre 1\",CHAR(10),#REF!,CHAR(10),\"Trimestre 2\",CHAR(10),#REF!,CHAR(10),\"Trimestre 3\",CHAR(10),#REF!,CHAR(10),\"Trimestre 4\",CHAR(10),#REF!),\" \")","v":" "}]
[null,null,null,null,null,null,null,null,null,null,null,null,null,null,null,{"$f":"IFERROR(MAX(#REF!,#REF!,#REF!,#REF!),\" \")","v":" "},"",{"$f":"IFERROR(_xlfn.CONCAT(\"Trimestre 1\",CHAR(10),#REF!,CHAR(10),\"Trimestre 2\",CHAR(10),#REF!,CHAR(10),\"Trimestre 3\",CHAR(10),#REF!,CHAR(10),\"Trimestre 4\",CHAR(10),#REF!),\" \")","v":" "},{"$f":"IFERROR(_xlfn.CONCAT(\"Trimestre 1\",CHAR(10),#REF!,CHAR(10),\"Trimestre 2\",CHAR(10),#REF!,CHAR(10),\"Trimestre 3\",CHAR(10),#REF!,CHAR(10),\"Trimestre 4\",CHAR(10),#REF!),\" \")","v":" "}]

{"sheet":"INVERSION","index":5,"n_rows":255,"n_cols":40,"rows_kept":255,"cut":false,"hidden":true,"merged":[[1,39,1,48],[1,0,1,17],[1,18,1,38],[2,25,2,37],[2,38,4,38],[3,0,4,1],[3,2,4,2],[3,5,4,5],[3,6,3,11],[3,12,3,22],[3,23,3,24],[2,0,2,5],[2,6,2,24],[3,32,3,37],[3,25,3,31],[3,3,4,3],[45,2,54,2],[45,3,54,3],[45,4,54,4],[75,3,84,3],[75,4,84,4],[85,2,94,2],[85,3,94,3],[85,4,94,4],[95,2,104,2],[95,3,104,3],[95,4,104,4],[15,4,24,4],[15,5,24,5],[3,4,4,4],[5,2,14,2],[5,3,14,3],[5,4,14,4],[25,2,34,2],[25,3,34,3],[25,4,34,4],[55,0,114,0],[55,1,114,1],[45,5,54,5],[5,0,54,0],[5,1,54,1],[105,2,114,2],[105,3,114,3],[105,4,114,4],[55,5,114,5],[55,2,64,2],[55,3,64,3],[55,4,64,4],[65,2,74,2],[65,3,74,3],[65,4,74,4],[75,2,84,2],[25,5,34,5],[35,2,44,2],[35,3,44,3],[35,4,44,4],[35,5,44,5],[5,5,14,5],[15,2,24,2],[15,3,24,3],[135,5,144,5],[115,1,184,1],[145,5,174,5],[125,2,134,2],[125,3,134,3],[125,4,134,4],[125,5,134,5],[115,2,124,2],[115,3,124,3],[115,4,124,4],[115,5,124,5],[155,2,164,2],[155,3,164,3],[155,4,164,4],[145,2,154,2],[145,3,154,3],[145,4,154,4],[175,2,184,2],[175,3,184,3],[175,4,184,4],[175,5,184,5],[165,4,174,4],[165,2,174,2],[165,3,174,3],[115,0,184,0],[185,2,194,2],[185,3,194,3],[185,4,194,4],[195,2,204,2],[195,3,204,3],[195,4,204,4],[135,2,144,2],[135,3,144,3],[135,4,144,4],[185,5,224,5],[225,5,234,5],[185,1,234,1],[185,0,234,0],[235,5,254,5],[245,2,254,2],[245,3,254,3],[245,4,254,4],[235,1,254,1],[235,0,254,0],[225,2,234,2],[225,3,234,3],[225,4,234,4],[235,2,244,2],[235,3,244,3],[235,4,244,4],[215,2,224,2],[215,3,224,3],[215,4,224,4],[205,2,214,2],[205,3,214,3],[205,4,214,4]]}
[]
["CONSEJO SUPERIOR DE LA JUDICATURA \nUNIDADES MISIONALES DEL CONSEJO SUPERIOR DE LA JUDICATURA \nDIRECCIÓN EJECUTIVA DE ADMINISTRACIÓN JUDICIAL (DEAJ) - UNIDADES MISIONALES DE LA DEAJ\nDIRECCIONES SECCIONALES DE ADMINISTRACIÓN JUDICIAL ",null,null,null,null,null,null,null,null,null,null,null,null,null,null,null,null,null,null,null,null,null,null,null,null,null,null,null,null,null,null,null,null,null,null,null,null,null,null,"GENERADOR DE SEGUIMIENTOS TRIMESTALES"]
["PLAN SECTORIAL DE DESARROLLO 2023-2026 - OBJETIVOS SIGCMA",null,null,null,null,null,"PLAN DE ACCIÓN Y SEGUIMIENTO A LA INVERSIÓN INSTITUCIONAL ",null,null,null,null,null,null,null,null,null,null,null,null,null,null,null,null,null,null,"AVANCE PLAN DE ACCIÓN ANUAL",null,null,null,null,null,null,null,null,null,null,null,null," ANÁLISIS RESULTADO\nFINAL - ACUMULADO"]
["OBJETIVO ESTRATÉGICO",null,"OBJETIVO ESPECÍFICO PSD","NOMBRE DEL INDICADOR PSD","DEFINICIÓN DEL INDICADOR","OBJETIVO ESPECÍFICO SIGCMA","IDENTIFICACIÓN PROYECTO DE INVERSIÓN",null,null,null,null,null,"PARÁMETROS DE MEDICIÓN ",null,null,null,null,null,null,null,null,null,null,"INFORMACIÓN FINANCIERA",null,"SEGUIMIENTO - CUMPLIMIENTO ANUAL ",null,null,null,null,null,null,"INFORMACIÓN COMPLEMENTARIA FINAL"]
[null,null,null,null,null,null,"PROGRAMA DE INVERSIÓN","SUBPROGRAMA DE INVERSIÓN","RUBRO PRESUPUESTAL","CÓDIGO BPIN","NOMBRE DE PROYECTO","OBJETIVO ESPECÍFICO FORMULADO DEL PROYECTO BPIN","NOMBRE ACTIVIDAD DE INVERSIÓN (POAI)","JUSTIFICACIÓN DE LA ACTIVIDAD","DESCRIBA EL ENTREGABLE \n(Producto y/o servicio principal)","META ANUALIDAD","UNIDAD DE MEDIDA","TIPO DE INDICADOR (GESTIÓN O PRODUCTO)","FECHA DE INICIO DE LA ACTIVIDAD\nDÍA/MES/AÑO","FECHA TERMINACIÓN ACTIVIDAD\nDÍA/MES/AÑO \n(Sí supera anualidad, favor dejar 31/12/20xx)","NÚMERO DE BENEFICIARIOS INTERNOS (Servidores Judiciales)","NÚMERO DE BENEFICIARIOS EXTERNOS (Usuarios)"," DEPENDENCIA RESPONSABLE ","ACTO ADMINISTRATIVO (INDICAR EL ACUERDO INICIAL Y MODIFICACIONES)","RECURSOS ASIGNADOS ($)","DETALLE DE LAS ACTIVIDADES REALIZADAS PARA EL LOGRO DE LA INVERSIÓN (Periodo de reporte acumulado) ","COMPROMISO PRESUPUESTAL (VALOR DEL CONTRATO)","AVANCE DE LA META","% AVANCE ANUAL DE LA ACTIVIDAD"," % AVANCE PRESUPUESTAL ANUAL","AVANCE  DE LA ACTIVIDAD - % EN TIEMPO ANUAL","REZAGO","NÚMERO DE BENEFICIADOS INTERNOS","NÚMERO DE BENEFICIADOS EXTERNOS","DIFICULTADES PARA LOGRAR LA META PROPUESTA","EL PRODUCTO FINAL OBTENIDO ¿CÓMO IMPACTÓ SOBRE EL OBJETIVO ESTRATÉGICO?","RECOMENDACIONES PARA LOGRAR LA META","OBSERVACIONES"]
["1. Acceso e Infraestructura Física","Acceso e Infraestructura Física: Ampliar, en todo el territorio nacional, el acceso a una justicia efectiva, pronta, equitativa e incluyente, reduciendo el atraso y la congestión, de acuerdo con las necesidades de la demanda de justicia por jurisdicción y especialidad, y mejorando la articulación con la justicia restaurativa y terapéutica, y otros mecanismos de solución de conflictos y consolidando una infraestructura física óptima para el acceso a la justicia.","1. Ampliar el acceso a justicia para atender las necesidades jurídicas de los ciudadanos con un enfoque diferencial, de una manera pronta, reduciendo las inequidades y las brechas territoriales de acceso.","Estrategias implementadas por la Rama Judicial para ampliar el acceso a la justicia considerando el enfoque diferencial y territorial\n\nÍndice de dispersión en la calificación del factor calidad","# de estrategias establecida s en la meta implementa das durante la vigencia del plan\n\nDispersión en la calificación del factor de calidad por jurisdicción y nivel de competencia.","2. Asegurar  el cumplimiento de los objetivos institucionales, la normatividad aplicable,  la mejora del SIGCMA y la satisfacción de los usuarios, revisando de  forma continua y sistemática la planificación de la gestión y fortaleciendo la administración de riesgos y sus controles",null,null,null,null,null,null,null,null,null,null,null,null,null,null,null,null,null,null,null,{"$f":"IFERROR(#REF!,\" \")","v":" "},{"$f":"IFERROR(#REF!,\"\")","v":""},{"$f":"IFERROR(#REF!,\"\")","v":""},{"$f":"IFERROR(AB6/P6,\"\")","v":""},{"$f":"IFERROR(AA6/Y6,\"\")","v":""},{"$f":"IFERROR(#REF!,\"\")","v":""},{"$f":"IFERROR(P6-AB6,\"\")","v":""},{"$f":"IFERROR(#REF!,\"\")","v":""},{"$f":"IFERROR(#REF!,\"\")","v":""},{"$f":"_xlfn.CONCAT(\"Trimestre 1\",CHAR(10),IFERROR(#REF!,\"\"))","v":{"$error":"#NAME?"}},{"$f":"_xlfn.CONCAT(\"Trimestre 1\",CHAR(10),IFERROR(#REF!,\"\"))","v":{"$error":"#NAME?"}},{"$f":"_xlfn.CONCAT(\"Trimestre 1\",CHAR(10),IFERROR(#REF!,\"\"))","v":{"$error":"#NAME?"}},{"$f":"_xlfn.CONCAT(\"Trimestre 1\",CHAR(10),IFERROR(#REF!,\"\"))","v":{"$error":"#NAME?"}},{"$f":"_xlfn.CONCAT(\"Trimestre 1\",CHAR(10),IFERROR(#REF!,\"\"))","v":{"$error":"#NAME?"}}]
[null,null,null,null,null,null,null,null,null,null,null,null,null,null,null,null,null,null,null,null,null,null,null,null,null,{"$f":"IFERROR(#REF!,\" \")","v":" "},{"$f":"IFERROR(#REF!,\"\")","v":""},{"$f":"IFERROR(#REF!,\"\")","v":""},{"$f":"IFERROR(AB7/P7,\"\")","v":""},{"$f":"IFERROR(AA7/Y7,\"\")","v":""},{"$f":"IFERROR(#REF!,\"\")","v":""},{"$f":"IFERROR(P7-AB7,\"\")","v":""},{"$f":"IFERROR(#REF!,\"\")","v":""},{"$f":"IFERROR(#REF!,\"\")","v":""},{"$f":"_xlfn.CONCAT(\"Trimestre 1\",CHAR(10),IFERROR(#REF!,\"\"))","v":{"$error":"#NAME?"}},{"$f":"_xlfn.CONCAT(\"Trimestre 1\",CHAR(10),IFERROR(#REF!,\"\"))","v":{"$error":"#NAME?"}},{"$f":"_xlfn.CONCAT(\"Trimestre 1\",CHAR(10),IFERROR(#REF!,\"\"))","v":{"$error":"#NAME?"}},{"$f":"_xlfn.CONCAT(\"Trimestre 1\",CHAR(10),IFERROR(#REF!,\"\"))","v":{"$error":"#NAME?"}},{"$f":"_xlfn.CONCAT(\"Trimestre 1\",CHAR(10),IFERROR(#REF!,\"\"))","v":{"$error":"#NAME?"}}]
[null,null,null,null,null,null,null,null,null,null,null,null,null,null,null,null,null,null,null,null,null,null,null,null,null,{"$f":"IFERROR(#REF!,\" \")","v":" "},{"$f":"IFERROR(#REF!,\"\")","v":""},{"$f":"IFERROR(#REF!,\"\")","v":""},"","",{"$f":"IFERROR(#REF!,\"\")","v":""},"",{"$f":"IFERROR(#REF!,\"\")","v":""},{"$f":"IFERROR(#REF!,\"\")","v":""},{"$f":"_xlfn.CONCAT(\"Trimestre 1\",CHAR(10),IFERROR(#REF!,\"\"))","v":{"$error":"#NAME?"}},{"$f":"_xlfn.CONCAT(\"Trimestre 1\",CHAR(10),IFERROR(#REF!,\"\"))","v":{"$error":"#NAME?"}},{"$f":"_xlfn.CONCAT(\"Trimestre 1\",CHAR(10),IFERROR(#REF!,\"\"))","v":{"$error":"#NAME?"}},{"$f":"_xlfn.CONCAT(\"Trimestre 1\",CHAR(10),IFERROR(#REF!,\"\"))","v":{"$error":"#NAME?"}},{"$f":"_xlfn.CONCAT(\"Trimestre 1\",CHAR(10),IFERROR(#REF!,\"\"))","v":{"$error":"#NAME?"}}]
[null,null,null,null,null,null,null,null,null,null,null,null,null,null,null,null,null,null,null,null,null,null,null,null,null,{"$f":"IFERROR(#REF!,\" \")","v":" "},{"$f":"IFERROR(#REF!,\"\")","v":""},{"$f":"IFERROR(#REF!,\"\")","v":""},"","",{"$f":"IFERROR(#REF!,\"\")","v":""},"",{"$f":"IFERROR(#REF!,\"\")","v":""},{"$f":"IFERROR(#REF!,\"\")","v":""},{"$f":"_xlfn.CONCAT(\"Trimestre 1\",CHAR(10),IFERROR(#REF!,\"\"))","v":{"$error":"#NAME?"}},{"$f":"_xlfn.CONCAT(\"Trimestre 1\",CHAR(10),IFERROR(#REF!,\"\"))","v":{"$error":"#NAME?"}},{"$f":"_xlfn.CONCAT(\"Trimestre 1\",CHAR(10),IFERROR(#REF!,\"\"))","v":{"$error":"#NAME?"}},{"$f":"_xlfn.CONCAT(\"Trimestre 1\",CHAR(10),IFERROR(#REF!,\"\"))","v":{"$error":"#NAME?"}},{"$f":"_xlfn.CONCAT(\"Trimestre 1\",CHAR(10),IFERROR(#REF!,\"\"))","v":{"$error":"#NAME?"}}]
[null,null,null,null,null,null,null,null,null,null,null,null,null,null,null,null,null,null,null,null,null,null,null,null,null,{"$f":"IFERROR(#REF!,\" \")","v":" "},{"$f":"IFERROR(#REF!,\"\")","v":""},{"$f":"IFERROR(#REF!,\"\")","v":""},"","",{"$f":"IFERROR(#REF!,\"\")","v":""},"",{"$f":"IFERROR(#REF!,\"\")","v":""},{"$f":"IFERROR(#REF!,\"\")","v":""},{"$f":"_xlfn.CONCAT(\"Trimestre 1\",CHAR(10),IFERROR(#REF!,\"\"))","v":{"$error":"#NAME?"}},{"$f":"_xlfn.CONCAT(\"Trimestre 1\",CHAR(10),IFERROR(#REF!,\"\"))","v":{"$error":"#NAME?"}},{"$f":"_xlfn.CONCAT(\"Trimestre 1\",CHAR(10),IFERROR(#REF!,\"\"))","v":{"$error":"#NAME?"}},{"$f":"_xlfn.CONCAT(\"Trimestre 1\",CHAR(10),IFERROR(#REF!,\"\"))","v":{"$error":"#NAME?"}},{"$f":"_xlfn.CONCAT(\"Trimestre 1\",CHAR(10),IFERROR(#REF!,\"\"))","v":{"$error":"#NAME?"}}]
[null,null,null,null,null,null,null,null,null,null,null,null,null,null,null,null,null,null,null,null,null,null,null,null,null,{"$f":"IFERROR(#REF!,\" \")","v":" "},{"$f":"IFERROR(#REF!,\"\")","v":""},{"$f":"IFERROR(#REF!,\"\")","v":""},"","",{"$f":"IFERROR(#REF!,\"\")","v":""},"",{"$f":"IFERROR(#REF!,\"\")","v":""},{"$f":"IFERROR(#REF!,\"\")","v":""},{"$f":"_xlfn.CONCAT(\"Trimestre 1\",CHAR(10),IFERROR(#REF!,\"\"))","v":{"$error":"#NAME?"}},{"$f":"_xlfn.CONCAT(\"Trimestre 1\",CHAR(10),IFERROR(#REF!,\"\"))","v":{"$error":"#NAME?"}},{"$f":"_xlfn.CONCAT(\"Trimestre 1\",CHAR(10),IFERROR(#REF!,\"\"))","v":{"$error":"#NAME?"}},{"$f":"_xlfn.CONCAT(\"Trimestre 1\",CHAR(10),IFERROR(#REF!,\"\"))","v":{"$error":"#NAME?"}},{"$f":"_xlfn.CONCAT(\"Trimestre 1\",CHAR(10),IFERROR(#REF!,\"\"))","v":{"$error":"#NAME?"}}]
[null,null,null,null,null,null,null,null,null,null,null,null,null,null,null,null,null,null,null,null,null,null,null,null,null,{"$f":"IFERROR(#REF!,\" \")","v":" "},{"$f":"IFERROR(#REF!,\"\")","v":""},{"$f":"IFERROR(#REF!,\"\")","v":""},"","",{"$f":"IFERROR(#REF!,\"\")","v":""},"",{"$f":"IFERROR(#REF!,\"\")","v":""},{"$f":"IFERROR(#REF!,\"\")","v":""},{"$f":"_xlfn.CONCAT(\"Trimestre 1\",CHAR(10),IFERROR(#REF!,\"\"))","v":{"$error":"#NAME?"}},{"$f":"_xlfn.CONCAT(\"Trimestre 1\",CHAR(10),IFERROR(#REF!,\"\"))","v":{"$error":"#NAME?"}},{"$f":"_xlfn.CONCAT(\"Trimestre 1\",CHAR(10),IFERROR(#REF!,\"\"))","v":{"$error":"#NAME?"}},{"$f":"_xlfn.CONCAT(\"Trimestre 1\",CHAR(10),IFERROR(#REF!,\"\"))","v":{"$error":"#NAME?"}},{"$f":"_xlfn.CONCAT(\"Trimestre 1\",CHAR(10),IFERROR(#REF!,\"\"))","v":{"$error":"#NAME?"}}]
[null,null,null,null,null,null,null,null,null,null,null,null,null,null,null,null,null,null,null,null,null,null,null,null,null,{"$f":"IFERROR(#REF!,\" \")","v":" "},{"$f":"IFERROR(#REF!,\"\")","v":""},{"$f":"IFERROR(#REF!,\"\")","v":""},"","",{"$f":"IFERROR(#REF!,\"\")","v":""},"",{"$f":"IFERROR(#REF!,\"\")","v":""},{"$f":"IFERROR(#REF!,\"\")","v":""},{"$f":"_xlfn.CONCAT(\"Trimestre 1\",CHAR(10),IFERROR(#REF!,\"\"))","v":{"$error":"#NAME?"}},{"$f":"_xlfn.CONCAT(\"Trimestre 1\",CHAR(10),IFERROR(#REF!,\"\"))","v":{"$error":"#NAME?"}},{"$f":"_xlfn.CONCAT(\"Trimestre 1\",CHAR(10),IFERROR(#REF!,\"\"))","v":{"$error":"#NAME?"}},{"$f":"_xlfn.CONCAT(\"Trimestre 1\",CHAR(10),IFERROR(#REF!,\"\"))","v":{"$error":"#NAME?"}},{"$f":"_xlfn.CONCAT(\"Trimestre 1\",CHAR(10),IFERROR(#REF!,\"\"))","v":{"$error":"#NAME?"}}]
[null,null,null,null,null,null,null,null,null,null,null,null,null,null,null,null,null,null,null,null,null,null,null,null,null,{"$f":"IFERROR(#REF!,\" \")","v":" "},{"$f":"IFERROR(#REF!,\"\")","v":""},{"$f":"IFERROR(#REF!,\"\")","v":""},"","",{"$f":"IFERROR(#REF!,\"\")","v":""},"",{"$f":"IFERROR(#REF!,\"\")","v":""},{"$f":"IFERROR(#REF!,\"\")","v":""},{"$f":"_xlfn.CONCAT(\"Trimestre 1\",CHAR(10),IFERROR(#REF!,\"\"))","v":{"$error":"#NAME?"}},{"$f":"_xlfn.CONCAT(\"Trimestre 1\",CHAR(10),IFERROR(#REF!,\"\"))","v":{"$error":"#NAME?"}},{"$f":"_xlfn.CONCAT(\"Trimestre 1\",CHAR(10),IFERROR(#REF!,\"\"))","v":{"$error":"#NAME?"}},{"$f":"_xlfn.CONCAT(\"Trimestre 1\",CHAR(10),IFERROR(#REF!,\"\"))","v":{"$error":"#NAME?"}},{"$f":"_xlfn.CONCAT(\"Trimestre 1\",CHAR(10),IFERROR(#REF!,\"\"))","v":{"$error":"#NAME?"}}]
[null,null,null,null,null,null,null,null,null,null,null,null,null,null,null,null,null,null,null,null,null,null,null,null,null,{"$f":"IFERROR(#REF!,\" \")","v":" "},{"$f":"IFERROR(#REF!,\"\")","v":""},{"$f":"IFERROR(#REF!,\"\")","v":""},"","",{"$f":"IFERROR(#REF!,\"\")","v":""},"",{"$f":"IFERROR(#REF!,\"\")","v":""},{"$f":"IFERROR(#REF!,\"\")","v":""},{"$f":"_xlfn.CONCAT(\"Trimestre 1\",CHAR(10),IFERROR(#REF!,\"\"))","v":{"$error":"#NAME?"}},{"$f":"_xlfn.CONCAT(\"Trimestre 1\",CHAR(10),IFERROR(#REF!,\"\"))","v":{"$error":"#NAME?"}},{"$f":"_xlfn.CONCAT(\"Trimestre 1\",CHAR(10),IFERROR(#REF!,\"\"))","v":{"$error":"#NAME?"}},{"$f":"_xlfn.CONCAT(\"Trimestre 1\",CHAR(10),IFERROR(#REF!,\"\"))","v":{"$error":"#NAME?"}},{"$f":"_xlfn.CONCAT(\"Trimestre 1\",CHAR(10),IFERROR(#REF!,\"\"))","v":{"$error":"#NAME?"}}]
[null,null,"2. Mejorar los tiempos de respuesta de la Rama Judicial y reducir el inventario de procesos, identificando los retos internos y promoviendo tanto acciones articuladas específicas para abordarlos como estrategias coordinadas para enfrentar las barreras que dependen de otras entidades.","Reducción de tiempos de respuesta en los despachos en los que se implemente el sistema de gestión judicial","% Reducción del promedio de días de duración de los procesos judiciales en los despachos en los que se implemente el sistema de gestión judicial","2. Asegurar  el cumplimiento de los objetivos institucionales, la normatividad aplicable,  la mejora del SIGCMA y la satisfacción de los usuarios, revisando de  forma continua y sistemática la planificación de la gestión y fortaleciendo la administración de riesgos y sus controles",null,null,null,null,null,null,null,null,null,null,null,null,null,null,null,null,null,null,null,{"$f":"IFERROR(#REF!,\" \")","v":" "},{"$f":"IFERROR(#REF!,\"\")","v":""},{"$f":"IFERROR(#REF!,\"\")","v":""},"","",{"$f":"IFERROR(#REF!,\"\")","v":""},"",{"$f":"IFERROR(#REF!,\"\")","v":""},{"$f":"IFERROR(#REF!,\"\")","v":""},{"$f":"_xlfn.CONCAT(\"Trimestre 1\",CHAR(10),IFERROR(#REF!,\"\"))","v":{"$error":"#NAME?"}},{"$f":"_xlfn.CONCAT(\"Trimestre 1\",CHAR(10),IFERROR(#REF!,\"\"))","v":{"$error":"#NAME?"}},{"$f":"_xlfn.CONCAT(\"Trimestre 1\",CHAR(10),IFERROR(#REF!,\"\"))","v":{"$error":"#NAME?"}},{"$f":"_xlfn.CONCAT(\"Trimestre 1\",CHAR(10),IFERROR(#REF!,\"\"))","v":{"$error":"#NAME?"}},{"$f":"_xlfn.CONCAT(\"Trimestre 1\",CHAR(10),IFERROR(#REF!,\"\"))","v":{"$error":"#NAME?"}}]
[null,null,null,null,null,null,null,null,null,null,null,null,null,null,null,null,null,null,null,null,null,null,null,null,null,{"$f":"IFERROR(#REF!,\" \")","v":" "},{"$f":"IFERROR(#REF!,\"\")","v":""},{"$f":"IFERROR(#REF!,\"\")","v":""},"","",{"$f":"IFERROR(#REF!,\"\")","v":""},"",{"$f":"IFERROR(#REF!,\"\")","v":""},{"$f":"IFERROR(#REF!,\"\")","v":""},{"$f":"_xlfn.CONCAT(\"Trimestre 1\",CHAR(10),IFERROR(#REF!,\"\"))","v":{"$error":"#NAME?"}},{"$f":"_xlfn.CONCAT(\"Trimestre 1\",CHAR(10),IFERROR(#REF!,\"\"))","v":{"$error":"#NAME?"}},{"$f":"_xlfn.CONCAT(\"Trimestre 1\",CHAR(10),IFERROR(#REF!,\"\"))","v":{"$error":"#NAME?"}},{"$f":"_xlfn.CONCAT(\"Trimestre 1\",CHAR(10),IFERROR(#REF!,\"\"))","v":{"$error":"#NAME?"}},{"$f":"_xlfn.CONCAT(\"Trimestre 1\",CHAR(10),IFERROR(#REF!,\"\"))","v":{"$error":"#NAME?"}}]
[null,null,null,null,null,null,null,null,null,null,null,null,null,null,null,null,null,null,null,null,null,null,null,null,null,{"$f":"IFERROR(#REF!,\" \")","v":" "},{"$f":"IFERROR(#REF!,\"\")","v":""},{"$f":"IFERROR(#REF!,\"\")","v":""},"","",{"$f":"IFERROR(#REF!,\"\")","v":""},"",{"$f":"IFERROR(#REF!,\"\")","v":""},{"$f":"IFERROR(#REF!,\"\")","v":""},{"$f":"_xlfn.CONCAT(\"Trimestre 1\",CHAR(10),IFERROR(#REF!,\"\"))","v":{"$error":"#NAME?"}},{"$f":"_xlfn.CONCAT(\"Trimestre 1\",CHAR(10),IFERROR(#REF!,\"\"))","v":{"$error":"#NAME?"}},{"$f":"_xlfn.CONCAT(\"Trimestre 1\",CHAR(10),IFERROR(#REF!,\"\"))","v":{"$error":"#NAME?"}},{"$f":"_xlfn.CONCAT(\"Trimestre 1\",CHAR(10),IFERROR(#REF!,\"\"))","v":{"$error":"#NAME?"}},{"$f":"_xlfn.CONCAT(\"Trimestre 1\",CHAR(10),IFERROR(#REF!,\"\"))","v":{"$error":"#NAME?"}}]
[null,null,null,null,null,null,null,null,null,null,null,null,null,null,null,null,null,null,null,null,null,null,null,null,null,{"$f":"IFERROR(#REF!,\" \")","v":" "},{"$f":"IFERROR(#REF!,\"\")","v":""},{"$f":"IFERROR(#REF!,\"\")","v":""},"","",{"$f":"IFERROR(#REF!,\"\")","v":""},"",{"$f":"IFERROR(#REF!,\"\")","v":""},{"$f":"IFERROR(#REF!,\"\")","v":""},{"$f":"_xlfn.CONCAT(\"Trimestre 1\",CHAR(10),IFERROR(#REF!,\"\"))","v":{"$error":"#NAME?"}},{"$f":"_xlfn.CONCAT(\"Trimestre 1\",CHAR(10),IFERROR(#REF!,\"\"))","v":{"$error":"#NAME?"}},{"$f":"_xlfn.CONCAT(\"Trimestre 1\",CHAR(10),IFERROR(#REF!,\"\"))","v":{"$error":"#NAME?"}},{"$f":"_xlfn.CONCAT(\"Trimestre 1\",CHAR(10),IFERROR(#REF!,\"\"))","v":{"$error":"#NAME?"}},{"$f":"_xlfn.CONCAT(\"Trimestre 1\",CHAR(10),IFERROR(#REF!,\"\"))","v":{"$error":"#NAME?"}}]
[null,null,null,null,null,null,null,null,null,null,null,null,null,null,null,null,null,null,null,null,null,null,null,null,null,{"$f":"IFERROR(#REF!,\" \")","v":" "},{"$f":"IFERROR(#REF!,\"\")","v":""},{"$f":"IFERROR(#REF!,\"\")","v":""},"","",{"$f":"IFERROR(#REF!,\"\")","v":""},"",{"$f":"IFERROR(#REF!,\"\")","v":""},{"$f":"IFERROR(#REF!,\"\")","v":""},{"$f":"_xlfn.CONCAT(\"Trimestre 1\",CHAR(10),IFERROR(#REF!,\"\"))","v":{"$error":"#NAME?"}},{"$f":"_xlfn.CONCAT(\"Trimestre 1\",CHAR(10),IFERROR(#REF!,\"\"))","v":{"$error":"#NAME?"}},{"$f":"_xlfn.CONCAT(\"Trimestre 1\",CHAR(10),IFERROR(#REF!,\"\"))","v":{"$error":"#NAME?"}},{"$f":"_xlfn.CONCAT(\"Trimestre 1\",CHAR(10),IFERROR(#REF!,\"\"))","v":{"$error":"#NAME?"}},{"$f":"_xlfn.CONCAT(\"Trimestre 1\",CHAR(10),IFERROR(#REF!,\"\"))","v":{"$error":"#NAME?"}}]
[null,null,null,null,null,null,null,null,null,null,null,null,null,null,null,null,null,null,null,null,null,null,null,null,null,{"$f":"IFERROR(#REF!,\" \")","v":" "},{"$f":"IFERROR(#REF!,\"\")","v":""},{"$f":"IFERROR(#REF!,\"\")","v":""},"","",{"$f":"IFERROR(#REF!,\"\")","v":""},"",{"$f":"IFERROR(#REF!,\"\")","v":""},{"$f":"IFERROR(#REF!,\"\")","v":""},{"$f":"_xlfn.CONCAT(\"Trimestre 1\",CHAR(10),IFERROR(#REF!,\"\"))","v":{"$error":"#NAME?"}},{"$f":"_xlfn.CONCAT(\"Trimestre 1\",CHAR(10),IFERROR(#REF!,\"\"))","v":{"$error":"#NAME?"}},{"$f":"_xlfn.CONCAT(\"Trimestre 1\",CHAR(10),IFERROR(#REF!,\"\"))","v":{"$error":"#NAME?"}},{"$f":"_xlfn.CONCAT(\"Trimestre 1\",CHAR(10),IFERROR(#REF!,\"\"))","v":{"$error":"#NAME?"}},{"$f":"_xlfn.CONCAT(\"Trimestre 1\",CHAR(10),IFERROR(#REF!,\"\"))","v":{"$error":"#NAME?"}}]
[null,null,null,null,null,null,null,null,null,null,null,null,null,null,null,null,null,null,null,null,null,null,null,null,null,{"$f":"IFERROR(#REF!,\" \")","v":" "},{"$f":"IFERROR(#REF!,\"\")","v":""},{"$f":"IFERROR(#REF!,\"\")","v":""},"","",{"$f":"IFERROR(#REF!,\"\")","v":""},"",{"$f":"IFERROR(#REF!,\"\")","v":""},{"$f":"IFERROR(#REF!,\"\")","v":""},{"$f":"_xlfn.CONCAT(\"Trimestre 1\",CHAR(10),IFERROR(#REF!,\"\"))","v":{"$error":"#NAME?"}},{"$f":"_xlfn.CONCAT(\"Trimestre 1\",CHAR(10),IFERROR(#REF!,\"\"))","v":{"$error":"#NAME?"}},{"$f":"_xlfn.CONCAT(\"Trimestre 1\",CHAR(10),IFERROR(#REF!,\"\"))","v":{"$error":"#NAME?"}},{"$f":"_xlfn.CONCAT(\"Trimestre 1\",CHAR(10),IFERROR(#REF!,\"\"))","v":{"$error":"#NAME?"}},{"$f":"_xlfn.CONCAT(\"Trimestre 1\",CHAR(10),IFERROR(#REF!,\"\"))","v":{"$error":"#NAME?"}}]
[null,null,null,null,null,null,null,null,null,null,null,null,null,null,null,null,null,null,null,null,null,null,null,null,null,{"$f":"IFERROR(#REF!,\" \")","v":" "},{"$f":"IFERROR(#REF!,\"\")","v":""},{"$f":"IFERROR(#REF!,\"\")","v":""},"","",{"$f":"IFERROR(#REF!,\"\")","v":""},"",{"$f":"IFERROR(#REF!,\"\")","v":""},{"$f":"IFERROR(#REF!,\"\")","v":""},{"$f":"_xlfn.CONCAT(\"Trimestre 1\",CHAR(10),IFERROR(#REF!,\"\"))","v":{"$error":"#NAME?"}},{"$f":"_xlfn.CONCAT(\"Trimestre 1\",CHAR(10),IFERROR(#REF!,\"\"))","v":{"$error":"#NAME?"}},{"$f":"_xlfn.CONCAT(\"Trimestre 1\",CHAR(10),IFERROR(#REF!,\"\"))","v":{"$error":"#NAME?"}},{"$f":"_xlfn.CONCAT(\"Trimestre 1\",CHAR(10),IFERROR(#REF!,\"\"))","v":{"$error":"#NAME?"}},{"$f":"_xlfn.CONCAT(\"Trimestre 1\",CHAR(10),IFERROR(#REF!,\"\"))","v":{"$error":"#NAME?"}}]
[null,null,null,null,null,null,null,null,null,null,null,null,null,null,null,null,null,null,null,null,null,null,null,null,null,{"$f":"IFERROR(#REF!,\" \")","v":" "},{"$f":"IFERROR(#REF!,\"\")","v":""},{"$f":"IFERROR(#REF!,\"\")","v":""},"","",{"$f":"IFERROR(#REF!,\"\")","v":""},"",{"$f":"IFERROR(#REF!,\"\")","v":""},{"$f":"IFERROR(#REF!,\"\")","v":""},{"$f":"_xlfn.CONCAT(\"Trimestre 1\",CHAR(10),IFERROR(#REF!,\"\"))","v":{"$error":"#NAME?"}},{"$f":"_xlfn.CONCAT(\"Trimestre 1\",CHAR(10),IFERROR(#REF!,\"\"))","v":{"$error":"#NAME?"}},{"$f":"_xlfn.CONCAT(\"Trimestre 1\",CHAR(10),IFERROR(#REF!,\"\"))","v":{"$error":"#NAME?"}},{"$f":"_xlfn.CONCAT(\"Trimestre 1\",CHAR(10),IFERROR(#REF!,\"\"))","v":{"$error":"#NAME?"}},{"$f":"_xlfn.CONCAT(\"Trimestre 1\",CHAR(10),IFERROR(#REF!,\"\"))","v":{"$error":"#NAME?"}}]
[null,null,null,null,null,null,null,null,null,null,null,null,null,null,null,null,null,null,null,null,null,null,null,null,null,{"$f":"IFERROR(#REF!,\" \")","v":" "},{"$f":"IFERROR(#REF!,\"\")","v":""},{"$f":"IFERROR(#REF!,\"\")","v":""},"","",{"$f":"IFERROR(#REF!,\"\")","v":""},"",{"$f":"IFERROR(#REF!,\"\")","v":""},{"$f":"IFERROR(#REF!,\"\")","v":""},{"$f":"_xlfn.CONCAT(\"Trimestre 1\",CHAR(10),IFERROR(#REF!,\"\"))","v":{"$error":"#NAME?"}},{"$f":"_xlfn.CONCAT(\"Trimestre 1\",CHAR(10),IFERROR(#REF!,\"\"))","v":{"$error":"#NAME?"}},{"$f":"_xlfn.CONCAT(\"Trimestre 1\",CHAR(10),IFERROR(#REF!,\"\"))","v":{"$error":"#NAME?"}},{"$f":"_xlfn.CONCAT(\"Trimestre 1\",CHAR(10),IFERROR(#REF!,\"\"))","v":{"$error":"#NAME?"}},{"$f":"_xlfn.CONCAT(\"Trimestre 1\",CHAR(10),IFERROR(#REF!,\"\"))","v":{"$error":"#NAME?"}}]
[null,null,"3. Coadyuvar en la garantía de la idoneidad en el ejercicio de la profesión jurídica de acuerdo con lo establecido en la Ley 1905 de 2018.",null,null,"2. Asegurar  el cumplimiento de los objetivos institucionales, la normatividad aplicable,  la mejora del SIGCMA y la satisfacción de los usuarios, revisando de  forma continua y sistemática la planificación de la gestión y fortaleciendo la administración de riesgos y sus controles",null,null,null,null,null,null,null,null,null,null,null,null,null,null,null,null,null,null,null,{"$f":"IFERROR(#REF!,\" \")","v":" "},{"$f":"IFERROR(#REF!,\"\")","v":""},{"$f":"IFERROR(#REF!,\"\")","v":""},"","",{"$f":"IFERROR(#REF!,\"\")","v":""},"",{"$f":"IFERROR(#REF!,\"\")","v":""},{"$f":"IFERROR(#REF!,\"\")","v":""},{"$f":"_xlfn.CONCAT(\"Trimestre 1\",CHAR(10),IFERROR(#REF!,\"\"))","v":{"$error":"#NAME?"}},{"$f":"_xlfn.CONCAT(\"Trimestre 1\",CHAR(10),IFERROR(#REF!,\"\"))","v":{"$error":"#NAME?"}},{"$f":"_xlfn.CONCAT(\"Trimestre 1\",CHAR(10),IFERROR(#REF!,\"\"))","v":{"$error":"#NAME?"}},{"$f":"_xlfn.CONCAT(\"Trimestre 1\",CHAR(10),IFERROR(#REF!,\"\"))","v":{"$error":"#NAME?"}},{"$f":"_xlfn.CONCAT(\"Trimestre 1\",CHAR(10),IFERROR(#REF!,\"\"))","v":{"$error":"#NAME?"}}]
[null,null,null,null,null,null,null,null,null,null,null,null,null,null,null,null,null,null,null,null,null,null,null,null,null,{"$f":"IFERROR(#REF!,\" \")","v":" "},{"$f":"IFERROR(#REF!,\"\")","v":""},{"$f":"IFERROR(#REF!,\"\")","v":""},"","",{"$f":"IFERROR(#REF!,\"\")","v":""},"",{"$f":"IFERROR(#REF!,\"\")","v":""},{"$f":"IFERROR(#REF!,\"\")","v":""},{"$f":"_xlfn.CONCAT(\"Trimestre 1\",CHAR(10),IFERROR(#REF!,\"\"))","v":{"$error":"#NAME?"}},{"$f":"_xlfn.CONCAT(\"Trimestre 1\",CHAR(10),IFERROR(#REF!,\"\"))","v":{"$error":"#NAME?"}},{"$f":"_xlfn.CONCAT(\"Trimestre 1\",CHAR(10),IFERROR(#REF!,\"\"))","v":{"$error":"#NAME?"}},{"$f":"_xlfn.CONCAT(\"Trimestre 1\",CHAR(10),IFERROR(#REF!,\"\"))","v":{"$error":"#NAME?"}},{"$f":"_xlfn.CONCAT(\"Trimestre 1\",CHAR(10),IFERROR(#REF!,\"\"))","v":{"$error":"#NAME?"}}]
[null,null,null,null,null,null,null,null,null,null,null,null,null,null,null,null,null,null,null,null,null,null,null,null,null,{"$f":"IFERROR(#REF!,\" \")","v":" "},{"$f":"IFERROR(#REF!,\"\")","v":""},{"$f":"IFERROR(#REF!,\"\")","v":""},"","",{"$f":"IFERROR(#REF!,\"\")","v":""},"",{"$f":"IFERROR(#REF!,\"\")","v":""},{"$f":"IFERROR(#REF!,\"\")","v":""},{"$f":"_xlfn.CONCAT(\"Trimestre 1\",CHAR(10),IFERROR(#REF!,\"\"))","v":{"$error":"#NAME?"}},{"$f":"_xlfn.CONCAT(\"Trimestre 1\",CHAR(10),IFERROR(#REF!,\"\"))","v":{"$error":"#NAME?"}},{"$f":"_xlfn.CONCAT(\"Trimestre 1\",CHAR(10),IFERROR(#REF!,\"\"))","v":{"$error":"#NAME?"}},{"$f":"_xlfn.CONCAT(\"Trimestre 1\",CHAR(10),IFERROR(#REF!,\"\"))","v":{"$error":"#NAME?"}},{"$f":"_xlfn.CONCAT(\"Trimestre 1\",CHAR(10),IFERROR(#REF!,\"\"))","v":{"$error":"#NAME?"}}]
[null,null,null,null,null,null,null,null,null,null,null,null,null,null,null,null,null,null,null,null,null,null,null,null,null,{"$f":"IFERROR(#REF!,\" \")","v":" "},{"$f":"IFERROR(#REF!,\"\")","v":""},{"$f":"IFERROR(#REF!,\"\")","v":""},"","",{"$f":"IFERROR(#REF!,\"\")","v":""},"",{"$f":"IFERROR(#REF!,\"\")","v":""},{"$f":"IFERROR(#REF!,\"\")","v":""},{"$f":"_xlfn.CONCAT(\"Trimestre 1\",CHAR(10),IFERROR(#REF!,\"\"))","v":{"$error":"#NAME?"}},{"$f":"_xlfn.CONCAT(\"Trimestre 1\",CHAR(10),IFERROR(#REF!,\"\"))","v":{"$error":"#NAME?"}},{"$f":"_xlfn.CONCAT(\"Trimestre 1\",CHAR(10),IFERROR(#REF!,\"\"))","v":{"$error":"#NAME?"}},{"$f":"_xlfn.CONCAT(\"Trimestre 1\",CHAR(10),IFERROR(#REF!,\"\"))","v":{"$error":"#NAME?"}},{"$f":"_xlfn.CONCAT(\"Trimestre 1\",CHAR(10),IFERROR(#REF!,\"\"))","v":{"$error":"#NAME?"}}]
[null,null,null,null,null,null,null,null,null,null,null,null,null,null,null,null,null,null,null,null,null,null,null,null,null,{"$f":"IFERROR(#REF!,\" \")","v":" "},{"$f":"IFERROR(#REF!,\"\")","v":""},{"$f":"IFERROR(#REF!,\"\")","v":""},"","",{"$f":"IFERROR(#REF!,\"\")","v":""},"",{"$f":"IFERROR(#REF!,\"\")","v":""},{"$f":"IFERROR(#REF!,\"\")","v":""},{"$f":"_xlfn.CONCAT(\"Trimestre 1\",CHAR(10),IFERROR(#REF!,\"\"))","v":{"$error":"#NAME?"}},{"$f":"_xlfn.CONCAT(\"Trimestre 1\",CHAR(10),IFERROR(#REF!,\"\"))","v":{"$error":"#NAME?"}},{"$f":"_xlfn.CONCAT(\"Trimestre 1\",CHAR(10),IFERROR(#REF!,\"\"))","v":{"$error":"#NAME?"}},{"$f":"_xlfn.CONCAT(\"Trimestre 1\",CHAR(10),IFERROR(#REF!,\"\"))","v":{"$error":"#NAME?"}},{"$f":"_xlfn.CONCAT(\"Trimestre 1\",CHAR(10),IFERROR(#REF!,\"\"))","v":{"$error":"#NAME?"}}]
[null,null,null,null,null,null,null,null,null,null,null,null,null,null,null,null,null,null,null,null,null,null,null,null,null,{"$f":"IFERROR(#REF!,\" \")","v":" "},{"$f":"IFERROR(#REF!,\"\")","v":""},{"$f":"IFERROR(#REF!,\"\")","v":""},"","",{"$f":"IFERROR(#REF!,\"\")","v":""},"",{"$f":"IFERROR(#REF!,\"\")","v":""},{"$f":"IFERROR(#REF!,\"\")","v":""},{"$f":"_xlfn.CONCAT(\"Trimestre 1\",CHAR(10),IFERROR(#REF!,\"\"))","v":{"$error":"#NAME?"}},{"$f":"_xlfn.CONCAT(\"Trimestre 1\",CHAR(10),IFERROR(#REF!,\"\"))","v":{"$error":"#NAME?"}},{"$f":"_xlfn.CONCAT(\"Trimestre 1\",CHAR(10),IFERROR(#REF!,\"\"))","v":{"$error":"#NAME?"}},{"$f":"_xlfn.CONCAT(\"Trimestre 1\",CHAR(10),IFERROR(#REF!,\"\"))","v":{"$error":"#NAME?"}},{"$f":"_xlfn.CONCAT(\"Trimestre 1\",CHAR(10),IFERROR(#REF!,\"\"))","v":{"$error":"#NAME?"}}]
[null,null,null,null,null,null,null,null,null,null,null,null,null,null,null,null,null,null,null,null,null,null,null,null,null,{"$f":"IFERROR(#REF!,\" \")","v":" "},{"$f":"IFERROR(#REF!,\"\")","v":""},{"$f":"IFERROR(#REF!,\"\")","v":""},"","",{"$f":"IFERROR(#REF!,\"\")","v":""},"",{"$f":"IFERROR(#REF!,\"\")","v":""},{"$f":"IFERROR(#REF!,\"\")","v":""},{"$f":"_xlfn.CONCAT(\"Trimestre 1\",CHAR(10),IFERROR(#REF!,\"\"))","v":{"$error":"#NAME?"}},{"$f":"_xlfn.CONCAT(\"Trimestre 1\",CHAR(10),IFERROR(#REF!,\"\"))","v":{"$error":"#NAME?"}},{"$f":"_xlfn.CONCAT(\"Trimestre 1\",CHAR(10),IFERROR(#REF!,\"\"))","v":{"$error":"#NAME?"}},{"$f":"_xlfn.CONCAT(\"Trimestre 1\",CHAR(10),IFERROR(#REF!,\"\"))","v":{"$error":"#NAME?"}},{"$f":"_xlfn.CONCAT(\"Trimestre 1\",CHAR(10),IFERROR(#REF!,\"\"))","v":{"$error":"#NAME?"}}]
[null,null,null,null,null,null,null,null,null,null,null,null,null,null,null,null,null,null,null,null,null,null,null,null,null,{"$f":"IFERROR(#REF!,\" \")","v":" "},{"$f":"IFERROR(#REF!,\"\")","v":""},{"$f":"IFERROR(#REF!,\"\")","v":""},"","",{"$f":"IFERROR(#REF!,\"\")","v":""},"",{"$f":"IFERROR(#REF!,\"\")","v":""},{"$f":"IFERROR(#REF!,\"\")","v":""},{"$f":"_xlfn.CONCAT(\"Trimestre 1\",CHAR(10),IFERROR(#REF!,\"\"))","v":{"$error":"#NAME?"}},{"$f":"_xlfn.CONCAT(\"Trimestre 1\",CHAR(10),IFERROR(#REF!,\"\"))","v":{"$error":"#NAME?"}},{"$f":"_xlfn.CONCAT(\"Trimestre 1\",CHAR(10),IFERROR(#REF!,\"\"))","v":{"$error":"#NAME?"}},{"$f":"_xlfn.CONCAT(\"Trimestre 1\",CHAR(10),IFERROR(#REF!,\"\"))","v":{"$error":"#NAME?"}},{"$f":"_xlfn.CONCAT(\"Trimestre 1\",CHAR(10),IFERROR(#REF!,\"\"))","v":{"$error":"#NAME?"}}]
[null,null,null,null,null,null,null,null,null,null,null,null,null,null,null,null,null,null,null,null,null,null,null,null,null,{"$f":"IFERROR(#REF!,\" \")","v":" "},{"$f":"IFERROR(#REF!,\"\")","v":""},{"$f":"IFERROR(#REF!,\"\")","v":""},"","",{"$f":"IFERROR(#REF!,\"\")","v":""},"",{"$f":"IFERROR(#REF!,\"\")","v":""},{"$f":"IFERROR(#REF!,\"\")","v":""},{"$f":"_xlfn.CONCAT(\"Trimestre 1\",CHAR(10),IFERROR(#REF!,\"\"))","v":{"$error":"#NAME?"}},{"$f":"_xlfn.CONCAT(\"Trimestre 1\",CHAR(10),IFERROR(#REF!,\"\"))","v":{"$error":"#NAME?"}},{"$f":"_xlfn.CONCAT(\"Trimestre 1\",CHAR(10),IFERROR(#REF!,\"\"))","v":{"$error":"#NAME?"}},{"$f":"_xlfn.CONCAT(\"Trimestre 1\",CHAR(10),IFERROR(#REF!,\"\"))","v":{"$error":"#NAME?"}},{"$f":"_xlfn.CONCAT(\"Trimestre 1\",CHAR(10),IFERROR(#REF!,\"\"))","v":{"$error":"#NAME?"}}]
[null,null,null,null,null,null,null,null,null,null,null,null,null,null,null,null,null,null,null,null,null,null,null,null,null,{"$f":"IFERROR(#REF!,\" \")","v":" "},{"$f":"IFERROR(#REF!,\"\")","v":""},{"$f":"IFERROR(#REF!,\"\")","v":""},"","",{"$f":"IFERROR(#REF!,\"\")","v":""},"",{"$f":"IFERROR(#REF!,\"\")","v":""},{"$f":"IFERROR(#REF!,\"\")","v":""},{"$f":"_xlfn.CONCAT(\"Trimestre 1\",CHAR(10),IFERROR(#REF!,\"\"))","v":{"$error":"#NAME?"}},{"$f":"_xlfn.CONCAT(\"Trimestre 1\",CHAR(10),IFERROR(#REF!,\"\"))","v":{"$error":"#NAME?"}},{"$f":"_xlfn.CONCAT(\"Trimestre 1\",CHAR(10),IFERROR(#REF!,\"\"))","v":{"$error":"#NAME?"}},{"$f":"_xlfn.CONCAT(\"Trimestre 1\",CHAR(10),IFERROR(#REF!,\"\"))","v":{"$error":"#NAME?"}},{"$f":"_xlfn.CONCAT(\"Trimestre 1\",CHAR(10),IFERROR(#REF!,\"\"))","v":{"$error":"#NAME?"}}]
[null,null,"4. Avanzar en la disposición de una infraestructura óptima para el acceso a la justicia en la Rama Judicial de modo que se fortalezca la presencia territorial, teniendo en cuenta las posibilidades que ofrece la transformación digital y las necesidades que se derivan de ella, y considerando tanto las necesidades de los usuarios como las de los servidores judiciales.","Diseños para la construcción de despachos judiciales","# de sedes proyectada s para construir o intervenir en el cuatrienio / # sedes efectivamen te construidas o intervenidas\n\nTotal de\ndiseños aprobados","4. Hacer un uso racional de los recursos naturales aplicando los principios y fases de la Economía Circular, para prevenir, mitigar y controlar los impactos ambientales",null,null,null,null,null,null,null,null,null,null,null,null,null,null,null,null,null,null,null,{"$f":"IFERROR(#REF!,\" \")","v":" "},{"$f":"IFERROR(#REF!,\"\")","v":""},{"$f":"IFERROR(#REF!,\"\")","v":""},"","",{"$f":"IFERROR(#REF!,\"\")","v":""},"",{"$f":"IFERROR(#REF!,\"\")","v":""},{"$f":"IFERROR(#REF!,\"\")","v":""},{"$f":"_xlfn.CONCAT(\"Trimestre 1\",CHAR(10),IFERROR(#REF!,\"\"))","v":{"$error":"#NAME?"}},{"$f":"_xlfn.CONCAT(\"Trimestre 1\",CHAR(10),IFERROR(#REF!,\"\"))","v":{"$error":"#NAME?"}},{"$f":"_xlfn.CONCAT(\"Trimestre 1\",CHAR(10),IFERROR(#REF!,\"\"))","v":{"$error":"#NAME?"}},{"$f":"_xlfn.CONCAT(\"Trimestre 1\",CHAR(10),IFERROR(#REF!,\"\"))","v":{"$error":"#NAME?"}},{"$f":"_xlfn.CONCAT(\"Trimestre 1\",CHAR(10),IFERROR(#REF!,\"\"))","v":{"$error":"#NAME?"}}]
[null,null,null,null,null,null,null,null,null,null,null,null,null,null,null,null,null,null,null,null,null,null,null,null,null,{"$f":"IFERROR(#REF!,\" \")","v":" "},{"$f":"IFERROR(#REF!,\"\")","v":""},{"$f":"IFERROR(#REF!,\"\")","v":""},"","",{"$f":"IFERROR(#REF!,\"\")","v":""},"",{"$f":"IFERROR(#REF!,\"\")","v":""},{"$f":"IFERROR(#REF!,\"\")","v":""},{"$f":"_xlfn.CONCAT(\"Trimestre 1\",CHAR(10),IFERROR(#REF!,\"\"))","v":{"$error":"#NAME?"}},{"$f":"_xlfn.CONCAT(\"Trimestre 1\",CHAR(10),IFERROR(#REF!,\"\"))","v":{"$error":"#NAME?"}},{"$f":"_xlfn.CONCAT(\"Trimestre 1\",CHAR(10),IFERROR(#REF!,\"\"))","v":{"$error":"#NAME?"}},{"$f":"_xlfn.CONCAT(\"Trimestre 1\",CHAR(10),IFERROR(#REF!,\"\"))","v":{"$error":"#NAME?"}},{"$f":"_xlfn.CONCAT(\"Trimestre 1\",CHAR(10),IFERROR(#REF!,\"\"))","v":{"$error":"#NAME?"}}]
[null,null,null,null,null,null,null,null,null,null,null,null,null,null,null,null,null,null,null,null,null,null,null,null,null,{"$f":"IFERROR(#REF!,\" \")","v":" "},{"$f":"IFERROR(#REF!,\"\")","v":""},{"$f":"IFERROR(#REF!,\"\")","v":""},"","",{"$f":"IFERROR(#REF!,\"\")","v":""},"",{"$f":"IFERROR(#REF!,\"\")","v":""},{"$f":"IFERROR(#REF!,\"\")","v":""},{"$f":"_xlfn.CONCAT(\"Trimestre 1\",CHAR(10),IFERROR(#REF!,\"\"))","v":{"$error":"#NAME?"}},{"$f":"_xlfn.CONCAT(\"Trimestre 1\",CHAR(10),IFERROR(#REF!,\"\"))","v":{"$error":"#NAME?"}},{"$f":"_xlfn.CONCAT(\"Trimestre 1\",CHAR(10),IFERROR(#REF!,\"\"))","v":{"$error":"#NAME?"}},{"$f":"_xlfn.CONCAT(\"Trimestre 1\",CHAR(10),IFERROR(#REF!,\"\"))","v":{"$error":"#NAME?"}},{"$f":"_xlfn.CONCAT(\"Trimestre 1\",CHAR(10),IFERROR(#REF!,\"\"))","v":{"$error":"#NAME?"}}]
[null,null,null,null,null,null,null,null,null,null,null,null,null,null,null,null,null,null,null,null,null,null,null,null,null,{"$f":"IFERROR(#REF!,\" \")","v":" "},{"$f":"IFERROR(#REF!,\"\")","v":""},{"$f":"IFERROR(#REF!,\"\")","v":""},"","",{"$f":"IFERROR(#REF!,\"\")","v":""},"",{"$f":"IFERROR(#REF!,\"\")","v":""},{"$f":"IFERROR(#REF!,\"\")","v":""},{"$f":"_xlfn.CONCAT(\"Trimestre 1\",CHAR(10),IFERROR(#REF!,\"\"))","v":{"$error":"#NAME?"}},{"$f":"_xlfn.CONCAT(\"Trimestre 1\",CHAR(10),IFERROR(#REF!,\"\"))","v":{"$error":"#NAME?"}},{"$f":"_xlfn.CONCAT(\"Trimestre 1\",CHAR(10),IFERROR(#REF!,\"\"))","v":{"$error":"#NAME?"}},{"$f":"_xlfn.CONCAT(\"Trimestre 1\",CHAR(10),IFERROR(#REF!,\"\"))","v":{"$error":"#NAME?"}},{"$f":"_xlfn.CONCAT(\"Trimestre 1\",CHAR(10),IFERROR(#REF!,\"\"))","v":{"$error":"#NAME?"}}]
[null,null,null,null,null,null,null,null,null,null,null,null,null,null,null,null,null,null,null,null,null,null,null,null,null,{"$f":"IFERROR(#REF!,\" \")","v":" "},{"$f":"IFERROR(#REF!,\"\")","v":""},{"$f":"IFERROR(#REF!,\"\")","v":""},"","",{"$f":"IFERROR(#REF!,\"\")","v":""},"",{"$f":"IFERROR(#REF!,\"\")","v":""},{"$f":"IFERROR(#REF!,\"\")","v":""},{"$f":"_xlfn.CONCAT(\"Trimestre 1\",CHAR(10),IFERROR(#REF!,\"\"))","v":{"$error":"#NAME?"}},{"$f":"_xlfn.CONCAT(\"Trimestre 1\",CHAR(10),IFERROR(#REF!,\"\"))","v":{"$error":"#NAME?"}},{"$f":"_xlfn.CONCAT(\"Trimestre 1\",CHAR(10),IFERROR(#REF!,\"\"))","v":{"$error":"#NAME?"}},{"$f":"_xlfn.CONCAT(\"Trimestre 1\",CHAR(10),IFERROR(#REF!,\"\"))","v":{"$error":"#NAME?"}},{"$f":"_xlfn.CONCAT(\"Trimestre 1\",CHAR(10),IFERROR(#REF!,\"\"))","v":{"$error":"#NAME?"}}]
[null,null,null,null,null,null,null,null,null,null,null,null,null,null,null,null,null,null,null,null,null,null,null,null,null,{"$f":"IFERROR(#REF!,\" \")","v":" "},{"$f":"IFERROR(#REF!,\"\")","v":""},{"$f":"IFERROR(#REF!,\"\")","v":""},"","",{"$f":"IFERROR(#REF!,\"\")","v":""},"",{"$f":"IFERROR(#REF!,\"\")","v":""},{"$f":"IFERROR(#REF!,\"\")","v":""},{"$f":"_xlfn.CONCAT(\"Trimestre 1\",CHAR(10),IFERROR(#REF!,\"\"))","v":{"$error":"#NAME?"}},{"$f":"_xlfn.CONCAT(\"Trimestre 1\",CHAR(10),IFERROR(#REF!,\"\"))","v":{"$error":"#NAME?"}},{"$f":"_xlfn.CONCAT(\"Trimestre 1\",CHAR(10),IFERROR(#REF!,\"\"))","v":{"$error":"#NAME?"}},{"$f":"_xlfn.CONCAT(\"Trimestre 1\",CHAR(10),IFERROR(#REF!,\"\"))","v":{"$error":"#NAME?"}},{"$f":"_xlfn.CONCAT(\"Trimestre 1\",CHAR(10),IFERROR(#REF!,\"\"))","v":{"$error":"#NAME?"}}]
[null,null,null,null,null,null,null,null,null,null,null,null,null,null,null,null,null,null,null,null,null,null,null,null,null,{"$f":"IFERROR(#REF!,\" \")","v":" "},{"$f":"IFERROR(#REF!,\"\")","v":""},{"$f":"IFERROR(#REF!,\"\")","v":""},"","",{"$f":"IFERROR(#REF!,\"\")","v":""},"",{"$f":"IFERROR(#REF!,\"\")","v":""},{"$f":"IFERROR(#REF!,\"\")","v":""},{"$f":"_xlfn.CONCAT(\"Trimestre 1\",CHAR(10),IFERROR(#REF!,\"\"))","v":{"$error":"#NAME?"}},{"$f":"_xlfn.CONCAT(\"Trimestre 1\",CHAR(10),IFERROR(#REF!,\"\"))","v":{"$error":"#NAME?"}},{"$f":"_xlfn.CONCAT(\"Trimestre 1\",CHAR(10),IFERROR(#REF!,\"\"))","v":{"$error":"#NAME?"}},{"$f":"_xlfn.CONCAT(\"Trimestre 1\",CHAR(10),IFERROR(#REF!,\"\"))","v":{"$error":"#NAME?"}},{"$f":"_xlfn.CONCAT(\"Trimestre 1\",CHAR(10),IFERROR(#REF!,\"\"))","v":{"$error":"#NAME?"}}]
[null,null,null,null,null,null,null,null,null,null,null,null,null,null,null,null,null,null,null,null,null,null,null,null,null,{"$f":"IFERROR(#REF!,\" \")","v":" "},{"$f":"IFERROR(#REF!,\"\")","v":""},{"$f":"IFERROR(#REF!,\"\")","v":""},"","",{"$f":"IFERROR(#REF!,\"\")","v":""},"",{"$f":"IFERROR(#REF!,\"\")","v":""},{"$f":"IFERROR(#REF!,\"\")","v":""},{"$f":"_xlfn.CONCAT(\"Trimestre 1\",CHAR(10),IFERROR(#REF!,\"\"))","v":{"$error":"#NAME?"}},{"$f":"_xlfn.CONCAT(\"Trimestre 1\",CHAR(10),IFERROR(#REF!,\"\"))","v":{"$error":"#NAME?"}},{"$f":"_xlfn.CONCAT(\"Trimestre 1\",CHAR(10),IFERROR(#REF!,\"\"))","v":{"$error":"#NAME?"}},{"$f":"_xlfn.CONCAT(\"Trimestre 1\",CHAR(10),IFERROR(#REF!,\"\"))","v":{"$error":"#NAME?"}},{"$f":"_xlfn.CONCAT(\"Trimestre 1\",CHAR(10),IFERROR(#REF!,\"\"))","v":{"$error":"#NAME?"}}]
[null,null,null,null,null,null,null,null,null,null,null,null,null,null,null,null,null,null,null,null,null,null,null,null,null,{"$f":"IFERROR(#REF!,\" \")","v":" "},{"$f":"IFERROR(#REF!,\"\")","v":""},{"$f":"IFERROR(#REF!,\"\")","v":""},"","",{"$f":"IFERROR(#REF!,\"\")","v":""},"",{"$f":"IFERROR(#REF!,\"\")","v":""},{"$f":"IFERROR(#REF!,\"\")","v":""},{"$f":"_xlfn.CONCAT(\"Trimestre 1\",CHAR(10),IFERROR(#REF!,\"\"))","v":{"$error":"#NAME?"}},{"$f":"_xlfn.CONCAT(\"Trimestre 1\",CHAR(10),IFERROR(#REF!,\"\"))","v":{"$error":"#NAME?"}},{"$f":"_xlfn.CONCAT(\"Trimestre 1\",CHAR(10),IFERROR(#REF!,\"\"))","v":{"$error":"#NAME?"}},{"$f":"_xlfn.CONCAT(\"Trimestre 1\",CHAR(10),IFERROR(#REF!,\"\"))","v":{"$error":"#NAME?"}},{"$f":"_xlfn.CONCAT(\"Trimestre 1\",CHAR(10),IFERROR(#REF!,\"\"))","v":{"$error":"#NAME?"}}]
[null,null,null,null,null,null,null,null,null,null,null,null,null,null,null,null,null,null,null,null,null,null,null,null,null,{"$f":"IFERROR(#REF!,\" \")","v":" "},{"$f":"IFERROR(#REF!,\"\")","v":""},{"$f":"IFERROR(#REF!,\"\")","v":""},"","",{"$f":"IFERROR(#REF!,\"\")","v":""},"",{"$f":"IFERROR(#REF!,\"\")","v":""},{"$f":"IFERROR(#REF!,\"\")","v":""},{"$f":"_xlfn.CONCAT(\"Trimestre 1\",CHAR(10),IFERROR(#REF!,\"\"))","v":{"$error":"#NAME?"}},{"$f":"_xlfn.CONCAT(\"Trimestre 1\",CHAR(10),IFERROR(#REF!,\"\"))","v":{"$error":"#NAME?"}},{"$f":"_xlfn.CONCAT(\"Trimestre 1\",CHAR(10),IFERROR(#REF!,\"\"))","v":{"$error":"#NAME?"}},{"$f":"_xlfn.CONCAT(\"Trimestre 1\",CHAR(10),IFERROR(#REF!,\"\"))","v":{"$error":"#NAME?"}},{"$f":"_xlfn.CONCAT(\"Trimestre 1\",CHAR(10),IFERROR(#REF!,\"\"))","v":{"$error":"#NAME?"}}]
[null,null,"5. Impulsar el uso de mecanismos alternativos para la solución de conflictos y la ampliación de la justicia restaurativa y terapéutica y el robustecimiento de las alternativas al encarcelamiento","Seguimiento al cumplimiento de las disposiciones del CSJ que impulsan el uso de mecanismos alternativos de solución de conflictos, la ampliación de la justicia restaurativa y terapéutica y las alternativas al encarcelamiento.","% avance de implementa ción de las estrategias definidas para el seguimiento de las disposicion es adoptadas por el Consejo en materia de justicia restaurativa y terapéutica y las alternativas de encarcelami ento","2. Asegurar  el cumplimiento de los objetivos institucionales, la normatividad aplicable,  la mejora del SIGCMA y la satisfacción de los usuarios, revisando de  forma continua y sistemática la planificación de la gestión y fortaleciendo la administración de riesgos y sus controles",null,null,null,null,null,null,null,null,null,null,null,null,null,null,null,null,null,null,null,{"$f":"IFERROR(#REF!,\" \")","v":" "},{"$f":"IFERROR(#REF!,\"\")","v":""},{"$f":"IFERROR(#REF!,\"\")","v":""},"","",{"$f":"IFERROR(#REF!,\"\")","v":""},"",{"$f":"IFERROR(#REF!,\"\")","v":""},{"$f":"IFERROR(#REF!,\"\")","v":""},{"$f":"_xlfn.CONCAT(\"Trimestre 1\",CHAR(10),IFERROR(#REF!,\"\"))","v":{"$error":"#NAME?"}},{"$f":"_xlfn.CONCAT(\"Trimestre 1\",CHAR(10),IFERROR(#REF!,\"\"))","v":{"$error":"#NAME?"}},{"$f":"_xlfn.CONCAT(\"Trimestre 1\",CHAR(10),IFERROR(#REF!,\"\"))","v":{"$error":"#NAME?"}},{"$f":"_xlfn.CONCAT(\"Trimestre 1\",CHAR(10),IFERROR(#REF!,\"\"))","v":{"$error":"#NAME?"}},{"$f":"_xlfn.CONCAT(\"Trimestre 1\",CHAR(10),IFERROR(#REF!,\"\"))","v":{"$error":"#NAME?"}}]
[null,null,null,null,null,null,null,null,null,null,null,null,null,null,null,null,null,null,null,null,null,null,null,null,null,{"$f":"IFERROR(#REF!,\" \")","v":" "},{"$f":"IFERROR(#REF!,\"\")","v":""},{"$f":"IFERROR(#REF!,\"\")","v":""},"","",{"$f":"IFERROR(#REF!,\"\")","v":""},"",{"$f":"IFERROR(#REF!,\"\")","v":""},{"$f":"IFERROR(#REF!,\"\")","v":""},{"$f":"_xlfn.CONCAT(\"Trimestre 1\",CHAR(10),IFERROR(#REF!,\"\"))","v":{"$error":"#NAME?"}},{"$f":"_xlfn.CONCAT(\"Trimestre 1\",CHAR(10),IFERROR(#REF!,\"\"))","v":{"$error":"#NAME?"}},{"$f":"_xlfn.CONCAT(\"Trimestre 1\",CHAR(10),IFERROR(#REF!,\"\"))","v":{"$error":"#NAME?"}},{"$f":"_xlfn.CONCAT(\"Trimestre 1\",CHAR(10),IFERROR(#REF!,\"\"))","v":{"$error":"#NAME?"}},{"$f":"_xlfn.CONCAT(\"Trimestre 1\",CHAR(10),IFERROR(#REF!,\"\"))","v":{"$error":"#NAME?"}}]
[null,null,null,null,null,null,null,null,null,null,null,null,null,null,null,null,null,null,null,null,null,null,null,null,null,{"$f":"IFERROR(#REF!,\" \")","v":" "},{"$f":"IFERROR(#REF!,\"\")","v":""},{"$f":"IFERROR(#REF!,\"\")","v":""},"","",{"$f":"IFERROR(#REF!,\"\")","v":""},"",{"$f":"IFERROR(#REF!,\"\")","v":""},{"$f":"IFERROR(#REF!,\"\")","v":""},{"$f":"_xlfn.CONCAT(\"Trimestre 1\",CHAR(10),IFERROR(#REF!,\"\"))","v":{"$error":"#NAME?"}},{"$f":"_xlfn.CONCAT(\"Trimestre 1\",CHAR(10),IFERROR(#REF!,\"\"))","v":{"$error":"#NAME?"}},{"$f":"_xlfn.CONCAT(\"Trimestre 1\",CHAR(10),IFERROR(#REF!,\"\"))","v":{"$error":"#NAME?"}},{"$f":"_xlfn.CONCAT(\"Trimestre 1\",CHAR(10),IFERROR(#REF!,\"\"))","v":{"$error":"#NAME?"}},{"$f":"_xlfn.CONCAT(\"Trimestre 1\",CHAR(10),IFERROR(#REF!,\"\"))","v":{"$error":"#NAME?"}}]
[null,null,null,null,null,null,null,null,null,null,null,null,null,null,null,null,null,null,null,null,null,null,null,null,null,{"$f":"IFERROR(#REF!,\" \")","v":" "},{"$f":"IFERROR(#REF!,\"\")","v":""},{"$f":"IFERROR(#REF!,\"\")","v":""},"","",{"$f":"IFERROR(#REF!,\"\")","v":""},"",{"$f":"IFERROR(#REF!,\"\")","v":""},{"$f":"IFERROR(#REF!,\"\")","v":""},{"$f":"_xlfn.CONCAT(\"Trimestre 1\",CHAR(10),IFERROR(#REF!,\"\"))","v":{"$error":"#NAME?"}},{"$f":"_xlfn.CONCAT(\"Trimestre 1\",CHAR(10),IFERROR(#REF!,\"\"))","v":{"$error":"#NAME?"}},{"$f":"_xlfn.CONCAT(\"Trimestre 1\",CHAR(10),IFERROR(#REF!,\"\"))","v":{"$error":"#NAME?"}},{"$f":"_xlfn.CONCAT(\"Trimestre 1\",CHAR(10),IFERROR(#REF!,\"\"))","v":{"$error":"#NAME?"}},{"$f":"_xlfn.CONCAT(\"Trimestre 1\",CHAR(10),IFERROR(#REF!,\"\"))","v":{"$error":"#NAME?"}}]
[null,null,null,null,null,null,null,null,null,null,null,null,null,null,null,null,null,null,null,null,null,null,null,null,null,{"$f":"IFERROR(#REF!,\" \")","v":" "},{"$f":"IFERROR(#REF!,\"\")","v":""},{"$f":"IFERROR(#REF!,\"\")","v":""},"","",{"$f":"IFERROR(#REF!,\"\")","v":""},"",{"$f":"IFERROR(#REF!,\"\")","v":""},{"$f":"IFERROR(#REF!,\"\")","v":""},{"$f":"_xlfn.CONCAT(\"Trimestre 1\",CHAR(10),IFERROR(#REF!,\"\"))","v":{"$error":"#NAME?"}},{"$f":"_xlfn.CONCAT(\"Trimestre 1\",CHAR(10),IFERROR(#REF!,\"\"))","v":{"$error":"#NAME?"}},{"$f":"_xlfn.CONCAT(\"Trimestre 1\",CHAR(10),IFERROR(#REF!,\"\"))","v":{"$error":"#NAME?"}},{"$f":"_xlfn.CONCAT(\"Trimestre 1\",CHAR(10),IFERROR(#REF!,\"\"))","v":{"$error":"#NAME?"}},{"$f":"_xlfn.CONCAT(\"Trimestre 1\",CHAR(10),IFERROR(#REF!,\"\"))","v":{"$error":"#NAME?"}}]
[null,null,null,null,null,null,null,null,null,null,null,null,null,null,null,null,null,null,null,null,null,null,null,null,null,{"$f":"IFERROR(#REF!,\" \")","v":" "},{"$f":"IFERROR(#REF!,\"\")","v":""},{"$f":"IFERROR(#REF!,\"\")","v":""},"","",{"$f":"IFERROR(#REF!,\"\")","v":""},"",{"$f":"IFERROR(#REF!,\"\")","v":""},{"$f":"IFERROR(#REF!,\"\")","v":""},{"$f":"_xlfn.CONCAT(\"Trimestre 1\",CHAR(10),IFERROR(#REF!,\"\"))","v":{"$error":"#NAME?"}},{"$f":"_xlfn.CONCAT(\"Trimestre 1\",CHAR(10),IFERROR(#REF!,\"\"))","v":{"$error":"#NAME?"}},{"$f":"_xlfn.CONCAT(\"Trimestre 1\",CHAR(10),IFERROR(#REF!,\"\"))","v":{"$error":"#NAME?"}},{"$f":"_xlfn.CONCAT(\"Trimestre 1\",CHAR(10),IFERROR(#REF!,\"\"))","v":{"$error":"#NAME?"}},{"$f":"_xlfn.CONCAT(\"Trimestre 1\",CHAR(10),IFERROR(#REF!,\"\"))","v":{"$error":"#NAME?"}}]
[null,null,null,null,null,null,null,null,null,null,null,null,null,null,null,null,null,null,null,null,null,null,null,null,null,{"$f":"IFERROR(#REF!,\" \")","v":" "},{"$f":"IFERROR(#REF!,\"\")","v":""},{"$f":"IFERROR(#REF!,\"\")","v":""},"","",{"$f":"IFERROR(#REF!,\"\")","v":""},"",{"$f":"IFERROR(#REF!,\"\")","v":""},{"$f":"IFERROR(#REF!,\"\")","v":""},{"$f":"_xlfn.CONCAT(\"Trimestre 1\",CHAR(10),IFERROR(#REF!,\"\"))","v":{"$error":"#NAME?"}},{"$f":"_xlfn.CONCAT(\"Trimestre 1\",CHAR(10),IFERROR(#REF!,\"\"))","v":{"$error":"#NAME?"}},{"$f":"_xlfn.CONCAT(\"Trimestre 1\",CHAR(10),IFERROR(#REF!,\"\"))","v":{"$error":"#NAME?"}},{"$f":"_xlfn.CONCAT(\"Trimestre 1\",CHAR(10),IFERROR(#REF!,\"\"))","v":{"$error":"#NAME?"}},{"$f":"_xlfn.CONCAT(\"Trimestre 1\",CHAR(10),IFERROR(#REF!,\"\"))","v":{"$error":"#NAME?"}}]
[null,null,null,null,null,null,null,null,null,null,null,null,null,null,null,null,null,null,null,null,null,null,null,null,null,{"$f":"IFERROR(#REF!,\" \")","v":" "},{"$f":"IFERROR(#REF!,\"\")","v":""},{"$f":"IFERROR(#REF!,\"\")","v":""},"","",{"$f":"IFERROR(#REF!,\"\")","v":""},"",{"$f":"IFERROR(#REF!,\"\")","v":""},{"$f":"IFERROR(#REF!,\"\")","v":""},{"$f":"_xlfn.CONCAT(\"Trimestre 1\",CHAR(10),IFERROR(#REF!,\"\"))","v":{"$error":"#NAME?"}},{"$f":"_xlfn.CONCAT(\"Trimestre 1\",CHAR(10),IFERROR(#REF!,\"\"))","v":{"$error":"#NAME?"}},{"$f":"_xlfn.CONCAT(\"Trimestre 1\",CHAR(10),IFERROR(#REF!,\"\"))","v":{"$error":"#NAME?"}},{"$f":"_xlfn.CONCAT(\"Trimestre 1\",CHAR(10),IFERROR(#REF!,\"\"))","v":{"$error":"#NAME?"}},{"$f":"_xlfn.CONCAT(\"Trimestre 1\",CHAR(10),IFERROR(#REF!,\"\"))","v":{"$error":"#NAME?"}}]
[null,null,null,null,null,null,null,null,null,null,null,null,null,null,null,null,null,null,null,null,null,null,null,null,null,{"$f":"IFERROR(#REF!,\" \")","v":" "},{"$f":"IFERROR(#REF!,\"\")","v":""},{"$f":"IFERROR(#REF!,\"\")","v":""},"","",{"$f":"IFERROR(#REF!,\"\")","v":""},"",{"$f":"IFERROR(#REF!,\"\")","v":""},{"$f":"IFERROR(#REF!,\"\")","v":""},{"$f":"_xlfn.CONCAT(\"Trimestre 1\",CHAR(10),IFERROR(#REF!,\"\"))","v":{"$error":"#NAME?"}},{"$f":"_xlfn.CONCAT(\"Trimestre 1\",CHAR(10),IFERROR(#REF!,\"\"))","v":{"$error":"#NAME?"}},{"$f":"_xlfn.CONCAT(\"Trimestre 1\",CHAR(10),IFERROR(#REF!,\"\"))","v":{"$error":"#NAME?"}},{"$f":"_xlfn.CONCAT(\"Trimestre 1\",CHAR(10),IFERROR(#REF!,\"\"))","v":{"$error":"#NAME?"}},{"$f":"_xlfn.CONCAT(\"Trimestre 1\",CHAR(10),IFERROR(#REF!,\"\"))","v":{"$error":"#NAME?"}}]
[null,null,null,null,null,null,null,null,null,null,null,null,null,null,null,null,null,null,null,null,null,null,null,null,null,{"$f":"IFERROR(#REF!,\" \")","v":" "},{"$f":"IFERROR(#REF!,\"\")","v":""},{"$f":"IFERROR(#REF!,\"\")","v":""},"","",{"$f":"IFERROR(#REF!,\"\")","v":""},"",{"$f":"IFERROR(#REF!,\"\")","v":""},{"$f":"IFERROR(#REF!,\"\")","v":""},{"$f":"_xlfn.CONCAT(\"Trimestre 1\",CHAR(10),IFERROR(#REF!,\"\"))","v":{"$error":"#NAME?"}},{"$f":"_xlfn.CONCAT(\"Trimestre 1\",CHAR(10),IFERROR(#REF!,\"\"))","v":{"$error":"#NAME?"}},{"$f":"_xlfn.CONCAT(\"Trimestre 1\",CHAR(10),IFERROR(#REF!,\"\"))","v":{"$error":"#NAME?"}},{"$f":"_xlfn.CONCAT(\"Trimestre 1\",CHAR(10),IFERROR(#REF!,\"\"))","v":{"$error":"#NAME?"}},{"$f":"_xlfn.CONCAT(\"Trimestre 1\",CHAR(10),IFERROR(#REF!,\"\"))","v":{"$error":"#NAME?"}}]
["2. Servicios digitales y de tecnología, innovación y análisis de la información.","Servicios digitales y de tecnología, innovación y análisis de la información: Consolidar una justicia integrada y soportada en servicios digitales y de tecnología, innovación y análisis de la información, con una cultura digital apropiada, segura y sensible a las realidades del territorio nacional. ","1. Ampliar el acceso a la justicia a través de la consolidación del uso de los servicios digitales que conforman el sistema único integrado de gestión judicial en todos los despachos judiciales y dependencias de apoyo y, específicamente, incluyendo el despliegue e implementación del Expediente Judicial Electrónico en todas las jurisdicciones y especialidades.","Procesos\njudiciales gestionados a través del expediente electrónico por especialidad","# de procesos judiciales en gestión con expediente electrónico en cada especialida d y por categoría de despacho a nivel de circuito / # de procesos judiciales totales en gestión por cada especialida d y circuito (cabecera de circuito)","6. Proteger, preservar y administrar los activos de información  implementando acciones  para gestionar de forma adecuada los incidentes, proteger los datos personales y adoptar mecanismos  de ciberseguridad y aseguramiento de la  continuidad del negocio.",null,null,null,null,null,null,null,null,null,null,null,null,null,null,null,null,null,null,null,{"$f":"IFERROR(#REF!,\" \")","v":" "},{"$f":"IFERROR(#REF!,\"\")","v":""},{"$f":"IFERROR(#REF!,\"\")","v":""},"","",{"$f":"IFERROR(#REF!,\"\")","v":""},"",{"$f":"IFERROR(#REF!,\"\")","v":""},{"$f":"IFERROR(#REF!,\"\")","v":""},{"$f":"_xlfn.CONCAT(\"Trimestre 1\",CHAR(10),IFERROR(#REF!,\"\"))","v":{"$error":"#NAME?"}},{"$f":"_xlfn.CONCAT(\"Trimestre 1\",CHAR(10),IFERROR(#REF!,\"\"))","v":{"$error":"#NAME?"}},{"$f":"_xlfn.CONCAT(\"Trimestre 1\",CHAR(10),IFERROR(#REF!,\"\"))","v":{"$error":"#NAME?"}},{"$f":"_xlfn.CONCAT(\"Trimestre 1\",CHAR(10),IFERROR(#REF!,\"\"))","v":{"$error":"#NAME?"}},{"$f":"_xlfn.CONCAT(\"Trimestre 1\",CHAR(10),IFERROR(#REF!,\"\"))","v":{"$error":"#NAME?"}}]
[null,null,null,null,null,null,null,null,null,null,null,null,null,null,null,null,null,null,null,null,null,null,null,null,null,{"$f":"IFERROR(#REF!,\" \")","v":" "},{"$f":"IFERROR(#REF!,\"\")","v":""},{"$f":"IFERROR(#REF!,\"\")","v":""},"","",{"$f":"IFERROR(#REF!,\"\")","v":""},"",{"$f":"IFERROR(#REF!,\"\")","v":""},{"$f":"IFERROR(#REF!,\"\")","v":""},{"$f":"_xlfn.CONCAT(\"Trimestre 1\",CHAR(10),IFERROR(#REF!,\"\"))","v":{"$error":"#NAME?"}},{"$f":"_xlfn.CONCAT(\"Trimestre 1\",CHAR(10),IFERROR(#REF!,\"\"))","v":{"$error":"#NAME?"}},{"$f":"_xlfn.CONCAT(\"Trimestre 1\",CHAR(10),IFERROR(#REF!,\"\"))","v":{"$error":"#NAME?"}},{"$f":"_xlfn.CONCAT(\"Trimestre 1\",CHAR(10),IFERROR(#REF!,\"\"))","v":{"$error":"#NAME?"}},{"$f":"_xlfn.CONCAT(\"Trimestre 1\",CHAR(10),IFERROR(#REF!,\"\"))","v":{"$error":"#NAME?"}}]
[null,null,null,null,null,null,null,null,null,null,null,null,null,null,null,null,null,null,null,null,null,null,null,null,null,{"$f":"IFERROR(#REF!,\" \")","v":" "},{"$f":"IFERROR(#REF!,\"\")","v":""},{"$f":"IFERROR(#REF!,\"\")","v":""},"","",{"$f":"IFERROR(#REF!,\"\")","v":""},"",{"$f":"IFERROR(#REF!,\"\")","v":""},{"$f":"IFERROR(#REF!,\"\")","v":""},{"$f":"_xlfn.CONCAT(\"Trimestre 1\",CHAR(10),IFERROR(#REF!,\"\"))","v":{"$error":"#NAME?"}},{"$f":"_xlfn.CONCAT(\"Trimestre 1\",CHAR(10),IFERROR(#REF!,\"\"))","v":{"$error":"#NAME?"}},{"$f":"_xlfn.CONCAT(\"Trimestre 1\",CHAR(10),IFERROR(#REF!,\"\"))","v":{"$error":"#NAME?"}},{"$f":"_xlfn.CONCAT(\"Trimestre 1\",CHAR(10),IFERROR(#REF!,\"\"))","v":{"$error":"#NAME?"}},{"$f":"_xlfn.CONCAT(\"Trimestre 1\",CHAR(10),IFERROR(#REF!,\"\"))","v":{"$error":"#NAME?"}}]
[null,null,null,null,null,null,null,null,null,null,null,null,null,null,null,null,null,null,null,null,null,null,null,null,null,{"$f":"IFERROR(#REF!,\" \")","v":" "},{"$f":"IFERROR(#REF!,\"\")","v":""},{"$f":"IFERROR(#REF!,\"\")","v":""},"","",{"$f":"IFERROR(#REF!,\"\")","v":""},"",{"$f":"IFERROR(#REF!,\"\")","v":""},{"$f":"IFERROR(#REF!,\"\")","v":""},{"$f":"_xlfn.CONCAT(\"Trimestre 1\",CHAR(10),IFERROR(#REF!,\"\"))","v":{"$error":"#NAME?"}},{"$f":"_xlfn.CONCAT(\"Trimestre 1\",CHAR(10),IFERROR(#REF!,\"\"))","v":{"$error":"#NAME?"}},{"$f":"_xlfn.CONCAT(\"Trimestre 1\",CHAR(10),IFERROR(#REF!,\"\"))","v":{"$error":"#NAME?"}},{"$f":"_xlfn.CONCAT(\"Trimestre 1\",CHAR(10),IFERROR(#REF!,\"\"))","v":{"$error":"#NAME?"}},{"$f":"_xlfn.CONCAT(\"Trimestre 1\",CHAR(10),IFERROR(#REF!,\"\"))","v":{"$error":"#NAME?"}}]
[null,null,null,null,null,null,null,null,null,null,null,null,null,null,null,null,null,null,null,null,null,null,null,null,null,{"$f":"IFERROR(#REF!,\" \")","v":" "},{"$f":"IFERROR(#REF!,\"\")","v":""},{"$f":"IFERROR(#REF!,\"\")","v":""},"","",{"$f":"IFERROR(#REF!,\"\")","v":""},"",{"$f":"IFERROR(#REF!,\"\")","v":""},{"$f":"IFERROR(#REF!,\"\")","v":""},{"$f":"_xlfn.CONCAT(\"Trimestre 1\",CHAR(10),IFERROR(#REF!,\"\"))","v":{"$error":"#NAME?"}},{"$f":"_xlfn.CONCAT(\"Trimestre 1\",CHAR(10),IFERROR(#REF!,\"\"))","v":{"$error":"#NAME?"}},{"$f":"_xlfn.CONCAT(\"Trimestre 1\",CHAR(10),IFERROR(#REF!,\"\"))","v":{"$error":"#NAME?"}},{"$f":"_xlfn.CONCAT(\"Trimestre 1\",CHAR(10),IFERROR(#REF!,\"\"))","v":{"$error":"#NAME?"}},{"$f":"_xlfn.CONCAT(\"Trimestre 1\",CHAR(10),IFERROR(#REF!,\"\"))","v":{"$error":"#NAME?"}}]
[null,null,null,null,null,null,null,null,null,null,null,null,null,null,null,null,null,null,null,null,null,null,null,null,null,{"$f":"IFERROR(#REF!,\" \")","v":" "},{"$f":"IFERROR(#REF!,\"\")","v":""},{"$f":"IFERROR(#REF!,\"\")","v":""},"","",{"$f":"IFERROR(#REF!,\"\")","v":""},"",{"$f":"IFERROR(#REF!,\"\")","v":""},{"$f":"IFERROR(#REF!,\"\")","v":""},{"$f":"_xlfn.CONCAT(\"Trimestre 1\",CHAR(10),IFERROR(#REF!,\"\"))","v":{"$error":"#NAME?"}},{"$f":"_xlfn.CONCAT(\"Trimestre 1\",CHAR(10),IFERROR(#REF!,\"\"))","v":{"$error":"#NAME?"}},{"$f":"_xlfn.CONCAT(\"Trimestre 1\",CHAR(10),IFERROR(#REF!,\"\"))","v":{"$error":"#NAME?"}},{"$f":"_xlfn.CONCAT(\"Trimestre 1\",CHAR(10),IFERROR(#REF!,\"\"))","v":{"$error":"#NAME?"}},{"$f":"_xlfn.CONCAT(\"Trimestre 1\",CHAR(10),IFERROR(#REF!,\"\"))","v":{"$error":"#NAME?"}}]
[null,null,null,null,null,null,null,null,null,null,null,null,null,null,null,null,null,null,null,null,null,null,null,null,null,{"$f":"IFERROR(#REF!,\" \")","v":" "},{"$f":"IFERROR(#REF!,\"\")","v":""},{"$f":"IFERROR(#REF!,\"\")","v":""},"","",{"$f":"IFERROR(#REF!,\"\")","v":""},"",{"$f":"IFERROR(#REF!,\"\")","v":""},{"$f":"IFERROR(#REF!,\"\")","v":""},{"$f":"_xlfn.CONCAT(\"Trimestre 1\",CHAR(10),IFERROR(#REF!,\"\"))","v":{"$error":"#NAME?"}},{"$f":"_xlfn.CONCAT(\"Trimestre 1\",CHAR(10),IFERROR(#REF!,\"\"))","v":{"$error":"#NAME?"}},{"$f":"_xlfn.CONCAT(\"Trimestre 1\",CHAR(10),IFERROR(#REF!,\"\"))","v":{"$error":"#NAME?"}},{"$f":"_xlfn.CONCAT(\"Trimestre 1\",CHAR(10),IFERROR(#REF!,\"\"))","v":{"$error":"#NAME?"}},{"$f":"_xlfn.CONCAT(\"Trimestre 1\",CHAR(10),IFERROR(#REF!,\"\"))","v":{"$error":"#NAME?"}}]
[null,null,null,null,null,null,null,null,null,null,null,null,null,null,null,null,null,null,null,null,null,null,null,null,null,{"$f":"IFERROR(#REF!,\" \")","v":" "},{"$f":"IFERROR(#REF!,\"\")","v":""},{"$f":"IFERROR(#REF!,\"\")","v":""},"","",{"$f":"IFERROR(#REF!,\"\")","v":""},"",{"$f":"IFERROR(#REF!,\"\")","v":""},{"$f":"IFERROR(#REF!,\"\")","v":""},{"$f":"_xlfn.CONCAT(\"Trimestre 1\",CHAR(10),IFERROR(#REF!,\"\"))","v":{"$error":"#NAME?"}},{"$f":"_xlfn.CONCAT(\"Trimestre 1\",CHAR(10),IFERROR(#REF!,\"\"))","v":{"$error":"#NAME?"}},{"$f":"_xlfn.CONCAT(\"Trimestre 1\",CHAR(10),IFERROR(#REF!,\"\"))","v":{"$error":"#NAME?"}},{"$f":"_xlfn.CONCAT(\"Trimestre 1\",CHAR(10),IFERROR(#REF!,\"\"))","v":{"$error":"#NAME?"}},{"$f":"_xlfn.CONCAT(\"Trimestre 1\",CHAR(10),IFERROR(#REF!,\"\"))","v":{"$error":"#NAME?"}}]
[null,null,null,null,null,null,null,null,null,null,null,null,null,null,null,null,null,null,null,null,null,null,null,null,null,{"$f":"IFERROR(#REF!,\" \")","v":" "},{"$f":"IFERROR(#REF!,\"\")","v":""},{"$f":"IFERROR(#REF!,\"\")","v":""},"","",{"$f":"IFERROR(#REF!,\"\")","v":""},"",{"$f":"IFERROR(#REF!,\"\")","v":""},{"$f":"IFERROR(#REF!,\"\")","v":""},{"$f":"_xlfn.CONCAT(\"Trimestre 1\",CHAR(10),IFERROR(#REF!,\"\"))","v":{"$error":"#NAME?"}},{"$f":"_xlfn.CONCAT(\"Trimestre 1\",CHAR(10),IFERROR(#REF!,\"\"))","v":{"$error":"#NAME?"}},{"$f":"_xlfn.CONCAT(\"Trimestre 1\",CHAR(10),IFERROR(#REF!,\"\"))","v":{"$error":"#NAME?"}},{"$f":"_xlfn.CONCAT(\"Trimestre 1\",CHAR(10),IFERROR(#REF!,\"\"))","v":{"$error":"#NAME?"}},{"$f":"_xlfn.CONCAT(\"Trimestre 1\",CHAR(10),IFERROR(#REF!,\"\"))","v":{"$error":"#NAME?"}}]
[null,null,null,null,null,null,null,null,null,null,null,null,null,null,null,null,null,null,null,null,null,null,null,null,null,{"$f":"IFERROR(#REF!,\" \")","v":" "},{"$f":"IFERROR(#REF!,\"\")","v":""},{"$f":"IFERROR(#REF!,\"\")","v":""},"","",{"$f":"IFERROR(#REF!,\"\")","v":""},"",{"$f":"IFERROR(#REF!,\"\")","v":""},{"$f":"IFERROR(#REF!,\"\")","v":""},{"$f":"_xlfn.CONCAT(\"Trimestre 1\",CHAR(10),IFERROR(#REF!,\"\"))","v":{"$error":"#NAME?"}},{"$f":"_xlfn.CONCAT(\"Trimestre 1\",CHAR(10),IFERROR(#REF!,\"\"))","v":{"$error":"#NAME?"}},{"$f":"_xlfn.CONCAT(\"Trimestre 1\",CHAR(10),IFERROR(#REF!,\"\"))","v":{"$error":"#NAME?"}},{"$f":"_xlfn.CONCAT(\"Trimestre 1\",CHAR(10),IFERROR(#REF!,\"\"))","v":{"$error":"#NAME?"}},{"$f":"_xlfn.CONCAT(\"Trimestre 1\",CHAR(10),IFERROR(#REF!,\"\"))","v":{"$error":"#NAME?"}}]
[null,null,"2. Integrar y hacer compatibles todos los aplicativos de transición con SIUGJ, para que la migración de los expedientes judiciales a dicha plataforma sea real y no suponga afectaciones en la prestación del servicio de justicia.",null,null,null,null,null,null,null,null,null,null,null,null,null,null,null,null,null,null,null,null,null,null,{"$f":"IFERROR(#REF!,\" \")","v":" "},{"$f":"IFERROR(#REF!,\"\")","v":""},{"$f":"IFERROR(#REF!,\"\")","v":""},"","",{"$f":"IFERROR(#REF!,\"\")","v":""},"",{"$f":"IFERROR(#REF!,\"\")","v":""},{"$f":"IFERROR(#REF!,\"\")","v":""},{"$f":"_xlfn.CONCAT(\"Trimestre 1\",CHAR(10),IFERROR(#REF!,\"\"))","v":{"$error":"#NAME?"}},{"$f":"_xlfn.CONCAT(\"Trimestre 1\",CHAR(10),IFERROR(#REF!,\"\"))","v":{"$error":"#NAME?"}},{"$f":"_xlfn.CONCAT(\"Trimestre 1\",CHAR(10),IFERROR(#REF!,\"\"))","v":{"$error":"#NAME?"}},{"$f":"_xlfn.CONCAT(\"Trimestre 1\",CHAR(10),IFERROR(#REF!,\"\"))","v":{"$error":"#NAME?"}},{"$f":"_xlfn.CONCAT(\"Trimestre 1\",CHAR(10),IFERROR(#REF!,\"\"))","v":{"$error":"#NAME?"}}]
[null,null,null,null,null,null,null,null,null,null,null,null,null,null,null,null,null,null,null,null,null,null,null,null,null,{"$f":"IFERROR(#REF!,\" \")","v":" "},{"$f":"IFERROR(#REF!,\"\")","v":""},{"$f":"IFERROR(#REF!,\"\")","v":""},"","",{"$f":"IFERROR(#REF!,\"\")","v":""},"",{"$f":"IFERROR(#REF!,\"\")","v":""},{"$f":"IFERROR(#REF!,\"\")","v":""},{"$f":"_xlfn.CONCAT(\"Trimestre 1\",CHAR(10),IFERROR(#REF!,\"\"))","v":{"$error":"#NAME?"}},{"$f":"_xlfn.CONCAT(\"Trimestre 1\",CHAR(10),IFERROR(#REF!,\"\"))","v":{"$error":"#NAME?"}},{"$f":"_xlfn.CONCAT(\"Trimestre 1\",CHAR(10),IFERROR(#REF!,\"\"))","v":{"$error":"#NAME?"}},{"$f":"_xlfn.CONCAT(\"Trimestre 1\",CHAR(10),IFERROR(#REF!,\"\"))","v":{"$error":"#NAME?"}},{"$f":"_xlfn.CONCAT(\"Trimestre 1\",CHAR(10),IFERROR(#REF!,\"\"))","v":{"$error":"#NAME?"}}]
[null,null,null,null,null,null,null,null,null,null,null,null,null,null,null,null,null,null,null,null,null,null,null,null,null,{"$f":"IFERROR(#REF!,\" \")","v":" "},{"$f":"IFERROR(#REF!,\"\")","v":""},{"$f":"IFERROR(#REF!,\"\")","v":""},"","",{"$f":"IFERROR(#REF!,\"\")","v":""},"",{"$f":"IFERROR(#REF!,\"\")","v":""},{"$f":"IFERROR(#REF!,\"\")","v":""},{"$f":"_xlfn.CONCAT(\"Trimestre 1\",CHAR(10),IFERROR(#REF!,\"\"))","v":{"$error":"#NAME?"}},{"$f":"_xlfn.CONCAT(\"Trimestre 1\",CHAR(10),IFERROR(#REF!,\"\"))","v":{"$error":"#NAME?"}},{"$f":"_xlfn.CONCAT(\"Trimestre 1\",CHAR(10),IFERROR(#REF!,\"\"))","v":{"$error":"#NAME?"}},{"$f":"_xlfn.CONCAT(\"Trimestre 1\",CHAR(10),IFERROR(#REF!,\"\"))","v":{"$error":"#NAME?"}},{"$f":"_xlfn.CONCAT(\"Trimestre 1\",CHAR(10),IFERROR(#REF!,\"\"))","v":{"$error":"#NAME?"}}]
[null,null,null,null,null,null,null,null,null,null,null,null,null,null,null,null,null,null,null,null,null,null,null,null,null,{"$f":"IFERROR(#REF!,\" \")","v":" "},{"$f":"IFERROR(#REF!,\"\")","v":""},{"$f":"IFERROR(#REF!,\"\")","v":""},"","",{"$f":"IFERROR(#REF!,\"\")","v":""},"",{"$f":"IFERROR(#REF!,\"\")","v":""},{"$f":"IFERROR(#REF!,\"\")","v":""},{"$f":"_xlfn.CONCAT(\"Trimestre 1\",CHAR(10),IFERROR(#REF!,\"\"))","v":{"$error":"#NAME?"}},{"$f":"_xlfn.CONCAT(\"Trimestre 1\",CHAR(10),IFERROR(#REF!,\"\"))","v":{"$error":"#NAME?"}},{"$f":"_xlfn.CONCAT(\"Trimestre 1\",CHAR(10),IFERROR(#REF!,\"\"))","v":{"$error":"#NAME?"}},{"$f":"_xlfn.CONCAT(\"Trimestre 1\",CHAR(10),IFERROR(#REF!,\"\"))","v":{"$error":"#NAME?"}},{"$f":"_xlfn.CONCAT(\"Trimestre 1\",CHAR(10),IFERROR(#REF!,\"\"))","v":{"$error":"#NAME?"}}]
[null,null,null,null,null,null,null,null,null,null,null,null,null,null,null,null,null,null,null,null,null,null,null,null,null,{"$f":"IFERROR(#REF!,\" \")","v":" "},{"$f":"IFERROR(#REF!,\"\")","v":""},{"$f":"IFERROR(#REF!,\"\")","v":""},"","",{"$f":"IFERROR(#REF!,\"\")","v":""},"",{"$f":"IFERROR(#REF!,\"\")","v":""},{"$f":"IFERROR(#REF!,\"\")","v":""},{"$f":"_xlfn.CONCAT(\"Trimestre 1\",CHAR(10),IFERROR(#REF!,\"\"))","v":{"$error":"#NAME?"}},{"$f":"_xlfn.CONCAT(\"Trimestre 1\",CHAR(10),IFERROR(#REF!,\"\"))","v":{"$error":"#NAME?"}},{"$f":"_xlfn.CONCAT(\"Trimestre 1\",CHAR(10),IFERROR(#REF!,\"\"))","v":{"$error":"#NAME?"}},{"$f":"_xlfn.CONCAT(\"Trimestre 1\",CHAR(10),IFERROR(#REF!,\"\"))","v":{"$error":"#NAME?"}},{"$f":"_xlfn.CONCAT(\"Trimestre 1\",CHAR(10),IFERROR(#REF!,\"\"))","v":{"$error":"#NAME?"}}]
[null,null,null,null,null,null,null,null,null,null,null,null,null,null,null,null,null,null,null,null,null,null,null,null,null,{"$f":"IFERROR(#REF!,\" \")","v":" "},{"$f":"IFERROR(#REF!,\"\")","v":""},{"$f":"IFERROR(#REF!,\"\")","v":""},{"$f":"IFERROR(AB71/P71,\"\")","v":""},{"$f":"IFERROR(AA71/Y71,\"\")","v":""},{"$f":"IFERROR(#REF!,\"\")","v":""},{"$f":"IFERROR(P71-AB71,\"\")","v":""},{"$f":"IFERROR(#REF!,\"\")","v":""},{"$f":"IFERROR(#REF!,\"\")","v":""},{"$f":"_xlfn.CONCAT(\"Trimestre 1\",CHAR(10),IFERROR(#REF!,\"\"))","v":{"$error":"#NAME?"}},{"$f":"_xlfn.CONCAT(\"Trimestre 1\",CHAR(10),IFERROR(#REF!,\"\"))","v":{"$error":"#NAME?"}},{"$f":"_xlfn.CONCAT(\"Trimestre 1\",CHAR(10),IFERROR(#REF!,\"\"))","v":{"$error":"#NAME?"}},{"$f":"_xlfn.CONCAT(\"Trimestre 1\",CHAR(10),IFERROR(#REF!,\"\"))","v":{"$error":"#NAME?"}},{"$f":"_xlfn.CONCAT(\"Trimestre 1\",CHAR(10),IFERROR(#REF!,\"\"))","v":{"$error":"#NAME?"}}]
[null,null,null,null,null,null,null,null,null,null,null,null,null,null,null,null,null,null,null,null,null,null,null,null,null,{"$f":"IFERROR(#REF!,\" \")","v":" "},{"$f":"IFERROR(#REF!,\"\")","v":""},{"$f":"IFERROR(#REF!,\"\")","v":""},"","",{"$f":"IFERROR(#REF!,\"\")","v":""},"",{"$f":"IFERROR(#REF!,\"\")","v":""},{"$f":"IFERROR(#REF!,\"\")","v":""},{"$f":"_xlfn.CONCAT(\"Trimestre 1\",CHAR(10),IFERROR(#REF!,\"\"))","v":{"$error":"#NAME?"}},{"$f":"_xlfn.CONCAT(\"Trimestre 1\",CHAR(10),IFERROR(#REF!,\"\"))","v":{"$error":"#NAME?"}},{"$f":"_xlfn.CONCAT(\"Trimestre 1\",CHAR(10),IFERROR(#REF!,\"\"))","v":{"$error":"#NAME?"}},{"$f":"_xlfn.CONCAT(\"Trimestre 1\",CHAR(10),IFERROR(#REF!,\"\"))","v":{"$error":"#NAME?"}},{"$f":"_xlfn.CONCAT(\"Trimestre 1\",CHAR(10),IFERROR(#REF!,\"\"))","v":{"$error":"#NAME?"}}]
[null,null,null,null,null,null,null,null,null,null,null,null,null,null,null,null,null,null,null,null,null,null,null,null,null,{"$f":"IFERROR(#REF!,\" \")","v":" "},{"$f":"IFERROR(#REF!,\"\")","v":""},{"$f":"IFERROR(#REF!,\"\")","v":""},"","",{"$f":"IFERROR(#REF!,\"\")","v":""},"",{"$f":"IFERROR(#REF!,\"\")","v":""},{"$f":"IFERROR(#REF!,\"\")","v":""},{"$f":"_xlfn.CONCAT(\"Trimestre 1\",CHAR(10),IFERROR(#REF!,\"\"))","v":{"$error":"#NAME?"}},{"$f":"_xlfn.CONCAT(\"Trimestre 1\",CHAR(10),IFERROR(#REF!,\"\"))","v":{"$error":"#NAME?"}},{"$f":"_xlfn.CONCAT(\"Trimestre 1\",CHAR(10),IFERROR(#REF!,\"\"))","v":{"$error":"#NAME?"}},{"$f":"_xlfn.CONCAT(\"Trimestre 1\",CHAR(10),IFERROR(#REF!,\"\"))","v":{"$error":"#NAME?"}},{"$f":"_xlfn.CONCAT(\"Trimestre 1\",CHAR(10),IFERROR(#REF!,\"\"))","v":{"$error":"#NAME?"}}]
[null,null,null,null,null,null,null,null,null,null,null,null,null,null,null,null,null,null,null,null,null,null,null,null,null,{"$f":"IFERROR(#REF!,\" \")","v":" "},{"$f":"IFERROR(#REF!,\"\")","v":""},{"$f":"IFERROR(#REF!,\"\")","v":""},"","",{"$f":"IFERROR(#REF!,\"\")","v":""},"",{"$f":"IFERROR(#REF!,\"\")","v":""},{"$f":"IFERROR(#REF!,\"\")","v":""},{"$f":"_xlfn.CONCAT(\"Trimestre 1\",CHAR(10),IFERROR(#REF!,\"\"))","v":{"$error":"#NAME?"}},{"$f":"_xlfn.CONCAT(\"Trimestre 1\",CHAR(10),IFERROR(#REF!,\"\"))","v":{"$error":"#NAME?"}},{"$f":"_xlfn.CONCAT(\"Trimestre 1\",CHAR(10),IFERROR(#REF!,\"\"))","v":{"$error":"#NAME?"}},{"$f":"_xlfn.CONCAT(\"Trimestre 1\",CHAR(10),IFERROR(#REF!,\"\"))","v":{"$error":"#NAME?"}},{"$f":"_xlfn.CONCAT(\"Trimestre 1\",CHAR(10),IFERROR(#REF!,\"\"))","v":{"$error":"#NAME?"}}]
[null,null,null,null,null,null,null,null,null,null,null,null,null,null,null,null,null,null,null,null,null,null,null,null,null,{"$f":"IFERROR(#REF!,\" \")","v":" "},{"$f":"IFERROR(#REF!,\"\")","v":""},{"$f":"IFERROR(#REF!,\"\")","v":""},"","",{"$f":"IFERROR(#REF!,\"\")","v":""},"",{"$f":"IFERROR(#REF!,\"\")","v":""},{"$f":"IFERROR(#REF!,\"\")","v":""},{"$f":"_xlfn.CONCAT(\"Trimestre 1\",CHAR(10),IFERROR(#REF!,\"\"))","v":{"$error":"#NAME?"}},{"$f":"_xlfn.CONCAT(\"Trimestre 1\",CHAR(10),IFERROR(#REF!,\"\"))","v":{"$error":"#NAME?"}},{"$f":"_xlfn.CONCAT(\"Trimestre 1\",CHAR(10),IFERROR(#REF!,\"\"))","v":{"$error":"#NAME?"}},{"$f":"_xlfn.CONCAT(\"Trimestre 1\",CHAR(10),IFERROR(#REF!,\"\"))","v":{"$error":"#NAME?"}},{"$f":"_xlfn.CONCAT(\"Trimestre 1\",CHAR(10),IFERROR(#REF!,\"\"))","v":{"$error":"#NAME?"}}]
[null,null,"3. Fortalecer las capacidades institucionales, adecuar el modelo operativo y de servicio, bajo un enfoque de Arquitectura Empresarial y de fortalecimiento del acceso a la justicia.","Implementación del programa de gestión del cambio y las comunicaciones del PETD","# de actividades del objetivo \"aumentar el conocimient o digital y el uso de apropiación de los sistemas\" del programa de gestión del cambio y las comunicaci ones del PETD cumplidas /# de actividades del objetivo \"aumentar el conocimient o digital y el uso de apropiación de los sistemas\" del programa de gestión del cambio y las comunicaci ones del PETD programada s",null,null,null,null,null,null,null,null,null,null,null,null,null,null,null,null,null,null,null,null,{"$f":"IFERROR(#REF!,\" \")","v":" "},{"$f":"IFERROR(#REF!,\"\")","v":""},{"$f":"IFERROR(#REF!,\"\")","v":""},"","",{"$f":"IFERROR(#REF!,\"\")","v":""},"",{"$f":"IFERROR(#REF!,\"\")","v":""},{"$f":"IFERROR(#REF!,\"\")","v":""},{"$f":"_xlfn.CONCAT(\"Trimestre 1\",CHAR(10),IFERROR(#REF!,\"\"))","v":{"$error":"#NAME?"}},{"$f":"_xlfn.CONCAT(\"Trimestre 1\",CHAR(10),IFERROR(#REF!,\"\"))","v":{"$error":"#NAME?"}},{"$f":"_xlfn.CONCAT(\"Trimestre 1\",CHAR(10),IFERROR(#REF!,\"\"))","v":{"$error":"#NAME?"}},{"$f":"_xlfn.CONCAT(\"Trimestre 1\",CHAR(10),IFERROR(#REF!,\"\"))","v":{"$error":"#NAME?"}},{"$f":"_xlfn.CONCAT(\"Trimestre 1\",CHAR(10),IFERROR(#REF!,\"\"))","v":{"$error":"#NAME?"}}]
[null,null,null,null,null,null,null,null,null,null,null,null,null,null,null,null,null,null,null,null,null,null,null,null,null,{"$f":"IFERROR(#REF!,\" \")","v":" "},{"$f":"IFERROR(#REF!,\"\")","v":""},{"$f":"IFERROR(#REF!,\"\")","v":""},"","",{"$f":"IFERROR(#REF!,\"\")","v":""},"",{"$f":"IFERROR(#REF!,\"\")","v":""},{"$f":"IFERROR(#REF!,\"\")","v":""},{"$f":"_xlfn.CONCAT(\"Trimestre 1\",CHAR(10),IFERROR(#REF!,\"\"))","v":{"$error":"#NAME?"}},{"$f":"_xlfn.CONCAT(\"Trimestre 1\",CHAR(10),IFERROR(#REF!,\"\"))","v":{"$error":"#NAME?"}},{"$f":"_xlfn.CONCAT(\"Trimestre 1\",CHAR(10),IFERROR(#REF!,\"\"))","v":{"$error":"#NAME?"}},{"$f":"_xlfn.CONCAT(\"Trimestre 1\",CHAR(10),IFERROR(#REF!,\"\"))","v":{"$error":"#NAME?"}},{"$f":"_xlfn.CONCAT(\"Trimestre 1\",CHAR(10),IFERROR(#REF!,\"\"))","v":{"$error":"#NAME?"}}]
[null,null,null,null,null,null,null,null,null,null,null,null,null,null,null,null,null,null,null,null,null,null,null,null,null,{"$f":"IFERROR(#REF!,\" \")","v":" "},{"$f":"IFERROR(#REF!,\"\")","v":""},{"$f":"IFERROR(#REF!,\"\")","v":""},"","",{"$f":"IFERROR(#REF!,\"\")","v":""},"",{"$f":"IFERROR(#REF!,\"\")","v":""},{"$f":"IFERROR(#REF!,\"\")","v":""},{"$f":"_xlfn.CONCAT(\"Trimestre 1\",CHAR(10),IFERROR(#REF!,\"\"))","v":{"$error":"#NAME?"}},{"$f":"_xlfn.CONCAT(\"Trimestre 1\",CHAR(10),IFERROR(#REF!,\"\"))","v":{"$error":"#NAME?"}},{"$f":"_xlfn.CONCAT(\"Trimestre 1\",CHAR(10),IFERROR(#REF!,\"\"))","v":{"$error":"#NAME?"}},{"$f":"_xlfn.CONCAT(\"Trimestre 1\",CHAR(10),IFERROR(#REF!,\"\"))","v":{"$error":"#NAME?"}},{"$f":"_xlfn.CONCAT(\"Trimestre 1\",CHAR(10),IFERROR(#REF!,\"\"))","v":{"$error":"#NAME?"}}]
[null,null,null,null,null,null,null,null,null,null,null,null,null,null,null,null,null,null,null,null,null,null,null,null,null,{"$f":"IFERROR(#REF!,\" \")","v":" "},{"$f":"IFERROR(#REF!,\"\")","v":""},{"$f":"IFERROR(#REF!,\"\")","v":""},"","",{"$f":"IFERROR(#REF!,\"\")","v":""},"",{"$f":"IFERROR(#REF!,\"\")","v":""},{"$f":"IFERROR(#REF!,\"\")","v":""},{"$f":"_xlfn.CONCAT(\"Trimestre 1\",CHAR(10),IFERROR(#REF!,\"\"))","v":{"$error":"#NAME?"}},{"$f":"_xlfn.CONCAT(\"Trimestre 1\",CHAR(10),IFERROR(#REF!,\"\"))","v":{"$error":"#NAME?"}},{"$f":"_xlfn.CONCAT(\"Trimestre 1\",CHAR(10),IFERROR(#REF!,\"\"))","v":{"$error":"#NAME?"}},{"$f":"_xlfn.CONCAT(\"Trimestre 1\",CHAR(10),IFERROR(#REF!,\"\"))","v":{"$error":"#NAME?"}},{"$f":"_xlfn.CONCAT(\"Trimestre 1\",CHAR(10),IFERROR(#REF!,\"\"))","v":{"$error":"#NAME?"}}]
[null,null,null,null,null,null,null,null,null,null,null,null,null,null,null,null,null,null,null,null,null,null,null,null,null,{"$f":"IFERROR(#REF!,\" \")","v":" "},{"$f":"IFERROR(#REF!,\"\")","v":""},{"$f":"IFERROR(#REF!,\"\")","v":""},"","",{"$f":"IFERROR(#REF!,\"\")","v":""},"",{"$f":"IFERROR(#REF!,\"\")","v":""},{"$f":"IFERROR(#REF!,\"\")","v":""},{"$f":"_xlfn.CONCAT(\"Trimestre 1\",CHAR(10),IFERROR(#REF!,\"\"))","v":{"$error":"#NAME?"}},{"$f":"_xlfn.CONCAT(\"Trimestre 1\",CHAR(10),IFERROR(#REF!,\"\"))","v":{"$error":"#NAME?"}},{"$f":"_xlfn.CONCAT(\"Trimestre 1\",CHAR(10),IFERROR(#REF!,\"\"))","v":{"$error":"#NAME?"}},{"$f":"_xlfn.CONCAT(\"Trimestre 1\",CHAR(10),IFERROR(#REF!,\"\"))","v":{"$error":"#NAME?"}},{"$f":"_xlfn.CONCAT(\"Trimestre 1\",CHAR(10),IFERROR(#REF!,\"\"))","v":{"$error":"#NAME?"}}]
[null,null,null,null,null,null,null,null,null,null,null,null,null,null,null,null,null,null,null,null,null,null,null,null,null,{"$f":"IFERROR(#REF!,\" \")","v":" "},{"$f":"IFERROR(#REF!,\"\")","v":""},{"$f":"IFERROR(#REF!,\"\")","v":""},"","",{"$f":"IFERROR(#REF!,\"\")","v":""},"",{"$f":"IFERROR(#REF!,\"\")","v":""},{"$f":"IFERROR(#REF!,\"\")","v":""},{"$f":"_xlfn.CONCAT(\"Trimestre 1\",CHAR(10),IFERROR(#REF!,\"\"))","v":{"$error":"#NAME?"}},{"$f":"_xlfn.CONCAT(\"Trimestre 1\",CHAR(10),IFERROR(#REF!,\"\"))","v":{"$error":"#NAME?"}},{"$f":"_xlfn.CONCAT(\"Trimestre 1\",CHAR(10),IFERROR(#REF!,\"\"))","v":{"$error":"#NAME?"}},{"$f":"_xlfn.CONCAT(\"Trimestre 1\",CHAR(10),IFERROR(#REF!,\"\"))","v":{"$error":"#NAME?"}},{"$f":"_xlfn.CONCAT(\"Trimestre 1\",CHAR(10),IFERROR(#REF!,\"\"))","v":{"$error":"#NAME?"}}]
[null,null,null,null,null,null,null,null,null,null,null,null,null,null,null,null,null,null,null,null,null,null,null,null,null,{"$f":"IFERROR(#REF!,\" \")","v":" "},{"$f":"IFERROR(#REF!,\"\")","v":""},{"$f":"IFERROR(#REF!,\"\")","v":""},"","",{"$f":"IFERROR(#REF!,\"\")","v":""},"",{"$f":"IFERROR(#REF!,\"\")","v":""},{"$f":"IFERROR(#REF!,\"\")","v":""},{"$f":"_xlfn.CONCAT(\"Trimestre 1\",CHAR(10),IFERROR(#REF!,\"\"))","v":{"$error":"#NAME?"}},{"$f":"_xlfn.CONCAT(\"Trimestre 1\",CHAR(10),IFERROR(#REF!,\"\"))","v":{"$error":"#NAME?"}},{"$f":"_xlfn.CONCAT(\"Trimestre 1\",CHAR(10),IFERROR(#REF!,\"\"))","v":{"$error":"#NAME?"}},{"$f":"_xlfn.CONCAT(\"Trimestre 1\",CHAR(10),IFERROR(#REF!,\"\"))","v":{"$error":"#NAME?"}},{"$f":"_xlfn.CONCAT(\"Trimestre 1\",CHAR(10),IFERROR(#REF!,\"\"))","v":{"$error":"#NAME?"}}]
[null,null,null,null,null,null,null,null,null,null,null,null,null,null,null,null,null,null,null,null,null,null,null,null,null,{"$f":"IFERROR(#REF!,\" \")","v":" "},{"$f":"IFERROR(#REF!,\"\")","v":""},{"$f":"IFERROR(#REF!,\"\")","v":""},"","",{"$f":"IFERROR(#REF!,\"\")","v":""},"",{"$f":"IFERROR(#REF!,\"\")","v":""},{"$f":"IFERROR(#REF!,\"\")","v":""},{"$f":"_xlfn.CONCAT(\"Trimestre 1\",CHAR(10),IFERROR(#REF!,\"\"))","v":{"$error":"#NAME?"}},{"$f":"_xlfn.CONCAT(\"Trimestre 1\",CHAR(10),IFERROR(#REF!,\"\"))","v":{"$error":"#NAME?"}},{"$f":"_xlfn.CONCAT(\"Trimestre 1\",CHAR(10),IFERROR(#REF!,\"\"))","v":{"$error":"#NAME?"}},{"$f":"_xlfn.CONCAT(\"Trimestre 1\",CHAR(10),IFERROR(#REF!,\"\"))","v":{"$error":"#NAME?"}},{"$f":"_xlfn.CONCAT(\"Trimestre 1\",CHAR(10),IFERROR(#REF!,\"\"))","v":{"$error":"#NAME?"}}]
[null,null,null,null,null,null,null,null,null,null,null,null,null,null,null,null,null,null,null,null,null,null,null,null,null,{"$f":"IFERROR(#REF!,\" \")","v":" "},{"$f":"IFERROR(#REF!,\"\")","v":""},{"$f":"IFERROR(#REF!,\"\")","v":""},"","",{"$f":"IFERROR(#REF!,\"\")","v":""},"",{"$f":"IFERROR(#REF!,\"\")","v":""},{"$f":"IFERROR(#REF!,\"\")","v":""},{"$f":"_xlfn.CONCAT(\"Trimestre 1\",CHAR(10),IFERROR(#REF!,\"\"))","v":{"$error":"#NAME?"}},{"$f":"_xlfn.CONCAT(\"Trimestre 1\",CHAR(10),IFERROR(#REF!,\"\"))","v":{"$error":"#NAME?"}},{"$f":"_xlfn.CONCAT(\"Trimestre 1\",CHAR(10),IFERROR(#REF!,\"\"))","v":{"$error":"#NAME?"}},{"$f":"_xlfn.CONCAT(\"Trimestre 1\",CHAR(10),IFERROR(#REF!,\"\"))","v":{"$error":"#NAME?"}},{"$f":"_xlfn.CONCAT(\"Trimestre 1\",CHAR(10),IFERROR(#REF!,\"\"))","v":{"$error":"#NAME?"}}]
[null,null,null,null,null,null,null,null,null,null,null,null,null,null,null,null,null,null,null,null,null,null,null,null,null,{"$f":"IFERROR(#REF!,\" \")","v":" "},{"$f":"IFERROR(#REF!,\"\")","v":""},{"$f":"IFERROR(#REF!,\"\")","v":""},"","",{"$f":"IFERROR(#REF!,\"\")","v":""},"",{"$f":"IFERROR(#REF!,\"\")","v":""},{"$f":"IFERROR(#REF!,\"\")","v":""},{"$f":"_xlfn.CONCAT(\"Trimestre 1\",CHAR(10),IFERROR(#REF!,\"\"))","v":{"$error":"#NAME?"}},{"$f":"_xlfn.CONCAT(\"Trimestre 1\",CHAR(10),IFERROR(#REF!,\"\"))","v":{"$error":"#NAME?"}},{"$f":"_xlfn.CONCAT(\"Trimestre 1\",CHAR(10),IFERROR(#REF!,\"\"))","v":{"$error":"#NAME?"}},{"$f":"_xlfn.CONCAT(\"Trimestre 1\",CHAR(10),IFERROR(#REF!,\"\"))","v":{"$error":"#NAME?"}},{"$f":"_xlfn.CONCAT(\"Trimestre 1\",CHAR(10),IFERROR(#REF!,\"\"))","v":{"$error":"#NAME?"}}]
[null,null,"4.Consolidar la cultura y apropiación de la transformación digital en los servidores y usuarios de los servicios de la Rama Judicial y reducir brechas de acceso y conocimiento, incluyendo la oferta efectiva de información sobre el uso de las nuevas herramientas virtuales implementadas en las diferentes jurisdicciones, con especial énfasis en las zonas del país donde es evidente la brecha digital.","Cobertura de infraestructura y conectividad consolidada","# de sedes con infraestruct ura y conectivida d consolidada s/Número total de sedes",null,null,null,null,null,null,null,null,null,null,null,null,null,null,null,null,null,null,null,null,{"$f":"IFERROR(#REF!,\" \")","v":" "},{"$f":"IFERROR(#REF!,\"\")","v":""},{"$f":"IFERROR(#REF!,\"\")","v":""},"","",{"$f":"IFERROR(#REF!,\"\")","v":""},"",{"$f":"IFERROR(#REF!,\"\")","v":""},{"$f":"IFERROR(#REF!,\"\")","v":""},{"$f":"_xlfn.CONCAT(\"Trimestre 1\",CHAR(10),IFERROR(#REF!,\"\"))","v":{"$error":"#NAME?"}},{"$f":"_xlfn.CONCAT(\"Trimestre 1\",CHAR(10),IFERROR(#REF!,\"\"))","v":{"$error":"#NAME?"}},{"$f":"_xlfn.CONCAT(\"Trimestre 1\",CHAR(10),IFERROR(#REF!,\"\"))","v":{"$error":"#NAME?"}},{"$f":"_xlfn.CONCAT(\"Trimestre 1\",CHAR(10),IFERROR(#REF!,\"\"))","v":{"$error":"#NAME?"}},{"$f":"_xlfn.CONCAT(\"Trimestre 1\",CHAR(10),IFERROR(#REF!,\"\"))","v":{"$error":"#NAME?"}}]
[null,null,null,null,null,null,null,null,null,null,null,null,null,null,null,null,null,null,null,null,null,null,null,null,null,{"$f":"IFERROR(#REF!,\" \")","v":" "},{"$f":"IFERROR(#REF!,\"\")","v":""},{"$f":"IFERROR(#REF!,\"\")","v":""},"","",{"$f":"IFERROR(#REF!,\"\")","v":""},"",{"$f":"IFERROR(#REF!,\"\")","v":""},{"$f":"IFERROR(#REF!,\"\")","v":""},{"$f":"_xlfn.CONCAT(\"Trimestre 1\",CHAR(10),IFERROR(#REF!,\"\"))","v":{"$error":"#NAME?"}},{"$f":"_xlfn.CONCAT(\"Trimestre 1\",CHAR(10),IFERROR(#REF!,\"\"))","v":{"$error":"#NAME?"}},{"$f":"_xlfn.CONCAT(\"Trimestre 1\",CHAR(10),IFERROR(#REF!,\"\"))","v":{"$error":"#NAME?"}},{"$f":"_xlfn.CONCAT(\"Trimestre 1\",CHAR(10),IFERROR(#REF!,\"\"))","v":{"$error":"#NAME?"}},{"$f":"_xlfn.CONCAT(\"Trimestre 1\",CHAR(10),IFERROR(#REF!,\"\"))","v":{"$error":"#NAME?"}}]
[null,null,null,null,null,null,null,null,null,null,null,null,null,null,null,null,null,null,null,null,null,null,null,null,null,{"$f":"IFERROR(#REF!,\" \")","v":" "},{"$f":"IFERROR(#REF!,\"\")","v":""},{"$f":"IFERROR(#REF!,\"\")","v":""},"","",{"$f":"IFERROR(#REF!,\"\")","v":""},"",{"$f":"IFERROR(#REF!,\"\")","v":""},{"$f":"IFERROR(#REF!,\"\")","v":""},{"$f":"_xlfn.CONCAT(\"Trimestre 1\",CHAR(10),IFERROR(#REF!,\"\"))","v":{"$error":"#NAME?"}},{"$f":"_xlfn.CONCAT(\"Trimestre 1\",CHAR(10),IFERROR(#REF!,\"\"))","v":{"$error":"#NAME?"}},{"$f":"_xlfn.CONCAT(\"Trimestre 1\",CHAR(10),IFERROR(#REF!,\"\"))","v":{"$error":"#NAME?"}},{"$f":"_xlfn.CONCAT(\"Trimestre 1\",CHAR(10),IFERROR(#REF!,\"\"))","v":{"$error":"#NAME?"}},{"$f":"_xlfn.CONCAT(\"Trimestre 1\",CHAR(10),IFERROR(#REF!,\"\"))","v":{"$error":"#NAME?"}}]
[null,null,null,null,null,null,null,null,null,null,null,null,null,null,null,null,null,null,null,null,null,null,null,null,null,{"$f":"IFERROR(#REF!,\" \")","v":" "},{"$f":"IFERROR(#REF!,\"\")","v":""},{"$f":"IFERROR(#REF!,\"\")","v":""},"","",{"$f":"IFERROR(#REF!,\"\")","v":""},"",{"$f":"IFERROR(#REF!,\"\")","v":""},{"$f":"IFERROR(#REF!,\"\")","v":""},{"$f":"_xlfn.CONCAT(\"Trimestre 1\",CHAR(10),IFERROR(#REF!,\"\"))","v":{"$error":"#NAME?"}},{"$f":"_xlfn.CONCAT(\"Trimestre 1\",CHAR(10),IFERROR(#REF!,\"\"))","v":{"$error":"#NAME?"}},{"$f":"_xlfn.CONCAT(\"Trimestre 1\",CHAR(10),IFERROR(#REF!,\"\"))","v":{"$error":"#NAME?"}},{"$f":"_xlfn.CONCAT(\"Trimestre 1\",CHAR(10),IFERROR(#REF!,\"\"))","v":{"$error":"#NAME?"}},{"$f":"_xlfn.CONCAT(\"Trimestre 1\",CHAR(10),IFERROR(#REF!,\"\"))","v":{"$error":"#NAME?"}}]
[null,null,null,null,null,null,null,null,null,null,null,null,null,null,null,null,null,null,null,null,null,null,null,null,null,{"$f":"IFERROR(#REF!,\" \")","v":" "},{"$f":"IFERROR(#REF!,\"\")","v":""},{"$f":"IFERROR(#REF!,\"\")","v":""},"","",{"$f":"IFERROR(#REF!,\"\")","v":""},"",{"$f":"IFERROR(#REF!,\"\")","v":""},{"$f":"IFERROR(#REF!,\"\")","v":""},{"$f":"_xlfn.CONCAT(\"Trimestre 1\",CHAR(10),IFERROR(#REF!,\"\"))","v":{"$error":"#NAME?"}},{"$f":"_xlfn.CONCAT(\"Trimestre 1\",CHAR(10),IFERROR(#REF!,\"\"))","v":{"$error":"#NAME?"}},{"$f":"_xlfn.CONCAT(\"Trimestre 1\",CHAR(10),IFERROR(#REF!,\"\"))","v":{"$error":"#NAME?"}},{"$f":"_xlfn.CONCAT(\"Trimestre 1\",CHAR(10),IFERROR(#REF!,\"\"))","v":{"$error":"#NAME?"}},{"$f":"_xlfn.CONCAT(\"Trimestre 1\",CHAR(10),IFERROR(#REF!,\"\"))","v":{"$error":"#NAME?"}}]
[null,null,null,null,null,null,null,null,null,null,null,null,null,null,null,null,null,null,null,null,null,null,null,null,null,{"$f":"IFERROR(#REF!,\" \")","v":" "},{"$f":"IFERROR(#REF!,\"\")","v":""},{"$f":"IFERROR(#REF!,\"\")","v":""},"","",{"$f":"IFERROR(#REF!,\"\")","v":""},"",{"$f":"IFERROR(#REF!,\"\")","v":""},{"$f":"IFERROR(#REF!,\"\")","v":""},{"$f":"_xlfn.CONCAT(\"Trimestre 1\",CHAR(10),IFERROR(#REF!,\"\"))","v":{"$error":"#NAME?"}},{"$f":"_xlfn.CONCAT(\"Trimestre 1\",CHAR(10),IFERROR(#REF!,\"\"))","v":{"$error":"#NAME?"}},{"$f":"_xlfn.CONCAT(\"Trimestre 1\",CHAR(10),IFERROR(#REF!,\"\"))","v":{"$error":"#NAME?"}},{"$f":"_xlfn.CONCAT(\"Trimestre 1\",CHAR(10),IFERROR(#REF!,\"\"))","v":{"$error":"#NAME?"}},{"$f":"_xlfn.CONCAT(\"Trimestre 1\",CHAR(10),IFERROR(#REF!,\"\"))","v":{"$error":"#NAME?"}}]
[null,null,null,null,null,null,null,null,null,null,null,null,null,null,null,null,null,null,null,null,null,null,null,null,null,{"$f":"IFERROR(#REF!,\" \")","v":" "},{"$f":"IFERROR(#REF!,\"\")","v":""},{"$f":"IFERROR(#REF!,\"\")","v":""},"","",{"$f":"IFERROR(#REF!,\"\")","v":""},"",{"$f":"IFERROR(#REF!,\"\")","v":""},{"$f":"IFERROR(#REF!,\"\")","v":""},{"$f":"_xlfn.CONCAT(\"Trimestre 1\",CHAR(10),IFERROR(#REF!,\"\"))","v":{"$error":"#NAME?"}},{"$f":"_xlfn.CONCAT(\"Trimestre 1\",CHAR(10),IFERROR(#REF!,\"\"))","v":{"$error":"#NAME?"}},{"$f":"_xlfn.CONCAT(\"Trimestre 1\",CHAR(10),IFERROR(#REF!,\"\"))","v":{"$error":"#NAME?"}},{"$f":"_xlfn.CONCAT(\"Trimestre 1\",CHAR(10),IFERROR(#REF!,\"\"))","v":{"$error":"#NAME?"}},{"$f":"_xlfn.CONCAT(\"Trimestre 1\",CHAR(10),IFERROR(#REF!,\"\"))","v":{"$error":"#NAME?"}}]
[null,null,null,null,null,null,null,null,null,null,null,null,null,null,null,null,null,null,null,null,null,null,null,null,null,{"$f":"IFERROR(#REF!,\" \")","v":" "},{"$f":"IFERROR(#REF!,\"\")","v":""},{"$f":"IFERROR(#REF!,\"\")","v":""},"","",{"$f":"IFERROR(#REF!,\"\")","v":""},"",{"$f":"IFERROR(#REF!,\"\")","v":""},{"$f":"IFERROR(#REF!,\"\")","v":""},{"$f":"_xlfn.CONCAT(\"Trimestre 1\",CHAR(10),IFERROR(#REF!,\"\"))","v":{"$error":"#NAME?"}},{"$f":"_xlfn.CONCAT(\"Trimestre 1\",CHAR(10),IFERROR(#REF!,\"\"))","v":{"$error":"#NAME?"}},{"$f":"_xlfn.CONCAT(\"Trimestre 1\",CHAR(10),IFERROR(#REF!,\"\"))","v":{"$error":"#NAME?"}},{"$f":"_xlfn.CONCAT(\"Trimestre 1\",CHAR(10),IFERROR(#REF!,\"\"))","v":{"$error":"#NAME?"}},{"$f":"_xlfn.CONCAT(\"Trimestre 1\",CHAR(10),IFERROR(#REF!,\"\"))","v":{"$error":"#NAME?"}}]
[null,null,null,null,null,null,null,null,null,null,null,null,null,null,null,null,null,null,null,null,null,null,null,null,null,{"$f":"IFERROR(#REF!,\" \")","v":" "},{"$f":"IFERROR(#REF!,\"\")","v":""},{"$f":"IFERROR(#REF!,\"\")","v":""},"","",{"$f":"IFERROR(#REF!,\"\")","v":""},"",{"$f":"IFERROR(#REF!,\"\")","v":""},{"$f":"IFERROR(#REF!,\"\")","v":""},{"$f":"_xlfn.CONCAT(\"Trimestre 1\",CHAR(10),IFERROR(#REF!,\"\"))","v":{"$error":"#NAME?"}},{"$f":"_xlfn.CONCAT(\"Trimestre 1\",CHAR(10),IFERROR(#REF!,\"\"))","v":{"$error":"#NAME?"}},{"$f":"_xlfn.CONCAT(\"Trimestre 1\",CHAR(10),IFERROR(#REF!,\"\"))","v":{"$error":"#NAME?"}},{"$f":"_xlfn.CONCAT(\"Trimestre 1\",CHAR(10),IFERROR(#REF!,\"\"))","v":{"$error":"#NAME?"}},{"$f":"_xlfn.CONCAT(\"Trimestre 1\",CHAR(10),IFERROR(#REF!,\"\"))","v":{"$error":"#NAME?"}}]
[null,null,null,null,null,null,null,null,null,null,null,null,null,null,null,null,null,null,null,null,null,null,null,null,null,{"$f":"IFERROR(#REF!,\" \")","v":" "},{"$f":"IFERROR(#REF!,\"\")","v":""},{"$f":"IFERROR(#REF!,\"\")","v":""},"","",{"$f":"IFERROR(#REF!,\"\")","v":""},"",{"$f":"IFERROR(#REF!,\"\")","v":""},{"$f":"IFERROR(#REF!,\"\")","v":""},{"$f":"_xlfn.CONCAT(\"Trimestre 1\",CHAR(10),IFERROR(#REF!,\"\"))","v":{"$error":"#NAME?"}},{"$f":"_xlfn.CONCAT(\"Trimestre 1\",CHAR(10),IFERROR(#REF!,\"\"))","v":{"$error":"#NAME?"}},{"$f":"_xlfn.CONCAT(\"Trimestre 1\",CHAR(10),IFERROR(#REF!,\"\"))","v":{"$error":"#NAME?"}},{"$f":"_xlfn.CONCAT(\"Trimestre 1\",CHAR(10),IFERROR(#REF!,\"\"))","v":{"$error":"#NAME?"}},{"$f":"_xlfn.CONCAT(\"Trimestre 1\",CHAR(10),IFERROR(#REF!,\"\"))","v":{"$error":"#NAME?"}}]
[null,null,"5.Consolidar la infraestructura y los recursos necesarios para la implementación exitosa de la transformación digital, incluyendo la disposición de internet de calidad en el 100% de las sedes en la Rama Judicial y modernizar los servicios tecnológicos de soporte. ","Implementación del programa de gestión del cambio y las comunicaciones del PETD","# de actividades del objetivo \"aumentar el conocimient o digital y el uso de apropiación de los sistemas\" del programa de gestión del cambio y las comunicaci ones del PETD cumplidas /# de actividades del objetivo \"aumentar el conocimient o digital y el uso de apropiación de los sistemas\" del programa de gestión del cambio y las comunicaci ones del PETD programada s",null,null,null,null,null,null,null,null,null,null,null,null,null,null,null,null,null,null,null,null,{"$f":"IFERROR(#REF!,\" \")","v":" "},{"$f":"IFERROR(#REF!,\"\")","v":""},{"$f":"IFERROR(#REF!,\"\")","v":""},"","",{"$f":"IFERROR(#REF!,\"\")","v":""},"",{"$f":"IFERROR(#REF!,\"\")","v":""},{"$f":"IFERROR(#REF!,\"\")","v":""},{"$f":"_xlfn.CONCAT(\"Trimestre 1\",CHAR(10),IFERROR(#REF!,\"\"))","v":{"$error":"#NAME?"}},{"$f":"_xlfn.CONCAT(\"Trimestre 1\",CHAR(10),IFERROR(#REF!,\"\"))","v":{"$error":"#NAME?"}},{"$f":"_xlfn.CONCAT(\"Trimestre 1\",CHAR(10),IFERROR(#REF!,\"\"))","v":{"$error":"#NAME?"}},{"$f":"_xlfn.CONCAT(\"Trimestre 1\",CHAR(10),IFERROR(#REF!,\"\"))","v":{"$error":"#NAME?"}},{"$f":"_xlfn.CONCAT(\"Trimestre 1\",CHAR(10),IFERROR(#REF!,\"\"))","v":{"$error":"#NAME?"}}]
[null,null,null,null,null,null,null,null,null,null,null,null,null,null,null,null,null,null,null,null,null,null,null,null,null,{"$f":"IFERROR(#REF!,\" \")","v":" "},{"$f":"IFERROR(#REF!,\"\")","v":""},{"$f":"IFERROR(#REF!,\"\")","v":""},"","",{"$f":"IFERROR(#REF!,\"\")","v":""},"",{"$f":"IFERROR(#REF!,\"\")","v":""},{"$f":"IFERROR(#REF!,\"\")","v":""},{"$f":"_xlfn.CONCAT(\"Trimestre 1\",CHAR(10),IFERROR(#REF!,\"\"))","v":{"$error":"#NAME?"}},{"$f":"_xlfn.CONCAT(\"Trimestre 1\",CHAR(10),IFERROR(#REF!,\"\"))","v":{"$error":"#NAME?"}},{"$f":"_xlfn.CONCAT(\"Trimestre 1\",CHAR(10),IFERROR(#REF!,\"\"))","v":{"$error":"#NAME?"}},{"$f":"_xlfn.CONCAT(\"Trimestre 1\",CHAR(10),IFERROR(#REF!,\"\"))","v":{"$error":"#NAME?"}},{"$f":"_xlfn.CONCAT(\"Trimestre 1\",CHAR(10),IFERROR(#REF!,\"\"))","v":{"$error":"#NAME?"}}]
[null,null,null,null,null,null,null,null,null,null,null,null,null,null,null,null,null,null,null,null,null,null,null,null,null,{"$f":"IFERROR(#REF!,\" \")","v":" "},{"$f":"IFERROR(#REF!,\"\")","v":""},{"$f":"IFERROR(#REF!,\"\")","v":""},"","",{"$f":"IFERROR(#REF!,\"\")","v":""},"",{"$f":"IFERROR(#REF!,\"\")","v":""},{"$f":"IFERROR(#REF!,\"\")","v":""},{"$f":"_xlfn.CONCAT(\"Trimestre 1\",CHAR(10),IFERROR(#REF!,\"\"))","v":{"$error":"#NAME?"}},{"$f":"_xlfn.CONCAT(\"Trimestre 1\",CHAR(10),IFERROR(#REF!,\"\"))","v":{"$error":"#NAME?"}},{"$f":"_xlfn.CONCAT(\"Trimestre 1\",CHAR(10),IFERROR(#REF!,\"\"))","v":{"$error":"#NAME?"}},{"$f":"_xlfn.CONCAT(\"Trimestre 1\",CHAR(10),IFERROR(#REF!,\"\"))","v":{"$error":"#NAME?"}},{"$f":"_xlfn.CONCAT(\"Trimestre 1\",CHAR(10),IFERROR(#REF!,\"\"))","v":{"$error":"#NAME?"}}]
[null,null,null,null,null,null,null,null,null,null,null,null,null,null,null,null,null,null,null,null,null,null,null,null,null,{"$f":"IFERROR(#REF!,\" \")","v":" "},{"$f":"IFERROR(#REF!,\"\")","v":""},{"$f":"IFERROR(#REF!,\"\")","v":""},"","",{"$f":"IFERROR(#REF!,\"\")","v":""},"",{"$f":"IFERROR(#REF!,\"\")","v":""},{"$f":"IFERROR(#REF!,\"\")","v":""},{"$f":"_xlfn.CONCAT(\"Trimestre 1\",CHAR(10),IFERROR(#REF!,\"\"))","v":{"$error":"#NAME?"}},{"$f":"_xlfn.CONCAT(\"Trimestre 1\",CHAR(10),IFERROR(#REF!,\"\"))","v":{"$error":"#NAME?"}},{"$f":"_xlfn.CONCAT(\"Trimestre 1\",CHAR(10),IFERROR(#REF!,\"\"))","v":{"$error":"#NAME?"}},{"$f":"_xlfn.CONCAT(\"Trimestre 1\",CHAR(10),IFERROR(#REF!,\"\"))","v":{"$error":"#NAME?"}},{"$f":"_xlfn.CONCAT(\"Trimestre 1\",CHAR(10),IFERROR(#REF!,\"\"))","v":{"$error":"#NAME?"}}]
[null,null,null,null,null,null,null,null,null,null,null,null,null,null,null,null,null,null,null,null,null,null,null,null,null,{"$f":"IFERROR(#REF!,\" \")","v":" "},{"$f":"IFERROR(#REF!,\"\")","v":""},{"$f":"IFERROR(#REF!,\"\")","v":""},"","",{"$f":"IFERROR(#REF!,\"\")","v":""},"",{"$f":"IFERROR(#REF!,\"\")","v":""},{"$f":"IFERROR(#REF!,\"\")","v":""},{"$f":"_xlfn.CONCAT(\"Trimestre 1\",CHAR(10),IFERROR(#REF!,\"\"))","v":{"$error":"#NAME?"}},{"$f":"_xlfn.CONCAT(\"Trimestre 1\",CHAR(10),IFERROR(#REF!,\"\"))","v":{"$error":"#NAME?"}},{"$f":"_xlfn.CONCAT(\"Trimestre 1\",CHAR(10),IFERROR(#REF!,\"\"))","v":{"$error":"#NAME?"}},{"$f":"_xlfn.CONCAT(\"Trimestre 1\",CHAR(10),IFERROR(#REF!,\"\"))","v":{"$error":"#NAME?"}},{"$f":"_xlfn.CONCAT(\"Trimestre 1\",CHAR(10),IFERROR(#REF!,\"\"))","v":{"$error":"#NAME?"}}]
[null,null,null,null,null,null,null,null,null,null,null,null,null,null,null,null,null,null,null,null,null,null,null,null,null,{"$f":"IFERROR(#REF!,\" \")","v":" "},{"$f":"IFERROR(#REF!,\"\")","v":""},{"$f":"IFERROR(#REF!,\"\")","v":""},"","",{"$f":"IFERROR(#REF!,\"\")","v":""},"",{"$f":"IFERROR(#REF!,\"\")","v":""},{"$f":"IFERROR(#REF!,\"\")","v":""},{"$f":"_xlfn.CONCAT(\"Trimestre 1\",CHAR(10),IFERROR(#REF!,\"\"))","v":{"$error":"#NAME?"}},{"$f":"_xlfn.CONCAT(\"Trimestre 1\",CHAR(10),IFERROR(#REF!,\"\"))","v":{"$error":"#NAME?"}},{"$f":"_xlfn.CONCAT(\"Trimestre 1\",CHAR(10),IFERROR(#REF!,\"\"))","v":{"$error":"#NAME?"}},{"$f":"_xlfn.CONCAT(\"Trimestre 1\",CHAR(10),IFERROR(#REF!,\"\"))","v":{"$error":"#NAME?"}},{"$f":"_xlfn.CONCAT(\"Trimestre 1\",CHAR(10),IFERROR(#REF!,\"\"))","v":{"$error":"#NAME?"}}]
[null,null,null,null,null,null,null,null,null,null,null,null,null,null,null,null,null,null,null,null,null,null,null,null,null,{"$f":"IFERROR(#REF!,\" \")","v":" "},{"$f":"IFERROR(#REF!,\"\")","v":""},{"$f":"IFERROR(#REF!,\"\")","v":""},"","",{"$f":"IFERROR(#REF!,\"\")","v":""},"",{"$f":"IFERROR(#REF!,\"\")","v":""},{"$f":"IFERROR(#REF!,\"\")","v":""},{"$f":"_xlfn.CONCAT(\"Trimestre 1\",CHAR(10),IFERROR(#REF!,\"\"))","v":{"$error":"#NAME?"}},{"$f":"_xlfn.CONCAT(\"Trimestre 1\",CHAR(10),IFERROR(#REF!,\"\"))","v":{"$error":"#NAME?"}},{"$f":"_xlfn.CONCAT(\"Trimestre 1\",CHAR(10),IFERROR(#REF!,\"\"))","v":{"$error":"#NAME?"}},{"$f":"_xlfn.CONCAT(\"Trimestre 1\",CHAR(10),IFERROR(#REF!,\"\"))","v":{"$error":"#NAME?"}},{"$f":"_xlfn.CONCAT(\"Trimestre 1\",CHAR(10),IFERROR(#REF!,\"\"))","v":{"$error":"#NAME?"}}]
[null,null,null,null,null,null,null,null,null,null,null,null,null,null,null,null,null,null,null,null,null,null,null,null,null,{"$f":"IFERROR(#REF!,\" \")","v":" "},{"$f":"IFERROR(#REF!,\"\")","v":""},{"$f":"IFERROR(#REF!,\"\")","v":""},"","",{"$f":"IFERROR(#REF!,\"\")","v":""},"",{"$f":"IFERROR(#REF!,\"\")","v":""},{"$f":"IFERROR(#REF!,\"\")","v":""},{"$f":"_xlfn.CONCAT(\"Trimestre 1\",CHAR(10),IFERROR(#REF!,\"\"))","v":{"$error":"#NAME?"}},{"$f":"_xlfn.CONCAT(\"Trimestre 1\",CHAR(10),IFERROR(#REF!,\"\"))","v":{"$error":"#NAME?"}},{"$f":"_xlfn.CONCAT(\"Trimestre 1\",CHAR(10),IFERROR(#REF!,\"\"))","v":{"$error":"#NAME?"}},{"$f":"_xlfn.CONCAT(\"Trimestre 1\",CHAR(10),IFERROR(#REF!,\"\"))","v":{"$error":"#NAME?"}},{"$f":"_xlfn.CONCAT(\"Trimestre 1\",CHAR(10),IFERROR(#REF!,\"\"))","v":{"$error":"#NAME?"}}]
[null,null,null,null,null,null,null,null,null,null,null,null,null,null,null,null,null,null,null,null,null,null,null,null,null,{"$f":"IFERROR(#REF!,\" \")","v":" "},{"$f":"IFERROR(#REF!,\"\")","v":""},{"$f":"IFERROR(#REF!,\"\")","v":""},"","",{"$f":"IFERROR(#REF!,\"\")","v":""},"",{"$f":"IFERROR(#REF!,\"\")","v":""},{"$f":"IFERROR(#REF!,\"\")","v":""},{"$f":"_xlfn.CONCAT(\"Trimestre 1\",CHAR(10),IFERROR(#REF!,\"\"))","v":{"$error":"#NAME?"}},{"$f":"_xlfn.CONCAT(\"Trimestre 1\",CHAR(10),IFERROR(#REF!,\"\"))","v":{"$error":"#NAME?"}},{"$f":"_xlfn.CONCAT(\"Trimestre 1\",CHAR(10),IFERROR(#REF!,\"\"))","v":{"$error":"#NAME?"}},{"$f":"_xlfn.CONCAT(\"Trimestre 1\",CHAR(10),IFERROR(#REF!,\"\"))","v":{"$error":"#NAME?"}},{"$f":"_xlfn.CONCAT(\"Trimestre 1\",CHAR(10),IFERROR(#REF!,\"\"))","v":{"$error":"#NAME?"}}]
[null,null,null,null,null,null,null,null,null,null,null,null,null,null,null,null,null,null,null,null,null,null,null,null,null,{"$f":"IFERROR(#REF!,\" \")","v":" "},{"$f":"IFERROR(#REF!,\"\")","v":""},{"$f":"IFERROR(#REF!,\"\")","v":""},"","",{"$f":"IFERROR(#REF!,\"\")","v":""},"",{"$f":"IFERROR(#REF!,\"\")","v":""},{"$f":"IFERROR(#REF!,\"\")","v":""},{"$f":"_xlfn.CONCAT(\"Trimestre 1\",CHAR(10),IFERROR(#REF!,\"\"))","v":{"$error":"#NAME?"}},{"$f":"_xlfn.CONCAT(\"Trimestre 1\",CHAR(10),IFERROR(#REF!,\"\"))","v":{"$error":"#NAME?"}},{"$f":"_xlfn.CONCAT(\"Trimestre 1\",CHAR(10),IFERROR(#REF!,\"\"))","v":{"$error":"#NAME?"}},{"$f":"_xlfn.CONCAT(\"Trimestre 1\",CHAR(10),IFERROR(#REF!,\"\"))","v":{"$error":"#NAME?"}},{"$f":"_xlfn.CONCAT(\"Trimestre 1\",CHAR(10),IFERROR(#REF!,\"\"))","v":{"$error":"#NAME?"}}]
[null,null,"6.Integrar y optimizar los servicios administrativos de la Rama Judicial bajo un enfoque de transformación digital e innovación incluyendo los componentes financiero, administrativo, talento humano, entre otros.",null,null,null,null,null,null,null,null,null,null,null,null,null,null,null,null,null,null,null,null,null,null,{"$f":"IFERROR(#REF!,\" \")","v":" "},{"$f":"IFERROR(#REF!,\"\")","v":""},{"$f":"IFERROR(#REF!,\"\")","v":""},"","",{"$f":"IFERROR(#REF!,\"\")","v":""},"",{"$f":"IFERROR(#REF!,\"\")","v":""},{"$f":"IFERROR(#REF!,\"\")","v":""},{"$f":"_xlfn.CONCAT(\"Trimestre 1\",CHAR(10),IFERROR(#REF!,\"\"))","v":{"$error":"#NAME?"}},{"$f":"_xlfn.CONCAT(\"Trimestre 1\",CHAR(10),IFERROR(#REF!,\"\"))","v":{"$error":"#NAME?"}},{"$f":"_xlfn.CONCAT(\"Trimestre 1\",CHAR(10),IFERROR(#REF!,\"\"))","v":{"$error":"#NAME?"}},{"$f":"_xlfn.CONCAT(\"Trimestre 1\",CHAR(10),IFERROR(#REF!,\"\"))","v":{"$error":"#NAME?"}},{"$f":"_xlfn.CONCAT(\"Trimestre 1\",CHAR(10),IFERROR(#REF!,\"\"))","v":{"$error":"#NAME?"}}]
[null,null,null,null,null,null,null,null,null,null,null,null,null,null,null,null,null,null,null,null,null,null,null,null,null,{"$f":"IFERROR(#REF!,\" \")","v":" "},{"$f":"IFERROR(#REF!,\"\")","v":""},{"$f":"IFERROR(#REF!,\"\")","v":""},"","",{"$f":"IFERROR(#REF!,\"\")","v":""},"",{"$f":"IFERROR(#REF!,\"\")","v":""},{"$f":"IFERROR(#REF!,\"\")","v":""},{"$f":"_xlfn.CONCAT(\"Trimestre 1\",CHAR(10),IFERROR(#REF!,\"\"))","v":{"$error":"#NAME?"}},{"$f":"_xlfn.CONCAT(\"Trimestre 1\",CHAR(10),IFERROR(#REF!,\"\"))","v":{"$error":"#NAME?"}},{"$f":"_xlfn.CONCAT(\"Trimestre 1\",CHAR(10),IFERROR(#REF!,\"\"))","v":{"$error":"#NAME?"}},{"$f":"_xlfn.CONCAT(\"Trimestre 1\",CHAR(10),IFERROR(#REF!,\"\"))","v":{"$error":"#NAME?"}},{"$f":"_xlfn.CONCAT(\"Trimestre 1\",CHAR(10),IFERROR(#REF!,\"\"))","v":{"$error":"#NAME?"}}]
[null,null,null,null,null,null,null,null,null,null,null,null,null,null,null,null,null,null,null,null,null,null,null,null,null,{"$f":"IFERROR(#REF!,\" \")","v":" "},{"$f":"IFERROR(#REF!,\"\")","v":""},{"$f":"IFERROR(#REF!,\"\")","v":""},"","",{"$f":"IFERROR(#REF!,\"\")","v":""},"",{"$f":"IFERROR(#REF!,\"\")","v":""},{"$f":"IFERROR(#REF!,\"\")","v":""},{"$f":"_xlfn.CONCAT(\"Trimestre 1\",CHAR(10),IFERROR(#REF!,\"\"))","v":{"$error":"#NAME?"}},{"$f":"_xlfn.CONCAT(\"Trimestre 1\",CHAR(10),IFERROR(#REF!,\"\"))","v":{"$error":"#NAME?"}},{"$f":"_xlfn.CONCAT(\"Trimestre 1\",CHAR(10),IFERROR(#REF!,\"\"))","v":{"$error":"#NAME?"}},{"$f":"_xlfn.CONCAT(\"Trimestre 1\",CHAR(10),IFERROR(#REF!,\"\"))","v":{"$error":"#NAME?"}},{"$f":"_xlfn.CONCAT(\"Trimestre 1\",CHAR(10),IFERROR(#REF!,\"\"))","v":{"$error":"#NAME?"}}]
[null,null,null,null,null,null,null,null,null,null,null,null,null,null,null,null,null,null,null,null,null,null,null,null,null,{"$f":"IFERROR(#REF!,\" \")","v":" "},{"$f":"IFERROR(#REF!,\"\")","v":""},{"$f":"IFERROR(#REF!,\"\")","v":""},"","",{"$f":"IFERROR(#REF!,\"\")","v":""},"",{"$f":"IFERROR(#REF!,\"\")","v":""},{"$f":"IFERROR(#REF!,\"\")","v":""},{"$f":"_xlfn.CONCAT(\"Trimestre 1\",CHAR(10),IFERROR(#REF!,\"\"))","v":{"$error":"#NAME?"}},{"$f":"_xlfn.CONCAT(\"Trimestre 1\",CHAR(10),IFERROR(#REF!,\"\"))","v":{"$error":"#NAME?"}},{"$f":"_xlfn.CONCAT(\"Trimestre 1\",CHAR(10),IFERROR(#REF!,\"\"))","v":{"$error":"#NAME?"}},{"$f":"_xlfn.CONCAT(\"Trimestre 1\",CHAR(10),IFERROR(#REF!,\"\"))","v":{"$error":"#NAME?"}},{"$f":"_xlfn.CONCAT(\"Trimestre 1\",CHAR(10),IFERROR(#REF!,\"\"))","v":{"$error":"#NAME?"}}]
[null,null,null,null,null,null,null,null,null,null,null,null,null,null,null,null,null,null,null,null,null,null,null,null,null,{"$f":"IFERROR(#REF!,\" \")","v":" "},{"$f":"IFERROR(#REF!,\"\")","v":""},{"$f":"IFERROR(#REF!,\"\")","v":""},"","",{"$f":"IFERROR(#REF!,\"\")","v":""},"",{"$f":"IFERROR(#REF!,\"\")","v":""},{"$f":"IFERROR(#REF!,\"\")","v":""},{"$f":"_xlfn.CONCAT(\"Trimestre 1\",CHAR(10),IFERROR(#REF!,\"\"))","v":{"$error":"#NAME?"}},{"$f":"_xlfn.CONCAT(\"Trimestre 1\",CHAR(10),IFERROR(#REF!,\"\"))","v":{"$error":"#NAME?"}},{"$f":"_xlfn.CONCAT(\"Trimestre 1\",CHAR(10),IFERROR(#REF!,\"\"))","v":{"$error":"#NAME?"}},{"$f":"_xlfn.CONCAT(\"Trimestre 1\",CHAR(10),IFERROR(#REF!,\"\"))","v":{"$error":"#NAME?"}},{"$f":"_xlfn.CONCAT(\"Trimestre 1\",CHAR(10),IFERROR(#REF!,\"\"))","v":{"$error":"#NAME?"}}]
[null,null,null,null,null,null,null,null,null,null,null,null,null,null,null,null,null,null,null,null,null,null,null,null,null,{"$f":"IFERROR(#REF!,\" \")","v":" "},{"$f":"IFERROR(#REF!,\"\")","v":""},{"$f":"IFERROR(#REF!,\"\")","v":""},"","",{"$f":"IFERROR(#REF!,\"\")","v":""},"",{"$f":"IFERROR(#REF!,\"\")","v":""},{"$f":"IFERROR(#REF!,\"\")","v":""},{"$f":"_xlfn.CONCAT(\"Trimestre 1\",CHAR(10),IFERROR(#REF!,\"\"))","v":{"$error":"#NAME?"}},{"$f":"_xlfn.CONCAT(\"Trimestre 1\",CHAR(10),IFERROR(#REF!,\"\"))","v":{"$error":"#NAME?"}},{"$f":"_xlfn.CONCAT(\"Trimestre 1\",CHAR(10),IFERROR(#REF!,\"\"))","v":{"$error":"#NAME?"}},{"$f":"_xlfn.CONCAT(\"Trimestre 1\",CHAR(10),IFERROR(#REF!,\"\"))","v":{"$error":"#NAME?"}},{"$f":"_xlfn.CONCAT(\"Trimestre 1\",CHAR(10),IFERROR(#REF!,\"\"))","v":{"$error":"#NAME?"}}]
[null,null,null,null,null,null,null,null,null,null,null,null,null,null,null,null,null,null,null,null,null,null,null,null,null,{"$f":"IFERROR(#REF!,\" \")","v":" "},{"$f":"IFERROR(#REF!,\"\")","v":""},{"$f":"IFERROR(#REF!,\"\")","v":""},"","",{"$f":"IFERROR(#REF!,\"\")","v":""},"",{"$f":"IFERROR(#REF!,\"\")","v":""},{"$f":"IFERROR(#REF!,\"\")","v":""},{"$f":"_xlfn.CONCAT(\"Trimestre 1\",CHAR(10),IFERROR(#REF!,\"\"))","v":{"$error":"#NAME?"}},{"$f":"_xlfn.CONCAT(\"Trimestre 1\",CHAR(10),IFERROR(#REF!,\"\"))","v":{"$error":"#NAME?"}},{"$f":"_xlfn.CONCAT(\"Trimestre 1\",CHAR(10),IFERROR(#REF!,\"\"))","v":{"$error":"#NAME?"}},{"$f":"_xlfn.CONCAT(\"Trimestre 1\",CHAR(10),IFERROR(#REF!,\"\"))","v":{"$error":"#NAME?"}},{"$f":"_xlfn.CONCAT(\"Trimestre 1\",CHAR(10),IFERROR(#REF!,\"\"))","v":{"$error":"#NAME?"}}]
[null,null,null,null,null,null,null,null,null,null,null,null,null,null,null,null,null,null,null,null,null,null,null,null,null,{"$f":"IFERROR(#REF!,\" \")","v":" "},{"$f":"IFERROR(#REF!,\"\")","v":""},{"$f":"IFERROR(#REF!,\"\")","v":""},"","",{"$f":"IFERROR(#REF!,\"\")","v":""},"",{"$f":"IFERROR(#REF!,\"\")","v":""},{"$f":"IFERROR(#REF!,\"\")","v":""},{"$f":"_xlfn.CONCAT(\"Trimestre 1\",CHAR(10),IFERROR(#REF!,\"\"))","v":{"$error":"#NAME?"}},{"$f":"_xlfn.CONCAT(\"Trimestre 1\",CHAR(10),IFERROR(#REF!,\"\"))","v":{"$error":"#NAME?"}},{"$f":"_xlfn.CONCAT(\"Trimestre 1\",CHAR(10),IFERROR(#REF!,\"\"))","v":{"$error":"#NAME?"}},{"$f":"_xlfn.CONCAT(\"Trimestre 1\",CHAR(10),IFERROR(#REF!,\"\"))","v":{"$error":"#NAME?"}},{"$f":"_xlfn.CONCAT(\"Trimestre 1\",CHAR(10),IFERROR(#REF!,\"\"))","v":{"$error":"#NAME?"}}]
[null,null,null,null,null,null,null,null,null,null,null,null,null,null,null,null,null,null,null,null,null,null,null,null,null,{"$f":"IFERROR(#REF!,\" \")","v":" "},{"$f":"IFERROR(#REF!,\"\")","v":""},{"$f":"IFERROR(#REF!,\"\")","v":""},"","",{"$f":"IFERROR(#REF!,\"\")","v":""},"",{"$f":"IFERROR(#REF!,\"\")","v":""},{"$f":"IFERROR(#REF!,\"\")","v":""},{"$f":"_xlfn.CONCAT(\"Trimestre 1\",CHAR(10),IFERROR(#REF!,\"\"))","v":{"$error":"#NAME?"}},{"$f":"_xlfn.CONCAT(\"Trimestre 1\",CHAR(10),IFERROR(#REF!,\"\"))","v":{"$error":"#NAME?"}},{"$f":"_xlfn.CONCAT(\"Trimestre 1\",CHAR(10),IFERROR(#REF!,\"\"))","v":{"$error":"#NAME?"}},{"$f":"_xlfn.CONCAT(\"Trimestre 1\",CHAR(10),IFERROR(#REF!,\"\"))","v":{"$error":"#NAME?"}},{"$f":"_xlfn.CONCAT(\"Trimestre 1\",CHAR(10),IFERROR(#REF!,\"\"))","v":{"$error":"#NAME?"}}]
[null,null,null,null,null,null,null,null,null,null,null,null,null,null,null,null,null,null,null,null,null,null,null,null,null,{"$f":"IFERROR(#REF!,\" \")","v":" "},{"$f":"IFERROR(#REF!,\"\")","v":""},{"$f":"IFERROR(#REF!,\"\")","v":""},"","",{"$f":"IFERROR(#REF!,\"\")","v":""},"",{"$f":"IFERROR(#REF!,\"\")","v":""},{"$f":"IFERROR(#REF!,\"\")","v":""},{"$f":"_xlfn.CONCAT(\"Trimestre 1\",CHAR(10),IFERROR(#REF!,\"\"))","v":{"$error":"#NAME?"}},{"$f":"_xlfn.CONCAT(\"Trimestre 1\",CHAR(10),IFERROR(#REF!,\"\"))","v":{"$error":"#NAME?"}},{"$f":"_xlfn.CONCAT(\"Trimestre 1\",CHAR(10),IFERROR(#REF!,\"\"))","v":{"$error":"#NAME?"}},{"$f":"_xlfn.CONCAT(\"Trimestre 1\",CHAR(10),IFERROR(#REF!,\"\"))","v":{"$error":"#NAME?"}},{"$f":"_xlfn.CONCAT(\"Trimestre 1\",CHAR(10),IFERROR(#REF!,\"\"))","v":{"$error":"#NAME?"}}]
["3. Confianza pública, transparencia y rendición de cuentas","Confianza pública, transparencia y rendición de cuentas: Aumentar la confianza pública en la justicia a través de la transparencia, la rendición de cuentas y la participación, incluyendo la información de justicia y la producción, gestión y acceso a las fuentes de derecho, el fortalecimiento del sistema de gestión de calidad y medio ambiente (SIGCMA) y el mejoramiento de la calidad y publicidad de la información. ","1. Incrementar la cantidad, la calidad y pertinencia de los datos sobre el funcionamiento del servicio de justicia bajo un modelo de gobierno de datos y un liderazgo unificado. ","Modelo de\ngobierno y calidad de datos implementado","% de implementa ción del modelo de gobierno y calidad de datos","4. Hacer un uso racional de los recursos naturales aplicando los principios y fases de la Economía Circular, para prevenir, mitigar y controlar los impactos ambientales.",null,null,null,null,null,null,null,null,null,null,null,null,null,null,null,null,null,null,null,{"$f":"IFERROR(#REF!,\" \")","v":" "},{"$f":"IFERROR(#REF!,\"\")","v":""},{"$f":"IFERROR(#REF!,\"\")","v":""},"","",{"$f":"IFERROR(#REF!,\"\")","v":""},"",{"$f":"IFERROR(#REF!,\"\")","v":""},{"$f":"IFERROR(#REF!,\"\")","v":""},{"$f":"_xlfn.CONCAT(\"Trimestre 1\",CHAR(10),IFERROR(#REF!,\"\"))","v":{"$error":"#NAME?"}},{"$f":"_xlfn.CONCAT(\"Trimestre 1\",CHAR(10),IFERROR(#REF!,\"\"))","v":{"$error":"#NAME?"}},{"$f":"_xlfn.CONCAT(\"Trimestre 1\",CHAR(10),IFERROR(#REF!,\"\"))","v":{"$error":"#NAME?"}},{"$f":"_xlfn.CONCAT(\"Trimestre 1\",CHAR(10),IFERROR(#REF!,\"\"))","v":{"$error":"#NAME?"}},{"$f":"_xlfn.CONCAT(\"Trimestre 1\",CHAR(10),IFERROR(#REF!,\"\"))","v":{"$error":"#NAME?"}}]
[null,null,null,null,null,null,null,null,null,null,null,null,null,null,null,null,null,null,null,null,null,null,null,null,null,{"$f":"IFERROR(#REF!,\" \")","v":" "},{"$f":"IFERROR(#REF!,\"\")","v":""},{"$f":"IFERROR(#REF!,\"\")","v":""},"","",{"$f":"IFERROR(#REF!,\"\")","v":""},"",{"$f":"IFERROR(#REF!,\"\")","v":""},{"$f":"IFERROR(#REF!,\"\")","v":""},{"$f":"_xlfn.CONCAT(\"Trimestre 1\",CHAR(10),IFERROR(#REF!,\"\"))","v":{"$error":"#NAME?"}},{"$f":"_xlfn.CONCAT(\"Trimestre 1\",CHAR(10),IFERROR(#REF!,\"\"))","v":{"$error":"#NAME?"}},{"$f":"_xlfn.CONCAT(\"Trimestre 1\",CHAR(10),IFERROR(#REF!,\"\"))","v":{"$error":"#NAME?"}},{"$f":"_xlfn.CONCAT(\"Trimestre 1\",CHAR(10),IFERROR(#REF!,\"\"))","v":{"$error":"#NAME?"}},{"$f":"_xlfn.CONCAT(\"Trimestre 1\",CHAR(10),IFERROR(#REF!,\"\"))","v":{"$error":"#NAME?"}}]
[null,null,null,null,null,null,null,null,null,null,null,null,null,null,null,null,null,null,null,null,null,null,null,null,null,{"$f":"IFERROR(#REF!,\" \")","v":" "},{"$f":"IFERROR(#REF!,\"\")","v":""},{"$f":"IFERROR(#REF!,\"\")","v":""},"","",{"$f":"IFERROR(#REF!,\"\")","v":""},"",{"$f":"IFERROR(#REF!,\"\")","v":""},{"$f":"IFERROR(#REF!,\"\")","v":""},{"$f":"_xlfn.CONCAT(\"Trimestre 1\",CHAR(10),IFERROR(#REF!,\"\"))","v":{"$error":"#NAME?"}},{"$f":"_xlfn.CONCAT(\"Trimestre 1\",CHAR(10),IFERROR(#REF!,\"\"))","v":{"$error":"#NAME?"}},{"$f":"_xlfn.CONCAT(\"Trimestre 1\",CHAR(10),IFERROR(#REF!,\"\"))","v":{"$error":"#NAME?"}},{"$f":"_xlfn.CONCAT(\"Trimestre 1\",CHAR(10),IFERROR(#REF!,\"\"))","v":{"$error":"#NAME?"}},{"$f":"_xlfn.CONCAT(\"Trimestre 1\",CHAR(10),IFERROR(#REF!,\"\"))","v":{"$error":"#NAME?"}}]
[null,null,null,null,null,null,null,null,null,null,null,null,null,null,null,null,null,null,null,null,null,null,null,null,null,{"$f":"IFERROR(#REF!,\" \")","v":" "},{"$f":"IFERROR(#REF!,\"\")","v":""},{"$f":"IFERROR(#REF!,\"\")","v":""},"","",{"$f":"IFERROR(#REF!,\"\")","v":""},"",{"$f":"IFERROR(#REF!,\"\")","v":""},{"$f":"IFERROR(#REF!,\"\")","v":""},{"$f":"_xlfn.CONCAT(\"Trimestre 1\",CHAR(10),IFERROR(#REF!,\"\"))","v":{"$error":"#NAME?"}},{"$f":"_xlfn.CONCAT(\"Trimestre 1\",CHAR(10),IFERROR(#REF!,\"\"))","v":{"$error":"#NAME?"}},{"$f":"_xlfn.CONCAT(\"Trimestre 1\",CHAR(10),IFERROR(#REF!,\"\"))","v":{"$error":"#NAME?"}},{"$f":"_xlfn.CONCAT(\"Trimestre 1\",CHAR(10),IFERROR(#REF!,\"\"))","v":{"$error":"#NAME?"}},{"$f":"_xlfn.CONCAT(\"Trimestre 1\",CHAR(10),IFERROR(#REF!,\"\"))","v":{"$error":"#NAME?"}}]
[null,null,null,null,null,null,null,null,null,null,null,null,null,null,null,null,null,null,null,null,null,null,null,null,null,{"$f":"IFERROR(#REF!,\" \")","v":" "},{"$f":"IFERROR(#REF!,\"\")","v":""},{"$f":"IFERROR(#REF!,\"\")","v":""},"","",{"$f":"IFERROR(#REF!,\"\")","v":""},"",{"$f":"IFERROR(#REF!,\"\")","v":""},{"$f":"IFERROR(#REF!,\"\")","v":""},{"$f":"_xlfn.CONCAT(\"Trimestre 1\",CHAR(10),IFERROR(#REF!,\"\"))","v":{"$error":"#NAME?"}},{"$f":"_xlfn.CONCAT(\"Trimestre 1\",CHAR(10),IFERROR(#REF!,\"\"))","v":{"$error":"#NAME?"}},{"$f":"_xlfn.CONCAT(\"Trimestre 1\",CHAR(10),IFERROR(#REF!,\"\"))","v":{"$error":"#NAME?"}},{"$f":"_xlfn.CONCAT(\"Trimestre 1\",CHAR(10),IFERROR(#REF!,\"\"))","v":{"$error":"#NAME?"}},{"$f":"_xlfn.CONCAT(\"Trimestre 1\",CHAR(10),IFERROR(#REF!,\"\"))","v":{"$error":"#NAME?"}}]
[null,null,null,null,null,null,null,null,null,null,null,null,null,null,null,null,null,null,null,null,null,null,null,null,null,{"$f":"IFERROR(#REF!,\" \")","v":" "},{"$f":"IFERROR(#REF!,\"\")","v":""},{"$f":"IFERROR(#REF!,\"\")","v":""},"","",{"$f":"IFERROR(#REF!,\"\")","v":""},"",{"$f":"IFERROR(#REF!,\"\")","v":""},{"$f":"IFERROR(#REF!,\"\")","v":""},{"$f":"_xlfn.CONCAT(\"Trimestre 1\",CHAR(10),IFERROR(#REF!,\"\"))","v":{"$error":"#NAME?"}},{"$f":"_xlfn.CONCAT(\"Trimestre 1\",CHAR(10),IFERROR(#REF!,\"\"))","v":{"$error":"#NAME?"}},{"$f":"_xlfn.CONCAT(\"Trimestre 1\",CHAR(10),IFERROR(#REF!,\"\"))","v":{"$error":"#NAME?"}},{"$f":"_xlfn.CONCAT(\"Trimestre 1\",CHAR(10),IFERROR(#REF!,\"\"))","v":{"$error":"#NAME?"}},{"$f":"_xlfn.CONCAT(\"Trimestre 1\",CHAR(10),IFERROR(#REF!,\"\"))","v":{"$error":"#NAME?"}}]
[null,null,null,null,null,null,null,null,null,null,null,null,null,null,null,null,null,null,null,null,null,null,null,null,null,{"$f":"IFERROR(#REF!,\" \")","v":" "},{"$f":"IFERROR(#REF!,\"\")","v":""},{"$f":"IFERROR(#REF!,\"\")","v":""},"","",{"$f":"IFERROR(#REF!,\"\")","v":""},"",{"$f":"IFERROR(#REF!,\"\")","v":""},{"$f":"IFERROR(#REF!,\"\")","v":""},{"$f":"_xlfn.CONCAT(\"Trimestre 1\",CHAR(10),IFERROR(#REF!,\"\"))","v":{"$error":"#NAME?"}},{"$f":"_xlfn.CONCAT(\"Trimestre 1\",CHAR(10),IFERROR(#REF!,\"\"))","v":{"$error":"#NAME?"}},{"$f":"_xlfn.CONCAT(\"Trimestre 1\",CHAR(10),IFERROR(#REF!,\"\"))","v":{"$error":"#NAME?"}},{"$f":"_xlfn.CONCAT(\"Trimestre 1\",CHAR(10),IFERROR(#REF!,\"\"))","v":{"$error":"#NAME?"}},{"$f":"_xlfn.CONCAT(\"Trimestre 1\",CHAR(10),IFERROR(#REF!,\"\"))","v":{"$error":"#NAME?"}}]
[null,null,null,null,null,null,null,null,null,null,null,null,null,null,null,null,null,null,null,null,null,null,null,null,null,{"$f":"IFERROR(#REF!,\" \")","v":" "},{"$f":"IFERROR(#REF!,\"\")","v":""},{"$f":"IFERROR(#REF!,\"\")","v":""},"","",{"$f":"IFERROR(#REF!,\"\")","v":""},"",{"$f":"IFERROR(#REF!,\"\")","v":""},{"$f":"IFERROR(#REF!,\"\")","v":""},{"$f":"_xlfn.CONCAT(\"Trimestre 1\",CHAR(10),IFERROR(#REF!,\"\"))","v":{"$error":"#NAME?"}},{"$f":"_xlfn.CONCAT(\"Trimestre 1\",CHAR(10),IFERROR(#REF!,\"\"))","v":{"$error":"#NAME?"}},{"$f":"_xlfn.CONCAT(\"Trimestre 1\",CHAR(10),IFERROR(#REF!,\"\"))","v":{"$error":"#NAME?"}},{"$f":"_xlfn.CONCAT(\"Trimestre 1\",CHAR(10),IFERROR(#REF!,\"\"))","v":{"$error":"#NAME?"}},{"$f":"_xlfn.CONCAT(\"Trimestre 1\",CHAR(10),IFERROR(#REF!,\"\"))","v":{"$error":"#NAME?"}}]
[null,null,null,null,null,null,null,null,null,null,null,null,null,null,null,null,null,null,null,null,null,null,null,null,null,{"$f":"IFERROR(#REF!,\" \")","v":" "},{"$f":"IFERROR(#REF!,\"\")","v":""},{"$f":"IFERROR(#REF!,\"\")","v":""},"","",{"$f":"IFERROR(#REF!,\"\")","v":""},"",{"$f":"IFERROR(#REF!,\"\")","v":""},{"$f":"IFERROR(#REF!,\"\")","v":""},{"$f":"_xlfn.CONCAT(\"Trimestre 1\",CHAR(10),IFERROR(#REF!,\"\"))","v":{"$error":"#NAME?"}},{"$f":"_xlfn.CONCAT(\"Trimestre 1\",CHAR(10),IFERROR(#REF!,\"\"))","v":{"$error":"#NAME?"}},{"$f":"_xlfn.CONCAT(\"Trimestre 1\",CHAR(10),IFERROR(#REF!,\"\"))","v":{"$error":"#NAME?"}},{"$f":"_xlfn.CONCAT(\"Trimestre 1\",CHAR(10),IFERROR(#REF!,\"\"))","v":{"$error":"#NAME?"}},{"$f":"_xlfn.CONCAT(\"Trimestre 1\",CHAR(10),IFERROR(#REF!,\"\"))","v":{"$error":"#NAME?"}}]
[null,null,null,null,null,null,null,null,null,null,null,null,null,null,null,null,null,null,null,null,null,null,null,null,null,{"$f":"IFERROR(#REF!,\" \")","v":" "},{"$f":"IFERROR(#REF!,\"\")","v":""},{"$f":"IFERROR(#REF!,\"\")","v":""},"","",{"$f":"IFERROR(#REF!,\"\")","v":""},"",{"$f":"IFERROR(#REF!,\"\")","v":""},{"$f":"IFERROR(#REF!,\"\")","v":""},{"$f":"_xlfn.CONCAT(\"Trimestre 1\",CHAR(10),IFERROR(#REF!,\"\"))","v":{"$error":"#NAME?"}},{"$f":"_xlfn.CONCAT(\"Trimestre 1\",CHAR(10),IFERROR(#REF!,\"\"))","v":{"$error":"#NAME?"}},{"$f":"_xlfn.CONCAT(\"Trimestre 1\",CHAR(10),IFERROR(#REF!,\"\"))","v":{"$error":"#NAME?"}},{"$f":"_xlfn.CONCAT(\"Trimestre 1\",CHAR(10),IFERROR(#REF!,\"\"))","v":{"$error":"#NAME?"}},{"$f":"_xlfn.CONCAT(\"Trimestre 1\",CHAR(10),IFERROR(#REF!,\"\"))","v":{"$error":"#NAME?"}}]
[null,null,"2. Consolidar la administración de la información entendida como todas las acciones rientadas a garantizar el acceso, consulta, uso y conservación de la información de justicia de manera ágil, flexible e inteligente, bajo un enfoque de innovación.","Modelo de producción, acceso, consulta y conservación del conocimiento jurídico","% de implementa ción del modelo de producción, acceso, consulta y conservació n del conocimient o jurídico",null,null,null,null,null,null,null,null,null,null,null,null,null,null,null,null,null,null,null,null,{"$f":"IFERROR(#REF!,\" \")","v":" "},{"$f":"IFERROR(#REF!,\"\")","v":""},{"$f":"IFERROR(#REF!,\"\")","v":""},"","",{"$f":"IFERROR(#REF!,\"\")","v":""},"",{"$f":"IFERROR(#REF!,\"\")","v":""},{"$f":"IFERROR(#REF!,\"\")","v":""},{"$f":"_xlfn.CONCAT(\"Trimestre 1\",CHAR(10),IFERROR(#REF!,\"\"))","v":{"$error":"#NAME?"}},{"$f":"_xlfn.CONCAT(\"Trimestre 1\",CHAR(10),IFERROR(#REF!,\"\"))","v":{"$error":"#NAME?"}},{"$f":"_xlfn.CONCAT(\"Trimestre 1\",CHAR(10),IFERROR(#REF!,\"\"))","v":{"$error":"#NAME?"}},{"$f":"_xlfn.CONCAT(\"Trimestre 1\",CHAR(10),IFERROR(#REF!,\"\"))","v":{"$error":"#NAME?"}},{"$f":"_xlfn.CONCAT(\"Trimestre 1\",CHAR(10),IFERROR(#REF!,\"\"))","v":{"$error":"#NAME?"}}]
[null,null,null,null,null,null,null,null,null,null,null,null,null,null,null,null,null,null,null,null,null,null,null,null,null,{"$f":"IFERROR(#REF!,\" \")","v":" "},{"$f":"IFERROR(#REF!,\"\")","v":""},{"$f":"IFERROR(#REF!,\"\")","v":""},"","",{"$f":"IFERROR(#REF!,\"\")","v":""},"",{"$f":"IFERROR(#REF!,\"\")","v":""},{"$f":"IFERROR(#REF!,\"\")","v":""},{"$f":"_xlfn.CONCAT(\"Trimestre 1\",CHAR(10),IFERROR(#REF!,\"\"))","v":{"$error":"#NAME?"}},{"$f":"_xlfn.CONCAT(\"Trimestre 1\",CHAR(10),IFERROR(#REF!,\"\"))","v":{"$error":"#NAME?"}},{"$f":"_xlfn.CONCAT(\"Trimestre 1\",CHAR(10),IFERROR(#REF!,\"\"))","v":{"$error":"#NAME?"}},{"$f":"_xlfn.CONCAT(\"Trimestre 1\",CHAR(10),IFERROR(#REF!,\"\"))","v":{"$error":"#NAME?"}},{"$f":"_xlfn.CONCAT(\"Trimestre 1\",CHAR(10),IFERROR(#REF!,\"\"))","v":{"$error":"#NAME?"}}]
[null,null,null,null,null,null,null,null,null,null,null,null,null,null,null,null,null,null,null,null,null,null,null,null,null,{"$f":"IFERROR(#REF!,\" \")","v":" "},{"$f":"IFERROR(#REF!,\"\")","v":""},{"$f":"IFERROR(#REF!,\"\")","v":""},"","",{"$f":"IFERROR(#REF!,\"\")","v":""},"",{"$f":"IFERROR(#REF!,\"\")","v":""},{"$f":"IFERROR(#REF!,\"\")","v":""},{"$f":"_xlfn.CONCAT(\"Trimestre 1\",CHAR(10),IFERROR(#REF!,\"\"))","v":{"$error":"#NAME?"}},{"$f":"_xlfn.CONCAT(\"Trimestre 1\",CHAR(10),IFERROR(#REF!,\"\"))","v":{"$error":"#NAME?"}},{"$f":"_xlfn.CONCAT(\"Trimestre 1\",CHAR(10),IFERROR(#REF!,\"\"))","v":{"$error":"#NAME?"}},{"$f":"_xlfn.CONCAT(\"Trimestre 1\",CHAR(10),IFERROR(#REF!,\"\"))","v":{"$error":"#NAME?"}},{"$f":"_xlfn.CONCAT(\"Trimestre 1\",CHAR(10),IFERROR(#REF!,\"\"))","v":{"$error":"#NAME?"}}]
[null,null,null,null,null,null,null,null,null,null,null,null,null,null,null,null,null,null,null,null,null,null,null,null,null,{"$f":"IFERROR(#REF!,\" \")","v":" "},{"$f":"IFERROR(#REF!,\"\")","v":""},{"$f":"IFERROR(#REF!,\"\")","v":""},"","",{"$f":"IFERROR(#REF!,\"\")","v":""},"",{"$f":"IFERROR(#REF!,\"\")","v":""},{"$f":"IFERROR(#REF!,\"\")","v":""},{"$f":"_xlfn.CONCAT(\"Trimestre 1\",CHAR(10),IFERROR(#REF!,\"\"))","v":{"$error":"#NAME?"}},{"$f":"_xlfn.CONCAT(\"Trimestre 1\",CHAR(10),IFERROR(#REF!,\"\"))","v":{"$error":"#NAME?"}},{"$f":"_xlfn.CONCAT(\"Trimestre 1\",CHAR(10),IFERROR(#REF!,\"\"))","v":{"$error":"#NAME?"}},{"$f":"_xlfn.CONCAT(\"Trimestre 1\",CHAR(10),IFERROR(#REF!,\"\"))","v":{"$error":"#NAME?"}},{"$f":"_xlfn.CONCAT(\"Trimestre 1\",CHAR(10),IFERROR(#REF!,\"\"))","v":{"$error":"#NAME?"}}]
[null,null,null,null,null,null,null,null,null,null,null,null,null,null,null,null,null,null,null,null,null,null,null,null,null,{"$f":"IFERROR(#REF!,\" \")","v":" "},{"$f":"IFERROR(#REF!,\"\")","v":""},{"$f":"IFERROR(#REF!,\"\")","v":""},"","",{"$f":"IFERROR(#REF!,\"\")","v":""},"",{"$f":"IFERROR(#REF!,\"\")","v":""},{"$f":"IFERROR(#REF!,\"\")","v":""},{"$f":"_xlfn.CONCAT(\"Trimestre 1\",CHAR(10),IFERROR(#REF!,\"\"))","v":{"$error":"#NAME?"}},{"$f":"_xlfn.CONCAT(\"Trimestre 1\",CHAR(10),IFERROR(#REF!,\"\"))","v":{"$error":"#NAME?"}},{"$f":"_xlfn.CONCAT(\"Trimestre 1\",CHAR(10),IFERROR(#REF!,\"\"))","v":{"$error":"#NAME?"}},{"$f":"_xlfn.CONCAT(\"Trimestre 1\",CHAR(10),IFERROR(#REF!,\"\"))","v":{"$error":"#NAME?"}},{"$f":"_xlfn.CONCAT(\"Trimestre 1\",CHAR(10),IFERROR(#REF!,\"\"))","v":{"$error":"#NAME?"}}]
[null,null,null,null,null,null,null,null,null,null,null,null,null,null,null,null,null,null,null,null,null,null,null,null,null,{"$f":"IFERROR(#REF!,\" \")","v":" "},{"$f":"IFERROR(#REF!,\"\")","v":""},{"$f":"IFERROR(#REF!,\"\")","v":""},"","",{"$f":"IFERROR(#REF!,\"\")","v":""},"",{"$f":"IFERROR(#REF!,\"\")","v":""},{"$f":"IFERROR(#REF!,\"\")","v":""},{"$f":"_xlfn.CONCAT(\"Trimestre 1\",CHAR(10),IFERROR(#REF!,\"\"))","v":{"$error":"#NAME?"}},{"$f":"_xlfn.CONCAT(\"Trimestre 1\",CHAR(10),IFERROR(#REF!,\"\"))","v":{"$error":"#NAME?"}},{"$f":"_xlfn.CONCAT(\"Trimestre 1\",CHAR(10),IFERROR(#REF!,\"\"))","v":{"$error":"#NAME?"}},{"$f":"_xlfn.CONCAT(\"Trimestre 1\",CHAR(10),IFERROR(#REF!,\"\"))","v":{"$error":"#NAME?"}},{"$f":"_xlfn.CONCAT(\"Trimestre 1\",CHAR(10),IFERROR(#REF!,\"\"))","v":{"$error":"#NAME?"}}]
[null,null,null,null,null,null,null,null,null,null,null,null,null,null,null,null,null,null,null,null,null,null,null,null,null,{"$f":"IFERROR(#REF!,\" \")","v":" "},{"$f":"IFERROR(#REF!,\"\")","v":""},{"$f":"IFERROR(#REF!,\"\")","v":""},"","",{"$f":"IFERROR(#REF!,\"\")","v":""},"",{"$f":"IFERROR(#REF!,\"\")","v":""},{"$f":"IFERROR(#REF!,\"\")","v":""},{"$f":"_xlfn.CONCAT(\"Trimestre 1\",CHAR(10),IFERROR(#REF!,\"\"))","v":{"$error":"#NAME?"}},{"$f":"_xlfn.CONCAT(\"Trimestre 1\",CHAR(10),IFERROR(#REF!,\"\"))","v":{"$error":"#NAME?"}},{"$f":"_xlfn.CONCAT(\"Trimestre 1\",CHAR(10),IFERROR(#REF!,\"\"))","v":{"$error":"#NAME?"}},{"$f":"_xlfn.CONCAT(\"Trimestre 1\",CHAR(10),IFERROR(#REF!,\"\"))","v":{"$error":"#NAME?"}},{"$f":"_xlfn.CONCAT(\"Trimestre 1\",CHAR(10),IFERROR(#REF!,\"\"))","v":{"$error":"#NAME?"}}]
[null,null,null,null,null,null,null,null,null,null,null,null,null,null,null,null,null,null,null,null,null,null,null,null,null,{"$f":"IFERROR(#REF!,\" \")","v":" "},{"$f":"IFERROR(#REF!,\"\")","v":""},{"$f":"IFERROR(#REF!,\"\")","v":""},"","",{"$f":"IFERROR(#REF!,\"\")","v":""},"",{"$f":"IFERROR(#REF!,\"\")","v":""},{"$f":"IFERROR(#REF!,\"\")","v":""},{"$f":"_xlfn.CONCAT(\"Trimestre 1\",CHAR(10),IFERROR(#REF!,\"\"))","v":{"$error":"#NAME?"}},{"$f":"_xlfn.CONCAT(\"Trimestre 1\",CHAR(10),IFERROR(#REF!,\"\"))","v":{"$error":"#NAME?"}},{"$f":"_xlfn.CONCAT(\"Trimestre 1\",CHAR(10),IFERROR(#REF!,\"\"))","v":{"$error":"#NAME?"}},{"$f":"_xlfn.CONCAT(\"Trimestre 1\",CHAR(10),IFERROR(#REF!,\"\"))","v":{"$error":"#NAME?"}},{"$f":"_xlfn.CONCAT(\"Trimestre 1\",CHAR(10),IFERROR(#REF!,\"\"))","v":{"$error":"#NAME?"}}]
[null,null,null,null,null,null,null,null,null,null,null,null,null,null,null,null,null,null,null,null,null,null,null,null,null,{"$f":"IFERROR(#REF!,\" \")","v":" "},{"$f":"IFERROR(#REF!,\"\")","v":""},{"$f":"IFERROR(#REF!,\"\")","v":""},"","",{"$f":"IFERROR(#REF!,\"\")","v":""},"",{"$f":"IFERROR(#REF!,\"\")","v":""},{"$f":"IFERROR(#REF!,\"\")","v":""},{"$f":"_xlfn.CONCAT(\"Trimestre 1\",CHAR(10),IFERROR(#REF!,\"\"))","v":{"$error":"#NAME?"}},{"$f":"_xlfn.CONCAT(\"Trimestre 1\",CHAR(10),IFERROR(#REF!,\"\"))","v":{"$error":"#NAME?"}},{"$f":"_xlfn.CONCAT(\"Trimestre 1\",CHAR(10),IFERROR(#REF!,\"\"))","v":{"$error":"#NAME?"}},{"$f":"_xlfn.CONCAT(\"Trimestre 1\",CHAR(10),IFERROR(#REF!,\"\"))","v":{"$error":"#NAME?"}},{"$f":"_xlfn.CONCAT(\"Trimestre 1\",CHAR(10),IFERROR(#REF!,\"\"))","v":{"$error":"#NAME?"}}]
[null,null,null,null,null,null,null,null,null,null,null,null,null,null,null,null,null,null,null,null,null,null,null,null,null,{"$f":"IFERROR(#REF!,\" \")","v":" "},{"$f":"IFERROR(#REF!,\"\")","v":""},{"$f":"IFERROR(#REF!,\"\")","v":""},{"$f":"IFERROR(AB135/P135,\"\")","v":""},{"$f":"IFERROR(AA135/Y135,\"\")","v":""},{"$f":"IFERROR(#REF!,\"\")","v":""},{"$f":"IFERROR(P135-AB135,\"\")","v":""},{"$f":"IFERROR(#REF!,\"\")","v":""},{"$f":"IFERROR(#REF!,\"\")","v":""},{"$f":"_xlfn.CONCAT(\"Trimestre 1\",CHAR(10),IFERROR(#REF!,\"\"))","v":{"$error":"#NAME?"}},{"$f":"_xlfn.CONCAT(\"Trimestre 1\",CHAR(10),IFERROR(#REF!,\"\"))","v":{"$error":"#NAME?"}},{"$f":"_xlfn.CONCAT(\"Trimestre 1\",CHAR(10),IFERROR(#REF!,\"\"))","v":{"$error":"#NAME?"}},{"$f":"_xlfn.CONCAT(\"Trimestre 1\",CHAR(10),IFERROR(#REF!,\"\"))","v":{"$error":"#NAME?"}},{"$f":"_xlfn.CONCAT(\"Trimestre 1\",CHAR(10),IFERROR(#REF!,\"\"))","v":{"$error":"#NAME?"}}]
[null,null,"3. Fortalecer el Sistema integrado de Gestión de la Rama, orientado a la implementación y certificación de las normas antisoborno.","Certificación del Sistema Integrado de Gestión de la Rama en norma antisoborno","# de dependenci as judiciales y administrati vas certificadas en norma antisoborno /# total de despachos certificados en calidad","1. Gestionar el desarrollo de las competencias, la toma de conciencia , la cultura  organizacional  y el compromiso de los  servidores judiciales, contratistas, practicantes y  judicantes de contribuir a generar valor público en la administración de justicia, en el marco de  cumplimiento de los requisitos  aplicables y el comportamiento ético.\n3. Fomentar la transparencia y la participación generando lineamientos y promoviendo la rendición de cuentas ,la consulta, reporte y planteamiento de inquietudes en relación con las decisiones y aspectos del SIGCMA.",null,null,null,null,null,null,null,null,null,null,null,null,null,null,null,null,null,null,null,{"$f":"IFERROR(#REF!,\" \")","v":" "},{"$f":"IFERROR(#REF!,\"\")","v":""},{"$f":"IFERROR(#REF!,\"\")","v":""},"","",{"$f":"IFERROR(#REF!,\"\")","v":""},"",{"$f":"IFERROR(#REF!,\"\")","v":""},{"$f":"IFERROR(#REF!,\"\")","v":""},{"$f":"_xlfn.CONCAT(\"Trimestre 1\",CHAR(10),IFERROR(#REF!,\"\"))","v":{"$error":"#NAME?"}},{"$f":"_xlfn.CONCAT(\"Trimestre 1\",CHAR(10),IFERROR(#REF!,\"\"))","v":{"$error":"#NAME?"}},{"$f":"_xlfn.CONCAT(\"Trimestre 1\",CHAR(10),IFERROR(#REF!,\"\"))","v":{"$error":"#NAME?"}},{"$f":"_xlfn.CONCAT(\"Trimestre 1\",CHAR(10),IFERROR(#REF!,\"\"))","v":{"$error":"#NAME?"}},{"$f":"_xlfn.CONCAT(\"Trimestre 1\",CHAR(10),IFERROR(#REF!,\"\"))","v":{"$error":"#NAME?"}}]
[null,null,null,null,null,null,null,null,null,null,null,null,null,null,null,null,null,null,null,null,null,null,null,null,null,{"$f":"IFERROR(#REF!,\" \")","v":" "},{"$f":"IFERROR(#REF!,\"\")","v":""},{"$f":"IFERROR(#REF!,\"\")","v":""},"","",{"$f":"IFERROR(#REF!,\"\")","v":""},"",{"$f":"IFERROR(#REF!,\"\")","v":""},{"$f":"IFERROR(#REF!,\"\")","v":""},{"$f":"_xlfn.CONCAT(\"Trimestre 1\",CHAR(10),IFERROR(#REF!,\"\"))","v":{"$error":"#NAME?"}},{"$f":"_xlfn.CONCAT(\"Trimestre 1\",CHAR(10),IFERROR(#REF!,\"\"))","v":{"$error":"#NAME?"}},{"$f":"_xlfn.CONCAT(\"Trimestre 1\",CHAR(10),IFERROR(#REF!,\"\"))","v":{"$error":"#NAME?"}},{"$f":"_xlfn.CONCAT(\"Trimestre 1\",CHAR(10),IFERROR(#REF!,\"\"))","v":{"$error":"#NAME?"}},{"$f":"_xlfn.CONCAT(\"Trimestre 1\",CHAR(10),IFERROR(#REF!,\"\"))","v":{"$error":"#NAME?"}}]
[null,null,null,null,null,null,null,null,null,null,null,null,null,null,null,null,null,null,null,null,null,null,null,null,null,{"$f":"IFERROR(#REF!,\" \")","v":" "},{"$f":"IFERROR(#REF!,\"\")","v":""},{"$f":"IFERROR(#REF!,\"\")","v":""},"","",{"$f":"IFERROR(#REF!,\"\")","v":""},"",{"$f":"IFERROR(#REF!,\"\")","v":""},{"$f":"IFERROR(#REF!,\"\")","v":""},{"$f":"_xlfn.CONCAT(\"Trimestre 1\",CHAR(10),IFERROR(#REF!,\"\"))","v":{"$error":"#NAME?"}},{"$f":"_xlfn.CONCAT(\"Trimestre 1\",CHAR(10),IFERROR(#REF!,\"\"))","v":{"$error":"#NAME?"}},{"$f":"_xlfn.CONCAT(\"Trimestre 1\",CHAR(10),IFERROR(#REF!,\"\"))","v":{"$error":"#NAME?"}},{"$f":"_xlfn.CONCAT(\"Trimestre 1\",CHAR(10),IFERROR(#REF!,\"\"))","v":{"$error":"#NAME?"}},{"$f":"_xlfn.CONCAT(\"Trimestre 1\",CHAR(10),IFERROR(#REF!,\"\"))","v":{"$error":"#NAME?"}}]
[null,null,null,null,null,null,null,null,null,null,null,null,null,null,null,null,null,null,null,null,null,null,null,null,null,{"$f":"IFERROR(#REF!,\" \")","v":" "},{"$f":"IFERROR(#REF!,\"\")","v":""},{"$f":"IFERROR(#REF!,\"\")","v":""},"","",{"$f":"IFERROR(#REF!,\"\")","v":""},"",{"$f":"IFERROR(#REF!,\"\")","v":""},{"$f":"IFERROR(#REF!,\"\")","v":""},{"$f":"_xlfn.CONCAT(\"Trimestre 1\",CHAR(10),IFERROR(#REF!,\"\"))","v":{"$error":"#NAME?"}},{"$f":"_xlfn.CONCAT(\"Trimestre 1\",CHAR(10),IFERROR(#REF!,\"\"))","v":{"$error":"#NAME?"}},{"$f":"_xlfn.CONCAT(\"Trimestre 1\",CHAR(10),IFERROR(#REF!,\"\"))","v":{"$error":"#NAME?"}},{"$f":"_xlfn.CONCAT(\"Trimestre 1\",CHAR(10),IFERROR(#REF!,\"\"))","v":{"$error":"#NAME?"}},{"$f":"_xlfn.CONCAT(\"Trimestre 1\",CHAR(10),IFERROR(#REF!,\"\"))","v":{"$error":"#NAME?"}}]
[null,null,null,null,null,null,null,null,null,null,null,null,null,null,null,null,null,null,null,null,null,null,null,null,null,{"$f":"IFERROR(#REF!,\" \")","v":" "},{"$f":"IFERROR(#REF!,\"\")","v":""},{"$f":"IFERROR(#REF!,\"\")","v":""},"","",{"$f":"IFERROR(#REF!,\"\")","v":""},"",{"$f":"IFERROR(#REF!,\"\")","v":""},{"$f":"IFERROR(#REF!,\"\")","v":""},{"$f":"_xlfn.CONCAT(\"Trimestre 1\",CHAR(10),IFERROR(#REF!,\"\"))","v":{"$error":"#NAME?"}},{"$f":"_xlfn.CONCAT(\"Trimestre 1\",CHAR(10),IFERROR(#REF!,\"\"))","v":{"$error":"#NAME?"}},{"$f":"_xlfn.CONCAT(\"Trimestre 1\",CHAR(10),IFERROR(#REF!,\"\"))","v":{"$error":"#NAME?"}},{"$f":"_xlfn.CONCAT(\"Trimestre 1\",CHAR(10),IFERROR(#REF!,\"\"))","v":{"$error":"#NAME?"}},{"$f":"_xlfn.CONCAT(\"Trimestre 1\",CHAR(10),IFERROR(#REF!,\"\"))","v":{"$error":"#NAME?"}}]
[null,null,null,null,null,null,null,null,null,null,null,null,null,null,null,null,null,null,null,null,null,null,null,null,null,{"$f":"IFERROR(#REF!,\" \")","v":" "},{"$f":"IFERROR(#REF!,\"\")","v":""},{"$f":"IFERROR(#REF!,\"\")","v":""},"","",{"$f":"IFERROR(#REF!,\"\")","v":""},"",{"$f":"IFERROR(#REF!,\"\")","v":""},{"$f":"IFERROR(#REF!,\"\")","v":""},{"$f":"_xlfn.CONCAT(\"Trimestre 1\",CHAR(10),IFERROR(#REF!,\"\"))","v":{"$error":"#NAME?"}},{"$f":"_xlfn.CONCAT(\"Trimestre 1\",CHAR(10),IFERROR(#REF!,\"\"))","v":{"$error":"#NAME?"}},{"$f":"_xlfn.CONCAT(\"Trimestre 1\",CHAR(10),IFERROR(#REF!,\"\"))","v":{"$error":"#NAME?"}},{"$f":"_xlfn.CONCAT(\"Trimestre 1\",CHAR(10),IFERROR(#REF!,\"\"))","v":{"$error":"#NAME?"}},{"$f":"_xlfn.CONCAT(\"Trimestre 1\",CHAR(10),IFERROR(#REF!,\"\"))","v":{"$error":"#NAME?"}}]
[null,null,null,null,null,null,null,null,null,null,null,null,null,null,null,null,null,null,null,null,null,null,null,null,null,{"$f":"IFERROR(#REF!,\" \")","v":" "},{"$f":"IFERROR(#REF!,\"\")","v":""},{"$f":"IFERROR(#REF!,\"\")","v":""},"","",{"$f":"IFERROR(#REF!,\"\")","v":""},"",{"$f":"IFERROR(#REF!,\"\")","v":""},{"$f":"IFERROR(#REF!,\"\")","v":""},{"$f":"_xlfn.CONCAT(\"Trimestre 1\",CHAR(10),IFERROR(#REF!,\"\"))","v":{"$error":"#NAME?"}},{"$f":"_xlfn.CONCAT(\"Trimestre 1\",CHAR(10),IFERROR(#REF!,\"\"))","v":{"$error":"#NAME?"}},{"$f":"_xlfn.CONCAT(\"Trimestre 1\",CHAR(10),IFERROR(#REF!,\"\"))","v":{"$error":"#NAME?"}},{"$f":"_xlfn.CONCAT(\"Trimestre 1\",CHAR(10),IFERROR(#REF!,\"\"))","v":{"$error":"#NAME?"}},{"$f":"_xlfn.CONCAT(\"Trimestre 1\",CHAR(10),IFERROR(#REF!,\"\"))","v":{"$error":"#NAME?"}}]
[null,null,null,null,null,null,null,null,null,null,null,null,null,null,null,null,null,null,null,null,null,null,null,null,null,{"$f":"IFERROR(#REF!,\" \")","v":" "},{"$f":"IFERROR(#REF!,\"\")","v":""},{"$f":"IFERROR(#REF!,\"\")","v":""},"","",{"$f":"IFERROR(#REF!,\"\")","v":""},"",{"$f":"IFERROR(#REF!,\"\")","v":""},{"$f":"IFERROR(#REF!,\"\")","v":""},{"$f":"_xlfn.CONCAT(\"Trimestre 1\",CHAR(10),IFERROR(#REF!,\"\"))","v":{"$error":"#NAME?"}},{"$f":"_xlfn.CONCAT(\"Trimestre 1\",CHAR(10),IFERROR(#REF!,\"\"))","v":{"$error":"#NAME?"}},{"$f":"_xlfn.CONCAT(\"Trimestre 1\",CHAR(10),IFERROR(#REF!,\"\"))","v":{"$error":"#NAME?"}},{"$f":"_xlfn.CONCAT(\"Trimestre 1\",CHAR(10),IFERROR(#REF!,\"\"))","v":{"$error":"#NAME?"}},{"$f":"_xlfn.CONCAT(\"Trimestre 1\",CHAR(10),IFERROR(#REF!,\"\"))","v":{"$error":"#NAME?"}}]
[null,null,null,null,null,null,null,null,null,null,null,null,null,null,null,null,null,null,null,null,null,null,null,null,null,{"$f":"IFERROR(#REF!,\" \")","v":" "},{"$f":"IFERROR(#REF!,\"\")","v":""},{"$f":"IFERROR(#REF!,\"\")","v":""},"","",{"$f":"IFERROR(#REF!,\"\")","v":""},"",{"$f":"IFERROR(#REF!,\"\")","v":""},{"$f":"IFERROR(#REF!,\"\")","v":""},{"$f":"_xlfn.CONCAT(\"Trimestre 1\",CHAR(10),IFERROR(#REF!,\"\"))","v":{"$error":"#NAME?"}},{"$f":"_xlfn.CONCAT(\"Trimestre 1\",CHAR(10),IFERROR(#REF!,\"\"))","v":{"$error":"#NAME?"}},{"$f":"_xlfn.CONCAT(\"Trimestre 1\",CHAR(10),IFERROR(#REF!,\"\"))","v":{"$error":"#NAME?"}},{"$f":"_xlfn.CONCAT(\"Trimestre 1\",CHAR(10),IFERROR(#REF!,\"\"))","v":{"$error":"#NAME?"}},{"$f":"_xlfn.CONCAT(\"Trimestre 1\",CHAR(10),IFERROR(#REF!,\"\"))","v":{"$error":"#NAME?"}}]
[null,null,null,null,null,null,null,null,null,null,null,null,null,null,null,null,null,null,null,null,null,null,null,null,null,{"$f":"IFERROR(#REF!,\" \")","v":" "},{"$f":"IFERROR(#REF!,\"\")","v":""},{"$f":"IFERROR(#REF!,\"\")","v":""},"","",{"$f":"IFERROR(#REF!,\"\")","v":""},"",{"$f":"IFERROR(#REF!,\"\")","v":""},{"$f":"IFERROR(#REF!,\"\")","v":""},{"$f":"_xlfn.CONCAT(\"Trimestre 1\",CHAR(10),IFERROR(#REF!,\"\"))","v":{"$error":"#NAME?"}},{"$f":"_xlfn.CONCAT(\"Trimestre 1\",CHAR(10),IFERROR(#REF!,\"\"))","v":{"$error":"#NAME?"}},{"$f":"_xlfn.CONCAT(\"Trimestre 1\",CHAR(10),IFERROR(#REF!,\"\"))","v":{"$error":"#NAME?"}},{"$f":"_xlfn.CONCAT(\"Trimestre 1\",CHAR(10),IFERROR(#REF!,\"\"))","v":{"$error":"#NAME?"}},{"$f":"_xlfn.CONCAT(\"Trimestre 1\",CHAR(10),IFERROR(#REF!,\"\"))","v":{"$error":"#NAME?"}}]
[null,null,"4. Aumentar la confianza, la cercanía y acceso a los servicios de la Rama Judicial a través, entre otros, de una comunicación clara y asertiva con la ciudadanía.","Satisfacción de la ciudadanía con la administración de justicia","% de satisfacción de la ciudadanía alto o muy alto con la administraci ón de justicia","3. Fomentar la transparencia y la participación generando lineamientos y promoviendo la rendición de cuentas ,la consulta, reporte y planteamiento de inquietudes en relación con las decisiones y aspectos del SIGCMA.",null,null,null,null,null,null,null,null,null,null,null,null,null,null,null,null,null,null,null,{"$f":"IFERROR(#REF!,\" \")","v":" "},{"$f":"IFERROR(#REF!,\"\")","v":""},{"$f":"IFERROR(#REF!,\"\")","v":""},"","",{"$f":"IFERROR(#REF!,\"\")","v":""},"",{"$f":"IFERROR(#REF!,\"\")","v":""},{"$f":"IFERROR(#REF!,\"\")","v":""},{"$f":"_xlfn.CONCAT(\"Trimestre 1\",CHAR(10),IFERROR(#REF!,\"\"))","v":{"$error":"#NAME?"}},{"$f":"_xlfn.CONCAT(\"Trimestre 1\",CHAR(10),IFERROR(#REF!,\"\"))","v":{"$error":"#NAME?"}},{"$f":"_xlfn.CONCAT(\"Trimestre 1\",CHAR(10),IFERROR(#REF!,\"\"))","v":{"$error":"#NAME?"}},{"$f":"_xlfn.CONCAT(\"Trimestre 1\",CHAR(10),IFERROR(#REF!,\"\"))","v":{"$error":"#NAME?"}},{"$f":"_xlfn.CONCAT(\"Trimestre 1\",CHAR(10),IFERROR(#REF!,\"\"))","v":{"$error":"#NAME?"}}]
[null,null,null,null,null,null,null,null,null,null,null,null,null,null,null,null,null,null,null,null,null,null,null,null,null,{"$f":"IFERROR(#REF!,\" \")","v":" "},{"$f":"IFERROR(#REF!,\"\")","v":""},{"$f":"IFERROR(#REF!,\"\")","v":""},"","",{"$f":"IFERROR(#REF!,\"\")","v":""},"",{"$f":"IFERROR(#REF!,\"\")","v":""},{"$f":"IFERROR(#REF!,\"\")","v":""},{"$f":"_xlfn.CONCAT(\"Trimestre 1\",CHAR(10),IFERROR(#REF!,\"\"))","v":{"$error":"#NAME?"}},{"$f":"_xlfn.CONCAT(\"Trimestre 1\",CHAR(10),IFERROR(#REF!,\"\"))","v":{"$error":"#NAME?"}},{"$f":"_xlfn.CONCAT(\"Trimestre 1\",CHAR(10),IFERROR(#REF!,\"\"))","v":{"$error":"#NAME?"}},{"$f":"_xlfn.CONCAT(\"Trimestre 1\",CHAR(10),IFERROR(#REF!,\"\"))","v":{"$error":"#NAME?"}},{"$f":"_xlfn.CONCAT(\"Trimestre 1\",CHAR(10),IFERROR(#REF!,\"\"))","v":{"$error":"#NAME?"}}]
[null,null,null,null,null,null,null,null,null,null,null,null,null,null,null,null,null,null,null,null,null,null,null,null,null,{"$f":"IFERROR(#REF!,\" \")","v":" "},{"$f":"IFERROR(#REF!,\"\")","v":""},{"$f":"IFERROR(#REF!,\"\")","v":""},"","",{"$f":"IFERROR(#REF!,\"\")","v":""},"",{"$f":"IFERROR(#REF!,\"\")","v":""},{"$f":"IFERROR(#REF!,\"\")","v":""},{"$f":"_xlfn.CONCAT(\"Trimestre 1\",CHAR(10),IFERROR(#REF!,\"\"))","v":{"$error":"#NAME?"}},{"$f":"_xlfn.CONCAT(\"Trimestre 1\",CHAR(10),IFERROR(#REF!,\"\"))","v":{"$error":"#NAME?"}},{"$f":"_xlfn.CONCAT(\"Trimestre 1\",CHAR(10),IFERROR(#REF!,\"\"))","v":{"$error":"#NAME?"}},{"$f":"_xlfn.CONCAT(\"Trimestre 1\",CHAR(10),IFERROR(#REF!,\"\"))","v":{"$error":"#NAME?"}},{"$f":"_xlfn.CONCAT(\"Trimestre 1\",CHAR(10),IFERROR(#REF!,\"\"))","v":{"$error":"#NAME?"}}]
[null,null,null,null,null,null,null,null,null,null,null,null,null,null,null,null,null,null,null,null,null,null,null,null,null,{"$f":"IFERROR(#REF!,\" \")","v":" "},{"$f":"IFERROR(#REF!,\"\")","v":""},{"$f":"IFERROR(#REF!,\"\")","v":""},"","",{"$f":"IFERROR(#REF!,\"\")","v":""},"",{"$f":"IFERROR(#REF!,\"\")","v":""},{"$f":"IFERROR(#REF!,\"\")","v":""},{"$f":"_xlfn.CONCAT(\"Trimestre 1\",CHAR(10),IFERROR(#REF!,\"\"))","v":{"$error":"#NAME?"}},{"$f":"_xlfn.CONCAT(\"Trimestre 1\",CHAR(10),IFERROR(#REF!,\"\"))","v":{"$error":"#NAME?"}},{"$f":"_xlfn.CONCAT(\"Trimestre 1\",CHAR(10),IFERROR(#REF!,\"\"))","v":{"$error":"#NAME?"}},{"$f":"_xlfn.CONCAT(\"Trimestre 1\",CHAR(10),IFERROR(#REF!,\"\"))","v":{"$error":"#NAME?"}},{"$f":"_xlfn.CONCAT(\"Trimestre 1\",CHAR(10),IFERROR(#REF!,\"\"))","v":{"$error":"#NAME?"}}]
[null,null,null,null,null,null,null,null,null,null,null,null,null,null,null,null,null,null,null,null,null,null,null,null,null,{"$f":"IFERROR(#REF!,\" \")","v":" "},{"$f":"IFERROR(#REF!,\"\")","v":""},{"$f":"IFERROR(#REF!,\"\")","v":""},"","",{"$f":"IFERROR(#REF!,\"\")","v":""},"",{"$f":"IFERROR(#REF!,\"\")","v":""},{"$f":"IFERROR(#REF!,\"\")","v":""},{"$f":"_xlfn.CONCAT(\"Trimestre 1\",CHAR(10),IFERROR(#REF!,\"\"))","v":{"$error":"#NAME?"}},{"$f":"_xlfn.CONCAT(\"Trimestre 1\",CHAR(10),IFERROR(#REF!,\"\"))","v":{"$error":"#NAME?"}},{"$f":"_xlfn.CONCAT(\"Trimestre 1\",CHAR(10),IFERROR(#REF!,\"\"))","v":{"$error":"#NAME?"}},{"$f":"_xlfn.CONCAT(\"Trimestre 1\",CHAR(10),IFERROR(#REF!,\"\"))","v":{"$error":"#NAME?"}},{"$f":"_xlfn.CONCAT(\"Trimestre 1\",CHAR(10),IFERROR(#REF!,\"\"))","v":{"$error":"#NAME?"}}]
[null,null,null,null,null,null,null,null,null,null,null,null,null,null,null,null,null,null,null,null,null,null,null,null,null,{"$f":"IFERROR(#REF!,\" \")","v":" "},{"$f":"IFERROR(#REF!,\"\")","v":""},{"$f":"IFERROR(#REF!,\"\")","v":""},"","",{"$f":"IFERROR(#REF!,\"\")","v":""},"",{"$f":"IFERROR(#REF!,\"\")","v":""},{"$f":"IFERROR(#REF!,\"\")","v":""},{"$f":"_xlfn.CONCAT(\"Trimestre 1\",CHAR(10),IFERROR(#REF!,\"\"))","v":{"$error":"#NAME?"}},{"$f":"_xlfn.CONCAT(\"Trimestre 1\",CHAR(10),IFERROR(#REF!,\"\"))","v":{"$error":"#NAME?"}},{"$f":"_xlfn.CONCAT(\"Trimestre 1\",CHAR(10),IFERROR(#REF!,\"\"))","v":{"$error":"#NAME?"}},{"$f":"_xlfn.CONCAT(\"Trimestre 1\",CHAR(10),IFERROR(#REF!,\"\"))","v":{"$error":"#NAME?"}},{"$f":"_xlfn.CONCAT(\"Trimestre 1\",CHAR(10),IFERROR(#REF!,\"\"))","v":{"$error":"#NAME?"}}]
[null,null,null,null,null,null,null,null,null,null,null,null,null,null,null,null,null,null,null,null,null,null,null,null,null,{"$f":"IFERROR(#REF!,\" \")","v":" "},{"$f":"IFERROR(#REF!,\"\")","v":""},{"$f":"IFERROR(#REF!,\"\")","v":""},"","",{"$f":"IFERROR(#REF!,\"\")","v":""},"",{"$f":"IFERROR(#REF!,\"\")","v":""},{"$f":"IFERROR(#REF!,\"\")","v":""},{"$f":"_xlfn.CONCAT(\"Trimestre 1\",CHAR(10),IFERROR(#REF!,\"\"))","v":{"$error":"#NAME?"}},{"$f":"_xlfn.CONCAT(\"Trimestre 1\",CHAR(10),IFERROR(#REF!,\"\"))","v":{"$error":"#NAME?"}},{"$f":"_xlfn.CONCAT(\"Trimestre 1\",CHAR(10),IFERROR(#REF!,\"\"))","v":{"$error":"#NAME?"}},{"$f":"_xlfn.CONCAT(\"Trimestre 1\",CHAR(10),IFERROR(#REF!,\"\"))","v":{"$error":"#NAME?"}},{"$f":"_xlfn.CONCAT(\"Trimestre 1\",CHAR(10),IFERROR(#REF!,\"\"))","v":{"$error":"#NAME?"}}]
[null,null,null,null,null,null,null,null,null,null,null,null,null,null,null,null,null,null,null,null,null,null,null,null,null,{"$f":"IFERROR(#REF!,\" \")","v":" "},{"$f":"IFERROR(#REF!,\"\")","v":""},{"$f":"IFERROR(#REF!,\"\")","v":""},"","",{"$f":"IFERROR(#REF!,\"\")","v":""},"",{"$f":"IFERROR(#REF!,\"\")","v":""},{"$f":"IFERROR(#REF!,\"\")","v":""},{"$f":"_xlfn.CONCAT(\"Trimestre 1\",CHAR(10),IFERROR(#REF!,\"\"))","v":{"$error":"#NAME?"}},{"$f":"_xlfn.CONCAT(\"Trimestre 1\",CHAR(10),IFERROR(#REF!,\"\"))","v":{"$error":"#NAME?"}},{"$f":"_xlfn.CONCAT(\"Trimestre 1\",CHAR(10),IFERROR(#REF!,\"\"))","v":{"$error":"#NAME?"}},{"$f":"_xlfn.CONCAT(\"Trimestre 1\",CHAR(10),IFERROR(#REF!,\"\"))","v":{"$error":"#NAME?"}},{"$f":"_xlfn.CONCAT(\"Trimestre 1\",CHAR(10),IFERROR(#REF!,\"\"))","v":{"$error":"#NAME?"}}]
[null,null,null,null,null,null,null,null,null,null,null,null,null,null,null,null,null,null,null,null,null,null,null,null,null,{"$f":"IFERROR(#REF!,\" \")","v":" "},{"$f":"IFERROR(#REF!,\"\")","v":""},{"$f":"IFERROR(#REF!,\"\")","v":""},"","",{"$f":"IFERROR(#REF!,\"\")","v":""},"",{"$f":"IFERROR(#REF!,\"\")","v":""},{"$f":"IFERROR(#REF!,\"\")","v":""},{"$f":"_xlfn.CONCAT(\"Trimestre 1\",CHAR(10),IFERROR(#REF!,\"\"))","v":{"$error":"#NAME?"}},{"$f":"_xlfn.CONCAT(\"Trimestre 1\",CHAR(10),IFERROR(#REF!,\"\"))","v":{"$error":"#NAME?"}},{"$f":"_xlfn.CONCAT(\"Trimestre 1\",CHAR(10),IFERROR(#REF!,\"\"))","v":{"$error":"#NAME?"}},{"$f":"_xlfn.CONCAT(\"Trimestre 1\",CHAR(10),IFERROR(#REF!,\"\"))","v":{"$error":"#NAME?"}},{"$f":"_xlfn.CONCAT(\"Trimestre 1\",CHAR(10),IFERROR(#REF!,\"\"))","v":{"$error":"#NAME?"}}]
[null,null,null,null,null,null,null,null,null,null,null,null,null,null,null,null,null,null,null,null,null,null,null,null,null,{"$f":"IFERROR(#REF!,\" \")","v":" "},{"$f":"IFERROR(#REF!,\"\")","v":""},{"$f":"IFERROR(#REF!,\"\")","v":""},"","",{"$f":"IFERROR(#REF!,\"\")","v":""},"",{"$f":"IFERROR(#REF!,\"\")","v":""},{"$f":"IFERROR(#REF!,\"\")","v":""},{"$f":"_xlfn.CONCAT(\"Trimestre 1\",CHAR(10),IFERROR(#REF!,\"\"))","v":{"$error":"#NAME?"}},{"$f":"_xlfn.CONCAT(\"Trimestre 1\",CHAR(10),IFERROR(#REF!,\"\"))","v":{"$error":"#NAME?"}},{"$f":"_xlfn.CONCAT(\"Trimestre 1\",CHAR(10),IFERROR(#REF!,\"\"))","v":{"$error":"#NAME?"}},{"$f":"_xlfn.CONCAT(\"Trimestre 1\",CHAR(10),IFERROR(#REF!,\"\"))","v":{"$error":"#NAME?"}},{"$f":"_xlfn.CONCAT(\"Trimestre 1\",CHAR(10),IFERROR(#REF!,\"\"))","v":{"$error":"#NAME?"}}]
[null,null,"5. Prevenir fenómenos asociados con actos de corrupción en la Rama Judicial y reducir las experiencias de corrupción de usuarios y servidores judiciales.","Cumplimiento del Plan Anticorrupción y de Atención al Ciudadano de la Rama Judicial","# Actividades cumplidas del PAAC/# Actividades programada s del PAAC*100",null,null,null,null,null,null,null,null,null,null,null,null,null,null,null,null,null,null,null,null,{"$f":"IFERROR(#REF!,\" \")","v":" "},{"$f":"IFERROR(#REF!,\"\")","v":""},{"$f":"IFERROR(#REF!,\"\")","v":""},"","",{"$f":"IFERROR(#REF!,\"\")","v":""},"",{"$f":"IFERROR(#REF!,\"\")","v":""},{"$f":"IFERROR(#REF!,\"\")","v":""},{"$f":"_xlfn.CONCAT(\"Trimestre 1\",CHAR(10),IFERROR(#REF!,\"\"))","v":{"$error":"#NAME?"}},{"$f":"_xlfn.CONCAT(\"Trimestre 1\",CHAR(10),IFERROR(#REF!,\"\"))","v":{"$error":"#NAME?"}},{"$f":"_xlfn.CONCAT(\"Trimestre 1\",CHAR(10),IFERROR(#REF!,\"\"))","v":{"$error":"#NAME?"}},{"$f":"_xlfn.CONCAT(\"Trimestre 1\",CHAR(10),IFERROR(#REF!,\"\"))","v":{"$error":"#NAME?"}},{"$f":"_xlfn.CONCAT(\"Trimestre 1\",CHAR(10),IFERROR(#REF!,\"\"))","v":{"$error":"#NAME?"}}]
[null,null,null,null,null,null,null,null,null,null,null,null,null,null,null,null,null,null,null,null,null,null,null,null,null,{"$f":"IFERROR(#REF!,\" \")","v":" "},{"$f":"IFERROR(#REF!,\"\")","v":""},{"$f":"IFERROR(#REF!,\"\")","v":""},"","",{"$f":"IFERROR(#REF!,\"\")","v":""},"",{"$f":"IFERROR(#REF!,\"\")","v":""},{"$f":"IFERROR(#REF!,\"\")","v":""},{"$f":"_xlfn.CONCAT(\"Trimestre 1\",CHAR(10),IFERROR(#REF!,\"\"))","v":{"$error":"#NAME?"}},{"$f":"_xlfn.CONCAT(\"Trimestre 1\",CHAR(10),IFERROR(#REF!,\"\"))","v":{"$error":"#NAME?"}},{"$f":"_xlfn.CONCAT(\"Trimestre 1\",CHAR(10),IFERROR(#REF!,\"\"))","v":{"$error":"#NAME?"}},{"$f":"_xlfn.CONCAT(\"Trimestre 1\",CHAR(10),IFERROR(#REF!,\"\"))","v":{"$error":"#NAME?"}},{"$f":"_xlfn.CONCAT(\"Trimestre 1\",CHAR(10),IFERROR(#REF!,\"\"))","v":{"$error":"#NAME?"}}]
[null,null,null,null,null,null,null,null,null,null,null,null,null,null,null,null,null,null,null,null,null,null,null,null,null,{"$f":"IFERROR(#REF!,\" \")","v":" "},{"$f":"IFERROR(#REF!,\"\")","v":""},{"$f":"IFERROR(#REF!,\"\")","v":""},"","",{"$f":"IFERROR(#REF!,\"\")","v":""},"",{"$f":"IFERROR(#REF!,\"\")","v":""},{"$f":"IFERROR(#REF!,\"\")","v":""},{"$f":"_xlfn.CONCAT(\"Trimestre 1\",CHAR(10),IFERROR(#REF!,\"\"))","v":{"$error":"#NAME?"}},{"$f":"_xlfn.CONCAT(\"Trimestre 1\",CHAR(10),IFERROR(#REF!,\"\"))","v":{"$error":"#NAME?"}},{"$f":"_xlfn.CONCAT(\"Trimestre 1\",CHAR(10),IFERROR(#REF!,\"\"))","v":{"$error":"#NAME?"}},{"$f":"_xlfn.CONCAT(\"Trimestre 1\",CHAR(10),IFERROR(#REF!,\"\"))","v":{"$error":"#NAME?"}},{"$f":"_xlfn.CONCAT(\"Trimestre 1\",CHAR(10),IFERROR(#REF!,\"\"))","v":{"$error":"#NAME?"}}]
[null,null,null,null,null,null,null,null,null,null,null,null,null,null,null,null,null,null,null,null,null,null,null,null,null,{"$f":"IFERROR(#REF!,\" \")","v":" "},{"$f":"IFERROR(#REF!,\"\")","v":""},{"$f":"IFERROR(#REF!,\"\")","v":""},"","",{"$f":"IFERROR(#REF!,\"\")","v":""},"",{"$f":"IFERROR(#REF!,\"\")","v":""},{"$f":"IFERROR(#REF!,\"\")","v":""},{"$f":"_xlfn.CONCAT(\"Trimestre 1\",CHAR(10),IFERROR(#REF!,\"\"))","v":{"$error":"#NAME?"}},{"$f":"_xlfn.CONCAT(\"Trimestre 1\",CHAR(10),IFERROR(#REF!,\"\"))","v":{"$error":"#NAME?"}},{"$f":"_xlfn.CONCAT(\"Trimestre 1\",CHAR(10),IFERROR(#REF!,\"\"))","v":{"$error":"#NAME?"}},{"$f":"_xlfn.CONCAT(\"Trimestre 1\",CHAR(10),IFERROR(#REF!,\"\"))","v":{"$error":"#NAME?"}},{"$f":"_xlfn.CONCAT(\"Trimestre 1\",CHAR(10),IFERROR(#REF!,\"\"))","v":{"$error":"#NAME?"}}]
[null,null,null,null,null,null,null,null,null,null,null,null,null,null,null,null,null,null,null,null,null,null,null,null,null,{"$f":"IFERROR(#REF!,\" \")","v":" "},{"$f":"IFERROR(#REF!,\"\")","v":""},{"$f":"IFERROR(#REF!,\"\")","v":""},"","",{"$f":"IFERROR(#REF!,\"\")","v":""},"",{"$f":"IFERROR(#REF!,\"\")","v":""},{"$f":"IFERROR(#REF!,\"\")","v":""},{"$f":"_xlfn.CONCAT(\"Trimestre 1\",CHAR(10),IFERROR(#REF!,\"\"))","v":{"$error":"#NAME?"}},{"$f":"_xlfn.CONCAT(\"Trimestre 1\",CHAR(10),IFERROR(#REF!,\"\"))","v":{"$error":"#NAME?"}},{"$f":"_xlfn.CONCAT(\"Trimestre 1\",CHAR(10),IFERROR(#REF!,\"\"))","v":{"$error":"#NAME?"}},{"$f":"_xlfn.CONCAT(\"Trimestre 1\",CHAR(10),IFERROR(#REF!,\"\"))","v":{"$error":"#NAME?"}},{"$f":"_xlfn.CONCAT(\"Trimestre 1\",CHAR(10),IFERROR(#REF!,\"\"))","v":{"$error":"#NAME?"}}]
[null,null,null,null,null,null,null,null,null,null,null,null,null,null,null,null,null,null,null,null,null,null,null,null,null,{"$f":"IFERROR(#REF!,\" \")","v":" "},{"$f":"IFERROR(#REF!,\"\")","v":""},{"$f":"IFERROR(#REF!,\"\")","v":""},"","",{"$f":"IFERROR(#REF!,\"\")","v":""},"",{"$f":"IFERROR(#REF!,\"\")","v":""},{"$f":"IFERROR(#REF!,\"\")","v":""},{"$f":"_xlfn.CONCAT(\"Trimestre 1\",CHAR(10),IFERROR(#REF!,\"\"))","v":{"$error":"#NAME?"}},{"$f":"_xlfn.CONCAT(\"Trimestre 1\",CHAR(10),IFERROR(#REF!,\"\"))","v":{"$error":"#NAME?"}},{"$f":"_xlfn.CONCAT(\"Trimestre 1\",CHAR(10),IFERROR(#REF!,\"\"))","v":{"$error":"#NAME?"}},{"$f":"_xlfn.CONCAT(\"Trimestre 1\",CHAR(10),IFERROR(#REF!,\"\"))","v":{"$error":"#NAME?"}},{"$f":"_xlfn.CONCAT(\"Trimestre 1\",CHAR(10),IFERROR(#REF!,\"\"))","v":{"$error":"#NAME?"}}]
[null,null,null,null,null,null,null,null,null,null,null,null,null,null,null,null,null,null,null,null,null,null,null,null,null,{"$f":"IFERROR(#REF!,\" \")","v":" "},{"$f":"IFERROR(#REF!,\"\")","v":""},{"$f":"IFERROR(#REF!,\"\")","v":""},"","",{"$f":"IFERROR(#REF!,\"\")","v":""},"",{"$f":"IFERROR(#REF!,\"\")","v":""},{"$f":"IFERROR(#REF!,\"\")","v":""},{"$f":"_xlfn.CONCAT(\"Trimestre 1\",CHAR(10),IFERROR(#REF!,\"\"))","v":{"$error":"#NAME?"}},{"$f":"_xlfn.CONCAT(\"Trimestre 1\",CHAR(10),IFERROR(#REF!,\"\"))","v":{"$error":"#NAME?"}},{"$f":"_xlfn.CONCAT(\"Trimestre 1\",CHAR(10),IFERROR(#REF!,\"\"))","v":{"$error":"#NAME?"}},{"$f":"_xlfn.CONCAT(\"Trimestre 1\",CHAR(10),IFERROR(#REF!,\"\"))","v":{"$error":"#NAME?"}},{"$f":"_xlfn.CONCAT(\"Trimestre 1\",CHAR(10),IFERROR(#REF!,\"\"))","v":{"$error":"#NAME?"}}]
[null,null,null,null,null,null,null,null,null,null,null,null,null,null,null,null,null,null,null,null,null,null,null,null,null,{"$f":"IFERROR(#REF!,\" \")","v":" "},{"$f":"IFERROR(#REF!,\"\")","v":""},{"$f":"IFERROR(#REF!,\"\")","v":""},"","",{"$f":"IFERROR(#REF!,\"\")","v":""},"",{"$f":"IFERROR(#REF!,\"\")","v":""},{"$f":"IFERROR(#REF!,\"\")","v":""},{"$f":"_xlfn.CONCAT(\"Trimestre 1\",CHAR(10),IFERROR(#REF!,\"\"))","v":{"$error":"#NAME?"}},{"$f":"_xlfn.CONCAT(\"Trimestre 1\",CHAR(10),IFERROR(#REF!,\"\"))","v":{"$error":"#NAME?"}},{"$f":"_xlfn.CONCAT(\"Trimestre 1\",CHAR(10),IFERROR(#REF!,\"\"))","v":{"$error":"#NAME?"}},{"$f":"_xlfn.CONCAT(\"Trimestre 1\",CHAR(10),IFERROR(#REF!,\"\"))","v":{"$error":"#NAME?"}},{"$f":"_xlfn.CONCAT(\"Trimestre 1\",CHAR(10),IFERROR(#REF!,\"\"))","v":{"$error":"#NAME?"}}]
[null,null,null,null,null,null,null,null,null,null,null,null,null,null,null,null,null,null,null,null,null,null,null,null,null,{"$f":"IFERROR(#REF!,\" \")","v":" "},{"$f":"IFERROR(#REF!,\"\")","v":""},{"$f":"IFERROR(#REF!,\"\")","v":""},"","",{"$f":"IFERROR(#REF!,\"\")","v":""},"",{"$f":"IFERROR(#REF!,\"\")","v":""},{"$f":"IFERROR(#REF!,\"\")","v":""},{"$f":"_xlfn.CONCAT(\"Trimestre 1\",CHAR(10),IFERROR(#REF!,\"\"))","v":{"$error":"#NAME?"}},{"$f":"_xlfn.CONCAT(\"Trimestre 1\",CHAR(10),IFERROR(#REF!,\"\"))","v":{"$error":"#NAME?"}},{"$f":"_xlfn.CONCAT(\"Trimestre 1\",CHAR(10),IFERROR(#REF!,\"\"))","v":{"$error":"#NAME?"}},{"$f":"_xlfn.CONCAT(\"Trimestre 1\",CHAR(10),IFERROR(#REF!,\"\"))","v":{"$error":"#NAME?"}},{"$f":"_xlfn.CONCAT(\"Trimestre 1\",CHAR(10),IFERROR(#REF!,\"\"))","v":{"$error":"#NAME?"}}]
[null,null,null,null,null,null,null,null,null,null,null,null,null,null,null,null,null,null,null,null,null,null,null,null,null,{"$f":"IFERROR(#REF!,\" \")","v":" "},{"$f":"IFERROR(#REF!,\"\")","v":""},{"$f":"IFERROR(#REF!,\"\")","v":""},"","",{"$f":"IFERROR(#REF!,\"\")","v":""},"",{"$f":"IFERROR(#REF!,\"\")","v":""},{"$f":"IFERROR(#REF!,\"\")","v":""},{"$f":"_xlfn.CONCAT(\"Trimestre 1\",CHAR(10),IFERROR(#REF!,\"\"))","v":{"$error":"#NAME?"}},{"$f":"_xlfn.CONCAT(\"Trimestre 1\",CHAR(10),IFERROR(#REF!,\"\"))","v":{"$error":"#NAME?"}},{"$f":"_xlfn.CONCAT(\"Trimestre 1\",CHAR(10),IFERROR(#REF!,\"\"))","v":{"$error":"#NAME?"}},{"$f":"_xlfn.CONCAT(\"Trimestre 1\",CHAR(10),IFERROR(#REF!,\"\"))","v":{"$error":"#NAME?"}},{"$f":"_xlfn.CONCAT(\"Trimestre 1\",CHAR(10),IFERROR(#REF!,\"\"))","v":{"$error":"#NAME?"}}]
[null,null,"6. Promover la rendición de cuentas y la colaboración real con la ciudadanía como fundamento para diseñar acciones de mejoramiento del acceso a la justicia.","Estrategias para implementar la colaboración real con la ciudadanía en el marco de la \"justicia abierta\" implementadas","% de implementa ción de las estrategias de colaboració n real con la ciudadanía en el marco de la \"justicia abierta\" definidas para cada anualidad",null,null,null,null,null,null,null,null,null,null,null,null,null,null,null,null,null,null,null,null,{"$f":"IFERROR(#REF!,\" \")","v":" "},{"$f":"IFERROR(#REF!,\"\")","v":""},{"$f":"IFERROR(#REF!,\"\")","v":""},"","",{"$f":"IFERROR(#REF!,\"\")","v":""},"",{"$f":"IFERROR(#REF!,\"\")","v":""},{"$f":"IFERROR(#REF!,\"\")","v":""},{"$f":"_xlfn.CONCAT(\"Trimestre 1\",CHAR(10),IFERROR(#REF!,\"\"))","v":{"$error":"#NAME?"}},{"$f":"_xlfn.CONCAT(\"Trimestre 1\",CHAR(10),IFERROR(#REF!,\"\"))","v":{"$error":"#NAME?"}},{"$f":"_xlfn.CONCAT(\"Trimestre 1\",CHAR(10),IFERROR(#REF!,\"\"))","v":{"$error":"#NAME?"}},{"$f":"_xlfn.CONCAT(\"Trimestre 1\",CHAR(10),IFERROR(#REF!,\"\"))","v":{"$error":"#NAME?"}},{"$f":"_xlfn.CONCAT(\"Trimestre 1\",CHAR(10),IFERROR(#REF!,\"\"))","v":{"$error":"#NAME?"}}]
[null,null,null,null,null,null,null,null,null,null,null,null,null,null,null,null,null,null,null,null,null,null,null,null,null,{"$f":"IFERROR(#REF!,\" \")","v":" "},{"$f":"IFERROR(#REF!,\"\")","v":""},{"$f":"IFERROR(#REF!,\"\")","v":""},"","",{"$f":"IFERROR(#REF!,\"\")","v":""},"",{"$f":"IFERROR(#REF!,\"\")","v":""},{"$f":"IFERROR(#REF!,\"\")","v":""},{"$f":"_xlfn.CONCAT(\"Trimestre 1\",CHAR(10),IFERROR(#REF!,\"\"))","v":{"$error":"#NAME?"}},{"$f":"_xlfn.CONCAT(\"Trimestre 1\",CHAR(10),IFERROR(#REF!,\"\"))","v":{"$error":"#NAME?"}},{"$f":"_xlfn.CONCAT(\"Trimestre 1\",CHAR(10),IFERROR(#REF!,\"\"))","v":{"$error":"#NAME?"}},{"$f":"_xlfn.CONCAT(\"Trimestre 1\",CHAR(10),IFERROR(#REF!,\"\"))","v":{"$error":"#NAME?"}},{"$f":"_xlfn.CONCAT(\"Trimestre 1\",CHAR(10),IFERROR(#REF!,\"\"))","v":{"$error":"#NAME?"}}]
[null,null,null,null,null,null,null,null,null,null,null,null,null,null,null,null,null,null,null,null,null,null,null,null,null,{"$f":"IFERROR(#REF!,\" \")","v":" "},{"$f":"IFERROR(#REF!,\"\")","v":""},{"$f":"IFERROR(#REF!,\"\")","v":""},"","",{"$f":"IFERROR(#REF!,\"\")","v":""},"",{"$f":"IFERROR(#REF!,\"\")","v":""},{"$f":"IFERROR(#REF!,\"\")","v":""},{"$f":"_xlfn.CONCAT(\"Trimestre 1\",CHAR(10),IFERROR(#REF!,\"\"))","v":{"$error":"#NAME?"}},{"$f":"_xlfn.CONCAT(\"Trimestre 1\",CHAR(10),IFERROR(#REF!,\"\"))","v":{"$error":"#NAME?"}},{"$f":"_xlfn.CONCAT(\"Trimestre 1\",CHAR(10),IFERROR(#REF!,\"\"))","v":{"$error":"#NAME?"}},{"$f":"_xlfn.CONCAT(\"Trimestre 1\",CHAR(10),IFERROR(#REF!,\"\"))","v":{"$error":"#NAME?"}},{"$f":"_xlfn.CONCAT(\"Trimestre 1\",CHAR(10),IFERROR(#REF!,\"\"))","v":{"$error":"#NAME?"}}]
[null,null,null,null,null,null,null,null,null,null,null,null,null,null,null,null,null,null,null,null,null,null,null,null,null,{"$f":"IFERROR(#REF!,\" \")","v":" "},{"$f":"IFERROR(#REF!,\"\")","v":""},{"$f":"IFERROR(#REF!,\"\")","v":""},"","",{"$f":"IFERROR(#REF!,\"\")","v":""},"",{"$f":"IFERROR(#REF!,\"\")","v":""},{"$f":"IFERROR(#REF!,\"\")","v":""},{"$f":"_xlfn.CONCAT(\"Trimestre 1\",CHAR(10),IFERROR(#REF!,\"\"))","v":{"$error":"#NAME?"}},{"$f":"_xlfn.CONCAT(\"Trimestre 1\",CHAR(10),IFERROR(#REF!,\"\"))","v":{"$error":"#NAME?"}},{"$f":"_xlfn.CONCAT(\"Trimestre 1\",CHAR(10),IFERROR(#REF!,\"\"))","v":{"$error":"#NAME?"}},{"$f":"_xlfn.CONCAT(\"Trimestre 1\",CHAR(10),IFERROR(#REF!,\"\"))","v":{"$error":"#NAME?"}},{"$f":"_xlfn.CONCAT(\"Trimestre 1\",CHAR(10),IFERROR(#REF!,\"\"))","v":{"$error":"#NAME?"}}]
[null,null,null,null,null,null,null,null,null,null,null,null,null,null,null,null,null,null,null,null,null,null,null,null,null,{"$f":"IFERROR(#REF!,\" \")","v":" "},{"$f":"IFERROR(#REF!,\"\")","v":""},{"$f":"IFERROR(#REF!,\"\")","v":""},"","",{"$f":"IFERROR(#REF!,\"\")","v":""},"",{"$f":"IFERROR(#REF!,\"\")","v":""},{"$f":"IFERROR(#REF!,\"\")","v":""},{"$f":"_xlfn.CONCAT(\"Trimestre 1\",CHAR(10),IFERROR(#REF!,\"\"))","v":{"$error":"#NAME?"}},{"$f":"_xlfn.CONCAT(\"Trimestre 1\",CHAR(10),IFERROR(#REF!,\"\"))","v":{"$error":"#NAME?"}},{"$f":"_xlfn.CONCAT(\"Trimestre 1\",CHAR(10),IFERROR(#REF!,\"\"))","v":{"$error":"#NAME?"}},{"$f":"_xlfn.CONCAT(\"Trimestre 1\",CHAR(10),IFERROR(#REF!,\"\"))","v":{"$error":"#NAME?"}},{"$f":"_xlfn.CONCAT(\"Trimestre 1\",CHAR(10),IFERROR(#REF!,\"\"))","v":{"$error":"#NAME?"}}]
[null,null,null,null,null,null,null,null,null,null,null,null,null,null,null,null,null,null,null,null,null,null,null,null,null,{"$f":"IFERROR(#REF!,\" \")","v":" "},{"$f":"IFERROR(#REF!,\"\")","v":""},{"$f":"IFERROR(#REF!,\"\")","v":""},"","",{"$f":"IFERROR(#REF!,\"\")","v":""},"",{"$f":"IFERROR(#REF!,\"\")","v":""},{"$f":"IFERROR(#REF!,\"\")","v":""},{"$f":"_xlfn.CONCAT(\"Trimestre 1\",CHAR(10),IFERROR(#REF!,\"\"))","v":{"$error":"#NAME?"}},{"$f":"_xlfn.CONCAT(\"Trimestre 1\",CHAR(10),IFERROR(#REF!,\"\"))","v":{"$error":"#NAME?"}},{"$f":"_xlfn.CONCAT(\"Trimestre 1\",CHAR(10),IFERROR(#REF!,\"\"))","v":{"$error":"#NAME?"}},{"$f":"_xlfn.CONCAT(\"Trimestre 1\",CHAR(10),IFERROR(#REF!,\"\"))","v":{"$error":"#NAME?"}},{"$f":"_xlfn.CONCAT(\"Trimestre 1\",CHAR(10),IFERROR(#REF!,\"\"))","v":{"$error":"#NAME?"}}]
[null,null,null,null,null,null,null,null,null,null,null,null,null,null,null,null,null,null,null,null,null,null,null,null,null,{"$f":"IFERROR(#REF!,\" \")","v":" "},{"$f":"IFERROR(#REF!,\"\")","v":""},{"$f":"IFERROR(#REF!,\"\")","v":""},"","",{"$f":"IFERROR(#REF!,\"\")","v":""},"",{"$f":"IFERROR(#REF!,\"\")","v":""},{"$f":"IFERROR(#REF!,\"\")","v":""},{"$f":"_xlfn.CONCAT(\"Trimestre 1\",CHAR(10),IFERROR(#REF!,\"\"))","v":{"$error":"#NAME?"}},{"$f":"_xlfn.CONCAT(\"Trimestre 1\",CHAR(10),IFERROR(#REF!,\"\"))","v":{"$error":"#NAME?"}},{"$f":"_xlfn.CONCAT(\"Trimestre 1\",CHAR(10),IFERROR(#REF!,\"\"))","v":{"$error":"#NAME?"}},{"$f":"_xlfn.CONCAT(\"Trimestre 1\",CHAR(10),IFERROR(#REF!,\"\"))","v":{"$error":"#NAME?"}},{"$f":"_xlfn.CONCAT(\"Trimestre 1\",CHAR(10),IFERROR(#REF!,\"\"))","v":{"$error":"#NAME?"}}]
[null,null,null,null,null,null,null,null,null,null,null,null,null,null,null,null,null,null,null,null,null,null,null,null,null,{"$f":"IFERROR(#REF!,\" \")","v":" "},{"$f":"IFERROR(#REF!,\"\")","v":""},{"$f":"IFERROR(#REF!,\"\")","v":""},"","",{"$f":"IFERROR(#REF!,\"\")","v":""},"",{"$f":"IFERROR(#REF!,\"\")","v":""},{"$f":"IFERROR(#REF!,\"\")","v":""},{"$f":"_xlfn.CONCAT(\"Trimestre 1\",CHAR(10),IFERROR(#REF!,\"\"))","v":{"$error":"#NAME?"}},{"$f":"_xlfn.CONCAT(\"Trimestre 1\",CHAR(10),IFERROR(#REF!,\"\"))","v":{"$error":"#NAME?"}},{"$f":"_xlfn.CONCAT(\"Trimestre 1\",CHAR(10),IFERROR(#REF!,\"\"))","v":{"$error":"#NAME?"}},{"$f":"_xlfn.CONCAT(\"Trimestre 1\",CHAR(10),IFERROR(#REF!,\"\"))","v":{"$error":"#NAME?"}},{"$f":"_xlfn.CONCAT(\"Trimestre 1\",CHAR(10),IFERROR(#REF!,\"\"))","v":{"$error":"#NAME?"}}]
[null,null,null,null,null,null,null,null,null,null,null,null,null,null,null,null,null,null,null,null,null,null,null,null,null,{"$f":"IFERROR(#REF!,\" \")","v":" "},{"$f":"IFERROR(#REF!,\"\")","v":""},{"$f":"IFERROR(#REF!,\"\")","v":""},"","",{"$f":"IFERROR(#REF!,\"\")","v":""},"",{"$f":"IFERROR(#REF!,\"\")","v":""},{"$f":"IFERROR(#REF!,\"\")","v":""},{"$f":"_xlfn.CONCAT(\"Trimestre 1\",CHAR(10),IFERROR(#REF!,\"\"))","v":{"$error":"#NAME?"}},{"$f":"_xlfn.CONCAT(\"Trimestre 1\",CHAR(10),IFERROR(#REF!,\"\"))","v":{"$error":"#NAME?"}},{"$f":"_xlfn.CONCAT(\"Trimestre 1\",CHAR(10),IFERROR(#REF!,\"\"))","v":{"$error":"#NAME?"}},{"$f":"_xlfn.CONCAT(\"Trimestre 1\",CHAR(10),IFERROR(#REF!,\"\"))","v":{"$error":"#NAME?"}},{"$f":"_xlfn.CONCAT(\"Trimestre 1\",CHAR(10),IFERROR(#REF!,\"\"))","v":{"$error":"#NAME?"}}]
[null,null,null,null,null,null,null,null,null,null,null,null,null,null,null,null,null,null,null,null,null,null,null,null,null,{"$f":"IFERROR(#REF!,\" \")","v":" "},{"$f":"IFERROR(#REF!,\"\")","v":""},{"$f":"IFERROR(#REF!,\"\")","v":""},"","",{"$f":"IFERROR(#REF!,\"\")","v":""},"",{"$f":"IFERROR(#REF!,\"\")","v":""},{"$f":"IFERROR(#REF!,\"\")","v":""},{"$f":"_xlfn.CONCAT(\"Trimestre 1\",CHAR(10),IFERROR(#REF!,\"\"))","v":{"$error":"#NAME?"}},{"$f":"_xlfn.CONCAT(\"Trimestre 1\",CHAR(10),IFERROR(#REF!,\"\"))","v":{"$error":"#NAME?"}},{"$f":"_xlfn.CONCAT(\"Trimestre 1\",CHAR(10),IFERROR(#REF!,\"\"))","v":{"$error":"#NAME?"}},{"$f":"_xlfn.CONCAT(\"Trimestre 1\",CHAR(10),IFERROR(#REF!,\"\"))","v":{"$error":"#NAME?"}},{"$f":"_xlfn.CONCAT(\"Trimestre 1\",CHAR(10),IFERROR(#REF!,\"\"))","v":{"$error":"#NAME?"}}]
[null,null,"7. Continuar la consolidación del SIGCMA, a través de los procesos de formación en modelos de gestión, logrando la implementación y ampliación de este en los esquemas certificados de manera gradual, teniendo en cuenta las capacidades de los diferentes despachos judiciales y dependencias de la Rama Judicial y articulando el enfoque de Arquitectura Empresarial para el desarrollo del PETD a través de la gestión del conocimiento para la gestión del cambio propendiendo por una cultura de la calidad, la transparencia, la rendición de cuentas, la anticorrupción y el antisoborno","Procesos de formación en modelos de gestión aplicados","# de servidores judiciales formados en modelos de gestión de las dependenci as judiciales y administrati vas certificadas en SIGCMA que implementa n el PETD / # total de servidores judiciales de las dependenci as judiciales y administrati vas certificadas en SIGCMA que implementa n el PETD","1. Gestionar el desarrollo de las competencias, la toma de conciencia , la cultura  organizacional  y el compromiso de los  servidores judiciales, contratistas, practicantes y  judicantes de contribuir a generar valor público en la administración de justicia, en el marco de  cumplimiento de los requisitos  aplicables y el comportamiento ético.\n4. Hacer un uso racional de los recursos naturales aplicando los principios y fases de la Economía Circular, para prevenir, mitigar y controlar los impactos ambientales.",null,null,null,null,null,null,null,null,null,null,null,null,null,null,null,null,null,null,null,{"$f":"IFERROR(#REF!,\" \")","v":" "},{"$f":"IFERROR(#REF!,\"\")","v":""},{"$f":"IFERROR(#REF!,\"\")","v":""},"","",{"$f":"IFERROR(#REF!,\"\")","v":""},"",{"$f":"IFERROR(#REF!,\"\")","v":""},{"$f":"IFERROR(#REF!,\"\")","v":""},{"$f":"_xlfn.CONCAT(\"Trimestre 1\",CHAR(10),IFERROR(#REF!,\"\"))","v":{"$error":"#NAME?"}},{"$f":"_xlfn.CONCAT(\"Trimestre 1\",CHAR(10),IFERROR(#REF!,\"\"))","v":{"$error":"#NAME?"}},{"$f":"_xlfn.CONCAT(\"Trimestre 1\",CHAR(10),IFERROR(#REF!,\"\"))","v":{"$error":"#NAME?"}},{"$f":"_xlfn.CONCAT(\"Trimestre 1\",CHAR(10),IFERROR(#REF!,\"\"))","v":{"$error":"#NAME?"}},{"$f":"_xlfn.CONCAT(\"Trimestre 1\",CHAR(10),IFERROR(#REF!,\"\"))","v":{"$error":"#NAME?"}}]
[null,null,null,null,null,null,null,null,null,null,null,null,null,null,null,null,null,null,null,null,null,null,null,null,null,{"$f":"IFERROR(#REF!,\" \")","v":" "},{"$f":"IFERROR(#REF!,\"\")","v":""},{"$f":"IFERROR(#REF!,\"\")","v":""},"","",{"$f":"IFERROR(#REF!,\"\")","v":""},"",{"$f":"IFERROR(#REF!,\"\")","v":""},{"$f":"IFERROR(#REF!,\"\")","v":""},{"$f":"_xlfn.CONCAT(\"Trimestre 1\",CHAR(10),IFERROR(#REF!,\"\"))","v":{"$error":"#NAME?"}},{"$f":"_xlfn.CONCAT(\"Trimestre 1\",CHAR(10),IFERROR(#REF!,\"\"))","v":{"$error":"#NAME?"}},{"$f":"_xlfn.CONCAT(\"Trimestre 1\",CHAR(10),IFERROR(#REF!,\"\"))","v":{"$error":"#NAME?"}},{"$f":"_xlfn.CONCAT(\"Trimestre 1\",CHAR(10),IFERROR(#REF!,\"\"))","v":{"$error":"#NAME?"}},{"$f":"_xlfn.CONCAT(\"Trimestre 1\",CHAR(10),IFERROR(#REF!,\"\"))","v":{"$error":"#NAME?"}}]
[null,null,null,null,null,null,null,null,null,null,null,null,null,null,null,null,null,null,null,null,null,null,null,null,null,{"$f":"IFERROR(#REF!,\" \")","v":" "},{"$f":"IFERROR(#REF!,\"\")","v":""},{"$f":"IFERROR(#REF!,\"\")","v":""},"","",{"$f":"IFERROR(#REF!,\"\")","v":""},"",{"$f":"IFERROR(#REF!,\"\")","v":""},{"$f":"IFERROR(#REF!,\"\")","v":""},{"$f":"_xlfn.CONCAT(\"Trimestre 1\",CHAR(10),IFERROR(#REF!,\"\"))","v":{"$error":"#NAME?"}},{"$f":"_xlfn.CONCAT(\"Trimestre 1\",CHAR(10),IFERROR(#REF!,\"\"))","v":{"$error":"#NAME?"}},{"$f":"_xlfn.CONCAT(\"Trimestre 1\",CHAR(10),IFERROR(#REF!,\"\"))","v":{"$error":"#NAME?"}},{"$f":"_xlfn.CONCAT(\"Trimestre 1\",CHAR(10),IFERROR(#REF!,\"\"))","v":{"$error":"#NAME?"}},{"$f":"_xlfn.CONCAT(\"Trimestre 1\",CHAR(10),IFERROR(#REF!,\"\"))","v":{"$error":"#NAME?"}}]
[null,null,null,null,null,null,null,null,null,null,null,null,null,null,null,null,null,null,null,null,null,null,null,null,null,{"$f":"IFERROR(#REF!,\" \")","v":" "},{"$f":"IFERROR(#REF!,\"\")","v":""},{"$f":"IFERROR(#REF!,\"\")","v":""},"","",{"$f":"IFERROR(#REF!,\"\")","v":""},"",{"$f":"IFERROR(#REF!,\"\")","v":""},{"$f":"IFERROR(#REF!,\"\")","v":""},{"$f":"_xlfn.CONCAT(\"Trimestre 1\",CHAR(10),IFERROR(#REF!,\"\"))","v":{"$error":"#NAME?"}},{"$f":"_xlfn.CONCAT(\"Trimestre 1\",CHAR(10),IFERROR(#REF!,\"\"))","v":{"$error":"#NAME?"}},{"$f":"_xlfn.CONCAT(\"Trimestre 1\",CHAR(10),IFERROR(#REF!,\"\"))","v":{"$error":"#NAME?"}},{"$f":"_xlfn.CONCAT(\"Trimestre 1\",CHAR(10),IFERROR(#REF!,\"\"))","v":{"$error":"#NAME?"}},{"$f":"_xlfn.CONCAT(\"Trimestre 1\",CHAR(10),IFERROR(#REF!,\"\"))","v":{"$error":"#NAME?"}}]
[null,null,null,null,null,null,null,null,null,null,null,null,null,null,null,null,null,null,null,null,null,null,null,null,null,{"$f":"IFERROR(#REF!,\" \")","v":" "},{"$f":"IFERROR(#REF!,\"\")","v":""},{"$f":"IFERROR(#REF!,\"\")","v":""},"","",{"$f":"IFERROR(#REF!,\"\")","v":""},"",{"$f":"IFERROR(#REF!,\"\")","v":""},{"$f":"IFERROR(#REF!,\"\")","v":""},{"$f":"_xlfn.CONCAT(\"Trimestre 1\",CHAR(10),IFERROR(#REF!,\"\"))","v":{"$error":"#NAME?"}},{"$f":"_xlfn.CONCAT(\"Trimestre 1\",CHAR(10),IFERROR(#REF!,\"\"))","v":{"$error":"#NAME?"}},{"$f":"_xlfn.CONCAT(\"Trimestre 1\",CHAR(10),IFERROR(#REF!,\"\"))","v":{"$error":"#NAME?"}},{"$f":"_xlfn.CONCAT(\"Trimestre 1\",CHAR(10),IFERROR(#REF!,\"\"))","v":{"$error":"#NAME?"}},{"$f":"_xlfn.CONCAT(\"Trimestre 1\",CHAR(10),IFERROR(#REF!,\"\"))","v":{"$error":"#NAME?"}}]
[null,null,null,null,null,null,null,null,null,null,null,null,null,null,null,null,null,null,null,null,null,null,null,null,null,{"$f":"IFERROR(#REF!,\" \")","v":" "},{"$f":"IFERROR(#REF!,\"\")","v":""},{"$f":"IFERROR(#REF!,\"\")","v":""},"","",{"$f":"IFERROR(#REF!,\"\")","v":""},"",{"$f":"IFERROR(#REF!,\"\")","v":""},{"$f":"IFERROR(#REF!,\"\")","v":""},{"$f":"_xlfn.CONCAT(\"Trimestre 1\",CHAR(10),IFERROR(#REF!,\"\"))","v":{"$error":"#NAME?"}},{"$f":"_xlfn.CONCAT(\"Trimestre 1\",CHAR(10),IFERROR(#REF!,\"\"))","v":{"$error":"#NAME?"}},{"$f":"_xlfn.CONCAT(\"Trimestre 1\",CHAR(10),IFERROR(#REF!,\"\"))","v":{"$error":"#NAME?"}},{"$f":"_xlfn.CONCAT(\"Trimestre 1\",CHAR(10),IFERROR(#REF!,\"\"))","v":{"$error":"#NAME?"}},{"$f":"_xlfn.CONCAT(\"Trimestre 1\",CHAR(10),IFERROR(#REF!,\"\"))","v":{"$error":"#NAME?"}}]
[null,null,null,null,null,null,null,null,null,null,null,null,null,null,null,null,null,null,null,null,null,null,null,null,null,{"$f":"IFERROR(#REF!,\" \")","v":" "},{"$f":"IFERROR(#REF!,\"\")","v":""},{"$f":"IFERROR(#REF!,\"\")","v":""},"","",{"$f":"IFERROR(#REF!,\"\")","v":""},"",{"$f":"IFERROR(#REF!,\"\")","v":""},{"$f":"IFERROR(#REF!,\"\")","v":""},{"$f":"_xlfn.CONCAT(\"Trimestre 1\",CHAR(10),IFERROR(#REF!,\"\"))","v":{"$error":"#NAME?"}},{"$f":"_xlfn.CONCAT(\"Trimestre 1\",CHAR(10),IFERROR(#REF!,\"\"))","v":{"$error":"#NAME?"}},{"$f":"_xlfn.CONCAT(\"Trimestre 1\",CHAR(10),IFERROR(#REF!,\"\"))","v":{"$error":"#NAME?"}},{"$f":"_xlfn.CONCAT(\"Trimestre 1\",CHAR(10),IFERROR(#REF!,\"\"))","v":{"$error":"#NAME?"}},{"$f":"_xlfn.CONCAT(\"Trimestre 1\",CHAR(10),IFERROR(#REF!,\"\"))","v":{"$error":"#NAME?"}}]
[null,null,null,null,null,null,null,null,null,null,null,null,null,null,null,null,null,null,null,null,null,null,null,null,null,{"$f":"IFERROR(#REF!,\" \")","v":" "},{"$f":"IFERROR(#REF!,\"\")","v":""},{"$f":"IFERROR(#REF!,\"\")","v":""},"","",{"$f":"IFERROR(#REF!,\"\")","v":""},"",{"$f":"IFERROR(#REF!,\"\")","v":""},{"$f":"IFERROR(#REF!,\"\")","v":""},{"$f":"_xlfn.CONCAT(\"Trimestre 1\",CHAR(10),IFERROR(#REF!,\"\"))","v":{"$error":"#NAME?"}},{"$f":"_xlfn.CONCAT(\"Trimestre 1\",CHAR(10),IFERROR(#REF!,\"\"))","v":{"$error":"#NAME?"}},{"$f":"_xlfn.CONCAT(\"Trimestre 1\",CHAR(10),IFERROR(#REF!,\"\"))","v":{"$error":"#NAME?"}},{"$f":"_xlfn.CONCAT(\"Trimestre 1\",CHAR(10),IFERROR(#REF!,\"\"))","v":{"$error":"#NAME?"}},{"$f":"_xlfn.CONCAT(\"Trimestre 1\",CHAR(10),IFERROR(#REF!,\"\"))","v":{"$error":"#NAME?"}}]
[null,null,null,null,null,null,null,null,null,null,null,null,null,null,null,null,null,null,null,null,null,null,null,null,null,{"$f":"IFERROR(#REF!,\" \")","v":" "},{"$f":"IFERROR(#REF!,\"\")","v":""},{"$f":"IFERROR(#REF!,\"\")","v":""},"","",{"$f":"IFERROR(#REF!,\"\")","v":""},"",{"$f":"IFERROR(#REF!,\"\")","v":""},{"$f":"IFERROR(#REF!,\"\")","v":""},{"$f":"_xlfn.CONCAT(\"Trimestre 1\",CHAR(10),IFERROR(#REF!,\"\"))","v":{"$error":"#NAME?"}},{"$f":"_xlfn.CONCAT(\"Trimestre 1\",CHAR(10),IFERROR(#REF!,\"\"))","v":{"$error":"#NAME?"}},{"$f":"_xlfn.CONCAT(\"Trimestre 1\",CHAR(10),IFERROR(#REF!,\"\"))","v":{"$error":"#NAME?"}},{"$f":"_xlfn.CONCAT(\"Trimestre 1\",CHAR(10),IFERROR(#REF!,\"\"))","v":{"$error":"#NAME?"}},{"$f":"_xlfn.CONCAT(\"Trimestre 1\",CHAR(10),IFERROR(#REF!,\"\"))","v":{"$error":"#NAME?"}}]
[null,null,null,null,null,null,null,null,null,null,null,null,null,null,null,null,null,null,null,null,null,null,null,null,null,{"$f":"IFERROR(#REF!,\" \")","v":" "},{"$f":"IFERROR(#REF!,\"\")","v":""},{"$f":"IFERROR(#REF!,\"\")","v":""},"","",{"$f":"IFERROR(#REF!,\"\")","v":""},"",{"$f":"IFERROR(#REF!,\"\")","v":""},{"$f":"IFERROR(#REF!,\"\")","v":""},{"$f":"_xlfn.CONCAT(\"Trimestre 1\",CHAR(10),IFERROR(#REF!,\"\"))","v":{"$error":"#NAME?"}},{"$f":"_xlfn.CONCAT(\"Trimestre 1\",CHAR(10),IFERROR(#REF!,\"\"))","v":{"$error":"#NAME?"}},{"$f":"_xlfn.CONCAT(\"Trimestre 1\",CHAR(10),IFERROR(#REF!,\"\"))","v":{"$error":"#NAME?"}},{"$f":"_xlfn.CONCAT(\"Trimestre 1\",CHAR(10),IFERROR(#REF!,\"\"))","v":{"$error":"#NAME?"}},{"$f":"_xlfn.CONCAT(\"Trimestre 1\",CHAR(10),IFERROR(#REF!,\"\"))","v":{"$error":"#NAME?"}}]
["4. Talento Humano","Talento Humano: Fortalecer el talento humano en la Rama Judicial para que sea eficiente, capacitado y realice su labor en ambientes saludables y seguros. Ampliar la cobertura de la carrera judicial y mejorar la oferta de formación, que esté disponible para todos los servidores judiciales e impacte positivamente el servicio de justicia y responda a las necesidades reales del ejercicio de la función judicial.","1. Ampliar la cobertura de la carrera judicial optimizando los procesos de los concursos de méritos y propender por mitigar su litigiosidad.","Cobertura de la carrera judicial diferenciada entre magistrados, jueces y empleados","# de cargos provistos por carrera judicial/# de cargos de carrera judicial","1. Gestionar el desarrollo de las competencias, la toma de conciencia , la cultura  organizacional  y el compromiso de los  servidores judiciales, contratistas, practicantes y  judicantes de contribuir a generar valor público en la administración de justicia, en el marco de  cumplimiento de los requisitos  aplicables y el comportamiento ético.",null,null,null,null,null,null,null,null,null,null,null,null,null,null,null,null,null,null,null,{"$f":"IFERROR(#REF!,\" \")","v":" "},{"$f":"IFERROR(#REF!,\"\")","v":""},{"$f":"IFERROR(#REF!,\"\")","v":""},"","",{"$f":"IFERROR(#REF!,\"\")","v":""},"",{"$f":"IFERROR(#REF!,\"\")","v":""},{"$f":"IFERROR(#REF!,\"\")","v":""},{"$f":"_xlfn.CONCAT(\"Trimestre 1\",CHAR(10),IFERROR(#REF!,\"\"))","v":{"$error":"#NAME?"}},{"$f":"_xlfn.CONCAT(\"Trimestre 1\",CHAR(10),IFERROR(#REF!,\"\"))","v":{"$error":"#NAME?"}},{"$f":"_xlfn.CONCAT(\"Trimestre 1\",CHAR(10),IFERROR(#REF!,\"\"))","v":{"$error":"#NAME?"}},{"$f":"_xlfn.CONCAT(\"Trimestre 1\",CHAR(10),IFERROR(#REF!,\"\"))","v":{"$error":"#NAME?"}},{"$f":"_xlfn.CONCAT(\"Trimestre 1\",CHAR(10),IFERROR(#REF!,\"\"))","v":{"$error":"#NAME?"}}]
[null,null,null,null,null,null,null,null,null,null,null,null,null,null,null,null,null,null,null,null,null,null,null,null,null,{"$f":"IFERROR(#REF!,\" \")","v":" "},{"$f":"IFERROR(#REF!,\"\")","v":""},{"$f":"IFERROR(#REF!,\"\")","v":""},"","",{"$f":"IFERROR(#REF!,\"\")","v":""},"",{"$f":"IFERROR(#REF!,\"\")","v":""},{"$f":"IFERROR(#REF!,\"\")","v":""},{"$f":"_xlfn.CONCAT(\"Trimestre 1\",CHAR(10),IFERROR(#REF!,\"\"))","v":{"$error":"#NAME?"}},{"$f":"_xlfn.CONCAT(\"Trimestre 1\",CHAR(10),IFERROR(#REF!,\"\"))","v":{"$error":"#NAME?"}},{"$f":"_xlfn.CONCAT(\"Trimestre 1\",CHAR(10),IFERROR(#REF!,\"\"))","v":{"$error":"#NAME?"}},{"$f":"_xlfn.CONCAT(\"Trimestre 1\",CHAR(10),IFERROR(#REF!,\"\"))","v":{"$error":"#NAME?"}},{"$f":"_xlfn.CONCAT(\"Trimestre 1\",CHAR(10),IFERROR(#REF!,\"\"))","v":{"$error":"#NAME?"}}]
[null,null,null,null,null,null,null,null,null,null,null,null,null,null,null,null,null,null,null,null,null,null,null,null,null,{"$f":"IFERROR(#REF!,\" \")","v":" "},{"$f":"IFERROR(#REF!,\"\")","v":""},{"$f":"IFERROR(#REF!,\"\")","v":""},"","",{"$f":"IFERROR(#REF!,\"\")","v":""},"",{"$f":"IFERROR(#REF!,\"\")","v":""},{"$f":"IFERROR(#REF!,\"\")","v":""},{"$f":"_xlfn.CONCAT(\"Trimestre 1\",CHAR(10),IFERROR(#REF!,\"\"))","v":{"$error":"#NAME?"}},{"$f":"_xlfn.CONCAT(\"Trimestre 1\",CHAR(10),IFERROR(#REF!,\"\"))","v":{"$error":"#NAME?"}},{"$f":"_xlfn.CONCAT(\"Trimestre 1\",CHAR(10),IFERROR(#REF!,\"\"))","v":{"$error":"#NAME?"}},{"$f":"_xlfn.CONCAT(\"Trimestre 1\",CHAR(10),IFERROR(#REF!,\"\"))","v":{"$error":"#NAME?"}},{"$f":"_xlfn.CONCAT(\"Trimestre 1\",CHAR(10),IFERROR(#REF!,\"\"))","v":{"$error":"#NAME?"}}]
[null,null,null,null,null,null,null,null,null,null,null,null,null,null,null,null,null,null,null,null,null,null,null,null,null,{"$f":"IFERROR(#REF!,\" \")","v":" "},{"$f":"IFERROR(#REF!,\"\")","v":""},{"$f":"IFERROR(#REF!,\"\")","v":""},"","",{"$f":"IFERROR(#REF!,\"\")","v":""},"",{"$f":"IFERROR(#REF!,\"\")","v":""},{"$f":"IFERROR(#REF!,\"\")","v":""},{"$f":"_xlfn.CONCAT(\"Trimestre 1\",CHAR(10),IFERROR(#REF!,\"\"))","v":{"$error":"#NAME?"}},{"$f":"_xlfn.CONCAT(\"Trimestre 1\",CHAR(10),IFERROR(#REF!,\"\"))","v":{"$error":"#NAME?"}},{"$f":"_xlfn.CONCAT(\"Trimestre 1\",CHAR(10),IFERROR(#REF!,\"\"))","v":{"$error":"#NAME?"}},{"$f":"_xlfn.CONCAT(\"Trimestre 1\",CHAR(10),IFERROR(#REF!,\"\"))","v":{"$error":"#NAME?"}},{"$f":"_xlfn.CONCAT(\"Trimestre 1\",CHAR(10),IFERROR(#REF!,\"\"))","v":{"$error":"#NAME?"}}]
[null,null,null,null,null,null,null,null,null,null,null,null,null,null,null,null,null,null,null,null,null,null,null,null,null,{"$f":"IFERROR(#REF!,\" \")","v":" "},{"$f":"IFERROR(#REF!,\"\")","v":""},{"$f":"IFERROR(#REF!,\"\")","v":""},"","",{"$f":"IFERROR(#REF!,\"\")","v":""},"",{"$f":"IFERROR(#REF!,\"\")","v":""},{"$f":"IFERROR(#REF!,\"\")","v":""},{"$f":"_xlfn.CONCAT(\"Trimestre 1\",CHAR(10),IFERROR(#REF!,\"\"))","v":{"$error":"#NAME?"}},{"$f":"_xlfn.CONCAT(\"Trimestre 1\",CHAR(10),IFERROR(#REF!,\"\"))","v":{"$error":"#NAME?"}},{"$f":"_xlfn.CONCAT(\"Trimestre 1\",CHAR(10),IFERROR(#REF!,\"\"))","v":{"$error":"#NAME?"}},{"$f":"_xlfn.CONCAT(\"Trimestre 1\",CHAR(10),IFERROR(#REF!,\"\"))","v":{"$error":"#NAME?"}},{"$f":"_xlfn.CONCAT(\"Trimestre 1\",CHAR(10),IFERROR(#REF!,\"\"))","v":{"$error":"#NAME?"}}]
[null,null,null,null,null,null,null,null,null,null,null,null,null,null,null,null,null,null,null,null,null,null,null,null,null,{"$f":"IFERROR(#REF!,\" \")","v":" "},{"$f":"IFERROR(#REF!,\"\")","v":""},{"$f":"IFERROR(#REF!,\"\")","v":""},"","",{"$f":"IFERROR(#REF!,\"\")","v":""},"",{"$f":"IFERROR(#REF!,\"\")","v":""},{"$f":"IFERROR(#REF!,\"\")","v":""},{"$f":"_xlfn.CONCAT(\"Trimestre 1\",CHAR(10),IFERROR(#REF!,\"\"))","v":{"$error":"#NAME?"}},{"$f":"_xlfn.CONCAT(\"Trimestre 1\",CHAR(10),IFERROR(#REF!,\"\"))","v":{"$error":"#NAME?"}},{"$f":"_xlfn.CONCAT(\"Trimestre 1\",CHAR(10),IFERROR(#REF!,\"\"))","v":{"$error":"#NAME?"}},{"$f":"_xlfn.CONCAT(\"Trimestre 1\",CHAR(10),IFERROR(#REF!,\"\"))","v":{"$error":"#NAME?"}},{"$f":"_xlfn.CONCAT(\"Trimestre 1\",CHAR(10),IFERROR(#REF!,\"\"))","v":{"$error":"#NAME?"}}]
[null,null,null,null,null,null,null,null,null,null,null,null,null,null,null,null,null,null,null,null,null,null,null,null,null,{"$f":"IFERROR(#REF!,\" \")","v":" "},{"$f":"IFERROR(#REF!,\"\")","v":""},{"$f":"IFERROR(#REF!,\"\")","v":""},"","",{"$f":"IFERROR(#REF!,\"\")","v":""},"",{"$f":"IFERROR(#REF!,\"\")","v":""},{"$f":"IFERROR(#REF!,\"\")","v":""},{"$f":"_xlfn.CONCAT(\"Trimestre 1\",CHAR(10),IFERROR(#REF!,\"\"))","v":{"$error":"#NAME?"}},{"$f":"_xlfn.CONCAT(\"Trimestre 1\",CHAR(10),IFERROR(#REF!,\"\"))","v":{"$error":"#NAME?"}},{"$f":"_xlfn.CONCAT(\"Trimestre 1\",CHAR(10),IFERROR(#REF!,\"\"))","v":{"$error":"#NAME?"}},{"$f":"_xlfn.CONCAT(\"Trimestre 1\",CHAR(10),IFERROR(#REF!,\"\"))","v":{"$error":"#NAME?"}},{"$f":"_xlfn.CONCAT(\"Trimestre 1\",CHAR(10),IFERROR(#REF!,\"\"))","v":{"$error":"#NAME?"}}]
[null,null,null,null,null,null,null,null,null,null,null,null,null,null,null,null,null,null,null,null,null,null,null,null,null,{"$f":"IFERROR(#REF!,\" \")","v":" "},{"$f":"IFERROR(#REF!,\"\")","v":""},{"$f":"IFERROR(#REF!,\"\")","v":""},"","",{"$f":"IFERROR(#REF!,\"\")","v":""},"",{"$f":"IFERROR(#REF!,\"\")","v":""},{"$f":"IFERROR(#REF!,\"\")","v":""},{"$f":"_xlfn.CONCAT(\"Trimestre 1\",CHAR(10),IFERROR(#REF!,\"\"))","v":{"$error":"#NAME?"}},{"$f":"_xlfn.CONCAT(\"Trimestre 1\",CHAR(10),IFERROR(#REF!,\"\"))","v":{"$error":"#NAME?"}},{"$f":"_xlfn.CONCAT(\"Trimestre 1\",CHAR(10),IFERROR(#REF!,\"\"))","v":{"$error":"#NAME?"}},{"$f":"_xlfn.CONCAT(\"Trimestre 1\",CHAR(10),IFERROR(#REF!,\"\"))","v":{"$error":"#NAME?"}},{"$f":"_xlfn.CONCAT(\"Trimestre 1\",CHAR(10),IFERROR(#REF!,\"\"))","v":{"$error":"#NAME?"}}]
[null,null,null,null,null,null,null,null,null,null,null,null,null,null,null,null,null,null,null,null,null,null,null,null,null,{"$f":"IFERROR(#REF!,\" \")","v":" "},{"$f":"IFERROR(#REF!,\"\")","v":""},{"$f":"IFERROR(#REF!,\"\")","v":""},"","",{"$f":"IFERROR(#REF!,\"\")","v":""},"",{"$f":"IFERROR(#REF!,\"\")","v":""},{"$f":"IFERROR(#REF!,\"\")","v":""},{"$f":"_xlfn.CONCAT(\"Trimestre 1\",CHAR(10),IFERROR(#REF!,\"\"))","v":{"$error":"#NAME?"}},{"$f":"_xlfn.CONCAT(\"Trimestre 1\",CHAR(10),IFERROR(#REF!,\"\"))","v":{"$error":"#NAME?"}},{"$f":"_xlfn.CONCAT(\"Trimestre 1\",CHAR(10),IFERROR(#REF!,\"\"))","v":{"$error":"#NAME?"}},{"$f":"_xlfn.CONCAT(\"Trimestre 1\",CHAR(10),IFERROR(#REF!,\"\"))","v":{"$error":"#NAME?"}},{"$f":"_xlfn.CONCAT(\"Trimestre 1\",CHAR(10),IFERROR(#REF!,\"\"))","v":{"$error":"#NAME?"}}]
[null,null,null,null,null,null,null,null,null,null,null,null,null,null,null,null,null,null,null,null,null,null,null,null,null,{"$f":"IFERROR(#REF!,\" \")","v":" "},{"$f":"IFERROR(#REF!,\"\")","v":""},{"$f":"IFERROR(#REF!,\"\")","v":""},"","",{"$f":"IFERROR(#REF!,\"\")","v":""},"",{"$f":"IFERROR(#REF!,\"\")","v":""},{"$f":"IFERROR(#REF!,\"\")","v":""},{"$f":"_xlfn.CONCAT(\"Trimestre 1\",CHAR(10),IFERROR(#REF!,\"\"))","v":{"$error":"#NAME?"}},{"$f":"_xlfn.CONCAT(\"Trimestre 1\",CHAR(10),IFERROR(#REF!,\"\"))","v":{"$error":"#NAME?"}},{"$f":"_xlfn.CONCAT(\"Trimestre 1\",CHAR(10),IFERROR(#REF!,\"\"))","v":{"$error":"#NAME?"}},{"$f":"_xlfn.CONCAT(\"Trimestre 1\",CHAR(10),IFERROR(#REF!,\"\"))","v":{"$error":"#NAME?"}},{"$f":"_xlfn.CONCAT(\"Trimestre 1\",CHAR(10),IFERROR(#REF!,\"\"))","v":{"$error":"#NAME?"}}]
[null,null,"2. Impactar la función y servicios que presta la Rama Judicial, a través de una formación integral desde una visión de gestión del conocimiento, relacionada con los problemas de la justicia y los problemas de gestión de quienes administran los recursos de la justicia, y potenciando el uso de medios virtuales.","Cobertura de la formación impartida por la Escuela Judicial en el fortalecimiento de las competencias de los servidores judiciales","# servidores que no han recibido ningún curso de formación en los dos años anteriores al proceso de formación, discriminad o por funcionarios y empleados, municipio y especialida d /# servidores totales, discriminad o por funcionarios y empleados, municipio y especialida d",null,null,null,null,null,null,null,null,null,null,null,null,null,null,null,null,null,null,null,null,{"$f":"IFERROR(#REF!,\" \")","v":" "},{"$f":"IFERROR(#REF!,\"\")","v":""},{"$f":"IFERROR(#REF!,\"\")","v":""},"","",{"$f":"IFERROR(#REF!,\"\")","v":""},"",{"$f":"IFERROR(#REF!,\"\")","v":""},{"$f":"IFERROR(#REF!,\"\")","v":""},{"$f":"_xlfn.CONCAT(\"Trimestre 1\",CHAR(10),IFERROR(#REF!,\"\"))","v":{"$error":"#NAME?"}},{"$f":"_xlfn.CONCAT(\"Trimestre 1\",CHAR(10),IFERROR(#REF!,\"\"))","v":{"$error":"#NAME?"}},{"$f":"_xlfn.CONCAT(\"Trimestre 1\",CHAR(10),IFERROR(#REF!,\"\"))","v":{"$error":"#NAME?"}},{"$f":"_xlfn.CONCAT(\"Trimestre 1\",CHAR(10),IFERROR(#REF!,\"\"))","v":{"$error":"#NAME?"}},{"$f":"_xlfn.CONCAT(\"Trimestre 1\",CHAR(10),IFERROR(#REF!,\"\"))","v":{"$error":"#NAME?"}}]
[null,null,null,null,null,null,null,null,null,null,null,null,null,null,null,null,null,null,null,null,null,null,null,null,null,{"$f":"IFERROR(#REF!,\" \")","v":" "},{"$f":"IFERROR(#REF!,\"\")","v":""},{"$f":"IFERROR(#REF!,\"\")","v":""},"","",{"$f":"IFERROR(#REF!,\"\")","v":""},"",{"$f":"IFERROR(#REF!,\"\")","v":""},{"$f":"IFERROR(#REF!,\"\")","v":""},{"$f":"_xlfn.CONCAT(\"Trimestre 1\",CHAR(10),IFERROR(#REF!,\"\"))","v":{"$error":"#NAME?"}},{"$f":"_xlfn.CONCAT(\"Trimestre 1\",CHAR(10),IFERROR(#REF!,\"\"))","v":{"$error":"#NAME?"}},{"$f":"_xlfn.CONCAT(\"Trimestre 1\",CHAR(10),IFERROR(#REF!,\"\"))","v":{"$error":"#NAME?"}},{"$f":"_xlfn.CONCAT(\"Trimestre 1\",CHAR(10),IFERROR(#REF!,\"\"))","v":{"$error":"#NAME?"}},{"$f":"_xlfn.CONCAT(\"Trimestre 1\",CHAR(10),IFERROR(#REF!,\"\"))","v":{"$error":"#NAME?"}}]
[null,null,null,null,null,null,null,null,null,null,null,null,null,null,null,null,null,null,null,null,null,null,null,null,null,{"$f":"IFERROR(#REF!,\" \")","v":" "},{"$f":"IFERROR(#REF!,\"\")","v":""},{"$f":"IFERROR(#REF!,\"\")","v":""},"","",{"$f":"IFERROR(#REF!,\"\")","v":""},"",{"$f":"IFERROR(#REF!,\"\")","v":""},{"$f":"IFERROR(#REF!,\"\")","v":""},{"$f":"_xlfn.CONCAT(\"Trimestre 1\",CHAR(10),IFERROR(#REF!,\"\"))","v":{"$error":"#NAME?"}},{"$f":"_xlfn.CONCAT(\"Trimestre 1\",CHAR(10),IFERROR(#REF!,\"\"))","v":{"$error":"#NAME?"}},{"$f":"_xlfn.CONCAT(\"Trimestre 1\",CHAR(10),IFERROR(#REF!,\"\"))","v":{"$error":"#NAME?"}},{"$f":"_xlfn.CONCAT(\"Trimestre 1\",CHAR(10),IFERROR(#REF!,\"\"))","v":{"$error":"#NAME?"}},{"$f":"_xlfn.CONCAT(\"Trimestre 1\",CHAR(10),IFERROR(#REF!,\"\"))","v":{"$error":"#NAME?"}}]
[null,null,null,null,null,null,null,null,null,null,null,null,null,null,null,null,null,null,null,null,null,null,null,null,null,{"$f":"IFERROR(#REF!,\" \")","v":" "},{"$f":"IFERROR(#REF!,\"\")","v":""},{"$f":"IFERROR(#REF!,\"\")","v":""},{"$f":"IFERROR(AB199/P199,\"\")","v":""},{"$f":"IFERROR(AA199/Y199,\"\")","v":""},{"$f":"IFERROR(#REF!,\"\")","v":""},{"$f":"IFERROR(P199-AB199,\"\")","v":""},{"$f":"IFERROR(#REF!,\"\")","v":""},{"$f":"IFERROR(#REF!,\"\")","v":""},{"$f":"_xlfn.CONCAT(\"Trimestre 1\",CHAR(10),IFERROR(#REF!,\"\"))","v":{"$error":"#NAME?"}},{"$f":"_xlfn.CONCAT(\"Trimestre 1\",CHAR(10),IFERROR(#REF!,\"\"))","v":{"$error":"#NAME?"}},{"$f":"_xlfn.CONCAT(\"Trimestre 1\",CHAR(10),IFERROR(#REF!,\"\"))","v":{"$error":"#NAME?"}},{"$f":"_xlfn.CONCAT(\"Trimestre 1\",CHAR(10),IFERROR(#REF!,\"\"))","v":{"$error":"#NAME?"}},{"$f":"_xlfn.CONCAT(\"Trimestre 1\",CHAR(10),IFERROR(#REF!,\"\"))","v":{"$error":"#NAME?"}}]
[null,null,null,null,null,null,null,null,null,null,null,null,null,null,null,null,null,null,null,null,null,null,null,null,null,{"$f":"IFERROR(#REF!,\" \")","v":" "},{"$f":"IFERROR(#REF!,\"\")","v":""},{"$f":"IFERROR(#REF!,\"\")","v":""},"","",{"$f":"IFERROR(#REF!,\"\")","v":""},"",{"$f":"IFERROR(#REF!,\"\")","v":""},{"$f":"IFERROR(#REF!,\"\")","v":""},{"$f":"_xlfn.CONCAT(\"Trimestre 1\",CHAR(10),IFERROR(#REF!,\"\"))","v":{"$error":"#NAME?"}},{"$f":"_xlfn.CONCAT(\"Trimestre 1\",CHAR(10),IFERROR(#REF!,\"\"))","v":{"$error":"#NAME?"}},{"$f":"_xlfn.CONCAT(\"Trimestre 1\",CHAR(10),IFERROR(#REF!,\"\"))","v":{"$error":"#NAME?"}},{"$f":"_xlfn.CONCAT(\"Trimestre 1\",CHAR(10),IFERROR(#REF!,\"\"))","v":{"$error":"#NAME?"}},{"$f":"_xlfn.CONCAT(\"Trimestre 1\",CHAR(10),IFERROR(#REF!,\"\"))","v":{"$error":"#NAME?"}}]
[null,null,null,null,null,null,null,null,null,null,null,null,null,null,null,null,null,null,null,null,null,null,null,null,null,{"$f":"IFERROR(#REF!,\" \")","v":" "},{"$f":"IFERROR(#REF!,\"\")","v":""},{"$f":"IFERROR(#REF!,\"\")","v":""},"","",{"$f":"IFERROR(#REF!,\"\")","v":""},"",{"$f":"IFERROR(#REF!,\"\")","v":""},{"$f":"IFERROR(#REF!,\"\")","v":""},{"$f":"_xlfn.CONCAT(\"Trimestre 1\",CHAR(10),IFERROR(#REF!,\"\"))","v":{"$error":"#NAME?"}},{"$f":"_xlfn.CONCAT(\"Trimestre 1\",CHAR(10),IFERROR(#REF!,\"\"))","v":{"$error":"#NAME?"}},{"$f":"_xlfn.CONCAT(\"Trimestre 1\",CHAR(10),IFERROR(#REF!,\"\"))","v":{"$error":"#NAME?"}},{"$f":"_xlfn.CONCAT(\"Trimestre 1\",CHAR(10),IFERROR(#REF!,\"\"))","v":{"$error":"#NAME?"}},{"$f":"_xlfn.CONCAT(\"Trimestre 1\",CHAR(10),IFERROR(#REF!,\"\"))","v":{"$error":"#NAME?"}}]
[null,null,null,null,null,null,null,null,null,null,null,null,null,null,null,null,null,null,null,null,null,null,null,null,null,{"$f":"IFERROR(#REF!,\" \")","v":" "},{"$f":"IFERROR(#REF!,\"\")","v":""},{"$f":"IFERROR(#REF!,\"\")","v":""},"","",{"$f":"IFERROR(#REF!,\"\")","v":""},"",{"$f":"IFERROR(#REF!,\"\")","v":""},{"$f":"IFERROR(#REF!,\"\")","v":""},{"$f":"_xlfn.CONCAT(\"Trimestre 1\",CHAR(10),IFERROR(#REF!,\"\"))","v":{"$error":"#NAME?"}},{"$f":"_xlfn.CONCAT(\"Trimestre 1\",CHAR(10),IFERROR(#REF!,\"\"))","v":{"$error":"#NAME?"}},{"$f":"_xlfn.CONCAT(\"Trimestre 1\",CHAR(10),IFERROR(#REF!,\"\"))","v":{"$error":"#NAME?"}},{"$f":"_xlfn.CONCAT(\"Trimestre 1\",CHAR(10),IFERROR(#REF!,\"\"))","v":{"$error":"#NAME?"}},{"$f":"_xlfn.CONCAT(\"Trimestre 1\",CHAR(10),IFERROR(#REF!,\"\"))","v":{"$error":"#NAME?"}}]
[null,null,null,null,null,null,null,null,null,null,null,null,null,null,null,null,null,null,null,null,null,null,null,null,null,{"$f":"IFERROR(#REF!,\" \")","v":" "},{"$f":"IFERROR(#REF!,\"\")","v":""},{"$f":"IFERROR(#REF!,\"\")","v":""},"","",{"$f":"IFERROR(#REF!,\"\")","v":""},"",{"$f":"IFERROR(#REF!,\"\")","v":""},{"$f":"IFERROR(#REF!,\"\")","v":""},{"$f":"_xlfn.CONCAT(\"Trimestre 1\",CHAR(10),IFERROR(#REF!,\"\"))","v":{"$error":"#NAME?"}},{"$f":"_xlfn.CONCAT(\"Trimestre 1\",CHAR(10),IFERROR(#REF!,\"\"))","v":{"$error":"#NAME?"}},{"$f":"_xlfn.CONCAT(\"Trimestre 1\",CHAR(10),IFERROR(#REF!,\"\"))","v":{"$error":"#NAME?"}},{"$f":"_xlfn.CONCAT(\"Trimestre 1\",CHAR(10),IFERROR(#REF!,\"\"))","v":{"$error":"#NAME?"}},{"$f":"_xlfn.CONCAT(\"Trimestre 1\",CHAR(10),IFERROR(#REF!,\"\"))","v":{"$error":"#NAME?"}}]
[null,null,null,null,null,null,null,null,null,null,null,null,null,null,null,null,null,null,null,null,null,null,null,null,null,{"$f":"IFERROR(#REF!,\" \")","v":" "},{"$f":"IFERROR(#REF!,\"\")","v":""},{"$f":"IFERROR(#REF!,\"\")","v":""},"","",{"$f":"IFERROR(#REF!,\"\")","v":""},"",{"$f":"IFERROR(#REF!,\"\")","v":""},{"$f":"IFERROR(#REF!,\"\")","v":""},{"$f":"_xlfn.CONCAT(\"Trimestre 1\",CHAR(10),IFERROR(#REF!,\"\"))","v":{"$error":"#NAME?"}},{"$f":"_xlfn.CONCAT(\"Trimestre 1\",CHAR(10),IFERROR(#REF!,\"\"))","v":{"$error":"#NAME?"}},{"$f":"_xlfn.CONCAT(\"Trimestre 1\",CHAR(10),IFERROR(#REF!,\"\"))","v":{"$error":"#NAME?"}},{"$f":"_xlfn.CONCAT(\"Trimestre 1\",CHAR(10),IFERROR(#REF!,\"\"))","v":{"$error":"#NAME?"}},{"$f":"_xlfn.CONCAT(\"Trimestre 1\",CHAR(10),IFERROR(#REF!,\"\"))","v":{"$error":"#NAME?"}}]
[null,null,null,null,null,null,null,null,null,null,null,null,null,null,null,null,null,null,null,null,null,null,null,null,null,{"$f":"IFERROR(#REF!,\" \")","v":" "},{"$f":"IFERROR(#REF!,\"\")","v":""},{"$f":"IFERROR(#REF!,\"\")","v":""},"","",{"$f":"IFERROR(#REF!,\"\")","v":""},"",{"$f":"IFERROR(#REF!,\"\")","v":""},{"$f":"IFERROR(#REF!,\"\")","v":""},{"$f":"_xlfn.CONCAT(\"Trimestre 1\",CHAR(10),IFERROR(#REF!,\"\"))","v":{"$error":"#NAME?"}},{"$f":"_xlfn.CONCAT(\"Trimestre 1\",CHAR(10),IFERROR(#REF!,\"\"))","v":{"$error":"#NAME?"}},{"$f":"_xlfn.CONCAT(\"Trimestre 1\",CHAR(10),IFERROR(#REF!,\"\"))","v":{"$error":"#NAME?"}},{"$f":"_xlfn.CONCAT(\"Trimestre 1\",CHAR(10),IFERROR(#REF!,\"\"))","v":{"$error":"#NAME?"}},{"$f":"_xlfn.CONCAT(\"Trimestre 1\",CHAR(10),IFERROR(#REF!,\"\"))","v":{"$error":"#NAME?"}}]
[null,null,"3. Promover la incorporación de la perspectiva de género y el enfoque diferencial en los fallos judiciales y en la atención a los ciudadanos, la administración de la Rama Judicial, la administración de la carrera judicial y la elaboración de listas para altas Cortes. ","Enfoque diferencial y perspectiva de género en las decisiones judiciales de la Rama Judicial","# de decisiones judiciales postuladas al Concurso de “Reconocim iento a la incorporaci ón del derecho a la igualdad y la no discriminaci ón en las sentencias judiciales” en el año corriente/# de decisiones judiciales postuladas al Concurso de “Reconocim iento a la incorporaci ón del derecho a la igualdad y la no discriminaci ón en las sentencias judiciales” en el año inmediatam ente anterior",null,null,null,null,null,null,null,null,null,null,null,null,null,null,null,null,null,null,null,null,{"$f":"IFERROR(#REF!,\" \")","v":" "},{"$f":"IFERROR(#REF!,\"\")","v":""},{"$f":"IFERROR(#REF!,\"\")","v":""},"","",{"$f":"IFERROR(#REF!,\"\")","v":""},"",{"$f":"IFERROR(#REF!,\"\")","v":""},{"$f":"IFERROR(#REF!,\"\")","v":""},{"$f":"_xlfn.CONCAT(\"Trimestre 1\",CHAR(10),IFERROR(#REF!,\"\"))","v":{"$error":"#NAME?"}},{"$f":"_xlfn.CONCAT(\"Trimestre 1\",CHAR(10),IFERROR(#REF!,\"\"))","v":{"$error":"#NAME?"}},{"$f":"_xlfn.CONCAT(\"Trimestre 1\",CHAR(10),IFERROR(#REF!,\"\"))","v":{"$error":"#NAME?"}},{"$f":"_xlfn.CONCAT(\"Trimestre 1\",CHAR(10),IFERROR(#REF!,\"\"))","v":{"$error":"#NAME?"}},{"$f":"_xlfn.CONCAT(\"Trimestre 1\",CHAR(10),IFERROR(#REF!,\"\"))","v":{"$error":"#NAME?"}}]
[null,null,null,null,null,null,null,null,null,null,null,null,null,null,null,null,null,null,null,null,null,null,null,null,null,{"$f":"IFERROR(#REF!,\" \")","v":" "},{"$f":"IFERROR(#REF!,\"\")","v":""},{"$f":"IFERROR(#REF!,\"\")","v":""},"","",{"$f":"IFERROR(#REF!,\"\")","v":""},"",{"$f":"IFERROR(#REF!,\"\")","v":""},{"$f":"IFERROR(#REF!,\"\")","v":""},{"$f":"_xlfn.CONCAT(\"Trimestre 1\",CHAR(10),IFERROR(#REF!,\"\"))","v":{"$error":"#NAME?"}},{"$f":"_xlfn.CONCAT(\"Trimestre 1\",CHAR(10),IFERROR(#REF!,\"\"))","v":{"$error":"#NAME?"}},{"$f":"_xlfn.CONCAT(\"Trimestre 1\",CHAR(10),IFERROR(#REF!,\"\"))","v":{"$error":"#NAME?"}},{"$f":"_xlfn.CONCAT(\"Trimestre 1\",CHAR(10),IFERROR(#REF!,\"\"))","v":{"$error":"#NAME?"}},{"$f":"_xlfn.CONCAT(\"Trimestre 1\",CHAR(10),IFERROR(#REF!,\"\"))","v":{"$error":"#NAME?"}}]
[null,null,null,null,null,null,null,null,null,null,null,null,null,null,null,null,null,null,null,null,null,null,null,null,null,{"$f":"IFERROR(#REF!,\" \")","v":" "},{"$f":"IFERROR(#REF!,\"\")","v":""},{"$f":"IFERROR(#REF!,\"\")","v":""},"","",{"$f":"IFERROR(#REF!,\"\")","v":""},"",{"$f":"IFERROR(#REF!,\"\")","v":""},{"$f":"IFERROR(#REF!,\"\")","v":""},{"$f":"_xlfn.CONCAT(\"Trimestre 1\",CHAR(10),IFERROR(#REF!,\"\"))","v":{"$error":"#NAME?"}},{"$f":"_xlfn.CONCAT(\"Trimestre 1\",CHAR(10),IFERROR(#REF!,\"\"))","v":{"$error":"#NAME?"}},{"$f":"_xlfn.CONCAT(\"Trimestre 1\",CHAR(10),IFERROR(#REF!,\"\"))","v":{"$error":"#NAME?"}},{"$f":"_xlfn.CONCAT(\"Trimestre 1\",CHAR(10),IFERROR(#REF!,\"\"))","v":{"$error":"#NAME?"}},{"$f":"_xlfn.CONCAT(\"Trimestre 1\",CHAR(10),IFERROR(#REF!,\"\"))","v":{"$error":"#NAME?"}}]
[null,null,null,null,null,null,null,null,null,null,null,null,null,null,null,null,null,null,null,null,null,null,null,null,null,{"$f":"IFERROR(#REF!,\" \")","v":" "},{"$f":"IFERROR(#REF!,\"\")","v":""},{"$f":"IFERROR(#REF!,\"\")","v":""},"","",{"$f":"IFERROR(#REF!,\"\")","v":""},"",{"$f":"IFERROR(#REF!,\"\")","v":""},{"$f":"IFERROR(#REF!,\"\")","v":""},{"$f":"_xlfn.CONCAT(\"Trimestre 1\",CHAR(10),IFERROR(#REF!,\"\"))","v":{"$error":"#NAME?"}},{"$f":"_xlfn.CONCAT(\"Trimestre 1\",CHAR(10),IFERROR(#REF!,\"\"))","v":{"$error":"#NAME?"}},{"$f":"_xlfn.CONCAT(\"Trimestre 1\",CHAR(10),IFERROR(#REF!,\"\"))","v":{"$error":"#NAME?"}},{"$f":"_xlfn.CONCAT(\"Trimestre 1\",CHAR(10),IFERROR(#REF!,\"\"))","v":{"$error":"#NAME?"}},{"$f":"_xlfn.CONCAT(\"Trimestre 1\",CHAR(10),IFERROR(#REF!,\"\"))","v":{"$error":"#NAME?"}}]
[null,null,null,null,null,null,null,null,null,null,null,null,null,null,null,null,null,null,null,null,null,null,null,null,null,{"$f":"IFERROR(#REF!,\" \")","v":" "},{"$f":"IFERROR(#REF!,\"\")","v":""},{"$f":"IFERROR(#REF!,\"\")","v":""},"","",{"$f":"IFERROR(#REF!,\"\")","v":""},"",{"$f":"IFERROR(#REF!,\"\")","v":""},{"$f":"IFERROR(#REF!,\"\")","v":""},{"$f":"_xlfn.CONCAT(\"Trimestre 1\",CHAR(10),IFERROR(#REF!,\"\"))","v":{"$error":"#NAME?"}},{"$f":"_xlfn.CONCAT(\"Trimestre 1\",CHAR(10),IFERROR(#REF!,\"\"))","v":{"$error":"#NAME?"}},{"$f":"_xlfn.CONCAT(\"Trimestre 1\",CHAR(10),IFERROR(#REF!,\"\"))","v":{"$error":"#NAME?"}},{"$f":"_xlfn.CONCAT(\"Trimestre 1\",CHAR(10),IFERROR(#REF!,\"\"))","v":{"$error":"#NAME?"}},{"$f":"_xlfn.CONCAT(\"Trimestre 1\",CHAR(10),IFERROR(#REF!,\"\"))","v":{"$error":"#NAME?"}}]
[null,null,null,null,null,null,null,null,null,null,null,null,null,null,null,null,null,null,null,null,null,null,null,null,null,{"$f":"IFERROR(#REF!,\" \")","v":" "},{"$f":"IFERROR(#REF!,\"\")","v":""},{"$f":"IFERROR(#REF!,\"\")","v":""},"","",{"$f":"IFERROR(#REF!,\"\")","v":""},"",{"$f":"IFERROR(#REF!,\"\")","v":""},{"$f":"IFERROR(#REF!,\"\")","v":""},{"$f":"_xlfn.CONCAT(\"Trimestre 1\",CHAR(10),IFERROR(#REF!,\"\"))","v":{"$error":"#NAME?"}},{"$f":"_xlfn.CONCAT(\"Trimestre 1\",CHAR(10),IFERROR(#REF!,\"\"))","v":{"$error":"#NAME?"}},{"$f":"_xlfn.CONCAT(\"Trimestre 1\",CHAR(10),IFERROR(#REF!,\"\"))","v":{"$error":"#NAME?"}},{"$f":"_xlfn.CONCAT(\"Trimestre 1\",CHAR(10),IFERROR(#REF!,\"\"))","v":{"$error":"#NAME?"}},{"$f":"_xlfn.CONCAT(\"Trimestre 1\",CHAR(10),IFERROR(#REF!,\"\"))","v":{"$error":"#NAME?"}}]
[null,null,null,null,null,null,null,null,null,null,null,null,null,null,null,null,null,null,null,null,null,null,null,null,null,{"$f":"IFERROR(#REF!,\" \")","v":" "},{"$f":"IFERROR(#REF!,\"\")","v":""},{"$f":"IFERROR(#REF!,\"\")","v":""},"","",{"$f":"IFERROR(#REF!,\"\")","v":""},"",{"$f":"IFERROR(#REF!,\"\")","v":""},{"$f":"IFERROR(#REF!,\"\")","v":""},{"$f":"_xlfn.CONCAT(\"Trimestre 1\",CHAR(10),IFERROR(#REF!,\"\"))","v":{"$error":"#NAME?"}},{"$f":"_xlfn.CONCAT(\"Trimestre 1\",CHAR(10),IFERROR(#REF!,\"\"))","v":{"$error":"#NAME?"}},{"$f":"_xlfn.CONCAT(\"Trimestre 1\",CHAR(10),IFERROR(#REF!,\"\"))","v":{"$error":"#NAME?"}},{"$f":"_xlfn.CONCAT(\"Trimestre 1\",CHAR(10),IFERROR(#REF!,\"\"))","v":{"$error":"#NAME?"}},{"$f":"_xlfn.CONCAT(\"Trimestre 1\",CHAR(10),IFERROR(#REF!,\"\"))","v":{"$error":"#NAME?"}}]
[null,null,null,null,null,null,null,null,null,null,null,null,null,null,null,null,null,null,null,null,null,null,null,null,null,{"$f":"IFERROR(#REF!,\" \")","v":" "},{"$f":"IFERROR(#REF!,\"\")","v":""},{"$f":"IFERROR(#REF!,\"\")","v":""},"","",{"$f":"IFERROR(#REF!,\"\")","v":""},"",{"$f":"IFERROR(#REF!,\"\")","v":""},{"$f":"IFERROR(#REF!,\"\")","v":""},{"$f":"_xlfn.CONCAT(\"Trimestre 1\",CHAR(10),IFERROR(#REF!,\"\"))","v":{"$error":"#NAME?"}},{"$f":"_xlfn.CONCAT(\"Trimestre 1\",CHAR(10),IFERROR(#REF!,\"\"))","v":{"$error":"#NAME?"}},{"$f":"_xlfn.CONCAT(\"Trimestre 1\",CHAR(10),IFERROR(#REF!,\"\"))","v":{"$error":"#NAME?"}},{"$f":"_xlfn.CONCAT(\"Trimestre 1\",CHAR(10),IFERROR(#REF!,\"\"))","v":{"$error":"#NAME?"}},{"$f":"_xlfn.CONCAT(\"Trimestre 1\",CHAR(10),IFERROR(#REF!,\"\"))","v":{"$error":"#NAME?"}}]
[null,null,null,null,null,null,null,null,null,null,null,null,null,null,null,null,null,null,null,null,null,null,null,null,null,{"$f":"IFERROR(#REF!,\" \")","v":" "},{"$f":"IFERROR(#REF!,\"\")","v":""},{"$f":"IFERROR(#REF!,\"\")","v":""},"","",{"$f":"IFERROR(#REF!,\"\")","v":""},"",{"$f":"IFERROR(#REF!,\"\")","v":""},{"$f":"IFERROR(#REF!,\"\")","v":""},{"$f":"_xlfn.CONCAT(\"Trimestre 1\",CHAR(10),IFERROR(#REF!,\"\"))","v":{"$error":"#NAME?"}},{"$f":"_xlfn.CONCAT(\"Trimestre 1\",CHAR(10),IFERROR(#REF!,\"\"))","v":{"$error":"#NAME?"}},{"$f":"_xlfn.CONCAT(\"Trimestre 1\",CHAR(10),IFERROR(#REF!,\"\"))","v":{"$error":"#NAME?"}},{"$f":"_xlfn.CONCAT(\"Trimestre 1\",CHAR(10),IFERROR(#REF!,\"\"))","v":{"$error":"#NAME?"}},{"$f":"_xlfn.CONCAT(\"Trimestre 1\",CHAR(10),IFERROR(#REF!,\"\"))","v":{"$error":"#NAME?"}}]
[null,null,null,null,null,null,null,null,null,null,null,null,null,null,null,null,null,null,null,null,null,null,null,null,null,{"$f":"IFERROR(#REF!,\" \")","v":" "},{"$f":"IFERROR(#REF!,\"\")","v":""},{"$f":"IFERROR(#REF!,\"\")","v":""},"","",{"$f":"IFERROR(#REF!,\"\")","v":""},"",{"$f":"IFERROR(#REF!,\"\")","v":""},{"$f":"IFERROR(#REF!,\"\")","v":""},{"$f":"_xlfn.CONCAT(\"Trimestre 1\",CHAR(10),IFERROR(#REF!,\"\"))","v":{"$error":"#NAME?"}},{"$f":"_xlfn.CONCAT(\"Trimestre 1\",CHAR(10),IFERROR(#REF!,\"\"))","v":{"$error":"#NAME?"}},{"$f":"_xlfn.CONCAT(\"Trimestre 1\",CHAR(10),IFERROR(#REF!,\"\"))","v":{"$error":"#NAME?"}},{"$f":"_xlfn.CONCAT(\"Trimestre 1\",CHAR(10),IFERROR(#REF!,\"\"))","v":{"$error":"#NAME?"}},{"$f":"_xlfn.CONCAT(\"Trimestre 1\",CHAR(10),IFERROR(#REF!,\"\"))","v":{"$error":"#NAME?"}}]
[null,null,"4. Desarrollar en los servidores judiciales y demás grupos de valor relevantes las competencias necesarias para la efectividad de la transformación digital de modo que puedan, entre otros, utilizar con solvencia las herramientas digitales dispuestas para sus respectivas funciones. Además, fortalecer y actualizar los conocimientos del personal a cargo de la gestión de proyectos de tecnología.","Cobertura de la formación impartida por la Escuela Judicial en Tecnologías de la Información y las Comunicaciones TIC para la práctica judicial.","# servidores que no han recibido ningún curso de formación en Tecnología s de la Información y las Comunicaci ones TIC en la vigencia del plan sectorial, discriminad o por funcionarios y empleados, municipio y especialida d /# servidores totales, discriminad o por funcionarios y empleados, municipio y especialida d",null,null,null,null,null,null,null,null,null,null,null,null,null,null,null,null,null,null,null,null,{"$f":"IFERROR(#REF!,\" \")","v":" "},{"$f":"IFERROR(#REF!,\"\")","v":""},{"$f":"IFERROR(#REF!,\"\")","v":""},"","",{"$f":"IFERROR(#REF!,\"\")","v":""},"",{"$f":"IFERROR(#REF!,\"\")","v":""},{"$f":"IFERROR(#REF!,\"\")","v":""},{"$f":"_xlfn.CONCAT(\"Trimestre 1\",CHAR(10),IFERROR(#REF!,\"\"))","v":{"$error":"#NAME?"}},{"$f":"_xlfn.CONCAT(\"Trimestre 1\",CHAR(10),IFERROR(#REF!,\"\"))","v":{"$error":"#NAME?"}},{"$f":"_xlfn.CONCAT(\"Trimestre 1\",CHAR(10),IFERROR(#REF!,\"\"))","v":{"$error":"#NAME?"}},{"$f":"_xlfn.CONCAT(\"Trimestre 1\",CHAR(10),IFERROR(#REF!,\"\"))","v":{"$error":"#NAME?"}},{"$f":"_xlfn.CONCAT(\"Trimestre 1\",CHAR(10),IFERROR(#REF!,\"\"))","v":{"$error":"#NAME?"}}]
[null,null,null,null,null,null,null,null,null,null,null,null,null,null,null,null,null,null,null,null,null,null,null,null,null,{"$f":"IFERROR(#REF!,\" \")","v":" "},{"$f":"IFERROR(#REF!,\"\")","v":""},{"$f":"IFERROR(#REF!,\"\")","v":""},"","",{"$f":"IFERROR(#REF!,\"\")","v":""},"",{"$f":"IFERROR(#REF!,\"\")","v":""},{"$f":"IFERROR(#REF!,\"\")","v":""},{"$f":"_xlfn.CONCAT(\"Trimestre 1\",CHAR(10),IFERROR(#REF!,\"\"))","v":{"$error":"#NAME?"}},{"$f":"_xlfn.CONCAT(\"Trimestre 1\",CHAR(10),IFERROR(#REF!,\"\"))","v":{"$error":"#NAME?"}},{"$f":"_xlfn.CONCAT(\"Trimestre 1\",CHAR(10),IFERROR(#REF!,\"\"))","v":{"$error":"#NAME?"}},{"$f":"_xlfn.CONCAT(\"Trimestre 1\",CHAR(10),IFERROR(#REF!,\"\"))","v":{"$error":"#NAME?"}},{"$f":"_xlfn.CONCAT(\"Trimestre 1\",CHAR(10),IFERROR(#REF!,\"\"))","v":{"$error":"#NAME?"}}]
[null,null,null,null,null,null,null,null,null,null,null,null,null,null,null,null,null,null,null,null,null,null,null,null,null,{"$f":"IFERROR(#REF!,\" \")","v":" "},{"$f":"IFERROR(#REF!,\"\")","v":""},{"$f":"IFERROR(#REF!,\"\")","v":""},"","",{"$f":"IFERROR(#REF!,\"\")","v":""},"",{"$f":"IFERROR(#REF!,\"\")","v":""},{"$f":"IFERROR(#REF!,\"\")","v":""},{"$f":"_xlfn.CONCAT(\"Trimestre 1\",CHAR(10),IFERROR(#REF!,\"\"))","v":{"$error":"#NAME?"}},{"$f":"_xlfn.CONCAT(\"Trimestre 1\",CHAR(10),IFERROR(#REF!,\"\"))","v":{"$error":"#NAME?"}},{"$f":"_xlfn.CONCAT(\"Trimestre 1\",CHAR(10),IFERROR(#REF!,\"\"))","v":{"$error":"#NAME?"}},{"$f":"_xlfn.CONCAT(\"Trimestre 1\",CHAR(10),IFERROR(#REF!,\"\"))","v":{"$error":"#NAME?"}},{"$f":"_xlfn.CONCAT(\"Trimestre 1\",CHAR(10),IFERROR(#REF!,\"\"))","v":{"$error":"#NAME?"}}]
[null,null,null,null,null,null,null,null,null,null,null,null,null,null,null,null,null,null,null,null,null,null,null,null,null,{"$f":"IFERROR(#REF!,\" \")","v":" "},{"$f":"IFERROR(#REF!,\"\")","v":""},{"$f":"IFERROR(#REF!,\"\")","v":""},"","",{"$f":"IFERROR(#REF!,\"\")","v":""},"",{"$f":"IFERROR(#REF!,\"\")","v":""},{"$f":"IFERROR(#REF!,\"\")","v":""},{"$f":"_xlfn.CONCAT(\"Trimestre 1\",CHAR(10),IFERROR(#REF!,\"\"))","v":{"$error":"#NAME?"}},{"$f":"_xlfn.CONCAT(\"Trimestre 1\",CHAR(10),IFERROR(#REF!,\"\"))","v":{"$error":"#NAME?"}},{"$f":"_xlfn.CONCAT(\"Trimestre 1\",CHAR(10),IFERROR(#REF!,\"\"))","v":{"$error":"#NAME?"}},{"$f":"_xlfn.CONCAT(\"Trimestre 1\",CHAR(10),IFERROR(#REF!,\"\"))","v":{"$error":"#NAME?"}},{"$f":"_xlfn.CONCAT(\"Trimestre 1\",CHAR(10),IFERROR(#REF!,\"\"))","v":{"$error":"#NAME?"}}]
[null,null,null,null,null,null,null,null,null,null,null,null,null,null,null,null,null,null,null,null,null,null,null,null,null,{"$f":"IFERROR(#REF!,\" \")","v":" "},{"$f":"IFERROR(#REF!,\"\")","v":""},{"$f":"IFERROR(#REF!,\"\")","v":""},"","",{"$f":"IFERROR(#REF!,\"\")","v":""},"",{"$f":"IFERROR(#REF!,\"\")","v":""},{"$f":"IFERROR(#REF!,\"\")","v":""},{"$f":"_xlfn.CONCAT(\"Trimestre 1\",CHAR(10),IFERROR(#REF!,\"\"))","v":{"$error":"#NAME?"}},{"$f":"_xlfn.CONCAT(\"Trimestre 1\",CHAR(10),IFERROR(#REF!,\"\"))","v":{"$error":"#NAME?"}},{"$f":"_xlfn.CONCAT(\"Trimestre 1\",CHAR(10),IFERROR(#REF!,\"\"))","v":{"$error":"#NAME?"}},{"$f":"_xlfn.CONCAT(\"Trimestre 1\",CHAR(10),IFERROR(#REF!,\"\"))","v":{"$error":"#NAME?"}},{"$f":"_xlfn.CONCAT(\"Trimestre 1\",CHAR(10),IFERROR(#REF!,\"\"))","v":{"$error":"#NAME?"}}]
[null,null,null,null,null,null,null,null,null,null,null,null,null,null,null,null,null,null,null,null,null,null,null,null,null,{"$f":"IFERROR(#REF!,\" \")","v":" "},{"$f":"IFERROR(#REF!,\"\")","v":""},{"$f":"IFERROR(#REF!,\"\")","v":""},"","",{"$f":"IFERROR(#REF!,\"\")","v":""},"",{"$f":"IFERROR(#REF!,\"\")","v":""},{"$f":"IFERROR(#REF!,\"\")","v":""},{"$f":"_xlfn.CONCAT(\"Trimestre 1\",CHAR(10),IFERROR(#REF!,\"\"))","v":{"$error":"#NAME?"}},{"$f":"_xlfn.CONCAT(\"Trimestre 1\",CHAR(10),IFERROR(#REF!,\"\"))","v":{"$error":"#NAME?"}},{"$f":"_xlfn.CONCAT(\"Trimestre 1\",CHAR(10),IFERROR(#REF!,\"\"))","v":{"$error":"#NAME?"}},{"$f":"_xlfn.CONCAT(\"Trimestre 1\",CHAR(10),IFERROR(#REF!,\"\"))","v":{"$error":"#NAME?"}},{"$f":"_xlfn.CONCAT(\"Trimestre 1\",CHAR(10),IFERROR(#REF!,\"\"))","v":{"$error":"#NAME?"}}]
[null,null,null,null,null,null,null,null,null,null,null,null,null,null,null,null,null,null,null,null,null,null,null,null,null,{"$f":"IFERROR(#REF!,\" \")","v":" "},{"$f":"IFERROR(#REF!,\"\")","v":""},{"$f":"IFERROR(#REF!,\"\")","v":""},"","",{"$f":"IFERROR(#REF!,\"\")","v":""},"",{"$f":"IFERROR(#REF!,\"\")","v":""},{"$f":"IFERROR(#REF!,\"\")","v":""},{"$f":"_xlfn.CONCAT(\"Trimestre 1\",CHAR(10),IFERROR(#REF!,\"\"))","v":{"$error":"#NAME?"}},{"$f":"_xlfn.CONCAT(\"Trimestre 1\",CHAR(10),IFERROR(#REF!,\"\"))","v":{"$error":"#NAME?"}},{"$f":"_xlfn.CONCAT(\"Trimestre 1\",CHAR(10),IFERROR(#REF!,\"\"))","v":{"$error":"#NAME?"}},{"$f":"_xlfn.CONCAT(\"Trimestre 1\",CHAR(10),IFERROR(#REF!,\"\"))","v":{"$error":"#NAME?"}},{"$f":"_xlfn.CONCAT(\"Trimestre 1\",CHAR(10),IFERROR(#REF!,\"\"))","v":{"$error":"#NAME?"}}]
[null,null,null,null,null,null,null,null,null,null,null,null,null,null,null,null,null,null,null,null,null,null,null,null,null,{"$f":"IFERROR(#REF!,\" \")","v":" "},{"$f":"IFERROR(#REF!,\"\")","v":""},{"$f":"IFERROR(#REF!,\"\")","v":""},"","",{"$f":"IFERROR(#REF!,\"\")","v":""},"",{"$f":"IFERROR(#REF!,\"\")","v":""},{"$f":"IFERROR(#REF!,\"\")","v":""},{"$f":"_xlfn.CONCAT(\"Trimestre 1\",CHAR(10),IFERROR(#REF!,\"\"))","v":{"$error":"#NAME?"}},{"$f":"_xlfn.CONCAT(\"Trimestre 1\",CHAR(10),IFERROR(#REF!,\"\"))","v":{"$error":"#NAME?"}},{"$f":"_xlfn.CONCAT(\"Trimestre 1\",CHAR(10),IFERROR(#REF!,\"\"))","v":{"$error":"#NAME?"}},{"$f":"_xlfn.CONCAT(\"Trimestre 1\",CHAR(10),IFERROR(#REF!,\"\"))","v":{"$error":"#NAME?"}},{"$f":"_xlfn.CONCAT(\"Trimestre 1\",CHAR(10),IFERROR(#REF!,\"\"))","v":{"$error":"#NAME?"}}]
[null,null,null,null,null,null,null,null,null,null,null,null,null,null,null,null,null,null,null,null,null,null,null,null,null,{"$f":"IFERROR(#REF!,\" \")","v":" "},{"$f":"IFERROR(#REF!,\"\")","v":""},{"$f":"IFERROR(#REF!,\"\")","v":""},"","",{"$f":"IFERROR(#REF!,\"\")","v":""},"",{"$f":"IFERROR(#REF!,\"\")","v":""},{"$f":"IFERROR(#REF!,\"\")","v":""},{"$f":"_xlfn.CONCAT(\"Trimestre 1\",CHAR(10),IFERROR(#REF!,\"\"))","v":{"$error":"#NAME?"}},{"$f":"_xlfn.CONCAT(\"Trimestre 1\",CHAR(10),IFERROR(#REF!,\"\"))","v":{"$error":"#NAME?"}},{"$f":"_xlfn.CONCAT(\"Trimestre 1\",CHAR(10),IFERROR(#REF!,\"\"))","v":{"$error":"#NAME?"}},{"$f":"_xlfn.CONCAT(\"Trimestre 1\",CHAR(10),IFERROR(#REF!,\"\"))","v":{"$error":"#NAME?"}},{"$f":"_xlfn.CONCAT(\"Trimestre 1\",CHAR(10),IFERROR(#REF!,\"\"))","v":{"$error":"#NAME?"}}]
[null,null,null,null,null,null,null,null,null,null,null,null,null,null,null,null,null,null,null,null,null,null,null,null,null,{"$f":"IFERROR(#REF!,\" \")","v":" "},{"$f":"IFERROR(#REF!,\"\")","v":""},{"$f":"IFERROR(#REF!,\"\")","v":""},"","",{"$f":"IFERROR(#REF!,\"\")","v":""},"",{"$f":"IFERROR(#REF!,\"\")","v":""},{"$f":"IFERROR(#REF!,\"\")","v":""},{"$f":"_xlfn.CONCAT(\"Trimestre 1\",CHAR(10),IFERROR(#REF!,\"\"))","v":{"$error":"#NAME?"}},{"$f":"_xlfn.CONCAT(\"Trimestre 1\",CHAR(10),IFERROR(#REF!,\"\"))","v":{"$error":"#NAME?"}},{"$f":"_xlfn.CONCAT(\"Trimestre 1\",CHAR(10),IFERROR(#REF!,\"\"))","v":{"$error":"#NAME?"}},{"$f":"_xlfn.CONCAT(\"Trimestre 1\",CHAR(10),IFERROR(#REF!,\"\"))","v":{"$error":"#NAME?"}},{"$f":"_xlfn.CONCAT(\"Trimestre 1\",CHAR(10),IFERROR(#REF!,\"\"))","v":{"$error":"#NAME?"}}]
[null,null,"5. Promover el bienestar de todos los servidores judiciales a través de la implementación de un sistema que contemple los diferentes niveles de estrategias y acciones necesarios para mejorar el clima laboral, la salud física y mental y la calidad del tiempo de descanso.","Satisfacción de los servidores judiciales con el clima laboral","(# respuestas con concepto de bueno o excelente / # total de respuestas) *100","5. Generar espacios de trabajo seguros y saludables que contribuyan a minimizar los  incidentes, accidentes y enfermedades laborales derivados de las condiciones y actos  inseguros y fomentar  el autocuidado, los  estilos de vida y el trabajo saludable en los servidores judiciales, contratistas, judicantes y practicantes.",null,null,null,null,null,null,null,null,null,null,null,null,null,null,null,null,null,null,null,{"$f":"IFERROR(#REF!,\" \")","v":" "},{"$f":"IFERROR(#REF!,\"\")","v":""},{"$f":"IFERROR(#REF!,\"\")","v":""},"","",{"$f":"IFERROR(#REF!,\"\")","v":""},"",{"$f":"IFERROR(#REF!,\"\")","v":""},{"$f":"IFERROR(#REF!,\"\")","v":""},{"$f":"_xlfn.CONCAT(\"Trimestre 1\",CHAR(10),IFERROR(#REF!,\"\"))","v":{"$error":"#NAME?"}},{"$f":"_xlfn.CONCAT(\"Trimestre 1\",CHAR(10),IFERROR(#REF!,\"\"))","v":{"$error":"#NAME?"}},{"$f":"_xlfn.CONCAT(\"Trimestre 1\",CHAR(10),IFERROR(#REF!,\"\"))","v":{"$error":"#NAME?"}},{"$f":"_xlfn.CONCAT(\"Trimestre 1\",CHAR(10),IFERROR(#REF!,\"\"))","v":{"$error":"#NAME?"}},{"$f":"_xlfn.CONCAT(\"Trimestre 1\",CHAR(10),IFERROR(#REF!,\"\"))","v":{"$error":"#NAME?"}}]
[null,null,null,null,null,null,null,null,null,null,null,null,null,null,null,null,null,null,null,null,null,null,null,null,null,{"$f":"IFERROR(#REF!,\" \")","v":" "},{"$f":"IFERROR(#REF!,\"\")","v":""},{"$f":"IFERROR(#REF!,\"\")","v":""},"","",{"$f":"IFERROR(#REF!,\"\")","v":""},"",{"$f":"IFERROR(#REF!,\"\")","v":""},{"$f":"IFERROR(#REF!,\"\")","v":""},{"$f":"_xlfn.CONCAT(\"Trimestre 1\",CHAR(10),IFERROR(#REF!,\"\"))","v":{"$error":"#NAME?"}},{"$f":"_xlfn.CONCAT(\"Trimestre 1\",CHAR(10),IFERROR(#REF!,\"\"))","v":{"$error":"#NAME?"}},{"$f":"_xlfn.CONCAT(\"Trimestre 1\",CHAR(10),IFERROR(#REF!,\"\"))","v":{"$error":"#NAME?"}},{"$f":"_xlfn.CONCAT(\"Trimestre 1\",CHAR(10),IFERROR(#REF!,\"\"))","v":{"$error":"#NAME?"}},{"$f":"_xlfn.CONCAT(\"Trimestre 1\",CHAR(10),IFERROR(#REF!,\"\"))","v":{"$error":"#NAME?"}}]
[null,null,null,null,null,null,null,null,null,null,null,null,null,null,null,null,null,null,null,null,null,null,null,null,null,{"$f":"IFERROR(#REF!,\" \")","v":" "},{"$f":"IFERROR(#REF!,\"\")","v":""},{"$f":"IFERROR(#REF!,\"\")","v":""},"","",{"$f":"IFERROR(#REF!,\"\")","v":""},"",{"$f":"IFERROR(#REF!,\"\")","v":""},{"$f":"IFERROR(#REF!,\"\")","v":""},{"$f":"_xlfn.CONCAT(\"Trimestre 1\",CHAR(10),IFERROR(#REF!,\"\"))","v":{"$error":"#NAME?"}},{"$f":"_xlfn.CONCAT(\"Trimestre 1\",CHAR(10),IFERROR(#REF!,\"\"))","v":{"$error":"#NAME?"}},{"$f":"_xlfn.CONCAT(\"Trimestre 1\",CHAR(10),IFERROR(#REF!,\"\"))","v":{"$error":"#NAME?"}},{"$f":"_xlfn.CONCAT(\"Trimestre 1\",CHAR(10),IFERROR(#REF!,\"\"))","v":{"$error":"#NAME?"}},{"$f":"_xlfn.CONCAT(\"Trimestre 1\",CHAR(10),IFERROR(#REF!,\"\"))","v":{"$error":"#NAME?"}}]
[null,null,null,null,null,null,null,null,null,null,null,null,null,null,null,null,null,null,null,null,null,null,null,null,null,{"$f":"IFERROR(#REF!,\" \")","v":" "},{"$f":"IFERROR(#REF!,\"\")","v":""},{"$f":"IFERROR(#REF!,\"\")","v":""},"","",{"$f":"IFERROR(#REF!,\"\")","v":""},"",{"$f":"IFERROR(#REF!,\"\")","v":""},{"$f":"IFERROR(#REF!,\"\")","v":""},{"$f":"_xlfn.CONCAT(\"Trimestre 1\",CHAR(10),IFERROR(#REF!,\"\"))","v":{"$error":"#NAME?"}},{"$f":"_xlfn.CONCAT(\"Trimestre 1\",CHAR(10),IFERROR(#REF!,\"\"))","v":{"$error":"#NAME?"}},{"$f":"_xlfn.CONCAT(\"Trimestre 1\",CHAR(10),IFERROR(#REF!,\"\"))","v":{"$error":"#NAME?"}},{"$f":"_xlfn.CONCAT(\"Trimestre 1\",CHAR(10),IFERROR(#REF!,\"\"))","v":{"$error":"#NAME?"}},{"$f":"_xlfn.CONCAT(\"Trimestre 1\",CHAR(10),IFERROR(#REF!,\"\"))","v":{"$error":"#NAME?"}}]
[null,null,null,null,null,null,null,null,null,null,null,null,null,null,null,null,null,null,null,null,null,null,null,null,null,{"$f":"IFERROR(#REF!,\" \")","v":" "},{"$f":"IFERROR(#REF!,\"\")","v":""},{"$f":"IFERROR(#REF!,\"\")","v":""},"","",{"$f":"IFERROR(#REF!,\"\")","v":""},"",{"$f":"IFERROR(#REF!,\"\")","v":""},{"$f":"IFERROR(#REF!,\"\")","v":""},{"$f":"_xlfn.CONCAT(\"Trimestre 1\",CHAR(10),IFERROR(#REF!,\"\"))","v":{"$error":"#NAME?"}},{"$f":"_xlfn.CONCAT(\"Trimestre 1\",CHAR(10),IFERROR(#REF!,\"\"))","v":{"$error":"#NAME?"}},{"$f":"_xlfn.CONCAT(\"Trimestre 1\",CHAR(10),IFERROR(#REF!,\"\"))","v":{"$error":"#NAME?"}},{"$f":"_xlfn.CONCAT(\"Trimestre 1\",CHAR(10),IFERROR(#REF!,\"\"))","v":{"$error":"#NAME?"}},{"$f":"_xlfn.CONCAT(\"Trimestre 1\",CHAR(10),IFERROR(#REF!,\"\"))","v":{"$error":"#NAME?"}}]
[null,null,null,null,null,null,null,null,null,null,null,null,null,null,null,null,null,null,null,null,null,null,null,null,null,{"$f":"IFERROR(#REF!,\" \")","v":" "},{"$f":"IFERROR(#REF!,\"\")","v":""},{"$f":"IFERROR(#REF!,\"\")","v":""},"","",{"$f":"IFERROR(#REF!,\"\")","v":""},"",{"$f":"IFERROR(#REF!,\"\")","v":""},{"$f":"IFERROR(#REF!,\"\")","v":""},{"$f":"_xlfn.CONCAT(\"Trimestre 1\",CHAR(10),IFERROR(#REF!,\"\"))","v":{"$error":"#NAME?"}},{"$f":"_xlfn.CONCAT(\"Trimestre 1\",CHAR(10),IFERROR(#REF!,\"\"))","v":{"$error":"#NAME?"}},{"$f":"_xlfn.CONCAT(\"Trimestre 1\",CHAR(10),IFERROR(#REF!,\"\"))","v":{"$error":"#NAME?"}},{"$f":"_xlfn.CONCAT(\"Trimestre 1\",CHAR(10),IFERROR(#REF!,\"\"))","v":{"$error":"#NAME?"}},{"$f":"_xlfn.CONCAT(\"Trimestre 1\",CHAR(10),IFERROR(#REF!,\"\"))","v":{"$error":"#NAME?"}}]
[null,null,null,null,null,null,null,null,null,null,null,null,null,null,null,null,null,null,null,null,null,null,null,null,null,{"$f":"IFERROR(#REF!,\" \")","v":" "},{"$f":"IFERROR(#REF!,\"\")","v":""},{"$f":"IFERROR(#REF!,\"\")","v":""},"","",{"$f":"IFERROR(#REF!,\"\")","v":""},"",{"$f":"IFERROR(#REF!,\"\")","v":""},{"$f":"IFERROR(#REF!,\"\")","v":""},{"$f":"_xlfn.CONCAT(\"Trimestre 1\",CHAR(10),IFERROR(#REF!,\"\"))","v":{"$error":"#NAME?"}},{"$f":"_xlfn.CONCAT(\"Trimestre 1\",CHAR(10),IFERROR(#REF!,\"\"))","v":{"$error":"#NAME?"}},{"$f":"_xlfn.CONCAT(\"Trimestre 1\",CHAR(10),IFERROR(#REF!,\"\"))","v":{"$error":"#NAME?"}},{"$f":"_xlfn.CONCAT(\"Trimestre 1\",CHAR(10),IFERROR(#REF!,\"\"))","v":{"$error":"#NAME?"}},{"$f":"_xlfn.CONCAT(\"Trimestre 1\",CHAR(10),IFERROR(#REF!,\"\"))","v":{"$error":"#NAME?"}}]
[null,null,null,null,null,null,null,null,null,null,null,null,null,null,null,null,null,null,null,null,null,null,null,null,null,{"$f":"IFERROR(#REF!,\" \")","v":" "},{"$f":"IFERROR(#REF!,\"\")","v":""},{"$f":"IFERROR(#REF!,\"\")","v":""},"","",{"$f":"IFERROR(#REF!,\"\")","v":""},"",{"$f":"IFERROR(#REF!,\"\")","v":""},{"$f":"IFERROR(#REF!,\"\")","v":""},{"$f":"_xlfn.CONCAT(\"Trimestre 1\",CHAR(10),IFERROR(#REF!,\"\"))","v":{"$error":"#NAME?"}},{"$f":"_xlfn.CONCAT(\"Trimestre 1\",CHAR(10),IFERROR(#REF!,\"\"))","v":{"$error":"#NAME?"}},{"$f":"_xlfn.CONCAT(\"Trimestre 1\",CHAR(10),IFERROR(#REF!,\"\"))","v":{"$error":"#NAME?"}},{"$f":"_xlfn.CONCAT(\"Trimestre 1\",CHAR(10),IFERROR(#REF!,\"\"))","v":{"$error":"#NAME?"}},{"$f":"_xlfn.CONCAT(\"Trimestre 1\",CHAR(10),IFERROR(#REF!,\"\"))","v":{"$error":"#NAME?"}}]
[null,null,null,null,null,null,null,null,null,null,null,null,null,null,null,null,null,null,null,null,null,null,null,null,null,{"$f":"IFERROR(#REF!,\" \")","v":" "},{"$f":"IFERROR(#REF!,\"\")","v":""},{"$f":"IFERROR(#REF!,\"\")","v":""},"","",{"$f":"IFERROR(#REF!,\"\")","v":""},"",{"$f":"IFERROR(#REF!,\"\")","v":""},{"$f":"IFERROR(#REF!,\"\")","v":""},{"$f":"_xlfn.CONCAT(\"Trimestre 1\",CHAR(10),IFERROR(#REF!,\"\"))","v":{"$error":"#NAME?"}},{"$f":"_xlfn.CONCAT(\"Trimestre 1\",CHAR(10),IFERROR(#REF!,\"\"))","v":{"$error":"#NAME?"}},{"$f":"_xlfn.CONCAT(\"Trimestre 1\",CHAR(10),IFERROR(#REF!,\"\"))","v":{"$error":"#NAME?"}},{"$f":"_xlfn.CONCAT(\"Trimestre 1\",CHAR(10),IFERROR(#REF!,\"\"))","v":{"$error":"#NAME?"}},{"$f":"_xlfn.CONCAT(\"Trimestre 1\",CHAR(10),IFERROR(#REF!,\"\"))","v":{"$error":"#NAME?"}}]
[null,null,null,null,null,null,null,null,null,null,null,null,null,null,null,null,null,null,null,null,null,null,null,null,null,{"$f":"IFERROR(#REF!,\" \")","v":" "},{"$f":"IFERROR(#REF!,\"\")","v":""},{"$f":"IFERROR(#REF!,\"\")","v":""},"","",{"$f":"IFERROR(#REF!,\"\")","v":""},"",{"$f":"IFERROR(#REF!,\"\")","v":""},{"$f":"IFERROR(#REF!,\"\")","v":""},{"$f":"_xlfn.CONCAT(\"Trimestre 1\",CHAR(10),IFERROR(#REF!,\"\"))","v":{"$error":"#NAME?"}},{"$f":"_xlfn.CONCAT(\"Trimestre 1\",CHAR(10),IFERROR(#REF!,\"\"))","v":{"$error":"#NAME?"}},{"$f":"_xlfn.CONCAT(\"Trimestre 1\",CHAR(10),IFERROR(#REF!,\"\"))","v":{"$error":"#NAME?"}},{"$f":"_xlfn.CONCAT(\"Trimestre 1\",CHAR(10),IFERROR(#REF!,\"\"))","v":{"$error":"#NAME?"}},{"$f":"_xlfn.CONCAT(\"Trimestre 1\",CHAR(10),IFERROR(#REF!,\"\"))","v":{"$error":"#NAME?"}}]
["5. Gobernanza, planeación estratégica y capacidad de toma de decisiones","Gobernanza, planeación estratégica y capacidad de toma de decisiones: Fortalecer la gobernanza, la planeación estratégica y la capacidad de toma de decisiones de la Rama Judicial con base en la evidencia empírica y la articulación efectiva con las demás entidades, para que la perspectiva de género y el enfoque diferencial sean transversales en el presente plan. ","1. Implementar un nuevo modelo integrado para la planeación estratégica, el seguimiento y la medición del desempeño institucional.","Modelo integrado para la planeación estratégica, seguimiento y medición del desempeño institucional implementado","% de implementa ción del modelo integrado","2. Asegurar  el cumplimiento de los objetivos institucionales, la normatividad aplicable,  la mejora del SIGCMA y la satisfacción de los usuarios, revisando de  forma continua y sistemática la planificación de la gestión y fortaleciendo la administración de riesgos y sus controles.",null,null,null,null,null,null,null,null,null,null,null,null,null,null,null,null,null,null,null,{"$f":"IFERROR(#REF!,\" \")","v":" "},{"$f":"IFERROR(#REF!,\"\")","v":""},{"$f":"IFERROR(#REF!,\"\")","v":""},"","",{"$f":"IFERROR(#REF!,\"\")","v":""},"",{"$f":"IFERROR(#REF!,\"\")","v":""},{"$f":"IFERROR(#REF!,\"\")","v":""},{"$f":"_xlfn.CONCAT(\"Trimestre 1\",CHAR(10),IFERROR(#REF!,\"\"))","v":{"$error":"#NAME?"}},{"$f":"_xlfn.CONCAT(\"Trimestre 1\",CHAR(10),IFERROR(#REF!,\"\"))","v":{"$error":"#NAME?"}},{"$f":"_xlfn.CONCAT(\"Trimestre 1\",CHAR(10),IFERROR(#REF!,\"\"))","v":{"$error":"#NAME?"}},{"$f":"_xlfn.CONCAT(\"Trimestre 1\",CHAR(10),IFERROR(#REF!,\"\"))","v":{"$error":"#NAME?"}},{"$f":"_xlfn.CONCAT(\"Trimestre 1\",CHAR(10),IFERROR(#REF!,\"\"))","v":{"$error":"#NAME?"}}]
[null,null,null,null,null,null,null,null,null,null,null,null,null,null,null,null,null,null,null,null,null,null,null,null,null,{"$f":"IFERROR(#REF!,\" \")","v":" "},{"$f":"IFERROR(#REF!,\"\")","v":""},{"$f":"IFERROR(#REF!,\"\")","v":""},"","",{"$f":"IFERROR(#REF!,\"\")","v":""},"",{"$f":"IFERROR(#REF!,\"\")","v":""},{"$f":"IFERROR(#REF!,\"\")","v":""},{"$f":"_xlfn.CONCAT(\"Trimestre 1\",CHAR(10),IFERROR(#REF!,\"\"))","v":{"$error":"#NAME?"}},{"$f":"_xlfn.CONCAT(\"Trimestre 1\",CHAR(10),IFERROR(#REF!,\"\"))","v":{"$error":"#NAME?"}},{"$f":"_xlfn.CONCAT(\"Trimestre 1\",CHAR(10),IFERROR(#REF!,\"\"))","v":{"$error":"#NAME?"}},{"$f":"_xlfn.CONCAT(\"Trimestre 1\",CHAR(10),IFERROR(#REF!,\"\"))","v":{"$error":"#NAME?"}},{"$f":"_xlfn.CONCAT(\"Trimestre 1\",CHAR(10),IFERROR(#REF!,\"\"))","v":{"$error":"#NAME?"}}]
[null,null,null,null,null,null,null,null,null,null,null,null,null,null,null,null,null,null,null,null,null,null,null,null,null,{"$f":"IFERROR(#REF!,\" \")","v":" "},{"$f":"IFERROR(#REF!,\"\")","v":""},{"$f":"IFERROR(#REF!,\"\")","v":""},"","",{"$f":"IFERROR(#REF!,\"\")","v":""},"",{"$f":"IFERROR(#REF!,\"\")","v":""},{"$f":"IFERROR(#REF!,\"\")","v":""},{"$f":"_xlfn.CONCAT(\"Trimestre 1\",CHAR(10),IFERROR(#REF!,\"\"))","v":{"$error":"#NAME?"}},{"$f":"_xlfn.CONCAT(\"Trimestre 1\",CHAR(10),IFERROR(#REF!,\"\"))","v":{"$error":"#NAME?"}},{"$f":"_xlfn.CONCAT(\"Trimestre 1\",CHAR(10),IFERROR(#REF!,\"\"))","v":{"$error":"#NAME?"}},{"$f":"_xlfn.CONCAT(\"Trimestre 1\",CHAR(10),IFERROR(#REF!,\"\"))","v":{"$error":"#NAME?"}},{"$f":"_xlfn.CONCAT(\"Trimestre 1\",CHAR(10),IFERROR(#REF!,\"\"))","v":{"$error":"#NAME?"}}]
[null,null,null,null,null,null,null,null,null,null,null,null,null,null,null,null,null,null,null,null,null,null,null,null,null,{"$f":"IFERROR(#REF!,\" \")","v":" "},{"$f":"IFERROR(#REF!,\"\")","v":""},{"$f":"IFERROR(#REF!,\"\")","v":""},"","",{"$f":"IFERROR(#REF!,\"\")","v":""},"",{"$f":"IFERROR(#REF!,\"\")","v":""},{"$f":"IFERROR(#REF!,\"\")","v":""},{"$f":"_xlfn.CONCAT(\"Trimestre 1\",CHAR(10),IFERROR(#REF!,\"\"))","v":{"$error":"#NAME?"}},{"$f":"_xlfn.CONCAT(\"Trimestre 1\",CHAR(10),IFERROR(#REF!,\"\"))","v":{"$error":"#NAME?"}},{"$f":"_xlfn.CONCAT(\"Trimestre 1\",CHAR(10),IFERROR(#REF!,\"\"))","v":{"$error":"#NAME?"}},{"$f":"_xlfn.CONCAT(\"Trimestre 1\",CHAR(10),IFERROR(#REF!,\"\"))","v":{"$error":"#NAME?"}},{"$f":"_xlfn.CONCAT(\"Trimestre 1\",CHAR(10),IFERROR(#REF!,\"\"))","v":{"$error":"#NAME?"}}]
[null,null,null,null,null,null,null,null,null,null,null,null,null,null,null,null,null,null,null,null,null,null,null,null,null,{"$f":"IFERROR(#REF!,\" \")","v":" "},{"$f":"IFERROR(#REF!,\"\")","v":""},{"$f":"IFERROR(#REF!,\"\")","v":""},"","",{"$f":"IFERROR(#REF!,\"\")","v":""},"",{"$f":"IFERROR(#REF!,\"\")","v":""},{"$f":"IFERROR(#REF!,\"\")","v":""},{"$f":"_xlfn.CONCAT(\"Trimestre 1\",CHAR(10),IFERROR(#REF!,\"\"))","v":{"$error":"#NAME?"}},{"$f":"_xlfn.CONCAT(\"Trimestre 1\",CHAR(10),IFERROR(#REF!,\"\"))","v":{"$error":"#NAME?"}},{"$f":"_xlfn.CONCAT(\"Trimestre 1\",CHAR(10),IFERROR(#REF!,\"\"))","v":{"$error":"#NAME?"}},{"$f":"_xlfn.CONCAT(\"Trimestre 1\",CHAR(10),IFERROR(#REF!,\"\"))","v":{"$error":"#NAME?"}},{"$f":"_xlfn.CONCAT(\"Trimestre 1\",CHAR(10),IFERROR(#REF!,\"\"))","v":{"$error":"#NAME?"}}]
[null,null,null,null,null,null,null,null,null,null,null,null,null,null,null,null,null,null,null,null,null,null,null,null,null,{"$f":"IFERROR(#REF!,\" \")","v":" "},{"$f":"IFERROR(#REF!,\"\")","v":""},{"$f":"IFERROR(#REF!,\"\")","v":""},"","",{"$f":"IFERROR(#REF!,\"\")","v":""},"",{"$f":"IFERROR(#REF!,\"\")","v":""},{"$f":"IFERROR(#REF!,\"\")","v":""},{"$f":"_xlfn.CONCAT(\"Trimestre 1\",CHAR(10),IFERROR(#REF!,\"\"))","v":{"$error":"#NAME?"}},{"$f":"_xlfn.CONCAT(\"Trimestre 1\",CHAR(10),IFERROR(#REF!,\"\"))","v":{"$error":"#NAME?"}},{"$f":"_xlfn.CONCAT(\"Trimestre 1\",CHAR(10),IFERROR(#REF!,\"\"))","v":{"$error":"#NAME?"}},{"$f":"_xlfn.CONCAT(\"Trimestre 1\",CHAR(10),IFERROR(#REF!,\"\"))","v":{"$error":"#NAME?"}},{"$f":"_xlfn.CONCAT(\"Trimestre 1\",CHAR(10),IFERROR(#REF!,\"\"))","v":{"$error":"#NAME?"}}]
[null,null,null,null,null,null,null,null,null,null,null,null,null,null,null,null,null,null,null,null,null,null,null,null,null,{"$f":"IFERROR(#REF!,\" \")","v":" "},{"$f":"IFERROR(#REF!,\"\")","v":""},{"$f":"IFERROR(#REF!,\"\")","v":""},"","",{"$f":"IFERROR(#REF!,\"\")","v":""},"",{"$f":"IFERROR(#REF!,\"\")","v":""},{"$f":"IFERROR(#REF!,\"\")","v":""},{"$f":"_xlfn.CONCAT(\"Trimestre 1\",CHAR(10),IFERROR(#REF!,\"\"))","v":{"$error":"#NAME?"}},{"$f":"_xlfn.CONCAT(\"Trimestre 1\",CHAR(10),IFERROR(#REF!,\"\"))","v":{"$error":"#NAME?"}},{"$f":"_xlfn.CONCAT(\"Trimestre 1\",CHAR(10),IFERROR(#REF!,\"\"))","v":{"$error":"#NAME?"}},{"$f":"_xlfn.CONCAT(\"Trimestre 1\",CHAR(10),IFERROR(#REF!,\"\"))","v":{"$error":"#NAME?"}},{"$f":"_xlfn.CONCAT(\"Trimestre 1\",CHAR(10),IFERROR(#REF!,\"\"))","v":{"$error":"#NAME?"}}]
[null,null,null,null,null,null,null,null,null,null,null,null,null,null,null,null,null,null,null,null,null,null,null,null,null,{"$f":"IFERROR(#REF!,\" \")","v":" "},{"$f":"IFERROR(#REF!,\"\")","v":""},{"$f":"IFERROR(#REF!,\"\")","v":""},"","",{"$f":"IFERROR(#REF!,\"\")","v":""},"",{"$f":"IFERROR(#REF!,\"\")","v":""},{"$f":"IFERROR(#REF!,\"\")","v":""},{"$f":"_xlfn.CONCAT(\"Trimestre 1\",CHAR(10),IFERROR(#REF!,\"\"))","v":{"$error":"#NAME?"}},{"$f":"_xlfn.CONCAT(\"Trimestre 1\",CHAR(10),IFERROR(#REF!,\"\"))","v":{"$error":"#NAME?"}},{"$f":"_xlfn.CONCAT(\"Trimestre 1\",CHAR(10),IFERROR(#REF!,\"\"))","v":{"$error":"#NAME?"}},{"$f":"_xlfn.CONCAT(\"Trimestre 1\",CHAR(10),IFERROR(#REF!,\"\"))","v":{"$error":"#NAME?"}},{"$f":"_xlfn.CONCAT(\"Trimestre 1\",CHAR(10),IFERROR(#REF!,\"\"))","v":{"$error":"#NAME?"}}]
[null,null,null,null,null,null,null,null,null,null,null,null,null,null,null,null,null,null,null,null,null,null,null,null,null,{"$f":"IFERROR(#REF!,\" \")","v":" "},{"$f":"IFERROR(#REF!,\"\")","v":""},{"$f":"IFERROR(#REF!,\"\")","v":""},"","",{"$f":"IFERROR(#REF!,\"\")","v":""},"",{"$f":"IFERROR(#REF!,\"\")","v":""},{"$f":"IFERROR(#REF!,\"\")","v":""},{"$f":"_xlfn.CONCAT(\"Trimestre 1\",CHAR(10),IFERROR(#REF!,\"\"))","v":{"$error":"#NAME?"}},{"$f":"_xlfn.CONCAT(\"Trimestre 1\",CHAR(10),IFERROR(#REF!,\"\"))","v":{"$error":"#NAME?"}},{"$f":"_xlfn.CONCAT(\"Trimestre 1\",CHAR(10),IFERROR(#REF!,\"\"))","v":{"$error":"#NAME?"}},{"$f":"_xlfn.CONCAT(\"Trimestre 1\",CHAR(10),IFERROR(#REF!,\"\"))","v":{"$error":"#NAME?"}},{"$f":"_xlfn.CONCAT(\"Trimestre 1\",CHAR(10),IFERROR(#REF!,\"\"))","v":{"$error":"#NAME?"}}]
[null,null,null,null,null,null,null,null,null,null,null,null,null,null,null,null,null,null,null,null,null,null,null,null,null,{"$f":"IFERROR(#REF!,\" \")","v":" "},{"$f":"IFERROR(#REF!,\"\")","v":""},{"$f":"IFERROR(#REF!,\"\")","v":""},"","",{"$f":"IFERROR(#REF!,\"\")","v":""},"",{"$f":"IFERROR(#REF!,\"\")","v":""},{"$f":"IFERROR(#REF!,\"\")","v":""},{"$f":"_xlfn.CONCAT(\"Trimestre 1\",CHAR(10),IFERROR(#REF!,\"\"))","v":{"$error":"#NAME?"}},{"$f":"_xlfn.CONCAT(\"Trimestre 1\",CHAR(10),IFERROR(#REF!,\"\"))","v":{"$error":"#NAME?"}},{"$f":"_xlfn.CONCAT(\"Trimestre 1\",CHAR(10),IFERROR(#REF!,\"\"))","v":{"$error":"#NAME?"}},{"$f":"_xlfn.CONCAT(\"Trimestre 1\",CHAR(10),IFERROR(#REF!,\"\"))","v":{"$error":"#NAME?"}},{"$f":"_xlfn.CONCAT(\"Trimestre 1\",CHAR(10),IFERROR(#REF!,\"\"))","v":{"$error":"#NAME?"}}]
[null,null,"2. Definir e implementar el modelo optimizado de formulación, seguimiento y evaluación de la política pública judicial.",null,null,null,null,null,null,null,null,null,null,null,null,null,null,null,null,null,null,null,null,null,null,{"$f":"IFERROR(#REF!,\" \")","v":" "},{"$f":"IFERROR(#REF!,\"\")","v":""},{"$f":"IFERROR(#REF!,\"\")","v":""},"","",{"$f":"IFERROR(#REF!,\"\")","v":""},"",{"$f":"IFERROR(#REF!,\"\")","v":""},{"$f":"IFERROR(#REF!,\"\")","v":""},{"$f":"_xlfn.CONCAT(\"Trimestre 1\",CHAR(10),IFERROR(#REF!,\"\"))","v":{"$error":"#NAME?"}},{"$f":"_xlfn.CONCAT(\"Trimestre 1\",CHAR(10),IFERROR(#REF!,\"\"))","v":{"$error":"#NAME?"}},{"$f":"_xlfn.CONCAT(\"Trimestre 1\",CHAR(10),IFERROR(#REF!,\"\"))","v":{"$error":"#NAME?"}},{"$f":"_xlfn.CONCAT(\"Trimestre 1\",CHAR(10),IFERROR(#REF!,\"\"))","v":{"$error":"#NAME?"}},{"$f":"_xlfn.CONCAT(\"Trimestre 1\",CHAR(10),IFERROR(#REF!,\"\"))","v":{"$error":"#NAME?"}}]
[null,null,null,null,null,null,null,null,null,null,null,null,null,null,null,null,null,null,null,null,null,null,null,null,null,{"$f":"IFERROR(#REF!,\" \")","v":" "},{"$f":"IFERROR(#REF!,\"\")","v":""},{"$f":"IFERROR(#REF!,\"\")","v":""},"","",{"$f":"IFERROR(#REF!,\"\")","v":""},"",{"$f":"IFERROR(#REF!,\"\")","v":""},{"$f":"IFERROR(#REF!,\"\")","v":""},{"$f":"_xlfn.CONCAT(\"Trimestre 1\",CHAR(10),IFERROR(#REF!,\"\"))","v":{"$error":"#NAME?"}},{"$f":"_xlfn.CONCAT(\"Trimestre 1\",CHAR(10),IFERROR(#REF!,\"\"))","v":{"$error":"#NAME?"}},{"$f":"_xlfn.CONCAT(\"Trimestre 1\",CHAR(10),IFERROR(#REF!,\"\"))","v":{"$error":"#NAME?"}},{"$f":"_xlfn.CONCAT(\"Trimestre 1\",CHAR(10),IFERROR(#REF!,\"\"))","v":{"$error":"#NAME?"}},{"$f":"_xlfn.CONCAT(\"Trimestre 1\",CHAR(10),IFERROR(#REF!,\"\"))","v":{"$error":"#NAME?"}}]
[null,null,null,null,null,null,null,null,null,null,null,null,null,null,null,null,null,null,null,null,null,null,null,null,null,{"$f":"IFERROR(#REF!,\" \")","v":" "},{"$f":"IFERROR(#REF!,\"\")","v":""},{"$f":"IFERROR(#REF!,\"\")","v":""},"","",{"$f":"IFERROR(#REF!,\"\")","v":""},"",{"$f":"IFERROR(#REF!,\"\")","v":""},{"$f":"IFERROR(#REF!,\"\")","v":""},{"$f":"_xlfn.CONCAT(\"Trimestre 1\",CHAR(10),IFERROR(#REF!,\"\"))","v":{"$error":"#NAME?"}},{"$f":"_xlfn.CONCAT(\"Trimestre 1\",CHAR(10),IFERROR(#REF!,\"\"))","v":{"$error":"#NAME?"}},{"$f":"_xlfn.CONCAT(\"Trimestre 1\",CHAR(10),IFERROR(#REF!,\"\"))","v":{"$error":"#NAME?"}},{"$f":"_xlfn.CONCAT(\"Trimestre 1\",CHAR(10),IFERROR(#REF!,\"\"))","v":{"$error":"#NAME?"}},{"$f":"_xlfn.CONCAT(\"Trimestre 1\",CHAR(10),IFERROR(#REF!,\"\"))","v":{"$error":"#NAME?"}}]
[null,null,null,null,null,null,null,null,null,null,null,null,null,null,null,null,null,null,null,null,null,null,null,null,null,{"$f":"IFERROR(#REF!,\" \")","v":" "},{"$f":"IFERROR(#REF!,\"\")","v":""},{"$f":"IFERROR(#REF!,\"\")","v":""},"","",{"$f":"IFERROR(#REF!,\"\")","v":""},"",{"$f":"IFERROR(#REF!,\"\")","v":""},{"$f":"IFERROR(#REF!,\"\")","v":""},{"$f":"_xlfn.CONCAT(\"Trimestre 1\",CHAR(10),IFERROR(#REF!,\"\"))","v":{"$error":"#NAME?"}},{"$f":"_xlfn.CONCAT(\"Trimestre 1\",CHAR(10),IFERROR(#REF!,\"\"))","v":{"$error":"#NAME?"}},{"$f":"_xlfn.CONCAT(\"Trimestre 1\",CHAR(10),IFERROR(#REF!,\"\"))","v":{"$error":"#NAME?"}},{"$f":"_xlfn.CONCAT(\"Trimestre 1\",CHAR(10),IFERROR(#REF!,\"\"))","v":{"$error":"#NAME?"}},{"$f":"_xlfn.CONCAT(\"Trimestre 1\",CHAR(10),IFERROR(#REF!,\"\"))","v":{"$error":"#NAME?"}}]
[null,null,null,null,null,null,null,null,null,null,null,null,null,null,null,null,null,null,null,null,null,null,null,null,null,{"$f":"IFERROR(#REF!,\" \")","v":" "},{"$f":"IFERROR(#REF!,\"\")","v":""},{"$f":"IFERROR(#REF!,\"\")","v":""},"","",{"$f":"IFERROR(#REF!,\"\")","v":""},"",{"$f":"IFERROR(#REF!,\"\")","v":""},{"$f":"IFERROR(#REF!,\"\")","v":""},{"$f":"_xlfn.CONCAT(\"Trimestre 1\",CHAR(10),IFERROR(#REF!,\"\"))","v":{"$error":"#NAME?"}},{"$f":"_xlfn.CONCAT(\"Trimestre 1\",CHAR(10),IFERROR(#REF!,\"\"))","v":{"$error":"#NAME?"}},{"$f":"_xlfn.CONCAT(\"Trimestre 1\",CHAR(10),IFERROR(#REF!,\"\"))","v":{"$error":"#NAME?"}},{"$f":"_xlfn.CONCAT(\"Trimestre 1\",CHAR(10),IFERROR(#REF!,\"\"))","v":{"$error":"#NAME?"}},{"$f":"_xlfn.CONCAT(\"Trimestre 1\",CHAR(10),IFERROR(#REF!,\"\"))","v":{"$error":"#NAME?"}}]
[null,null,null,null,null,null,null,null,null,null,null,null,null,null,null,null,null,null,null,null,null,null,null,null,null,{"$f":"IFERROR(#REF!,\" \")","v":" "},{"$f":"IFERROR(#REF!,\"\")","v":""},{"$f":"IFERROR(#REF!,\"\")","v":""},"","",{"$f":"IFERROR(#REF!,\"\")","v":""},"",{"$f":"IFERROR(#REF!,\"\")","v":""},{"$f":"IFERROR(#REF!,\"\")","v":""},{"$f":"_xlfn.CONCAT(\"Trimestre 1\",CHAR(10),IFERROR(#REF!,\"\"))","v":{"$error":"#NAME?"}},{"$f":"_xlfn.CONCAT(\"Trimestre 1\",CHAR(10),IFERROR(#REF!,\"\"))","v":{"$error":"#NAME?"}},{"$f":"_xlfn.CONCAT(\"Trimestre 1\",CHAR(10),IFERROR(#REF!,\"\"))","v":{"$error":"#NAME?"}},{"$f":"_xlfn.CONCAT(\"Trimestre 1\",CHAR(10),IFERROR(#REF!,\"\"))","v":{"$error":"#NAME?"}},{"$f":"_xlfn.CONCAT(\"Trimestre 1\",CHAR(10),IFERROR(#REF!,\"\"))","v":{"$error":"#NAME?"}}]
[null,null,null,null,null,null,null,null,null,null,null,null,null,null,null,null,null,null,null,null,null,null,null,null,null,{"$f":"IFERROR(#REF!,\" \")","v":" "},{"$f":"IFERROR(#REF!,\"\")","v":""},{"$f":"IFERROR(#REF!,\"\")","v":""},"","",{"$f":"IFERROR(#REF!,\"\")","v":""},"",{"$f":"IFERROR(#REF!,\"\")","v":""},{"$f":"IFERROR(#REF!,\"\")","v":""},{"$f":"_xlfn.CONCAT(\"Trimestre 1\",CHAR(10),IFERROR(#REF!,\"\"))","v":{"$error":"#NAME?"}},{"$f":"_xlfn.CONCAT(\"Trimestre 1\",CHAR(10),IFERROR(#REF!,\"\"))","v":{"$error":"#NAME?"}},{"$f":"_xlfn.CONCAT(\"Trimestre 1\",CHAR(10),IFERROR(#REF!,\"\"))","v":{"$error":"#NAME?"}},{"$f":"_xlfn.CONCAT(\"Trimestre 1\",CHAR(10),IFERROR(#REF!,\"\"))","v":{"$error":"#NAME?"}},{"$f":"_xlfn.CONCAT(\"Trimestre 1\",CHAR(10),IFERROR(#REF!,\"\"))","v":{"$error":"#NAME?"}}]
[null,null,null,null,null,null,null,null,null,null,null,null,null,null,null,null,null,null,null,null,null,null,null,null,null,{"$f":"IFERROR(#REF!,\" \")","v":" "},{"$f":"IFERROR(#REF!,\"\")","v":""},{"$f":"IFERROR(#REF!,\"\")","v":""},"","",{"$f":"IFERROR(#REF!,\"\")","v":""},"",{"$f":"IFERROR(#REF!,\"\")","v":""},{"$f":"IFERROR(#REF!,\"\")","v":""},{"$f":"_xlfn.CONCAT(\"Trimestre 1\",CHAR(10),IFERROR(#REF!,\"\"))","v":{"$error":"#NAME?"}},{"$f":"_xlfn.CONCAT(\"Trimestre 1\",CHAR(10),IFERROR(#REF!,\"\"))","v":{"$error":"#NAME?"}},{"$f":"_xlfn.CONCAT(\"Trimestre 1\",CHAR(10),IFERROR(#REF!,\"\"))","v":{"$error":"#NAME?"}},{"$f":"_xlfn.CONCAT(\"Trimestre 1\",CHAR(10),IFERROR(#REF!,\"\"))","v":{"$error":"#NAME?"}},{"$f":"_xlfn.CONCAT(\"Trimestre 1\",CHAR(10),IFERROR(#REF!,\"\"))","v":{"$error":"#NAME?"}}]
[null,null,null,null,null,null,null,null,null,null,null,null,null,null,null,null,null,null,null,null,null,null,null,null,null,{"$f":"IFERROR(#REF!,\" \")","v":" "},{"$f":"IFERROR(#REF!,\"\")","v":""},{"$f":"IFERROR(#REF!,\"\")","v":""},"","",{"$f":"IFERROR(#REF!,\"\")","v":""},"",{"$f":"IFERROR(#REF!,\"\")","v":""},{"$f":"IFERROR(#REF!,\"\")","v":""},{"$f":"_xlfn.CONCAT(\"Trimestre 1\",CHAR(10),IFERROR(#REF!,\"\"))","v":{"$error":"#NAME?"}},{"$f":"_xlfn.CONCAT(\"Trimestre 1\",CHAR(10),IFERROR(#REF!,\"\"))","v":{"$error":"#NAME?"}},{"$f":"_xlfn.CONCAT(\"Trimestre 1\",CHAR(10),IFERROR(#REF!,\"\"))","v":{"$error":"#NAME?"}},{"$f":"_xlfn.CONCAT(\"Trimestre 1\",CHAR(10),IFERROR(#REF!,\"\"))","v":{"$error":"#NAME?"}},{"$f":"_xlfn.CONCAT(\"Trimestre 1\",CHAR(10),IFERROR(#REF!,\"\"))","v":{"$error":"#NAME?"}}]
[null,null,null,null,null,null,null,null,null,null,null,null,null,null,null,null,null,null,null,null,null,null,null,null,null,{"$f":"IFERROR(#REF!,\" \")","v":" "},{"$f":"IFERROR(#REF!,\"\")","v":""},{"$f":"IFERROR(#REF!,\"\")","v":""},"","",{"$f":"IFERROR(#REF!,\"\")","v":""},"",{"$f":"IFERROR(#REF!,\"\")","v":""},{"$f":"IFERROR(#REF!,\"\")","v":""},{"$f":"_xlfn.CONCAT(\"Trimestre 1\",CHAR(10),IFERROR(#REF!,\"\"))","v":{"$error":"#NAME?"}},{"$f":"_xlfn.CONCAT(\"Trimestre 1\",CHAR(10),IFERROR(#REF!,\"\"))","v":{"$error":"#NAME?"}},{"$f":"_xlfn.CONCAT(\"Trimestre 1\",CHAR(10),IFERROR(#REF!,\"\"))","v":{"$error":"#NAME?"}},{"$f":"_xlfn.CONCAT(\"Trimestre 1\",CHAR(10),IFERROR(#REF!,\"\"))","v":{"$error":"#NAME?"}},{"$f":"_xlfn.CONCAT(\"Trimestre 1\",CHAR(10),IFERROR(#REF!,\"\"))","v":{"$error":"#NAME?"}}]

{"sheet":"JURISDICCIONAL","index":6,"n_rows":29,"n_cols":16,"rows_kept":29,"cut":false,"hidden":true,"merged":[[1,2,1,13],[2,0,3,0],[2,1,3,1],[2,2,3,2],[2,3,3,3],[2,4,3,4],[2,5,2,7],[2,8,2,10],[2,11,3,11],[2,12,2,13],[2,14,2,15],[4,0,8,0],[4,1,8,1],[4,3,8,3],[9,0,14,0],[9,1,14,1],[9,3,14,3],[27,0,28,0],[27,1,28,1],[27,3,28,3],[15,0,21,0],[15,1,21,1],[15,3,21,3],[22,0,26,0],[22,1,26,1],[22,3,26,3]]}
[]
[null,null,"CONSEJO SUPERIOR DE LA JUDICATURA \nUNIDADES MISIONALES DEL CONSEJO SUPERIOR DE LA JUDICATURA - \nDIRECCIÓN EJECUTIVA DE ADMINISTRACIÓN JUDICIAL -UNIDADES MISIONALES DE LA DEAJ\nDIRECCIONES SECCIONALES DE ADMINISTRACIÓN JUDICIAL "]
["No. ","OBJETIVOS ESTRATEGICOS PLAN SECTORIAL DE DESARROLLO 2023-2026","OBJETIVOS ESPECIFICOS PLAN SECTORIAL DE DESARROLLO 2023-2026","OBJETIVOS DEL SIGCMA","DESCRIPCIÓN DE LA ACTIVIDAD (INVERSIÓN O DE GESTIÓN) ","MAPA DE PROCESO DEL SIGCMA (RELACIONE  EL PROCESO ESTRATÉGICO, MISIONAL, APOYO y EVALUACIÓN - MEJORA)",null,null,"MEDICIÓN DE LA GESTIÓN ",null,null,"RESPONSABLE POR PROYECTO O ACTIVIDAD","FECHA DEL PROYECTO/ACTIVIDAD",null,"ANÁLISIS DE RESULTADOS"]
[null,null,null,null,null,"NOMBRE DEL PROCESO","CENTRAL","SECCIONAL","ENTREGABLE","INDICADOR","DESCRIBIR EL INDICADOR",null,"INICIO \nDÍA/MES/AÑO","FIN\nDÍA/MES/AÑO","CUMPLIMIENTO DEL OBJETIVO (ACUMULADO DE LOS 4 TRIMESTRES)"," ANÁLISIS RESULTADO\nFINAL - ACUMULADO"]
[1,"Acceso a Infraestructura Física"," 1. Ampliar el acceso a justicia para atender las necesidades jurídicas de los \nciudadanos con un enfoque diferencial, de una manera pronta, reduciendo las \ninequidades y las brechas territoriales de acceso.","\n2. Asegurar  el cumplimiento de los objetivos institucionales, la normatividad aplicable,  la mejora del SIGCMA y la satisfacción de los usuarios, revisando de  forma continua y sistemática la planificación de la gestión y fortaleciendo la administración de riesgos y sus controles. (1,2,3 y 5)\n\n4. Hacer un uso racional de los recursos naturales aplicando los principios y fases de la Economía Circular, para prevenir, mitigar y controlar los impactos ambientales. (4)\n\n"]
[null,null,"2. Mejorar los tiempos de respuesta de la Rama Judicial y reducir el inventario de \nprocesos, identificando los retos internos y promoviendo tanto acciones articuladas\nespecíficas para abordarlos como estrategias coordinadas para enfrentar las \nbarreras que dependen de otras entidades."]
[null,null,"3. Coadyuvar en la garantía de la idoneidad en el ejercicio de la profesión jurídica de acuerdo con lo establecido en la Ley 1905 de 2018"]
[null,null,"4. Avanzar en la disposición de una infraestructura óptima para el acceso a la justicia en la Rama Judicial de modo que se fortalezca la presencia territorial, teniendo en cuenta las posibilidades que ofrece la transformación digital y las necesidades que se derivan de ella, y considerando tanto las necesidades de los usuarios como las de los servidores judiciales."]
[null,null,"5. Impulsar el uso de mecanismos alternativos para la solución de conflictos y la \nampliación de la justicia restaurativa y terapéutica y el robustecimiento de las alternativas al encarcelamiento"]
[2,"Servicios digitales y de tecnología, innovación y análisis de la información","1. Ampliar el acceso a la justicia a través de la consolidación del uso de los servicios \ndigitales que conforman el sistema único integrado de gestión judicial en todos los \ndespachos judiciales y dependencias de apoyo y, específicamente, incluyendo el \ndespliegue e implementación del Expediente Judicial Electrónico en todas las \njurisdicciones y especialidades.","6. Proteger, preservar y administrar los activos de información  implementando acciones  para gestionar de forma adecuada los incidentes  , proteger los datos personales y adoptar mecanismos  de ciberseguridad y aseguramiento de la  continuidad del negocio (1, 2, 3, 4, 5 y 6)"]
[null,null,"2. Integrar y hacer compatibles todos los aplicativos de transición con SIUGJ, para que la migración de los expedientes judiciales a dicha plataforma sea real y no suponga afectaciones en la prestación del servicio de justicia."]
[null,null,"\n3. Fortalecer las capacidades institucionales, adecuar el modelo operativo y de \nservicio, bajo un enfoque de Arquitectura Empresarial y de fortalecimiento del \nacceso a la justicia."]
[null,null,"\n4.Consolidar la cultura y apropiación de la transformación digital en los servidores y \nusuarios de los servicios de la Rama Judicial y reducir brechas de acceso y conocimiento, incluyendo la oferta efectiva de información sobre el uso de las nuevas herramientas virtuales implementadas en las diferentes jurisdicciones, con especial énfasis en las zonas del país donde es evidente la brecha digital."]
[null,null,"\n5.Consolidar la infraestructura y los recursos necesarios para la implementación exitosa de la transformación digital, incluyendo la disposición de internet de calidad en el 100% de las sedes en la Rama Judicial y modernizar los servicios tecnológicos de soporte. "]
[null,null,"\n6.Integrar y optimizar los servicios administrativos de la Rama Judicial bajo un enfoque de transformación digital e innovación incluyendo los componentes financiero, administrativo, talento humano, entre otros"]
[3,"Confianza pública, transparencia y rendición de cuentas","1. Incrementar la cantidad, la calidad y pertinencia de los datos sobre el funcionamiento del servicio de justicia bajo un modelo de gobierno de datos y un liderazgo unificado. \n","1. Gestionar el desarrollo de las competencias, la toma de conciencia , la cultura  organizacional  y el compromiso de los  servidores judiciales, contratistas, practicantes y  judicantes de contribuir a generar valor público en la administración de justicia, en el marco de  cumplimiento de los requisitos  aplicables y el comportamiento ético. (3 y 7)\n\n3. Fomentar la transparencia y la participación generando lineamientos y promoviendo la rendición de cuentas ,la consulta, reporte y planteamiento de inquietudes en relación con las decisiones y aspectos del SIGCMA. (3, 4, 5 y 6)\n\n4. Hacer un uso racional de los recursos naturales aplicando los principios y fases de la Economía Circular, para prevenir, mitigar y controlar los impactos ambientales. (1 y 7)\n"]
[null,null,"2. Consolidar la administración de la información entendida como todas las acciones \norientadas a garantizar el acceso, consulta, uso y conservación de la información \nde justicia de manera ágil, flexible e inteligente, bajo un enfoque de innovación."]
[null,null,"3. Fortalecer el Sistema integrado de Gestión de la Rama, orientado a la implementación y certificación de las normas antisoborno."]
[null,null,"4. Aumentar la confianza, la cercanía y acceso a los servicios de la Rama Judicial a \ntravés, entre otros, de una comunicación clara y asertiva con la ciudadanía."]
[null,null,"5. Prevenir fenómenos asociados con actos de corrupción en la Rama Judicial y \nreducir las experiencias de corrupción de usuarios y servidores judiciales."]
[null,null,"6. Promover la rendición de cuentas y la colaboración real con la ciudadanía como \nfundamento para diseñar acciones de mejoramiento del acceso a la justicia."]
[null,null,"7. Continuar la consolidación del SIGCMA, a través de los procesos de formación en \nmodelos de gestión, logrando la implementación y ampliación de este en los esquemas certificados de manera gradual, teniendo en cuenta las capacidades de los diferentes despachos judiciales y dependencias de la Rama Judicial y articulando el enfoque de Arquitectura Empresarial para el desarrollo del PETD a través de la gestión del conocimiento para la gestión del cambio propendiendo por una cultura de la calidad, la transparencia, la rendición de cuentas, la anticorrupción y el antisoborno"]
[4,"Talento Humano","1. Ampliar la cobertura de la carrera judicial optimizando los procesos de los concursos de méritos y propender por mitigar su litigiosidad.","1. Gestionar el desarrollo de las competencias, la toma de conciencia , la cultura  organizacional  y el compromiso de los  servidores judiciales, contratistas, practicantes y  judicantes de contribuir a generar valor público en la administración de justicia, en el marco de  cumplimiento de los requisitos  aplicables y el comportamiento ético. (1, 2, 3 y 4)\n\n5. Generar espacios de trabajo seguros y saludables que contribuyan a minimizar los  incidentes, accidentes y enfermedades laborales derivados de las condiciones y actos  inseguros y fomentar  el autocuidado, los  estilos de vida y el trabajo saludable en los servidores judiciales, contratistas, judicantes y practicantes. (5)\n"]
[null,null,"2. Impactar la función y servicios que presta la Rama Judicial, a través de una\nformación integral desde una visión de gestión del conocimiento, relacionada con \nlos problemas de la justicia y los problemas de gestión de quienes administran los \nrecursos de la justicia, y potenciando el uso de medios virtuales."]
[null,null,"3. Promover la incorporación de la perspectiva de género y el enfoque diferencial en \nlos fallos judiciales y en la atención a los ciudadanos, la administración de la Rama \nJudicial, la administración de la carrera judicial y la elaboración de listas para altas \nCortes. "]
[null,null,"4. Desarrollar en los servidores judiciales y demás grupos de valor relevantes las \ncompetencias necesarias para la efectividad de la transformación digital de modo \nque puedan, entre otros, utilizar con solvencia las herramientas digitales dispuestas \npara sus respectivas funciones. Además, fortalecer y actualizar los conocimientos \ndel personal a cargo de la gestión de proyectos de tecnología."]
[null,null,"5. Promover el bienestar de todos los servidores judiciales a través de la implementación de un sistema que contemple los diferentes niveles de estrategias y acciones necesarios para mejorar el clima laboral, la salud física y mental y la calidad del tiempo de descanso."]
[5,"Gobernanza, planeación estratégica y capacidad de toma de decisiones","1. Implementar un nuevo modelo integrado para la planeación estratégica, el \nseguimiento y la medición del desempeño institucional.","\n2. Asegurar  el cumplimiento de los objetivos institucionales, la normatividad aplicable,  la mejora del SIGCMA y la satisfacción de los usuarios, revisando de  forma continua y sistemática la planificación de la gestión y fortaleciendo la administración de riesgos y sus controles. (1 y 2)"]
[null,null,"2. Definir e implementar el modelo optimizado de formulación, seguimiento y \nevaluación de la política pública judicial."]