{"text_format":"1","workbook":"xlsx","n_sheets":11,"sheets":["PLAN DE ACCION CONSOLIDACION","INFO_ANÁLISIS DE CONTEXTO","INFO_ESTRATEGIAS","PLAN DE ACCION","GESTION","GESTION_SEG_4_TRIM","GESTION_SEG_3_TRIM","GESTION_SEG_2_TRIM","GESTION_SEG_1_TRIM","INVERSION","JURISDICCIONAL"],"not_rendered":{"charts":0,"images":5,"macros":1,"external_links":2,"defined_names":29,"comments":0,"pivot_tables":0},"unopened":[],"bounds":{"document_bytes":16777216,"sheet_cells":100000,"rows_first":2000,"rows_last":500,"rows_between":2000,"halvings":0,"cell_chars":16384,"cell_head_chars":4096},"cells_cut":0,"cells_raw":0,"read":"row_number_cap","date_system":"1900"}

{"sheet":"PLAN DE ACCION CONSOLIDACION","index":0,"n_rows":29,"n_cols":24,"rows_kept":29,"cut":false,"hidden":true,"merged":[[27,0,28,0],[27,1,28,1],[27,3,28,3],[15,0,21,0],[15,1,21,1],[15,3,21,3],[22,0,26,0],[22,1,26,1],[22,3,26,3],[2,22,2,23],[4,0,8,0],[4,1,8,1],[4,3,8,3],[9,0,14,0],[9,1,14,1],[9,3,14,3],[1,2,1,21],[2,0,3,0],[2,1,3,1],[2,2,3,2],[2,3,3,3],[2,4,3,4],[2,5,2,7],[2,8,2,10],[2,11,2,15],[2,16,2,18],[2,19,3,19],[2,20,2,21]]}
[]
[null,null,"CONSEJO SUPERIOR DE LA JUDICATURA \nUNIDADES MISIONALES DEL CONSEJO SUPERIOR DE LA JUDICATURA - \nDIRECCIÓN EJECUTIVA DE ADMINISTRACIÓN JUDICIAL -UNIDADES MISIONALES DE LA DEAJ\nDIRECCIONES SECCIONALES DE ADMINISTRACIÓN JUDICIAL "]
["No. ","OBJETIVOS ESTRATEGICOS PLAN SECTORIAL DE DESARROLLO 2023-2026","OBJETIVOS ESPECIFICOS PLAN SECTORIAL DE DESARROLLO 2023-2026","OBJETIVOS DEL SIGCMA","DESCRIPCIÓN DE LA ACTIVIDAD (INVERSIÓN O DE GESTIÓN) ","MAPA DE PROCESO DEL SIGCMA (RELACIONE  EL PROCESO ESTRATÉGICO, MISIONAL, APOYO y EVALUACIÓN - MEJORA)",null,null,"MEDICIÓN DE LA GESTIÓN ",null,null,"PROYECTOS DE INVERSIÓN DE ACUERDO CON LOS OBJETIVOS DEL PLAN SECTORIAL DE DESARROLLO",null,null,null,null,"MEDICIÓN (INVERSIÓN INDICADORES POAI- GESTIÓN INDICADORES",null,null,"RESPONSABLE POR PROYECTO O ACTIVIDAD","FECHA DEL PROYECTO/ACTIVIDAD",null,"ANÁLISIS DE RESULTADOS"]
[null,null,null,null,null,"NOMBRE DEL PROCESO","CENTRAL","SECCIONAL","ENTREGABLE","INDICADOR","DESCRIBIR EL INDICADOR","PROGRAMA DE INVERSIÓN","NOMBRE DEL PROYECTO DE INVERSIÓN ","CODIGO BPIN (PROYECTO)","CODIGO PRESUPUESTAL","ACTIVIDAD DE INVERSIÓN (POAI)","ENTREGABLE","INDICADOR","DESCRIBIR EL INDICADOR",null,"INICIO \nDÍA/MES/AÑO","FIN\nDÍA/MES/AÑO","CUMPLIMIENTO DEL OBJETIVO (ACUMULADO DE LOS 4 TRIMESTRES)"," ANÁLISIS RESULTADO\nFINAL - ACUMULADO"]
[1,"Acceso a Infraestructura Física"," 1. Ampliar el acceso a justicia para atender las necesidades jurídicas de los \nciudadanos con un enfoque diferencial, de una manera pronta, reduciendo las \ninequidades y las brechas territoriales de acceso.","\n2. Asegurar  el cumplimiento de los objetivos institucionales, la normatividad aplicable,  la mejora del SIGCMA y la satisfacción de los usuarios, revisando de  forma continua y sistemática la planificación de la gestión y fortaleciendo la administración de riesgos y sus controles. (1,2,3 y 5)\n\n4. Hacer un uso racional de los recursos naturales aplicando los principios y fases de la Economía Circular, para prevenir, mitigar y controlar los impactos ambientales. (4)\n\n"]
[null,null,"2. Mejorar los tiempos de respuesta de la Rama Judicial y reducir el inventario de \nprocesos, identificando los retos internos y promoviendo tanto acciones articuladas\nespecíficas para abordarlos como estrategias coordinadas para enfrentar las \nbarreras que dependen de otras entidades."]
[null,null,"3. Coadyuvar en la garantía de la idoneidad en el ejercicio de la profesión jurídica de acuerdo con lo establecido en la Ley 1905 de 2018"]
[null,null,"4. Avanzar en la disposición de una infraestructura óptima para el acceso a la justicia en la Rama Judicial de modo que se fortalezca la presencia territorial, teniendo en cuenta las posibilidades que ofrece la transformación digital y las necesidades que se derivan de ella, y considerando tanto las necesidades de los usuarios como las de los servidores judiciales."]
[null,null,"5. Impulsar el uso de mecanismos alternativos para la solución de conflictos y la \nampliación de la justicia restaurativa y terapéutica y el robustecimiento de las alternativas al encarcelamiento"]
[2,"Servicios digitales y de tecnología, innovación y análisis de la información","1. Ampliar el acceso a la justicia a través de la consolidación del uso de los servicios \ndigitales que conforman el sistema único integrado de gestión judicial en todos los \ndespachos judiciales y dependencias de apoyo y, específicamente, incluyendo el \ndespliegue e implementación del Expediente Judicial Electrónico en todas las \njurisdicciones y especialidades.","6. Proteger, preservar y administrar los activos de información  implementando acciones  para gestionar de forma adecuada los incidentes  , proteger los datos personales y adoptar mecanismos  de ciberseguridad y aseguramiento de la  continuidad del negocio (1, 2, 3, 4, 5 y 6)"]
[null,null,"2. Integrar y hacer compatibles todos los aplicativos de transición con SIUGJ, para que la migración de los expedientes judiciales a dicha plataforma sea real y no suponga afectaciones en la prestación del servicio de justicia."]
[null,null,"\n3. Fortalecer las capacidades institucionales, adecuar el modelo operativo y de \nservicio, bajo un enfoque de Arquitectura Empresarial y de fortalecimiento del \nacceso a la justicia."]
[null,null,"\n4.Consolidar la cultura y apropiación de la transformación digital en los servidores y \nusuarios de los servicios de la Rama Judicial y reducir brechas de acceso y conocimiento, incluyendo la oferta efectiva de información sobre el uso de las nuevas herramientas virtuales implementadas en las diferentes jurisdicciones, con especial énfasis en las zonas del país donde es evidente la brecha digital."]
[null,null,"\n5.Consolidar la infraestructura y los recursos necesarios para la implementación exitosa de la transformación digital, incluyendo la disposición de internet de calidad en el 100% de las sedes en la Rama Judicial y modernizar los servicios tecnológicos de soporte. "]
[null,null,"\n6.Integrar y optimizar los servicios administrativos de la Rama Judicial bajo un enfoque de transformación digital e innovación incluyendo los componentes financiero, administrativo, talento humano, entre otros"]
[3,"Confianza pública, transparencia y rendición de cuentas","1. Incrementar la cantidad, la calidad y pertinencia de los datos sobre el funcionamiento del servicio de justicia bajo un modelo de gobierno de datos y un liderazgo unificado. \n","1. Gestionar el desarrollo de las competencias, la toma de conciencia , la cultura  organizacional  y el compromiso de los  servidores judiciales, contratistas, practicantes y  judicantes de contribuir a generar valor público en la administración de justicia, en el marco de  cumplimiento de los requisitos  aplicables y el comportamiento ético. (3 y 7)\n\n3. Fomentar la transparencia y la participación generando lineamientos y promoviendo la rendición de cuentas ,la consulta, reporte y planteamiento de inquietudes en relación con las decisiones y aspectos del SIGCMA. (3, 4, 5 y 6)\n\n4. Hacer un uso racional de los recursos naturales aplicando los principios y fases de la Economía Circular, para prevenir, mitigar y controlar los impactos ambientales. (1 y 7)\n"]
[null,null,"2. Consolidar la administración de la información entendida como todas las acciones \norientadas a garantizar el acceso, consulta, uso y conservación de la información \nde justicia de manera ágil, flexible e inteligente, bajo un enfoque de innovación."]
[null,null,"3. Fortalecer el Sistema integrado de Gestión de la Rama, orientado a la implementación y certificación de las normas antisoborno."]
[null,null,"4. Aumentar la confianza, la cercanía y acceso a los servicios de la Rama Judicial a \ntravés, entre otros, de una comunicación clara y asertiva con la ciudadanía."]
[null,null,"5. Prevenir fenómenos asociados con actos de corrupción en la Rama Judicial y \nreducir las experiencias de corrupción de usuarios y servidores judiciales."]
[null,null,"6. Promover la rendición de cuentas y la colaboración real con la ciudadanía como \nfundamento para diseñar acciones de mejoramiento del acceso a la justicia."]
[null,null,"7. Continuar la consolidación del SIGCMA, a través de los procesos de formación en \nmodelos de gestión, logrando la implementación y ampliación de este en los esquemas certificados de manera gradual, teniendo en cuenta las capacidades de los diferentes despachos judiciales y dependencias de la Rama Judicial y articulando el enfoque de Arquitectura Empresarial para el desarrollo del PETD a través de la gestión del conocimiento para la gestión del cambio propendiendo por una cultura de la calidad, la transparencia, la rendición de cuentas, la anticorrupción y el antisoborno"]
[4,"Talento Humano","1. Ampliar la cobertura de la carrera judicial optimizando los procesos de los concursos de méritos y propender por mitigar su litigiosidad.","1. Gestionar el desarrollo de las competencias, la toma de conciencia , la cultura  organizacional  y el compromiso de los  servidores judiciales, contratistas, practicantes y  judicantes de contribuir a generar valor público en la administración de justicia, en el marco de  cumplimiento de los requisitos  aplicables y el comportamiento ético. (1, 2, 3 y 4)\n\n5. Generar espacios de trabajo seguros y saludables que contribuyan a minimizar los  incidentes, accidentes y enfermedades laborales derivados de las condiciones y actos  inseguros y fomentar  el autocuidado, los  estilos de vida y el trabajo saludable en los servidores judiciales, contratistas, judicantes y practicantes. (5)\n"]
[null,null,"2. Impactar la función y servicios que presta la Rama Judicial, a través de una\nformación integral desde una visión de gestión del conocimiento, relacionada con \nlos problemas de la justicia y los problemas de gestión de quienes administran los \nrecursos de la justicia, y potenciando el uso de medios virtuales."]
[null,null,"3. Promover la incorporación de la perspectiva de género y el enfoque diferencial en \nlos fallos judiciales y en la atención a los ciudadanos, la administración de la Rama \nJudicial, la administración de la carrera judicial y la elaboración de listas para altas \nCortes. "]
[null,null,"4. Desarrollar en los servidores judiciales y demás grupos de valor relevantes las \ncompetencias necesarias para la efectividad de la transformación digital de modo \nque puedan, entre otros, utilizar con solvencia las herramientas digitales dispuestas \npara sus respectivas funciones. Además, fortalecer y actualizar los conocimientos \ndel personal a cargo de la gestión de proyectos de tecnología."]
[null,null,"5. Promover el bienestar de todos los servidores judiciales a través de la implementación de un sistema que contemple los diferentes niveles de estrategias y acciones necesarios para mejorar el clima laboral, la salud física y mental y la calidad del tiempo de descanso."]
[5,"Gobernanza, planeación estratégica y capacidad de toma de decisiones","1. Implementar un nuevo modelo integrado para la planeación estratégica, el \nseguimiento y la medición del desempeño institucional.","\n2. Asegurar  el cumplimiento de los objetivos institucionales, la normatividad aplicable,  la mejora del SIGCMA y la satisfacción de los usuarios, revisando de  forma continua y sistemática la planificación de la gestión y fortaleciendo la administración de riesgos y sus controles. (1 y 2)"]
[null,null,"2. Definir e implementar el modelo optimizado de formulación, seguimiento y \nevaluación de la política pública judicial."]

{"sheet":"INFO_ANÁLISIS DE CONTEXTO","index":1,"n_rows":81,"n_cols":10,"rows_kept":81,"cut":false,"hidden":false,"merged":[[64,0,65,0],[66,0,67,0],[68,0,75,0],[61,0,63,0],[76,0,80,0],[0,1,0,3],[29,0,29,4],[1,1,1,2],[3,1,3,4],[5,0,6,0],[5,1,5,2],[5,3,5,4],[6,1,6,2],[6,3,6,4],[27,0,28,0],[8,0,8,4],[10,0,11,0],[12,0,14,0],[15,0,21,0],[22,0,25,0],[51,0,60,0],[31,0,37,0],[38,0,41,0],[42,0,47,0],[48,0,50,0]]}
[null,"ANÁLISIS DE CONTEXTO"]
["CONSEJO SECCIONAL/DIRECCIÓN SECCIONAL DE ADMINISTRACIÓN JUDICIAL Y/O DISTRITO JUDICIAL SEGÚN SEA EL CASO","CONSEJO SECCIONAL DE LA JUDICATURA DE CALDAS",null,"PROCESO ","TODOS LOS PROCESOS"]
[]
["DEPENDENCIA ADMINISTRATIVA O JUDICIAL CERTIFICADA ","CONSEJO SECCIONAL DE LA JUDICATURA DE CALDAS"]
[]
["OBJETIVO DEL PROCESO","MAPA DE PROCESOS CONSEJO SUPERIOR DE LA JUDICATURA",null,"PROCESOS DEPENDENCIA JUDICIALES CERTIFICADAS"]
[null,"El objetivo de cada proceso se encuentra descrito en su respectiva caracterización"]
[]
["CONTEXTO EXTERNO "]
["FACTORES TEMÁTICOS","No.","AMENAZAS (Factores específicos) ","No. ","OPORTUNIDADES (Factores específicos) "]
["Político (cambios de gobierno, legislación, políticas públicas, regulación)",1,"Cambios de gerentes públicos",1,"Ley 2213 de 2022, por medio de la cual se establece la vigencia permanente del Decreto Legislativo 806 de 2020 y se adoptan medidas para implementar las tecnologías de la información y las comunicaciones en las actuaciones judiciales, agilizar los procesos judiciales y flexibilizar la atención a los usuarios del servicio de justicia y se dictan otras disposiciones"]
[null,2,"Cambio de Normatividad y Regulaciones Expedidas por el Gobierno Nacional o el Congreso de la Republica que afecten la administración de Justicia."]
["Económicos y Financieros (disponibilidad de capital, liquidez, mercados financieros, desempleo, competencia)",3,"Presupuesto insuficiente asignado para  la vigencia 2023 de la Rama Judicial",2,"Incremento del PIB que potencialice el crecimiento económico del país y viabilice la asignación suficiente de recursos para la Rama Judicial "]
[null,4,"No contar con el PAC oportunamente para la ejecución de proyectos de inversión"]
[null,5,"Numero deficiente de proveedores inscritos en la plataforma de Colombia Compra Eficiente, para suplir las necesidades de adquisición de bienes y servicios "]
["Sociales  y culturales (cultura, religión, demografía, responsabilidad social, orden público)",6,"Interrupción del servicio público de Administrar Justicia a causa del conflicto armado de la región.",3,"Incremento de la credibilidad y confianza en la administración de justicia al implementar y certificar sus Sistemas de Gestión. \n\n"]
[null,7,"Interrupción del servicio público de Administrar Justicia a causa del pandemias y sus variantes.",4,"Visibilizacion de la Administración de Justicia  entre los actores no formales de la justicia (Grupos y minorías Indígenas, género)"]
[null,8,"Interrupción del servicio público de Administrar Justicia por razones de orden público"]
[null,9,"Limitaciones en  la movilidad asociados a factores del orden público "]
[null,10,"Aumento de la demanda de Justicia a causa de la problemática social"]
[null,11,"Amenazas a servidores judiciales en razón al ejercicio de sus funciones."]
[null,12,"Afectaciones a la infraestructura física de las sedes Judiciales "]
["Tecnológicos (desarrollo digital, avances en tecnología, acceso a sistemas de información externos, gobierno en línea)",13,"Perdida o hackeo de información derivada de ataques cibernéticos",5,"Marco regulatorio del  MINTICS, para la gobernanza, gobernabilidad y transformación digital"]
[null,14,"Indisponibilidad y/o colapso de la infraestructura tecnológica ",6,"Desarrollo de alianzas estratégicas para el fortalecimiento del servicio público de administración de justicia, a través de las TICs"]
[null,15,"Afectación de la prestación del servicio de conectividad ",7,"Generar espacios donde se realicen acuerdo interinstitucionales para poder consultar información que beneficie la administración de justicia"]
[null,16,"Ausencia de portal único de información del Estado (Ramas del poder, órganos autónomos y demás entes especiales), que garantice la consulta de información en línea de toda la información oficial. Gobierno en Línea)"]
["Legales y reglamentarios (estándares nacionales, internacionales, regulación)",17,"Normas expedidas que afecten el desarrollo de las etapas propias de los procesos",8,"Actualización del marco normativo"]
["Ambientales (emisiones y residuos, energía, catástrofes naturales, desarrollo sostenible)",18,"Fenómenos naturales (Inundación, quema de bosques, sismo, vendavales, epidemias y plagas, erupción volcánica)"]
[null,19,"Aumento de los impactos ambientales negativos por pandemias"]
["CONTEXTO INTERNO "]
["FACTORES TEMÁTICOS","No.","DEBILIDADES  (Factores específicos)  ","No. ","FORTALEZAS(Factores específicos)"]
["Estratégicos (direccionamiento estratégico, planeación institucional, liderazgo, trabajo en equipo)",1,"No realización oportuna del plan de acción, matriz de riesgos y demás documentos del SIGCMA, con su seguimiento correspondiente en los periodos establecidos,  conforme a los lineamientos emitidos desde el despacho de la Magistrada Líder del SIGCMA y la Coordinación Nacional del SIGCMA",1,"Contar con el Plan Sectorial de Desarrollo de la Rama Judicial"]
[null,2,"Falta de socialización de estrategias con las dependencias para fomentar el trabajo colaborativo para la implementación del Plan Estratégico de Transformación Digital (PETD) de la Rama Judicial ",2,"Socialización de buenas prácticas de la gestión judicial en el contexto internacional a través de la CICAJ o eventos de Cumbre"]
[null,null,null,3,"Mantenimiento y ampliación de SIGCMA en los esquemas que se encuentra certificados la Rama Judicial"]
[null,null,null,4,"Definición de roles y responsabilidades de los  líderes de proceso para el funcionamiento del SIGCMA"]
[null,null,null,5,"Contar con la Norma Técnica de Calidad Actualizada NTC 6256 y GTC 286 2021"]
[null,null,null,6,"El compromiso de la Alta Dirección y de los líderes de proceso para ampliar, mantener y mejorar el SIGCMA"]
[null,null,null,7,"Encuentro nacional e internacional del SIGCMA"]
["Recursos financieros (presupuesto de funcionamiento, recursos de inversión",3,"Recursos insuficientes para atender el Plan de necesidades formulado",8,"Presupuesto asignado para el desarrollo de proyecto de inversión del SIGCMA"]
[null,null,null,9,"Conocimiento de la reglamentación que establece el procedimiento para el manejo de los recursos presupuestales, financieros y de contratación estatal"]
[null,null,null,10,"Estandarización de procesos y procedimientos para el desarrollo del proceso contractual"]
[null,null,null,11,"Manual de contratación actualizado"]
["Personal (competencia del personal, disponibilidad, suficiencia, seguridad y salud  en el trabajo)",4,"No contar con el recurso humano suficiente y necesario para responder a la demanda de Justicia",12,"Personal integrado por servidores judiciales de alto nivel profesional y capacitado para llevar a cabo las funciones asignadas"]
[null,5,"Servidores Judiciales con comorbilidades y/o enfermedades laborales"]
[null,6,"Extensión en los horarios laborales de trabajo en casa y presencial, que afecta el bienestar físico, mental y emocional en los servidores judiciales y su entorno familiar",13,"Desarrollo y fortalecimiento de competencias de los servidores judiciales en modelos de gestión"]
[null,7,"Carencia  de manual  de funciones y procedimientos  para los servidores Judiciales ",14,"Mejor prestación del servicio de administración de justicia debido a la implementación de buenas practicas en bioseguridad definidos por la Rama Judicial"]
[null,8,"Debilidad en los procesos de inducción y reinducción de los servidores judiciales",15,"Fortalecimiento de los concursos de méritos para ingreso de la Rama Judicial"]
[null,9,"Debilidad en el desarrollo de competencias propias para el desarrollo de las actividades asignadas",16,"El desarrollo de competencia a través de procesos de sensibilización, capacitación y formación en modelo de gestión para el desarrollo de competencias de los servidores judiciales."]
["Proceso (capacidad, diseño, ejecución, proveedores, entradas, salidas, gestión del conocimiento)",10,"Resistencia por parte de algunos servidores judiciales a implementar la gestión de conocimiento para la gestión del cambio en lo relativo al SIGCMA, a modelos de gestión, implementación de PETD, ambiental, seguridad y salud en el trabajo, seguridad informática, normas antisoborno, normas de bioseguridad etc.  ",17,"Actualización de la plataforma estratégica para responder a los cambios normativos y legales"]
[null,11,"Falta de tiempo para acceder a la formación  de alto interés, tales como: Sensibilizaciones, cursos, talleres,  capacitaciones, diplomados, entre otros",18,"Aplicabilidad de la Gestión del conocimiento generada por las experiencias de los servidores judiciales documentada en instructivos y guías\n"]
[null,12,"Debilidad en la retroalimentación de la evaluación  realizada a los proveedores y contratistas del producto o servicio entregado",19,"Fortalecimiento en los procesos de contratación por el uso adecuado del SECOP II"]
["Tecnológicos ",13,"Debilidad de la plataforma tecnológica a nivel nacional de  software y hardware en las sedes administrativas y judiciales",20,"Accesibilidad a nuevas herramientas virtuales, que facilitan el acceso a la información, la optimización del tiempo y contribuyen a la disminución de los consumos de papel"]
[null,14,"Falta de apropiación y aplicación del conocimiento de los avances tecnológicos",21,"Capacitación para el uso de herramientas tecnológicas  "]
[null,15,"Carencia de formación en tecnologías de la información y la comunicación aplicadas al desarrollo de la gestión Judicial estableciendo las diferencias entre:\nTransformación digital, digitalización, expediente digital y estrategias para la digitalización"]
[null,16,"Fallas de conectividad para la realización de las actividades propias del proceso."]
[null,17,"Falta de cobertura tecnológica en las sedes judiciales "]
[null,18,"Carencia de modelos gobernanza de Tecnologías de la Información (TI) en la entidad"]
[null,19,"Carencia del software de gestión para el manejo integral de la información."]
[null,20,"Falta de  comunicación asertiva entre los diferentes actores para la articulación de proyectos tecnológicos"]
[null,21,"Debilidad en la generación de estrategias articuladas para la digitalización entre los proveedores y las dependencias Judiciales y Administrativas"]
[null,22,"Deficiencia en el  mantenimiento de la pagina web de la Rama Judicial"]
["Documentación (actualización, coherencia, aplicabilidad) ",23,"Los documentos actuales no están alineados al PETD 2021-2025",22,"La estandarización de la plataforma estratégica del SIGCMA y documentos impartidos  desde la Coordinación Nacional del SIGCMA para la mejor prestación del servicio"]
[null,24,"Falta de comunicación y socialización de tablas de retención documental",23,"Micrositio de fácil acceso a los documentos propios del Sistema Integrado de Gestión y Control de la Calidad y el Medio Ambiente."]
[null,25,"Debilidad en  la estandarización de tablas de retención documental"]
["Infraestructura física (suficiencia, comodidad)",26,"Sedes Judiciales arrendadas, en comodato y propias que no cuentan con las condiciones mínimas de seguridad para los servidores judiciales, contratistas y usuarios de la justicia según la normatividad vigente",24,"Cumplimiento del plan de infraestructura de la Rama Judicial"]
[]
["Elementos de trabajo (papel, equipos, herramientas)",27,"Falta de modernización y mantenimiento del mobiliario con que cuenta la Rama Judicial",25,"Uso adecuado de los elementos de trabajo"]
[null,null,null,26,"Actualización permanente de la plataforma tecnológica de la Rama Judicial para el cumplimiento del PETD"]
["Comunicación Interna (canales utilizados y su efectividad, flujo de la información necesaria para el desarrollo de las actividades)",28,"Uso deficiente de las herramientas de comunicación establecidas en el plan de comunicaciones",27,"Elaboración y seguimiento del Plan de Comunicaciones"]
[null,29,"Desaprovechamiento de canales de comunicaciones, para generar mayor información a las partes interesadas",28,"Implementación de estrategias y mecanismos para el fortalecimiento de la atención al usuario"]
[null,null,null,29,"Fortalecimiento de la pagina web institucional y mecanismos de comunicación"]
[null,null,null,30,"Uso adecuado del micrositio asignado al Consejo Seccional de la Judicatura"]
[null,null,null,31,"Uso adecuado de los correos electrónicos"]
[null,null,null,32,"Uso adecuado del aplicativo SIGOBIUS"]
[null,null,null,33,"Fortalecimiento para el tratamiento de PQRS"]
[null,null,null,34,"Uso adecuado de la imagen corporativa y los logos en los cuales se encuentra certificada la Rama Judicial"]
["Ambientales",30,"Desconocimiento del Plan de Gestión Ambiental que aplica para la Rama Judicial Acuerdo PSAA14-10160",35,"Disminución en el uso de papel, toners y demás elementos de oficina al implementar el uso de medios tecnológicos"]
[null,31,"Ausencia de medición de indicadores ambientales establecidos en los programas de gestión del Acuerdo PSAA14-10160, en algunos municipios del Distrito",36,"Participación virtual en los espacios  de sensibilización ambiental, como el Día SIGCMA"]
[null,32,"Baja implementación en sistemas ahorradores de agua  y energía en sedes judiciales y administrativas",37,"Mantener la certificación operaciones bioseguras: Sellos de bioseguridad huella de confianza"]
[null,33,"Falta en la separación adecuada de residuos en la fuente ",38,"Formación de Auditores en la Norma NTC ISO 14001:2015 y en la Norma Técnica de la Rama Judicial NTC 6256 :2021",null,null,null,null," "]
[null,34,"Desconocimiento por parte de los brigadistas, servidores judiciales y contratistas de las acciones necesarias para actuar ante una emergencia ambiental",39,"Implementación de buenas practicas tendientes a la protección del medio ambiente"]

{"sheet":"INFO_ESTRATEGIAS","index":2,"n_rows":13,"n_cols":7,"rows_kept":13,"cut":false,"hidden":false,"merged":[[2,0,3,0],[2,1,2,4],[0,1,0,4],[2,6,3,6],[1,0,1,6]]}
[null,"ESTRATEGIAS"]
["ESTRATEGIAS  DOFA"]
["ESTRATEGIA/ACCIÓN/ PROYECTO","GESTIONA ",null,null,null,"DOCUMENTADA EN ","FILA ACTIVIDAD (Pestaña Gestión)"]
[null,"A","O","D","F"]
["Desarrollar el plan de formación de la Escuela Judicial para el fortalecimiento de competencias de los servidores judiciales",null,null,8.9,13.16,"Plan de acción ","186 -187 -188 -189"]
["Asistir y participar activamente en los procesos de sensibilización, capacitación y formación en los procesos SIGCMA ",null,null,11,"6,16, 36","Plan de acción ","190 - 191"]
["Realizar seguimiento al plan de acción y realizar el reporte oportuno",null,null,1,"6, 12, 23","Plan de acción ","236 - 237"]
["Implementar mecanismos para la retroalimentación de las  partes interesadas",16,3.4,"1, 12, 34","27,28,29,34","Plan de acción ","116 - 117 -118 -119 - 123"]
["Mantener, actualizar y documentar  el Sistema Integrado de Gestión SIGCMA, en el contexto especifico","13,14,15",7,"1,10,13,16,17,19","4,6,7,8,5,10,17,1820,22,23,37","Plan de acción ","238 - 239 - 240"]
["Solicitar apoyo al CENDOJ para realización de capacitaciones en tablas de retención documental (TRD)",null,null,"24,25,29",28,"Plan de acción ",192]
["Hacer uso de la información y de las herramientas tecnológicas dispuestas para la prestación del servicio",null,null,"13,14,15,16,28",20.21,"Plan de acción ","120 - 121 - 122"]
["Motivar a los servidores judiciales en la Implementación del plan de gestión ambiental en cada sede administrativa o judicial",null,null,"30,31,32,33,34","35,36,38,39","Plan de acción ","190 - 191"]
["Realizar identificación y cumplimiento de los requisitos legales y reglamentarios",2.17,8,1,"3,9,17","Matriz de riesgos"]

{"sheet":"PLAN DE ACCION","index":3,"n_rows":1047890,"n_cols":11,"rows_kept":4500,"cut":true,"hidden":false,"merged":[[2,1,3,1],[4,1,5,1],[2,0,3,0],[4,0,5,0],[2,2,3,2],[4,2,5,2]],"bounds":{"rows_first":2000,"rows_last":500,"rows_between":2000,"halvings":0},"read":"row_number_cap"}
[]
[]
[]
[]
[]
[]
[]
[]
[]
[]
[]
[]
[]
[]
[]
[]
[]
[]
[]
[]
[]
[]
[]
[]
[]
[]
[]
[]
[]
[]
[]
[]
[]
[]
[]
[]
[]
[]
[]
[]
[]
[]
[]
[]
[]
[]
[]
[]
[]
[]
[]
[]
[]
[]
[]
[]
[]
[]
[]
[]
[]
[]
[]
[]
[]
[]
[]
[]
[]
[]
[]
[]
[]
[]
[]
[]
[]
[]
[]
[]
[]
[]
[]
[]
[]
[]
[]
[]
[]
[]
[]
[]
[]
[]
[]
[]
[]
[]
[]
[]
[]
[]
[]
[]
[]
[]
[]
[]
[]
[]
[]
[]
[]
[]
[]
[]
[]
[]
[]
[]
[]
[]
[]
[]
[]
[]
[]
[]
[]
[]
[]
[]
[]
[]
[]
[]
[]
[]
[]
[]
[]
[]
[]
[]
[]
[]
[]
[]
[]
[]
[]
[]
[]
[]
[]
[]
[]
[]
[]
[]
[]
[]
[]
[]
[]
[]
[]
[]
[]
[]
[]
[]
[]
[]
[]
[]
[]
[]
[]
[]
[]
[]
[]
[]
[]
[]
[]
[]
[]
[]
[]
[]
[]
[]
[]
[]
[]
[]
[]
[]
[]
[]
[]
[]
[]
[]
[]
[]
[]
[]
[]
[]
[]
[]
[]
[]
[]
[]
[]
[]
[]
[]
[]
[]
[]
[]
[]
[]
[]
[]
[]
[]
[]
[]
[]
[]
[]
[]
[]
[]
[]
[]
[]
[]
[]
[]
[]
[]
[]
[]
[]
[]
[]
[]
[]
[]
[]
[]
[]
[]
[]
[]
[]
[]
[]
[]
[]
[]
[]
[]
[]
[]
[]
[]
[]
[]
[]
[]
[]
[]
[]
[]
[]
[]
[]
[]
[]
[]
[]
[]
[]
[]
[]
[]
[]
[]
[]
[]
[]
[]
[]
[]
[]
[]
[]
[]
[]
[]
[]
[]
[]
[]
[]
[]
[]
[]
[]
[]
[]
[]
[]
[]
[]
[]
[]
[]
[]
[]
[]
[]
[]
[]
[]
[]
[]
[]
[]
[]
[]
[]
[]
[]
[]
[]
[]
[]
[]
[]
[]
[]
[]
[]
[]
[]
[]
[]
[]
[]
[]
[]
[]
[]
[]
[]
[]
[]
[]
[]
[]
[]
[]
[]
[]
[]
[]
[]
[]
[]
[]
[]
[]
[]
[]
[]
[]
[]
[]
[]
[]
[]
[]
[]
[]
[]
[]
[]
[]
[]
[]
[]
[]
[]
[]
[]
[]
[]
[]
[]
[]
[]
[]
[]
[]
[]
[]
[]
[]
[]
[]
[]
[]
[]
[]
[]
[]
[]
[]
[]
[]
[]
[]
[]
[]
[]
[]
[]
[]
[]
[]
[]
[]
[]
[]
[]
[]
[]
[]
[]
[]
[]
[]
[]
[]
[]
[]
[]
[]
[]
[]
[]
[]
[]
[]
[]
[]
[]
[]
[]
[]
[]
[]
[]
[]
[]
[]
[]
[]
[]
[]
[]
[]
[]
[]
[]
[]
[]
[]
[]
[]
[]
[]
[]
[]
[]
[]
[]
[]
[]
[]
[]
[]
[]
[]
[]
[]
[]
[]
[]
[]
[]
[]
[]
[]
[]
[]
[]
[]
[]
[]
[]
[]
[]
[]
[]
[]
[]
[]
[]
[]
[]
[]
[]
[]
[]
[]
[]
[]
[]
[]
[]
[]
[]
[]
[]
[]
[]
[]
[]
[]
[]
[]
[]
[]
[]
[]
[]
[]
[]
[]
[]
[]
[]
[]
[]
[]
[]
[]
[]
[]
[]
[]
[]
[]
[]
[]
[]
[]
[]
[]
[]
[]
[]
[]
[]
[]
[]
[]
[]
[]
[]
[]
[]
[]
[]
[]
[]
[]
[]
[]
[]
[]
[]
[]
[]
[]
[]
[]
[]
[]
[]
[]
[]
[]
[]
[]
[]
[]
[]
[]
[]
[]
[]
[]
[]
[]
[]
[]
[]
[]
[]
[]
[]
[]
[]
[]
[]
[]
[]
[]
[]
[]
[]
[]
[]
[]
[]
[]
[]
[]
[]
[]
[]
[]
[]
[]
[]
[]
[]
[]
[]
[]
[]
[]
[]
[]
[]
[]
[]
[]
[]
[]
[]
[]
[]
[]
[]
[]
[]
[]
[]
[]
[]
[]
[]
[]
[]
[]
[]
[]
[]
[]
[]
[]
[]
[]
[]
[]
[]
[]
[]
[]
[]
[]
[]
[]
[]
[]
[]
[]
[]
[]
[]
[]
[]
[]
[]
[]
[]
[]
[]
[]
[]
[]
[]
[]
[]
[]
[]
[]
[]
[]
[]
[]
[]
[]
[]
[]
[]
[]
[]
[]
[]
[]
[]
[]
[]
[]
[]
[]
[]
[]
[]
[]
[]
[]
[]
[]
[]
[]
[]
[]
[]
[]
[]
[]
[]
[]
[]
[]
[]
[]
[]
[]
[]
[]
[]
[]
[]
[]
[]
[]
[]
[]
[]
[]
[]
[]
[]
[]
[]
[]
[]
[]
[]
[]
[]
[]
[]
[]
[]
[]
[]
[]
[]
[]
[]
[]
[]
[]
[]
[]
[]
[]
[]
[]
[]
[]
[]
[]
[]
[]
[]
[]
[]
[]
[]
[]
[]
[]
[]
[]
[]
[]
[]
[]
[]
[]
[]
[]
[]
[]
[]
[]
[]
[]
[]
[]
[]
[]
[]
[]
[]
[]
[]
[]
[]
[]
[]
[]
[]
[]
[]
[]
[]
[]
[]
[]
[]
[]
[]
[]
[]
[]
[]
[]
[]
[]
[]
[]
[]
[]
[]
[]
[]
[]
[]
[]
[]
[]
[]
[]
[]
[]
[]
[]
[]
[]
[]
[]
[]
[]
[]
[]
[]
[]
[]
[]
[]
[]
[]
[]
[]
[]
[]
[]
[]
[]
[]
[]
[]
[]
[]
[]
[]
[]
[]
[]
[]
[]
[]
[]
[]
[]
[]
[]
[]
[]
[]
[]
[]
[]
[]
[]
[]
[]
[]
[]
[]
[]
[]
[]
[]
[]
[]
[]
[]
[]
[]
[]
[]
[]
[]
[]
[]
[]
[]
[]
[]
[]
[]
[]
[]
[]
[]
[]
[]
[]
[]
[]
[]
[]
[]
[]
[]
[]
[]
[]
[]
[]
[]
[]
[]
[]
[]
[]
[]
[]
[]
[]
[]
[]
[]
[]
[]
[]
[]
[]
[]
[]
[]
[]
[]
[]
[]
[]
[]
[]
[]
[]
[]
[]
[]
[]
[]
[]
[]
[]
[]
[]
[]
[]
[]
[]
[]
[]
[]
[]
[]
[]
[]
[]
[]
[]
[]
[]
[]
[]
[]
[]
[]
[]
[]
[]
[]
[]
[]
[]
[]
[]
[]
[]
[]
[]
[]
[]
[]
[]
[]
[]
[]
[]
[]
[]
[]
[]
[]
[]
[]
[]
[]
[]
[]
[]
[]
[]
[]
[]
[]
[]
[]
[]
[]
[]
[]
[]
[]
[]
[]
[]
[]
[]
[]
[]
[]
[]
[]
[]
[]
[]
[]
[]
[]
[]
[]
[]
[]
[]
[]
[]
[]
[]
[]
[]
[]
[]
[]
[]
[]
[]
[]
[]
[]
[]
[]
[]
[]
[]
[]
[]
[]
[]
[]
[]
[]
[]
[]
[]
[]
[]
[]
[]
[]
[]
[]
[]
[]
[]
[]
[]
[]
[]
[]
[]
[]
[]
[]
[]
[]
[]
[]
[]
[]
[]
[]
[]
[]
[]
[]
[]
[]
[]
[]
[]
[]
[]
[]
[]
[]
[]
[]
[]
[]
[]
[]
[]
[]
[]
[]
[]
[]
[]
[]
[]
[]
[]
[]
[]
[]
[]
[]
[]
[]
[]
[]
[]
[]
[]
[]
[]
[]
[]
[]
[]
[]
[]
[]
[]
[]
[]
[]
[]
[]
[]
[]
[]
[]
[]
[]
[]
[]
[]
[]
[]
[]
[]
[]
[]
[]
[]
[]
[]
[]
[]
[]
[]
[]
[]
[]
[]
[]
[]
[]
[]
[]
[]
[]
[]
[]
[]
[]
[]
[]
[]
[]
[]
[]
[]
[]
[]
[]
[]
[]
[]
[]
[]
[]
[]
[]
[]
[]
[]
[]
[]
[]
[]
[]
[]
[]
[]
[]
[]
[]
[]
[]
[]
[]
[]
[]
[]
[]
[]
[]
[]
[]
[]
[]
[]
[]
[]
[]
[]
[]
[]
[]
[]
[]
[]
[]
[]
[]
[]
[]
[]
[]
[]
[]
[]
[]
[]
[]
[]
[]
[]
[]
[]
[]
[]
[]
[]
[]
[]
[]
[]
[]
[]
[]
[]
[]
[]
[]
[]
[]
[]
[]
[]
[]
[]
[]
[]
[]
[]
[]
[]
[]
[]
[]
[]
[]
[]
[]
[]
[]
[]
[]
[]
[]
[]
[]
[]
[]
[]
[]
[]
[]
[]
[]
[]
[]
[]
[]
[]
[]
[]
[]
[]
[]
[]
[]
[]
[]
[]
[]
[]
[]
[]
[]
[]
[]
[]
[]
[]
[]
[]
[]
[]
[]
[]
[]
[]
[]
[]
[]
[]
[]
[]
[]
[]
[]
[]
[]
[]
[]
[]
[]
[]
[]
[]
[]
[]
[]
[]
[]
[]
[]
[]
[]
[]
[]
[]
[]
[]
[]
[]
[]
[]
[]
[]
[]
[]
[]
[]
[]
[]
[]
[]
[]
[]
[]
[]
[]
[]
[]
[]
[]
[]
[]
[]
[]
[]
[]
[]
[]
[]
[]
[]
[]
[]
[]
[]
[]
[]
[]
[]
[]
[]
[]
[]
[]
[]
[]
[]
[]
[]
[]
[]
[]
[]
[]
[]
[]
[]
[]
[]
[]
[]
[]
[]
[]
[]
[]
[]
[]
[]
[]
[]
[]
[]
[]
[]
[]
[]
[]
[]
[]
[]
[]
[]
[]
[]
[]
[]
[]
[]
[]
[]
[]
[]
[]
[]
[]
[]
[]
[]
[]
[]
[]
[]
[]
[]
[]
[]
[]
[]
[]
[]
[]
[]
[]
[]
[]
[]
[]
[]
[]
[]
[]
[]
[]
[]
[]
[]
[]
[]
[]
[]
[]
[]
[]
[]
[]
[]
[]
[]
[]
[]
[]
[]
[]
[]
[]
[]
[]
[]
[]
[]
[]
[]
[]
[]
[]
[]
[]
[]
[]
[]
[]
[]
[]
[]
[]
[]
[]
[]
[]
[]
[]
[]
[]
[]
[]
[]
[]
[]
[]
[]
[]
[]
[]
[]
[]
[]
[]
[]
[]
[]
[]
[]
[]
[]
[]
[]
[]
[]
[]
[]
[]
[]
[]
[]
[]
[]
[]
[]
[]
[]
[]
[]
[]
[]
[]
[]
[]
[]
[]
[]
[]
[]
[]
[]
[]
[]
[]
[]
[]
[]
[]
[]
[]
[]
[]
[]
[]
[]
[]
[]
[]
[]
[]
[]
[]
[]
[]
[]
[]
[]
[]
[]
[]
[]
[]
[]
[]
[]
[]
[]
[]
[]
[]
[]
[]
[]
[]
[]
[]
[]
[]
[]
[]
[]
[]
[]
[]
[]
[]
[]
[]
[]
[]
[]
[]
[]
[]
[]
[]
[]
[]
[]
[]
[]
[]
[]
[]
[]
[]
[]
[]
[]
[]
[]
[]
[]
[]
[]
[]
[]
[]
[]
[]
[]
[]
[]
[]
[]
[]
[]
[]
[]
[]
[]
[]
[]
[]
[]
[]
[]
[]
[]
[]
[]
[]
[]
[]
[]
[]
[]
[]
[]
[]
[]
[]
[]
[]
[]
[]
[]
[]
[]
[]
[]
[]
[]
[]
[]
[]
[]
[]
[]
[]
[]
[]
[]
[]
[]
[]
[]
[]
[]
[]
[]
[]
[]
[]
[]
[]
[]
[]
[]
[]
[]
[]
[]
[]
[]
[]
[]
[]
[]
[]
[]
[]
[]
[]
[]
[]
[]
[]
[]
[]
[]
[]
[]
[]
[]
[]
[]
[]
[]
[]
[]
[]
[]
[]
[]
[]
[]
[]
[]
[]
[]
[]
[]
[]
[]
[]
[]
[]
[]
[]
[]
[]
[]
[]
[]
[]
[]
[]
[]
[]
[]
[]
[]
[]
[]
[]
[]
[]
[]
[]
[]
[]
[]
[]
[]
[]
[]
[]
[]
[]
[]
[]
[]
[]
[]
[]
[]
[]
[]
[]
[]
[]
[]
[]
[]
[]
[]
[]
[]
[]
[]
[]
[]
[]
[]
[]
[]
[]
[]
[]
[]
[]
[]
[]
[]
[]
[]
[]
[]
[]
[]
[]
[]
[]
[]
[]
[]
[]
[]
[]
[]
[]
[]
[]
[]
[]
[]
[]
[]
[]
[]
[]
[]
[]
[]
[]
[]
[]
[]
[]
[]
[]
[]
[]
[]
[]
[]
[]
[]
[]
[]
[]
[]
[]
[]
[]
[]
[]
[]
[]
[]
[]
[]
[]
[]
[]
[]
[]
[]
[]
[]
[]
[]
[]
[]
[]
[]
[]
[]
[]
[]
[]
[]
[]
[]
[]
[]
[]
[]
[]
[]
[]
[]
[]
[]
[]
[]
[]
[]
[]
[]
[]
[]
[]
[]
[]
[]
[]
[]
[]
[]
[]
[]
[]
[]
[]
[]
[]
[]
[]
[]
[]
[]
[]
[]
[]
[]
[]
[]
[]
[]
[]
[]
[]
[]
[]
[]
[]
[]
[]
[]
[]
[]
[]
[]
[]
[]
[]
[]
[]
[]
[]
[]
[]
[]
[]
[]
[]
[]
[]
[]
[]
[]
[]
[]
[]
[]
[]
[]
[]
[]
[]
[]
[]
[]
[]
[]
[]
[]
[]
[]
[]
[]
[]
[]
[]
[]
[]
[]
[]
[]
[]
[]
[]
[]
[]
[]
[]
[]
[]
[]
[]
[]
[]
[]
[]
[]
[]
[]
[]
[]
[]
[]
[]
[]
[]
[]
[]
[]
[]
[]
[]
[]
[]
[]
[]
[]
[]
[]
[]
[]
[]
[]
[]
[]
[]
[]
[]
[]
[]
[]
[]
[]
[]
[]
[]
[]
[]
[]
[]
[]
[]
[]
[]
[]
[]
[]
[]
[]
[]
[]
[]
[]
[]
[]
[]
[]
[]
[]
[]
[]
[]
[]
[]
[]
[]
[]
[]
[]
[]
[]
[]
[]
[]
[]
[]
[]
[]
[]
[]
[]
[]
[]
[]
[]
[]
[]
[]
[]
[]
[]
[]
[]
[]
[]
[]
[]
[]
[]
[]
[]
[]
[]
[]
[]
[]
[]
[]
[]
[]
[]
[]
[]
[]
[]
[]
[]
[]
[]
[]
[]
[]
[]
[]
[]
[]
[]
[]
[]
[]
[]
[]
[]
[]
[]
[]
[]
[]
[]
[]
[]
[]
[]
[]
[]
[]
[]
[]
[]
[]
[]
[]
[]
[]
[]
[]
[]
[]
[]
[]
[]
[]
[]
[]
[]
[]
[]
[]
[]
[]
[]
[]
[]
[]
[]
[]
[]
[]
[]
[]
[]
[]
[]
[]
[]
[]
[]
[]
[]
[]
[]
[]
[]
[]
[]
[]
[]
[]
[]
[]
[]
[]
[]
[]
[]
[]
[]
[]
[]
[]
[]
[]
[]
[]
[]
[]
[]
[]
[]
[]
[]
[]
[]
[]
[]
[]
[]
[]
[]
[]
[]
[]
[]
[]
[]
[]
[]
[]
[]
[]
[]
[]
[]
[]
[]
[]
[]
[]
[]
[]
[]
[]
[]
[]
[]
[]
[]
[]
[]
[]
[]
[]
[]
[]
[]
[]
[]
[]
[]
[]
[]
[]
[]
[]
[]
[]
[]
[]
[]
[]
[]
[]
[]
[]
[]
[]
[]
[]
[]
[]
[]
[]
[]
[]
[]
[]
[]
[]
[]
[]
[]
[]
[]
[]
[]
[]
[]
[]
[]
[]
[]
[]
[]
[]
[]
[]
[]
[]
[]
[]
[]
[]
[]
[]
[]
[]
[]
[]
[]
[]
[]
[]
[]
[]
[]
[]
[]
[]
[]
[]
[]
[]
[]
[]
[]
[]
[]
[]
[]
[]
[]
[]
[]
[]
[]
[]
[]
[]
[]
[]
[]
[]
[]
[]
[]
[]
[]
[]
[]
[]
[]
[]
[]
[]
[]
[]
[]
[]
[]
[]
[]
[]
[]
[]
[]
[]
[]
[]
[]
[]
[]
[]
[]
[]
[]
[]
[]
[]
[]
[]
[]
[]
[]
[]
[]
[]
[]
[]
[]
[]
[]
[]
[]
[]
[]
[]
[]
[]
[]
[]
[]
[]
[]
[]
[]
[]
[]
[]
[]
[]
[]
[]
[]
[]
[]
[]
[]
[]
[]
[]
[]
[]
[]
[]
[]
[]
[]
[]
[]
[]
[]
[]
[]
[]
[]
[]
[]
[]
[]
[]
[]
[]
[]
[]
[]
[]
[]
[]
[]
[]
[]
[]
[]
[]
[]
[]
[]
[]
[]
[]
[]
[]
[]
[]
[]
[]
[]
[]
[]
[]
[]
[]
[]
[]
[]
[]
[]
[]
[]
[]
[]
[]
[]
[]
[]
[]
[]
[]
[]
[]
[]
[]
[]
[]
[]
[]
[]
[]
[]
[]
[]
[]
[]
[]
[]
[]
[]
[]
[]
[]
[]
[]
[]
[]
[]
[]
[]
[]
[]
[]
[]
[]
[]
[]
[]
[]
[]
[]
[]
[]
[]
[]
[]
[]
[]
[]
[]
[]
[]
[]
[]
[]
[]
[]
[]
[]
[]
[]
[]
[]
[]
[]
[]
[]
[]
[]
[]
[]
[]
[]
[]
[]
[]
[]
[]
[]
[]
[]
[]
[]
[]
[]
[]
[]
[]
[]
[]
[]
[]
[]
[]
[]
[]
[]
[]
[]
[]
[]
[]
[]
[]
[]
[]
[]
[]
[]
[]
[]
[]
[]
[]
[]
[]
[]
[]
[]
[]
[]
[]
[]
[]
[]
[]
[]
[]
[]
[]
[]
[]
[]
[]
[]
[]
[]
[]
[]
[]
[]
[]
[]
[]
[]
[]
[]
[]
[]
[]
[]
[]
[]
[]
[]
[]
[]
[]
[]
[]
[]
[]
[]
[]
[]
[]
[]
[]
[]
[]
[]
[]
[]
[]
[]
[]
[]
[]
[]
[]
[]
[]
[]
[]
[]
[]
[]
[]
[]
[]
[]
[]
[]
[]
[]
[]
[]
[]
[]
[]
[]
[]
[]
[]
[]
[]
[]
[]
[]
[]
[]
[]
[]
[]
[]
[]
[]
[]
[]
[]
[]
[]
[]
[]
[]
[]
[]
[]
[]
[]
[]
[]
[]
[]
[]
[]
[]
[]
[]
[]
[]
[]
[]
[]
[]
[]
[]
[]
[]
[]
[]
[]
[]
[]
[]
[]
[]
[]
[]
[]
[]
[]
[]
[]
[]
[]
[]
[]
[]
[]
[]
[]
[]
[]
[]
[]
[]
[]
[]
[]
[]
[]
[]
[]
[]
[]
[]
[]
[]
[]
[]
[]
[]
[]
[]
[]
[]
[]
[]
[]
[]
[]
[]
[]
[]
[]
[]
[]
[]
[]
[]
[]
[]
[]
[]
[]
[]
[]
[]
[]
[]
[]
[]
[]
[]
[]
[]
[]
[]
[]
[]
[]
[]
[]
[]
[]
[]
[]
[]
[]
[]
[]
[]
[]
[]
[]
[]
[]
[]
[]
[]
[]
[]
[]
[]
[]
[]
[]
[]
[]
[]
[]
[]
[]
[]
[]
[]
[]
[]
[]
[]
[]
[]
[]
[]
[]
[]
[]
[]
[]
[]
[]
[]
[]
[]
[]
[]
[]
[]
[]
[]
[]
[]
[]
[]
[]
[]
[]
[]
[]
[]
[]
[]
[]
[]
[]
[]
[]
[]
[]
[]
[]
[]
[]
[]
[]
[]
[]
[]
[]
[]
[]
[]
[]
[]
[]
[]
[]
[]
[]
[]
[]
[]
[]
[]
[]
[]
[]
[]
[]
[]
[]
[]
[]
[]
[]
[]
[]
[]
[]
[]
[]
[]
[]
[]
[]
[]
[]
[]
[]
[]
[]
[]
[]
[]
[]
[]
[]
[]
[]
[]
[]
[]
[]
[]
[]
[]
[]
[]
[]
[]
[]
[]
[]
[]
[]
[]
[]
[]
[]
[]
[]
[]
[]
[]
[]
[]
[]
[]
[]
[]
[]
[]
[]
[]
[]
[]
[]
[]
[]
[]
[]
[]
[]
[]
[]
[]
[]
[]
[]
[]
[]
[]
[]
[]
[]
[]
[]
[]
[]
[]
[]
[]
[]
[]
[]
[]
[]
[]
[]
[]
[]
[]
[]
[]
[]
[]
[]
[]
[]
[]
[]
[]
[]
[]
[]
[]
[]
[]
[]
[]
[]
[]
[]
[]
[]
[]
[]
[]
[]
[]
[]
[]
[]
[]
[]
[]
[]
[]
[]
[]
[]
[]
[]
[]
[]
[]
[]
[]
[]
[]
[]
[]
[]
[]
[]
[]
[]
[]
[]
[]
[]
[]
[]
[]
[]
[]
[]
[]
[]
[]
[]
[]
[]
[]
[]
[]
[]
[]
[]
[]
[]
[]
[]
[]
[]
[]
[]
[]
[]
[]
[]
[]
[]
[]
[]
[]
[]
[]
[]
[]
[]
[]
[]
[]
[]
[]
[]
[]
[]
[]
[]
[]
[]
[]
[]
[]
[]
[]
[]
[]
[]
[]
[]
[]
[]
[]
[]
[]
[]
[]
[]
[]
[]
[]
[]
[]
[]
[]
[]
[]
[]
[]
[]
[]
[]
[]
[]
[]
[]
[]
[]
[]
[]
[]
[]
[]
[]
[]
[]
[]
[]
[]
[]
[]
[]
[]
[]
[]
[]
[]
[]
[]
[]
[]
[]
[]
[]
[]
[]
[]
[]
[]
[]
[]
[]
[]
[]
[]
[]
[]
[]
[]
[]
[]
[]
[]
[]
[]
[]
[]
[]
[]
[]
[]
[]
[]
[]
[]
[]
[]
[]
[]
[]
[]
[]
[]
[]
[]
[]
[]
[]
[]
[]
[]
[]
[]
[]
[]
[]
[]
[]
[]
[]
[]
[]
[]
[]
[]
[]
[]
[]
[]
[]
[]
[]
[]
[]
[]
[]
[]
[]
[]
[]
[]
[]
[]
[]
[]
[]
[]
[]
[]
[]
[]
[]
[]
[]
[]
[]
[]
[]
[]
[]
[]
[]
[]
[]
[]
[]
[]
[]
[]
[]
[]
[]
[]
[]
[]
[]
[]
[]
[]
[]
[]
[]
[]
[]
[]
[]
[]
[]
[]
[]
[]
[]
[]
[]
[]
[]
[]
[]
[]
[]
[]
[]
[]
[]
[]
[]
[]
[]
[]
[]
[]
[]
[]
[]
[]
[]
[]
[]
[]
[]
[]
[]
[]
[]
[]
[]
[]
[]
[]
[]
[]
[]
[]
[]
[]
[]
[]
[]
[]
[]
[]
[]
[]
[]
[]
[]
[]
[]
[]
[]
[]
[]
[]
[]
[]
[]
[]
[]
[]
[]
[]
[]
[]
[]
[]
[]
[]
[]
[]
[]
[]
[]
[]
[]
[]
[]
[]
[]
[]
[]
[]
[]
[]
[]
[]
[]
[]
[]
[]
[]
[]
[]
[]
[]
[]
[]
[]
[]
[]
[]
[]
[]
[]
[]
[]
[]
[]
[]
[]
[]
[]
[]
[]
[]
[]
[]
[]
[]
[]
[]
[]
[]
[]
[]
[]
[]
[]
[]
[]
[]
[]
[]
[]
[]
[]
[]
[]
[]
[]
[]
[]
[]
[]
[]
[]
[]
[]
[]
[]
[]
[]
[]
[]
[]
[]
[]
[]
[]
[]
[]
[]
[]
[]
[]
[]
[]
[]
[]
[]
[]
[]
[]
[]
[]
[]
[]
[]
[]
[]
[]
[]
[]
[]
[]
[]
[]
[]
[]
[]
[]
[]
[]
[]
[]
[]
[]
[]
[]
[]
[]
[]
[]
[]
[]
[]
[]
[]
[]
[]
[]
[]
[]
[]
[]
[]
[]
[]
[]
[]
[]
[]
[]
[]
[]
[]
[]
[]
[]
[]
[]
[]
[]
[]
[]
[]
[]
[]
[]
[]
[]
[]
[]
[]
[]
[]
[]
[]
[]
[]
[]
[]
[]
[]
[]
[]
[]
[]
[]
[]
[]
[]
[]
[]
[]
[]
[]
[]
[]
[]
[]
[]
[]
[]
[]
[]
[]
[]
[]
[]
[]
[]
[]
[]
[]
[]
[]
[]
[]
[]
[]
[]
[]
[]
[]
[]
[]
[]
[]
[]
[]
[]
[]
[]
[]
[]
[]
[]
[]
[]
[]
[]
[]
[]
[]
[]
[]
[]
[]
[]
[]
[]
[]
[]
[]
[]
[]
[]
[]
[]
[]
[]
[]
[]
[]
[]
[]
[]
[]
[]
[]
[]
[]
[]
[]
[]
[]
[]
[]
[]
[]
[]
[]
[]
[]
[]
[]
[]
[]
[]
[]
[]
[]
[]
[]
[]
[]
[]
[]
[]
[]
[]
[]
[]
[]
[]
[]
[]
[]
[]
[]
[]
[]
[]
[]
[]
[]
[]
[]
[]
[]
[]
[]
[]
[]
[]
[]
[]
[]
[]
[]
[]
[]
[]
[]
[]
[]
[]
[]
[]
[]
[]
[]
[]
[]
[]
[]
[]
[]
[]
[]
[]
[]
[]
[]
[]
[]
[]
[]
[]
[]
[]
[]
[]
[]
[]
[]
[]
[]
[]
[]
[]
[]
[]
[]
[]
[]
[]
[]
[]
[]
[]
[]
[]
[]
[]
[]
[]
[]
[]
[]
[]
[]
[]
[]
[]
[]
[]
[]
[]
[]
[]
[]
[]
[]
[]
[]
[]
[]
[]
[]
[]
[]
[]
[]
[]
[]
[]
[]
[]
[]
[]
[]
[]
[]
[]
[]
[]
[]
[]
[]
[]
[]
[]
[]
[]
[]
[]
[]
[]
[]
[]
[]
[]
[]
[]
[]
[]
[]
[]
[]
[]
[]
[]
[]
[]
[]
[]
[]
[]
[]
[]
[]
[]
[]
[]
[]
[]
[]
[]
[]
[]
[]
[]
[]
[]
[]
[]
[]
[]
[]
[]
[]
[]
[]
[]
[]
[]
[]
[]
[]
[]
[]
[]
[]
[]
[]
[]
[]
[]
[]
[]
[]
[]
[]
[]
[]
[]
[]
[]
[]
[]
[]
[]
[]
[]
[]
[]
[]
[]
[]
[]
[]
[]
[]
[]
[]
[]
[]
[]
[]
[]
[]
[]
[]
[]
[]
[]
[]
[]
[]
[]
[]
[]
[]
[]
[]
[]
[]
[]
[]
[]
[]
[]
[]
[]
[]
[]
[]
[]
[]
[]
[]
[]
[]
[]
[]
[]
[]
[]
[]
[]
[]
[]
[]
[]
[]
[]
[]
[]
[]
[]
[]
[]
[]
[]
[]
[]
[]
[]
[]
[]
[]
[]
[]
[]
[]
[]
[]
[]
[]
[]
[]
[]
[]
[]
[]
[]
[]
[]
[]
[]
[]
[]
[]
[]
[]
[]
[]
[]
[]
[]
[]
[]
[]
[]
[]
[]
[]
[]
[]
[]
[]
[]
[]
[]
[]
[]
[]
[]
[]
[]
[]
[]
[]
[]
[]
[]
[]
[]
[]
[]
[]
[]
[]
[]
[]
[]
[]
[]
[]
[]
[]
[]
[]
[]
[]
[]
[]
[]
[]
[]
[]
[]
[]
[]
[]
[]
[]
[]
[]
[]
[]
[]
[]
[]
[]
[]
[]
[]
[]
[]
[]
[]
[]
[]
[]
[]
[]
[]
[]
[]
[]
[]
[]
[]
[]
[]
[]
[]
[]
[]
[]
[]
[]
[]
[]
[]
[]
[]
[]
[]
[]
[]
[]
[]
[]
[]
[]
[]
[]
[]
[]
[]
[]
[]
[]
[]
[]
[]
[]
[]
[]
[]
[]
[]
[]
[]
[]
[]
[]
[]
[]
[]
[]
[]
[]
[]
[]
[]
[]
[]
[]
[]
[]
[]
[]
[]
[]
[]
[]
[]
[]
[]
[]
[]
[]
[]
[]
[]
[]
[]
[]
[]
[]
[]
[]
[]
[]
[]
[]
[]
[]
[]
[]
[]
[]
[]
[]
[]
[]
[]
[]
[]
[]
[]
[]
[]
[]
[]
[]
[]
[]
[]
[]
[]
[]
[]
[]
[]
[]
[]
[]
[]
[]
[]
[]
[]
[]
[]
[]
[]
[]
[]
[]
[]
[]
[]
[]
[]
[]
[]
[]
[]
[]
[]
[]
[]
[]
[]
[]
[]
[]
[]
[]
[]
[]
[]
[]
[]
[]
[]
[]
[]
[]
[]
[]
[]
[]
[]
[]
[]
["Admin - Planeación Estratégica","Estratégicos","Central","Gestión","ANÁLISIS RESULTADO\nTRIMESTRE",null,"Estratégicos","Misionales","Apoyo","Evaluación y Mejora","Transversal_todos_procesos"]
["Admin - Comunicación Institucional","Misionales","Seccional","Producto",null,"Entregable","Admin - Planeación Estratégica","Admin - Reordenamiento Judicial","Admin - Gestión Documental","Admin - Gestión de Control Interno y Auditoría","Transversal_todos_procesos"]
["Admin - Gestión para la Integración de Listas de Altas Cortes","Apoyo",null,null,null,"Meta cuantificable","Admin - Comunicación Institucional","Admin - Modernización de la Gestión Judicial","Admin - Gestión Tecnológica","Admin - Mejoramiento del Sistema Integrado de Gestión y Control de la Calidad y del Medio Ambiente"]
["Admin - Reordenamiento Judicial","Evaluación_y_Mejora",null,null,null,null,"Admin - Gestión para la Integración de Listas de Altas Cortes","Admin - Mejoramiento de la Infraestructura Física","Admin - Gestión de la Información Estadística","Juris - Gestión de Mejoramiento del SIGCMA"]
["Admin - Modernización de la Gestión Judicial","Transversal_todos_procesos",null,null,null,null,"Juris - Gestión de Planeación Estratégica","Admin - Administración de la Carrera Judicial","Admin - Gestión Humana"]
["Admin - Mejoramiento de la Infraestructura Física",null,null,null,null,null,"Juris - Gestión de Comunicación Institucional","Admin - Gestión de la Formación Judicial","Admin - Gestión de Seguridad y Salud en el Trabajo"]
["Admin - Administración de la Carrera Judicial",null,null,null,null,null,null,"Admin - Gestión de la Información Judicial","Admin - Asistencia Legal"]
["Admin - Gestión de la Formación Judicial",null,null,null,null,null,null,"Admin - Registro y Control de Abogados y Auxiliares de la Justicia","Admin - Administración de la Seguridad"]
["Admin - Gestión de la Información Judicial",null,null,null,null,null,null,"Juris - Gestión de Acciones Constitucionales","Admin - Gestión Administrativa"]
["Admin - Registro y Control de Abogados y Auxiliares de la Justicia",null,null,null,null,null,null,"Juris - Gestión Proceso Ordinario","Admin - Compras Públicas"]
["Admin - Gestión Documental",null,null,null,null,null,null,null,"Admin - Gestión Financiera y Presupuestal"]
["Admin - Gestión Tecnológica",null,null,null,null,null,null,null,"Juris - Atención al Usuario"]
["Admin - Gestión de la Información Estadística",null,null,null,null,null,null,null,"Juris - Gestión de Servicios Judiciales"]
["Admin - Gestión Humana",null,null,null,null,null,null,null,"Juris - Gestión de Servicios Administrativos"]
["Admin - Gestión de Seguridad y Salud en el Trabajo"]
["Admin - Asistencia Legal"]
["Admin - Administración de la Seguridad"]
["Admin - Gestión Administrativa"]
["Admin - Compras Públicas"]
["Admin - Gestión Financiera y Presupuestal"]
["Admin - Gestión de Control Interno y Auditoría"]
["Admin - Mejoramiento del Sistema Integrado de Gestión y Control de la Calidad y del Medio Ambiente"]
["Juris - Gestión de Planeación Estratégica"]
["Juris - Gestión de Comunicación Institucional"]
["Juris - Gestión de Acciones Constitucionales"]
["Juris - Gestión Proceso Ordinario"]
["Juris - Atención al Usuario"]
["Juris - Gestión de Servicios Judiciales"]
["Juris - Gestión de Servicios Administrativos"]
["Juris - Gestión de Mejoramiento del SIGCMA"]

{"sheet":"GESTION","index":4,"n_rows":255,"n_cols":20,"rows_kept":255,"cut":false,"hidden":false,"merged":[[1,0,1,18],[1,19,1,28],[2,0,2,3],[3,0,4,1],[3,2,4,2],[3,3,4,3],[3,4,3,6],[3,7,3,17],[2,4,2,17],[2,18,4,18],[35,3,44,3],[45,2,54,2],[45,3,54,3],[5,1,54,1],[5,3,14,3],[15,2,24,2],[15,3,24,3],[25,2,34,2],[25,3,34,3],[5,2,14,2],[5,0,54,0],[55,2,64,2],[65,2,74,2],[75,2,84,2],[85,2,94,2],[35,2,44,2],[95,2,104,2],[105,2,114,2],[55,3,114,3],[55,1,114,1],[55,0,114,0],[145,3,174,3],[175,2,184,2],[175,3,184,3],[115,2,124,2],[115,3,124,3],[125,2,134,2],[135,2,144,2],[135,3,144,3],[125,3,134,3],[115,1,184,1],[115,0,184,0],[185,2,194,2],[195,2,204,2],[205,2,214,2],[185,0,234,0],[145,2,154,2],[155,2,164,2],[165,2,174,2],[215,2,224,2],[245,2,254,2],[235,3,254,3],[235,1,254,1],[235,0,254,0],[185,3,224,3],[225,2,234,2],[225,3,234,3],[185,1,234,1],[235,2,244,2]]}
[]
["CONSEJO SUPERIOR DE LA JUDICATURA \nUNIDADES MISIONALES DEL CONSEJO SUPERIOR DE LA JUDICATURA - \nDIRECCIÓN EJECUTIVA DE ADMINISTRACIÓN JUDICIAL - UNIDADES MISIONALES DE LA DEAJ\nDIRECCIONES SECCIONALES DE ADMINISTRACIÓN JUDICIAL - DEPENDENCIAS JUDICIALES CERTIFICADAS",null,null,null,null,null,null,null,null,null,null,null,null,null,null,null,null,null,null,"GENERADOR DE SEGUIMIENTOS TRIMESTRALES"]
["PLAN SECTORIAL DE DESARROLLO 2023-2026 - OBJETIVOS SIGCMA",null,null,null,"PLAN DE ACCIÓN Y SEGUIMIENTO A LA GESTIÓN INSTITUCIONAL (DE ACUERDO CON LA FUNCIÓN MISIONAL ASIGNADA )",null,null,null,null,null,null,null,null,null,null,null,null,null," ANÁLISIS RESULTADO"]
["OBJETIVO ESTRATÉGICO",null,"OBJETIVO ESPECÍFICO PSD","OBJETIVO ESPECÍFICO SIGCMA","MAPA PROCESO SIGCMA",null,null,"MEDICIÓN DE LA GESTIÓN ANUAL"]
[null,null,null,null,"NOMBRE MACRO PROCESO SIGCMA","PROCESO SIGCMA","NIVEL ","ACTIVIDADES ","INDIQUE SI ES ENTREGABLE O META CUANTIFICABLE","META ANUAL","UNIDAD DE MEDIDA","RESPONSABLE DEL PROCESO ","MEDIO O MECANISMO A TRAVES DEL CUAL SE HACE EL SEGUIMIENTO\n(Producto y/o servicio principal)","INICIO \nDÍA/MES/AÑO","FIN\nDÍA/MES/AÑO","AVANCE DE LA META ","NIVEL CUMPLIMIENTO","DIFICULTADES PARA LOGRAR LA META PROPUESTA"]
["1. Acceso e Infraestructura Física","Acceso e Infraestructura Física: Ampliar, en todo el territorio nacional, el acceso a una justicia efectiva, pronta, equitativa e incluyente, reduciendo el atraso y la congestión, de acuerdo con las necesidades de la demanda de justicia por jurisdicción y especialidad, y mejorando la articulación con la justicia restaurativa y terapéutica, y otros mecanismos de solución de conflictos y consolidando una infraestructura física óptima para el acceso a la justicia.","1. Ampliar el acceso a justicia para atender las necesidades jurídicas de los ciudadanos con un enfoque diferencial, de una manera pronta, reduciendo las inequidades y las brechas territoriales de acceso.","2. Asegurar  el cumplimiento de los objetivos institucionales, la normatividad aplicable,  la mejora del SIGCMA y la satisfacción de los usuarios, revisando de  forma continua y sistemática la planificación de la gestión y fortaleciendo la administración de riesgos y sus controles","Misionales","Admin - Reordenamiento Judicial","Seccional","Generar propuestas de reordenamiento para el mejoramiento de la administración de justciai","Entregable",null,null,"Magistrada Consejo Seccional","Proyectos de reordenamiento","2023-01-01","2023-12-31",{"$f":"IFERROR(MAX(GESTION_SEG_1_TRIM!H6,GESTION_SEG_2_TRIM!H6,GESTION_SEG_3_TRIM!H6,GESTION_SEG_4_TRIM!H6),\" \")","v":0},{"$f":"IFERROR(P6/J6,\"\")","v":""},{"$f":"IFERROR(_xlfn.CONCAT(\"Trimestre 1\",CHAR(10),GESTION_SEG_1_TRIM!J6,CHAR(10),\"Trimestre 2\",CHAR(10),GESTION_SEG_2_TRIM!J6,CHAR(10),\"Trimestre 3\",CHAR(10),GESTION_SEG_3_TRIM!J6,CHAR(10),\"Trimestre 4\",CHAR(10),GESTION_SEG_4_TRIM!J6),\" \")","v":"Trimestre 1\n\nTrimestre 2\n\nTrimestre 3\n\nTrimestre 4\n"},{"$f":"IFERROR(_xlfn.CONCAT(\"Trimestre 1\",CHAR(10),GESTION_SEG_1_TRIM!K6,CHAR(10),\"Trimestre 2\",CHAR(10),GESTION_SEG_2_TRIM!K6,CHAR(10),\"Trimestre 3\",CHAR(10),GESTION_SEG_3_TRIM!K6,CHAR(10),\"Trimestre 4\",CHAR(10),GESTION_SEG_4_TRIM!K6),\" \")","v":"Trimestre 1\nDurante el primer trimestre esta Corporación envió al Consejo Superior de la Judicatura dos proyectos de reordenamiento, así:\n\n1. Propuesta Radicado 2023-001:\nCon oficio CSJCAO23-238 se envía la propuesta con la que se busca  fortalecer la oferta de justicia en la Jurisdicción ordinaria del distrito judicial de Manizales, en respuesta a petición  de la UDAE con oficio UDAEO23-273, enero 09 de 2023”. En el presente proyecto se actualiza la propuesta  presentada en el documento 2022-007 de noviembre de  2022.\n\n2. Propuesta Radicado 2023-002:\nMediante oficio de febrero 17 del año en curso, se remitió a la UDAE proyecto de  reordenamiento judicial No. 2023-001 de la misma fecha, en respuesta al oficio UDAE\u000223-273 de enero 9 de 2023, en el que por la premura del tiempo, no fueron incluidos las \nnecesidades todas las necesidades  de esta seccional. \n\nPor lo anterior mediante oficio CSJCAO23- 281 de febrero 24, se envía propuesta de reordenamiento  solicitando la  creación de un cargo “escribiente” para la secretaria de la Sala Penal del Tribunal  Superior de Manizales, de carácter permanente, mientras ello sea posible de carácter  transitorio y  la creación, con carácter permanente, de un (1) cargo de Sustanciador para el juzgado  3 de ejecución de penas y medidas de seguridad.\n\n\nTrimestre 2\nDurante el segundo trimestre esta Corporación envió al Consejo Superior de la Judicatura dos proyectos de reordenamiento, así:\n\n1. Propuesta Radicado 2023-003:\nCon oficio CSJCAO23-702 se envía la propuesta con la que se busca consolidar las necesidades de reforzamiento de la oferta  judicial (despachos y cargos de empleados del Distrito  Judicial de Manizales), integrando y actualizando las  distintas propuestas presentadas durante el año 2023. Esta propuesta reemplaza en su integridad los proyectos números 2023-001 y 2023-002,  remitidos al Consejo Superior, en razón a que en este proyecto quedan integradas, con datos  y necesidades actuales.\n\n2. Propuesta Radicado 2023-004:\nEn respuesta al oficio  UDAEO23-1063 de mayo 5 de 2023, en el que solicitan informar la gestión de los dos (2) cargos de Profesional Universitario grado 11 creados por Acuerdo PCSJA22-12032 del 29/12/2022 y adicionalmente los cargos transitorios que se requieren en la  presente vigencia para este Cosejo Seccional. así la. Por lo anterior, se solicitan los cargos de Profesional Universitario 11 y Asistente Adminstrativo Grado 8 anexando el formato requerido por la UDAE y diligenciando el forms según las indicaciones.Esta información se remite mediante oficio CSJCAO23-764.\nTrimestre 3\nDurante el tercer trimestre esta Corporación envió al Consejo Superior de la Judicatura un proyecto de reordenamiento, así:\n\n1. Propuesta Radicado 2023-005:\nCon oficio CSJCAO23-1869 se envía la propuesta con la que se busca consolidar las necesidades de reforzamiento de la oferta  judicial (despachos y cargos de empleados del Distrito  Judicial de Manizales). La propuesta pretende trasladar el cargo de técnico de sistemas grado 11 de la oficina de servicios administrativos de chinchiná para la Secretaía de la Comisión de Disciplina Judicial\nTrimestre 4\nDurante el cuarto trimestre esta Corporación envió al Consejo Superior de la Judicatura un proyecto de reordenamiento, así:\n\n1. Propuesta Radicado 2023-006:\nCon oficio CSJCAO23-1869 se envía la propuesta con la que se busca consolidar las necesidades de reforzamiento de la oferta  judicial (despachos y cargos de empleados del Distrito  Judicial de Manizales). La propuesta pretende trasladar el cargo de escribiente de circuito de la oficina de servicios administrativos de chinchiná para el Centro de Servicios de los Juzgados Penales"},"Propuestas de reordenamiento:\n\nhttps://etbcsj-my.sharepoint.com/:f:/g/personal/sacsma_cendoj_ramajudicial_gov_co/Ek4bUa_aIVJEv0Zi2juTivcB0EDJjMZc7YOmtFDXV3Qqww?e=UK4N6F"]
[null,null,null,null,"Misionales","Admin - Reordenamiento Judicial","Seccional","Seguimiento al cumplimiento de metas de las medidas transitorias establecidas por el CSJ","Entregable",null,null,"Magistrada Consejo Seccional","Informe de seguimiento","2023-01-01","2023-12-31",{"$f":"IFERROR(MAX(GESTION_SEG_1_TRIM!H7,GESTION_SEG_2_TRIM!H7,GESTION_SEG_3_TRIM!H7,GESTION_SEG_4_TRIM!H7),\" \")","v":0},"",{"$f":"IFERROR(_xlfn.CONCAT(\"Trimestre 1\",CHAR(10),GESTION_SEG_1_TRIM!J7,CHAR(10),\"Trimestre 2\",CHAR(10),GESTION_SEG_2_TRIM!J7,CHAR(10),\"Trimestre 3\",CHAR(10),GESTION_SEG_3_TRIM!J7,CHAR(10),\"Trimestre 4\",CHAR(10),GESTION_SEG_4_TRIM!J7),\" \")","v":"Trimestre 1\n\nTrimestre 2\n\nTrimestre 3\n\nTrimestre 4\n"},{"$f":"IFERROR(_xlfn.CONCAT(\"Trimestre 1\",CHAR(10),GESTION_SEG_1_TRIM!K7,CHAR(10),\"Trimestre 2\",CHAR(10),GESTION_SEG_2_TRIM!K7,CHAR(10),\"Trimestre 3\",CHAR(10),GESTION_SEG_3_TRIM!K7,CHAR(10),\"Trimestre 4\",CHAR(10),GESTION_SEG_4_TRIM!K7),\" \")","v":"Trimestre 1\nSe realizó el seguimiento a las medidas transitorias vigentes para este periodo.\nTrimestre 2\nSe hace el seguimiento respectivo a las medidas de transitorias creadas mediante acuerdos:\n- PCSJA23-12055, marzo 31 de 2023, prorroga\n- PCSJA 23-12053, , 17 de marzo de 2023.\n-PCSJA23-12069 , 2 de junio de 2023\n\n\n- \nTrimestre 3\nSe hace el seguimiento respectivo a las medidas de transitorias creadas mediante acuerdos:\n- PCSJA23-12055, marzo 31 de 2023, prorroga\n- PCSJA 23-12053, , 17 de marzo de 2023.\n-PCSJA23-12069 , 2 de junio de 2023\nTrimestre 4\nSe hace el seguimiento respectivo a las medidas de transitorias creadas mediante acuerdos:\n- PCSJA23-12055, marzo 31 de 2023, prorroga\n- PCSJA 23-12053, , 17 de marzo de 2023.\n-PCSJA23-12069 , 2 de junio de 2023"},"Informes UDAE:\n\nhttps://etbcsj-my.sharepoint.com/:f:/g/personal/sacsma_cendoj_ramajudicial_gov_co/Eti200TWm5hItlaA4COKj6EBKVqUEUq9YgMk085P9MbGng?e=U3zCdS"]
[null,null,null,null,"Estratégicos","Admin - Comunicación Institucional","Seccional","Seguimiento al Punto de Atención y Orientación al Usuario de Justicia y la Oficina de Gestión en salud","Entregable",null,null,"Magistrada Consejo Seccional","Informe de gestión","2023-01-01","2023-12-31",{"$f":"IFERROR(MAX(GESTION_SEG_1_TRIM!H8,GESTION_SEG_2_TRIM!H8,GESTION_SEG_3_TRIM!H8,GESTION_SEG_4_TRIM!H8),\" \")","v":0},null,{"$f":"IFERROR(_xlfn.CONCAT(\"Trimestre 1\",CHAR(10),GESTION_SEG_1_TRIM!J8,CHAR(10),\"Trimestre 2\",CHAR(10),GESTION_SEG_2_TRIM!J8,CHAR(10),\"Trimestre 3\",CHAR(10),GESTION_SEG_3_TRIM!J8,CHAR(10),\"Trimestre 4\",CHAR(10),GESTION_SEG_4_TRIM!J8),\" \")","v":"Trimestre 1\n\nTrimestre 2\n\nTrimestre 3\n\nTrimestre 4\n"},{"$f":"IFERROR(_xlfn.CONCAT(\"Trimestre 1\",CHAR(10),GESTION_SEG_1_TRIM!K8,CHAR(10),\"Trimestre 2\",CHAR(10),GESTION_SEG_2_TRIM!K8,CHAR(10),\"Trimestre 3\",CHAR(10),GESTION_SEG_3_TRIM!K8,CHAR(10),\"Trimestre 4\",CHAR(10),GESTION_SEG_4_TRIM!K8),\" \")","v":"Trimestre 1\nActividad con seguimiento semestral\nTrimestre 2\nSe realiza el informe de Gestióndel Punto de Atención y Orientación al Usuario Justicia, correspondiente al primer semestre del año 2023. \n\nPor otro lado se cuenta con el informe de gestión de la Ofcina de Gestión en Salud, correspondiente al primer trimestre del año 2023 \nTrimestre 3\nActividad con seguimiento semestral\nTrimestre 4\nSe realiza el informe de Gestióndel Punto de Atención y Orientación al Usuario Justicia, correspondiente al año 2023. \n\nPor otro lado se cuenta con el informe de gestión de la Ofcina de Gestión en Salud, correspondiente al año 2023 "},"Informe de Gestión PAUJ - Primer Semestre 2023:\n\nhttps://etbcsj-my.sharepoint.com/:b:/r/personal/sacsma_cendoj_ramajudicial_gov_co/Documents/SICONSEC%20COMPARTIDA/1.%20P.ESTRATEGICOS/1.%20COMUNICACION%20INSTITUCIONAL/3.%20PUNTO%20DE%20ATENCI%C3%93N/2.%20INFORMES%20Y%20ACCIONES/2023/Informe%20PAO%20UJ%20Semestre%201%202023.pdf?csf=1&web=1&e=ij8x5N \n\nInformde De Gestión Primer Trimestre 2023:\n\nhttps://etbcsj-my.sharepoint.com/:f:/g/personal/sacsma_cendoj_ramajudicial_gov_co/EvIq1wuOi65HrB5W9Yi_u4sBF3YpSgvyyGJfbU7n-rpy8Q?e=XGIaFq"]
[null,null,null,null,null,null,null,null,null,null,null,null,null,null,null,{"$f":"IFERROR(MAX(GESTION_SEG_1_TRIM!H9,GESTION_SEG_2_TRIM!H9,GESTION_SEG_3_TRIM!H9,GESTION_SEG_4_TRIM!H9),\" \")","v":0},null,{"$f":"IFERROR(_xlfn.CONCAT(\"Trimestre 1\",CHAR(10),GESTION_SEG_1_TRIM!J9,CHAR(10),\"Trimestre 2\",CHAR(10),GESTION_SEG_2_TRIM!J9,CHAR(10),\"Trimestre 3\",CHAR(10),GESTION_SEG_3_TRIM!J9,CHAR(10),\"Trimestre 4\",CHAR(10),GESTION_SEG_4_TRIM!J9),\" \")","v":"Trimestre 1\n\nTrimestre 2\n\nTrimestre 3\n\nTrimestre 4\n"},{"$f":"IFERROR(_xlfn.CONCAT(\"Trimestre 1\",CHAR(10),GESTION_SEG_1_TRIM!K9,CHAR(10),\"Trimestre 2\",CHAR(10),GESTION_SEG_2_TRIM!K9,CHAR(10),\"Trimestre 3\",CHAR(10),GESTION_SEG_3_TRIM!K9,CHAR(10),\"Trimestre 4\",CHAR(10),GESTION_SEG_4_TRIM!K9),\" \")","v":"Trimestre 1\n\nTrimestre 2\n\nTrimestre 3\n\nTrimestre 4\n"}]
[null,null,null,null,null,null,null,null,null,null,null,null,null,null,null,{"$f":"IFERROR(MAX(GESTION_SEG_1_TRIM!H10,GESTION_SEG_2_TRIM!H10,GESTION_SEG_3_TRIM!H10,GESTION_SEG_4_TRIM!H10),\" \")","v":0},null,{"$f":"IFERROR(_xlfn.CONCAT(\"Trimestre 1\",CHAR(10),GESTION_SEG_1_TRIM!J10,CHAR(10),\"Trimestre 2\",CHAR(10),GESTION_SEG_2_TRIM!J10,CHAR(10),\"Trimestre 3\",CHAR(10),GESTION_SEG_3_TRIM!J10,CHAR(10),\"Trimestre 4\",CHAR(10),GESTION_SEG_4_TRIM!J10),\" \")","v":"Trimestre 1\n\nTrimestre 2\n\nTrimestre 3\n\nTrimestre 4\n"},{"$f":"IFERROR(_xlfn.CONCAT(\"Trimestre 1\",CHAR(10),GESTION_SEG_1_TRIM!K10,CHAR(10),\"Trimestre 2\",CHAR(10),GESTION_SEG_2_TRIM!K10,CHAR(10),\"Trimestre 3\",CHAR(10),GESTION_SEG_3_TRIM!K10,CHAR(10),\"Trimestre 4\",CHAR(10),GESTION_SEG_4_TRIM!K10),\" \")","v":"Trimestre 1\n\nTrimestre 2\n\nTrimestre 3\n\nTrimestre 4\n"}]
[null,null,null,null,null,null,null,null,null,null,null,null,null,null,null,{"$f":"IFERROR(MAX(GESTION_SEG_1_TRIM!H11,GESTION_SEG_2_TRIM!H11,GESTION_SEG_3_TRIM!H11,GESTION_SEG_4_TRIM!H11),\" \")","v":0},null,{"$f":"IFERROR(_xlfn.CONCAT(\"Trimestre 1\",CHAR(10),GESTION_SEG_1_TRIM!J11,CHAR(10),\"Trimestre 2\",CHAR(10),GESTION_SEG_2_TRIM!J11,CHAR(10),\"Trimestre 3\",CHAR(10),GESTION_SEG_3_TRIM!J11,CHAR(10),\"Trimestre 4\",CHAR(10),GESTION_SEG_4_TRIM!J11),\" \")","v":"Trimestre 1\n\nTrimestre 2\n\nTrimestre 3\n\nTrimestre 4\n"},{"$f":"IFERROR(_xlfn.CONCAT(\"Trimestre 1\",CHAR(10),GESTION_SEG_1_TRIM!K11,CHAR(10),\"Trimestre 2\",CHAR(10),GESTION_SEG_2_TRIM!K11,CHAR(10),\"Trimestre 3\",CHAR(10),GESTION_SEG_3_TRIM!K11,CHAR(10),\"Trimestre 4\",CHAR(10),GESTION_SEG_4_TRIM!K11),\" \")","v":"Trimestre 1\n\nTrimestre 2\n\nTrimestre 3\n\nTrimestre 4\n"}]
[null,null,null,null,null,null,null,null,null,null,null,null,null,null,null,{"$f":"IFERROR(MAX(GESTION_SEG_1_TRIM!H12,GESTION_SEG_2_TRIM!H12,GESTION_SEG_3_TRIM!H12,GESTION_SEG_4_TRIM!H12),\" \")","v":0},null,{"$f":"IFERROR(_xlfn.CONCAT(\"Trimestre 1\",CHAR(10),GESTION_SEG_1_TRIM!J12,CHAR(10),\"Trimestre 2\",CHAR(10),GESTION_SEG_2_TRIM!J12,CHAR(10),\"Trimestre 3\",CHAR(10),GESTION_SEG_3_TRIM!J12,CHAR(10),\"Trimestre 4\",CHAR(10),GESTION_SEG_4_TRIM!J12),\" \")","v":"Trimestre 1\n\nTrimestre 2\n\nTrimestre 3\n\nTrimestre 4\n"},{"$f":"IFERROR(_xlfn.CONCAT(\"Trimestre 1\",CHAR(10),GESTION_SEG_1_TRIM!K12,CHAR(10),\"Trimestre 2\",CHAR(10),GESTION_SEG_2_TRIM!K12,CHAR(10),\"Trimestre 3\",CHAR(10),GESTION_SEG_3_TRIM!K12,CHAR(10),\"Trimestre 4\",CHAR(10),GESTION_SEG_4_TRIM!K12),\" \")","v":"Trimestre 1\n\nTrimestre 2\n\nTrimestre 3\n\nTrimestre 4\n"}]
[null,null,null,null,null,null,null,null,null,null,null,null,null,null,null,{"$f":"IFERROR(MAX(GESTION_SEG_1_TRIM!H13,GESTION_SEG_2_TRIM!H13,GESTION_SEG_3_TRIM!H13,GESTION_SEG_4_TRIM!H13),\" \")","v":0},"",{"$f":"IFERROR(_xlfn.CONCAT(\"Trimestre 1\",CHAR(10),GESTION_SEG_1_TRIM!J13,CHAR(10),\"Trimestre 2\",CHAR(10),GESTION_SEG_2_TRIM!J13,CHAR(10),\"Trimestre 3\",CHAR(10),GESTION_SEG_3_TRIM!J13,CHAR(10),\"Trimestre 4\",CHAR(10),GESTION_SEG_4_TRIM!J13),\" \")","v":"Trimestre 1\n\nTrimestre 2\n\nTrimestre 3\n\nTrimestre 4\n"},{"$f":"IFERROR(_xlfn.CONCAT(\"Trimestre 1\",CHAR(10),GESTION_SEG_1_TRIM!K13,CHAR(10),\"Trimestre 2\",CHAR(10),GESTION_SEG_2_TRIM!K13,CHAR(10),\"Trimestre 3\",CHAR(10),GESTION_SEG_3_TRIM!K13,CHAR(10),\"Trimestre 4\",CHAR(10),GESTION_SEG_4_TRIM!K13),\" \")","v":"Trimestre 1\n\nTrimestre 2\n\nTrimestre 3\n\nTrimestre 4\n"}]
[null,null,null,null,null,null,null,null,null,null,null,null,null,null,null,{"$f":"IFERROR(MAX(GESTION_SEG_1_TRIM!H14,GESTION_SEG_2_TRIM!H14,GESTION_SEG_3_TRIM!H14,GESTION_SEG_4_TRIM!H14),\" \")","v":0},"",{"$f":"IFERROR(_xlfn.CONCAT(\"Trimestre 1\",CHAR(10),GESTION_SEG_1_TRIM!J14,CHAR(10),\"Trimestre 2\",CHAR(10),GESTION_SEG_2_TRIM!J14,CHAR(10),\"Trimestre 3\",CHAR(10),GESTION_SEG_3_TRIM!J14,CHAR(10),\"Trimestre 4\",CHAR(10),GESTION_SEG_4_TRIM!J14),\" \")","v":"Trimestre 1\n\nTrimestre 2\n\nTrimestre 3\n\nTrimestre 4\n"},{"$f":"IFERROR(_xlfn.CONCAT(\"Trimestre 1\",CHAR(10),GESTION_SEG_1_TRIM!K14,CHAR(10),\"Trimestre 2\",CHAR(10),GESTION_SEG_2_TRIM!K14,CHAR(10),\"Trimestre 3\",CHAR(10),GESTION_SEG_3_TRIM!K14,CHAR(10),\"Trimestre 4\",CHAR(10),GESTION_SEG_4_TRIM!K14),\" \")","v":"Trimestre 1\n\nTrimestre 2\n\nTrimestre 3\n\nTrimestre 4\n"}]
[null,null,null,null,null,null,null,null,null,null,null,null,null,null,null,{"$f":"IFERROR(MAX(GESTION_SEG_1_TRIM!H15,GESTION_SEG_2_TRIM!H15,GESTION_SEG_3_TRIM!H15,GESTION_SEG_4_TRIM!H15),\" \")","v":0},"",{"$f":"IFERROR(_xlfn.CONCAT(\"Trimestre 1\",CHAR(10),GESTION_SEG_1_TRIM!J15,CHAR(10),\"Trimestre 2\",CHAR(10),GESTION_SEG_2_TRIM!J15,CHAR(10),\"Trimestre 3\",CHAR(10),GESTION_SEG_3_TRIM!J15,CHAR(10),\"Trimestre 4\",CHAR(10),GESTION_SEG_4_TRIM!J15),\" \")","v":"Trimestre 1\n\nTrimestre 2\n\nTrimestre 3\n\nTrimestre 4\n"},{"$f":"IFERROR(_xlfn.CONCAT(\"Trimestre 1\",CHAR(10),GESTION_SEG_1_TRIM!K15,CHAR(10),\"Trimestre 2\",CHAR(10),GESTION_SEG_2_TRIM!K15,CHAR(10),\"Trimestre 3\",CHAR(10),GESTION_SEG_3_TRIM!K15,CHAR(10),\"Trimestre 4\",CHAR(10),GESTION_SEG_4_TRIM!K15),\" \")","v":"Trimestre 1\n\nTrimestre 2\n\nTrimestre 3\n\nTrimestre 4\n"}]
[null,null,"2. Mejorar los tiempos de respuesta de la Rama Judicial y reducir el inventario de procesos, identificando los retos internos y promoviendo tanto acciones articuladas específicas para abordarlos como estrategias coordinadas para enfrentar las barreras que dependen de otras entidades.","2. Asegurar  el cumplimiento de los objetivos institucionales, la normatividad aplicable,  la mejora del SIGCMA y la satisfacción de los usuarios, revisando de  forma continua y sistemática la planificación de la gestión y fortaleciendo la administración de riesgos y sus controles",null,null,null,null,null,null,null,null,null,null,null,{"$f":"IFERROR(MAX(GESTION_SEG_1_TRIM!H16,GESTION_SEG_2_TRIM!H16,GESTION_SEG_3_TRIM!H16,GESTION_SEG_4_TRIM!H16),\" \")","v":0},"",{"$f":"IFERROR(_xlfn.CONCAT(\"Trimestre 1\",CHAR(10),GESTION_SEG_1_TRIM!J16,CHAR(10),\"Trimestre 2\",CHAR(10),GESTION_SEG_2_TRIM!J16,CHAR(10),\"Trimestre 3\",CHAR(10),GESTION_SEG_3_TRIM!J16,CHAR(10),\"Trimestre 4\",CHAR(10),GESTION_SEG_4_TRIM!J16),\" \")","v":"Trimestre 1\n\nTrimestre 2\n\nTrimestre 3\n\nTrimestre 4\n"},{"$f":"IFERROR(_xlfn.CONCAT(\"Trimestre 1\",CHAR(10),GESTION_SEG_1_TRIM!K16,CHAR(10),\"Trimestre 2\",CHAR(10),GESTION_SEG_2_TRIM!K16,CHAR(10),\"Trimestre 3\",CHAR(10),GESTION_SEG_3_TRIM!K16,CHAR(10),\"Trimestre 4\",CHAR(10),GESTION_SEG_4_TRIM!K16),\" \")","v":"Trimestre 1\n\nTrimestre 2\n\nTrimestre 3\n\nTrimestre 4\n"}]
[null,null,null,null,null,null,null,null,null,null,null,null,null,null,null,{"$f":"IFERROR(MAX(GESTION_SEG_1_TRIM!H17,GESTION_SEG_2_TRIM!H17,GESTION_SEG_3_TRIM!H17,GESTION_SEG_4_TRIM!H17),\" \")","v":0},"",{"$f":"IFERROR(_xlfn.CONCAT(\"Trimestre 1\",CHAR(10),GESTION_SEG_1_TRIM!J17,CHAR(10),\"Trimestre 2\",CHAR(10),GESTION_SEG_2_TRIM!J17,CHAR(10),\"Trimestre 3\",CHAR(10),GESTION_SEG_3_TRIM!J17,CHAR(10),\"Trimestre 4\",CHAR(10),GESTION_SEG_4_TRIM!J17),\" \")","v":"Trimestre 1\n\nTrimestre 2\n\nTrimestre 3\n\nTrimestre 4\n"},{"$f":"IFERROR(_xlfn.CONCAT(\"Trimestre 1\",CHAR(10),GESTION_SEG_1_TRIM!K17,CHAR(10),\"Trimestre 2\",CHAR(10),GESTION_SEG_2_TRIM!K17,CHAR(10),\"Trimestre 3\",CHAR(10),GESTION_SEG_3_TRIM!K17,CHAR(10),\"Trimestre 4\",CHAR(10),GESTION_SEG_4_TRIM!K17),\" \")","v":"Trimestre 1\n\nTrimestre 2\n\nTrimestre 3\n\nTrimestre 4\n"}]
[null,null,null,null,null,null,null,null,null,null,null,null,null,null,null,{"$f":"IFERROR(MAX(GESTION_SEG_1_TRIM!H18,GESTION_SEG_2_TRIM!H18,GESTION_SEG_3_TRIM!H18,GESTION_SEG_4_TRIM!H18),\" \")","v":0},null,{"$f":"IFERROR(_xlfn.CONCAT(\"Trimestre 1\",CHAR(10),GESTION_SEG_1_TRIM!J18,CHAR(10),\"Trimestre 2\",CHAR(10),GESTION_SEG_2_TRIM!J18,CHAR(10),\"Trimestre 3\",CHAR(10),GESTION_SEG_3_TRIM!J18,CHAR(10),\"Trimestre 4\",CHAR(10),GESTION_SEG_4_TRIM!J18),\" \")","v":"Trimestre 1\n\nTrimestre 2\n\nTrimestre 3\n\nTrimestre 4\n"},{"$f":"IFERROR(_xlfn.CONCAT(\"Trimestre 1\",CHAR(10),GESTION_SEG_1_TRIM!K18,CHAR(10),\"Trimestre 2\",CHAR(10),GESTION_SEG_2_TRIM!K18,CHAR(10),\"Trimestre 3\",CHAR(10),GESTION_SEG_3_TRIM!K18,CHAR(10),\"Trimestre 4\",CHAR(10),GESTION_SEG_4_TRIM!K18),\" \")","v":"Trimestre 1\n\nTrimestre 2\n\nTrimestre 3\n\nTrimestre 4\n"}]
[null,null,null,null,null,null,null,null,null,null,null,null,null,null,null,{"$f":"IFERROR(MAX(GESTION_SEG_1_TRIM!H19,GESTION_SEG_2_TRIM!H19,GESTION_SEG_3_TRIM!H19,GESTION_SEG_4_TRIM!H19),\" \")","v":0},null,{"$f":"IFERROR(_xlfn.CONCAT(\"Trimestre 1\",CHAR(10),GESTION_SEG_1_TRIM!J19,CHAR(10),\"Trimestre 2\",CHAR(10),GESTION_SEG_2_TRIM!J19,CHAR(10),\"Trimestre 3\",CHAR(10),GESTION_SEG_3_TRIM!J19,CHAR(10),\"Trimestre 4\",CHAR(10),GESTION_SEG_4_TRIM!J19),\" \")","v":"Trimestre 1\n\nTrimestre 2\n\nTrimestre 3\n\nTrimestre 4\n"},{"$f":"IFERROR(_xlfn.CONCAT(\"Trimestre 1\",CHAR(10),GESTION_SEG_1_TRIM!K19,CHAR(10),\"Trimestre 2\",CHAR(10),GESTION_SEG_2_TRIM!K19,CHAR(10),\"Trimestre 3\",CHAR(10),GESTION_SEG_3_TRIM!K19,CHAR(10),\"Trimestre 4\",CHAR(10),GESTION_SEG_4_TRIM!K19),\" \")","v":"Trimestre 1\n\nTrimestre 2\n\nTrimestre 3\n\nTrimestre 4\n"}]
[null,null,null,null,null,null,null,null,null,null,null,null,null,null,null,{"$f":"IFERROR(MAX(GESTION_SEG_1_TRIM!H20,GESTION_SEG_2_TRIM!H20,GESTION_SEG_3_TRIM!H20,GESTION_SEG_4_TRIM!H20),\" \")","v":0},null,{"$f":"IFERROR(_xlfn.CONCAT(\"Trimestre 1\",CHAR(10),GESTION_SEG_1_TRIM!J20,CHAR(10),\"Trimestre 2\",CHAR(10),GESTION_SEG_2_TRIM!J20,CHAR(10),\"Trimestre 3\",CHAR(10),GESTION_SEG_3_TRIM!J20,CHAR(10),\"Trimestre 4\",CHAR(10),GESTION_SEG_4_TRIM!J20),\" \")","v":"Trimestre 1\n\nTrimestre 2\n\nTrimestre 3\n\nTrimestre 4\n"},{"$f":"IFERROR(_xlfn.CONCAT(\"Trimestre 1\",CHAR(10),GESTION_SEG_1_TRIM!K20,CHAR(10),\"Trimestre 2\",CHAR(10),GESTION_SEG_2_TRIM!K20,CHAR(10),\"Trimestre 3\",CHAR(10),GESTION_SEG_3_TRIM!K20,CHAR(10),\"Trimestre 4\",CHAR(10),GESTION_SEG_4_TRIM!K20),\" \")","v":"Trimestre 1\n\nTrimestre 2\n\nTrimestre 3\n\nTrimestre 4\n"}]
[null,null,null,null,null,null,null,null,null,null,null,null,null,null,null,{"$f":"IFERROR(MAX(GESTION_SEG_1_TRIM!H21,GESTION_SEG_2_TRIM!H21,GESTION_SEG_3_TRIM!H21,GESTION_SEG_4_TRIM!H21),\" \")","v":0},null,{"$f":"IFERROR(_xlfn.CONCAT(\"Trimestre 1\",CHAR(10),GESTION_SEG_1_TRIM!J21,CHAR(10),\"Trimestre 2\",CHAR(10),GESTION_SEG_2_TRIM!J21,CHAR(10),\"Trimestre 3\",CHAR(10),GESTION_SEG_3_TRIM!J21,CHAR(10),\"Trimestre 4\",CHAR(10),GESTION_SEG_4_TRIM!J21),\" \")","v":"Trimestre 1\n\nTrimestre 2\n\nTrimestre 3\n\nTrimestre 4\n"},{"$f":"IFERROR(_xlfn.CONCAT(\"Trimestre 1\",CHAR(10),GESTION_SEG_1_TRIM!K21,CHAR(10),\"Trimestre 2\",CHAR(10),GESTION_SEG_2_TRIM!K21,CHAR(10),\"Trimestre 3\",CHAR(10),GESTION_SEG_3_TRIM!K21,CHAR(10),\"Trimestre 4\",CHAR(10),GESTION_SEG_4_TRIM!K21),\" \")","v":"Trimestre 1\n\nTrimestre 2\n\nTrimestre 3\n\nTrimestre 4\n"}]
[null,null,null,null,null,null,null,null,null,null,null,null,null,null,null,{"$f":"IFERROR(MAX(GESTION_SEG_1_TRIM!H22,GESTION_SEG_2_TRIM!H22,GESTION_SEG_3_TRIM!H22,GESTION_SEG_4_TRIM!H22),\" \")","v":0},null,{"$f":"IFERROR(_xlfn.CONCAT(\"Trimestre 1\",CHAR(10),GESTION_SEG_1_TRIM!J22,CHAR(10),\"Trimestre 2\",CHAR(10),GESTION_SEG_2_TRIM!J22,CHAR(10),\"Trimestre 3\",CHAR(10),GESTION_SEG_3_TRIM!J22,CHAR(10),\"Trimestre 4\",CHAR(10),GESTION_SEG_4_TRIM!J22),\" \")","v":"Trimestre 1\n\nTrimestre 2\n\nTrimestre 3\n\nTrimestre 4\n"},{"$f":"IFERROR(_xlfn.CONCAT(\"Trimestre 1\",CHAR(10),GESTION_SEG_1_TRIM!K22,CHAR(10),\"Trimestre 2\",CHAR(10),GESTION_SEG_2_TRIM!K22,CHAR(10),\"Trimestre 3\",CHAR(10),GESTION_SEG_3_TRIM!K22,CHAR(10),\"Trimestre 4\",CHAR(10),GESTION_SEG_4_TRIM!K22),\" \")","v":"Trimestre 1\n\nTrimestre 2\n\nTrimestre 3\n\nTrimestre 4\n"}]
[null,null,null,null,null,null,null,null,null,null,null,null,null,null,null,{"$f":"IFERROR(MAX(GESTION_SEG_1_TRIM!H23,GESTION_SEG_2_TRIM!H23,GESTION_SEG_3_TRIM!H23,GESTION_SEG_4_TRIM!H23),\" \")","v":0},"",{"$f":"IFERROR(_xlfn.CONCAT(\"Trimestre 1\",CHAR(10),GESTION_SEG_1_TRIM!J23,CHAR(10),\"Trimestre 2\",CHAR(10),GESTION_SEG_2_TRIM!J23,CHAR(10),\"Trimestre 3\",CHAR(10),GESTION_SEG_3_TRIM!J23,CHAR(10),\"Trimestre 4\",CHAR(10),GESTION_SEG_4_TRIM!J23),\" \")","v":"Trimestre 1\n\nTrimestre 2\n\nTrimestre 3\n\nTrimestre 4\n"},{"$f":"IFERROR(_xlfn.CONCAT(\"Trimestre 1\",CHAR(10),GESTION_SEG_1_TRIM!K23,CHAR(10),\"Trimestre 2\",CHAR(10),GESTION_SEG_2_TRIM!K23,CHAR(10),\"Trimestre 3\",CHAR(10),GESTION_SEG_3_TRIM!K23,CHAR(10),\"Trimestre 4\",CHAR(10),GESTION_SEG_4_TRIM!K23),\" \")","v":"Trimestre 1\n\nTrimestre 2\n\nTrimestre 3\n\nTrimestre 4\n"}]
[null,null,null,null,null,null,null,null,null,null,null,null,null,null,null,{"$f":"IFERROR(MAX(GESTION_SEG_1_TRIM!H24,GESTION_SEG_2_TRIM!H24,GESTION_SEG_3_TRIM!H24,GESTION_SEG_4_TRIM!H24),\" \")","v":0},"",{"$f":"IFERROR(_xlfn.CONCAT(\"Trimestre 1\",CHAR(10),GESTION_SEG_1_TRIM!J24,CHAR(10),\"Trimestre 2\",CHAR(10),GESTION_SEG_2_TRIM!J24,CHAR(10),\"Trimestre 3\",CHAR(10),GESTION_SEG_3_TRIM!J24,CHAR(10),\"Trimestre 4\",CHAR(10),GESTION_SEG_4_TRIM!J24),\" \")","v":"Trimestre 1\n\nTrimestre 2\n\nTrimestre 3\n\nTrimestre 4\n"},{"$f":"IFERROR(_xlfn.CONCAT(\"Trimestre 1\",CHAR(10),GESTION_SEG_1_TRIM!K24,CHAR(10),\"Trimestre 2\",CHAR(10),GESTION_SEG_2_TRIM!K24,CHAR(10),\"Trimestre 3\",CHAR(10),GESTION_SEG_3_TRIM!K24,CHAR(10),\"Trimestre 4\",CHAR(10),GESTION_SEG_4_TRIM!K24),\" \")","v":"Trimestre 1\n\nTrimestre 2\n\nTrimestre 3\n\nTrimestre 4\n"}]
[null,null,null,null,null,null,null,null,null,null,null,null,null,null,null,{"$f":"IFERROR(MAX(GESTION_SEG_1_TRIM!H25,GESTION_SEG_2_TRIM!H25,GESTION_SEG_3_TRIM!H25,GESTION_SEG_4_TRIM!H25),\" \")","v":0},"",{"$f":"IFERROR(_xlfn.CONCAT(\"Trimestre 1\",CHAR(10),GESTION_SEG_1_TRIM!J25,CHAR(10),\"Trimestre 2\",CHAR(10),GESTION_SEG_2_TRIM!J25,CHAR(10),\"Trimestre 3\",CHAR(10),GESTION_SEG_3_TRIM!J25,CHAR(10),\"Trimestre 4\",CHAR(10),GESTION_SEG_4_TRIM!J25),\" \")","v":"Trimestre 1\n\nTrimestre 2\n\nTrimestre 3\n\nTrimestre 4\n"},{"$f":"IFERROR(_xlfn.CONCAT(\"Trimestre 1\",CHAR(10),GESTION_SEG_1_TRIM!K25,CHAR(10),\"Trimestre 2\",CHAR(10),GESTION_SEG_2_TRIM!K25,CHAR(10),\"Trimestre 3\",CHAR(10),GESTION_SEG_3_TRIM!K25,CHAR(10),\"Trimestre 4\",CHAR(10),GESTION_SEG_4_TRIM!K25),\" \")","v":"Trimestre 1\n\nTrimestre 2\n\nTrimestre 3\n\nTrimestre 4\n"}]
[null,null,"3. Coadyuvar en la garantía de la idoneidad en el ejercicio de la profesión jurídica de acuerdo con lo establecido en la Ley 1905 de 2018","2. Asegurar  el cumplimiento de los objetivos institucionales, la normatividad aplicable,  la mejora del SIGCMA y la satisfacción de los usuarios, revisando de  forma continua y sistemática la planificación de la gestión y fortaleciendo la administración de riesgos y sus controles",null,null,null,null,null,null,null,null,null,null,null,{"$f":"IFERROR(MAX(GESTION_SEG_1_TRIM!H26,GESTION_SEG_2_TRIM!H26,GESTION_SEG_3_TRIM!H26,GESTION_SEG_4_TRIM!H26),\" \")","v":0},"",{"$f":"IFERROR(_xlfn.CONCAT(\"Trimestre 1\",CHAR(10),GESTION_SEG_1_TRIM!J26,CHAR(10),\"Trimestre 2\",CHAR(10),GESTION_SEG_2_TRIM!J26,CHAR(10),\"Trimestre 3\",CHAR(10),GESTION_SEG_3_TRIM!J26,CHAR(10),\"Trimestre 4\",CHAR(10),GESTION_SEG_4_TRIM!J26),\" \")","v":"Trimestre 1\n\nTrimestre 2\n\nTrimestre 3\n\nTrimestre 4\n"},{"$f":"IFERROR(_xlfn.CONCAT(\"Trimestre 1\",CHAR(10),GESTION_SEG_1_TRIM!K26,CHAR(10),\"Trimestre 2\",CHAR(10),GESTION_SEG_2_TRIM!K26,CHAR(10),\"Trimestre 3\",CHAR(10),GESTION_SEG_3_TRIM!K26,CHAR(10),\"Trimestre 4\",CHAR(10),GESTION_SEG_4_TRIM!K26),\" \")","v":"Trimestre 1\n\nTrimestre 2\n\nTrimestre 3\n\nTrimestre 4\n"}]
[null,null,null,null,null,null,null,null,null,null,null,null,null,null,null,{"$f":"IFERROR(MAX(GESTION_SEG_1_TRIM!H27,GESTION_SEG_2_TRIM!H27,GESTION_SEG_3_TRIM!H27,GESTION_SEG_4_TRIM!H27),\" \")","v":0},"",{"$f":"IFERROR(_xlfn.CONCAT(\"Trimestre 1\",CHAR(10),GESTION_SEG_1_TRIM!J27,CHAR(10),\"Trimestre 2\",CHAR(10),GESTION_SEG_2_TRIM!J27,CHAR(10),\"Trimestre 3\",CHAR(10),GESTION_SEG_3_TRIM!J27,CHAR(10),\"Trimestre 4\",CHAR(10),GESTION_SEG_4_TRIM!J27),\" \")","v":"Trimestre 1\n\nTrimestre 2\n\nTrimestre 3\n\nTrimestre 4\n"},{"$f":"IFERROR(_xlfn.CONCAT(\"Trimestre 1\",CHAR(10),GESTION_SEG_1_TRIM!K27,CHAR(10),\"Trimestre 2\",CHAR(10),GESTION_SEG_2_TRIM!K27,CHAR(10),\"Trimestre 3\",CHAR(10),GESTION_SEG_3_TRIM!K27,CHAR(10),\"Trimestre 4\",CHAR(10),GESTION_SEG_4_TRIM!K27),\" \")","v":"Trimestre 1\n\nTrimestre 2\n\nTrimestre 3\n\nTrimestre 4\n"}]
[null,null,null,null,null,null,null,null,null,null,null,null,null,null,null,{"$f":"IFERROR(MAX(GESTION_SEG_1_TRIM!H28,GESTION_SEG_2_TRIM!H28,GESTION_SEG_3_TRIM!H28,GESTION_SEG_4_TRIM!H28),\" \")","v":0},null,{"$f":"IFERROR(_xlfn.CONCAT(\"Trimestre 1\",CHAR(10),GESTION_SEG_1_TRIM!J28,CHAR(10),\"Trimestre 2\",CHAR(10),GESTION_SEG_2_TRIM!J28,CHAR(10),\"Trimestre 3\",CHAR(10),GESTION_SEG_3_TRIM!J28,CHAR(10),\"Trimestre 4\",CHAR(10),GESTION_SEG_4_TRIM!J28),\" \")","v":"Trimestre 1\n\nTrimestre 2\n\nTrimestre 3\n\nTrimestre 4\n"},{"$f":"IFERROR(_xlfn.CONCAT(\"Trimestre 1\",CHAR(10),GESTION_SEG_1_TRIM!K28,CHAR(10),\"Trimestre 2\",CHAR(10),GESTION_SEG_2_TRIM!K28,CHAR(10),\"Trimestre 3\",CHAR(10),GESTION_SEG_3_TRIM!K28,CHAR(10),\"Trimestre 4\",CHAR(10),GESTION_SEG_4_TRIM!K28),\" \")","v":"Trimestre 1\n\nTrimestre 2\n\nTrimestre 3\n\nTrimestre 4\n"}]
[null,null,null,null,null,null,null,null,null,null,null,null,null,null,null,{"$f":"IFERROR(MAX(GESTION_SEG_1_TRIM!H29,GESTION_SEG_2_TRIM!H29,GESTION_SEG_3_TRIM!H29,GESTION_SEG_4_TRIM!H29),\" \")","v":0},null,{"$f":"IFERROR(_xlfn.CONCAT(\"Trimestre 1\",CHAR(10),GESTION_SEG_1_TRIM!J29,CHAR(10),\"Trimestre 2\",CHAR(10),GESTION_SEG_2_TRIM!J29,CHAR(10),\"Trimestre 3\",CHAR(10),GESTION_SEG_3_TRIM!J29,CHAR(10),\"Trimestre 4\",CHAR(10),GESTION_SEG_4_TRIM!J29),\" \")","v":"Trimestre 1\n\nTrimestre 2\n\nTrimestre 3\n\nTrimestre 4\n"},{"$f":"IFERROR(_xlfn.CONCAT(\"Trimestre 1\",CHAR(10),GESTION_SEG_1_TRIM!K29,CHAR(10),\"Trimestre 2\",CHAR(10),GESTION_SEG_2_TRIM!K29,CHAR(10),\"Trimestre 3\",CHAR(10),GESTION_SEG_3_TRIM!K29,CHAR(10),\"Trimestre 4\",CHAR(10),GESTION_SEG_4_TRIM!K29),\" \")","v":"Trimestre 1\n\nTrimestre 2\n\nTrimestre 3\n\nTrimestre 4\n"}]
[null,null,null,null,null,null,null,null,null,null,null,null,null,null,null,{"$f":"IFERROR(MAX(GESTION_SEG_1_TRIM!H30,GESTION_SEG_2_TRIM!H30,GESTION_SEG_3_TRIM!H30,GESTION_SEG_4_TRIM!H30),\" \")","v":0},null,{"$f":"IFERROR(_xlfn.CONCAT(\"Trimestre 1\",CHAR(10),GESTION_SEG_1_TRIM!J30,CHAR(10),\"Trimestre 2\",CHAR(10),GESTION_SEG_2_TRIM!J30,CHAR(10),\"Trimestre 3\",CHAR(10),GESTION_SEG_3_TRIM!J30,CHAR(10),\"Trimestre 4\",CHAR(10),GESTION_SEG_4_TRIM!J30),\" \")","v":"Trimestre 1\n\nTrimestre 2\n\nTrimestre 3\n\nTrimestre 4\n"},{"$f":"IFERROR(_xlfn.CONCAT(\"Trimestre 1\",CHAR(10),GESTION_SEG_1_TRIM!K30,CHAR(10),\"Trimestre 2\",CHAR(10),GESTION_SEG_2_TRIM!K30,CHAR(10),\"Trimestre 3\",CHAR(10),GESTION_SEG_3_TRIM!K30,CHAR(10),\"Trimestre 4\",CHAR(10),GESTION_SEG_4_TRIM!K30),\" \")","v":"Trimestre 1\n\nTrimestre 2\n\nTrimestre 3\n\nTrimestre 4\n"}]
[null,null,null,null,null,null,null,null,null,null,null,null,null,null,null,{"$f":"IFERROR(MAX(GESTION_SEG_1_TRIM!H31,GESTION_SEG_2_TRIM!H31,GESTION_SEG_3_TRIM!H31,GESTION_SEG_4_TRIM!H31),\" \")","v":0},null,{"$f":"IFERROR(_xlfn.CONCAT(\"Trimestre 1\",CHAR(10),GESTION_SEG_1_TRIM!J31,CHAR(10),\"Trimestre 2\",CHAR(10),GESTION_SEG_2_TRIM!J31,CHAR(10),\"Trimestre 3\",CHAR(10),GESTION_SEG_3_TRIM!J31,CHAR(10),\"Trimestre 4\",CHAR(10),GESTION_SEG_4_TRIM!J31),\" \")","v":"Trimestre 1\n\nTrimestre 2\n\nTrimestre 3\n\nTrimestre 4\n"},{"$f":"IFERROR(_xlfn.CONCAT(\"Trimestre 1\",CHAR(10),GESTION_SEG_1_TRIM!K31,CHAR(10),\"Trimestre 2\",CHAR(10),GESTION_SEG_2_TRIM!K31,CHAR(10),\"Trimestre 3\",CHAR(10),GESTION_SEG_3_TRIM!K31,CHAR(10),\"Trimestre 4\",CHAR(10),GESTION_SEG_4_TRIM!K31),\" \")","v":"Trimestre 1\n\nTrimestre 2\n\nTrimestre 3\n\nTrimestre 4\n"}]
[null,null,null,null,null,null,null,null,null,null,null,null,null,null,null,{"$f":"IFERROR(MAX(GESTION_SEG_1_TRIM!H32,GESTION_SEG_2_TRIM!H32,GESTION_SEG_3_TRIM!H32,GESTION_SEG_4_TRIM!H32),\" \")","v":0},null,{"$f":"IFERROR(_xlfn.CONCAT(\"Trimestre 1\",CHAR(10),GESTION_SEG_1_TRIM!J32,CHAR(10),\"Trimestre 2\",CHAR(10),GESTION_SEG_2_TRIM!J32,CHAR(10),\"Trimestre 3\",CHAR(10),GESTION_SEG_3_TRIM!J32,CHAR(10),\"Trimestre 4\",CHAR(10),GESTION_SEG_4_TRIM!J32),\" \")","v":"Trimestre 1\n\nTrimestre 2\n\nTrimestre 3\n\nTrimestre 4\n"},{"$f":"IFERROR(_xlfn.CONCAT(\"Trimestre 1\",CHAR(10),GESTION_SEG_1_TRIM!K32,CHAR(10),\"Trimestre 2\",CHAR(10),GESTION_SEG_2_TRIM!K32,CHAR(10),\"Trimestre 3\",CHAR(10),GESTION_SEG_3_TRIM!K32,CHAR(10),\"Trimestre 4\",CHAR(10),GESTION_SEG_4_TRIM!K32),\" \")","v":"Trimestre 1\n\nTrimestre 2\n\nTrimestre 3\n\nTrimestre 4\n"}]
[null,null,null,null,null,null,null,null,null,null,null,null,null,null,null,{"$f":"IFERROR(MAX(GESTION_SEG_1_TRIM!H33,GESTION_SEG_2_TRIM!H33,GESTION_SEG_3_TRIM!H33,GESTION_SEG_4_TRIM!H33),\" \")","v":0},"",{"$f":"IFERROR(_xlfn.CONCAT(\"Trimestre 1\",CHAR(10),GESTION_SEG_1_TRIM!J33,CHAR(10),\"Trimestre 2\",CHAR(10),GESTION_SEG_2_TRIM!J33,CHAR(10),\"Trimestre 3\",CHAR(10),GESTION_SEG_3_TRIM!J33,CHAR(10),\"Trimestre 4\",CHAR(10),GESTION_SEG_4_TRIM!J33),\" \")","v":"Trimestre 1\n\nTrimestre 2\n\nTrimestre 3\n\nTrimestre 4\n"},{"$f":"IFERROR(_xlfn.CONCAT(\"Trimestre 1\",CHAR(10),GESTION_SEG_1_TRIM!K33,CHAR(10),\"Trimestre 2\",CHAR(10),GESTION_SEG_2_TRIM!K33,CHAR(10),\"Trimestre 3\",CHAR(10),GESTION_SEG_3_TRIM!K33,CHAR(10),\"Trimestre 4\",CHAR(10),GESTION_SEG_4_TRIM!K33),\" \")","v":"Trimestre 1\n\nTrimestre 2\n\nTrimestre 3\n\nTrimestre 4\n"}]
[null,null,null,null,null,null,null,null,null,null,null,null,null,null,null,{"$f":"IFERROR(MAX(GESTION_SEG_1_TRIM!H34,GESTION_SEG_2_TRIM!H34,GESTION_SEG_3_TRIM!H34,GESTION_SEG_4_TRIM!H34),\" \")","v":0},"",{"$f":"IFERROR(_xlfn.CONCAT(\"Trimestre 1\",CHAR(10),GESTION_SEG_1_TRIM!J34,CHAR(10),\"Trimestre 2\",CHAR(10),GESTION_SEG_2_TRIM!J34,CHAR(10),\"Trimestre 3\",CHAR(10),GESTION_SEG_3_TRIM!J34,CHAR(10),\"Trimestre 4\",CHAR(10),GESTION_SEG_4_TRIM!J34),\" \")","v":"Trimestre 1\n\nTrimestre 2\n\nTrimestre 3\n\nTrimestre 4\n"},{"$f":"IFERROR(_xlfn.CONCAT(\"Trimestre 1\",CHAR(10),GESTION_SEG_1_TRIM!K34,CHAR(10),\"Trimestre 2\",CHAR(10),GESTION_SEG_2_TRIM!K34,CHAR(10),\"Trimestre 3\",CHAR(10),GESTION_SEG_3_TRIM!K34,CHAR(10),\"Trimestre 4\",CHAR(10),GESTION_SEG_4_TRIM!K34),\" \")","v":"Trimestre 1\n\nTrimestre 2\n\nTrimestre 3\n\nTrimestre 4\n"}]
[null,null,null,null,null,null,null,null,null,null,null,null,null,null,null,{"$f":"IFERROR(MAX(GESTION_SEG_1_TRIM!H35,GESTION_SEG_2_TRIM!H35,GESTION_SEG_3_TRIM!H35,GESTION_SEG_4_TRIM!H35),\" \")","v":0},"",{"$f":"IFERROR(_xlfn.CONCAT(\"Trimestre 1\",CHAR(10),GESTION_SEG_1_TRIM!J35,CHAR(10),\"Trimestre 2\",CHAR(10),GESTION_SEG_2_TRIM!J35,CHAR(10),\"Trimestre 3\",CHAR(10),GESTION_SEG_3_TRIM!J35,CHAR(10),\"Trimestre 4\",CHAR(10),GESTION_SEG_4_TRIM!J35),\" \")","v":"Trimestre 1\n\nTrimestre 2\n\nTrimestre 3\n\nTrimestre 4\n"},{"$f":"IFERROR(_xlfn.CONCAT(\"Trimestre 1\",CHAR(10),GESTION_SEG_1_TRIM!K35,CHAR(10),\"Trimestre 2\",CHAR(10),GESTION_SEG_2_TRIM!K35,CHAR(10),\"Trimestre 3\",CHAR(10),GESTION_SEG_3_TRIM!K35,CHAR(10),\"Trimestre 4\",CHAR(10),GESTION_SEG_4_TRIM!K35),\" \")","v":"Trimestre 1\n\nTrimestre 2\n\nTrimestre 3\n\nTrimestre 4\n"}]
[null,null,"4. Avanzar en la disposición de una infraestructura óptima para el acceso a la justicia en la Rama Judicial de modo que se fortalezca la presencia territorial, teniendo en cuenta las posibilidades que ofrece la transformación digital y las necesidades que se derivan de ella, y considerando tanto las necesidades de los usuarios como las de los servidores judiciales.","4. Hacer un uso racional de los recursos naturales aplicando los principios y fases de la Economía Circular, para prevenir, mitigar y controlar los impactos ambientales",null,null,null,null,null,null,null,null,null,null,null,{"$f":"IFERROR(MAX(GESTION_SEG_1_TRIM!H36,GESTION_SEG_2_TRIM!H36,GESTION_SEG_3_TRIM!H36,GESTION_SEG_4_TRIM!H36),\" \")","v":0},"",{"$f":"IFERROR(_xlfn.CONCAT(\"Trimestre 1\",CHAR(10),GESTION_SEG_1_TRIM!J36,CHAR(10),\"Trimestre 2\",CHAR(10),GESTION_SEG_2_TRIM!J36,CHAR(10),\"Trimestre 3\",CHAR(10),GESTION_SEG_3_TRIM!J36,CHAR(10),\"Trimestre 4\",CHAR(10),GESTION_SEG_4_TRIM!J36),\" \")","v":"Trimestre 1\n\nTrimestre 2\n\nTrimestre 3\n\nTrimestre 4\n"},{"$f":"IFERROR(_xlfn.CONCAT(\"Trimestre 1\",CHAR(10),GESTION_SEG_1_TRIM!K36,CHAR(10),\"Trimestre 2\",CHAR(10),GESTION_SEG_2_TRIM!K36,CHAR(10),\"Trimestre 3\",CHAR(10),GESTION_SEG_3_TRIM!K36,CHAR(10),\"Trimestre 4\",CHAR(10),GESTION_SEG_4_TRIM!K36),\" \")","v":"Trimestre 1\n\nTrimestre 2\n\nTrimestre 3\n\nTrimestre 4\n"}]
[null,null,null,null,null,null,null,null,null,null,null,null,null,null,null,{"$f":"IFERROR(MAX(GESTION_SEG_1_TRIM!H37,GESTION_SEG_2_TRIM!H37,GESTION_SEG_3_TRIM!H37,GESTION_SEG_4_TRIM!H37),\" \")","v":0},"",{"$f":"IFERROR(_xlfn.CONCAT(\"Trimestre 1\",CHAR(10),GESTION_SEG_1_TRIM!J37,CHAR(10),\"Trimestre 2\",CHAR(10),GESTION_SEG_2_TRIM!J37,CHAR(10),\"Trimestre 3\",CHAR(10),GESTION_SEG_3_TRIM!J37,CHAR(10),\"Trimestre 4\",CHAR(10),GESTION_SEG_4_TRIM!J37),\" \")","v":"Trimestre 1\n\nTrimestre 2\n\nTrimestre 3\n\nTrimestre 4\n"},{"$f":"IFERROR(_xlfn.CONCAT(\"Trimestre 1\",CHAR(10),GESTION_SEG_1_TRIM!K37,CHAR(10),\"Trimestre 2\",CHAR(10),GESTION_SEG_2_TRIM!K37,CHAR(10),\"Trimestre 3\",CHAR(10),GESTION_SEG_3_TRIM!K37,CHAR(10),\"Trimestre 4\",CHAR(10),GESTION_SEG_4_TRIM!K37),\" \")","v":"Trimestre 1\n\nTrimestre 2\n\nTrimestre 3\n\nTrimestre 4\n"}]
[null,null,null,null,null,null,null,null,null,null,null,null,null,null,null,{"$f":"IFERROR(MAX(GESTION_SEG_1_TRIM!H38,GESTION_SEG_2_TRIM!H38,GESTION_SEG_3_TRIM!H38,GESTION_SEG_4_TRIM!H38),\" \")","v":0},"",{"$f":"IFERROR(_xlfn.CONCAT(\"Trimestre 1\",CHAR(10),GESTION_SEG_1_TRIM!J38,CHAR(10),\"Trimestre 2\",CHAR(10),GESTION_SEG_2_TRIM!J38,CHAR(10),\"Trimestre 3\",CHAR(10),GESTION_SEG_3_TRIM!J38,CHAR(10),\"Trimestre 4\",CHAR(10),GESTION_SEG_4_TRIM!J38),\" \")","v":"Trimestre 1\n\nTrimestre 2\n\nTrimestre 3\n\nTrimestre 4\n"},{"$f":"IFERROR(_xlfn.CONCAT(\"Trimestre 1\",CHAR(10),GESTION_SEG_1_TRIM!K38,CHAR(10),\"Trimestre 2\",CHAR(10),GESTION_SEG_2_TRIM!K38,CHAR(10),\"Trimestre 3\",CHAR(10),GESTION_SEG_3_TRIM!K38,CHAR(10),\"Trimestre 4\",CHAR(10),GESTION_SEG_4_TRIM!K38),\" \")","v":"Trimestre 1\n\nTrimestre 2\n\nTrimestre 3\n\nTrimestre 4\n"}]
[null,null,null,null,null,null,null,null,null,null,null,null,null,null,null,{"$f":"IFERROR(MAX(GESTION_SEG_1_TRIM!H39,GESTION_SEG_2_TRIM!H39,GESTION_SEG_3_TRIM!H39,GESTION_SEG_4_TRIM!H39),\" \")","v":0},null,{"$f":"IFERROR(_xlfn.CONCAT(\"Trimestre 1\",CHAR(10),GESTION_SEG_1_TRIM!J39,CHAR(10),\"Trimestre 2\",CHAR(10),GESTION_SEG_2_TRIM!J39,CHAR(10),\"Trimestre 3\",CHAR(10),GESTION_SEG_3_TRIM!J39,CHAR(10),\"Trimestre 4\",CHAR(10),GESTION_SEG_4_TRIM!J39),\" \")","v":"Trimestre 1\n\nTrimestre 2\n\nTrimestre 3\n\nTrimestre 4\n"},{"$f":"IFERROR(_xlfn.CONCAT(\"Trimestre 1\",CHAR(10),GESTION_SEG_1_TRIM!K39,CHAR(10),\"Trimestre 2\",CHAR(10),GESTION_SEG_2_TRIM!K39,CHAR(10),\"Trimestre 3\",CHAR(10),GESTION_SEG_3_TRIM!K39,CHAR(10),\"Trimestre 4\",CHAR(10),GESTION_SEG_4_TRIM!K39),\" \")","v":"Trimestre 1\n\nTrimestre 2\n\nTrimestre 3\n\nTrimestre 4\n"}]
[null,null,null,null,null,null,null,null,null,null,null,null,null,null,null,{"$f":"IFERROR(MAX(GESTION_SEG_1_TRIM!H40,GESTION_SEG_2_TRIM!H40,GESTION_SEG_3_TRIM!H40,GESTION_SEG_4_TRIM!H40),\" \")","v":0},null,{"$f":"IFERROR(_xlfn.CONCAT(\"Trimestre 1\",CHAR(10),GESTION_SEG_1_TRIM!J40,CHAR(10),\"Trimestre 2\",CHAR(10),GESTION_SEG_2_TRIM!J40,CHAR(10),\"Trimestre 3\",CHAR(10),GESTION_SEG_3_TRIM!J40,CHAR(10),\"Trimestre 4\",CHAR(10),GESTION_SEG_4_TRIM!J40),\" \")","v":"Trimestre 1\n\nTrimestre 2\n\nTrimestre 3\n\nTrimestre 4\n"},{"$f":"IFERROR(_xlfn.CONCAT(\"Trimestre 1\",CHAR(10),GESTION_SEG_1_TRIM!K40,CHAR(10),\"Trimestre 2\",CHAR(10),GESTION_SEG_2_TRIM!K40,CHAR(10),\"Trimestre 3\",CHAR(10),GESTION_SEG_3_TRIM!K40,CHAR(10),\"Trimestre 4\",CHAR(10),GESTION_SEG_4_TRIM!K40),\" \")","v":"Trimestre 1\n\nTrimestre 2\n\nTrimestre 3\n\nTrimestre 4\n"}]
[null,null,null,null,null,null,null,null,null,null,null,null,null,null,null,{"$f":"IFERROR(MAX(GESTION_SEG_1_TRIM!H41,GESTION_SEG_2_TRIM!H41,GESTION_SEG_3_TRIM!H41,GESTION_SEG_4_TRIM!H41),\" \")","v":0},null,{"$f":"IFERROR(_xlfn.CONCAT(\"Trimestre 1\",CHAR(10),GESTION_SEG_1_TRIM!J41,CHAR(10),\"Trimestre 2\",CHAR(10),GESTION_SEG_2_TRIM!J41,CHAR(10),\"Trimestre 3\",CHAR(10),GESTION_SEG_3_TRIM!J41,CHAR(10),\"Trimestre 4\",CHAR(10),GESTION_SEG_4_TRIM!J41),\" \")","v":"Trimestre 1\n\nTrimestre 2\n\nTrimestre 3\n\nTrimestre 4\n"},{"$f":"IFERROR(_xlfn.CONCAT(\"Trimestre 1\",CHAR(10),GESTION_SEG_1_TRIM!K41,CHAR(10),\"Trimestre 2\",CHAR(10),GESTION_SEG_2_TRIM!K41,CHAR(10),\"Trimestre 3\",CHAR(10),GESTION_SEG_3_TRIM!K41,CHAR(10),\"Trimestre 4\",CHAR(10),GESTION_SEG_4_TRIM!K41),\" \")","v":"Trimestre 1\n\nTrimestre 2\n\nTrimestre 3\n\nTrimestre 4\n"}]
[null,null,null,null,null,null,null,null,null,null,null,null,null,null,null,{"$f":"IFERROR(MAX(GESTION_SEG_1_TRIM!H42,GESTION_SEG_2_TRIM!H42,GESTION_SEG_3_TRIM!H42,GESTION_SEG_4_TRIM!H42),\" \")","v":0},null,{"$f":"IFERROR(_xlfn.CONCAT(\"Trimestre 1\",CHAR(10),GESTION_SEG_1_TRIM!J42,CHAR(10),\"Trimestre 2\",CHAR(10),GESTION_SEG_2_TRIM!J42,CHAR(10),\"Trimestre 3\",CHAR(10),GESTION_SEG_3_TRIM!J42,CHAR(10),\"Trimestre 4\",CHAR(10),GESTION_SEG_4_TRIM!J42),\" \")","v":"Trimestre 1\n\nTrimestre 2\n\nTrimestre 3\n\nTrimestre 4\n"},{"$f":"IFERROR(_xlfn.CONCAT(\"Trimestre 1\",CHAR(10),GESTION_SEG_1_TRIM!K42,CHAR(10),\"Trimestre 2\",CHAR(10),GESTION_SEG_2_TRIM!K42,CHAR(10),\"Trimestre 3\",CHAR(10),GESTION_SEG_3_TRIM!K42,CHAR(10),\"Trimestre 4\",CHAR(10),GESTION_SEG_4_TRIM!K42),\" \")","v":"Trimestre 1\n\nTrimestre 2\n\nTrimestre 3\n\nTrimestre 4\n"}]
[null,null,null,null,null,null,null,null,null,null,null,null,null,null,null,{"$f":"IFERROR(MAX(GESTION_SEG_1_TRIM!H43,GESTION_SEG_2_TRIM!H43,GESTION_SEG_3_TRIM!H43,GESTION_SEG_4_TRIM!H43),\" \")","v":0},null,{"$f":"IFERROR(_xlfn.CONCAT(\"Trimestre 1\",CHAR(10),GESTION_SEG_1_TRIM!J43,CHAR(10),\"Trimestre 2\",CHAR(10),GESTION_SEG_2_TRIM!J43,CHAR(10),\"Trimestre 3\",CHAR(10),GESTION_SEG_3_TRIM!J43,CHAR(10),\"Trimestre 4\",CHAR(10),GESTION_SEG_4_TRIM!J43),\" \")","v":"Trimestre 1\n\nTrimestre 2\n\nTrimestre 3\n\nTrimestre 4\n"},{"$f":"IFERROR(_xlfn.CONCAT(\"Trimestre 1\",CHAR(10),GESTION_SEG_1_TRIM!K43,CHAR(10),\"Trimestre 2\",CHAR(10),GESTION_SEG_2_TRIM!K43,CHAR(10),\"Trimestre 3\",CHAR(10),GESTION_SEG_3_TRIM!K43,CHAR(10),\"Trimestre 4\",CHAR(10),GESTION_SEG_4_TRIM!K43),\" \")","v":"Trimestre 1\n\nTrimestre 2\n\nTrimestre 3\n\nTrimestre 4\n"}]
[null,null,null,null,null,null,null,null,null,null,null,null,null,null,null,{"$f":"IFERROR(MAX(GESTION_SEG_1_TRIM!H44,GESTION_SEG_2_TRIM!H44,GESTION_SEG_3_TRIM!H44,GESTION_SEG_4_TRIM!H44),\" \")","v":0},"",{"$f":"IFERROR(_xlfn.CONCAT(\"Trimestre 1\",CHAR(10),GESTION_SEG_1_TRIM!J44,CHAR(10),\"Trimestre 2\",CHAR(10),GESTION_SEG_2_TRIM!J44,CHAR(10),\"Trimestre 3\",CHAR(10),GESTION_SEG_3_TRIM!J44,CHAR(10),\"Trimestre 4\",CHAR(10),GESTION_SEG_4_TRIM!J44),\" \")","v":"Trimestre 1\n\nTrimestre 2\n\nTrimestre 3\n\nTrimestre 4\n"},{"$f":"IFERROR(_xlfn.CONCAT(\"Trimestre 1\",CHAR(10),GESTION_SEG_1_TRIM!K44,CHAR(10),\"Trimestre 2\",CHAR(10),GESTION_SEG_2_TRIM!K44,CHAR(10),\"Trimestre 3\",CHAR(10),GESTION_SEG_3_TRIM!K44,CHAR(10),\"Trimestre 4\",CHAR(10),GESTION_SEG_4_TRIM!K44),\" \")","v":"Trimestre 1\n\nTrimestre 2\n\nTrimestre 3\n\nTrimestre 4\n"}]
[null,null,null,null,null,null,null,null,null,null,null,null,null,null,null,{"$f":"IFERROR(MAX(GESTION_SEG_1_TRIM!H45,GESTION_SEG_2_TRIM!H45,GESTION_SEG_3_TRIM!H45,GESTION_SEG_4_TRIM!H45),\" \")","v":0},"",{"$f":"IFERROR(_xlfn.CONCAT(\"Trimestre 1\",CHAR(10),GESTION_SEG_1_TRIM!J45,CHAR(10),\"Trimestre 2\",CHAR(10),GESTION_SEG_2_TRIM!J45,CHAR(10),\"Trimestre 3\",CHAR(10),GESTION_SEG_3_TRIM!J45,CHAR(10),\"Trimestre 4\",CHAR(10),GESTION_SEG_4_TRIM!J45),\" \")","v":"Trimestre 1\n\nTrimestre 2\n\nTrimestre 3\n\nTrimestre 4\n"},{"$f":"IFERROR(_xlfn.CONCAT(\"Trimestre 1\",CHAR(10),GESTION_SEG_1_TRIM!K45,CHAR(10),\"Trimestre 2\",CHAR(10),GESTION_SEG_2_TRIM!K45,CHAR(10),\"Trimestre 3\",CHAR(10),GESTION_SEG_3_TRIM!K45,CHAR(10),\"Trimestre 4\",CHAR(10),GESTION_SEG_4_TRIM!K45),\" \")","v":"Trimestre 1\n\nTrimestre 2\n\nTrimestre 3\n\nTrimestre 4\n"}]
[null,null,"5. Impulsar el uso de mecanismos alternativos para la solución de conflictos y la ampliación de la justicia restaurativa y terapéutica y el robustecimiento de las alternativas al encarcelamiento","2. Asegurar  el cumplimiento de los objetivos institucionales, la normatividad aplicable,  la mejora del SIGCMA y la satisfacción de los usuarios, revisando de  forma continua y sistemática la planificación de la gestión y fortaleciendo la administración de riesgos y sus controles",null,null,null,null,null,null,null,null,null,null,null,{"$f":"IFERROR(MAX(GESTION_SEG_1_TRIM!H46,GESTION_SEG_2_TRIM!H46,GESTION_SEG_3_TRIM!H46,GESTION_SEG_4_TRIM!H46),\" \")","v":0},"",{"$f":"IFERROR(_xlfn.CONCAT(\"Trimestre 1\",CHAR(10),GESTION_SEG_1_TRIM!J46,CHAR(10),\"Trimestre 2\",CHAR(10),GESTION_SEG_2_TRIM!J46,CHAR(10),\"Trimestre 3\",CHAR(10),GESTION_SEG_3_TRIM!J46,CHAR(10),\"Trimestre 4\",CHAR(10),GESTION_SEG_4_TRIM!J46),\" \")","v":"Trimestre 1\n\nTrimestre 2\n\nTrimestre 3\n\nTrimestre 4\n"},{"$f":"IFERROR(_xlfn.CONCAT(\"Trimestre 1\",CHAR(10),GESTION_SEG_1_TRIM!K46,CHAR(10),\"Trimestre 2\",CHAR(10),GESTION_SEG_2_TRIM!K46,CHAR(10),\"Trimestre 3\",CHAR(10),GESTION_SEG_3_TRIM!K46,CHAR(10),\"Trimestre 4\",CHAR(10),GESTION_SEG_4_TRIM!K46),\" \")","v":"Trimestre 1\n\nTrimestre 2\n\nTrimestre 3\n\nTrimestre 4\n"}]
[null,null,null,null,null,null,null,null,null,null,null,null,null,null,null,{"$f":"IFERROR(MAX(GESTION_SEG_1_TRIM!H47,GESTION_SEG_2_TRIM!H47,GESTION_SEG_3_TRIM!H47,GESTION_SEG_4_TRIM!H47),\" \")","v":0},"",{"$f":"IFERROR(_xlfn.CONCAT(\"Trimestre 1\",CHAR(10),GESTION_SEG_1_TRIM!J47,CHAR(10),\"Trimestre 2\",CHAR(10),GESTION_SEG_2_TRIM!J47,CHAR(10),\"Trimestre 3\",CHAR(10),GESTION_SEG_3_TRIM!J47,CHAR(10),\"Trimestre 4\",CHAR(10),GESTION_SEG_4_TRIM!J47),\" \")","v":"Trimestre 1\n\nTrimestre 2\n\nTrimestre 3\n\nTrimestre 4\n"},{"$f":"IFERROR(_xlfn.CONCAT(\"Trimestre 1\",CHAR(10),GESTION_SEG_1_TRIM!K47,CHAR(10),\"Trimestre 2\",CHAR(10),GESTION_SEG_2_TRIM!K47,CHAR(10),\"Trimestre 3\",CHAR(10),GESTION_SEG_3_TRIM!K47,CHAR(10),\"Trimestre 4\",CHAR(10),GESTION_SEG_4_TRIM!K47),\" \")","v":"Trimestre 1\n\nTrimestre 2\n\nTrimestre 3\n\nTrimestre 4\n"}]
[null,null,null,null,null,null,null,null,null,null,null,null,null,null,null,{"$f":"IFERROR(MAX(GESTION_SEG_1_TRIM!H48,GESTION_SEG_2_TRIM!H48,GESTION_SEG_3_TRIM!H48,GESTION_SEG_4_TRIM!H48),\" \")","v":0},null,{"$f":"IFERROR(_xlfn.CONCAT(\"Trimestre 1\",CHAR(10),GESTION_SEG_1_TRIM!J48,CHAR(10),\"Trimestre 2\",CHAR(10),GESTION_SEG_2_TRIM!J48,CHAR(10),\"Trimestre 3\",CHAR(10),GESTION_SEG_3_TRIM!J48,CHAR(10),\"Trimestre 4\",CHAR(10),GESTION_SEG_4_TRIM!J48),\" \")","v":"Trimestre 1\n\nTrimestre 2\n\nTrimestre 3\n\nTrimestre 4\n"},{"$f":"IFERROR(_xlfn.CONCAT(\"Trimestre 1\",CHAR(10),GESTION_SEG_1_TRIM!K48,CHAR(10),\"Trimestre 2\",CHAR(10),GESTION_SEG_2_TRIM!K48,CHAR(10),\"Trimestre 3\",CHAR(10),GESTION_SEG_3_TRIM!K48,CHAR(10),\"Trimestre 4\",CHAR(10),GESTION_SEG_4_TRIM!K48),\" \")","v":"Trimestre 1\n\nTrimestre 2\n\nTrimestre 3\n\nTrimestre 4\n"}]
[null,null,null,null,null,null,null,null,null,null,null,null,null,null,null,{"$f":"IFERROR(MAX(GESTION_SEG_1_TRIM!H49,GESTION_SEG_2_TRIM!H49,GESTION_SEG_3_TRIM!H49,GESTION_SEG_4_TRIM!H49),\" \")","v":0},null,{"$f":"IFERROR(_xlfn.CONCAT(\"Trimestre 1\",CHAR(10),GESTION_SEG_1_TRIM!J49,CHAR(10),\"Trimestre 2\",CHAR(10),GESTION_SEG_2_TRIM!J49,CHAR(10),\"Trimestre 3\",CHAR(10),GESTION_SEG_3_TRIM!J49,CHAR(10),\"Trimestre 4\",CHAR(10),GESTION_SEG_4_TRIM!J49),\" \")","v":"Trimestre 1\n\nTrimestre 2\n\nTrimestre 3\n\nTrimestre 4\n"},{"$f":"IFERROR(_xlfn.CONCAT(\"Trimestre 1\",CHAR(10),GESTION_SEG_1_TRIM!K49,CHAR(10),\"Trimestre 2\",CHAR(10),GESTION_SEG_2_TRIM!K49,CHAR(10),\"Trimestre 3\",CHAR(10),GESTION_SEG_3_TRIM!K49,CHAR(10),\"Trimestre 4\",CHAR(10),GESTION_SEG_4_TRIM!K49),\" \")","v":"Trimestre 1\n\nTrimestre 2\n\nTrimestre 3\n\nTrimestre 4\n"}]
[null,null,null,null,null,null,null,null,null,null,null,null,null,null,null,{"$f":"IFERROR(MAX(GESTION_SEG_1_TRIM!H50,GESTION_SEG_2_TRIM!H50,GESTION_SEG_3_TRIM!H50,GESTION_SEG_4_TRIM!H50),\" \")","v":0},null,{"$f":"IFERROR(_xlfn.CONCAT(\"Trimestre 1\",CHAR(10),GESTION_SEG_1_TRIM!J50,CHAR(10),\"Trimestre 2\",CHAR(10),GESTION_SEG_2_TRIM!J50,CHAR(10),\"Trimestre 3\",CHAR(10),GESTION_SEG_3_TRIM!J50,CHAR(10),\"Trimestre 4\",CHAR(10),GESTION_SEG_4_TRIM!J50),\" \")","v":"Trimestre 1\n\nTrimestre 2\n\nTrimestre 3\n\nTrimestre 4\n"},{"$f":"IFERROR(_xlfn.CONCAT(\"Trimestre 1\",CHAR(10),GESTION_SEG_1_TRIM!K50,CHAR(10),\"Trimestre 2\",CHAR(10),GESTION_SEG_2_TRIM!K50,CHAR(10),\"Trimestre 3\",CHAR(10),GESTION_SEG_3_TRIM!K50,CHAR(10),\"Trimestre 4\",CHAR(10),GESTION_SEG_4_TRIM!K50),\" \")","v":"Trimestre 1\n\nTrimestre 2\n\nTrimestre 3\n\nTrimestre 4\n"}]
[null,null,null,null,null,null,null,null,null,null,null,null,null,null,null,{"$f":"IFERROR(MAX(GESTION_SEG_1_TRIM!H51,GESTION_SEG_2_TRIM!H51,GESTION_SEG_3_TRIM!H51,GESTION_SEG_4_TRIM!H51),\" \")","v":0},null,{"$f":"IFERROR(_xlfn.CONCAT(\"Trimestre 1\",CHAR(10),GESTION_SEG_1_TRIM!J51,CHAR(10),\"Trimestre 2\",CHAR(10),GESTION_SEG_2_TRIM!J51,CHAR(10),\"Trimestre 3\",CHAR(10),GESTION_SEG_3_TRIM!J51,CHAR(10),\"Trimestre 4\",CHAR(10),GESTION_SEG_4_TRIM!J51),\" \")","v":"Trimestre 1\n\nTrimestre 2\n\nTrimestre 3\n\nTrimestre 4\n"},{"$f":"IFERROR(_xlfn.CONCAT(\"Trimestre 1\",CHAR(10),GESTION_SEG_1_TRIM!K51,CHAR(10),\"Trimestre 2\",CHAR(10),GESTION_SEG_2_TRIM!K51,CHAR(10),\"Trimestre 3\",CHAR(10),GESTION_SEG_3_TRIM!K51,CHAR(10),\"Trimestre 4\",CHAR(10),GESTION_SEG_4_TRIM!K51),\" \")","v":"Trimestre 1\n\nTrimestre 2\n\nTrimestre 3\n\nTrimestre 4\n"}]
[null,null,null,null,null,null,null,null,null,null,null,null,null,null,null,{"$f":"IFERROR(MAX(GESTION_SEG_1_TRIM!H52,GESTION_SEG_2_TRIM!H52,GESTION_SEG_3_TRIM!H52,GESTION_SEG_4_TRIM!H52),\" \")","v":0},null,{"$f":"IFERROR(_xlfn.CONCAT(\"Trimestre 1\",CHAR(10),GESTION_SEG_1_TRIM!J52,CHAR(10),\"Trimestre 2\",CHAR(10),GESTION_SEG_2_TRIM!J52,CHAR(10),\"Trimestre 3\",CHAR(10),GESTION_SEG_3_TRIM!J52,CHAR(10),\"Trimestre 4\",CHAR(10),GESTION_SEG_4_TRIM!J52),\" \")","v":"Trimestre 1\n\nTrimestre 2\n\nTrimestre 3\n\nTrimestre 4\n"},{"$f":"IFERROR(_xlfn.CONCAT(\"Trimestre 1\",CHAR(10),GESTION_SEG_1_TRIM!K52,CHAR(10),\"Trimestre 2\",CHAR(10),GESTION_SEG_2_TRIM!K52,CHAR(10),\"Trimestre 3\",CHAR(10),GESTION_SEG_3_TRIM!K52,CHAR(10),\"Trimestre 4\",CHAR(10),GESTION_SEG_4_TRIM!K52),\" \")","v":"Trimestre 1\n\nTrimestre 2\n\nTrimestre 3\n\nTrimestre 4\n"}]
[null,null,null,null,null,null,null,null,null,null,null,null,null,null,null,{"$f":"IFERROR(MAX(GESTION_SEG_1_TRIM!H53,GESTION_SEG_2_TRIM!H53,GESTION_SEG_3_TRIM!H53,GESTION_SEG_4_TRIM!H53),\" \")","v":0},"",{"$f":"IFERROR(_xlfn.CONCAT(\"Trimestre 1\",CHAR(10),GESTION_SEG_1_TRIM!J53,CHAR(10),\"Trimestre 2\",CHAR(10),GESTION_SEG_2_TRIM!J53,CHAR(10),\"Trimestre 3\",CHAR(10),GESTION_SEG_3_TRIM!J53,CHAR(10),\"Trimestre 4\",CHAR(10),GESTION_SEG_4_TRIM!J53),\" \")","v":"Trimestre 1\n\nTrimestre 2\n\nTrimestre 3\n\nTrimestre 4\n"},{"$f":"IFERROR(_xlfn.CONCAT(\"Trimestre 1\",CHAR(10),GESTION_SEG_1_TRIM!K53,CHAR(10),\"Trimestre 2\",CHAR(10),GESTION_SEG_2_TRIM!K53,CHAR(10),\"Trimestre 3\",CHAR(10),GESTION_SEG_3_TRIM!K53,CHAR(10),\"Trimestre 4\",CHAR(10),GESTION_SEG_4_TRIM!K53),\" \")","v":"Trimestre 1\n\nTrimestre 2\n\nTrimestre 3\n\nTrimestre 4\n"}]
[null,null,null,null,null,null,null,null,null,null,null,null,null,null,null,{"$f":"IFERROR(MAX(GESTION_SEG_1_TRIM!H54,GESTION_SEG_2_TRIM!H54,GESTION_SEG_3_TRIM!H54,GESTION_SEG_4_TRIM!H54),\" \")","v":0},"",{"$f":"IFERROR(_xlfn.CONCAT(\"Trimestre 1\",CHAR(10),GESTION_SEG_1_TRIM!J54,CHAR(10),\"Trimestre 2\",CHAR(10),GESTION_SEG_2_TRIM!J54,CHAR(10),\"Trimestre 3\",CHAR(10),GESTION_SEG_3_TRIM!J54,CHAR(10),\"Trimestre 4\",CHAR(10),GESTION_SEG_4_TRIM!J54),\" \")","v":"Trimestre 1\n\nTrimestre 2\n\nTrimestre 3\n\nTrimestre 4\n"},{"$f":"IFERROR(_xlfn.CONCAT(\"Trimestre 1\",CHAR(10),GESTION_SEG_1_TRIM!K54,CHAR(10),\"Trimestre 2\",CHAR(10),GESTION_SEG_2_TRIM!K54,CHAR(10),\"Trimestre 3\",CHAR(10),GESTION_SEG_3_TRIM!K54,CHAR(10),\"Trimestre 4\",CHAR(10),GESTION_SEG_4_TRIM!K54),\" \")","v":"Trimestre 1\n\nTrimestre 2\n\nTrimestre 3\n\nTrimestre 4\n"}]
[null,null,null,null,null,null,null,null,null,null,null,null,null,null,null,{"$f":"IFERROR(MAX(GESTION_SEG_1_TRIM!H55,GESTION_SEG_2_TRIM!H55,GESTION_SEG_3_TRIM!H55,GESTION_SEG_4_TRIM!H55),\" \")","v":0},"",{"$f":"IFERROR(_xlfn.CONCAT(\"Trimestre 1\",CHAR(10),GESTION_SEG_1_TRIM!J55,CHAR(10),\"Trimestre 2\",CHAR(10),GESTION_SEG_2_TRIM!J55,CHAR(10),\"Trimestre 3\",CHAR(10),GESTION_SEG_3_TRIM!J55,CHAR(10),\"Trimestre 4\",CHAR(10),GESTION_SEG_4_TRIM!J55),\" \")","v":"Trimestre 1\n\nTrimestre 2\n\nTrimestre 3\n\nTrimestre 4\n"},{"$f":"IFERROR(_xlfn.CONCAT(\"Trimestre 1\",CHAR(10),GESTION_SEG_1_TRIM!K55,CHAR(10),\"Trimestre 2\",CHAR(10),GESTION_SEG_2_TRIM!K55,CHAR(10),\"Trimestre 3\",CHAR(10),GESTION_SEG_3_TRIM!K55,CHAR(10),\"Trimestre 4\",CHAR(10),GESTION_SEG_4_TRIM!K55),\" \")","v":"Trimestre 1\n\nTrimestre 2\n\nTrimestre 3\n\nTrimestre 4\n"}]
["2. Servicios digitales y de tecnología, innovación y análisis de la información.","Servicios digitales y de tecnología, innovación y análisis de la información: Consolidar una justicia integrada y soportada en servicios digitales y de tecnología, innovación y análisis de la información, con una cultura digital apropiada, segura y sensible a las realidades del territorio nacional. ","1. Ampliar el acceso a la justicia a través de la consolidación del uso de los servicios digitales que conforman el sistema único integrado de gestión judicial en todos los despachos judiciales y dependencias de apoyo y, específicamente, incluyendo el despliegue e implementación del Expediente Judicial Electrónico en todas las jurisdicciones y especialidades.","6. Proteger, preservar y administrar los activos de información  implementando acciones  para gestionar de forma adecuada los incidentes, proteger los datos personales y adoptar mecanismos  de ciberseguridad y aseguramiento de la  continuidad del negocio.",null,null,null,null,null,null,null,null,null,null,null,{"$f":"IFERROR(MAX(GESTION_SEG_1_TRIM!H56,GESTION_SEG_2_TRIM!H56,GESTION_SEG_3_TRIM!H56,GESTION_SEG_4_TRIM!H56),\" \")","v":0},"",{"$f":"IFERROR(_xlfn.CONCAT(\"Trimestre 1\",CHAR(10),GESTION_SEG_1_TRIM!J56,CHAR(10),\"Trimestre 2\",CHAR(10),GESTION_SEG_2_TRIM!J56,CHAR(10),\"Trimestre 3\",CHAR(10),GESTION_SEG_3_TRIM!J56,CHAR(10),\"Trimestre 4\",CHAR(10),GESTION_SEG_4_TRIM!J56),\" \")","v":"Trimestre 1\n\nTrimestre 2\n\nTrimestre 3\n\nTrimestre 4\n"},{"$f":"IFERROR(_xlfn.CONCAT(\"Trimestre 1\",CHAR(10),GESTION_SEG_1_TRIM!K56,CHAR(10),\"Trimestre 2\",CHAR(10),GESTION_SEG_2_TRIM!K56,CHAR(10),\"Trimestre 3\",CHAR(10),GESTION_SEG_3_TRIM!K56,CHAR(10),\"Trimestre 4\",CHAR(10),GESTION_SEG_4_TRIM!K56),\" \")","v":"Trimestre 1\n\nTrimestre 2\n\nTrimestre 3\n\nTrimestre 4\n"}]
[null,null,null,null,null,null,null,null,null,null,null,null,null,null,null,{"$f":"IFERROR(MAX(GESTION_SEG_1_TRIM!H57,GESTION_SEG_2_TRIM!H57,GESTION_SEG_3_TRIM!H57,GESTION_SEG_4_TRIM!H57),\" \")","v":0},"",{"$f":"IFERROR(_xlfn.CONCAT(\"Trimestre 1\",CHAR(10),GESTION_SEG_1_TRIM!J57,CHAR(10),\"Trimestre 2\",CHAR(10),GESTION_SEG_2_TRIM!J57,CHAR(10),\"Trimestre 3\",CHAR(10),GESTION_SEG_3_TRIM!J57,CHAR(10),\"Trimestre 4\",CHAR(10),GESTION_SEG_4_TRIM!J57),\" \")","v":"Trimestre 1\n\nTrimestre 2\n\nTrimestre 3\n\nTrimestre 4\n"},{"$f":"IFERROR(_xlfn.CONCAT(\"Trimestre 1\",CHAR(10),GESTION_SEG_1_TRIM!K57,CHAR(10),\"Trimestre 2\",CHAR(10),GESTION_SEG_2_TRIM!K57,CHAR(10),\"Trimestre 3\",CHAR(10),GESTION_SEG_3_TRIM!K57,CHAR(10),\"Trimestre 4\",CHAR(10),GESTION_SEG_4_TRIM!K57),\" \")","v":"Trimestre 1\n\nTrimestre 2\n\nTrimestre 3\n\nTrimestre 4\n"}]
[null,null,null,null,null,null,null,null,null,null,null,null,null,null,null,{"$f":"IFERROR(MAX(GESTION_SEG_1_TRIM!H58,GESTION_SEG_2_TRIM!H58,GESTION_SEG_3_TRIM!H58,GESTION_SEG_4_TRIM!H58),\" \")","v":0},"",{"$f":"IFERROR(_xlfn.CONCAT(\"Trimestre 1\",CHAR(10),GESTION_SEG_1_TRIM!J58,CHAR(10),\"Trimestre 2\",CHAR(10),GESTION_SEG_2_TRIM!J58,CHAR(10),\"Trimestre 3\",CHAR(10),GESTION_SEG_3_TRIM!J58,CHAR(10),\"Trimestre 4\",CHAR(10),GESTION_SEG_4_TRIM!J58),\" \")","v":"Trimestre 1\n\nTrimestre 2\n\nTrimestre 3\n\nTrimestre 4\n"},{"$f":"IFERROR(_xlfn.CONCAT(\"Trimestre 1\",CHAR(10),GESTION_SEG_1_TRIM!K58,CHAR(10),\"Trimestre 2\",CHAR(10),GESTION_SEG_2_TRIM!K58,CHAR(10),\"Trimestre 3\",CHAR(10),GESTION_SEG_3_TRIM!K58,CHAR(10),\"Trimestre 4\",CHAR(10),GESTION_SEG_4_TRIM!K58),\" \")","v":"Trimestre 1\n\nTrimestre 2\n\nTrimestre 3\n\nTrimestre 4\n"}]
[null,null,null,null,null,null,null,null,null,null,null,null,null,null,null,{"$f":"IFERROR(MAX(GESTION_SEG_1_TRIM!H59,GESTION_SEG_2_TRIM!H59,GESTION_SEG_3_TRIM!H59,GESTION_SEG_4_TRIM!H59),\" \")","v":0},null,{"$f":"IFERROR(_xlfn.CONCAT(\"Trimestre 1\",CHAR(10),GESTION_SEG_1_TRIM!J59,CHAR(10),\"Trimestre 2\",CHAR(10),GESTION_SEG_2_TRIM!J59,CHAR(10),\"Trimestre 3\",CHAR(10),GESTION_SEG_3_TRIM!J59,CHAR(10),\"Trimestre 4\",CHAR(10),GESTION_SEG_4_TRIM!J59),\" \")","v":"Trimestre 1\n\nTrimestre 2\n\nTrimestre 3\n\nTrimestre 4\n"},{"$f":"IFERROR(_xlfn.CONCAT(\"Trimestre 1\",CHAR(10),GESTION_SEG_1_TRIM!K59,CHAR(10),\"Trimestre 2\",CHAR(10),GESTION_SEG_2_TRIM!K59,CHAR(10),\"Trimestre 3\",CHAR(10),GESTION_SEG_3_TRIM!K59,CHAR(10),\"Trimestre 4\",CHAR(10),GESTION_SEG_4_TRIM!K59),\" \")","v":"Trimestre 1\n\nTrimestre 2\n\nTrimestre 3\n\nTrimestre 4\n"}]
[null,null,null,null,null,null,null,null,null,null,null,null,null,null,null,{"$f":"IFERROR(MAX(GESTION_SEG_1_TRIM!H60,GESTION_SEG_2_TRIM!H60,GESTION_SEG_3_TRIM!H60,GESTION_SEG_4_TRIM!H60),\" \")","v":0},null,{"$f":"IFERROR(_xlfn.CONCAT(\"Trimestre 1\",CHAR(10),GESTION_SEG_1_TRIM!J60,CHAR(10),\"Trimestre 2\",CHAR(10),GESTION_SEG_2_TRIM!J60,CHAR(10),\"Trimestre 3\",CHAR(10),GESTION_SEG_3_TRIM!J60,CHAR(10),\"Trimestre 4\",CHAR(10),GESTION_SEG_4_TRIM!J60),\" \")","v":"Trimestre 1\n\nTrimestre 2\n\nTrimestre 3\n\nTrimestre 4\n"},{"$f":"IFERROR(_xlfn.CONCAT(\"Trimestre 1\",CHAR(10),GESTION_SEG_1_TRIM!K60,CHAR(10),\"Trimestre 2\",CHAR(10),GESTION_SEG_2_TRIM!K60,CHAR(10),\"Trimestre 3\",CHAR(10),GESTION_SEG_3_TRIM!K60,CHAR(10),\"Trimestre 4\",CHAR(10),GESTION_SEG_4_TRIM!K60),\" \")","v":"Trimestre 1\n\nTrimestre 2\n\nTrimestre 3\n\nTrimestre 4\n"}]
[null,null,null,null,null,null,null,null,null,null,null,null,null,null,null,{"$f":"IFERROR(MAX(GESTION_SEG_1_TRIM!H61,GESTION_SEG_2_TRIM!H61,GESTION_SEG_3_TRIM!H61,GESTION_SEG_4_TRIM!H61),\" \")","v":0},null,{"$f":"IFERROR(_xlfn.CONCAT(\"Trimestre 1\",CHAR(10),GESTION_SEG_1_TRIM!J61,CHAR(10),\"Trimestre 2\",CHAR(10),GESTION_SEG_2_TRIM!J61,CHAR(10),\"Trimestre 3\",CHAR(10),GESTION_SEG_3_TRIM!J61,CHAR(10),\"Trimestre 4\",CHAR(10),GESTION_SEG_4_TRIM!J61),\" \")","v":"Trimestre 1\n\nTrimestre 2\n\nTrimestre 3\n\nTrimestre 4\n"},{"$f":"IFERROR(_xlfn.CONCAT(\"Trimestre 1\",CHAR(10),GESTION_SEG_1_TRIM!K61,CHAR(10),\"Trimestre 2\",CHAR(10),GESTION_SEG_2_TRIM!K61,CHAR(10),\"Trimestre 3\",CHAR(10),GESTION_SEG_3_TRIM!K61,CHAR(10),\"Trimestre 4\",CHAR(10),GESTION_SEG_4_TRIM!K61),\" \")","v":"Trimestre 1\n\nTrimestre 2\n\nTrimestre 3\n\nTrimestre 4\n"}]
[null,null,null,null,null,null,null,null,null,null,null,null,null,null,null,{"$f":"IFERROR(MAX(GESTION_SEG_1_TRIM!H62,GESTION_SEG_2_TRIM!H62,GESTION_SEG_3_TRIM!H62,GESTION_SEG_4_TRIM!H62),\" \")","v":0},null,{"$f":"IFERROR(_xlfn.CONCAT(\"Trimestre 1\",CHAR(10),GESTION_SEG_1_TRIM!J62,CHAR(10),\"Trimestre 2\",CHAR(10),GESTION_SEG_2_TRIM!J62,CHAR(10),\"Trimestre 3\",CHAR(10),GESTION_SEG_3_TRIM!J62,CHAR(10),\"Trimestre 4\",CHAR(10),GESTION_SEG_4_TRIM!J62),\" \")","v":"Trimestre 1\n\nTrimestre 2\n\nTrimestre 3\n\nTrimestre 4\n"},{"$f":"IFERROR(_xlfn.CONCAT(\"Trimestre 1\",CHAR(10),GESTION_SEG_1_TRIM!K62,CHAR(10),\"Trimestre 2\",CHAR(10),GESTION_SEG_2_TRIM!K62,CHAR(10),\"Trimestre 3\",CHAR(10),GESTION_SEG_3_TRIM!K62,CHAR(10),\"Trimestre 4\",CHAR(10),GESTION_SEG_4_TRIM!K62),\" \")","v":"Trimestre 1\n\nTrimestre 2\n\nTrimestre 3\n\nTrimestre 4\n"}]
[null,null,null,null,null,null,null,null,null,null,null,null,null,null,null,{"$f":"IFERROR(MAX(GESTION_SEG_1_TRIM!H63,GESTION_SEG_2_TRIM!H63,GESTION_SEG_3_TRIM!H63,GESTION_SEG_4_TRIM!H63),\" \")","v":0},null,{"$f":"IFERROR(_xlfn.CONCAT(\"Trimestre 1\",CHAR(10),GESTION_SEG_1_TRIM!J63,CHAR(10),\"Trimestre 2\",CHAR(10),GESTION_SEG_2_TRIM!J63,CHAR(10),\"Trimestre 3\",CHAR(10),GESTION_SEG_3_TRIM!J63,CHAR(10),\"Trimestre 4\",CHAR(10),GESTION_SEG_4_TRIM!J63),\" \")","v":"Trimestre 1\n\nTrimestre 2\n\nTrimestre 3\n\nTrimestre 4\n"},{"$f":"IFERROR(_xlfn.CONCAT(\"Trimestre 1\",CHAR(10),GESTION_SEG_1_TRIM!K63,CHAR(10),\"Trimestre 2\",CHAR(10),GESTION_SEG_2_TRIM!K63,CHAR(10),\"Trimestre 3\",CHAR(10),GESTION_SEG_3_TRIM!K63,CHAR(10),\"Trimestre 4\",CHAR(10),GESTION_SEG_4_TRIM!K63),\" \")","v":"Trimestre 1\n\nTrimestre 2\n\nTrimestre 3\n\nTrimestre 4\n"}]
[null,null,null,null,null,null,null,null,null,null,null,null,null,null,null,{"$f":"IFERROR(MAX(GESTION_SEG_1_TRIM!H64,GESTION_SEG_2_TRIM!H64,GESTION_SEG_3_TRIM!H64,GESTION_SEG_4_TRIM!H64),\" \")","v":0},"",{"$f":"IFERROR(_xlfn.CONCAT(\"Trimestre 1\",CHAR(10),GESTION_SEG_1_TRIM!J64,CHAR(10),\"Trimestre 2\",CHAR(10),GESTION_SEG_2_TRIM!J64,CHAR(10),\"Trimestre 3\",CHAR(10),GESTION_SEG_3_TRIM!J64,CHAR(10),\"Trimestre 4\",CHAR(10),GESTION_SEG_4_TRIM!J64),\" \")","v":"Trimestre 1\n\nTrimestre 2\n\nTrimestre 3\n\nTrimestre 4\n"},{"$f":"IFERROR(_xlfn.CONCAT(\"Trimestre 1\",CHAR(10),GESTION_SEG_1_TRIM!K64,CHAR(10),\"Trimestre 2\",CHAR(10),GESTION_SEG_2_TRIM!K64,CHAR(10),\"Trimestre 3\",CHAR(10),GESTION_SEG_3_TRIM!K64,CHAR(10),\"Trimestre 4\",CHAR(10),GESTION_SEG_4_TRIM!K64),\" \")","v":"Trimestre 1\n\nTrimestre 2\n\nTrimestre 3\n\nTrimestre 4\n"}]
[null,null,null,null,null,null,null,null,null,null,null,null,null,null,null,{"$f":"IFERROR(MAX(GESTION_SEG_1_TRIM!H65,GESTION_SEG_2_TRIM!H65,GESTION_SEG_3_TRIM!H65,GESTION_SEG_4_TRIM!H65),\" \")","v":0},"",{"$f":"IFERROR(_xlfn.CONCAT(\"Trimestre 1\",CHAR(10),GESTION_SEG_1_TRIM!J65,CHAR(10),\"Trimestre 2\",CHAR(10),GESTION_SEG_2_TRIM!J65,CHAR(10),\"Trimestre 3\",CHAR(10),GESTION_SEG_3_TRIM!J65,CHAR(10),\"Trimestre 4\",CHAR(10),GESTION_SEG_4_TRIM!J65),\" \")","v":"Trimestre 1\n\nTrimestre 2\n\nTrimestre 3\n\nTrimestre 4\n"},{"$f":"IFERROR(_xlfn.CONCAT(\"Trimestre 1\",CHAR(10),GESTION_SEG_1_TRIM!K65,CHAR(10),\"Trimestre 2\",CHAR(10),GESTION_SEG_2_TRIM!K65,CHAR(10),\"Trimestre 3\",CHAR(10),GESTION_SEG_3_TRIM!K65,CHAR(10),\"Trimestre 4\",CHAR(10),GESTION_SEG_4_TRIM!K65),\" \")","v":"Trimestre 1\n\nTrimestre 2\n\nTrimestre 3\n\nTrimestre 4\n"}]
[null,null,"2. Integrar y hacer compatibles todos los aplicativos de transición con SIUGJ, para que la migración de los expedientes judiciales a dicha plataforma sea real y no suponga afectaciones en la prestación del servicio de justicia.",null,null,null,null,null,null,null,null,null,null,null,null,{"$f":"IFERROR(MAX(GESTION_SEG_1_TRIM!H66,GESTION_SEG_2_TRIM!H66,GESTION_SEG_3_TRIM!H66,GESTION_SEG_4_TRIM!H66),\" \")","v":0},"",{"$f":"IFERROR(_xlfn.CONCAT(\"Trimestre 1\",CHAR(10),GESTION_SEG_1_TRIM!J66,CHAR(10),\"Trimestre 2\",CHAR(10),GESTION_SEG_2_TRIM!J66,CHAR(10),\"Trimestre 3\",CHAR(10),GESTION_SEG_3_TRIM!J66,CHAR(10),\"Trimestre 4\",CHAR(10),GESTION_SEG_4_TRIM!J66),\" \")","v":"Trimestre 1\n\nTrimestre 2\n\nTrimestre 3\n\nTrimestre 4\n"},{"$f":"IFERROR(_xlfn.CONCAT(\"Trimestre 1\",CHAR(10),GESTION_SEG_1_TRIM!K66,CHAR(10),\"Trimestre 2\",CHAR(10),GESTION_SEG_2_TRIM!K66,CHAR(10),\"Trimestre 3\",CHAR(10),GESTION_SEG_3_TRIM!K66,CHAR(10),\"Trimestre 4\",CHAR(10),GESTION_SEG_4_TRIM!K66),\" \")","v":"Trimestre 1\n\nTrimestre 2\n\nTrimestre 3\n\nTrimestre 4\n"}]
[null,null,null,null,null,null,null,null,null,null,null,null,null,null,null,{"$f":"IFERROR(MAX(GESTION_SEG_1_TRIM!H67,GESTION_SEG_2_TRIM!H67,GESTION_SEG_3_TRIM!H67,GESTION_SEG_4_TRIM!H67),\" \")","v":0},"",{"$f":"IFERROR(_xlfn.CONCAT(\"Trimestre 1\",CHAR(10),GESTION_SEG_1_TRIM!J67,CHAR(10),\"Trimestre 2\",CHAR(10),GESTION_SEG_2_TRIM!J67,CHAR(10),\"Trimestre 3\",CHAR(10),GESTION_SEG_3_TRIM!J67,CHAR(10),\"Trimestre 4\",CHAR(10),GESTION_SEG_4_TRIM!J67),\" \")","v":"Trimestre 1\n\nTrimestre 2\n\nTrimestre 3\n\nTrimestre 4\n"},{"$f":"IFERROR(_xlfn.CONCAT(\"Trimestre 1\",CHAR(10),GESTION_SEG_1_TRIM!K67,CHAR(10),\"Trimestre 2\",CHAR(10),GESTION_SEG_2_TRIM!K67,CHAR(10),\"Trimestre 3\",CHAR(10),GESTION_SEG_3_TRIM!K67,CHAR(10),\"Trimestre 4\",CHAR(10),GESTION_SEG_4_TRIM!K67),\" \")","v":"Trimestre 1\n\nTrimestre 2\n\nTrimestre 3\n\nTrimestre 4\n"}]
[null,null,null,null,null,null,null,null,null,null,null,null,null,null,null,{"$f":"IFERROR(MAX(GESTION_SEG_1_TRIM!H68,GESTION_SEG_2_TRIM!H68,GESTION_SEG_3_TRIM!H68,GESTION_SEG_4_TRIM!H68),\" \")","v":0},null,{"$f":"IFERROR(_xlfn.CONCAT(\"Trimestre 1\",CHAR(10),GESTION_SEG_1_TRIM!J68,CHAR(10),\"Trimestre 2\",CHAR(10),GESTION_SEG_2_TRIM!J68,CHAR(10),\"Trimestre 3\",CHAR(10),GESTION_SEG_3_TRIM!J68,CHAR(10),\"Trimestre 4\",CHAR(10),GESTION_SEG_4_TRIM!J68),\" \")","v":"Trimestre 1\n\nTrimestre 2\n\nTrimestre 3\n\nTrimestre 4\n"},{"$f":"IFERROR(_xlfn.CONCAT(\"Trimestre 1\",CHAR(10),GESTION_SEG_1_TRIM!K68,CHAR(10),\"Trimestre 2\",CHAR(10),GESTION_SEG_2_TRIM!K68,CHAR(10),\"Trimestre 3\",CHAR(10),GESTION_SEG_3_TRIM!K68,CHAR(10),\"Trimestre 4\",CHAR(10),GESTION_SEG_4_TRIM!K68),\" \")","v":"Trimestre 1\n\nTrimestre 2\n\nTrimestre 3\n\nTrimestre 4\n"}]
[null,null,null,null,null,null,null,null,null,null,null,null,null,null,null,{"$f":"IFERROR(MAX(GESTION_SEG_1_TRIM!H69,GESTION_SEG_2_TRIM!H69,GESTION_SEG_3_TRIM!H69,GESTION_SEG_4_TRIM!H69),\" \")","v":0},null,{"$f":"IFERROR(_xlfn.CONCAT(\"Trimestre 1\",CHAR(10),GESTION_SEG_1_TRIM!J69,CHAR(10),\"Trimestre 2\",CHAR(10),GESTION_SEG_2_TRIM!J69,CHAR(10),\"Trimestre 3\",CHAR(10),GESTION_SEG_3_TRIM!J69,CHAR(10),\"Trimestre 4\",CHAR(10),GESTION_SEG_4_TRIM!J69),\" \")","v":"Trimestre 1\n\nTrimestre 2\n\nTrimestre 3\n\nTrimestre 4\n"},{"$f":"IFERROR(_xlfn.CONCAT(\"Trimestre 1\",CHAR(10),GESTION_SEG_1_TRIM!K69,CHAR(10),\"Trimestre 2\",CHAR(10),GESTION_SEG_2_TRIM!K69,CHAR(10),\"Trimestre 3\",CHAR(10),GESTION_SEG_3_TRIM!K69,CHAR(10),\"Trimestre 4\",CHAR(10),GESTION_SEG_4_TRIM!K69),\" \")","v":"Trimestre 1\n\nTrimestre 2\n\nTrimestre 3\n\nTrimestre 4\n"}]
[null,null,null,null,null,null,null,null,null,null,null,null,null,null,null,{"$f":"IFERROR(MAX(GESTION_SEG_1_TRIM!H70,GESTION_SEG_2_TRIM!H70,GESTION_SEG_3_TRIM!H70,GESTION_SEG_4_TRIM!H70),\" \")","v":0},null,{"$f":"IFERROR(_xlfn.CONCAT(\"Trimestre 1\",CHAR(10),GESTION_SEG_1_TRIM!J70,CHAR(10),\"Trimestre 2\",CHAR(10),GESTION_SEG_2_TRIM!J70,CHAR(10),\"Trimestre 3\",CHAR(10),GESTION_SEG_3_TRIM!J70,CHAR(10),\"Trimestre 4\",CHAR(10),GESTION_SEG_4_TRIM!J70),\" \")","v":"Trimestre 1\n\nTrimestre 2\n\nTrimestre 3\n\nTrimestre 4\n"},{"$f":"IFERROR(_xlfn.CONCAT(\"Trimestre 1\",CHAR(10),GESTION_SEG_1_TRIM!K70,CHAR(10),\"Trimestre 2\",CHAR(10),GESTION_SEG_2_TRIM!K70,CHAR(10),\"Trimestre 3\",CHAR(10),GESTION_SEG_3_TRIM!K70,CHAR(10),\"Trimestre 4\",CHAR(10),GESTION_SEG_4_TRIM!K70),\" \")","v":"Trimestre 1\n\nTrimestre 2\n\nTrimestre 3\n\nTrimestre 4\n"}]
[null,null,null,null,null,null,null,null,null,null,null,null,null,null,null,{"$f":"IFERROR(MAX(GESTION_SEG_1_TRIM!H71,GESTION_SEG_2_TRIM!H71,GESTION_SEG_3_TRIM!H71,GESTION_SEG_4_TRIM!H71),\" \")","v":0},null,{"$f":"IFERROR(_xlfn.CONCAT(\"Trimestre 1\",CHAR(10),GESTION_SEG_1_TRIM!J71,CHAR(10),\"Trimestre 2\",CHAR(10),GESTION_SEG_2_TRIM!J71,CHAR(10),\"Trimestre 3\",CHAR(10),GESTION_SEG_3_TRIM!J71,CHAR(10),\"Trimestre 4\",CHAR(10),GESTION_SEG_4_TRIM!J71),\" \")","v":"Trimestre 1\n\nTrimestre 2\n\nTrimestre 3\n\nTrimestre 4\n"},{"$f":"IFERROR(_xlfn.CONCAT(\"Trimestre 1\",CHAR(10),GESTION_SEG_1_TRIM!K71,CHAR(10),\"Trimestre 2\",CHAR(10),GESTION_SEG_2_TRIM!K71,CHAR(10),\"Trimestre 3\",CHAR(10),GESTION_SEG_3_TRIM!K71,CHAR(10),\"Trimestre 4\",CHAR(10),GESTION_SEG_4_TRIM!K71),\" \")","v":"Trimestre 1\n\nTrimestre 2\n\nTrimestre 3\n\nTrimestre 4\n"}]
[null,null,null,null,null,null,null,null,null,null,null,null,null,null,null,{"$f":"IFERROR(MAX(GESTION_SEG_1_TRIM!H72,GESTION_SEG_2_TRIM!H72,GESTION_SEG_3_TRIM!H72,GESTION_SEG_4_TRIM!H72),\" \")","v":0},null,{"$f":"IFERROR(_xlfn.CONCAT(\"Trimestre 1\",CHAR(10),GESTION_SEG_1_TRIM!J72,CHAR(10),\"Trimestre 2\",CHAR(10),GESTION_SEG_2_TRIM!J72,CHAR(10),\"Trimestre 3\",CHAR(10),GESTION_SEG_3_TRIM!J72,CHAR(10),\"Trimestre 4\",CHAR(10),GESTION_SEG_4_TRIM!J72),\" \")","v":"Trimestre 1\n\nTrimestre 2\n\nTrimestre 3\n\nTrimestre 4\n"},{"$f":"IFERROR(_xlfn.CONCAT(\"Trimestre 1\",CHAR(10),GESTION_SEG_1_TRIM!K72,CHAR(10),\"Trimestre 2\",CHAR(10),GESTION_SEG_2_TRIM!K72,CHAR(10),\"Trimestre 3\",CHAR(10),GESTION_SEG_3_TRIM!K72,CHAR(10),\"Trimestre 4\",CHAR(10),GESTION_SEG_4_TRIM!K72),\" \")","v":"Trimestre 1\n\nTrimestre 2\n\nTrimestre 3\n\nTrimestre 4\n"}]
[null,null,null,null,null,null,null,null,null,null,null,null,null,null,null,{"$f":"IFERROR(MAX(GESTION_SEG_1_TRIM!H73,GESTION_SEG_2_TRIM!H73,GESTION_SEG_3_TRIM!H73,GESTION_SEG_4_TRIM!H73),\" \")","v":0},{"$f":"IFERROR(P73/J73,\"\")","v":""},{"$f":"IFERROR(_xlfn.CONCAT(\"Trimestre 1\",CHAR(10),GESTION_SEG_1_TRIM!J73,CHAR(10),\"Trimestre 2\",CHAR(10),GESTION_SEG_2_TRIM!J73,CHAR(10),\"Trimestre 3\",CHAR(10),GESTION_SEG_3_TRIM!J73,CHAR(10),\"Trimestre 4\",CHAR(10),GESTION_SEG_4_TRIM!J73),\" \")","v":"Trimestre 1\n\nTrimestre 2\n\nTrimestre 3\n\nTrimestre 4\n"},{"$f":"IFERROR(_xlfn.CONCAT(\"Trimestre 1\",CHAR(10),GESTION_SEG_1_TRIM!K73,CHAR(10),\"Trimestre 2\",CHAR(10),GESTION_SEG_2_TRIM!K73,CHAR(10),\"Trimestre 3\",CHAR(10),GESTION_SEG_3_TRIM!K73,CHAR(10),\"Trimestre 4\",CHAR(10),GESTION_SEG_4_TRIM!K73),\" \")","v":"Trimestre 1\n\nTrimestre 2\n\nTrimestre 3\n\nTrimestre 4\n"}]
[null,null,null,null,null,null,null,null,null,null,null,null,null,null,null,{"$f":"IFERROR(MAX(GESTION_SEG_1_TRIM!H74,GESTION_SEG_2_TRIM!H74,GESTION_SEG_3_TRIM!H74,GESTION_SEG_4_TRIM!H74),\" \")","v":0},"",{"$f":"IFERROR(_xlfn.CONCAT(\"Trimestre 1\",CHAR(10),GESTION_SEG_1_TRIM!J74,CHAR(10),\"Trimestre 2\",CHAR(10),GESTION_SEG_2_TRIM!J74,CHAR(10),\"Trimestre 3\",CHAR(10),GESTION_SEG_3_TRIM!J74,CHAR(10),\"Trimestre 4\",CHAR(10),GESTION_SEG_4_TRIM!J74),\" \")","v":"Trimestre 1\n\nTrimestre 2\n\nTrimestre 3\n\nTrimestre 4\n"},{"$f":"IFERROR(_xlfn.CONCAT(\"Trimestre 1\",CHAR(10),GESTION_SEG_1_TRIM!K74,CHAR(10),\"Trimestre 2\",CHAR(10),GESTION_SEG_2_TRIM!K74,CHAR(10),\"Trimestre 3\",CHAR(10),GESTION_SEG_3_TRIM!K74,CHAR(10),\"Trimestre 4\",CHAR(10),GESTION_SEG_4_TRIM!K74),\" \")","v":"Trimestre 1\n\nTrimestre 2\n\nTrimestre 3\n\nTrimestre 4\n"}]
[null,null,null,null,null,null,null,null,null,null,null,null,null,null,null,{"$f":"IFERROR(MAX(GESTION_SEG_1_TRIM!H75,GESTION_SEG_2_TRIM!H75,GESTION_SEG_3_TRIM!H75,GESTION_SEG_4_TRIM!H75),\" \")","v":0},"",{"$f":"IFERROR(_xlfn.CONCAT(\"Trimestre 1\",CHAR(10),GESTION_SEG_1_TRIM!J75,CHAR(10),\"Trimestre 2\",CHAR(10),GESTION_SEG_2_TRIM!J75,CHAR(10),\"Trimestre 3\",CHAR(10),GESTION_SEG_3_TRIM!J75,CHAR(10),\"Trimestre 4\",CHAR(10),GESTION_SEG_4_TRIM!J75),\" \")","v":"Trimestre 1\n\nTrimestre 2\n\nTrimestre 3\n\nTrimestre 4\n"},{"$f":"IFERROR(_xlfn.CONCAT(\"Trimestre 1\",CHAR(10),GESTION_SEG_1_TRIM!K75,CHAR(10),\"Trimestre 2\",CHAR(10),GESTION_SEG_2_TRIM!K75,CHAR(10),\"Trimestre 3\",CHAR(10),GESTION_SEG_3_TRIM!K75,CHAR(10),\"Trimestre 4\",CHAR(10),GESTION_SEG_4_TRIM!K75),\" \")","v":"Trimestre 1\n\nTrimestre 2\n\nTrimestre 3\n\nTrimestre 4\n"}]
[null,null,"3. Fortalecer las capacidades institucionales, adecuar el modelo operativo y de servicio, bajo un enfoque de Arquitectura Empresarial y de fortalecimiento del acceso a la justicia.",null,null,null,null,null,null,null,null,null,null,null,null,{"$f":"IFERROR(MAX(GESTION_SEG_1_TRIM!H76,GESTION_SEG_2_TRIM!H76,GESTION_SEG_3_TRIM!H76,GESTION_SEG_4_TRIM!H76),\" \")","v":0},"",{"$f":"IFERROR(_xlfn.CONCAT(\"Trimestre 1\",CHAR(10),GESTION_SEG_1_TRIM!J76,CHAR(10),\"Trimestre 2\",CHAR(10),GESTION_SEG_2_TRIM!J76,CHAR(10),\"Trimestre 3\",CHAR(10),GESTION_SEG_3_TRIM!J76,CHAR(10),\"Trimestre 4\",CHAR(10),GESTION_SEG_4_TRIM!J76),\" \")","v":"Trimestre 1\n\nTrimestre 2\n\nTrimestre 3\n\nTrimestre 4\n"},{"$f":"IFERROR(_xlfn.CONCAT(\"Trimestre 1\",CHAR(10),GESTION_SEG_1_TRIM!K76,CHAR(10),\"Trimestre 2\",CHAR(10),GESTION_SEG_2_TRIM!K76,CHAR(10),\"Trimestre 3\",CHAR(10),GESTION_SEG_3_TRIM!K76,CHAR(10),\"Trimestre 4\",CHAR(10),GESTION_SEG_4_TRIM!K76),\" \")","v":"Trimestre 1\n\nTrimestre 2\n\nTrimestre 3\n\nTrimestre 4\n"}]
[null,null,null,null,null,null,null,null,null,null,null,null,null,null,null,{"$f":"IFERROR(MAX(GESTION_SEG_1_TRIM!H77,GESTION_SEG_2_TRIM!H77,GESTION_SEG_3_TRIM!H77,GESTION_SEG_4_TRIM!H77),\" \")","v":0},"",{"$f":"IFERROR(_xlfn.CONCAT(\"Trimestre 1\",CHAR(10),GESTION_SEG_1_TRIM!J77,CHAR(10),\"Trimestre 2\",CHAR(10),GESTION_SEG_2_TRIM!J77,CHAR(10),\"Trimestre 3\",CHAR(10),GESTION_SEG_3_TRIM!J77,CHAR(10),\"Trimestre 4\",CHAR(10),GESTION_SEG_4_TRIM!J77),\" \")","v":"Trimestre 1\n\nTrimestre 2\n\nTrimestre 3\n\nTrimestre 4\n"},{"$f":"IFERROR(_xlfn.CONCAT(\"Trimestre 1\",CHAR(10),GESTION_SEG_1_TRIM!K77,CHAR(10),\"Trimestre 2\",CHAR(10),GESTION_SEG_2_TRIM!K77,CHAR(10),\"Trimestre 3\",CHAR(10),GESTION_SEG_3_TRIM!K77,CHAR(10),\"Trimestre 4\",CHAR(10),GESTION_SEG_4_TRIM!K77),\" \")","v":"Trimestre 1\n\nTrimestre 2\n\nTrimestre 3\n\nTrimestre 4\n"}]
[null,null,null,null,null,null,null,null,null,null,null,null,null,null,null,{"$f":"IFERROR(MAX(GESTION_SEG_1_TRIM!H78,GESTION_SEG_2_TRIM!H78,GESTION_SEG_3_TRIM!H78,GESTION_SEG_4_TRIM!H78),\" \")","v":0},null,{"$f":"IFERROR(_xlfn.CONCAT(\"Trimestre 1\",CHAR(10),GESTION_SEG_1_TRIM!J78,CHAR(10),\"Trimestre 2\",CHAR(10),GESTION_SEG_2_TRIM!J78,CHAR(10),\"Trimestre 3\",CHAR(10),GESTION_SEG_3_TRIM!J78,CHAR(10),\"Trimestre 4\",CHAR(10),GESTION_SEG_4_TRIM!J78),\" \")","v":"Trimestre 1\n\nTrimestre 2\n\nTrimestre 3\n\nTrimestre 4\n"},{"$f":"IFERROR(_xlfn.CONCAT(\"Trimestre 1\",CHAR(10),GESTION_SEG_1_TRIM!K78,CHAR(10),\"Trimestre 2\",CHAR(10),GESTION_SEG_2_TRIM!K78,CHAR(10),\"Trimestre 3\",CHAR(10),GESTION_SEG_3_TRIM!K78,CHAR(10),\"Trimestre 4\",CHAR(10),GESTION_SEG_4_TRIM!K78),\" \")","v":"Trimestre 1\n\nTrimestre 2\n\nTrimestre 3\n\nTrimestre 4\n"}]
[null,null,null,null,null,null,null,null,null,null,null,null,null,null,null,{"$f":"IFERROR(MAX(GESTION_SEG_1_TRIM!H79,GESTION_SEG_2_TRIM!H79,GESTION_SEG_3_TRIM!H79,GESTION_SEG_4_TRIM!H79),\" \")","v":0},null,{"$f":"IFERROR(_xlfn.CONCAT(\"Trimestre 1\",CHAR(10),GESTION_SEG_1_TRIM!J79,CHAR(10),\"Trimestre 2\",CHAR(10),GESTION_SEG_2_TRIM!J79,CHAR(10),\"Trimestre 3\",CHAR(10),GESTION_SEG_3_TRIM!J79,CHAR(10),\"Trimestre 4\",CHAR(10),GESTION_SEG_4_TRIM!J79),\" \")","v":"Trimestre 1\n\nTrimestre 2\n\nTrimestre 3\n\nTrimestre 4\n"},{"$f":"IFERROR(_xlfn.CONCAT(\"Trimestre 1\",CHAR(10),GESTION_SEG_1_TRIM!K79,CHAR(10),\"Trimestre 2\",CHAR(10),GESTION_SEG_2_TRIM!K79,CHAR(10),\"Trimestre 3\",CHAR(10),GESTION_SEG_3_TRIM!K79,CHAR(10),\"Trimestre 4\",CHAR(10),GESTION_SEG_4_TRIM!K79),\" \")","v":"Trimestre 1\n\nTrimestre 2\n\nTrimestre 3\n\nTrimestre 4\n"}]
[null,null,null,null,null,null,null,null,null,null,null,null,null,null,null,{"$f":"IFERROR(MAX(GESTION_SEG_1_TRIM!H80,GESTION_SEG_2_TRIM!H80,GESTION_SEG_3_TRIM!H80,GESTION_SEG_4_TRIM!H80),\" \")","v":0},null,{"$f":"IFERROR(_xlfn.CONCAT(\"Trimestre 1\",CHAR(10),GESTION_SEG_1_TRIM!J80,CHAR(10),\"Trimestre 2\",CHAR(10),GESTION_SEG_2_TRIM!J80,CHAR(10),\"Trimestre 3\",CHAR(10),GESTION_SEG_3_TRIM!J80,CHAR(10),\"Trimestre 4\",CHAR(10),GESTION_SEG_4_TRIM!J80),\" \")","v":"Trimestre 1\n\nTrimestre 2\n\nTrimestre 3\n\nTrimestre 4\n"},{"$f":"IFERROR(_xlfn.CONCAT(\"Trimestre 1\",CHAR(10),GESTION_SEG_1_TRIM!K80,CHAR(10),\"Trimestre 2\",CHAR(10),GESTION_SEG_2_TRIM!K80,CHAR(10),\"Trimestre 3\",CHAR(10),GESTION_SEG_3_TRIM!K80,CHAR(10),\"Trimestre 4\",CHAR(10),GESTION_SEG_4_TRIM!K80),\" \")","v":"Trimestre 1\n\nTrimestre 2\n\nTrimestre 3\n\nTrimestre 4\n"}]
[null,null,null,null,null,null,null,null,null,null,null,null,null,null,null,{"$f":"IFERROR(MAX(GESTION_SEG_1_TRIM!H81,GESTION_SEG_2_TRIM!H81,GESTION_SEG_3_TRIM!H81,GESTION_SEG_4_TRIM!H81),\" \")","v":0},null,{"$f":"IFERROR(_xlfn.CONCAT(\"Trimestre 1\",CHAR(10),GESTION_SEG_1_TRIM!J81,CHAR(10),\"Trimestre 2\",CHAR(10),GESTION_SEG_2_TRIM!J81,CHAR(10),\"Trimestre 3\",CHAR(10),GESTION_SEG_3_TRIM!J81,CHAR(10),\"Trimestre 4\",CHAR(10),GESTION_SEG_4_TRIM!J81),\" \")","v":"Trimestre 1\n\nTrimestre 2\n\nTrimestre 3\n\nTrimestre 4\n"},{"$f":"IFERROR(_xlfn.CONCAT(\"Trimestre 1\",CHAR(10),GESTION_SEG_1_TRIM!K81,CHAR(10),\"Trimestre 2\",CHAR(10),GESTION_SEG_2_TRIM!K81,CHAR(10),\"Trimestre 3\",CHAR(10),GESTION_SEG_3_TRIM!K81,CHAR(10),\"Trimestre 4\",CHAR(10),GESTION_SEG_4_TRIM!K81),\" \")","v":"Trimestre 1\n\nTrimestre 2\n\nTrimestre 3\n\nTrimestre 4\n"}]
[null,null,null,null,null,null,null,null,null,null,null,null,null,null,null,{"$f":"IFERROR(MAX(GESTION_SEG_1_TRIM!H82,GESTION_SEG_2_TRIM!H82,GESTION_SEG_3_TRIM!H82,GESTION_SEG_4_TRIM!H82),\" \")","v":0},null,{"$f":"IFERROR(_xlfn.CONCAT(\"Trimestre 1\",CHAR(10),GESTION_SEG_1_TRIM!J82,CHAR(10),\"Trimestre 2\",CHAR(10),GESTION_SEG_2_TRIM!J82,CHAR(10),\"Trimestre 3\",CHAR(10),GESTION_SEG_3_TRIM!J82,CHAR(10),\"Trimestre 4\",CHAR(10),GESTION_SEG_4_TRIM!J82),\" \")","v":"Trimestre 1\n\nTrimestre 2\n\nTrimestre 3\n\nTrimestre 4\n"},{"$f":"IFERROR(_xlfn.CONCAT(\"Trimestre 1\",CHAR(10),GESTION_SEG_1_TRIM!K82,CHAR(10),\"Trimestre 2\",CHAR(10),GESTION_SEG_2_TRIM!K82,CHAR(10),\"Trimestre 3\",CHAR(10),GESTION_SEG_3_TRIM!K82,CHAR(10),\"Trimestre 4\",CHAR(10),GESTION_SEG_4_TRIM!K82),\" \")","v":"Trimestre 1\n\nTrimestre 2\n\nTrimestre 3\n\nTrimestre 4\n"}]
[null,null,null,null,null,null,null,null,null,null,null,null,null,null,null,{"$f":"IFERROR(MAX(GESTION_SEG_1_TRIM!H83,GESTION_SEG_2_TRIM!H83,GESTION_SEG_3_TRIM!H83,GESTION_SEG_4_TRIM!H83),\" \")","v":0},"",{"$f":"IFERROR(_xlfn.CONCAT(\"Trimestre 1\",CHAR(10),GESTION_SEG_1_TRIM!J83,CHAR(10),\"Trimestre 2\",CHAR(10),GESTION_SEG_2_TRIM!J83,CHAR(10),\"Trimestre 3\",CHAR(10),GESTION_SEG_3_TRIM!J83,CHAR(10),\"Trimestre 4\",CHAR(10),GESTION_SEG_4_TRIM!J83),\" \")","v":"Trimestre 1\n\nTrimestre 2\n\nTrimestre 3\n\nTrimestre 4\n"},{"$f":"IFERROR(_xlfn.CONCAT(\"Trimestre 1\",CHAR(10),GESTION_SEG_1_TRIM!K83,CHAR(10),\"Trimestre 2\",CHAR(10),GESTION_SEG_2_TRIM!K83,CHAR(10),\"Trimestre 3\",CHAR(10),GESTION_SEG_3_TRIM!K83,CHAR(10),\"Trimestre 4\",CHAR(10),GESTION_SEG_4_TRIM!K83),\" \")","v":"Trimestre 1\n\nTrimestre 2\n\nTrimestre 3\n\nTrimestre 4\n"}]
[null,null,null,null,null,null,null,null,null,null,null,null,null,null,null,{"$f":"IFERROR(MAX(GESTION_SEG_1_TRIM!H84,GESTION_SEG_2_TRIM!H84,GESTION_SEG_3_TRIM!H84,GESTION_SEG_4_TRIM!H84),\" \")","v":0},"",{"$f":"IFERROR(_xlfn.CONCAT(\"Trimestre 1\",CHAR(10),GESTION_SEG_1_TRIM!J84,CHAR(10),\"Trimestre 2\",CHAR(10),GESTION_SEG_2_TRIM!J84,CHAR(10),\"Trimestre 3\",CHAR(10),GESTION_SEG_3_TRIM!J84,CHAR(10),\"Trimestre 4\",CHAR(10),GESTION_SEG_4_TRIM!J84),\" \")","v":"Trimestre 1\n\nTrimestre 2\n\nTrimestre 3\n\nTrimestre 4\n"},{"$f":"IFERROR(_xlfn.CONCAT(\"Trimestre 1\",CHAR(10),GESTION_SEG_1_TRIM!K84,CHAR(10),\"Trimestre 2\",CHAR(10),GESTION_SEG_2_TRIM!K84,CHAR(10),\"Trimestre 3\",CHAR(10),GESTION_SEG_3_TRIM!K84,CHAR(10),\"Trimestre 4\",CHAR(10),GESTION_SEG_4_TRIM!K84),\" \")","v":"Trimestre 1\n\nTrimestre 2\n\nTrimestre 3\n\nTrimestre 4\n"}]
[null,null,null,null,null,null,null,null,null,null,null,null,null,null,null,{"$f":"IFERROR(MAX(GESTION_SEG_1_TRIM!H85,GESTION_SEG_2_TRIM!H85,GESTION_SEG_3_TRIM!H85,GESTION_SEG_4_TRIM!H85),\" \")","v":0},"",{"$f":"IFERROR(_xlfn.CONCAT(\"Trimestre 1\",CHAR(10),GESTION_SEG_1_TRIM!J85,CHAR(10),\"Trimestre 2\",CHAR(10),GESTION_SEG_2_TRIM!J85,CHAR(10),\"Trimestre 3\",CHAR(10),GESTION_SEG_3_TRIM!J85,CHAR(10),\"Trimestre 4\",CHAR(10),GESTION_SEG_4_TRIM!J85),\" \")","v":"Trimestre 1\n\nTrimestre 2\n\nTrimestre 3\n\nTrimestre 4\n"},{"$f":"IFERROR(_xlfn.CONCAT(\"Trimestre 1\",CHAR(10),GESTION_SEG_1_TRIM!K85,CHAR(10),\"Trimestre 2\",CHAR(10),GESTION_SEG_2_TRIM!K85,CHAR(10),\"Trimestre 3\",CHAR(10),GESTION_SEG_3_TRIM!K85,CHAR(10),\"Trimestre 4\",CHAR(10),GESTION_SEG_4_TRIM!K85),\" \")","v":"Trimestre 1\n\nTrimestre 2\n\nTrimestre 3\n\nTrimestre 4\n"}]
[null,null,"4.Consolidar la cultura y apropiación de la transformación digital en los servidores y usuarios de los servicios de la Rama Judicial y reducir brechas de acceso y conocimiento, incluyendo la oferta efectiva de información sobre el uso de las nuevas herramientas virtuales implementadas en las diferentes jurisdicciones, con especial énfasis en las zonas del país donde es evidente la brecha digital.",null,null,null,null,null,null,null,null,null,null,null,null,{"$f":"IFERROR(MAX(GESTION_SEG_1_TRIM!H86,GESTION_SEG_2_TRIM!H86,GESTION_SEG_3_TRIM!H86,GESTION_SEG_4_TRIM!H86),\" \")","v":0},"",{"$f":"IFERROR(_xlfn.CONCAT(\"Trimestre 1\",CHAR(10),GESTION_SEG_1_TRIM!J86,CHAR(10),\"Trimestre 2\",CHAR(10),GESTION_SEG_2_TRIM!J86,CHAR(10),\"Trimestre 3\",CHAR(10),GESTION_SEG_3_TRIM!J86,CHAR(10),\"Trimestre 4\",CHAR(10),GESTION_SEG_4_TRIM!J86),\" \")","v":"Trimestre 1\n\nTrimestre 2\n\nTrimestre 3\n\nTrimestre 4\n"},{"$f":"IFERROR(_xlfn.CONCAT(\"Trimestre 1\",CHAR(10),GESTION_SEG_1_TRIM!K86,CHAR(10),\"Trimestre 2\",CHAR(10),GESTION_SEG_2_TRIM!K86,CHAR(10),\"Trimestre 3\",CHAR(10),GESTION_SEG_3_TRIM!K86,CHAR(10),\"Trimestre 4\",CHAR(10),GESTION_SEG_4_TRIM!K86),\" \")","v":"Trimestre 1\n\nTrimestre 2\n\nTrimestre 3\n\nTrimestre 4\n"}]
[null,null,null,null,null,null,null,null,null,null,null,null,null,null,null,{"$f":"IFERROR(MAX(GESTION_SEG_1_TRIM!H87,GESTION_SEG_2_TRIM!H87,GESTION_SEG_3_TRIM!H87,GESTION_SEG_4_TRIM!H87),\" \")","v":0},"",{"$f":"IFERROR(_xlfn.CONCAT(\"Trimestre 1\",CHAR(10),GESTION_SEG_1_TRIM!J87,CHAR(10),\"Trimestre 2\",CHAR(10),GESTION_SEG_2_TRIM!J87,CHAR(10),\"Trimestre 3\",CHAR(10),GESTION_SEG_3_TRIM!J87,CHAR(10),\"Trimestre 4\",CHAR(10),GESTION_SEG_4_TRIM!J87),\" \")","v":"Trimestre 1\n\nTrimestre 2\n\nTrimestre 3\n\nTrimestre 4\n"},{"$f":"IFERROR(_xlfn.CONCAT(\"Trimestre 1\",CHAR(10),GESTION_SEG_1_TRIM!K87,CHAR(10),\"Trimestre 2\",CHAR(10),GESTION_SEG_2_TRIM!K87,CHAR(10),\"Trimestre 3\",CHAR(10),GESTION_SEG_3_TRIM!K87,CHAR(10),\"Trimestre 4\",CHAR(10),GESTION_SEG_4_TRIM!K87),\" \")","v":"Trimestre 1\n\nTrimestre 2\n\nTrimestre 3\n\nTrimestre 4\n"}]
[null,null,null,null,null,null,null,null,null,null,null,null,null,null,null,{"$f":"IFERROR(MAX(GESTION_SEG_1_TRIM!H88,GESTION_SEG_2_TRIM!H88,GESTION_SEG_3_TRIM!H88,GESTION_SEG_4_TRIM!H88),\" \")","v":0},null,{"$f":"IFERROR(_xlfn.CONCAT(\"Trimestre 1\",CHAR(10),GESTION_SEG_1_TRIM!J88,CHAR(10),\"Trimestre 2\",CHAR(10),GESTION_SEG_2_TRIM!J88,CHAR(10),\"Trimestre 3\",CHAR(10),GESTION_SEG_3_TRIM!J88,CHAR(10),\"Trimestre 4\",CHAR(10),GESTION_SEG_4_TRIM!J88),\" \")","v":"Trimestre 1\n\nTrimestre 2\n\nTrimestre 3\n\nTrimestre 4\n"},{"$f":"IFERROR(_xlfn.CONCAT(\"Trimestre 1\",CHAR(10),GESTION_SEG_1_TRIM!K88,CHAR(10),\"Trimestre 2\",CHAR(10),GESTION_SEG_2_TRIM!K88,CHAR(10),\"Trimestre 3\",CHAR(10),GESTION_SEG_3_TRIM!K88,CHAR(10),\"Trimestre 4\",CHAR(10),GESTION_SEG_4_TRIM!K88),\" \")","v":"Trimestre 1\n\nTrimestre 2\n\nTrimestre 3\n\nTrimestre 4\n"}]
[null,null,null,null,null,null,null,null,null,null,null,null,null,null,null,{"$f":"IFERROR(MAX(GESTION_SEG_1_TRIM!H89,GESTION_SEG_2_TRIM!H89,GESTION_SEG_3_TRIM!H89,GESTION_SEG_4_TRIM!H89),\" \")","v":0},null,{"$f":"IFERROR(_xlfn.CONCAT(\"Trimestre 1\",CHAR(10),GESTION_SEG_1_TRIM!J89,CHAR(10),\"Trimestre 2\",CHAR(10),GESTION_SEG_2_TRIM!J89,CHAR(10),\"Trimestre 3\",CHAR(10),GESTION_SEG_3_TRIM!J89,CHAR(10),\"Trimestre 4\",CHAR(10),GESTION_SEG_4_TRIM!J89),\" \")","v":"Trimestre 1\n\nTrimestre 2\n\nTrimestre 3\n\nTrimestre 4\n"},{"$f":"IFERROR(_xlfn.CONCAT(\"Trimestre 1\",CHAR(10),GESTION_SEG_1_TRIM!K89,CHAR(10),\"Trimestre 2\",CHAR(10),GESTION_SEG_2_TRIM!K89,CHAR(10),\"Trimestre 3\",CHAR(10),GESTION_SEG_3_TRIM!K89,CHAR(10),\"Trimestre 4\",CHAR(10),GESTION_SEG_4_TRIM!K89),\" \")","v":"Trimestre 1\n\nTrimestre 2\n\nTrimestre 3\n\nTrimestre 4\n"}]
[null,null,null,null,null,null,null,null,null,null,null,null,null,null,null,{"$f":"IFERROR(MAX(GESTION_SEG_1_TRIM!H90,GESTION_SEG_2_TRIM!H90,GESTION_SEG_3_TRIM!H90,GESTION_SEG_4_TRIM!H90),\" \")","v":0},null,{"$f":"IFERROR(_xlfn.CONCAT(\"Trimestre 1\",CHAR(10),GESTION_SEG_1_TRIM!J90,CHAR(10),\"Trimestre 2\",CHAR(10),GESTION_SEG_2_TRIM!J90,CHAR(10),\"Trimestre 3\",CHAR(10),GESTION_SEG_3_TRIM!J90,CHAR(10),\"Trimestre 4\",CHAR(10),GESTION_SEG_4_TRIM!J90),\" \")","v":"Trimestre 1\n\nTrimestre 2\n\nTrimestre 3\n\nTrimestre 4\n"},{"$f":"IFERROR(_xlfn.CONCAT(\"Trimestre 1\",CHAR(10),GESTION_SEG_1_TRIM!K90,CHAR(10),\"Trimestre 2\",CHAR(10),GESTION_SEG_2_TRIM!K90,CHAR(10),\"Trimestre 3\",CHAR(10),GESTION_SEG_3_TRIM!K90,CHAR(10),\"Trimestre 4\",CHAR(10),GESTION_SEG_4_TRIM!K90),\" \")","v":"Trimestre 1\n\nTrimestre 2\n\nTrimestre 3\n\nTrimestre 4\n"}]
[null,null,null,null,null,null,null,null,null,null,null,null,null,null,null,{"$f":"IFERROR(MAX(GESTION_SEG_1_TRIM!H91,GESTION_SEG_2_TRIM!H91,GESTION_SEG_3_TRIM!H91,GESTION_SEG_4_TRIM!H91),\" \")","v":0},null,{"$f":"IFERROR(_xlfn.CONCAT(\"Trimestre 1\",CHAR(10),GESTION_SEG_1_TRIM!J91,CHAR(10),\"Trimestre 2\",CHAR(10),GESTION_SEG_2_TRIM!J91,CHAR(10),\"Trimestre 3\",CHAR(10),GESTION_SEG_3_TRIM!J91,CHAR(10),\"Trimestre 4\",CHAR(10),GESTION_SEG_4_TRIM!J91),\" \")","v":"Trimestre 1\n\nTrimestre 2\n\nTrimestre 3\n\nTrimestre 4\n"},{"$f":"IFERROR(_xlfn.CONCAT(\"Trimestre 1\",CHAR(10),GESTION_SEG_1_TRIM!K91,CHAR(10),\"Trimestre 2\",CHAR(10),GESTION_SEG_2_TRIM!K91,CHAR(10),\"Trimestre 3\",CHAR(10),GESTION_SEG_3_TRIM!K91,CHAR(10),\"Trimestre 4\",CHAR(10),GESTION_SEG_4_TRIM!K91),\" \")","v":"Trimestre 1\n\nTrimestre 2\n\nTrimestre 3\n\nTrimestre 4\n"}]
[null,null,null,null,null,null,null,null,null,null,null,null,null,null,null,{"$f":"IFERROR(MAX(GESTION_SEG_1_TRIM!H92,GESTION_SEG_2_TRIM!H92,GESTION_SEG_3_TRIM!H92,GESTION_SEG_4_TRIM!H92),\" \")","v":0},null,{"$f":"IFERROR(_xlfn.CONCAT(\"Trimestre 1\",CHAR(10),GESTION_SEG_1_TRIM!J92,CHAR(10),\"Trimestre 2\",CHAR(10),GESTION_SEG_2_TRIM!J92,CHAR(10),\"Trimestre 3\",CHAR(10),GESTION_SEG_3_TRIM!J92,CHAR(10),\"Trimestre 4\",CHAR(10),GESTION_SEG_4_TRIM!J92),\" \")","v":"Trimestre 1\n\nTrimestre 2\n\nTrimestre 3\n\nTrimestre 4\n"},{"$f":"IFERROR(_xlfn.CONCAT(\"Trimestre 1\",CHAR(10),GESTION_SEG_1_TRIM!K92,CHAR(10),\"Trimestre 2\",CHAR(10),GESTION_SEG_2_TRIM!K92,CHAR(10),\"Trimestre 3\",CHAR(10),GESTION_SEG_3_TRIM!K92,CHAR(10),\"Trimestre 4\",CHAR(10),GESTION_SEG_4_TRIM!K92),\" \")","v":"Trimestre 1\n\nTrimestre 2\n\nTrimestre 3\n\nTrimestre 4\n"}]
[null,null,null,null,null,null,null,null,null,null,null,null,null,null,null,{"$f":"IFERROR(MAX(GESTION_SEG_1_TRIM!H93,GESTION_SEG_2_TRIM!H93,GESTION_SEG_3_TRIM!H93,GESTION_SEG_4_TRIM!H93),\" \")","v":0},"",{"$f":"IFERROR(_xlfn.CONCAT(\"Trimestre 1\",CHAR(10),GESTION_SEG_1_TRIM!J93,CHAR(10),\"Trimestre 2\",CHAR(10),GESTION_SEG_2_TRIM!J93,CHAR(10),\"Trimestre 3\",CHAR(10),GESTION_SEG_3_TRIM!J93,CHAR(10),\"Trimestre 4\",CHAR(10),GESTION_SEG_4_TRIM!J93),\" \")","v":"Trimestre 1\n\nTrimestre 2\n\nTrimestre 3\n\nTrimestre 4\n"},{"$f":"IFERROR(_xlfn.CONCAT(\"Trimestre 1\",CHAR(10),GESTION_SEG_1_TRIM!K93,CHAR(10),\"Trimestre 2\",CHAR(10),GESTION_SEG_2_TRIM!K93,CHAR(10),\"Trimestre 3\",CHAR(10),GESTION_SEG_3_TRIM!K93,CHAR(10),\"Trimestre 4\",CHAR(10),GESTION_SEG_4_TRIM!K93),\" \")","v":"Trimestre 1\n\nTrimestre 2\n\nTrimestre 3\n\nTrimestre 4\n"}]
[null,null,null,null,null,null,null,null,null,null,null,null,null,null,null,{"$f":"IFERROR(MAX(GESTION_SEG_1_TRIM!H94,GESTION_SEG_2_TRIM!H94,GESTION_SEG_3_TRIM!H94,GESTION_SEG_4_TRIM!H94),\" \")","v":0},"",{"$f":"IFERROR(_xlfn.CONCAT(\"Trimestre 1\",CHAR(10),GESTION_SEG_1_TRIM!J94,CHAR(10),\"Trimestre 2\",CHAR(10),GESTION_SEG_2_TRIM!J94,CHAR(10),\"Trimestre 3\",CHAR(10),GESTION_SEG_3_TRIM!J94,CHAR(10),\"Trimestre 4\",CHAR(10),GESTION_SEG_4_TRIM!J94),\" \")","v":"Trimestre 1\n\nTrimestre 2\n\nTrimestre 3\n\nTrimestre 4\n"},{"$f":"IFERROR(_xlfn.CONCAT(\"Trimestre 1\",CHAR(10),GESTION_SEG_1_TRIM!K94,CHAR(10),\"Trimestre 2\",CHAR(10),GESTION_SEG_2_TRIM!K94,CHAR(10),\"Trimestre 3\",CHAR(10),GESTION_SEG_3_TRIM!K94,CHAR(10),\"Trimestre 4\",CHAR(10),GESTION_SEG_4_TRIM!K94),\" \")","v":"Trimestre 1\n\nTrimestre 2\n\nTrimestre 3\n\nTrimestre 4\n"}]
[null,null,null,null,null,null,null,null,null,null,null,null,null,null,null,{"$f":"IFERROR(MAX(GESTION_SEG_1_TRIM!H95,GESTION_SEG_2_TRIM!H95,GESTION_SEG_3_TRIM!H95,GESTION_SEG_4_TRIM!H95),\" \")","v":0},"",{"$f":"IFERROR(_xlfn.CONCAT(\"Trimestre 1\",CHAR(10),GESTION_SEG_1_TRIM!J95,CHAR(10),\"Trimestre 2\",CHAR(10),GESTION_SEG_2_TRIM!J95,CHAR(10),\"Trimestre 3\",CHAR(10),GESTION_SEG_3_TRIM!J95,CHAR(10),\"Trimestre 4\",CHAR(10),GESTION_SEG_4_TRIM!J95),\" \")","v":"Trimestre 1\n\nTrimestre 2\n\nTrimestre 3\n\nTrimestre 4\n"},{"$f":"IFERROR(_xlfn.CONCAT(\"Trimestre 1\",CHAR(10),GESTION_SEG_1_TRIM!K95,CHAR(10),\"Trimestre 2\",CHAR(10),GESTION_SEG_2_TRIM!K95,CHAR(10),\"Trimestre 3\",CHAR(10),GESTION_SEG_3_TRIM!K95,CHAR(10),\"Trimestre 4\",CHAR(10),GESTION_SEG_4_TRIM!K95),\" \")","v":"Trimestre 1\n\nTrimestre 2\n\nTrimestre 3\n\nTrimestre 4\n"}]
[null,null,"5.Consolidar la infraestructura y los recursos necesarios para la implementación exitosa de la transformación digital, incluyendo la disposición de internet de calidad en el 100% de las sedes en la Rama Judicial y modernizar los servicios tecnológicos de soporte. ",null,null,null,null,null,null,null,null,null,null,null,null,{"$f":"IFERROR(MAX(GESTION_SEG_1_TRIM!H96,GESTION_SEG_2_TRIM!H96,GESTION_SEG_3_TRIM!H96,GESTION_SEG_4_TRIM!H96),\" \")","v":0},"",{"$f":"IFERROR(_xlfn.CONCAT(\"Trimestre 1\",CHAR(10),GESTION_SEG_1_TRIM!J96,CHAR(10),\"Trimestre 2\",CHAR(10),GESTION_SEG_2_TRIM!J96,CHAR(10),\"Trimestre 3\",CHAR(10),GESTION_SEG_3_TRIM!J96,CHAR(10),\"Trimestre 4\",CHAR(10),GESTION_SEG_4_TRIM!J96),\" \")","v":"Trimestre 1\n\nTrimestre 2\n\nTrimestre 3\n\nTrimestre 4\n"},{"$f":"IFERROR(_xlfn.CONCAT(\"Trimestre 1\",CHAR(10),GESTION_SEG_1_TRIM!K96,CHAR(10),\"Trimestre 2\",CHAR(10),GESTION_SEG_2_TRIM!K96,CHAR(10),\"Trimestre 3\",CHAR(10),GESTION_SEG_3_TRIM!K96,CHAR(10),\"Trimestre 4\",CHAR(10),GESTION_SEG_4_TRIM!K96),\" \")","v":"Trimestre 1\n\nTrimestre 2\n\nTrimestre 3\n\nTrimestre 4\n"}]
[null,null,null,null,null,null,null,null,null,null,null,null,null,null,null,{"$f":"IFERROR(MAX(GESTION_SEG_1_TRIM!H97,GESTION_SEG_2_TRIM!H97,GESTION_SEG_3_TRIM!H97,GESTION_SEG_4_TRIM!H97),\" \")","v":0},"",{"$f":"IFERROR(_xlfn.CONCAT(\"Trimestre 1\",CHAR(10),GESTION_SEG_1_TRIM!J97,CHAR(10),\"Trimestre 2\",CHAR(10),GESTION_SEG_2_TRIM!J97,CHAR(10),\"Trimestre 3\",CHAR(10),GESTION_SEG_3_TRIM!J97,CHAR(10),\"Trimestre 4\",CHAR(10),GESTION_SEG_4_TRIM!J97),\" \")","v":"Trimestre 1\n\nTrimestre 2\n\nTrimestre 3\n\nTrimestre 4\n"},{"$f":"IFERROR(_xlfn.CONCAT(\"Trimestre 1\",CHAR(10),GESTION_SEG_1_TRIM!K97,CHAR(10),\"Trimestre 2\",CHAR(10),GESTION_SEG_2_TRIM!K97,CHAR(10),\"Trimestre 3\",CHAR(10),GESTION_SEG_3_TRIM!K97,CHAR(10),\"Trimestre 4\",CHAR(10),GESTION_SEG_4_TRIM!K97),\" \")","v":"Trimestre 1\n\nTrimestre 2\n\nTrimestre 3\n\nTrimestre 4\n"}]
[null,null,null,null,null,null,null,null,null,null,null,null,null,null,null,{"$f":"IFERROR(MAX(GESTION_SEG_1_TRIM!H98,GESTION_SEG_2_TRIM!H98,GESTION_SEG_3_TRIM!H98,GESTION_SEG_4_TRIM!H98),\" \")","v":0},null,{"$f":"IFERROR(_xlfn.CONCAT(\"Trimestre 1\",CHAR(10),GESTION_SEG_1_TRIM!J98,CHAR(10),\"Trimestre 2\",CHAR(10),GESTION_SEG_2_TRIM!J98,CHAR(10),\"Trimestre 3\",CHAR(10),GESTION_SEG_3_TRIM!J98,CHAR(10),\"Trimestre 4\",CHAR(10),GESTION_SEG_4_TRIM!J98),\" \")","v":"Trimestre 1\n\nTrimestre 2\n\nTrimestre 3\n\nTrimestre 4\n"},{"$f":"IFERROR(_xlfn.CONCAT(\"Trimestre 1\",CHAR(10),GESTION_SEG_1_TRIM!K98,CHAR(10),\"Trimestre 2\",CHAR(10),GESTION_SEG_2_TRIM!K98,CHAR(10),\"Trimestre 3\",CHAR(10),GESTION_SEG_3_TRIM!K98,CHAR(10),\"Trimestre 4\",CHAR(10),GESTION_SEG_4_TRIM!K98),\" \")","v":"Trimestre 1\n\nTrimestre 2\n\nTrimestre 3\n\nTrimestre 4\n"}]
[null,null,null,null,null,null,null,null,null,null,null,null,null,null,null,{"$f":"IFERROR(MAX(GESTION_SEG_1_TRIM!H99,GESTION_SEG_2_TRIM!H99,GESTION_SEG_3_TRIM!H99,GESTION_SEG_4_TRIM!H99),\" \")","v":0},null,{"$f":"IFERROR(_xlfn.CONCAT(\"Trimestre 1\",CHAR(10),GESTION_SEG_1_TRIM!J99,CHAR(10),\"Trimestre 2\",CHAR(10),GESTION_SEG_2_TRIM!J99,CHAR(10),\"Trimestre 3\",CHAR(10),GESTION_SEG_3_TRIM!J99,CHAR(10),\"Trimestre 4\",CHAR(10),GESTION_SEG_4_TRIM!J99),\" \")","v":"Trimestre 1\n\nTrimestre 2\n\nTrimestre 3\n\nTrimestre 4\n"},{"$f":"IFERROR(_xlfn.CONCAT(\"Trimestre 1\",CHAR(10),GESTION_SEG_1_TRIM!K99,CHAR(10),\"Trimestre 2\",CHAR(10),GESTION_SEG_2_TRIM!K99,CHAR(10),\"Trimestre 3\",CHAR(10),GESTION_SEG_3_TRIM!K99,CHAR(10),\"Trimestre 4\",CHAR(10),GESTION_SEG_4_TRIM!K99),\" \")","v":"Trimestre 1\n\nTrimestre 2\n\nTrimestre 3\n\nTrimestre 4\n"}]
[null,null,null,null,null,null,null,null,null,null,null,null,null,null,null,{"$f":"IFERROR(MAX(GESTION_SEG_1_TRIM!H100,GESTION_SEG_2_TRIM!H100,GESTION_SEG_3_TRIM!H100,GESTION_SEG_4_TRIM!H100),\" \")","v":0},null,{"$f":"IFERROR(_xlfn.CONCAT(\"Trimestre 1\",CHAR(10),GESTION_SEG_1_TRIM!J100,CHAR(10),\"Trimestre 2\",CHAR(10),GESTION_SEG_2_TRIM!J100,CHAR(10),\"Trimestre 3\",CHAR(10),GESTION_SEG_3_TRIM!J100,CHAR(10),\"Trimestre 4\",CHAR(10),GESTION_SEG_4_TRIM!J100),\" \")","v":"Trimestre 1\n\nTrimestre 2\n\nTrimestre 3\n\nTrimestre 4\n"},{"$f":"IFERROR(_xlfn.CONCAT(\"Trimestre 1\",CHAR(10),GESTION_SEG_1_TRIM!K100,CHAR(10),\"Trimestre 2\",CHAR(10),GESTION_SEG_2_TRIM!K100,CHAR(10),\"Trimestre 3\",CHAR(10),GESTION_SEG_3_TRIM!K100,CHAR(10),\"Trimestre 4\",CHAR(10),GESTION_SEG_4_TRIM!K100),\" \")","v":"Trimestre 1\n\nTrimestre 2\n\nTrimestre 3\n\nTrimestre 4\n"}]
[null,null,null,null,null,null,null,null,null,null,null,null,null,null,null,{"$f":"IFERROR(MAX(GESTION_SEG_1_TRIM!H101,GESTION_SEG_2_TRIM!H101,GESTION_SEG_3_TRIM!H101,GESTION_SEG_4_TRIM!H101),\" \")","v":0},null,{"$f":"IFERROR(_xlfn.CONCAT(\"Trimestre 1\",CHAR(10),GESTION_SEG_1_TRIM!J101,CHAR(10),\"Trimestre 2\",CHAR(10),GESTION_SEG_2_TRIM!J101,CHAR(10),\"Trimestre 3\",CHAR(10),GESTION_SEG_3_TRIM!J101,CHAR(10),\"Trimestre 4\",CHAR(10),GESTION_SEG_4_TRIM!J101),\" \")","v":"Trimestre 1\n\nTrimestre 2\n\nTrimestre 3\n\nTrimestre 4\n"},{"$f":"IFERROR(_xlfn.CONCAT(\"Trimestre 1\",CHAR(10),GESTION_SEG_1_TRIM!K101,CHAR(10),\"Trimestre 2\",CHAR(10),GESTION_SEG_2_TRIM!K101,CHAR(10),\"Trimestre 3\",CHAR(10),GESTION_SEG_3_TRIM!K101,CHAR(10),\"Trimestre 4\",CHAR(10),GESTION_SEG_4_TRIM!K101),\" \")","v":"Trimestre 1\n\nTrimestre 2\n\nTrimestre 3\n\nTrimestre 4\n"}]
[null,null,null,null,null,null,null,null,null,null,null,null,null,null,null,{"$f":"IFERROR(MAX(GESTION_SEG_1_TRIM!H102,GESTION_SEG_2_TRIM!H102,GESTION_SEG_3_TRIM!H102,GESTION_SEG_4_TRIM!H102),\" \")","v":0},null,{"$f":"IFERROR(_xlfn.CONCAT(\"Trimestre 1\",CHAR(10),GESTION_SEG_1_TRIM!J102,CHAR(10),\"Trimestre 2\",CHAR(10),GESTION_SEG_2_TRIM!J102,CHAR(10),\"Trimestre 3\",CHAR(10),GESTION_SEG_3_TRIM!J102,CHAR(10),\"Trimestre 4\",CHAR(10),GESTION_SEG_4_TRIM!J102),\" \")","v":"Trimestre 1\n\nTrimestre 2\n\nTrimestre 3\n\nTrimestre 4\n"},{"$f":"IFERROR(_xlfn.CONCAT(\"Trimestre 1\",CHAR(10),GESTION_SEG_1_TRIM!K102,CHAR(10),\"Trimestre 2\",CHAR(10),GESTION_SEG_2_TRIM!K102,CHAR(10),\"Trimestre 3\",CHAR(10),GESTION_SEG_3_TRIM!K102,CHAR(10),\"Trimestre 4\",CHAR(10),GESTION_SEG_4_TRIM!K102),\" \")","v":"Trimestre 1\n\nTrimestre 2\n\nTrimestre 3\n\nTrimestre 4\n"}]
[null,null,null,null,null,null,null,null,null,null,null,null,null,null,null,{"$f":"IFERROR(MAX(GESTION_SEG_1_TRIM!H103,GESTION_SEG_2_TRIM!H103,GESTION_SEG_3_TRIM!H103,GESTION_SEG_4_TRIM!H103),\" \")","v":0},"",{"$f":"IFERROR(_xlfn.CONCAT(\"Trimestre 1\",CHAR(10),GESTION_SEG_1_TRIM!J103,CHAR(10),\"Trimestre 2\",CHAR(10),GESTION_SEG_2_TRIM!J103,CHAR(10),\"Trimestre 3\",CHAR(10),GESTION_SEG_3_TRIM!J103,CHAR(10),\"Trimestre 4\",CHAR(10),GESTION_SEG_4_TRIM!J103),\" \")","v":"Trimestre 1\n\nTrimestre 2\n\nTrimestre 3\n\nTrimestre 4\n"},{"$f":"IFERROR(_xlfn.CONCAT(\"Trimestre 1\",CHAR(10),GESTION_SEG_1_TRIM!K103,CHAR(10),\"Trimestre 2\",CHAR(10),GESTION_SEG_2_TRIM!K103,CHAR(10),\"Trimestre 3\",CHAR(10),GESTION_SEG_3_TRIM!K103,CHAR(10),\"Trimestre 4\",CHAR(10),GESTION_SEG_4_TRIM!K103),\" \")","v":"Trimestre 1\n\nTrimestre 2\n\nTrimestre 3\n\nTrimestre 4\n"}]
[null,null,null,null,null,null,null,null,null,null,null,null,null,null,null,{"$f":"IFERROR(MAX(GESTION_SEG_1_TRIM!H104,GESTION_SEG_2_TRIM!H104,GESTION_SEG_3_TRIM!H104,GESTION_SEG_4_TRIM!H104),\" \")","v":0},"",{"$f":"IFERROR(_xlfn.CONCAT(\"Trimestre 1\",CHAR(10),GESTION_SEG_1_TRIM!J104,CHAR(10),\"Trimestre 2\",CHAR(10),GESTION_SEG_2_TRIM!J104,CHAR(10),\"Trimestre 3\",CHAR(10),GESTION_SEG_3_TRIM!J104,CHAR(10),\"Trimestre 4\",CHAR(10),GESTION_SEG_4_TRIM!J104),\" \")","v":"Trimestre 1\n\nTrimestre 2\n\nTrimestre 3\n\nTrimestre 4\n"},{"$f":"IFERROR(_xlfn.CONCAT(\"Trimestre 1\",CHAR(10),GESTION_SEG_1_TRIM!K104,CHAR(10),\"Trimestre 2\",CHAR(10),GESTION_SEG_2_TRIM!K104,CHAR(10),\"Trimestre 3\",CHAR(10),GESTION_SEG_3_TRIM!K104,CHAR(10),\"Trimestre 4\",CHAR(10),GESTION_SEG_4_TRIM!K104),\" \")","v":"Trimestre 1\n\nTrimestre 2\n\nTrimestre 3\n\nTrimestre 4\n"}]
[null,null,null,null,null,null,null,null,null,null,null,null,null,null,null,{"$f":"IFERROR(MAX(GESTION_SEG_1_TRIM!H105,GESTION_SEG_2_TRIM!H105,GESTION_SEG_3_TRIM!H105,GESTION_SEG_4_TRIM!H105),\" \")","v":0},"",{"$f":"IFERROR(_xlfn.CONCAT(\"Trimestre 1\",CHAR(10),GESTION_SEG_1_TRIM!J105,CHAR(10),\"Trimestre 2\",CHAR(10),GESTION_SEG_2_TRIM!J105,CHAR(10),\"Trimestre 3\",CHAR(10),GESTION_SEG_3_TRIM!J105,CHAR(10),\"Trimestre 4\",CHAR(10),GESTION_SEG_4_TRIM!J105),\" \")","v":"Trimestre 1\n\nTrimestre 2\n\nTrimestre 3\n\nTrimestre 4\n"},{"$f":"IFERROR(_xlfn.CONCAT(\"Trimestre 1\",CHAR(10),GESTION_SEG_1_TRIM!K105,CHAR(10),\"Trimestre 2\",CHAR(10),GESTION_SEG_2_TRIM!K105,CHAR(10),\"Trimestre 3\",CHAR(10),GESTION_SEG_3_TRIM!K105,CHAR(10),\"Trimestre 4\",CHAR(10),GESTION_SEG_4_TRIM!K105),\" \")","v":"Trimestre 1\n\nTrimestre 2\n\nTrimestre 3\n\nTrimestre 4\n"}]
[null,null,"6.Integrar y optimizar los servicios administrativos de la Rama Judicial bajo un enfoque de transformación digital e innovación incluyendo los componentes financiero, administrativo, talento humano, entre otros",null,null,null,null,null,null,null,null,null,null,null,null,{"$f":"IFERROR(MAX(GESTION_SEG_1_TRIM!H106,GESTION_SEG_2_TRIM!H106,GESTION_SEG_3_TRIM!H106,GESTION_SEG_4_TRIM!H106),\" \")","v":0},"",{"$f":"IFERROR(_xlfn.CONCAT(\"Trimestre 1\",CHAR(10),GESTION_SEG_1_TRIM!J106,CHAR(10),\"Trimestre 2\",CHAR(10),GESTION_SEG_2_TRIM!J106,CHAR(10),\"Trimestre 3\",CHAR(10),GESTION_SEG_3_TRIM!J106,CHAR(10),\"Trimestre 4\",CHAR(10),GESTION_SEG_4_TRIM!J106),\" \")","v":"Trimestre 1\n\nTrimestre 2\n\nTrimestre 3\n\nTrimestre 4\n"},{"$f":"IFERROR(_xlfn.CONCAT(\"Trimestre 1\",CHAR(10),GESTION_SEG_1_TRIM!K106,CHAR(10),\"Trimestre 2\",CHAR(10),GESTION_SEG_2_TRIM!K106,CHAR(10),\"Trimestre 3\",CHAR(10),GESTION_SEG_3_TRIM!K106,CHAR(10),\"Trimestre 4\",CHAR(10),GESTION_SEG_4_TRIM!K106),\" \")","v":"Trimestre 1\n\nTrimestre 2\n\nTrimestre 3\n\nTrimestre 4\n"}]
[null,null,null,null,null,null,null,null,null,null,null,null,null,null,null,{"$f":"IFERROR(MAX(GESTION_SEG_1_TRIM!H107,GESTION_SEG_2_TRIM!H107,GESTION_SEG_3_TRIM!H107,GESTION_SEG_4_TRIM!H107),\" \")","v":0},null,{"$f":"IFERROR(_xlfn.CONCAT(\"Trimestre 1\",CHAR(10),GESTION_SEG_1_TRIM!J107,CHAR(10),\"Trimestre 2\",CHAR(10),GESTION_SEG_2_TRIM!J107,CHAR(10),\"Trimestre 3\",CHAR(10),GESTION_SEG_3_TRIM!J107,CHAR(10),\"Trimestre 4\",CHAR(10),GESTION_SEG_4_TRIM!J107),\" \")","v":"Trimestre 1\n\nTrimestre 2\n\nTrimestre 3\n\nTrimestre 4\n"},{"$f":"IFERROR(_xlfn.CONCAT(\"Trimestre 1\",CHAR(10),GESTION_SEG_1_TRIM!K107,CHAR(10),\"Trimestre 2\",CHAR(10),GESTION_SEG_2_TRIM!K107,CHAR(10),\"Trimestre 3\",CHAR(10),GESTION_SEG_3_TRIM!K107,CHAR(10),\"Trimestre 4\",CHAR(10),GESTION_SEG_4_TRIM!K107),\" \")","v":"Trimestre 1\n\nTrimestre 2\n\nTrimestre 3\n\nTrimestre 4\n"}]
[null,null,null,null,null,null,null,null,null,null,null,null,null,null,null,{"$f":"IFERROR(MAX(GESTION_SEG_1_TRIM!H108,GESTION_SEG_2_TRIM!H108,GESTION_SEG_3_TRIM!H108,GESTION_SEG_4_TRIM!H108),\" \")","v":0},null,{"$f":"IFERROR(_xlfn.CONCAT(\"Trimestre 1\",CHAR(10),GESTION_SEG_1_TRIM!J108,CHAR(10),\"Trimestre 2\",CHAR(10),GESTION_SEG_2_TRIM!J108,CHAR(10),\"Trimestre 3\",CHAR(10),GESTION_SEG_3_TRIM!J108,CHAR(10),\"Trimestre 4\",CHAR(10),GESTION_SEG_4_TRIM!J108),\" \")","v":"Trimestre 1\n\nTrimestre 2\n\nTrimestre 3\n\nTrimestre 4\n"},{"$f":"IFERROR(_xlfn.CONCAT(\"Trimestre 1\",CHAR(10),GESTION_SEG_1_TRIM!K108,CHAR(10),\"Trimestre 2\",CHAR(10),GESTION_SEG_2_TRIM!K108,CHAR(10),\"Trimestre 3\",CHAR(10),GESTION_SEG_3_TRIM!K108,CHAR(10),\"Trimestre 4\",CHAR(10),GESTION_SEG_4_TRIM!K108),\" \")","v":"Trimestre 1\n\nTrimestre 2\n\nTrimestre 3\n\nTrimestre 4\n"}]
[null,null,null,null,null,null,null,null,null,null,null,null,null,null,null,{"$f":"IFERROR(MAX(GESTION_SEG_1_TRIM!H109,GESTION_SEG_2_TRIM!H109,GESTION_SEG_3_TRIM!H109,GESTION_SEG_4_TRIM!H109),\" \")","v":0},null,{"$f":"IFERROR(_xlfn.CONCAT(\"Trimestre 1\",CHAR(10),GESTION_SEG_1_TRIM!J109,CHAR(10),\"Trimestre 2\",CHAR(10),GESTION_SEG_2_TRIM!J109,CHAR(10),\"Trimestre 3\",CHAR(10),GESTION_SEG_3_TRIM!J109,CHAR(10),\"Trimestre 4\",CHAR(10),GESTION_SEG_4_TRIM!J109),\" \")","v":"Trimestre 1\n\nTrimestre 2\n\nTrimestre 3\n\nTrimestre 4\n"},{"$f":"IFERROR(_xlfn.CONCAT(\"Trimestre 1\",CHAR(10),GESTION_SEG_1_TRIM!K109,CHAR(10),\"Trimestre 2\",CHAR(10),GESTION_SEG_2_TRIM!K109,CHAR(10),\"Trimestre 3\",CHAR(10),GESTION_SEG_3_TRIM!K109,CHAR(10),\"Trimestre 4\",CHAR(10),GESTION_SEG_4_TRIM!K109),\" \")","v":"Trimestre 1\n\nTrimestre 2\n\nTrimestre 3\n\nTrimestre 4\n"}]
[null,null,null,null,null,null,null,null,null,null,null,null,null,null,null,{"$f":"IFERROR(MAX(GESTION_SEG_1_TRIM!H110,GESTION_SEG_2_TRIM!H110,GESTION_SEG_3_TRIM!H110,GESTION_SEG_4_TRIM!H110),\" \")","v":0},null,{"$f":"IFERROR(_xlfn.CONCAT(\"Trimestre 1\",CHAR(10),GESTION_SEG_1_TRIM!J110,CHAR(10),\"Trimestre 2\",CHAR(10),GESTION_SEG_2_TRIM!J110,CHAR(10),\"Trimestre 3\",CHAR(10),GESTION_SEG_3_TRIM!J110,CHAR(10),\"Trimestre 4\",CHAR(10),GESTION_SEG_4_TRIM!J110),\" \")","v":"Trimestre 1\n\nTrimestre 2\n\nTrimestre 3\n\nTrimestre 4\n"},{"$f":"IFERROR(_xlfn.CONCAT(\"Trimestre 1\",CHAR(10),GESTION_SEG_1_TRIM!K110,CHAR(10),\"Trimestre 2\",CHAR(10),GESTION_SEG_2_TRIM!K110,CHAR(10),\"Trimestre 3\",CHAR(10),GESTION_SEG_3_TRIM!K110,CHAR(10),\"Trimestre 4\",CHAR(10),GESTION_SEG_4_TRIM!K110),\" \")","v":"Trimestre 1\n\nTrimestre 2\n\nTrimestre 3\n\nTrimestre 4\n"}]
[null,null,null,null,null,null,null,null,null,null,null,null,null,null,null,{"$f":"IFERROR(MAX(GESTION_SEG_1_TRIM!H111,GESTION_SEG_2_TRIM!H111,GESTION_SEG_3_TRIM!H111,GESTION_SEG_4_TRIM!H111),\" \")","v":0},null,{"$f":"IFERROR(_xlfn.CONCAT(\"Trimestre 1\",CHAR(10),GESTION_SEG_1_TRIM!J111,CHAR(10),\"Trimestre 2\",CHAR(10),GESTION_SEG_2_TRIM!J111,CHAR(10),\"Trimestre 3\",CHAR(10),GESTION_SEG_3_TRIM!J111,CHAR(10),\"Trimestre 4\",CHAR(10),GESTION_SEG_4_TRIM!J111),\" \")","v":"Trimestre 1\n\nTrimestre 2\n\nTrimestre 3\n\nTrimestre 4\n"},{"$f":"IFERROR(_xlfn.CONCAT(\"Trimestre 1\",CHAR(10),GESTION_SEG_1_TRIM!K111,CHAR(10),\"Trimestre 2\",CHAR(10),GESTION_SEG_2_TRIM!K111,CHAR(10),\"Trimestre 3\",CHAR(10),GESTION_SEG_3_TRIM!K111,CHAR(10),\"Trimestre 4\",CHAR(10),GESTION_SEG_4_TRIM!K111),\" \")","v":"Trimestre 1\n\nTrimestre 2\n\nTrimestre 3\n\nTrimestre 4\n"}]
[null,null,null,null,null,null,null,null,null,null,null,null,null,null,null,{"$f":"IFERROR(MAX(GESTION_SEG_1_TRIM!H112,GESTION_SEG_2_TRIM!H112,GESTION_SEG_3_TRIM!H112,GESTION_SEG_4_TRIM!H112),\" \")","v":0},"",{"$f":"IFERROR(_xlfn.CONCAT(\"Trimestre 1\",CHAR(10),GESTION_SEG_1_TRIM!J112,CHAR(10),\"Trimestre 2\",CHAR(10),GESTION_SEG_2_TRIM!J112,CHAR(10),\"Trimestre 3\",CHAR(10),GESTION_SEG_3_TRIM!J112,CHAR(10),\"Trimestre 4\",CHAR(10),GESTION_SEG_4_TRIM!J112),\" \")","v":"Trimestre 1\n\nTrimestre 2\n\nTrimestre 3\n\nTrimestre 4\n"},{"$f":"IFERROR(_xlfn.CONCAT(\"Trimestre 1\",CHAR(10),GESTION_SEG_1_TRIM!K112,CHAR(10),\"Trimestre 2\",CHAR(10),GESTION_SEG_2_TRIM!K112,CHAR(10),\"Trimestre 3\",CHAR(10),GESTION_SEG_3_TRIM!K112,CHAR(10),\"Trimestre 4\",CHAR(10),GESTION_SEG_4_TRIM!K112),\" \")","v":"Trimestre 1\n\nTrimestre 2\n\nTrimestre 3\n\nTrimestre 4\n"}]
[null,null,null,null,null,null,null,null,null,null,null,null,null,null,null,{"$f":"IFERROR(MAX(GESTION_SEG_1_TRIM!H113,GESTION_SEG_2_TRIM!H113,GESTION_SEG_3_TRIM!H113,GESTION_SEG_4_TRIM!H113),\" \")","v":0},"",{"$f":"IFERROR(_xlfn.CONCAT(\"Trimestre 1\",CHAR(10),GESTION_SEG_1_TRIM!J113,CHAR(10),\"Trimestre 2\",CHAR(10),GESTION_SEG_2_TRIM!J113,CHAR(10),\"Trimestre 3\",CHAR(10),GESTION_SEG_3_TRIM!J113,CHAR(10),\"Trimestre 4\",CHAR(10),GESTION_SEG_4_TRIM!J113),\" \")","v":"Trimestre 1\n\nTrimestre 2\n\nTrimestre 3\n\nTrimestre 4\n"},{"$f":"IFERROR(_xlfn.CONCAT(\"Trimestre 1\",CHAR(10),GESTION_SEG_1_TRIM!K113,CHAR(10),\"Trimestre 2\",CHAR(10),GESTION_SEG_2_TRIM!K113,CHAR(10),\"Trimestre 3\",CHAR(10),GESTION_SEG_3_TRIM!K113,CHAR(10),\"Trimestre 4\",CHAR(10),GESTION_SEG_4_TRIM!K113),\" \")","v":"Trimestre 1\n\nTrimestre 2\n\nTrimestre 3\n\nTrimestre 4\n"}]
[null,null,null,null,null,null,null,null,null,null,null,null,null,null,null,{"$f":"IFERROR(MAX(GESTION_SEG_1_TRIM!H114,GESTION_SEG_2_TRIM!H114,GESTION_SEG_3_TRIM!H114,GESTION_SEG_4_TRIM!H114),\" \")","v":0},"",{"$f":"IFERROR(_xlfn.CONCAT(\"Trimestre 1\",CHAR(10),GESTION_SEG_1_TRIM!J114,CHAR(10),\"Trimestre 2\",CHAR(10),GESTION_SEG_2_TRIM!J114,CHAR(10),\"Trimestre 3\",CHAR(10),GESTION_SEG_3_TRIM!J114,CHAR(10),\"Trimestre 4\",CHAR(10),GESTION_SEG_4_TRIM!J114),\" \")","v":"Trimestre 1\n\nTrimestre 2\n\nTrimestre 3\n\nTrimestre 4\n"},{"$f":"IFERROR(_xlfn.CONCAT(\"Trimestre 1\",CHAR(10),GESTION_SEG_1_TRIM!K114,CHAR(10),\"Trimestre 2\",CHAR(10),GESTION_SEG_2_TRIM!K114,CHAR(10),\"Trimestre 3\",CHAR(10),GESTION_SEG_3_TRIM!K114,CHAR(10),\"Trimestre 4\",CHAR(10),GESTION_SEG_4_TRIM!K114),\" \")","v":"Trimestre 1\n\nTrimestre 2\n\nTrimestre 3\n\nTrimestre 4\n"}]
[null,null,null,null,null,null,null,null,null,null,null,null,null,null,null,{"$f":"IFERROR(MAX(GESTION_SEG_1_TRIM!H115,GESTION_SEG_2_TRIM!H115,GESTION_SEG_3_TRIM!H115,GESTION_SEG_4_TRIM!H115),\" \")","v":0},"",{"$f":"IFERROR(_xlfn.CONCAT(\"Trimestre 1\",CHAR(10),GESTION_SEG_1_TRIM!J115,CHAR(10),\"Trimestre 2\",CHAR(10),GESTION_SEG_2_TRIM!J115,CHAR(10),\"Trimestre 3\",CHAR(10),GESTION_SEG_3_TRIM!J115,CHAR(10),\"Trimestre 4\",CHAR(10),GESTION_SEG_4_TRIM!J115),\" \")","v":"Trimestre 1\n\nTrimestre 2\n\nTrimestre 3\n\nTrimestre 4\n"},{"$f":"IFERROR(_xlfn.CONCAT(\"Trimestre 1\",CHAR(10),GESTION_SEG_1_TRIM!K115,CHAR(10),\"Trimestre 2\",CHAR(10),GESTION_SEG_2_TRIM!K115,CHAR(10),\"Trimestre 3\",CHAR(10),GESTION_SEG_3_TRIM!K115,CHAR(10),\"Trimestre 4\",CHAR(10),GESTION_SEG_4_TRIM!K115),\" \")","v":"Trimestre 1\n\nTrimestre 2\n\nTrimestre 3\n\nTrimestre 4\n"}]
["3. Confianza pública, transparencia y rendición de cuentas","Confianza pública, transparencia y rendición de cuentas: Aumentar la confianza pública en la justicia a través de la transparencia, la rendición de cuentas y la participación, incluyendo la información de justicia y la producción, gestión y acceso a las fuentes de derecho, el fortalecimiento del sistema de gestión de calidad y medio ambiente (SIGCMA) y el mejoramiento de la calidad y publicidad de la información. ","1. Incrementar la cantidad, la calidad y pertinencia de los datos sobre el funcionamiento del servicio de justicia bajo un modelo de gobierno de datos y un liderazgo unificado. ","4. Hacer un uso racional de los recursos naturales aplicando los principios y fases de la Economía Circular, para prevenir, mitigar y controlar los impactos ambientales.","Estratégicos","Admin - Comunicación Institucional","Seccional","Desarrollar las tareas definidas en el cronograma de Rendición de Cuentas","Entregable",null,null,"Magistradas Consejo Seccional y Director Seccional ","Informe de resultados\ny\nFicha espacios de diálogo (acciones de información)","2023-02-01","2023-12-31",{"$f":"IFERROR(MAX(GESTION_SEG_1_TRIM!H116,GESTION_SEG_2_TRIM!H116,GESTION_SEG_3_TRIM!H116,GESTION_SEG_4_TRIM!H116),\" \")","v":0},"",{"$f":"IFERROR(_xlfn.CONCAT(\"Trimestre 1\",CHAR(10),GESTION_SEG_1_TRIM!J116,CHAR(10),\"Trimestre 2\",CHAR(10),GESTION_SEG_2_TRIM!J116,CHAR(10),\"Trimestre 3\",CHAR(10),GESTION_SEG_3_TRIM!J116,CHAR(10),\"Trimestre 4\",CHAR(10),GESTION_SEG_4_TRIM!J116),\" \")","v":"Trimestre 1\n\nTrimestre 2\n\nTrimestre 3\n\nTrimestre 4\n"},{"$f":"IFERROR(_xlfn.CONCAT(\"Trimestre 1\",CHAR(10),GESTION_SEG_1_TRIM!K116,CHAR(10),\"Trimestre 2\",CHAR(10),GESTION_SEG_2_TRIM!K116,CHAR(10),\"Trimestre 3\",CHAR(10),GESTION_SEG_3_TRIM!K116,CHAR(10),\"Trimestre 4\",CHAR(10),GESTION_SEG_4_TRIM!K116),\" \")","v":"Trimestre 1\nEl 28 de Marzo tuvo lugar la audiencia de rendición de cuentas de la seccional caldas desde el municipio de Chinchiná a las 10:30 de la mañana. \n\nEn esta audiencia se expusieron los 5 temas preseleccionados por las partes interesadas mediante encuesta y con to una una participación de 162 personas conectadas por lLifeSize y 345 reproduccones en Twitter.\nTrimestre 2\n* En el mes de abril se elaboró una infografía desarrollando el tema de Calidad en la Justicia y se compartió con los servidores judiciales del distrito a traves del correo electrónico. Esta pieza gráfica en la que se  describieron las normas en las cuales nos encontramos certificaedos en la Seccional (especificando las dependencias certificadas) y sus beneficios también fue compratida con los usuarios externos por medio de las redes sociales del Cosnjeo Seccional de la Judicatura de Caldas.\n\n* En el mes de mayo se realizó el video correspondiente al tema del Sistema de Gestión Ambiental y las actividades que se han ejecutado en la Seccional para dar cumplimiento a los requisitos ambientales y resaltando la importancia del compromiso de todos para el mantenimiento del sistema. Este video fue compartido por correo electrónico con los servidores judiciales del distrito.\n\n* Durante el mes de junio,  se desarrolla el tema de  Vigilancias Judiciales,elaborando una infografía  donde se describe su proposito y el marco normativo. Adicionalmete se muestra cuantas vigilancias han sido tramitadas por el Consejo Seccional de la Judicatura de Caldas para el año 2022 y lo que va del año 2023 (fecha corte 20 de junio de 2023) y así mismo se suministra un código QR para descargar el formato de solicitud de vigilancias judiciales. Esta información es compartida por correo electrónico y en grupos de whatsapp\nTrimestre 3\n* En el mes de agosto, se publicó en las redes sociales del Consejo Seccional de la Judicatura de Caldas el Capitulo 1 del Podcast propuesto, en el cual se habla de la Oficina de Gestión en Salud, frente al tema de la Justcia Cercana al Ciudadano. En este audio intervinieron tanto los líderes de esta iniciativa,  como los usuarios beneficiados de esta oficina.\n\n*El 27 de Septiuembre se publico un capitulo adicional que no había sido contemplado inicialmente, en el cual se hizo segumimiento a las personaas entrevistadas en el capitulo 1, frente a los servicios recibidos por parte de la Oficina de Gestión en Salud.\n\nEl 29 de Septiembre, se publico en redes sociales, el que se convirtión en el capitulo 3 de estos podcast, en el cual se habló del Punto de Atención y Orientación al Usuario de Justicia, donde los estudiantes de últimos Semestres de derecho de laas universidades, se encargan de ofrecer asesoría en diversos trámites al rededor de la administración de Justicia\nTrimestre 4\n* En el mes de octubre se divugó el informe sobre la gestión judicial del año 2022\n\n*La acción de información proyectada para el mes de noviembre no se pudo llevar a cabo, debido a que se generó la información con corte al 28 de noviembre de 2023 y por instrucciones del Director Seccional, se requería actualizar la misma con corte al 08 de diciembre de 2023. Por esta época se presentaron situaciones de salud con el coordinador del área,aunado al incremento de la carga laboral del área con ocasión a los pagos de diferentes emolumentos (primas y salarios) que dificultaron la presentación de esta acción. \n\nNo obstante y teniendo en cuenta que este punto hace parte del informe que se presenta anualmente, se socializarán los resultados del año 2023 durante la audiencia pública de rendición de cuentas"},"Acciones de Información Rendición de Cuentas 2023\n\nhttps://etbcsj-my.sharepoint.com/:f:/g/personal/sacsma_cendoj_ramajudicial_gov_co/EjlZWVNBfw9PmSr2IszqKVEBCT10edaewXq9bUnn8HPsTQ?e=mrCWwb "]
[null,null,null,null,"Evaluación_y_Mejora","Admin - Mejoramiento del Sistema Integrado de Gestión y Control de la Calidad y del Medio Ambiente","Seccional","Medir la satisfacción del usuario","Entregable",null,null,"Magistradas Consejo Seccional y Director Seccional ","Resultados semestrales de la medición de la satisfacción del usuario","2023-01-01","2023-12-31",{"$f":"IFERROR(MAX(GESTION_SEG_1_TRIM!H117,GESTION_SEG_2_TRIM!H117,GESTION_SEG_3_TRIM!H117,GESTION_SEG_4_TRIM!H117),\" \")","v":0},"",{"$f":"IFERROR(_xlfn.CONCAT(\"Trimestre 1\",CHAR(10),GESTION_SEG_1_TRIM!J117,CHAR(10),\"Trimestre 2\",CHAR(10),GESTION_SEG_2_TRIM!J117,CHAR(10),\"Trimestre 3\",CHAR(10),GESTION_SEG_3_TRIM!J117,CHAR(10),\"Trimestre 4\",CHAR(10),GESTION_SEG_4_TRIM!J117),\" \")","v":"Trimestre 1\n\nTrimestre 2\n\nTrimestre 3\n\nTrimestre 4\n"},{"$f":"IFERROR(_xlfn.CONCAT(\"Trimestre 1\",CHAR(10),GESTION_SEG_1_TRIM!K117,CHAR(10),\"Trimestre 2\",CHAR(10),GESTION_SEG_2_TRIM!K117,CHAR(10),\"Trimestre 3\",CHAR(10),GESTION_SEG_3_TRIM!K117,CHAR(10),\"Trimestre 4\",CHAR(10),GESTION_SEG_4_TRIM!K117),\" \")","v":"Trimestre 1\nActividad con seguimiento semestral\nTrimestre 2\nEsta Actividad se realizará una vez ejecutada la acción No.04-AM-CSJC-2023 derivada de la encuesta de satisfacción anterior, con el fin de poder comparar un antes y un despues en los resultados de la misma y verificar así mismo la efectividad de esta acción.\nTrimestre 3\n\nTrimestre 4\n"}]
[null,null,null,null,"Estratégicos","Admin - Comunicación Institucional","Seccional","Atender, gestionar y solucionar las diferentes solicitudes de usuarios internos y externos","Entregable",null,null,"Magistrada Consejo Seccional","Listado Maestro de QRS","2023-01-01","2023-12-31",{"$f":"IFERROR(MAX(GESTION_SEG_1_TRIM!H118,GESTION_SEG_2_TRIM!H118,GESTION_SEG_3_TRIM!H118,GESTION_SEG_4_TRIM!H118),\" \")","v":0},null,{"$f":"IFERROR(_xlfn.CONCAT(\"Trimestre 1\",CHAR(10),GESTION_SEG_1_TRIM!J118,CHAR(10),\"Trimestre 2\",CHAR(10),GESTION_SEG_2_TRIM!J118,CHAR(10),\"Trimestre 3\",CHAR(10),GESTION_SEG_3_TRIM!J118,CHAR(10),\"Trimestre 4\",CHAR(10),GESTION_SEG_4_TRIM!J118),\" \")","v":"Trimestre 1\n\nTrimestre 2\n\nTrimestre 3\n\nTrimestre 4\n"},{"$f":"IFERROR(_xlfn.CONCAT(\"Trimestre 1\",CHAR(10),GESTION_SEG_1_TRIM!K118,CHAR(10),\"Trimestre 2\",CHAR(10),GESTION_SEG_2_TRIM!K118,CHAR(10),\"Trimestre 3\",CHAR(10),GESTION_SEG_3_TRIM!K118,CHAR(10),\"Trimestre 4\",CHAR(10),GESTION_SEG_4_TRIM!K118),\" \")","v":"Trimestre 1\nDurante el primer trimestre se presentaron 1 queja en el Consejo Seccional, la cual fue atendida oportunamente. Es decir,en el termino de 15 días definidos por la ley\nTrimestre 2\nDurante el segundo trimestre del año 2023 no se presentaron QRS´s.\nTrimestre 3\nDurante el tercer trimestre se presentaron 2 quejas en el Consejo Seccional, las cuales fueron atendidas oportunamente. Es decir,en el termino de 15 días definidos por la ley.\n\nAmbas Quejas eran debido al mal funcionamiento de la página web de la Rama Judicial.\nTrimestre 4\nDurante el cuarto trimestre se presentaron 3 quejas en el Consejo Seccional, las cuales fueron atendidas oportunamente. Es decir, dentro del termino de 15 días definidos por la ley."},"Listado Maestro de QRS:\n\nhttps://etbcsj-my.sharepoint.com/:f:/g/personal/sacsma_cendoj_ramajudicial_gov_co/EvGPycniJktKmlm1YBGTBfYBLFZvofefeOVGMEF_N_dZ_g?e=GqhTko "]
[null,null,null,null,"Evaluación_y_Mejora","Admin - Mejoramiento del Sistema Integrado de Gestión y Control de la Calidad y del Medio Ambiente","Seccional","Elaborar el informe de revisión por la Alta Dirección","Entregable",null,null,"Magistradas Consejo Seccional y Director Seccional ","Informe de revisión por la Alta Dirección","2023-01-01","2023-12-31",{"$f":"IFERROR(MAX(GESTION_SEG_1_TRIM!H119,GESTION_SEG_2_TRIM!H119,GESTION_SEG_3_TRIM!H119,GESTION_SEG_4_TRIM!H119),\" \")","v":0},null,{"$f":"IFERROR(_xlfn.CONCAT(\"Trimestre 1\",CHAR(10),GESTION_SEG_1_TRIM!J119,CHAR(10),\"Trimestre 2\",CHAR(10),GESTION_SEG_2_TRIM!J119,CHAR(10),\"Trimestre 3\",CHAR(10),GESTION_SEG_3_TRIM!J119,CHAR(10),\"Trimestre 4\",CHAR(10),GESTION_SEG_4_TRIM!J119),\" \")","v":"Trimestre 1\nSegún el cronograma establecido por el nivel central, el informe se deberá remitir en el mes de mayo de 2023, por lo que su seguimiento se realizará durante el segundo trimestre del año\nTrimestre 2\n\nTrimestre 3\n\nTrimestre 4\n"},{"$f":"IFERROR(_xlfn.CONCAT(\"Trimestre 1\",CHAR(10),GESTION_SEG_1_TRIM!K119,CHAR(10),\"Trimestre 2\",CHAR(10),GESTION_SEG_2_TRIM!K119,CHAR(10),\"Trimestre 3\",CHAR(10),GESTION_SEG_3_TRIM!K119,CHAR(10),\"Trimestre 4\",CHAR(10),GESTION_SEG_4_TRIM!K119),\" \")","v":"Trimestre 1\nSeguimiento a realizar en el segundo trimestre del año\nTrimestre 2\nMedianta acta No 003 del 24/05/2023 se llevó a cabo el proceso de revisión de los sistemas integrados de gestion de calidad y medio ambiente, por parte de la alta dirección en la Seccional, quedando aprobado el documento final. \n\nEste documento fue remitido al nivel central para su publicación en el micrositio web del SIGCMA, el 01 de junio de 2023\nTrimestre 3\nMedianta acta No 003 del 24/05/2023 se llevó a cabo el proceso de revisión de los sistemas integrados de gestion de calidad y medio ambiente, por parte de la alta dirección en la Seccional, quedando aprobado el documento final. \n\nEste documento fue remitido al nivel central para su publicación en el micrositio web del SIGCMA, el 01 de junio de 2023\nTrimestre 4\nMedianta acta No 003 del 24/05/2023 se llevó a cabo el proceso de revisión de los sistemas integrados de gestion de calidad y medio ambiente, por parte de la alta dirección en la Seccional, quedando aprobado el documento final. \n\nEste documento fue remitido al nivel central para su publicación en el micrositio web del SIGCMA, el 01 de junio de 2023"}]
[null,null,null,null,"Apoyo","Admin - Gestión de la Información Estadística","Seccional","Atender de las novedades SIERJU","Entregable",null,null,"Magistrada Consejo Seccional","Seguimineto soporte a despachos - Atención de Novedades","2023-01-01","2023-12-31",{"$f":"IFERROR(MAX(GESTION_SEG_1_TRIM!H120,GESTION_SEG_2_TRIM!H120,GESTION_SEG_3_TRIM!H120,GESTION_SEG_4_TRIM!H120),\" \")","v":0},null,{"$f":"IFERROR(_xlfn.CONCAT(\"Trimestre 1\",CHAR(10),GESTION_SEG_1_TRIM!J120,CHAR(10),\"Trimestre 2\",CHAR(10),GESTION_SEG_2_TRIM!J120,CHAR(10),\"Trimestre 3\",CHAR(10),GESTION_SEG_3_TRIM!J120,CHAR(10),\"Trimestre 4\",CHAR(10),GESTION_SEG_4_TRIM!J120),\" \")","v":"Trimestre 1\n\nTrimestre 2\n\nTrimestre 3\n\nTrimestre 4\n"},{"$f":"IFERROR(_xlfn.CONCAT(\"Trimestre 1\",CHAR(10),GESTION_SEG_1_TRIM!K120,CHAR(10),\"Trimestre 2\",CHAR(10),GESTION_SEG_2_TRIM!K120,CHAR(10),\"Trimestre 3\",CHAR(10),GESTION_SEG_3_TRIM!K120,CHAR(10),\"Trimestre 4\",CHAR(10),GESTION_SEG_4_TRIM!K120),\" \")","v":"Trimestre 1\nDurante este trimestre, se atendieron (117) solicitudes, que se clasifican así:\n\n* Ajuste en Inventario Inicial (107)\n* Cambio Fechas Formulario (6)\n* Consulta-ADM (2)\n* Licencias\t(1)\n* Otros Permisos Autorizados (1)\n\nLas mismas fueron atendidas y/o cerradas  de manera oportuna, a través del sistema de información Sierju.\nTrimestre 2\nDurante este trimestre, se atendieron (186) solicitudes, que se clasifican así:\n\n* Ajuste en Inventario Inicial (180)\n* Cambio Fechas Formulario (1)\n* Consulta-ADM (3)\n* Licencias\t(1)\n* Otros Permisos Autorizados (1)\n\nLas mismas fueron atendidas y/o cerradas  de manera oportuna, a través del sistema de información Sierju.\nTrimestre 3\nDurante este trimestre, se atendieron (45) solicitudes de ajuste de inventario inicial\n\nLas mismas fueron atendidas y/o cerradas  de manera oportuna, a través del sistema de información Sierju.\nTrimestre 4\nPara la fecha, no ha trasncurrido el trermino establecido por el acuerdo PSAA16-10476 de 2016, para la presentación de la información estadística ( 17 de enero de 2024 para este caso), razón por la cual, no es posible tener seguimiento de este actividad a la fecha (12 Enero de 2024)."},"Novedades Soporte Sierju:\nhttps://etbcsj-my.sharepoint.com/:x:/g/personal/sacsma_cendoj_ramajudicial_gov_co/EcFvSQj93thOoeTN4o2-vEIBgo57vAMI2Yp6WtBKTcXqaQ?e=inBDmb\n"]
[null,null,null,null,"Apoyo","Admin - Gestión de la Información Estadística","Seccional","Acompañamiento y capacitación a los despachos judiciales en el diligenciamiento de la información SIERJU","Entregable",null,null,"Magistrada Consejo Seccional","Seguimineto soporte a despachos - Atención de Novedades","2023-01-01","2023-12-31",{"$f":"IFERROR(MAX(GESTION_SEG_1_TRIM!H121,GESTION_SEG_2_TRIM!H121,GESTION_SEG_3_TRIM!H121,GESTION_SEG_4_TRIM!H121),\" \")","v":0},null,{"$f":"IFERROR(_xlfn.CONCAT(\"Trimestre 1\",CHAR(10),GESTION_SEG_1_TRIM!J121,CHAR(10),\"Trimestre 2\",CHAR(10),GESTION_SEG_2_TRIM!J121,CHAR(10),\"Trimestre 3\",CHAR(10),GESTION_SEG_3_TRIM!J121,CHAR(10),\"Trimestre 4\",CHAR(10),GESTION_SEG_4_TRIM!J121),\" \")","v":"Trimestre 1\n\nTrimestre 2\n\nTrimestre 3\n\nTrimestre 4\n"},{"$f":"IFERROR(_xlfn.CONCAT(\"Trimestre 1\",CHAR(10),GESTION_SEG_1_TRIM!K121,CHAR(10),\"Trimestre 2\",CHAR(10),GESTION_SEG_2_TRIM!K121,CHAR(10),\"Trimestre 3\",CHAR(10),GESTION_SEG_3_TRIM!K121,CHAR(10),\"Trimestre 4\",CHAR(10),GESTION_SEG_4_TRIM!K121),\" \")","v":"Trimestre 1\nDurante este trimestre, se atendieron (165) necesidades de soporte SIERJU a los despachos judiciales, brindando orientanción en diferentes temas, así:\n\n* Soporte General  (39)\n* Cambiop de usuario (5)\n* Reinicio de contraseña  (7)\n* Corrección de fecha  (6)\n* Ajuste de Inventarios  (107)\n* Creación de Usuario (1)\n\nLas mismas fueron atendidas y/o cerradas  de manera oportuna, a través del sistema de información Sierju.\nTrimestre 2\nDurante este trimestre, se atendieron (127) necesidades de soporte SIERJU a los despachos judiciales, brindando orientanción en diferentes temas, así:\n\n* Ajuste en Inventario Inicial (58)\n*Cambio de Usuario (27)\n*Soporte General (25)\nReinicio de Contraseña (7)\n\nLas mismas fueron atendidas y/o cerradas  de manera oportuna, a través del sistema de información Sierju.\nTrimestre 3\nDurante este trimestre, se atendieron (65) necesidades de soporte SIERJU a los despachos judiciales, brindando orientanción en diferentes temas, así:\n\n* Cambio usuario (23)\n* Creacion usuarios  (4)\n* Eliminación de formularios (7)\n* Reinicio contraseña (8)\n- Soporte general (23]))\n\nLas mismas fueron atendidas y/o cerradas  de manera oportuna, a través del sistema de información Sierju.\nTrimestre 4\nPara la fecha, no ha trasncurrido el trermino establecido por el acuerdo PSAA16-10476 de 2016, para la presentación de la información estadística ( 17 de enero de 2024 para este caso), razón por la cual, no es posible tener seguimiento de este actividad a la fecha (12 Enero de 2024)."},"Novedades Soporte Sierju:\nhttps://etbcsj-my.sharepoint.com/:x:/g/personal/sacsma_cendoj_ramajudicial_gov_co/EcFvSQj93thOoeTN4o2-vEIBgo57vAMI2Yp6WtBKTcXqaQ?e=inBDmb\n"]
[null,null,null,null,"Misionales","Admin - Administración de la Carrera Judicial","Seccional","Registro de cargos vacantes y provistos en Carrera- Jueces","Entregable",null,null,"Magistrada Consejo Seccional","Publicación registro de elegibles\n\nPublicación vacantes definitivas","2023-01-01","2023-12-31",{"$f":"IFERROR(MAX(GESTION_SEG_1_TRIM!H122,GESTION_SEG_2_TRIM!H122,GESTION_SEG_3_TRIM!H122,GESTION_SEG_4_TRIM!H122),\" \")","v":0},null,{"$f":"IFERROR(_xlfn.CONCAT(\"Trimestre 1\",CHAR(10),GESTION_SEG_1_TRIM!J122,CHAR(10),\"Trimestre 2\",CHAR(10),GESTION_SEG_2_TRIM!J122,CHAR(10),\"Trimestre 3\",CHAR(10),GESTION_SEG_3_TRIM!J122,CHAR(10),\"Trimestre 4\",CHAR(10),GESTION_SEG_4_TRIM!J122),\" \")","v":"Trimestre 1\n\nTrimestre 2\n\nTrimestre 3\n\nTrimestre 4\n"},{"$f":"IFERROR(_xlfn.CONCAT(\"Trimestre 1\",CHAR(10),GESTION_SEG_1_TRIM!K122,CHAR(10),\"Trimestre 2\",CHAR(10),GESTION_SEG_2_TRIM!K122,CHAR(10),\"Trimestre 3\",CHAR(10),GESTION_SEG_3_TRIM!K122,CHAR(10),\"Trimestre 4\",CHAR(10),GESTION_SEG_4_TRIM!K122),\" \")","v":"Trimestre 1\nDurante el primer trimestre de 2023 se hicieron las publicaciones de lista de elegibles y vacantes definitivas en el micrositio del Consejo Seccional de la Judicatura de Caldas.\n\nAdicionalmente fueron consolidadas y reportadas  las vacantes de Jueces para los meses de enero Oficio CSJCAO23-118 (44 vacantes ), febrero Oficio CSJCAO23-327 (43 vacantes ) y marzo CSJCAO23-547 (43 vacantes )\nTrimestre 2\nDurante el segundo trimestre de 2023 se remitieron 3 oficios a la Unidad de Administración de Carrera Judicial para que efectuara las publicaciones de las vacantes definitivas en la página web de la Rama Judicial - del Consejo Superior de la Judicatura.\n\n Para ello, fueron consolidadas y reportadas  las vacantes de Jueces para los meses de abril Oficio CSJCAO23-712 (45 vacantes ), mayo Oficio CSJCAO23-891 (46 vacantes) y junio CSJCAO23-1099 46 vacantes)\nTrimestre 3\nDurante el tercer trimestre de 2023 se remitieron 3 oficios a la Unidad de Administración de Carrera Judicial para que efectuara las publicaciones de las vacantes definitivas en la página web de la Rama Judicial - del Consejo Superior de la Judicatura.\nTrimestre 4\nDurante el cuarto trimestre de 2023 se remitieron 3 oficios a la Unidad de Administración de Carrera Judicial para que efectuara las publicaciones de las vacantes definitivas en la página web de la Rama Judicial - del Consejo Superior de la Judicatura."},"Registro de cargos vacantes y provistos en Carrera- Jueces:\n\nhttps://etbcsj-my.sharepoint.com/:f:/g/personal/sacsma_cendoj_ramajudicial_gov_co/ElhONg3Uq3ZFnfUWxxFcca0BoZHmQPdJNSuhxkMi5rWPGw?e=CYjr2m\n\n"]
[null,null,null,null,"Estratégicos","Admin - Comunicación Institucional","Seccional","Divulgación y publicación de información relevante para los usuarios","Entregable",null,null,"Magistrada Consejo Seccional","Informe anual consolidado","2023-01-01","2023-12-31",{"$f":"IFERROR(MAX(GESTION_SEG_1_TRIM!H123,GESTION_SEG_2_TRIM!H123,GESTION_SEG_3_TRIM!H123,GESTION_SEG_4_TRIM!H123),\" \")","v":0},"",{"$f":"IFERROR(_xlfn.CONCAT(\"Trimestre 1\",CHAR(10),GESTION_SEG_1_TRIM!J123,CHAR(10),\"Trimestre 2\",CHAR(10),GESTION_SEG_2_TRIM!J123,CHAR(10),\"Trimestre 3\",CHAR(10),GESTION_SEG_3_TRIM!J123,CHAR(10),\"Trimestre 4\",CHAR(10),GESTION_SEG_4_TRIM!J123),\" \")","v":"Trimestre 1\n\nTrimestre 2\n\nTrimestre 3\n\nTrimestre 4\n"},{"$f":"IFERROR(_xlfn.CONCAT(\"Trimestre 1\",CHAR(10),GESTION_SEG_1_TRIM!K123,CHAR(10),\"Trimestre 2\",CHAR(10),GESTION_SEG_2_TRIM!K123,CHAR(10),\"Trimestre 3\",CHAR(10),GESTION_SEG_3_TRIM!K123,CHAR(10),\"Trimestre 4\",CHAR(10),GESTION_SEG_4_TRIM!K123),\" \")","v":"Trimestre 1\nActividad con seguimiento anual\nTrimestre 2\nActivdad con seguimiento anual\nTrimestre 3\nActivdad con seguimiento anual\nTrimestre 4\nDurante el año 2023, se hicieron un total de 72 twitts, 18.440 impresiones, 1.541 visitas, 80 menciones a la cuenta y se perdieron un totral de 10 seguidores. esta red social se encuentra trabajando en mejoras dentro de su servicio de analítica, por lo que algunas estadísticas no aparecieron en el informe que la plataforma le muestra a quien administra esta cuenta. Es por lo anterior, que algunos ítems no tienen datos desde el mes de agosto de 2023.\n\nEn cuando a la página de facebook, para las 41 publicaiones en total del año se tuvo 488 interacciones y se alcanzaron un total de 5.736 personas.\n\n"}]
[null,null,null,null,"Apoyo","Admin - Gestión de la Información Estadística","Seccional","Seguimiento al reporte oportuno de la información estadística","Entregable",null,null,"Magistrada Consejo Seccional","Indice de oportunidad de la información estadística","2023-01-01","2023-12-31",{"$f":"IFERROR(MAX(GESTION_SEG_1_TRIM!H124,GESTION_SEG_2_TRIM!H124,GESTION_SEG_3_TRIM!H124,GESTION_SEG_4_TRIM!H124),\" \")","v":0},"",{"$f":"IFERROR(_xlfn.CONCAT(\"Trimestre 1\",CHAR(10),GESTION_SEG_1_TRIM!J124,CHAR(10),\"Trimestre 2\",CHAR(10),GESTION_SEG_2_TRIM!J124,CHAR(10),\"Trimestre 3\",CHAR(10),GESTION_SEG_3_TRIM!J124,CHAR(10),\"Trimestre 4\",CHAR(10),GESTION_SEG_4_TRIM!J124),\" \")","v":"Trimestre 1\n\nTrimestre 2\n\nTrimestre 3\n\nTrimestre 4\n"},{"$f":"IFERROR(_xlfn.CONCAT(\"Trimestre 1\",CHAR(10),GESTION_SEG_1_TRIM!K124,CHAR(10),\"Trimestre 2\",CHAR(10),GESTION_SEG_2_TRIM!K124,CHAR(10),\"Trimestre 3\",CHAR(10),GESTION_SEG_3_TRIM!K124,CHAR(10),\"Trimestre 4\",CHAR(10),GESTION_SEG_4_TRIM!K124),\" \")","v":"Trimestre 1\nEn el primer trimestre, los (164) despachos Judiciales adscritos al Distrito judicial de Manizales y Administrativo de Caldas, reportaron oportunamente la informción estadística, cumpliendo así con el término que  establece en acuerdo PSAA16-10476 del 01 de marzo de 2016.\n\nLo anterior, teniendo en cuenta que mediante comunicado por correo electrónico enviado por la Unidad de Análisis y Desarrollo Estadístico - UDAE, se amplió el plazo para el reporte del primer trimestre hata el 19 de abril de 2023.\n\n\"(...)Se informa a los usuarios del SIERJU que se ampliará el plazo del reporte de la gestión estadística hasta el próximo 19 de abril de 2023, de conformidad con lo regulado en el parágrafo 2 del Acuerdo No. PSAA16-10476 de marzo 1 de 2016: \"En caso de presentarse problemas técnicos relacionados con la plataforma tecnológica que soporte el SIERJU y que impidan el cumplimiento de los tiempos estipulados para el registro de información, éstos se correrán previa comunicación.\"\nReciban un cordial saludo,\nUNIDAD DE DESARROLLO Y ANÁLISIS ESTADÍSTICO\nCONSEJO SUPERIOR DE LA JUDICATURA...\"\nTrimestre 2\nEn el segundo trimestre, de los 164 despachos Judiciales adscritos al Distrito judicial de Manizales y Administrativo de Caldas, 158 reportaron oportunamente la informción estadística, equivalente al 96,3% de los despachos y cumpliendo así con el término que  establece en acuerdo PSAA16-10476 del 01 de marzo de 2016.\n\nDe los 6 despachos faltantes por el reporte, 2 no presentaron el reporte y 4 iniciaron el proceso pero no terminaron sobre el tértmino establecido por el acuerdo que se emnciona anteriormente. Estos despachos fueron requeridos mediante oficios CSJCAO23-1170, CSJCAO23-1171, CSJCAO23-1172, CSJCAO23-1173, CSJCAO23-1174, CSJCAO23-1175 del 11 de julio de 2023 y a las fecha de este seguimiento (17 de julio de 2023), los 6 ya finalizado su proceso de reporte de la información estadística.\nTrimestre 3\nEn el tercer trimestre, de los 164 despachos Judiciales adscritos al Distrito judicial de Manizales y Administrativo de Caldas, 158 reportaron oportunamente la informción estadística, equivalente al 96,3% de los despachos y cumpliendo así con el término que  establece en acuerdo PSAA16-10476 del 01 de marzo de 2016.\n\nDe los 6 despachos faltantes por el reporte, 2 no presentaron el reporte y 4 iniciaron el proceso pero no terminaron sobre el tértmino establecido por el acuerdo que se emnciona anteriormente.\nTrimestre 4\nPara la fecha, no ha trasncurrido el trermino establecido por el acuerdo PSAA16-10476 de 2016, para la presentación de la información estadística ( 17 de enero de 2024 para este caso), razón por la cual, no es posible tener seguimiento de este actividad a la fecha (12 Enero de 2024)."},"Reporte Oportuno de la Información Estadística:\n\nhttps://etbcsj-my.sharepoint.com/:f:/g/personal/sacsma_cendoj_ramajudicial_gov_co/EkTXl_v4QS9Gn7SzTeEV-vwB7_ntTskxMZf0t7wxHZEfmg?e=FQTwaO\n"]
[null,null,null,null,"Misionales","Admin - Administración de la Carrera Judicial","Seccional","Programación de visitas del factor organización del trabajo","Entregable",null,null,"Magistrada Consejo Seccional","Cronograma de visitas","2023-01-01","2023-12-31",{"$f":"IFERROR(MAX(GESTION_SEG_1_TRIM!H125,GESTION_SEG_2_TRIM!H125,GESTION_SEG_3_TRIM!H125,GESTION_SEG_4_TRIM!H125),\" \")","v":0},"",{"$f":"IFERROR(_xlfn.CONCAT(\"Trimestre 1\",CHAR(10),GESTION_SEG_1_TRIM!J125,CHAR(10),\"Trimestre 2\",CHAR(10),GESTION_SEG_2_TRIM!J125,CHAR(10),\"Trimestre 3\",CHAR(10),GESTION_SEG_3_TRIM!J125,CHAR(10),\"Trimestre 4\",CHAR(10),GESTION_SEG_4_TRIM!J125),\" \")","v":"Trimestre 1\n\nTrimestre 2\n\nTrimestre 3\n\nTrimestre 4\n"},{"$f":"IFERROR(_xlfn.CONCAT(\"Trimestre 1\",CHAR(10),GESTION_SEG_1_TRIM!K125,CHAR(10),\"Trimestre 2\",CHAR(10),GESTION_SEG_2_TRIM!K125,CHAR(10),\"Trimestre 3\",CHAR(10),GESTION_SEG_3_TRIM!K125,CHAR(10),\"Trimestre 4\",CHAR(10),GESTION_SEG_4_TRIM!K125),\" \")","v":"Trimestre 1\nActividad con seguimiento anual\nTrimestre 2\nSe elabora el Cronograma de Visitas para la calificación del factor organización del trabajo.\nTrimestre 3\nSe elabora el Cronograma de Visitas para la calificación del factor organización del trabajo, el cual se ejecutó debidamente\nTrimestre 4\nSe elabora el Cronograma de Visitas para la calificación del factor organización del trabajo, el cual se ejecutó debidamente"},"Programación de Visitas Factor Organización del trabajo:\n\nhttps://etbcsj-my.sharepoint.com/:x:/g/personal/sacsma_cendoj_ramajudicial_gov_co/EfW8OzEkW-hOjMfskaRjr78BlGJlmp3fSTp8RrglMyEIPQ?e=qCiDEg"]
[null,null,"2. Consolidar la administración de la información entendida como todas las acciones rientadas a garantizar el acceso, consulta, uso y conservación de la información de justicia de manera ágil, flexible e inteligente, bajo un enfoque de innovación.",null,"Misionales","Admin - Administración de la Carrera Judicial","Seccional","Trámite de vigilancias judiciales","Entregable",null,null,"Magistrada Consejo Seccional","Registro y reparto de vigilancias juciales","2023-01-01","2023-12-31",{"$f":"IFERROR(MAX(GESTION_SEG_1_TRIM!H126,GESTION_SEG_2_TRIM!H126,GESTION_SEG_3_TRIM!H126,GESTION_SEG_4_TRIM!H126),\" \")","v":0},"",{"$f":"IFERROR(_xlfn.CONCAT(\"Trimestre 1\",CHAR(10),GESTION_SEG_1_TRIM!J126,CHAR(10),\"Trimestre 2\",CHAR(10),GESTION_SEG_2_TRIM!J126,CHAR(10),\"Trimestre 3\",CHAR(10),GESTION_SEG_3_TRIM!J126,CHAR(10),\"Trimestre 4\",CHAR(10),GESTION_SEG_4_TRIM!J126),\" \")","v":"Trimestre 1\n\nTrimestre 2\n\nTrimestre 3\n\nTrimestre 4\n"},{"$f":"IFERROR(_xlfn.CONCAT(\"Trimestre 1\",CHAR(10),GESTION_SEG_1_TRIM!K126,CHAR(10),\"Trimestre 2\",CHAR(10),GESTION_SEG_2_TRIM!K126,CHAR(10),\"Trimestre 3\",CHAR(10),GESTION_SEG_3_TRIM!K126,CHAR(10),\"Trimestre 4\",CHAR(10),GESTION_SEG_4_TRIM!K126),\" \")","v":"Trimestre 1\nDurante el primer trimestre del 2023 se tramitaron un total de 26 vigilancias judiciales y se realizaron las siguientes actividades:\n\n• Recepción de la solicitud de Vigilancia  Judicial Administrativa.\n• Reparto\n• Recopilación de información.\n• Auto de apertura / No apertura. \n• Resolución. (En las vigilancias en las que se dio apertura). \n• Comunicación final. \n\nEn total para este primer trimestre se realizaron los siguientes documentos: \n\n-50 autos. \n-155 oficios. \nTrimestre 2\nDurante el segundo trimestre del 2023 se tramitaron un total de 57 vigilancias judiciales y se realizaron las siguientes actividades:\n\n• Recepción de la solicitud de Vigilancia  Judicial Administrativa.\n• Reparto\n• Recopilación de información.\n• Auto de apertura / No apertura. \n• Resolución. (En las vigilancias en las que se dio apertura). \n• Comunicación final. \n\nEn total para este segindo trimestre se realizaron los siguientes documentos: \n\n-97 autos. \n-203 oficios. \nTrimestre 3\nDurante el tercer trimestre del 2023 se tramitaron un total de 54 vigilancias judiciales y se realizaron las siguientes actividades:\n\n• Recepción de la solicitud de Vigilancia  Judicial Administrativa.\n• Reparto\n• Recopilación de información.\n• Auto de apertura / No apertura. \n• Resolución. (En las vigilancias en las que se dio apertura). \n• Comunicación final. \nTrimestre 4\nDurante el cuarto trimestre del 2023 se tramitaron un total de 41 vigilancias judiciales y se realizaron las siguientes actividades:\n\n• Recepción de la solicitud de Vigilancia  Judicial Administrativa.\n• Reparto\n• Recopilación de información.\n• Auto de apertura / No apertura. \n• Resolución. (En las vigilancias en las que se dio apertura). \n• Comunicación final. "},"Trámite de Vigilancias Judiciales:\n\nhttps://etbcsj-my.sharepoint.com/:f:/g/personal/sacsma_cendoj_ramajudicial_gov_co/EqHbP9uoUPVOtIDQQHUk6w8Bbo6hu9YOB3KLLbZ0ckPy3A?e=43R5wm "]
[null,null,null,null,"Apoyo","Admin - Gestión de la Información Estadística","Seccional","Verificación de la Información estadística","Entregable",null,null,"Magistrada Consejo Seccional","Archivo de Excel Consolidado ","2023-01-01","2023-12-31",{"$f":"IFERROR(MAX(GESTION_SEG_1_TRIM!H127,GESTION_SEG_2_TRIM!H127,GESTION_SEG_3_TRIM!H127,GESTION_SEG_4_TRIM!H127),\" \")","v":0},"",{"$f":"IFERROR(_xlfn.CONCAT(\"Trimestre 1\",CHAR(10),GESTION_SEG_1_TRIM!J127,CHAR(10),\"Trimestre 2\",CHAR(10),GESTION_SEG_2_TRIM!J127,CHAR(10),\"Trimestre 3\",CHAR(10),GESTION_SEG_3_TRIM!J127,CHAR(10),\"Trimestre 4\",CHAR(10),GESTION_SEG_4_TRIM!J127),\" \")","v":"Trimestre 1\n\nTrimestre 2\n\nTrimestre 3\n\nTrimestre 4\n"},{"$f":"IFERROR(_xlfn.CONCAT(\"Trimestre 1\",CHAR(10),GESTION_SEG_1_TRIM!K127,CHAR(10),\"Trimestre 2\",CHAR(10),GESTION_SEG_2_TRIM!K127,CHAR(10),\"Trimestre 3\",CHAR(10),GESTION_SEG_3_TRIM!K127,CHAR(10),\"Trimestre 4\",CHAR(10),GESTION_SEG_4_TRIM!K127),\" \")","v":"Trimestre 1\nPara este período se evidenciaron (5) inconsistencias en la información estadística reportada en el Sistema SIERJU, así:\n\n* INCONSISTENCIAS VISITA CONSEJO SECCIONAL\t (3)\n - Juzgado 001 Civil Municipal de Manizales \t(1)\n- Juzgado 001 Promiscuo Municipal de Riosucio \t(1)\n- Despacho 006 del Tribunal Administrativo De  Caldas\t(1)\n\n * INCONSISTENCIAS ENCONTRADAS POR DESPACHO JUDICIAL \t(2)\n- Juzgado 001 Penal Municipal para Adolescentes Con Función de Control De Garantías de Manizales \t(1)\n- Juzgado 002 Penal Municipal con Función de Conocimiento de Manizales \t(1)\n\nTrimestre 2\nPara este período se evidenciaron (16) inconsistencias en la información estadística reportada en el Sistema SIERJU, así:\n\n* INCONSISTENCIAS VISITA CONSEJO SECCIONAL\t (14)\n\n - JUZGADO 001 PROMISCUO MUNICIPAL DE SALAMINA \t(1)\n- JUZGADO 001 PROMISCUO MUNICIPAL DE PUERTO SALGAR  (1)\n- JUZGADO 007 CIVIL MUNICIPAL DE MANIZALES \t(1)\n- JUZGADO 009 CIVIL MUNICIPAL DE MANIZALES           (1)\n- JUZGADO 008 CIVIL MUNICIPAL DE MANIZALES  (1)\n- JUZGADO 005 CIVIL MUNICIPAL DE MANIZALES (1)\n- JUZGADO 010 CIVIL MUNICIPAL DE MANIZALES (1)\n- JUZGADO 003 CIVIL DEL CIRCUITO DE MANIZALES (1)\n- JUZGADO 005 CIVIL DEL CIRCUITO DE MANIZALES (1) \n- JUZGADO 005 PENAL DEL CIRCUITO DE MANIZALES (1)\n- JUZGADO 005 ADMINISTRATIVO  DE MANIZALES (1)\n- JUZGADO 003 DE FAMILIA  DE MANIZALES (1)\n- JUZGADO 009 ADMINISTRATIVO  DE MANIZALES (1)\n- DESPACHO 001 DE LA SALA CIVIL FAMILIA DEL TRIBUNAL SUPERIOR DE MANIZALES (1)\n\n * INCONSISTENCIAS ENCONTRADAS POR DESPACHO JUDICIAL \t(2)\n\n- JUZGADO 002 PROMISCUO MUNICIPAL DE ANSERMA (1)\n- JUZGADO 001 PROMISCUO MUNICIPAL DE AGUADAS  \t(1)\nTrimestre 3\nPara cada visita se realizó la respectiva información estadistica reportada y se relacionaron las inconsistencias\nTrimestre 4\nPara cada visita se realizó la respectiva información estadistica reportada y se relacionaron las inconsistencias"},"Verificación estadística - Inconsistencias:\n\nhttps://etbcsj-my.sharepoint.com/:x:/g/personal/sacsma_cendoj_ramajudicial_gov_co/EcFvSQj93thOoeTN4o2-vEIBgo57vAMI2Yp6WtBKTcXqaQ?e=inBDmb"]
[null,null,null,null,"Estratégicos","Admin - Comunicación Institucional","Seccional","Elaborar la Matriz de Comunicaciones Institucional y hacer su seguimiento","Entregable",null,null,"Magistrada Consejo Seccional","Matriz de Comunicaciones","2023-01-01","2023-12-31",{"$f":"IFERROR(MAX(GESTION_SEG_1_TRIM!H128,GESTION_SEG_2_TRIM!H128,GESTION_SEG_3_TRIM!H128,GESTION_SEG_4_TRIM!H128),\" \")","v":0},null,{"$f":"IFERROR(_xlfn.CONCAT(\"Trimestre 1\",CHAR(10),GESTION_SEG_1_TRIM!J128,CHAR(10),\"Trimestre 2\",CHAR(10),GESTION_SEG_2_TRIM!J128,CHAR(10),\"Trimestre 3\",CHAR(10),GESTION_SEG_3_TRIM!J128,CHAR(10),\"Trimestre 4\",CHAR(10),GESTION_SEG_4_TRIM!J128),\" \")","v":"Trimestre 1\n\nTrimestre 2\n\nTrimestre 3\n\nTrimestre 4\n"},{"$f":"IFERROR(_xlfn.CONCAT(\"Trimestre 1\",CHAR(10),GESTION_SEG_1_TRIM!K128,CHAR(10),\"Trimestre 2\",CHAR(10),GESTION_SEG_2_TRIM!K128,CHAR(10),\"Trimestre 3\",CHAR(10),GESTION_SEG_3_TRIM!K128,CHAR(10),\"Trimestre 4\",CHAR(10),GESTION_SEG_4_TRIM!K128),\" \")","v":"Trimestre 1\nPara el primer trimestre del año 2023 se realizaron 2 Notijudiciales , se expidieron 49 acuerdos, 63 circulares, 535 oficios y  177 resoluciones y 1 seguimiento a redes sociales.\n\nPor otro lado, se hizo la audiencia pública de rendición de cuentas yasí mismo se hizo la encuesta de satisfacción correspondiente a este evento.\nTrimestre 2\nPara el segundo trimestre del año 2023 se realizaron 2 Notijudiciales , se expidieron 24 acuerdos, 39 circulares, 530 oficios y  149 resoluciones y 1 seguimiento a redes sociales.\nTrimestre 3\nPara el tercer trimestre del año 2023 no se realizaron Notijudiciales , se expidieron 15 acuerdos, 17 circulares y 147 resoluciones y 1 seguimiento a redes sociales.\nTrimestre 4\nPara el cuarto trimestre del año 2023 no se realizaron Notijudiciales , se expidieron 24 acuerdos, 62 circulares y 146 resoluciones y 1 seguimiento a redes sociales."},"Matriz de Comunicaciones:\n\nhttps://etbcsj-my.sharepoint.com/:f:/g/personal/sacsma_cendoj_ramajudicial_gov_co/EqNu9VxCLJFBpt0Ud6w2MC8Bsw2gdEmRfmPsK1Za6a67ug?e=S8rlQU"]
[null,null,null,null,"Misionales","Admin - Registro y Control de Abogados y Auxiliares de la Justicia","Seccional","Orientar al usuario interno y externo acerca del procedimiento para realizar trámites ante la URNA","Entregable",null,null,"Magistrada Consejo Seccional","Registro de usuarios que solicitan orientación","2023-01-01","2023-12-31",{"$f":"IFERROR(MAX(GESTION_SEG_1_TRIM!H129,GESTION_SEG_2_TRIM!H129,GESTION_SEG_3_TRIM!H129,GESTION_SEG_4_TRIM!H129),\" \")","v":0},null,{"$f":"IFERROR(_xlfn.CONCAT(\"Trimestre 1\",CHAR(10),GESTION_SEG_1_TRIM!J129,CHAR(10),\"Trimestre 2\",CHAR(10),GESTION_SEG_2_TRIM!J129,CHAR(10),\"Trimestre 3\",CHAR(10),GESTION_SEG_3_TRIM!J129,CHAR(10),\"Trimestre 4\",CHAR(10),GESTION_SEG_4_TRIM!J129),\" \")","v":"Trimestre 1\n\nTrimestre 2\n\nTrimestre 3\n\nTrimestre 4\n"},{"$f":"IFERROR(_xlfn.CONCAT(\"Trimestre 1\",CHAR(10),GESTION_SEG_1_TRIM!K129,CHAR(10),\"Trimestre 2\",CHAR(10),GESTION_SEG_2_TRIM!K129,CHAR(10),\"Trimestre 3\",CHAR(10),GESTION_SEG_3_TRIM!K129,CHAR(10),\"Trimestre 4\",CHAR(10),GESTION_SEG_4_TRIM!K129),\" \")","v":"Trimestre 1\nDurante este trimestre se brindo orientación a un total de 40 usuarios en diferentes temas ante la Unidad de Registro Nacional de Abogados - URNA asì:\n\n-Trámite Tarjeta Profesional: 20\n- Trámite duplicado de tarjeta: 2\n-Trámite Licencia de Judicatura: 17\n- Tràmite de Licencia Temporal: 1\nTrimestre 2\nDurante este trimestre se brindo orientación a un total de 6 usuarios en diferentes temas ante la Unidad de Registro Nacional de Abogados - URNA asì:\n\n-Trámite Tarjeta Profesional: 5\n-Trámite Licencia de Judicatura: 1\n\nTrimestre 3\nDurante este trimestre se brindo orientación a los usuarios en diferentes temas ante la Unidad de Registro Nacional de Abogados - URNA\nTrimestre 4\nDurante este trimestre se brindo orientación a 13 usuarios en diferentes temas ante la Unidad de Registro Nacional de Abogados - URNA"},"Registro de Usuarios que solicitan orientación:\n\nhttps://etbcsj-my.sharepoint.com/:f:/g/personal/sacsma_cendoj_ramajudicial_gov_co/Eg073ZVB7TBJsyGLYaeSV24Ba6Wk43EG4TPO1cqUqIDE_Q?e=msfhNf "]
[null,null,null,null,null,null,null,null,null,null,null,null,null,null,null,{"$f":"IFERROR(MAX(GESTION_SEG_1_TRIM!H130,GESTION_SEG_2_TRIM!H130,GESTION_SEG_3_TRIM!H130,GESTION_SEG_4_TRIM!H130),\" \")","v":0},null,{"$f":"IFERROR(_xlfn.CONCAT(\"Trimestre 1\",CHAR(10),GESTION_SEG_1_TRIM!J130,CHAR(10),\"Trimestre 2\",CHAR(10),GESTION_SEG_2_TRIM!J130,CHAR(10),\"Trimestre 3\",CHAR(10),GESTION_SEG_3_TRIM!J130,CHAR(10),\"Trimestre 4\",CHAR(10),GESTION_SEG_4_TRIM!J130),\" \")","v":"Trimestre 1\n\nTrimestre 2\n\nTrimestre 3\n\nTrimestre 4\n"},{"$f":"IFERROR(_xlfn.CONCAT(\"Trimestre 1\",CHAR(10),GESTION_SEG_1_TRIM!K130,CHAR(10),\"Trimestre 2\",CHAR(10),GESTION_SEG_2_TRIM!K130,CHAR(10),\"Trimestre 3\",CHAR(10),GESTION_SEG_3_TRIM!K130,CHAR(10),\"Trimestre 4\",CHAR(10),GESTION_SEG_4_TRIM!K130),\" \")","v":"Trimestre 1\n\nTrimestre 2\n\nTrimestre 3\n\nTrimestre 4\n"}]
[null,null,null,null,null,null,null,null,null,null,null,null,null,null,null,{"$f":"IFERROR(MAX(GESTION_SEG_1_TRIM!H131,GESTION_SEG_2_TRIM!H131,GESTION_SEG_3_TRIM!H131,GESTION_SEG_4_TRIM!H131),\" \")","v":0},null,{"$f":"IFERROR(_xlfn.CONCAT(\"Trimestre 1\",CHAR(10),GESTION_SEG_1_TRIM!J131,CHAR(10),\"Trimestre 2\",CHAR(10),GESTION_SEG_2_TRIM!J131,CHAR(10),\"Trimestre 3\",CHAR(10),GESTION_SEG_3_TRIM!J131,CHAR(10),\"Trimestre 4\",CHAR(10),GESTION_SEG_4_TRIM!J131),\" \")","v":"Trimestre 1\n\nTrimestre 2\n\nTrimestre 3\n\nTrimestre 4\n"},{"$f":"IFERROR(_xlfn.CONCAT(\"Trimestre 1\",CHAR(10),GESTION_SEG_1_TRIM!K131,CHAR(10),\"Trimestre 2\",CHAR(10),GESTION_SEG_2_TRIM!K131,CHAR(10),\"Trimestre 3\",CHAR(10),GESTION_SEG_3_TRIM!K131,CHAR(10),\"Trimestre 4\",CHAR(10),GESTION_SEG_4_TRIM!K131),\" \")","v":"Trimestre 1\n\nTrimestre 2\n\nTrimestre 3\n\nTrimestre 4\n"}]
[null,null,null,null,null,null,null,null,null,null,null,null,null,null,null,{"$f":"IFERROR(MAX(GESTION_SEG_1_TRIM!H132,GESTION_SEG_2_TRIM!H132,GESTION_SEG_3_TRIM!H132,GESTION_SEG_4_TRIM!H132),\" \")","v":0},null,{"$f":"IFERROR(_xlfn.CONCAT(\"Trimestre 1\",CHAR(10),GESTION_SEG_1_TRIM!J132,CHAR(10),\"Trimestre 2\",CHAR(10),GESTION_SEG_2_TRIM!J132,CHAR(10),\"Trimestre 3\",CHAR(10),GESTION_SEG_3_TRIM!J132,CHAR(10),\"Trimestre 4\",CHAR(10),GESTION_SEG_4_TRIM!J132),\" \")","v":"Trimestre 1\n\nTrimestre 2\n\nTrimestre 3\n\nTrimestre 4\n"},{"$f":"IFERROR(_xlfn.CONCAT(\"Trimestre 1\",CHAR(10),GESTION_SEG_1_TRIM!K132,CHAR(10),\"Trimestre 2\",CHAR(10),GESTION_SEG_2_TRIM!K132,CHAR(10),\"Trimestre 3\",CHAR(10),GESTION_SEG_3_TRIM!K132,CHAR(10),\"Trimestre 4\",CHAR(10),GESTION_SEG_4_TRIM!K132),\" \")","v":"Trimestre 1\n\nTrimestre 2\n\nTrimestre 3\n\nTrimestre 4\n"}]
[null,null,null,null,null,null,null,null,null,null,null,null,null,null,null,{"$f":"IFERROR(MAX(GESTION_SEG_1_TRIM!H133,GESTION_SEG_2_TRIM!H133,GESTION_SEG_3_TRIM!H133,GESTION_SEG_4_TRIM!H133),\" \")","v":0},"",{"$f":"IFERROR(_xlfn.CONCAT(\"Trimestre 1\",CHAR(10),GESTION_SEG_1_TRIM!J133,CHAR(10),\"Trimestre 2\",CHAR(10),GESTION_SEG_2_TRIM!J133,CHAR(10),\"Trimestre 3\",CHAR(10),GESTION_SEG_3_TRIM!J133,CHAR(10),\"Trimestre 4\",CHAR(10),GESTION_SEG_4_TRIM!J133),\" \")","v":"Trimestre 1\n\nTrimestre 2\n\nTrimestre 3\n\nTrimestre 4\n"},{"$f":"IFERROR(_xlfn.CONCAT(\"Trimestre 1\",CHAR(10),GESTION_SEG_1_TRIM!K133,CHAR(10),\"Trimestre 2\",CHAR(10),GESTION_SEG_2_TRIM!K133,CHAR(10),\"Trimestre 3\",CHAR(10),GESTION_SEG_3_TRIM!K133,CHAR(10),\"Trimestre 4\",CHAR(10),GESTION_SEG_4_TRIM!K133),\" \")","v":"Trimestre 1\n\nTrimestre 2\n\nTrimestre 3\n\nTrimestre 4\n"}]
[null,null,null,null,null,null,null,null,null,null,null,null,null,null,null,{"$f":"IFERROR(MAX(GESTION_SEG_1_TRIM!H134,GESTION_SEG_2_TRIM!H134,GESTION_SEG_3_TRIM!H134,GESTION_SEG_4_TRIM!H134),\" \")","v":0},"",{"$f":"IFERROR(_xlfn.CONCAT(\"Trimestre 1\",CHAR(10),GESTION_SEG_1_TRIM!J134,CHAR(10),\"Trimestre 2\",CHAR(10),GESTION_SEG_2_TRIM!J134,CHAR(10),\"Trimestre 3\",CHAR(10),GESTION_SEG_3_TRIM!J134,CHAR(10),\"Trimestre 4\",CHAR(10),GESTION_SEG_4_TRIM!J134),\" \")","v":"Trimestre 1\n\nTrimestre 2\n\nTrimestre 3\n\nTrimestre 4\n"},{"$f":"IFERROR(_xlfn.CONCAT(\"Trimestre 1\",CHAR(10),GESTION_SEG_1_TRIM!K134,CHAR(10),\"Trimestre 2\",CHAR(10),GESTION_SEG_2_TRIM!K134,CHAR(10),\"Trimestre 3\",CHAR(10),GESTION_SEG_3_TRIM!K134,CHAR(10),\"Trimestre 4\",CHAR(10),GESTION_SEG_4_TRIM!K134),\" \")","v":"Trimestre 1\n\nTrimestre 2\n\nTrimestre 3\n\nTrimestre 4\n"}]
[null,null,null,null,null,null,null,null,null,null,null,null,null,null,null,{"$f":"IFERROR(MAX(GESTION_SEG_1_TRIM!H135,GESTION_SEG_2_TRIM!H135,GESTION_SEG_3_TRIM!H135,GESTION_SEG_4_TRIM!H135),\" \")","v":0},{"$f":"IFERROR(P135/J135,\"\")","v":""},{"$f":"IFERROR(_xlfn.CONCAT(\"Trimestre 1\",CHAR(10),GESTION_SEG_1_TRIM!J135,CHAR(10),\"Trimestre 2\",CHAR(10),GESTION_SEG_2_TRIM!J135,CHAR(10),\"Trimestre 3\",CHAR(10),GESTION_SEG_3_TRIM!J135,CHAR(10),\"Trimestre 4\",CHAR(10),GESTION_SEG_4_TRIM!J135),\" \")","v":"Trimestre 1\n\nTrimestre 2\n\nTrimestre 3\n\nTrimestre 4\n"},{"$f":"IFERROR(_xlfn.CONCAT(\"Trimestre 1\",CHAR(10),GESTION_SEG_1_TRIM!K135,CHAR(10),\"Trimestre 2\",CHAR(10),GESTION_SEG_2_TRIM!K135,CHAR(10),\"Trimestre 3\",CHAR(10),GESTION_SEG_3_TRIM!K135,CHAR(10),\"Trimestre 4\",CHAR(10),GESTION_SEG_4_TRIM!K135),\" \")","v":"Trimestre 1\n\nTrimestre 2\n\nTrimestre 3\n\nTrimestre 4\n"}]
[null,null,"3. Fortalecer el Sistema integrado de Gestión de la Rama, orientado a la implementación y certificación de las normas antisoborno.","1. Gestionar el desarrollo de las competencias, la toma de conciencia , la cultura  organizacional  y el compromiso de los  servidores judiciales, contratistas, practicantes y  judicantes de contribuir a generar valor público en la administración de justicia, en el marco de  cumplimiento de los requisitos  aplicables y el comportamiento ético.\n3. Fomentar la transparencia y la participación generando lineamientos y promoviendo la rendición de cuentas ,la consulta, reporte y planteamiento de inquietudes en relación con las decisiones y aspectos del SIGCMA.",null,null,null,null,null,null,null,null,null,null,null,{"$f":"IFERROR(MAX(GESTION_SEG_1_TRIM!H136,GESTION_SEG_2_TRIM!H136,GESTION_SEG_3_TRIM!H136,GESTION_SEG_4_TRIM!H136),\" \")","v":0},"",{"$f":"IFERROR(_xlfn.CONCAT(\"Trimestre 1\",CHAR(10),GESTION_SEG_1_TRIM!J136,CHAR(10),\"Trimestre 2\",CHAR(10),GESTION_SEG_2_TRIM!J136,CHAR(10),\"Trimestre 3\",CHAR(10),GESTION_SEG_3_TRIM!J136,CHAR(10),\"Trimestre 4\",CHAR(10),GESTION_SEG_4_TRIM!J136),\" \")","v":"Trimestre 1\n\nTrimestre 2\n\nTrimestre 3\n\nTrimestre 4\n"},{"$f":"IFERROR(_xlfn.CONCAT(\"Trimestre 1\",CHAR(10),GESTION_SEG_1_TRIM!K136,CHAR(10),\"Trimestre 2\",CHAR(10),GESTION_SEG_2_TRIM!K136,CHAR(10),\"Trimestre 3\",CHAR(10),GESTION_SEG_3_TRIM!K136,CHAR(10),\"Trimestre 4\",CHAR(10),GESTION_SEG_4_TRIM!K136),\" \")","v":"Trimestre 1\n\nTrimestre 2\n\nTrimestre 3\n\nTrimestre 4\n"}]
[null,null,null,null,null,null,null,null,null,null,null,null,null,null,null,{"$f":"IFERROR(MAX(GESTION_SEG_1_TRIM!H137,GESTION_SEG_2_TRIM!H137,GESTION_SEG_3_TRIM!H137,GESTION_SEG_4_TRIM!H137),\" \")","v":0},"",{"$f":"IFERROR(_xlfn.CONCAT(\"Trimestre 1\",CHAR(10),GESTION_SEG_1_TRIM!J137,CHAR(10),\"Trimestre 2\",CHAR(10),GESTION_SEG_2_TRIM!J137,CHAR(10),\"Trimestre 3\",CHAR(10),GESTION_SEG_3_TRIM!J137,CHAR(10),\"Trimestre 4\",CHAR(10),GESTION_SEG_4_TRIM!J137),\" \")","v":"Trimestre 1\n\nTrimestre 2\n\nTrimestre 3\n\nTrimestre 4\n"},{"$f":"IFERROR(_xlfn.CONCAT(\"Trimestre 1\",CHAR(10),GESTION_SEG_1_TRIM!K137,CHAR(10),\"Trimestre 2\",CHAR(10),GESTION_SEG_2_TRIM!K137,CHAR(10),\"Trimestre 3\",CHAR(10),GESTION_SEG_3_TRIM!K137,CHAR(10),\"Trimestre 4\",CHAR(10),GESTION_SEG_4_TRIM!K137),\" \")","v":"Trimestre 1\n\nTrimestre 2\n\nTrimestre 3\n\nTrimestre 4\n"}]
[null,null,null,null,null,null,null,null,null,null,null,null,null,null,null,{"$f":"IFERROR(MAX(GESTION_SEG_1_TRIM!H138,GESTION_SEG_2_TRIM!H138,GESTION_SEG_3_TRIM!H138,GESTION_SEG_4_TRIM!H138),\" \")","v":0},null,{"$f":"IFERROR(_xlfn.CONCAT(\"Trimestre 1\",CHAR(10),GESTION_SEG_1_TRIM!J138,CHAR(10),\"Trimestre 2\",CHAR(10),GESTION_SEG_2_TRIM!J138,CHAR(10),\"Trimestre 3\",CHAR(10),GESTION_SEG_3_TRIM!J138,CHAR(10),\"Trimestre 4\",CHAR(10),GESTION_SEG_4_TRIM!J138),\" \")","v":"Trimestre 1\n\nTrimestre 2\n\nTrimestre 3\n\nTrimestre 4\n"},{"$f":"IFERROR(_xlfn.CONCAT(\"Trimestre 1\",CHAR(10),GESTION_SEG_1_TRIM!K138,CHAR(10),\"Trimestre 2\",CHAR(10),GESTION_SEG_2_TRIM!K138,CHAR(10),\"Trimestre 3\",CHAR(10),GESTION_SEG_3_TRIM!K138,CHAR(10),\"Trimestre 4\",CHAR(10),GESTION_SEG_4_TRIM!K138),\" \")","v":"Trimestre 1\n\nTrimestre 2\n\nTrimestre 3\n\nTrimestre 4\n"}]
[null,null,null,null,null,null,null,null,null,null,null,null,null,null,null,{"$f":"IFERROR(MAX(GESTION_SEG_1_TRIM!H139,GESTION_SEG_2_TRIM!H139,GESTION_SEG_3_TRIM!H139,GESTION_SEG_4_TRIM!H139),\" \")","v":0},null,{"$f":"IFERROR(_xlfn.CONCAT(\"Trimestre 1\",CHAR(10),GESTION_SEG_1_TRIM!J139,CHAR(10),\"Trimestre 2\",CHAR(10),GESTION_SEG_2_TRIM!J139,CHAR(10),\"Trimestre 3\",CHAR(10),GESTION_SEG_3_TRIM!J139,CHAR(10),\"Trimestre 4\",CHAR(10),GESTION_SEG_4_TRIM!J139),\" \")","v":"Trimestre 1\n\nTrimestre 2\n\nTrimestre 3\n\nTrimestre 4\n"},{"$f":"IFERROR(_xlfn.CONCAT(\"Trimestre 1\",CHAR(10),GESTION_SEG_1_TRIM!K139,CHAR(10),\"Trimestre 2\",CHAR(10),GESTION_SEG_2_TRIM!K139,CHAR(10),\"Trimestre 3\",CHAR(10),GESTION_SEG_3_TRIM!K139,CHAR(10),\"Trimestre 4\",CHAR(10),GESTION_SEG_4_TRIM!K139),\" \")","v":"Trimestre 1\n\nTrimestre 2\n\nTrimestre 3\n\nTrimestre 4\n"}]
[null,null,null,null,null,null,null,null,null,null,null,null,null,null,null,{"$f":"IFERROR(MAX(GESTION_SEG_1_TRIM!H140,GESTION_SEG_2_TRIM!H140,GESTION_SEG_3_TRIM!H140,GESTION_SEG_4_TRIM!H140),\" \")","v":0},null,{"$f":"IFERROR(_xlfn.CONCAT(\"Trimestre 1\",CHAR(10),GESTION_SEG_1_TRIM!J140,CHAR(10),\"Trimestre 2\",CHAR(10),GESTION_SEG_2_TRIM!J140,CHAR(10),\"Trimestre 3\",CHAR(10),GESTION_SEG_3_TRIM!J140,CHAR(10),\"Trimestre 4\",CHAR(10),GESTION_SEG_4_TRIM!J140),\" \")","v":"Trimestre 1\n\nTrimestre 2\n\nTrimestre 3\n\nTrimestre 4\n"},{"$f":"IFERROR(_xlfn.CONCAT(\"Trimestre 1\",CHAR(10),GESTION_SEG_1_TRIM!K140,CHAR(10),\"Trimestre 2\",CHAR(10),GESTION_SEG_2_TRIM!K140,CHAR(10),\"Trimestre 3\",CHAR(10),GESTION_SEG_3_TRIM!K140,CHAR(10),\"Trimestre 4\",CHAR(10),GESTION_SEG_4_TRIM!K140),\" \")","v":"Trimestre 1\n\nTrimestre 2\n\nTrimestre 3\n\nTrimestre 4\n"}]
[null,null,null,null,null,null,null,null,null,null,null,null,null,null,null,{"$f":"IFERROR(MAX(GESTION_SEG_1_TRIM!H141,GESTION_SEG_2_TRIM!H141,GESTION_SEG_3_TRIM!H141,GESTION_SEG_4_TRIM!H141),\" \")","v":0},null,{"$f":"IFERROR(_xlfn.CONCAT(\"Trimestre 1\",CHAR(10),GESTION_SEG_1_TRIM!J141,CHAR(10),\"Trimestre 2\",CHAR(10),GESTION_SEG_2_TRIM!J141,CHAR(10),\"Trimestre 3\",CHAR(10),GESTION_SEG_3_TRIM!J141,CHAR(10),\"Trimestre 4\",CHAR(10),GESTION_SEG_4_TRIM!J141),\" \")","v":"Trimestre 1\n\nTrimestre 2\n\nTrimestre 3\n\nTrimestre 4\n"},{"$f":"IFERROR(_xlfn.CONCAT(\"Trimestre 1\",CHAR(10),GESTION_SEG_1_TRIM!K141,CHAR(10),\"Trimestre 2\",CHAR(10),GESTION_SEG_2_TRIM!K141,CHAR(10),\"Trimestre 3\",CHAR(10),GESTION_SEG_3_TRIM!K141,CHAR(10),\"Trimestre 4\",CHAR(10),GESTION_SEG_4_TRIM!K141),\" \")","v":"Trimestre 1\n\nTrimestre 2\n\nTrimestre 3\n\nTrimestre 4\n"}]
[null,null,null,null,null,null,null,null,null,null,null,null,null,null,null,{"$f":"IFERROR(MAX(GESTION_SEG_1_TRIM!H142,GESTION_SEG_2_TRIM!H142,GESTION_SEG_3_TRIM!H142,GESTION_SEG_4_TRIM!H142),\" \")","v":0},null,{"$f":"IFERROR(_xlfn.CONCAT(\"Trimestre 1\",CHAR(10),GESTION_SEG_1_TRIM!J142,CHAR(10),\"Trimestre 2\",CHAR(10),GESTION_SEG_2_TRIM!J142,CHAR(10),\"Trimestre 3\",CHAR(10),GESTION_SEG_3_TRIM!J142,CHAR(10),\"Trimestre 4\",CHAR(10),GESTION_SEG_4_TRIM!J142),\" \")","v":"Trimestre 1\n\nTrimestre 2\n\nTrimestre 3\n\nTrimestre 4\n"},{"$f":"IFERROR(_xlfn.CONCAT(\"Trimestre 1\",CHAR(10),GESTION_SEG_1_TRIM!K142,CHAR(10),\"Trimestre 2\",CHAR(10),GESTION_SEG_2_TRIM!K142,CHAR(10),\"Trimestre 3\",CHAR(10),GESTION_SEG_3_TRIM!K142,CHAR(10),\"Trimestre 4\",CHAR(10),GESTION_SEG_4_TRIM!K142),\" \")","v":"Trimestre 1\n\nTrimestre 2\n\nTrimestre 3\n\nTrimestre 4\n"}]
[null,null,null,null,null,null,null,null,null,null,null,null,null,null,null,{"$f":"IFERROR(MAX(GESTION_SEG_1_TRIM!H143,GESTION_SEG_2_TRIM!H143,GESTION_SEG_3_TRIM!H143,GESTION_SEG_4_TRIM!H143),\" \")","v":0},"",{"$f":"IFERROR(_xlfn.CONCAT(\"Trimestre 1\",CHAR(10),GESTION_SEG_1_TRIM!J143,CHAR(10),\"Trimestre 2\",CHAR(10),GESTION_SEG_2_TRIM!J143,CHAR(10),\"Trimestre 3\",CHAR(10),GESTION_SEG_3_TRIM!J143,CHAR(10),\"Trimestre 4\",CHAR(10),GESTION_SEG_4_TRIM!J143),\" \")","v":"Trimestre 1\n\nTrimestre 2\n\nTrimestre 3\n\nTrimestre 4\n"},{"$f":"IFERROR(_xlfn.CONCAT(\"Trimestre 1\",CHAR(10),GESTION_SEG_1_TRIM!K143,CHAR(10),\"Trimestre 2\",CHAR(10),GESTION_SEG_2_TRIM!K143,CHAR(10),\"Trimestre 3\",CHAR(10),GESTION_SEG_3_TRIM!K143,CHAR(10),\"Trimestre 4\",CHAR(10),GESTION_SEG_4_TRIM!K143),\" \")","v":"Trimestre 1\n\nTrimestre 2\n\nTrimestre 3\n\nTrimestre 4\n"}]
[null,null,null,null,null,null,null,null,null,null,null,null,null,null,null,{"$f":"IFERROR(MAX(GESTION_SEG_1_TRIM!H144,GESTION_SEG_2_TRIM!H144,GESTION_SEG_3_TRIM!H144,GESTION_SEG_4_TRIM!H144),\" \")","v":0},"",{"$f":"IFERROR(_xlfn.CONCAT(\"Trimestre 1\",CHAR(10),GESTION_SEG_1_TRIM!J144,CHAR(10),\"Trimestre 2\",CHAR(10),GESTION_SEG_2_TRIM!J144,CHAR(10),\"Trimestre 3\",CHAR(10),GESTION_SEG_3_TRIM!J144,CHAR(10),\"Trimestre 4\",CHAR(10),GESTION_SEG_4_TRIM!J144),\" \")","v":"Trimestre 1\n\nTrimestre 2\n\nTrimestre 3\n\nTrimestre 4\n"},{"$f":"IFERROR(_xlfn.CONCAT(\"Trimestre 1\",CHAR(10),GESTION_SEG_1_TRIM!K144,CHAR(10),\"Trimestre 2\",CHAR(10),GESTION_SEG_2_TRIM!K144,CHAR(10),\"Trimestre 3\",CHAR(10),GESTION_SEG_3_TRIM!K144,CHAR(10),\"Trimestre 4\",CHAR(10),GESTION_SEG_4_TRIM!K144),\" \")","v":"Trimestre 1\n\nTrimestre 2\n\nTrimestre 3\n\nTrimestre 4\n"}]
[null,null,null,null,null,null,null,null,null,null,null,null,null,null,null,{"$f":"IFERROR(MAX(GESTION_SEG_1_TRIM!H145,GESTION_SEG_2_TRIM!H145,GESTION_SEG_3_TRIM!H145,GESTION_SEG_4_TRIM!H145),\" \")","v":0},"",{"$f":"IFERROR(_xlfn.CONCAT(\"Trimestre 1\",CHAR(10),GESTION_SEG_1_TRIM!J145,CHAR(10),\"Trimestre 2\",CHAR(10),GESTION_SEG_2_TRIM!J145,CHAR(10),\"Trimestre 3\",CHAR(10),GESTION_SEG_3_TRIM!J145,CHAR(10),\"Trimestre 4\",CHAR(10),GESTION_SEG_4_TRIM!J145),\" \")","v":"Trimestre 1\n\nTrimestre 2\n\nTrimestre 3\n\nTrimestre 4\n"},{"$f":"IFERROR(_xlfn.CONCAT(\"Trimestre 1\",CHAR(10),GESTION_SEG_1_TRIM!K145,CHAR(10),\"Trimestre 2\",CHAR(10),GESTION_SEG_2_TRIM!K145,CHAR(10),\"Trimestre 3\",CHAR(10),GESTION_SEG_3_TRIM!K145,CHAR(10),\"Trimestre 4\",CHAR(10),GESTION_SEG_4_TRIM!K145),\" \")","v":"Trimestre 1\n\nTrimestre 2\n\nTrimestre 3\n\nTrimestre 4\n"}]
[null,null,"4. Aumentar la confianza, la cercanía y acceso a los servicios de la Rama Judicial a través, entre otros, de una comunicación clara y asertiva con la ciudadanía.","3. Fomentar la transparencia y la participación generando lineamientos y promoviendo la rendición de cuentas ,la consulta, reporte y planteamiento de inquietudes en relación con las decisiones y aspectos del SIGCMA.",null,null,null,null,null,null,null,null,null,null,null,{"$f":"IFERROR(MAX(GESTION_SEG_1_TRIM!H146,GESTION_SEG_2_TRIM!H146,GESTION_SEG_3_TRIM!H146,GESTION_SEG_4_TRIM!H146),\" \")","v":0},"",{"$f":"IFERROR(_xlfn.CONCAT(\"Trimestre 1\",CHAR(10),GESTION_SEG_1_TRIM!J146,CHAR(10),\"Trimestre 2\",CHAR(10),GESTION_SEG_2_TRIM!J146,CHAR(10),\"Trimestre 3\",CHAR(10),GESTION_SEG_3_TRIM!J146,CHAR(10),\"Trimestre 4\",CHAR(10),GESTION_SEG_4_TRIM!J146),\" \")","v":"Trimestre 1\n\nTrimestre 2\n\nTrimestre 3\n\nTrimestre 4\n"},{"$f":"IFERROR(_xlfn.CONCAT(\"Trimestre 1\",CHAR(10),GESTION_SEG_1_TRIM!K146,CHAR(10),\"Trimestre 2\",CHAR(10),GESTION_SEG_2_TRIM!K146,CHAR(10),\"Trimestre 3\",CHAR(10),GESTION_SEG_3_TRIM!K146,CHAR(10),\"Trimestre 4\",CHAR(10),GESTION_SEG_4_TRIM!K146),\" \")","v":"Trimestre 1\n\nTrimestre 2\n\nTrimestre 3\n\nTrimestre 4\n"}]
[null,null,null,null,null,null,null,null,null,null,null,null,null,null,null,{"$f":"IFERROR(MAX(GESTION_SEG_1_TRIM!H147,GESTION_SEG_2_TRIM!H147,GESTION_SEG_3_TRIM!H147,GESTION_SEG_4_TRIM!H147),\" \")","v":0},"",{"$f":"IFERROR(_xlfn.CONCAT(\"Trimestre 1\",CHAR(10),GESTION_SEG_1_TRIM!J147,CHAR(10),\"Trimestre 2\",CHAR(10),GESTION_SEG_2_TRIM!J147,CHAR(10),\"Trimestre 3\",CHAR(10),GESTION_SEG_3_TRIM!J147,CHAR(10),\"Trimestre 4\",CHAR(10),GESTION_SEG_4_TRIM!J147),\" \")","v":"Trimestre 1\n\nTrimestre 2\n\nTrimestre 3\n\nTrimestre 4\n"},{"$f":"IFERROR(_xlfn.CONCAT(\"Trimestre 1\",CHAR(10),GESTION_SEG_1_TRIM!K147,CHAR(10),\"Trimestre 2\",CHAR(10),GESTION_SEG_2_TRIM!K147,CHAR(10),\"Trimestre 3\",CHAR(10),GESTION_SEG_3_TRIM!K147,CHAR(10),\"Trimestre 4\",CHAR(10),GESTION_SEG_4_TRIM!K147),\" \")","v":"Trimestre 1\n\nTrimestre 2\n\nTrimestre 3\n\nTrimestre 4\n"}]
[null,null,null,null,null,null,null,null,null,null,null,null,null,null,null,{"$f":"IFERROR(MAX(GESTION_SEG_1_TRIM!H148,GESTION_SEG_2_TRIM!H148,GESTION_SEG_3_TRIM!H148,GESTION_SEG_4_TRIM!H148),\" \")","v":0},null,{"$f":"IFERROR(_xlfn.CONCAT(\"Trimestre 1\",CHAR(10),GESTION_SEG_1_TRIM!J148,CHAR(10),\"Trimestre 2\",CHAR(10),GESTION_SEG_2_TRIM!J148,CHAR(10),\"Trimestre 3\",CHAR(10),GESTION_SEG_3_TRIM!J148,CHAR(10),\"Trimestre 4\",CHAR(10),GESTION_SEG_4_TRIM!J148),\" \")","v":"Trimestre 1\n\nTrimestre 2\n\nTrimestre 3\n\nTrimestre 4\n"},{"$f":"IFERROR(_xlfn.CONCAT(\"Trimestre 1\",CHAR(10),GESTION_SEG_1_TRIM!K148,CHAR(10),\"Trimestre 2\",CHAR(10),GESTION_SEG_2_TRIM!K148,CHAR(10),\"Trimestre 3\",CHAR(10),GESTION_SEG_3_TRIM!K148,CHAR(10),\"Trimestre 4\",CHAR(10),GESTION_SEG_4_TRIM!K148),\" \")","v":"Trimestre 1\n\nTrimestre 2\n\nTrimestre 3\n\nTrimestre 4\n"}]
[null,null,null,null,null,null,null,null,null,null,null,null,null,null,null,{"$f":"IFERROR(MAX(GESTION_SEG_1_TRIM!H149,GESTION_SEG_2_TRIM!H149,GESTION_SEG_3_TRIM!H149,GESTION_SEG_4_TRIM!H149),\" \")","v":0},null,{"$f":"IFERROR(_xlfn.CONCAT(\"Trimestre 1\",CHAR(10),GESTION_SEG_1_TRIM!J149,CHAR(10),\"Trimestre 2\",CHAR(10),GESTION_SEG_2_TRIM!J149,CHAR(10),\"Trimestre 3\",CHAR(10),GESTION_SEG_3_TRIM!J149,CHAR(10),\"Trimestre 4\",CHAR(10),GESTION_SEG_4_TRIM!J149),\" \")","v":"Trimestre 1\n\nTrimestre 2\n\nTrimestre 3\n\nTrimestre 4\n"},{"$f":"IFERROR(_xlfn.CONCAT(\"Trimestre 1\",CHAR(10),GESTION_SEG_1_TRIM!K149,CHAR(10),\"Trimestre 2\",CHAR(10),GESTION_SEG_2_TRIM!K149,CHAR(10),\"Trimestre 3\",CHAR(10),GESTION_SEG_3_TRIM!K149,CHAR(10),\"Trimestre 4\",CHAR(10),GESTION_SEG_4_TRIM!K149),\" \")","v":"Trimestre 1\n\nTrimestre 2\n\nTrimestre 3\n\nTrimestre 4\n"}]
[null,null,null,null,null,null,null,null,null,null,null,null,null,null,null,{"$f":"IFERROR(MAX(GESTION_SEG_1_TRIM!H150,GESTION_SEG_2_TRIM!H150,GESTION_SEG_3_TRIM!H150,GESTION_SEG_4_TRIM!H150),\" \")","v":0},null,{"$f":"IFERROR(_xlfn.CONCAT(\"Trimestre 1\",CHAR(10),GESTION_SEG_1_TRIM!J150,CHAR(10),\"Trimestre 2\",CHAR(10),GESTION_SEG_2_TRIM!J150,CHAR(10),\"Trimestre 3\",CHAR(10),GESTION_SEG_3_TRIM!J150,CHAR(10),\"Trimestre 4\",CHAR(10),GESTION_SEG_4_TRIM!J150),\" \")","v":"Trimestre 1\n\nTrimestre 2\n\nTrimestre 3\n\nTrimestre 4\n"},{"$f":"IFERROR(_xlfn.CONCAT(\"Trimestre 1\",CHAR(10),GESTION_SEG_1_TRIM!K150,CHAR(10),\"Trimestre 2\",CHAR(10),GESTION_SEG_2_TRIM!K150,CHAR(10),\"Trimestre 3\",CHAR(10),GESTION_SEG_3_TRIM!K150,CHAR(10),\"Trimestre 4\",CHAR(10),GESTION_SEG_4_TRIM!K150),\" \")","v":"Trimestre 1\n\nTrimestre 2\n\nTrimestre 3\n\nTrimestre 4\n"}]
[null,null,null,null,null,null,null,null,null,null,null,null,null,null,null,{"$f":"IFERROR(MAX(GESTION_SEG_1_TRIM!H151,GESTION_SEG_2_TRIM!H151,GESTION_SEG_3_TRIM!H151,GESTION_SEG_4_TRIM!H151),\" \")","v":0},null,{"$f":"IFERROR(_xlfn.CONCAT(\"Trimestre 1\",CHAR(10),GESTION_SEG_1_TRIM!J151,CHAR(10),\"Trimestre 2\",CHAR(10),GESTION_SEG_2_TRIM!J151,CHAR(10),\"Trimestre 3\",CHAR(10),GESTION_SEG_3_TRIM!J151,CHAR(10),\"Trimestre 4\",CHAR(10),GESTION_SEG_4_TRIM!J151),\" \")","v":"Trimestre 1\n\nTrimestre 2\n\nTrimestre 3\n\nTrimestre 4\n"},{"$f":"IFERROR(_xlfn.CONCAT(\"Trimestre 1\",CHAR(10),GESTION_SEG_1_TRIM!K151,CHAR(10),\"Trimestre 2\",CHAR(10),GESTION_SEG_2_TRIM!K151,CHAR(10),\"Trimestre 3\",CHAR(10),GESTION_SEG_3_TRIM!K151,CHAR(10),\"Trimestre 4\",CHAR(10),GESTION_SEG_4_TRIM!K151),\" \")","v":"Trimestre 1\n\nTrimestre 2\n\nTrimestre 3\n\nTrimestre 4\n"}]
[null,null,null,null,null,null,null,null,null,null,null,null,null,null,null,{"$f":"IFERROR(MAX(GESTION_SEG_1_TRIM!H152,GESTION_SEG_2_TRIM!H152,GESTION_SEG_3_TRIM!H152,GESTION_SEG_4_TRIM!H152),\" \")","v":0},null,{"$f":"IFERROR(_xlfn.CONCAT(\"Trimestre 1\",CHAR(10),GESTION_SEG_1_TRIM!J152,CHAR(10),\"Trimestre 2\",CHAR(10),GESTION_SEG_2_TRIM!J152,CHAR(10),\"Trimestre 3\",CHAR(10),GESTION_SEG_3_TRIM!J152,CHAR(10),\"Trimestre 4\",CHAR(10),GESTION_SEG_4_TRIM!J152),\" \")","v":"Trimestre 1\n\nTrimestre 2\n\nTrimestre 3\n\nTrimestre 4\n"},{"$f":"IFERROR(_xlfn.CONCAT(\"Trimestre 1\",CHAR(10),GESTION_SEG_1_TRIM!K152,CHAR(10),\"Trimestre 2\",CHAR(10),GESTION_SEG_2_TRIM!K152,CHAR(10),\"Trimestre 3\",CHAR(10),GESTION_SEG_3_TRIM!K152,CHAR(10),\"Trimestre 4\",CHAR(10),GESTION_SEG_4_TRIM!K152),\" \")","v":"Trimestre 1\n\nTrimestre 2\n\nTrimestre 3\n\nTrimestre 4\n"}]
[null,null,null,null,null,null,null,null,null,null,null,null,null,null,null,{"$f":"IFERROR(MAX(GESTION_SEG_1_TRIM!H153,GESTION_SEG_2_TRIM!H153,GESTION_SEG_3_TRIM!H153,GESTION_SEG_4_TRIM!H153),\" \")","v":0},"",{"$f":"IFERROR(_xlfn.CONCAT(\"Trimestre 1\",CHAR(10),GESTION_SEG_1_TRIM!J153,CHAR(10),\"Trimestre 2\",CHAR(10),GESTION_SEG_2_TRIM!J153,CHAR(10),\"Trimestre 3\",CHAR(10),GESTION_SEG_3_TRIM!J153,CHAR(10),\"Trimestre 4\",CHAR(10),GESTION_SEG_4_TRIM!J153),\" \")","v":"Trimestre 1\n\nTrimestre 2\n\nTrimestre 3\n\nTrimestre 4\n"},{"$f":"IFERROR(_xlfn.CONCAT(\"Trimestre 1\",CHAR(10),GESTION_SEG_1_TRIM!K153,CHAR(10),\"Trimestre 2\",CHAR(10),GESTION_SEG_2_TRIM!K153,CHAR(10),\"Trimestre 3\",CHAR(10),GESTION_SEG_3_TRIM!K153,CHAR(10),\"Trimestre 4\",CHAR(10),GESTION_SEG_4_TRIM!K153),\" \")","v":"Trimestre 1\n\nTrimestre 2\n\nTrimestre 3\n\nTrimestre 4\n"}]
[null,null,null,null,null,null,null,null,null,null,null,null,null,null,null,{"$f":"IFERROR(MAX(GESTION_SEG_1_TRIM!H154,GESTION_SEG_2_TRIM!H154,GESTION_SEG_3_TRIM!H154,GESTION_SEG_4_TRIM!H154),\" \")","v":0},"",{"$f":"IFERROR(_xlfn.CONCAT(\"Trimestre 1\",CHAR(10),GESTION_SEG_1_TRIM!J154,CHAR(10),\"Trimestre 2\",CHAR(10),GESTION_SEG_2_TRIM!J154,CHAR(10),\"Trimestre 3\",CHAR(10),GESTION_SEG_3_TRIM!J154,CHAR(10),\"Trimestre 4\",CHAR(10),GESTION_SEG_4_TRIM!J154),\" \")","v":"Trimestre 1\n\nTrimestre 2\n\nTrimestre 3\n\nTrimestre 4\n"},{"$f":"IFERROR(_xlfn.CONCAT(\"Trimestre 1\",CHAR(10),GESTION_SEG_1_TRIM!K154,CHAR(10),\"Trimestre 2\",CHAR(10),GESTION_SEG_2_TRIM!K154,CHAR(10),\"Trimestre 3\",CHAR(10),GESTION_SEG_3_TRIM!K154,CHAR(10),\"Trimestre 4\",CHAR(10),GESTION_SEG_4_TRIM!K154),\" \")","v":"Trimestre 1\n\nTrimestre 2\n\nTrimestre 3\n\nTrimestre 4\n"}]
[null,null,null,null,null,null,null,null,null,null,null,null,null,null,null,{"$f":"IFERROR(MAX(GESTION_SEG_1_TRIM!H155,GESTION_SEG_2_TRIM!H155,GESTION_SEG_3_TRIM!H155,GESTION_SEG_4_TRIM!H155),\" \")","v":0},"",{"$f":"IFERROR(_xlfn.CONCAT(\"Trimestre 1\",CHAR(10),GESTION_SEG_1_TRIM!J155,CHAR(10),\"Trimestre 2\",CHAR(10),GESTION_SEG_2_TRIM!J155,CHAR(10),\"Trimestre 3\",CHAR(10),GESTION_SEG_3_TRIM!J155,CHAR(10),\"Trimestre 4\",CHAR(10),GESTION_SEG_4_TRIM!J155),\" \")","v":"Trimestre 1\n\nTrimestre 2\n\nTrimestre 3\n\nTrimestre 4\n"},{"$f":"IFERROR(_xlfn.CONCAT(\"Trimestre 1\",CHAR(10),GESTION_SEG_1_TRIM!K155,CHAR(10),\"Trimestre 2\",CHAR(10),GESTION_SEG_2_TRIM!K155,CHAR(10),\"Trimestre 3\",CHAR(10),GESTION_SEG_3_TRIM!K155,CHAR(10),\"Trimestre 4\",CHAR(10),GESTION_SEG_4_TRIM!K155),\" \")","v":"Trimestre 1\n\nTrimestre 2\n\nTrimestre 3\n\nTrimestre 4\n"}]
[null,null,"5. Prevenir fenómenos asociados con actos de corrupción en la Rama Judicial y reducir las experiencias de corrupción de usuarios y servidores judiciales.",null,null,null,null,null,null,null,null,null,null,null,null,{"$f":"IFERROR(MAX(GESTION_SEG_1_TRIM!H156,GESTION_SEG_2_TRIM!H156,GESTION_SEG_3_TRIM!H156,GESTION_SEG_4_TRIM!H156),\" \")","v":0},"",{"$f":"IFERROR(_xlfn.CONCAT(\"Trimestre 1\",CHAR(10),GESTION_SEG_1_TRIM!J156,CHAR(10),\"Trimestre 2\",CHAR(10),GESTION_SEG_2_TRIM!J156,CHAR(10),\"Trimestre 3\",CHAR(10),GESTION_SEG_3_TRIM!J156,CHAR(10),\"Trimestre 4\",CHAR(10),GESTION_SEG_4_TRIM!J156),\" \")","v":"Trimestre 1\n\nTrimestre 2\n\nTrimestre 3\n\nTrimestre 4\n"},{"$f":"IFERROR(_xlfn.CONCAT(\"Trimestre 1\",CHAR(10),GESTION_SEG_1_TRIM!K156,CHAR(10),\"Trimestre 2\",CHAR(10),GESTION_SEG_2_TRIM!K156,CHAR(10),\"Trimestre 3\",CHAR(10),GESTION_SEG_3_TRIM!K156,CHAR(10),\"Trimestre 4\",CHAR(10),GESTION_SEG_4_TRIM!K156),\" \")","v":"Trimestre 1\n\nTrimestre 2\n\nTrimestre 3\n\nTrimestre 4\n"}]
[null,null,null,null,null,null,null,null,null,null,null,null,null,null,null,{"$f":"IFERROR(MAX(GESTION_SEG_1_TRIM!H157,GESTION_SEG_2_TRIM!H157,GESTION_SEG_3_TRIM!H157,GESTION_SEG_4_TRIM!H157),\" \")","v":0},"",{"$f":"IFERROR(_xlfn.CONCAT(\"Trimestre 1\",CHAR(10),GESTION_SEG_1_TRIM!J157,CHAR(10),\"Trimestre 2\",CHAR(10),GESTION_SEG_2_TRIM!J157,CHAR(10),\"Trimestre 3\",CHAR(10),GESTION_SEG_3_TRIM!J157,CHAR(10),\"Trimestre 4\",CHAR(10),GESTION_SEG_4_TRIM!J157),\" \")","v":"Trimestre 1\n\nTrimestre 2\n\nTrimestre 3\n\nTrimestre 4\n"},{"$f":"IFERROR(_xlfn.CONCAT(\"Trimestre 1\",CHAR(10),GESTION_SEG_1_TRIM!K157,CHAR(10),\"Trimestre 2\",CHAR(10),GESTION_SEG_2_TRIM!K157,CHAR(10),\"Trimestre 3\",CHAR(10),GESTION_SEG_3_TRIM!K157,CHAR(10),\"Trimestre 4\",CHAR(10),GESTION_SEG_4_TRIM!K157),\" \")","v":"Trimestre 1\n\nTrimestre 2\n\nTrimestre 3\n\nTrimestre 4\n"}]
[null,null,null,null,null,null,null,null,null,null,null,null,null,null,null,{"$f":"IFERROR(MAX(GESTION_SEG_1_TRIM!H158,GESTION_SEG_2_TRIM!H158,GESTION_SEG_3_TRIM!H158,GESTION_SEG_4_TRIM!H158),\" \")","v":0},null,{"$f":"IFERROR(_xlfn.CONCAT(\"Trimestre 1\",CHAR(10),GESTION_SEG_1_TRIM!J158,CHAR(10),\"Trimestre 2\",CHAR(10),GESTION_SEG_2_TRIM!J158,CHAR(10),\"Trimestre 3\",CHAR(10),GESTION_SEG_3_TRIM!J158,CHAR(10),\"Trimestre 4\",CHAR(10),GESTION_SEG_4_TRIM!J158),\" \")","v":"Trimestre 1\n\nTrimestre 2\n\nTrimestre 3\n\nTrimestre 4\n"},{"$f":"IFERROR(_xlfn.CONCAT(\"Trimestre 1\",CHAR(10),GESTION_SEG_1_TRIM!K158,CHAR(10),\"Trimestre 2\",CHAR(10),GESTION_SEG_2_TRIM!K158,CHAR(10),\"Trimestre 3\",CHAR(10),GESTION_SEG_3_TRIM!K158,CHAR(10),\"Trimestre 4\",CHAR(10),GESTION_SEG_4_TRIM!K158),\" \")","v":"Trimestre 1\n\nTrimestre 2\n\nTrimestre 3\n\nTrimestre 4\n"}]
[null,null,null,null,null,null,null,null,null,null,null,null,null,null,null,{"$f":"IFERROR(MAX(GESTION_SEG_1_TRIM!H159,GESTION_SEG_2_TRIM!H159,GESTION_SEG_3_TRIM!H159,GESTION_SEG_4_TRIM!H159),\" \")","v":0},null,{"$f":"IFERROR(_xlfn.CONCAT(\"Trimestre 1\",CHAR(10),GESTION_SEG_1_TRIM!J159,CHAR(10),\"Trimestre 2\",CHAR(10),GESTION_SEG_2_TRIM!J159,CHAR(10),\"Trimestre 3\",CHAR(10),GESTION_SEG_3_TRIM!J159,CHAR(10),\"Trimestre 4\",CHAR(10),GESTION_SEG_4_TRIM!J159),\" \")","v":"Trimestre 1\n\nTrimestre 2\n\nTrimestre 3\n\nTrimestre 4\n"},{"$f":"IFERROR(_xlfn.CONCAT(\"Trimestre 1\",CHAR(10),GESTION_SEG_1_TRIM!K159,CHAR(10),\"Trimestre 2\",CHAR(10),GESTION_SEG_2_TRIM!K159,CHAR(10),\"Trimestre 3\",CHAR(10),GESTION_SEG_3_TRIM!K159,CHAR(10),\"Trimestre 4\",CHAR(10),GESTION_SEG_4_TRIM!K159),\" \")","v":"Trimestre 1\n\nTrimestre 2\n\nTrimestre 3\n\nTrimestre 4\n"}]
[null,null,null,null,null,null,null,null,null,null,null,null,null,null,null,{"$f":"IFERROR(MAX(GESTION_SEG_1_TRIM!H160,GESTION_SEG_2_TRIM!H160,GESTION_SEG_3_TRIM!H160,GESTION_SEG_4_TRIM!H160),\" \")","v":0},null,{"$f":"IFERROR(_xlfn.CONCAT(\"Trimestre 1\",CHAR(10),GESTION_SEG_1_TRIM!J160,CHAR(10),\"Trimestre 2\",CHAR(10),GESTION_SEG_2_TRIM!J160,CHAR(10),\"Trimestre 3\",CHAR(10),GESTION_SEG_3_TRIM!J160,CHAR(10),\"Trimestre 4\",CHAR(10),GESTION_SEG_4_TRIM!J160),\" \")","v":"Trimestre 1\n\nTrimestre 2\n\nTrimestre 3\n\nTrimestre 4\n"},{"$f":"IFERROR(_xlfn.CONCAT(\"Trimestre 1\",CHAR(10),GESTION_SEG_1_TRIM!K160,CHAR(10),\"Trimestre 2\",CHAR(10),GESTION_SEG_2_TRIM!K160,CHAR(10),\"Trimestre 3\",CHAR(10),GESTION_SEG_3_TRIM!K160,CHAR(10),\"Trimestre 4\",CHAR(10),GESTION_SEG_4_TRIM!K160),\" \")","v":"Trimestre 1\n\nTrimestre 2\n\nTrimestre 3\n\nTrimestre 4\n"}]
[null,null,null,null,null,null,null,null,null,null,null,null,null,null,null,{"$f":"IFERROR(MAX(GESTION_SEG_1_TRIM!H161,GESTION_SEG_2_TRIM!H161,GESTION_SEG_3_TRIM!H161,GESTION_SEG_4_TRIM!H161),\" \")","v":0},null,{"$f":"IFERROR(_xlfn.CONCAT(\"Trimestre 1\",CHAR(10),GESTION_SEG_1_TRIM!J161,CHAR(10),\"Trimestre 2\",CHAR(10),GESTION_SEG_2_TRIM!J161,CHAR(10),\"Trimestre 3\",CHAR(10),GESTION_SEG_3_TRIM!J161,CHAR(10),\"Trimestre 4\",CHAR(10),GESTION_SEG_4_TRIM!J161),\" \")","v":"Trimestre 1\n\nTrimestre 2\n\nTrimestre 3\n\nTrimestre 4\n"},{"$f":"IFERROR(_xlfn.CONCAT(\"Trimestre 1\",CHAR(10),GESTION_SEG_1_TRIM!K161,CHAR(10),\"Trimestre 2\",CHAR(10),GESTION_SEG_2_TRIM!K161,CHAR(10),\"Trimestre 3\",CHAR(10),GESTION_SEG_3_TRIM!K161,CHAR(10),\"Trimestre 4\",CHAR(10),GESTION_SEG_4_TRIM!K161),\" \")","v":"Trimestre 1\n\nTrimestre 2\n\nTrimestre 3\n\nTrimestre 4\n"}]
[null,null,null,null,null,null,null,null,null,null,null,null,null,null,null,{"$f":"IFERROR(MAX(GESTION_SEG_1_TRIM!H162,GESTION_SEG_2_TRIM!H162,GESTION_SEG_3_TRIM!H162,GESTION_SEG_4_TRIM!H162),\" \")","v":0},null,{"$f":"IFERROR(_xlfn.CONCAT(\"Trimestre 1\",CHAR(10),GESTION_SEG_1_TRIM!J162,CHAR(10),\"Trimestre 2\",CHAR(10),GESTION_SEG_2_TRIM!J162,CHAR(10),\"Trimestre 3\",CHAR(10),GESTION_SEG_3_TRIM!J162,CHAR(10),\"Trimestre 4\",CHAR(10),GESTION_SEG_4_TRIM!J162),\" \")","v":"Trimestre 1\n\nTrimestre 2\n\nTrimestre 3\n\nTrimestre 4\n"},{"$f":"IFERROR(_xlfn.CONCAT(\"Trimestre 1\",CHAR(10),GESTION_SEG_1_TRIM!K162,CHAR(10),\"Trimestre 2\",CHAR(10),GESTION_SEG_2_TRIM!K162,CHAR(10),\"Trimestre 3\",CHAR(10),GESTION_SEG_3_TRIM!K162,CHAR(10),\"Trimestre 4\",CHAR(10),GESTION_SEG_4_TRIM!K162),\" \")","v":"Trimestre 1\n\nTrimestre 2\n\nTrimestre 3\n\nTrimestre 4\n"}]
[null,null,null,null,null,null,null,null,null,null,null,null,null,null,null,{"$f":"IFERROR(MAX(GESTION_SEG_1_TRIM!H163,GESTION_SEG_2_TRIM!H163,GESTION_SEG_3_TRIM!H163,GESTION_SEG_4_TRIM!H163),\" \")","v":0},"",{"$f":"IFERROR(_xlfn.CONCAT(\"Trimestre 1\",CHAR(10),GESTION_SEG_1_TRIM!J163,CHAR(10),\"Trimestre 2\",CHAR(10),GESTION_SEG_2_TRIM!J163,CHAR(10),\"Trimestre 3\",CHAR(10),GESTION_SEG_3_TRIM!J163,CHAR(10),\"Trimestre 4\",CHAR(10),GESTION_SEG_4_TRIM!J163),\" \")","v":"Trimestre 1\n\nTrimestre 2\n\nTrimestre 3\n\nTrimestre 4\n"},{"$f":"IFERROR(_xlfn.CONCAT(\"Trimestre 1\",CHAR(10),GESTION_SEG_1_TRIM!K163,CHAR(10),\"Trimestre 2\",CHAR(10),GESTION_SEG_2_TRIM!K163,CHAR(10),\"Trimestre 3\",CHAR(10),GESTION_SEG_3_TRIM!K163,CHAR(10),\"Trimestre 4\",CHAR(10),GESTION_SEG_4_TRIM!K163),\" \")","v":"Trimestre 1\n\nTrimestre 2\n\nTrimestre 3\n\nTrimestre 4\n"}]
[null,null,null,null,null,null,null,null,null,null,null,null,null,null,null,{"$f":"IFERROR(MAX(GESTION_SEG_1_TRIM!H164,GESTION_SEG_2_TRIM!H164,GESTION_SEG_3_TRIM!H164,GESTION_SEG_4_TRIM!H164),\" \")","v":0},"",{"$f":"IFERROR(_xlfn.CONCAT(\"Trimestre 1\",CHAR(10),GESTION_SEG_1_TRIM!J164,CHAR(10),\"Trimestre 2\",CHAR(10),GESTION_SEG_2_TRIM!J164,CHAR(10),\"Trimestre 3\",CHAR(10),GESTION_SEG_3_TRIM!J164,CHAR(10),\"Trimestre 4\",CHAR(10),GESTION_SEG_4_TRIM!J164),\" \")","v":"Trimestre 1\n\nTrimestre 2\n\nTrimestre 3\n\nTrimestre 4\n"},{"$f":"IFERROR(_xlfn.CONCAT(\"Trimestre 1\",CHAR(10),GESTION_SEG_1_TRIM!K164,CHAR(10),\"Trimestre 2\",CHAR(10),GESTION_SEG_2_TRIM!K164,CHAR(10),\"Trimestre 3\",CHAR(10),GESTION_SEG_3_TRIM!K164,CHAR(10),\"Trimestre 4\",CHAR(10),GESTION_SEG_4_TRIM!K164),\" \")","v":"Trimestre 1\n\nTrimestre 2\n\nTrimestre 3\n\nTrimestre 4\n"}]
[null,null,null,null,null,null,null,null,null,null,null,null,null,null,null,{"$f":"IFERROR(MAX(GESTION_SEG_1_TRIM!H165,GESTION_SEG_2_TRIM!H165,GESTION_SEG_3_TRIM!H165,GESTION_SEG_4_TRIM!H165),\" \")","v":0},"",{"$f":"IFERROR(_xlfn.CONCAT(\"Trimestre 1\",CHAR(10),GESTION_SEG_1_TRIM!J165,CHAR(10),\"Trimestre 2\",CHAR(10),GESTION_SEG_2_TRIM!J165,CHAR(10),\"Trimestre 3\",CHAR(10),GESTION_SEG_3_TRIM!J165,CHAR(10),\"Trimestre 4\",CHAR(10),GESTION_SEG_4_TRIM!J165),\" \")","v":"Trimestre 1\n\nTrimestre 2\n\nTrimestre 3\n\nTrimestre 4\n"},{"$f":"IFERROR(_xlfn.CONCAT(\"Trimestre 1\",CHAR(10),GESTION_SEG_1_TRIM!K165,CHAR(10),\"Trimestre 2\",CHAR(10),GESTION_SEG_2_TRIM!K165,CHAR(10),\"Trimestre 3\",CHAR(10),GESTION_SEG_3_TRIM!K165,CHAR(10),\"Trimestre 4\",CHAR(10),GESTION_SEG_4_TRIM!K165),\" \")","v":"Trimestre 1\n\nTrimestre 2\n\nTrimestre 3\n\nTrimestre 4\n"}]
[null,null,"6. Promover la rendición de cuentas y la colaboración real con la ciudadanía como fundamento para diseñar acciones de mejoramiento del acceso a la justicia.",null,null,null,null,null,null,null,null,null,null,null,null,{"$f":"IFERROR(MAX(GESTION_SEG_1_TRIM!H166,GESTION_SEG_2_TRIM!H166,GESTION_SEG_3_TRIM!H166,GESTION_SEG_4_TRIM!H166),\" \")","v":0},"",{"$f":"IFERROR(_xlfn.CONCAT(\"Trimestre 1\",CHAR(10),GESTION_SEG_1_TRIM!J166,CHAR(10),\"Trimestre 2\",CHAR(10),GESTION_SEG_2_TRIM!J166,CHAR(10),\"Trimestre 3\",CHAR(10),GESTION_SEG_3_TRIM!J166,CHAR(10),\"Trimestre 4\",CHAR(10),GESTION_SEG_4_TRIM!J166),\" \")","v":"Trimestre 1\n\nTrimestre 2\n\nTrimestre 3\n\nTrimestre 4\n"},{"$f":"IFERROR(_xlfn.CONCAT(\"Trimestre 1\",CHAR(10),GESTION_SEG_1_TRIM!K166,CHAR(10),\"Trimestre 2\",CHAR(10),GESTION_SEG_2_TRIM!K166,CHAR(10),\"Trimestre 3\",CHAR(10),GESTION_SEG_3_TRIM!K166,CHAR(10),\"Trimestre 4\",CHAR(10),GESTION_SEG_4_TRIM!K166),\" \")","v":"Trimestre 1\n\nTrimestre 2\n\nTrimestre 3\n\nTrimestre 4\n"}]
[null,null,null,null,null,null,null,null,null,null,null,null,null,null,null,{"$f":"IFERROR(MAX(GESTION_SEG_1_TRIM!H167,GESTION_SEG_2_TRIM!H167,GESTION_SEG_3_TRIM!H167,GESTION_SEG_4_TRIM!H167),\" \")","v":0},"",{"$f":"IFERROR(_xlfn.CONCAT(\"Trimestre 1\",CHAR(10),GESTION_SEG_1_TRIM!J167,CHAR(10),\"Trimestre 2\",CHAR(10),GESTION_SEG_2_TRIM!J167,CHAR(10),\"Trimestre 3\",CHAR(10),GESTION_SEG_3_TRIM!J167,CHAR(10),\"Trimestre 4\",CHAR(10),GESTION_SEG_4_TRIM!J167),\" \")","v":"Trimestre 1\n\nTrimestre 2\n\nTrimestre 3\n\nTrimestre 4\n"},{"$f":"IFERROR(_xlfn.CONCAT(\"Trimestre 1\",CHAR(10),GESTION_SEG_1_TRIM!K167,CHAR(10),\"Trimestre 2\",CHAR(10),GESTION_SEG_2_TRIM!K167,CHAR(10),\"Trimestre 3\",CHAR(10),GESTION_SEG_3_TRIM!K167,CHAR(10),\"Trimestre 4\",CHAR(10),GESTION_SEG_4_TRIM!K167),\" \")","v":"Trimestre 1\n\nTrimestre 2\n\nTrimestre 3\n\nTrimestre 4\n"}]
[null,null,null,null,null,null,null,null,null,null,null,null,null,null,null,{"$f":"IFERROR(MAX(GESTION_SEG_1_TRIM!H168,GESTION_SEG_2_TRIM!H168,GESTION_SEG_3_TRIM!H168,GESTION_SEG_4_TRIM!H168),\" \")","v":0},null,{"$f":"IFERROR(_xlfn.CONCAT(\"Trimestre 1\",CHAR(10),GESTION_SEG_1_TRIM!J168,CHAR(10),\"Trimestre 2\",CHAR(10),GESTION_SEG_2_TRIM!J168,CHAR(10),\"Trimestre 3\",CHAR(10),GESTION_SEG_3_TRIM!J168,CHAR(10),\"Trimestre 4\",CHAR(10),GESTION_SEG_4_TRIM!J168),\" \")","v":"Trimestre 1\n\nTrimestre 2\n\nTrimestre 3\n\nTrimestre 4\n"},{"$f":"IFERROR(_xlfn.CONCAT(\"Trimestre 1\",CHAR(10),GESTION_SEG_1_TRIM!K168,CHAR(10),\"Trimestre 2\",CHAR(10),GESTION_SEG_2_TRIM!K168,CHAR(10),\"Trimestre 3\",CHAR(10),GESTION_SEG_3_TRIM!K168,CHAR(10),\"Trimestre 4\",CHAR(10),GESTION_SEG_4_TRIM!K168),\" \")","v":"Trimestre 1\n\nTrimestre 2\n\nTrimestre 3\n\nTrimestre 4\n"}]
[null,null,null,null,null,null,null,null,null,null,null,null,null,null,null,{"$f":"IFERROR(MAX(GESTION_SEG_1_TRIM!H169,GESTION_SEG_2_TRIM!H169,GESTION_SEG_3_TRIM!H169,GESTION_SEG_4_TRIM!H169),\" \")","v":0},null,{"$f":"IFERROR(_xlfn.CONCAT(\"Trimestre 1\",CHAR(10),GESTION_SEG_1_TRIM!J169,CHAR(10),\"Trimestre 2\",CHAR(10),GESTION_SEG_2_TRIM!J169,CHAR(10),\"Trimestre 3\",CHAR(10),GESTION_SEG_3_TRIM!J169,CHAR(10),\"Trimestre 4\",CHAR(10),GESTION_SEG_4_TRIM!J169),\" \")","v":"Trimestre 1\n\nTrimestre 2\n\nTrimestre 3\n\nTrimestre 4\n"},{"$f":"IFERROR(_xlfn.CONCAT(\"Trimestre 1\",CHAR(10),GESTION_SEG_1_TRIM!K169,CHAR(10),\"Trimestre 2\",CHAR(10),GESTION_SEG_2_TRIM!K169,CHAR(10),\"Trimestre 3\",CHAR(10),GESTION_SEG_3_TRIM!K169,CHAR(10),\"Trimestre 4\",CHAR(10),GESTION_SEG_4_TRIM!K169),\" \")","v":"Trimestre 1\n\nTrimestre 2\n\nTrimestre 3\n\nTrimestre 4\n"}]
[null,null,null,null,null,null,null,null,null,null,null,null,null,null,null,{"$f":"IFERROR(MAX(GESTION_SEG_1_TRIM!H170,GESTION_SEG_2_TRIM!H170,GESTION_SEG_3_TRIM!H170,GESTION_SEG_4_TRIM!H170),\" \")","v":0},null,{"$f":"IFERROR(_xlfn.CONCAT(\"Trimestre 1\",CHAR(10),GESTION_SEG_1_TRIM!J170,CHAR(10),\"Trimestre 2\",CHAR(10),GESTION_SEG_2_TRIM!J170,CHAR(10),\"Trimestre 3\",CHAR(10),GESTION_SEG_3_TRIM!J170,CHAR(10),\"Trimestre 4\",CHAR(10),GESTION_SEG_4_TRIM!J170),\" \")","v":"Trimestre 1\n\nTrimestre 2\n\nTrimestre 3\n\nTrimestre 4\n"},{"$f":"IFERROR(_xlfn.CONCAT(\"Trimestre 1\",CHAR(10),GESTION_SEG_1_TRIM!K170,CHAR(10),\"Trimestre 2\",CHAR(10),GESTION_SEG_2_TRIM!K170,CHAR(10),\"Trimestre 3\",CHAR(10),GESTION_SEG_3_TRIM!K170,CHAR(10),\"Trimestre 4\",CHAR(10),GESTION_SEG_4_TRIM!K170),\" \")","v":"Trimestre 1\n\nTrimestre 2\n\nTrimestre 3\n\nTrimestre 4\n"}]
[null,null,null,null,null,null,null,null,null,null,null,null,null,null,null,{"$f":"IFERROR(MAX(GESTION_SEG_1_TRIM!H171,GESTION_SEG_2_TRIM!H171,GESTION_SEG_3_TRIM!H171,GESTION_SEG_4_TRIM!H171),\" \")","v":0},null,{"$f":"IFERROR(_xlfn.CONCAT(\"Trimestre 1\",CHAR(10),GESTION_SEG_1_TRIM!J171,CHAR(10),\"Trimestre 2\",CHAR(10),GESTION_SEG_2_TRIM!J171,CHAR(10),\"Trimestre 3\",CHAR(10),GESTION_SEG_3_TRIM!J171,CHAR(10),\"Trimestre 4\",CHAR(10),GESTION_SEG_4_TRIM!J171),\" \")","v":"Trimestre 1\n\nTrimestre 2\n\nTrimestre 3\n\nTrimestre 4\n"},{"$f":"IFERROR(_xlfn.CONCAT(\"Trimestre 1\",CHAR(10),GESTION_SEG_1_TRIM!K171,CHAR(10),\"Trimestre 2\",CHAR(10),GESTION_SEG_2_TRIM!K171,CHAR(10),\"Trimestre 3\",CHAR(10),GESTION_SEG_3_TRIM!K171,CHAR(10),\"Trimestre 4\",CHAR(10),GESTION_SEG_4_TRIM!K171),\" \")","v":"Trimestre 1\n\nTrimestre 2\n\nTrimestre 3\n\nTrimestre 4\n"}]
[null,null,null,null,null,null,null,null,null,null,null,null,null,null,null,{"$f":"IFERROR(MAX(GESTION_SEG_1_TRIM!H172,GESTION_SEG_2_TRIM!H172,GESTION_SEG_3_TRIM!H172,GESTION_SEG_4_TRIM!H172),\" \")","v":0},null,{"$f":"IFERROR(_xlfn.CONCAT(\"Trimestre 1\",CHAR(10),GESTION_SEG_1_TRIM!J172,CHAR(10),\"Trimestre 2\",CHAR(10),GESTION_SEG_2_TRIM!J172,CHAR(10),\"Trimestre 3\",CHAR(10),GESTION_SEG_3_TRIM!J172,CHAR(10),\"Trimestre 4\",CHAR(10),GESTION_SEG_4_TRIM!J172),\" \")","v":"Trimestre 1\n\nTrimestre 2\n\nTrimestre 3\n\nTrimestre 4\n"},{"$f":"IFERROR(_xlfn.CONCAT(\"Trimestre 1\",CHAR(10),GESTION_SEG_1_TRIM!K172,CHAR(10),\"Trimestre 2\",CHAR(10),GESTION_SEG_2_TRIM!K172,CHAR(10),\"Trimestre 3\",CHAR(10),GESTION_SEG_3_TRIM!K172,CHAR(10),\"Trimestre 4\",CHAR(10),GESTION_SEG_4_TRIM!K172),\" \")","v":"Trimestre 1\n\nTrimestre 2\n\nTrimestre 3\n\nTrimestre 4\n"}]
[null,null,null,null,null,null,null,null,null,null,null,null,null,null,null,{"$f":"IFERROR(MAX(GESTION_SEG_1_TRIM!H173,GESTION_SEG_2_TRIM!H173,GESTION_SEG_3_TRIM!H173,GESTION_SEG_4_TRIM!H173),\" \")","v":0},"",{"$f":"IFERROR(_xlfn.CONCAT(\"Trimestre 1\",CHAR(10),GESTION_SEG_1_TRIM!J173,CHAR(10),\"Trimestre 2\",CHAR(10),GESTION_SEG_2_TRIM!J173,CHAR(10),\"Trimestre 3\",CHAR(10),GESTION_SEG_3_TRIM!J173,CHAR(10),\"Trimestre 4\",CHAR(10),GESTION_SEG_4_TRIM!J173),\" \")","v":"Trimestre 1\n\nTrimestre 2\n\nTrimestre 3\n\nTrimestre 4\n"},{"$f":"IFERROR(_xlfn.CONCAT(\"Trimestre 1\",CHAR(10),GESTION_SEG_1_TRIM!K173,CHAR(10),\"Trimestre 2\",CHAR(10),GESTION_SEG_2_TRIM!K173,CHAR(10),\"Trimestre 3\",CHAR(10),GESTION_SEG_3_TRIM!K173,CHAR(10),\"Trimestre 4\",CHAR(10),GESTION_SEG_4_TRIM!K173),\" \")","v":"Trimestre 1\n\nTrimestre 2\n\nTrimestre 3\n\nTrimestre 4\n"}]
[null,null,null,null,null,null,null,null,null,null,null,null,null,null,null,{"$f":"IFERROR(MAX(GESTION_SEG_1_TRIM!H174,GESTION_SEG_2_TRIM!H174,GESTION_SEG_3_TRIM!H174,GESTION_SEG_4_TRIM!H174),\" \")","v":0},"",{"$f":"IFERROR(_xlfn.CONCAT(\"Trimestre 1\",CHAR(10),GESTION_SEG_1_TRIM!J174,CHAR(10),\"Trimestre 2\",CHAR(10),GESTION_SEG_2_TRIM!J174,CHAR(10),\"Trimestre 3\",CHAR(10),GESTION_SEG_3_TRIM!J174,CHAR(10),\"Trimestre 4\",CHAR(10),GESTION_SEG_4_TRIM!J174),\" \")","v":"Trimestre 1\n\nTrimestre 2\n\nTrimestre 3\n\nTrimestre 4\n"},{"$f":"IFERROR(_xlfn.CONCAT(\"Trimestre 1\",CHAR(10),GESTION_SEG_1_TRIM!K174,CHAR(10),\"Trimestre 2\",CHAR(10),GESTION_SEG_2_TRIM!K174,CHAR(10),\"Trimestre 3\",CHAR(10),GESTION_SEG_3_TRIM!K174,CHAR(10),\"Trimestre 4\",CHAR(10),GESTION_SEG_4_TRIM!K174),\" \")","v":"Trimestre 1\n\nTrimestre 2\n\nTrimestre 3\n\nTrimestre 4\n"}]
[null,null,null,null,null,null,null,null,null,null,null,null,null,null,null,{"$f":"IFERROR(MAX(GESTION_SEG_1_TRIM!H175,GESTION_SEG_2_TRIM!H175,GESTION_SEG_3_TRIM!H175,GESTION_SEG_4_TRIM!H175),\" \")","v":0},"",{"$f":"IFERROR(_xlfn.CONCAT(\"Trimestre 1\",CHAR(10),GESTION_SEG_1_TRIM!J175,CHAR(10),\"Trimestre 2\",CHAR(10),GESTION_SEG_2_TRIM!J175,CHAR(10),\"Trimestre 3\",CHAR(10),GESTION_SEG_3_TRIM!J175,CHAR(10),\"Trimestre 4\",CHAR(10),GESTION_SEG_4_TRIM!J175),\" \")","v":"Trimestre 1\n\nTrimestre 2\n\nTrimestre 3\n\nTrimestre 4\n"},{"$f":"IFERROR(_xlfn.CONCAT(\"Trimestre 1\",CHAR(10),GESTION_SEG_1_TRIM!K175,CHAR(10),\"Trimestre 2\",CHAR(10),GESTION_SEG_2_TRIM!K175,CHAR(10),\"Trimestre 3\",CHAR(10),GESTION_SEG_3_TRIM!K175,CHAR(10),\"Trimestre 4\",CHAR(10),GESTION_SEG_4_TRIM!K175),\" \")","v":"Trimestre 1\n\nTrimestre 2\n\nTrimestre 3\n\nTrimestre 4\n"}]
[null,null,"7. Continuar la consolidación del SIGCMA, a través de los procesos de formación en modelos de gestión, logrando la implementación y ampliación de este en los esquemas certificados de manera gradual, teniendo en cuenta las capacidades de los diferentes despachos judiciales y dependencias de la Rama Judicial y articulando el enfoque de Arquitectura Empresarial para el desarrollo del PETD a través de la gestión del conocimiento para la gestión del cambio propendiendo por una cultura de la calidad, la transparencia, la rendición de cuentas, la anticorrupción y el antisoborno","1. Gestionar el desarrollo de las competencias, la toma de conciencia , la cultura  organizacional  y el compromiso de los  servidores judiciales, contratistas, practicantes y  judicantes de contribuir a generar valor público en la administración de justicia, en el marco de  cumplimiento de los requisitos  aplicables y el comportamiento ético.\n4. Hacer un uso racional de los recursos naturales aplicando los principios y fases de la Economía Circular, para prevenir, mitigar y controlar los impactos ambientales.",null,null,null,null,null,null,null,null,null,null,null,{"$f":"IFERROR(MAX(GESTION_SEG_1_TRIM!H176,GESTION_SEG_2_TRIM!H176,GESTION_SEG_3_TRIM!H176,GESTION_SEG_4_TRIM!H176),\" \")","v":0},"",{"$f":"IFERROR(_xlfn.CONCAT(\"Trimestre 1\",CHAR(10),GESTION_SEG_1_TRIM!J176,CHAR(10),\"Trimestre 2\",CHAR(10),GESTION_SEG_2_TRIM!J176,CHAR(10),\"Trimestre 3\",CHAR(10),GESTION_SEG_3_TRIM!J176,CHAR(10),\"Trimestre 4\",CHAR(10),GESTION_SEG_4_TRIM!J176),\" \")","v":"Trimestre 1\n\nTrimestre 2\n\nTrimestre 3\n\nTrimestre 4\n"},{"$f":"IFERROR(_xlfn.CONCAT(\"Trimestre 1\",CHAR(10),GESTION_SEG_1_TRIM!K176,CHAR(10),\"Trimestre 2\",CHAR(10),GESTION_SEG_2_TRIM!K176,CHAR(10),\"Trimestre 3\",CHAR(10),GESTION_SEG_3_TRIM!K176,CHAR(10),\"Trimestre 4\",CHAR(10),GESTION_SEG_4_TRIM!K176),\" \")","v":"Trimestre 1\n\nTrimestre 2\n\nTrimestre 3\n\nTrimestre 4\n"}]
[null,null,null,null,null,null,null,null,null,null,null,null,null,null,null,{"$f":"IFERROR(MAX(GESTION_SEG_1_TRIM!H177,GESTION_SEG_2_TRIM!H177,GESTION_SEG_3_TRIM!H177,GESTION_SEG_4_TRIM!H177),\" \")","v":0},null,{"$f":"IFERROR(_xlfn.CONCAT(\"Trimestre 1\",CHAR(10),GESTION_SEG_1_TRIM!J177,CHAR(10),\"Trimestre 2\",CHAR(10),GESTION_SEG_2_TRIM!J177,CHAR(10),\"Trimestre 3\",CHAR(10),GESTION_SEG_3_TRIM!J177,CHAR(10),\"Trimestre 4\",CHAR(10),GESTION_SEG_4_TRIM!J177),\" \")","v":"Trimestre 1\n\nTrimestre 2\n\nTrimestre 3\n\nTrimestre 4\n"},{"$f":"IFERROR(_xlfn.CONCAT(\"Trimestre 1\",CHAR(10),GESTION_SEG_1_TRIM!K177,CHAR(10),\"Trimestre 2\",CHAR(10),GESTION_SEG_2_TRIM!K177,CHAR(10),\"Trimestre 3\",CHAR(10),GESTION_SEG_3_TRIM!K177,CHAR(10),\"Trimestre 4\",CHAR(10),GESTION_SEG_4_TRIM!K177),\" \")","v":"Trimestre 1\n\nTrimestre 2\n\nTrimestre 3\n\nTrimestre 4\n"}]
[null,null,null,null,null,null,null,null,null,null,null,null,null,null,null,{"$f":"IFERROR(MAX(GESTION_SEG_1_TRIM!H178,GESTION_SEG_2_TRIM!H178,GESTION_SEG_3_TRIM!H178,GESTION_SEG_4_TRIM!H178),\" \")","v":0},null,{"$f":"IFERROR(_xlfn.CONCAT(\"Trimestre 1\",CHAR(10),GESTION_SEG_1_TRIM!J178,CHAR(10),\"Trimestre 2\",CHAR(10),GESTION_SEG_2_TRIM!J178,CHAR(10),\"Trimestre 3\",CHAR(10),GESTION_SEG_3_TRIM!J178,CHAR(10),\"Trimestre 4\",CHAR(10),GESTION_SEG_4_TRIM!J178),\" \")","v":"Trimestre 1\n\nTrimestre 2\n\nTrimestre 3\n\nTrimestre 4\n"},{"$f":"IFERROR(_xlfn.CONCAT(\"Trimestre 1\",CHAR(10),GESTION_SEG_1_TRIM!K178,CHAR(10),\"Trimestre 2\",CHAR(10),GESTION_SEG_2_TRIM!K178,CHAR(10),\"Trimestre 3\",CHAR(10),GESTION_SEG_3_TRIM!K178,CHAR(10),\"Trimestre 4\",CHAR(10),GESTION_SEG_4_TRIM!K178),\" \")","v":"Trimestre 1\n\nTrimestre 2\n\nTrimestre 3\n\nTrimestre 4\n"}]
[null,null,null,null,null,null,null,null,null,null,null,null,null,null,null,{"$f":"IFERROR(MAX(GESTION_SEG_1_TRIM!H179,GESTION_SEG_2_TRIM!H179,GESTION_SEG_3_TRIM!H179,GESTION_SEG_4_TRIM!H179),\" \")","v":0},null,{"$f":"IFERROR(_xlfn.CONCAT(\"Trimestre 1\",CHAR(10),GESTION_SEG_1_TRIM!J179,CHAR(10),\"Trimestre 2\",CHAR(10),GESTION_SEG_2_TRIM!J179,CHAR(10),\"Trimestre 3\",CHAR(10),GESTION_SEG_3_TRIM!J179,CHAR(10),\"Trimestre 4\",CHAR(10),GESTION_SEG_4_TRIM!J179),\" \")","v":"Trimestre 1\n\nTrimestre 2\n\nTrimestre 3\n\nTrimestre 4\n"},{"$f":"IFERROR(_xlfn.CONCAT(\"Trimestre 1\",CHAR(10),GESTION_SEG_1_TRIM!K179,CHAR(10),\"Trimestre 2\",CHAR(10),GESTION_SEG_2_TRIM!K179,CHAR(10),\"Trimestre 3\",CHAR(10),GESTION_SEG_3_TRIM!K179,CHAR(10),\"Trimestre 4\",CHAR(10),GESTION_SEG_4_TRIM!K179),\" \")","v":"Trimestre 1\n\nTrimestre 2\n\nTrimestre 3\n\nTrimestre 4\n"}]
[null,null,null,null,null,null,null,null,null,null,null,null,null,null,null,{"$f":"IFERROR(MAX(GESTION_SEG_1_TRIM!H180,GESTION_SEG_2_TRIM!H180,GESTION_SEG_3_TRIM!H180,GESTION_SEG_4_TRIM!H180),\" \")","v":0},null,{"$f":"IFERROR(_xlfn.CONCAT(\"Trimestre 1\",CHAR(10),GESTION_SEG_1_TRIM!J180,CHAR(10),\"Trimestre 2\",CHAR(10),GESTION_SEG_2_TRIM!J180,CHAR(10),\"Trimestre 3\",CHAR(10),GESTION_SEG_3_TRIM!J180,CHAR(10),\"Trimestre 4\",CHAR(10),GESTION_SEG_4_TRIM!J180),\" \")","v":"Trimestre 1\n\nTrimestre 2\n\nTrimestre 3\n\nTrimestre 4\n"},{"$f":"IFERROR(_xlfn.CONCAT(\"Trimestre 1\",CHAR(10),GESTION_SEG_1_TRIM!K180,CHAR(10),\"Trimestre 2\",CHAR(10),GESTION_SEG_2_TRIM!K180,CHAR(10),\"Trimestre 3\",CHAR(10),GESTION_SEG_3_TRIM!K180,CHAR(10),\"Trimestre 4\",CHAR(10),GESTION_SEG_4_TRIM!K180),\" \")","v":"Trimestre 1\n\nTrimestre 2\n\nTrimestre 3\n\nTrimestre 4\n"}]
[null,null,null,null,null,null,null,null,null,null,null,null,null,null,null,{"$f":"IFERROR(MAX(GESTION_SEG_1_TRIM!H181,GESTION_SEG_2_TRIM!H181,GESTION_SEG_3_TRIM!H181,GESTION_SEG_4_TRIM!H181),\" \")","v":0},null,{"$f":"IFERROR(_xlfn.CONCAT(\"Trimestre 1\",CHAR(10),GESTION_SEG_1_TRIM!J181,CHAR(10),\"Trimestre 2\",CHAR(10),GESTION_SEG_2_TRIM!J181,CHAR(10),\"Trimestre 3\",CHAR(10),GESTION_SEG_3_TRIM!J181,CHAR(10),\"Trimestre 4\",CHAR(10),GESTION_SEG_4_TRIM!J181),\" \")","v":"Trimestre 1\n\nTrimestre 2\n\nTrimestre 3\n\nTrimestre 4\n"},{"$f":"IFERROR(_xlfn.CONCAT(\"Trimestre 1\",CHAR(10),GESTION_SEG_1_TRIM!K181,CHAR(10),\"Trimestre 2\",CHAR(10),GESTION_SEG_2_TRIM!K181,CHAR(10),\"Trimestre 3\",CHAR(10),GESTION_SEG_3_TRIM!K181,CHAR(10),\"Trimestre 4\",CHAR(10),GESTION_SEG_4_TRIM!K181),\" \")","v":"Trimestre 1\n\nTrimestre 2\n\nTrimestre 3\n\nTrimestre 4\n"}]
[null,null,null,null,null,null,null,null,null,null,null,null,null,null,null,{"$f":"IFERROR(MAX(GESTION_SEG_1_TRIM!H182,GESTION_SEG_2_TRIM!H182,GESTION_SEG_3_TRIM!H182,GESTION_SEG_4_TRIM!H182),\" \")","v":0},"",{"$f":"IFERROR(_xlfn.CONCAT(\"Trimestre 1\",CHAR(10),GESTION_SEG_1_TRIM!J182,CHAR(10),\"Trimestre 2\",CHAR(10),GESTION_SEG_2_TRIM!J182,CHAR(10),\"Trimestre 3\",CHAR(10),GESTION_SEG_3_TRIM!J182,CHAR(10),\"Trimestre 4\",CHAR(10),GESTION_SEG_4_TRIM!J182),\" \")","v":"Trimestre 1\n\nTrimestre 2\n\nTrimestre 3\n\nTrimestre 4\n"},{"$f":"IFERROR(_xlfn.CONCAT(\"Trimestre 1\",CHAR(10),GESTION_SEG_1_TRIM!K182,CHAR(10),\"Trimestre 2\",CHAR(10),GESTION_SEG_2_TRIM!K182,CHAR(10),\"Trimestre 3\",CHAR(10),GESTION_SEG_3_TRIM!K182,CHAR(10),\"Trimestre 4\",CHAR(10),GESTION_SEG_4_TRIM!K182),\" \")","v":"Trimestre 1\n\nTrimestre 2\n\nTrimestre 3\n\nTrimestre 4\n"}]
[null,null,null,null,null,null,null,null,null,null,null,null,null,null,null,{"$f":"IFERROR(MAX(GESTION_SEG_1_TRIM!H183,GESTION_SEG_2_TRIM!H183,GESTION_SEG_3_TRIM!H183,GESTION_SEG_4_TRIM!H183),\" \")","v":0},"",{"$f":"IFERROR(_xlfn.CONCAT(\"Trimestre 1\",CHAR(10),GESTION_SEG_1_TRIM!J183,CHAR(10),\"Trimestre 2\",CHAR(10),GESTION_SEG_2_TRIM!J183,CHAR(10),\"Trimestre 3\",CHAR(10),GESTION_SEG_3_TRIM!J183,CHAR(10),\"Trimestre 4\",CHAR(10),GESTION_SEG_4_TRIM!J183),\" \")","v":"Trimestre 1\n\nTrimestre 2\n\nTrimestre 3\n\nTrimestre 4\n"},{"$f":"IFERROR(_xlfn.CONCAT(\"Trimestre 1\",CHAR(10),GESTION_SEG_1_TRIM!K183,CHAR(10),\"Trimestre 2\",CHAR(10),GESTION_SEG_2_TRIM!K183,CHAR(10),\"Trimestre 3\",CHAR(10),GESTION_SEG_3_TRIM!K183,CHAR(10),\"Trimestre 4\",CHAR(10),GESTION_SEG_4_TRIM!K183),\" \")","v":"Trimestre 1\n\nTrimestre 2\n\nTrimestre 3\n\nTrimestre 4\n"}]
[null,null,null,null,null,null,null,null,null,null,null,null,null,null,null,{"$f":"IFERROR(MAX(GESTION_SEG_1_TRIM!H184,GESTION_SEG_2_TRIM!H184,GESTION_SEG_3_TRIM!H184,GESTION_SEG_4_TRIM!H184),\" \")","v":0},"",{"$f":"IFERROR(_xlfn.CONCAT(\"Trimestre 1\",CHAR(10),GESTION_SEG_1_TRIM!J184,CHAR(10),\"Trimestre 2\",CHAR(10),GESTION_SEG_2_TRIM!J184,CHAR(10),\"Trimestre 3\",CHAR(10),GESTION_SEG_3_TRIM!J184,CHAR(10),\"Trimestre 4\",CHAR(10),GESTION_SEG_4_TRIM!J184),\" \")","v":"Trimestre 1\n\nTrimestre 2\n\nTrimestre 3\n\nTrimestre 4\n"},{"$f":"IFERROR(_xlfn.CONCAT(\"Trimestre 1\",CHAR(10),GESTION_SEG_1_TRIM!K184,CHAR(10),\"Trimestre 2\",CHAR(10),GESTION_SEG_2_TRIM!K184,CHAR(10),\"Trimestre 3\",CHAR(10),GESTION_SEG_3_TRIM!K184,CHAR(10),\"Trimestre 4\",CHAR(10),GESTION_SEG_4_TRIM!K184),\" \")","v":"Trimestre 1\n\nTrimestre 2\n\nTrimestre 3\n\nTrimestre 4\n"}]
[null,null,null,null,null,null,null,null,null,null,null,null,null,null,null,{"$f":"IFERROR(MAX(GESTION_SEG_1_TRIM!H185,GESTION_SEG_2_TRIM!H185,GESTION_SEG_3_TRIM!H185,GESTION_SEG_4_TRIM!H185),\" \")","v":0},"",{"$f":"IFERROR(_xlfn.CONCAT(\"Trimestre 1\",CHAR(10),GESTION_SEG_1_TRIM!J185,CHAR(10),\"Trimestre 2\",CHAR(10),GESTION_SEG_2_TRIM!J185,CHAR(10),\"Trimestre 3\",CHAR(10),GESTION_SEG_3_TRIM!J185,CHAR(10),\"Trimestre 4\",CHAR(10),GESTION_SEG_4_TRIM!J185),\" \")","v":"Trimestre 1\n\nTrimestre 2\n\nTrimestre 3\n\nTrimestre 4\n"},{"$f":"IFERROR(_xlfn.CONCAT(\"Trimestre 1\",CHAR(10),GESTION_SEG_1_TRIM!K185,CHAR(10),\"Trimestre 2\",CHAR(10),GESTION_SEG_2_TRIM!K185,CHAR(10),\"Trimestre 3\",CHAR(10),GESTION_SEG_3_TRIM!K185,CHAR(10),\"Trimestre 4\",CHAR(10),GESTION_SEG_4_TRIM!K185),\" \")","v":"Trimestre 1\n\nTrimestre 2\n\nTrimestre 3\n\nTrimestre 4\n"}]
["4. Talento Humano","Talento Humano: Fortalecer el talento humano en la Rama Judicial para que sea eficiente, capacitado y realice su labor en ambientes saludables y seguros. Ampliar la cobertura de la carrera judicial y mejorar la oferta de formación, que esté disponible para todos los servidores judiciales e impacte positivamente el servicio de justicia y responda a las necesidades reales del ejercicio de la función judicial.","1. Ampliar la cobertura de la carrera judicial optimizando los procesos de los concursos de méritos y propender por mitigar su litigiosidad.","1. Gestionar el desarrollo de las competencias, la toma de conciencia , la cultura  organizacional  y el compromiso de los  servidores judiciales, contratistas, practicantes y  judicantes de contribuir a generar valor público en la administración de justicia, en el marco de  cumplimiento de los requisitos  aplicables y el comportamiento ético.","Misionales","Admin - Gestión de la Formación Judicial","Seccional","Plan de necesidades de formación Judicial","Entregable",null,null,"Magistrada Consejo Seccional","Plan de Necesidades","2023-01-01","2023-12-31",{"$f":"IFERROR(MAX(GESTION_SEG_1_TRIM!H186,GESTION_SEG_2_TRIM!H186,GESTION_SEG_3_TRIM!H186,GESTION_SEG_4_TRIM!H186),\" \")","v":0},"",{"$f":"IFERROR(_xlfn.CONCAT(\"Trimestre 1\",CHAR(10),GESTION_SEG_1_TRIM!J186,CHAR(10),\"Trimestre 2\",CHAR(10),GESTION_SEG_2_TRIM!J186,CHAR(10),\"Trimestre 3\",CHAR(10),GESTION_SEG_3_TRIM!J186,CHAR(10),\"Trimestre 4\",CHAR(10),GESTION_SEG_4_TRIM!J186),\" \")","v":"Trimestre 1\n\nTrimestre 2\n\nTrimestre 3\n\nTrimestre 4\n"},{"$f":"IFERROR(_xlfn.CONCAT(\"Trimestre 1\",CHAR(10),GESTION_SEG_1_TRIM!K186,CHAR(10),\"Trimestre 2\",CHAR(10),GESTION_SEG_2_TRIM!K186,CHAR(10),\"Trimestre 3\",CHAR(10),GESTION_SEG_3_TRIM!K186,CHAR(10),\"Trimestre 4\",CHAR(10),GESTION_SEG_4_TRIM!K186),\" \")","v":"Trimestre 1\nEl 14 de Diciembre de 2022 se recibio en el correo electrónico la circular EJC22-77 de la Escuala Judicial Rodrigo Lara Bonilla. En esta se comunicaba el procedimiento para realizar el diagnóstico de\nnecesidades del Plan de Formación 2023 para funcionarias(os) y empleadas(os) judiciales.\n \nSe hizo participe a los servidores judiciales por medio de un formulario denominado “levantamiento de necesidades para la construcción del plan 2023” los cuales pretenden relacionar las competencias y habilidades más relevantes para determinar las temáticas de formación y capacitación que fortalecerán la función judicial para la vigencia 2023.\n\na la fecha el Plan no ha sido remitido y tampoco se encuentra en la Página Web de la EJRLB\nTrimestre 2\nDespés de ingresar periodicamente al sitio web de la EJRLB, se puede evidenciar que el Plan de necesidades de formación judicial fue publicado después del 24 mayo de 2023, fecha en la que se hizo la última revisión y no se encontró este documento en el módulo destinado para el mismo. Así las cosas ya se cuenta con un Plan de Necesidades de formación judicial 2023-2024.\n\nTrimestre 3\nEl Plan de necesidades de formación judicial fue publicado el segundo trimestre del año, después del 24 mayo de 2023, fecha en la que se hizo la última revisión y no se encontró este documento en el módulo destinado para el mismo. Así las cosas ya se cuenta con un Plan de Necesidades de formación judicial 2023-2024.\nTrimestre 4\nEl Plan de necesidades de formación judicial fue publicado el segundo trimestre del año, después del 24 mayo de 2023, fecha en la que se hizo la última revisión y no se encontró este documento en el módulo destinado para el mismo. Así las cosas ya se cuenta con un Plan de Necesidades de formación judicial 2023-2024."},"Plan de Necesidades de Formación Judicial:\n\nhttps://etbcsj-my.sharepoint.com/:f:/g/personal/sacsma_cendoj_ramajudicial_gov_co/EjTKlS5ZEWtLrQ8DBLXUVhsBB0CzjAolxHmPbhHmi_txZg?e=EN7CId \n\n"]
[null,null,null,null,"Misionales","Admin - Gestión de la Formación Judicial","Seccional","Realizar seguimiento a los eventos programados  por la EJRLB en la seccional.","Entregable",null,null,"Magistrada Consejo Seccional","Listado de Asistencia Capacitaciones","2023-01-01","2023-12-31",{"$f":"IFERROR(MAX(GESTION_SEG_1_TRIM!H187,GESTION_SEG_2_TRIM!H187,GESTION_SEG_3_TRIM!H187,GESTION_SEG_4_TRIM!H187),\" \")","v":0},"",{"$f":"IFERROR(_xlfn.CONCAT(\"Trimestre 1\",CHAR(10),GESTION_SEG_1_TRIM!J187,CHAR(10),\"Trimestre 2\",CHAR(10),GESTION_SEG_2_TRIM!J187,CHAR(10),\"Trimestre 3\",CHAR(10),GESTION_SEG_3_TRIM!J187,CHAR(10),\"Trimestre 4\",CHAR(10),GESTION_SEG_4_TRIM!J187),\" \")","v":"Trimestre 1\n\nTrimestre 2\nEl Plan de Necesidades de formación fue publicado despues del 24 de mato y así mismo los cursos iniciaron a partir del 15 de junio.\nTrimestre 3\n\nTrimestre 4\nSe evidenció que la EJRLB no volvió a enviar la relación semanal con la oferta académica y por tanto no se ha realizado difusión"},{"$f":"IFERROR(_xlfn.CONCAT(\"Trimestre 1\",CHAR(10),GESTION_SEG_1_TRIM!K187,CHAR(10),\"Trimestre 2\",CHAR(10),GESTION_SEG_2_TRIM!K187,CHAR(10),\"Trimestre 3\",CHAR(10),GESTION_SEG_3_TRIM!K187,CHAR(10),\"Trimestre 4\",CHAR(10),GESTION_SEG_4_TRIM!K187),\" \")","v":"Trimestre 1\nEn este periodo del 2023 no se han ofrecido los cursos semanales de tipo virtual o presencial que habitualmente se programan por parte de la EJRLB, por lo anterior no se cuenta con listados de asistencia o participación para este periodo.\nTrimestre 2\nSe recibe correo de la EJRLB informando el inicio de la oferta académica virtual con inscripciones permanentes durante el segundo semestre del 2023, de acuerdo a la demanda que se presente y con base en los cupos disponibles. El inicio de estas inscripciones sería a patir del 15 de junio,donde el tiempo mínimo de culminación del curso con menor intensidad horaria es de 30 días calendario.Por esta razón, no es posible contar con la información que nos permita validar el nivel de participación.\nTrimestre 3\nSe recibe correo de la EJRLB informando el inicio de la oferta académica virtual con inscripciones permanentes durante el tercer semestre del 2023, de acuerdo a la demanda que se presente y con base en los cupos disponibles. \nTrimestre 4\nNA"},"Participación Cursos EJRLB:\n\nhttps://etbcsj-my.sharepoint.com/:f:/g/personal/sacsma_cendoj_ramajudicial_gov_co/EoIXKKHZCCpAgqqLrxfUqc4BC_SpyFV_nloYQqCdg-z7PQ?e=6WUQSR \n"]
[null,null,null,null,"Misionales","Admin - Gestión de la Formación Judicial","Seccional","Difundir y divulgar la oferta académica","Entregable",null,null,"Magistrada Consejo Seccional","Correo de difusión","2023-01-01","2023-12-31",{"$f":"IFERROR(MAX(GESTION_SEG_1_TRIM!H188,GESTION_SEG_2_TRIM!H188,GESTION_SEG_3_TRIM!H188,GESTION_SEG_4_TRIM!H188),\" \")","v":0},null,{"$f":"IFERROR(_xlfn.CONCAT(\"Trimestre 1\",CHAR(10),GESTION_SEG_1_TRIM!J188,CHAR(10),\"Trimestre 2\",CHAR(10),GESTION_SEG_2_TRIM!J188,CHAR(10),\"Trimestre 3\",CHAR(10),GESTION_SEG_3_TRIM!J188,CHAR(10),\"Trimestre 4\",CHAR(10),GESTION_SEG_4_TRIM!J188),\" \")","v":"Trimestre 1\n\nTrimestre 2\n\nTrimestre 3\n\nTrimestre 4\n"},{"$f":"IFERROR(_xlfn.CONCAT(\"Trimestre 1\",CHAR(10),GESTION_SEG_1_TRIM!K188,CHAR(10),\"Trimestre 2\",CHAR(10),GESTION_SEG_2_TRIM!K188,CHAR(10),\"Trimestre 3\",CHAR(10),GESTION_SEG_3_TRIM!K188,CHAR(10),\"Trimestre 4\",CHAR(10),GESTION_SEG_4_TRIM!K188),\" \")","v":"Trimestre 1\nEn este periodo del 2023 no se han ofrecido los cursos semanales de tipo virtual o presencial que habitualmente se programan por parte de la EJRLB, por lo anterior no se ha divulgado información al respecto durante  este periodo.\nTrimestre 2\nel 09 de junio se recibe correo elect´ronico de la EJRLB anunciando el inicio de sus cursos. Este correo es reenviado a través del sacsma (Correo del Consejo Seccional de la Judicatura de Caldas) días despés con la intención de reforzar la promoción de las inscripciones. Así mismo, se anunció por los altavoces del Palacio de Justicia Fanny Gonzalez Franco, la disponibilidad de esta oferta acuademica, sobre la cual podrían tener información mas detallada en el correo que se menciona anteriormente. \nTrimestre 3\n\nTrimestre 4\n"},"Divulgación oferta cadémica EJRLB:\n\nhttps://etbcsj-my.sharepoint.com/:f:/g/personal/sacsma_cendoj_ramajudicial_gov_co/Et8qWkbES-ROh7iCLyHm1P8BB-pRRpq1TtM0_7cHhcxiqw?e=gtntMW "]
[null,null,null,null,"Misionales","Admin - Gestión de la Formación Judicial","Seccional","Realizar reuniones con el Grupo Seccional de Apoyo","Entregable",null,null,"Magistrada Consejo Seccional","Acta de reunión","2023-01-01","2023-12-31",{"$f":"IFERROR(MAX(GESTION_SEG_1_TRIM!H189,GESTION_SEG_2_TRIM!H189,GESTION_SEG_3_TRIM!H189,GESTION_SEG_4_TRIM!H189),\" \")","v":0},null,{"$f":"IFERROR(_xlfn.CONCAT(\"Trimestre 1\",CHAR(10),GESTION_SEG_1_TRIM!J189,CHAR(10),\"Trimestre 2\",CHAR(10),GESTION_SEG_2_TRIM!J189,CHAR(10),\"Trimestre 3\",CHAR(10),GESTION_SEG_3_TRIM!J189,CHAR(10),\"Trimestre 4\",CHAR(10),GESTION_SEG_4_TRIM!J189),\" \")","v":"Trimestre 1\n\nTrimestre 2\n\nTrimestre 3\n\nTrimestre 4\n"},{"$f":"IFERROR(_xlfn.CONCAT(\"Trimestre 1\",CHAR(10),GESTION_SEG_1_TRIM!K189,CHAR(10),\"Trimestre 2\",CHAR(10),GESTION_SEG_2_TRIM!K189,CHAR(10),\"Trimestre 3\",CHAR(10),GESTION_SEG_3_TRIM!K189,CHAR(10),\"Trimestre 4\",CHAR(10),GESTION_SEG_4_TRIM!K189),\" \")","v":"Trimestre 1\nDurante el primer trimestre del año 2023 no se han realizado reuniones con el grupo seccional de Apoyo\nTrimestre 2\nDurante el primer semestre del año 2023 se hizo una reunión con el grupo seccional de apoyo.\nTrimestre 3\nActividad con seguimiento semestral\nTrimestre 4\n"}]
[null,null,null,null,"Evaluación_y_Mejora","Admin - Mejoramiento del Sistema Integrado de Gestión y Control de la Calidad y del Medio Ambiente","Seccional","Realizar jornadas de capacitación, divulgación y/o verificación de temas relacionados con el SIGCMA","Entregable",null,null,"Magistradas Consejo Seccional y Director Seccional ","Cronograma de capacitaciones SIGCMA\nListados de asistencia a capacitaciones","2023-05-02","2023-12-31",{"$f":"IFERROR(MAX(GESTION_SEG_1_TRIM!H190,GESTION_SEG_2_TRIM!H190,GESTION_SEG_3_TRIM!H190,GESTION_SEG_4_TRIM!H190),\" \")","v":0},null,{"$f":"IFERROR(_xlfn.CONCAT(\"Trimestre 1\",CHAR(10),GESTION_SEG_1_TRIM!J190,CHAR(10),\"Trimestre 2\",CHAR(10),GESTION_SEG_2_TRIM!J190,CHAR(10),\"Trimestre 3\",CHAR(10),GESTION_SEG_3_TRIM!J190,CHAR(10),\"Trimestre 4\",CHAR(10),GESTION_SEG_4_TRIM!J190),\" \")","v":"Trimestre 1\n\nTrimestre 2\n\nTrimestre 3\n\nTrimestre 4\n"},{"$f":"IFERROR(_xlfn.CONCAT(\"Trimestre 1\",CHAR(10),GESTION_SEG_1_TRIM!K190,CHAR(10),\"Trimestre 2\",CHAR(10),GESTION_SEG_2_TRIM!K190,CHAR(10),\"Trimestre 3\",CHAR(10),GESTION_SEG_3_TRIM!K190,CHAR(10),\"Trimestre 4\",CHAR(10),GESTION_SEG_4_TRIM!K190),\" \")","v":"Trimestre 1\nSegún el plan de habilidades del año 2023, durante primer trimestre del año no se tenian programadas capacitaciones, sin embargo, durante este periodo, la seccional asistió a las diferentes actividades de capacitación y verificación del SIGCMA, entre ellas:\n\n- 19 de Febrero Reunión con la Coordinación del SIGCMA nivel central para la revisión de procedimientos.\n- Comité Nacional del SIGCMA del 24 de febrero para la presentación del nuevo formato de Plan de Accion, vigencia 2023.\n- El 8 de marzo, las dependencias certificadas de Manizales se reunieron con con la coorinación del SIGMA de nivel central para la solución de dudas y diificultades en la elaboración del nuevo fomrato del Plan de Acción\n\n\n\nTrimestre 2\nSegún el Plan de habilidades del año 2023, durante el segunto trimestre del año se tenía programada la socialización sobre el funcionamiento del Sistema de Gestión Ambiental en las Sedes Judiciales de Manizales. Esta se realizó se realizó el 26 de mayo de 2023.\nTrimestre 3\nSegún el plan de habilidades del año 2023, durante tercer trimestre se tenia programada la charla \"Transformando a la organizaciones a la sostenibilidad ambiental\" la cual se llevó a cabo el 09/08/2023 en el Palacio de Justicia Fanny Gonzalez Franco\nTrimestre 4\nSegún el plan de habilidades del año 2023, durante cuarto trimestre se tenia programada para el 18/10/2023 la capacitación en el manejo de Residuos de Aparatos Electricos y Electrónicos (RAEE) la cual sería dictada por la empresa Colombianet, quien ha realizado la gestión de este tipo de residuos en Manizales. Debido a temas de agenda de los servidores jduiciales de diferentes procesos, se debio aplazar la misma"}]
[null,null,null,null,"Evaluación_y_Mejora","Admin - Mejoramiento del Sistema Integrado de Gestión y Control de la Calidad y del Medio Ambiente","Seccional","Socializar las políticas ambientales de la entidad y sensibilizar acerca de las mismas","Entregable",null,null,"Magistradas Consejo Seccional y Director Seccional ","Piezas Gráficas de Sensibilización y Correos Electrónicos de Socialización","2023-05-02","2023-12-31",{"$f":"IFERROR(MAX(GESTION_SEG_1_TRIM!H191,GESTION_SEG_2_TRIM!H191,GESTION_SEG_3_TRIM!H191,GESTION_SEG_4_TRIM!H191),\" \")","v":0},null,{"$f":"IFERROR(_xlfn.CONCAT(\"Trimestre 1\",CHAR(10),GESTION_SEG_1_TRIM!J191,CHAR(10),\"Trimestre 2\",CHAR(10),GESTION_SEG_2_TRIM!J191,CHAR(10),\"Trimestre 3\",CHAR(10),GESTION_SEG_3_TRIM!J191,CHAR(10),\"Trimestre 4\",CHAR(10),GESTION_SEG_4_TRIM!J191),\" \")","v":"Trimestre 1\n\nTrimestre 2\n\nTrimestre 3\n\nTrimestre 4\n"},{"$f":"IFERROR(_xlfn.CONCAT(\"Trimestre 1\",CHAR(10),GESTION_SEG_1_TRIM!K191,CHAR(10),\"Trimestre 2\",CHAR(10),GESTION_SEG_2_TRIM!K191,CHAR(10),\"Trimestre 3\",CHAR(10),GESTION_SEG_3_TRIM!K191,CHAR(10),\"Trimestre 4\",CHAR(10),GESTION_SEG_4_TRIM!K191),\" \")","v":"Trimestre 1\nEn el Plan de Trabajo del Sistema de Gestión Ambiebtak se estableció llevar a cabo socialización de las políticas ambientales durante el segundo y cuarto trimestre del año 2023\nTrimestre 2\nSegún el Plan de habilidades del año 2023, durante el segunto trimestre del año se tenía programada la socialización sobre el funcionamiento del Sistema de Gestión Ambienta,l en las Sedes Judiciales de Manizales. Esta se realizó s el 26 de mayo de 2023.\nTrimestre 3\nSe mantuvieron las estrategias de socialización que se venían trabajando durante el año\nTrimestre 4\nSe mantuvieron las estrategias de socialización que se venían trabajando durante el año, tales como: publicación de información en pantallas de ingreso a las sedes judiciales, protectores de pantalla de los equipos de computo de los servidores judiciales del Distrito, socialización de implementación del plan de gestión ambiental en inducciones y reinducciones de servidores judiciales y contratistas"}]
[null,null,null,null,"Estratégicos","Admin - Planeación Estratégica","Seccional","Solicitar apoyo al CENDOJ para realización de capacitaciones en tablas de retención documental (TRD)","Entregable",null,null,"Magistradas Consejo Seccional y Director Seccional ","Oficio de solicitud","2023-01-01","2023-12-31",{"$f":"IFERROR(MAX(GESTION_SEG_1_TRIM!H192,GESTION_SEG_2_TRIM!H192,GESTION_SEG_3_TRIM!H192,GESTION_SEG_4_TRIM!H192),\" \")","v":0},null,{"$f":"IFERROR(_xlfn.CONCAT(\"Trimestre 1\",CHAR(10),GESTION_SEG_1_TRIM!J192,CHAR(10),\"Trimestre 2\",CHAR(10),GESTION_SEG_2_TRIM!J192,CHAR(10),\"Trimestre 3\",CHAR(10),GESTION_SEG_3_TRIM!J192,CHAR(10),\"Trimestre 4\",CHAR(10),GESTION_SEG_4_TRIM!J192),\" \")","v":"Trimestre 1\n\nTrimestre 2\nTeniendo en cuenta que el enfoque de la capacitación fue general y que en ella intervinieron algunos despachos judiciales, se programa la realización de una solicitud enfocada en las TRD del Consejo y la Dirección Seccional\nTrimestre 3\n\nTrimestre 4\n"},{"$f":"IFERROR(_xlfn.CONCAT(\"Trimestre 1\",CHAR(10),GESTION_SEG_1_TRIM!K192,CHAR(10),\"Trimestre 2\",CHAR(10),GESTION_SEG_2_TRIM!K192,CHAR(10),\"Trimestre 3\",CHAR(10),GESTION_SEG_3_TRIM!K192,CHAR(10),\"Trimestre 4\",CHAR(10),GESTION_SEG_4_TRIM!K192),\" \")","v":"Trimestre 1\nMediante correo electronico del 28/03/2023 se solicitó capacitación sobre implementación de Tablas de Retención Documental (TRD), esta fue programada para el 19/04/2023 \nTrimestre 2\nEl 19/04/2023 se llevó a cabo la capacitación en el manejo de tablas de retención documental a todos los servidores judiciales del Distrito, solicitada en el mes de marzo\nTrimestre 3\nActividad programada para el último trimestre del año, debido a los compromisos de las auditorías internas y externas del SIGCMA\nTrimestre 4\nSe mantuvieron las estrategias de socialización que se venían trabajando durante el año, tales como: difusión de información a traves de las pantallas de ingreso a las sedes judiciales, socialización de la política, roles y responsabilidades e implementación del plan de gestión ambiental en Manizales, sensibilización a traves de los descansa pantallas de los equipos de computo de los servidores judiciales."},"Solicitud Capacitación TRD:\n\nhttps://etbcsj-my.sharepoint.com/:f:/g/personal/sacsma_cendoj_ramajudicial_gov_co/En748LjvDFFJuXUdTZOspcYBif-FAJ57cq4WXInF9S7EIQ?e=LN5lI5"]
[null,null,null,null,"Misionales","Admin - Administración de la Carrera Judicial","Seccional","Lista de elegibles","Entregable",null,null,"Magistrada Consejo Seccional","Lista de elegibles","2023-01-01","2023-12-31",{"$f":"IFERROR(MAX(GESTION_SEG_1_TRIM!H193,GESTION_SEG_2_TRIM!H193,GESTION_SEG_3_TRIM!H193,GESTION_SEG_4_TRIM!H193),\" \")","v":0},"",{"$f":"IFERROR(_xlfn.CONCAT(\"Trimestre 1\",CHAR(10),GESTION_SEG_1_TRIM!J193,CHAR(10),\"Trimestre 2\",CHAR(10),GESTION_SEG_2_TRIM!J193,CHAR(10),\"Trimestre 3\",CHAR(10),GESTION_SEG_3_TRIM!J193,CHAR(10),\"Trimestre 4\",CHAR(10),GESTION_SEG_4_TRIM!J193),\" \")","v":"Trimestre 1\n\nTrimestre 2\n\nTrimestre 3\n\nTrimestre 4\n"},{"$f":"IFERROR(_xlfn.CONCAT(\"Trimestre 1\",CHAR(10),GESTION_SEG_1_TRIM!K193,CHAR(10),\"Trimestre 2\",CHAR(10),GESTION_SEG_2_TRIM!K193,CHAR(10),\"Trimestre 3\",CHAR(10),GESTION_SEG_3_TRIM!K193,CHAR(10),\"Trimestre 4\",CHAR(10),GESTION_SEG_4_TRIM!K193),\" \")","v":"Trimestre 1\nDurante el primer trimestre del año 2023, se elaboraron 26 acuerdos de listas de elegibles, realizando las siguientes actividades:\n\n1. Publicación de opciones de sede: total 43 cargos durante el primer trimestre (24 en enero, 12 en febrero  y 7 en marzo)\n\n2. Recepción de formatos de opción de sede: 112 opciones de sede, así: enero 74 (2 secretario Cto, 4 Secretario Mpa, 21 oficial mayor Cto, 13 Oficial  mayor mpal, 4 escribiente tribunal, 9 escribiente cto, 8 escribiente cto CS, 2 asistente social, 4 Asistente jurídico, 7 Asistente administrativo G6), febrero 13 (3 Secretario Cto, 4 Secretario mpal, 6 escribiente mpal)  y en marzo 25 (1 Secretario Cto, 14 Oficial mayor Cto, 10 Escribiente Cto).\n\n3. Consolidación y remisión al nominador de la lista de elegibles: se consolidaron 26 y se enviaron a los nominadores 31 acuerdos con lista de elegibles (los restantes,  no se remiten durante este periodo por encontrarse pendiente de resolver solicitud de traslado de servidor en carrera). Del último trimestre del 2022 se enviaron 10 acuerdos con listas de elegibles, quedando pendientes 2 de este mismo periodo pues tienen recurso de apelación por resolver.\nTrimestre 2\nDurante el segundo trimestre del año 2023, se elaboraron 17 acuerdos de listas de elegibles (2 de los cuales modificaron acuerdos anteriores), realizando las siguientes actividades:\n\n1. Publicación de opciones de sede: total 29 cargos durante el segundo trimestre (10 en abril, 13 en mayo y 6 en junio)\n\n2. Recepción de formatos de opción de sede: 79 opciones de sede, así: Abril 16 (6 Relator, 4 Secretario Juz. Municipal, 6 Escribiente Juz. Circuito), Mayo 55 (17 oficial mayor Cto, 10 Escribiente Juz. cto, 6 Secretario Juz. Cto, 4 Secretario Juz. Mpal, 4 Escribiente Juz. Mpal, 14 Citador Juz. Mpal)  y en junio 8 (3 Secretario Juz. Cto, 5 Escribiente Mpal de Centro).\n\n3. Consolidación y remisión al nominador de la lista de elegibles: se consolidaron 15 y se enviaron a los nominadores 7 acuerdos con lista de elegibles (los restantes,  no se remiten durante este periodo por encontrarse pendiente de resolver solicitud de traslado de servidor en carrera). Del primer trimestre de 2023 se enviaron 10 acuerdos con listas de elegibles, quedando pendientes 10 acuerdos (2 de 2022 por recursos pendientes por resolver en Bogotá y 8 acuerdo del primer semestre de 2023 con recursos de traslados)\nTrimestre 3\nDurante el tercer trimestre del año 2023, se elaboraron 17 acuerdos de listas de elegibles, realizando las siguientes actividades:\n\n1. Publicación de opciones de sede: total 40 cargos durante el tercer trimestre (11 en julio, 19 en agosto y 10 en septiembre)\n\n2. Recepción de formatos de opción de sede: 65 opciones de sede, así: Julio 28 (2 Secretario Juz. Mpal, 11 oficial mayor mpal, 9 asistente administrativo juzgado ejecucion penas, 6 Citador Juz. Mpal), Agosto 17 (7 Citador Juz. Cto, 4 asistente social Juz. Flia, 6 asistente juridico Juz Ejec Penas) y en Septiembre 30 (2 Secretario Juz Cto, 11 Oficial Mayor Juz Mpal, 17 Citador Juz Mpal)\n\n3. Consolidación y remisión al nominador de la lista de elegibles: se consolidaron 19 listas de elegibles\nTrimestre 4\nDurante el cuarto trimestre del año 2023, se elaboraron 17 acuerdos de listas de elegibles, realizando las siguientes actividades:\n\n1. Publicación de opciones de sede: total 40 cargos durante el cuarto trimestre (12 en octubre, 17 en noviembre  y 11 en diciembre)\n\n2. Recepción de formatos de opción de sede: 83 opciones de sede, así: Octubre  19 (3 Secretario Juz. Mpal, 5 Escribiente Juz Mpal y 11 Oficial Mayor Juz Mpal ), Noviembre 58 (1 Secretario Juz Cto, 2 Secretario Juz Mpal, 4 Secretario Tribunal, 28 Oficial Mayor Juz Cto, 19 Oficial Mayor Juz Mpal, 4 asistente social Juz Familia-Promisco Familia y Penal de Adolescentes) y en Diciembre 6 (1 Secretario Juz Cto, 5 Asistente Social de Ejecucion de penas)\n\n3. Consolidación y remisión al nominador de la lista de elegibles: se consolidaron 17 listas de elegibles"},"Vacantes 2023:\n\nhttps://etbcsj-my.sharepoint.com/:f:/g/personal/sacsma_cendoj_ramajudicial_gov_co/ErBtUwvEZ0VIm1sUTzhAXg0BCOxAjLOMHn5BkTGKjKlk7g?e=zCZgBE \n\n\nOpciones de Sede y Listas de Elegibles:\n\nhttps://etbcsj-my.sharepoint.com/:f:/g/personal/sacsma_cendoj_ramajudicial_gov_co/ErmPSyOB7_JErZs_IWzWmAIBPyh8oBGUmUf7c0ovHD1Rwg?e=6oXOhx "]
[null,null,null,null,"Misionales","Admin - Administración de la Carrera Judicial","Seccional","Registro de elegibles","Entregable",null,null,"Magistrada Consejo Seccional","Registro de elegibles actualizado","2023-01-01","2023-12-31",{"$f":"IFERROR(MAX(GESTION_SEG_1_TRIM!H194,GESTION_SEG_2_TRIM!H194,GESTION_SEG_3_TRIM!H194,GESTION_SEG_4_TRIM!H194),\" \")","v":0},"",{"$f":"IFERROR(_xlfn.CONCAT(\"Trimestre 1\",CHAR(10),GESTION_SEG_1_TRIM!J194,CHAR(10),\"Trimestre 2\",CHAR(10),GESTION_SEG_2_TRIM!J194,CHAR(10),\"Trimestre 3\",CHAR(10),GESTION_SEG_3_TRIM!J194,CHAR(10),\"Trimestre 4\",CHAR(10),GESTION_SEG_4_TRIM!J194),\" \")","v":"Trimestre 1\n\nTrimestre 2\n\nTrimestre 3\n\nTrimestre 4\n"},{"$f":"IFERROR(_xlfn.CONCAT(\"Trimestre 1\",CHAR(10),GESTION_SEG_1_TRIM!K194,CHAR(10),\"Trimestre 2\",CHAR(10),GESTION_SEG_2_TRIM!K194,CHAR(10),\"Trimestre 3\",CHAR(10),GESTION_SEG_3_TRIM!K194,CHAR(10),\"Trimestre 4\",CHAR(10),GESTION_SEG_4_TRIM!K194),\" \")","v":"Trimestre 1\nDurante el primer trimestre del año 2023 se posesionaron 13 aspirantes de la convocatoria 4.\n4 Hombres y 9 Mujeres en los siguientes cargos:\n\n1 Asistente Administrativo G6 Ejec Penas \n1 Citador Cto CS\n1 Citador Juz. Cto \n1 Escribiente Cto CS\n1 Escribiente Juz. Mpal\n1 Escribiente Tribunal\n3 Oficial mayor Juz. Cto\n1 Oficial Mayor Juz. Mpal\n1 Oficial Mayor Tribunal\n2 Secretario Juz. Cto\n\n\nSe publicaron 6 actualizaciones del registro de elegibles, así, enero 1, febrero 2 y marzo 3.\nTrimestre 2\nDurante el segundo trimestre del año 2023 se posesionaron 7 aspirantes de la convocatoria 4.\n2 Hombres y 5 Mujeres en los siguientes cargos:\n\n1 Asistente Juridico de JEPMS  \n1 Citador Juz. cto\n1 Escribiente Juz Cto\n1 Relator Tribunal\n1 Oficial mayor Juz. Cto\n1 Secretario Juz. Mpal\n1 Profesional Univ. Juz. Administrativo\n\n\nSe publicaron 7 actualizaciones del registro de elegibles, así, abril 1, mayo 5 y junio 1.\nTrimestre 3\nDurante el tercer trimestre del año 2023 se posesionaron 9 aspirantes de la convocatoria 4.\n4 Hombres y 5 Mujeres en los siguientes cargos:\n\n1 Escribiente Cto Centro de Servicios\n1 Escribiente Mpal Centro de Servicios\n1 Escribiente Juz Cto\n2 Secretario Juz Cto\n1 Secretario Juz Mpal\n2 Oficiales Mayores Juz Cto\n1 Oficial Mayor Juz Mpal  \nTrimestre 4\nDurante el cuarto trimestre del año 2023 se posesionaron 3 aspirantes de la convocatoria 4.\n1 Hombres y 2 Mujeres en los siguientes cargos:\n \n1 Asistente sociual Promiscuo Familia\n2 Oficial Mayor Juzgdo Mpal"},"Consolidado Gral Registro de Elegibles.\n\nhttps://etbcsj-my.sharepoint.com/:x:/g/personal/sacsma_cendoj_ramajudicial_gov_co/Ee8uei7D-opCq7Oy2Kw5lX4B_cICLBYoac42NmqBse5zgg?e=wTqCoJ\n\nActualización del Registro de Elegibles:\n\nhttps://etbcsj-my.sharepoint.com/:f:/g/personal/sacsma_cendoj_ramajudicial_gov_co/Et6Kg5mOUDpHuWIqV6j-V68B1DExVlYK6e0Ll4HnQDaGnA?e=NVVfaR"]
[null,null,null,null,"Misionales","Admin - Administración de la Carrera Judicial","Seccional","Proyectar conceptos a las solicitudes de traslados","Entregable",null,null,"Magistrada Consejo Seccional","Conceptos favorables y/o desfavorables (actos administrativos)","2023-01-01","2023-12-31",{"$f":"IFERROR(MAX(GESTION_SEG_1_TRIM!H195,GESTION_SEG_2_TRIM!H195,GESTION_SEG_3_TRIM!H195,GESTION_SEG_4_TRIM!H195),\" \")","v":0},"",{"$f":"IFERROR(_xlfn.CONCAT(\"Trimestre 1\",CHAR(10),GESTION_SEG_1_TRIM!J195,CHAR(10),\"Trimestre 2\",CHAR(10),GESTION_SEG_2_TRIM!J195,CHAR(10),\"Trimestre 3\",CHAR(10),GESTION_SEG_3_TRIM!J195,CHAR(10),\"Trimestre 4\",CHAR(10),GESTION_SEG_4_TRIM!J195),\" \")","v":"Trimestre 1\n\nTrimestre 2\n\nTrimestre 3\n\nTrimestre 4\n"},{"$f":"IFERROR(_xlfn.CONCAT(\"Trimestre 1\",CHAR(10),GESTION_SEG_1_TRIM!K195,CHAR(10),\"Trimestre 2\",CHAR(10),GESTION_SEG_2_TRIM!K195,CHAR(10),\"Trimestre 3\",CHAR(10),GESTION_SEG_3_TRIM!K195,CHAR(10),\"Trimestre 4\",CHAR(10),GESTION_SEG_4_TRIM!K195),\" \")","v":"Trimestre 1\nDurante el primer trimestre del año 2023, se presentaron y se resolvieron 33 solicitudes de traslado, para lo cual se desarrollaron las siguientes actividades:\n\n - Recepción de solicitudes de traslado: (33) solicitudes de traslado enviadas por servidores de carrera.\n\n -  Solicitud de traslado: se emitieron (24) conceptos de traslado favorables y (8) desfavorables y (1) remitido por competencia (traslado por razones del servicio).\n\n - Notificación de concepto favorable o desfavorable de traslado al servidor judicial: se remitieron por medio de Resolución expedida por esta Corporación, 24 conceptos de traslado favorable (tanto al nominador como al Servidor Judicial), catorce (8) conceptos de traslado desfavorables a los servidores.\n\n\nTrimestre 2\nDurante el segundo trimestre del año 2023, se presentaron y se resolvieron 25 solicitudes de traslado, para lo cual se desarrollaron las siguientes actividades:\n\n - Recepción de solicitudes de traslado: (25) solicitudes de traslado enviadas por servidores de carrera.\n\n -  Solicitud de traslado: se emitieron (16) conceptos de traslado favorables y (9) desfavorables.\n\n - Notificación de concepto favorable o desfavorable de traslado al servidor judicial: se remitieron 25 Resoluciones de traslado expedidas por esta Corporación, a los servidores Judiciales. Están pendientes por remitir a los nominadores 11 resoluciones de traslado, por encontrarse pendiente por resolver recursos (reposición y/o apelación)\nTrimestre 3\nDurante el tercer trimestre del año 2023, se presentaron y se resolvieron 22 solicitudes de traslado, para lo cual se desarrollaron las siguientes actividades:\n\n - Recepción de solicitudes de traslado: (22) solicitudes de traslado enviadas por servidores de carrera.\n\n -  Solicitud de traslado: se emitieron (18) conceptos de traslado favorables y (4) desfavorables.\n\n - Notificación de concepto favorable o desfavorable de traslado al servidor judicial: se remitieron 22 Resoluciones de traslado expedidas por esta Corporación, a los servidores Judiciales.\nTrimestre 4\nDurante el tercer trimestre del año 2023, se presentaron y se resolvieron 30 solicitudes de traslado, para lo cual se desarrollaron las siguientes actividades:\n\n - Recepción de solicitudes de traslado: (30) solicitudes de traslado enviadas por servidores de carrera.\n\n -  Solicitud de traslado: se emitieron (22) conceptos de traslado favorables y (8) desfavorables.\n\n - Notificación de concepto favorable o desfavorable de traslado al servidor judicial: se remitieron 30 Resoluciones de traslado expedidas por esta Corporación, a los servidores Judiciales."},"Conceptos Solicitudes de Traslados:\n\nhttps://etbcsj-my.sharepoint.com/:f:/g/personal/sacsma_cendoj_ramajudicial_gov_co/El5HjyFm_A1DlTkaZ2TdVtgB-ERDLEm69KdQs2dxnirw7g?e=Gqkf0l"]
[null,null,"2. Impactar la función y servicios que presta la Rama Judicial, a través de una formación integral desde una visión de gestión del conocimiento, relacionada con los problemas de la justicia y los problemas de gestión de quienes administran los recursos de la justicia, y potenciando el uso de medios virtuales.",null,null,null,null,null,null,null,null,null,null,null,null,{"$f":"IFERROR(MAX(GESTION_SEG_1_TRIM!H196,GESTION_SEG_2_TRIM!H196,GESTION_SEG_3_TRIM!H196,GESTION_SEG_4_TRIM!H196),\" \")","v":0},"",{"$f":"IFERROR(_xlfn.CONCAT(\"Trimestre 1\",CHAR(10),GESTION_SEG_1_TRIM!J196,CHAR(10),\"Trimestre 2\",CHAR(10),GESTION_SEG_2_TRIM!J196,CHAR(10),\"Trimestre 3\",CHAR(10),GESTION_SEG_3_TRIM!J196,CHAR(10),\"Trimestre 4\",CHAR(10),GESTION_SEG_4_TRIM!J196),\" \")","v":"Trimestre 1\n\nTrimestre 2\n\nTrimestre 3\n\nTrimestre 4\n"},{"$f":"IFERROR(_xlfn.CONCAT(\"Trimestre 1\",CHAR(10),GESTION_SEG_1_TRIM!K196,CHAR(10),\"Trimestre 2\",CHAR(10),GESTION_SEG_2_TRIM!K196,CHAR(10),\"Trimestre 3\",CHAR(10),GESTION_SEG_3_TRIM!K196,CHAR(10),\"Trimestre 4\",CHAR(10),GESTION_SEG_4_TRIM!K196),\" \")","v":"Trimestre 1\n\nTrimestre 2\n\nTrimestre 3\n\nTrimestre 4\n"}]
[null,null,null,null,null,null,null,null,null,null,null,null,null,null,null,{"$f":"IFERROR(MAX(GESTION_SEG_1_TRIM!H197,GESTION_SEG_2_TRIM!H197,GESTION_SEG_3_TRIM!H197,GESTION_SEG_4_TRIM!H197),\" \")","v":0},{"$f":"IFERROR(P197/J197,\"\")","v":""},{"$f":"IFERROR(_xlfn.CONCAT(\"Trimestre 1\",CHAR(10),GESTION_SEG_1_TRIM!J197,CHAR(10),\"Trimestre 2\",CHAR(10),GESTION_SEG_2_TRIM!J197,CHAR(10),\"Trimestre 3\",CHAR(10),GESTION_SEG_3_TRIM!J197,CHAR(10),\"Trimestre 4\",CHAR(10),GESTION_SEG_4_TRIM!J197),\" \")","v":"Trimestre 1\n\nTrimestre 2\n\nTrimestre 3\n\nTrimestre 4\n"},{"$f":"IFERROR(_xlfn.CONCAT(\"Trimestre 1\",CHAR(10),GESTION_SEG_1_TRIM!K197,CHAR(10),\"Trimestre 2\",CHAR(10),GESTION_SEG_2_TRIM!K197,CHAR(10),\"Trimestre 3\",CHAR(10),GESTION_SEG_3_TRIM!K197,CHAR(10),\"Trimestre 4\",CHAR(10),GESTION_SEG_4_TRIM!K197),\" \")","v":"Trimestre 1\n\nTrimestre 2\n\nTrimestre 3\n\nTrimestre 4\n"}]
[null,null,null,null,null,null,null,null,null,null,null,null,null,null,null,{"$f":"IFERROR(MAX(GESTION_SEG_1_TRIM!H198,GESTION_SEG_2_TRIM!H198,GESTION_SEG_3_TRIM!H198,GESTION_SEG_4_TRIM!H198),\" \")","v":0},null,{"$f":"IFERROR(_xlfn.CONCAT(\"Trimestre 1\",CHAR(10),GESTION_SEG_1_TRIM!J198,CHAR(10),\"Trimestre 2\",CHAR(10),GESTION_SEG_2_TRIM!J198,CHAR(10),\"Trimestre 3\",CHAR(10),GESTION_SEG_3_TRIM!J198,CHAR(10),\"Trimestre 4\",CHAR(10),GESTION_SEG_4_TRIM!J198),\" \")","v":"Trimestre 1\n\nTrimestre 2\n\nTrimestre 3\n\nTrimestre 4\n"},{"$f":"IFERROR(_xlfn.CONCAT(\"Trimestre 1\",CHAR(10),GESTION_SEG_1_TRIM!K198,CHAR(10),\"Trimestre 2\",CHAR(10),GESTION_SEG_2_TRIM!K198,CHAR(10),\"Trimestre 3\",CHAR(10),GESTION_SEG_3_TRIM!K198,CHAR(10),\"Trimestre 4\",CHAR(10),GESTION_SEG_4_TRIM!K198),\" \")","v":"Trimestre 1\n\nTrimestre 2\n\nTrimestre 3\n\nTrimestre 4\n"}]
[null,null,null,null,null,null,null,null,null,null,null,null,null,null,null,{"$f":"IFERROR(MAX(GESTION_SEG_1_TRIM!H199,GESTION_SEG_2_TRIM!H199,GESTION_SEG_3_TRIM!H199,GESTION_SEG_4_TRIM!H199),\" \")","v":0},null,{"$f":"IFERROR(_xlfn.CONCAT(\"Trimestre 1\",CHAR(10),GESTION_SEG_1_TRIM!J199,CHAR(10),\"Trimestre 2\",CHAR(10),GESTION_SEG_2_TRIM!J199,CHAR(10),\"Trimestre 3\",CHAR(10),GESTION_SEG_3_TRIM!J199,CHAR(10),\"Trimestre 4\",CHAR(10),GESTION_SEG_4_TRIM!J199),\" \")","v":"Trimestre 1\n\nTrimestre 2\n\nTrimestre 3\n\nTrimestre 4\n"},{"$f":"IFERROR(_xlfn.CONCAT(\"Trimestre 1\",CHAR(10),GESTION_SEG_1_TRIM!K199,CHAR(10),\"Trimestre 2\",CHAR(10),GESTION_SEG_2_TRIM!K199,CHAR(10),\"Trimestre 3\",CHAR(10),GESTION_SEG_3_TRIM!K199,CHAR(10),\"Trimestre 4\",CHAR(10),GESTION_SEG_4_TRIM!K199),\" \")","v":"Trimestre 1\n\nTrimestre 2\n\nTrimestre 3\n\nTrimestre 4\n"}]
[null,null,null,null,null,null,null,null,null,null,null,null,null,null,null,{"$f":"IFERROR(MAX(GESTION_SEG_1_TRIM!H200,GESTION_SEG_2_TRIM!H200,GESTION_SEG_3_TRIM!H200,GESTION_SEG_4_TRIM!H200),\" \")","v":0},null,{"$f":"IFERROR(_xlfn.CONCAT(\"Trimestre 1\",CHAR(10),GESTION_SEG_1_TRIM!J200,CHAR(10),\"Trimestre 2\",CHAR(10),GESTION_SEG_2_TRIM!J200,CHAR(10),\"Trimestre 3\",CHAR(10),GESTION_SEG_3_TRIM!J200,CHAR(10),\"Trimestre 4\",CHAR(10),GESTION_SEG_4_TRIM!J200),\" \")","v":"Trimestre 1\n\nTrimestre 2\n\nTrimestre 3\n\nTrimestre 4\n"},{"$f":"IFERROR(_xlfn.CONCAT(\"Trimestre 1\",CHAR(10),GESTION_SEG_1_TRIM!K200,CHAR(10),\"Trimestre 2\",CHAR(10),GESTION_SEG_2_TRIM!K200,CHAR(10),\"Trimestre 3\",CHAR(10),GESTION_SEG_3_TRIM!K200,CHAR(10),\"Trimestre 4\",CHAR(10),GESTION_SEG_4_TRIM!K200),\" \")","v":"Trimestre 1\n\nTrimestre 2\n\nTrimestre 3\n\nTrimestre 4\n"}]
[null,null,null,null,null,null,null,null,null,null,null,null,null,null,null,{"$f":"IFERROR(MAX(GESTION_SEG_1_TRIM!H201,GESTION_SEG_2_TRIM!H201,GESTION_SEG_3_TRIM!H201,GESTION_SEG_4_TRIM!H201),\" \")","v":0},null,{"$f":"IFERROR(_xlfn.CONCAT(\"Trimestre 1\",CHAR(10),GESTION_SEG_1_TRIM!J201,CHAR(10),\"Trimestre 2\",CHAR(10),GESTION_SEG_2_TRIM!J201,CHAR(10),\"Trimestre 3\",CHAR(10),GESTION_SEG_3_TRIM!J201,CHAR(10),\"Trimestre 4\",CHAR(10),GESTION_SEG_4_TRIM!J201),\" \")","v":"Trimestre 1\n\nTrimestre 2\n\nTrimestre 3\n\nTrimestre 4\n"},{"$f":"IFERROR(_xlfn.CONCAT(\"Trimestre 1\",CHAR(10),GESTION_SEG_1_TRIM!K201,CHAR(10),\"Trimestre 2\",CHAR(10),GESTION_SEG_2_TRIM!K201,CHAR(10),\"Trimestre 3\",CHAR(10),GESTION_SEG_3_TRIM!K201,CHAR(10),\"Trimestre 4\",CHAR(10),GESTION_SEG_4_TRIM!K201),\" \")","v":"Trimestre 1\n\nTrimestre 2\n\nTrimestre 3\n\nTrimestre 4\n"}]
[null,null,null,null,null,null,null,null,null,null,null,null,null,null,null,{"$f":"IFERROR(MAX(GESTION_SEG_1_TRIM!H202,GESTION_SEG_2_TRIM!H202,GESTION_SEG_3_TRIM!H202,GESTION_SEG_4_TRIM!H202),\" \")","v":0},null,{"$f":"IFERROR(_xlfn.CONCAT(\"Trimestre 1\",CHAR(10),GESTION_SEG_1_TRIM!J202,CHAR(10),\"Trimestre 2\",CHAR(10),GESTION_SEG_2_TRIM!J202,CHAR(10),\"Trimestre 3\",CHAR(10),GESTION_SEG_3_TRIM!J202,CHAR(10),\"Trimestre 4\",CHAR(10),GESTION_SEG_4_TRIM!J202),\" \")","v":"Trimestre 1\n\nTrimestre 2\n\nTrimestre 3\n\nTrimestre 4\n"},{"$f":"IFERROR(_xlfn.CONCAT(\"Trimestre 1\",CHAR(10),GESTION_SEG_1_TRIM!K202,CHAR(10),\"Trimestre 2\",CHAR(10),GESTION_SEG_2_TRIM!K202,CHAR(10),\"Trimestre 3\",CHAR(10),GESTION_SEG_3_TRIM!K202,CHAR(10),\"Trimestre 4\",CHAR(10),GESTION_SEG_4_TRIM!K202),\" \")","v":"Trimestre 1\n\nTrimestre 2\n\nTrimestre 3\n\nTrimestre 4\n"}]
[null,null,null,null,null,null,null,null,null,null,null,null,null,null,null,{"$f":"IFERROR(MAX(GESTION_SEG_1_TRIM!H203,GESTION_SEG_2_TRIM!H203,GESTION_SEG_3_TRIM!H203,GESTION_SEG_4_TRIM!H203),\" \")","v":0},"",{"$f":"IFERROR(_xlfn.CONCAT(\"Trimestre 1\",CHAR(10),GESTION_SEG_1_TRIM!J203,CHAR(10),\"Trimestre 2\",CHAR(10),GESTION_SEG_2_TRIM!J203,CHAR(10),\"Trimestre 3\",CHAR(10),GESTION_SEG_3_TRIM!J203,CHAR(10),\"Trimestre 4\",CHAR(10),GESTION_SEG_4_TRIM!J203),\" \")","v":"Trimestre 1\n\nTrimestre 2\n\nTrimestre 3\n\nTrimestre 4\n"},{"$f":"IFERROR(_xlfn.CONCAT(\"Trimestre 1\",CHAR(10),GESTION_SEG_1_TRIM!K203,CHAR(10),\"Trimestre 2\",CHAR(10),GESTION_SEG_2_TRIM!K203,CHAR(10),\"Trimestre 3\",CHAR(10),GESTION_SEG_3_TRIM!K203,CHAR(10),\"Trimestre 4\",CHAR(10),GESTION_SEG_4_TRIM!K203),\" \")","v":"Trimestre 1\n\nTrimestre 2\n\nTrimestre 3\n\nTrimestre 4\n"}]
[null,null,null,null,null,null,null,null,null,null,null,null,null,null,null,{"$f":"IFERROR(MAX(GESTION_SEG_1_TRIM!H204,GESTION_SEG_2_TRIM!H204,GESTION_SEG_3_TRIM!H204,GESTION_SEG_4_TRIM!H204),\" \")","v":0},"",{"$f":"IFERROR(_xlfn.CONCAT(\"Trimestre 1\",CHAR(10),GESTION_SEG_1_TRIM!J204,CHAR(10),\"Trimestre 2\",CHAR(10),GESTION_SEG_2_TRIM!J204,CHAR(10),\"Trimestre 3\",CHAR(10),GESTION_SEG_3_TRIM!J204,CHAR(10),\"Trimestre 4\",CHAR(10),GESTION_SEG_4_TRIM!J204),\" \")","v":"Trimestre 1\n\nTrimestre 2\n\nTrimestre 3\n\nTrimestre 4\n"},{"$f":"IFERROR(_xlfn.CONCAT(\"Trimestre 1\",CHAR(10),GESTION_SEG_1_TRIM!K204,CHAR(10),\"Trimestre 2\",CHAR(10),GESTION_SEG_2_TRIM!K204,CHAR(10),\"Trimestre 3\",CHAR(10),GESTION_SEG_3_TRIM!K204,CHAR(10),\"Trimestre 4\",CHAR(10),GESTION_SEG_4_TRIM!K204),\" \")","v":"Trimestre 1\n\nTrimestre 2\n\nTrimestre 3\n\nTrimestre 4\n"}]
[null,null,null,null,null,null,null,null,null,null,null,null,null,null,null,{"$f":"IFERROR(MAX(GESTION_SEG_1_TRIM!H205,GESTION_SEG_2_TRIM!H205,GESTION_SEG_3_TRIM!H205,GESTION_SEG_4_TRIM!H205),\" \")","v":0},"",{"$f":"IFERROR(_xlfn.CONCAT(\"Trimestre 1\",CHAR(10),GESTION_SEG_1_TRIM!J205,CHAR(10),\"Trimestre 2\",CHAR(10),GESTION_SEG_2_TRIM!J205,CHAR(10),\"Trimestre 3\",CHAR(10),GESTION_SEG_3_TRIM!J205,CHAR(10),\"Trimestre 4\",CHAR(10),GESTION_SEG_4_TRIM!J205),\" \")","v":"Trimestre 1\n\nTrimestre 2\n\nTrimestre 3\n\nTrimestre 4\n"},{"$f":"IFERROR(_xlfn.CONCAT(\"Trimestre 1\",CHAR(10),GESTION_SEG_1_TRIM!K205,CHAR(10),\"Trimestre 2\",CHAR(10),GESTION_SEG_2_TRIM!K205,CHAR(10),\"Trimestre 3\",CHAR(10),GESTION_SEG_3_TRIM!K205,CHAR(10),\"Trimestre 4\",CHAR(10),GESTION_SEG_4_TRIM!K205),\" \")","v":"Trimestre 1\n\nTrimestre 2\n\nTrimestre 3\n\nTrimestre 4\n"}]
[null,null,"3. Promover la incorporación de la perspectiva de género y el enfoque diferencial en los fallos judiciales y en la atención a los ciudadanos, la administración de la Rama Judicial, la administración de la carrera judicial y la elaboración de listas para altas Cortes. ",null,null,null,null,null,null,null,null,null,null,null,null,{"$f":"IFERROR(MAX(GESTION_SEG_1_TRIM!H206,GESTION_SEG_2_TRIM!H206,GESTION_SEG_3_TRIM!H206,GESTION_SEG_4_TRIM!H206),\" \")","v":0},"",{"$f":"IFERROR(_xlfn.CONCAT(\"Trimestre 1\",CHAR(10),GESTION_SEG_1_TRIM!J206,CHAR(10),\"Trimestre 2\",CHAR(10),GESTION_SEG_2_TRIM!J206,CHAR(10),\"Trimestre 3\",CHAR(10),GESTION_SEG_3_TRIM!J206,CHAR(10),\"Trimestre 4\",CHAR(10),GESTION_SEG_4_TRIM!J206),\" \")","v":"Trimestre 1\n\nTrimestre 2\n\nTrimestre 3\n\nTrimestre 4\n"},{"$f":"IFERROR(_xlfn.CONCAT(\"Trimestre 1\",CHAR(10),GESTION_SEG_1_TRIM!K206,CHAR(10),\"Trimestre 2\",CHAR(10),GESTION_SEG_2_TRIM!K206,CHAR(10),\"Trimestre 3\",CHAR(10),GESTION_SEG_3_TRIM!K206,CHAR(10),\"Trimestre 4\",CHAR(10),GESTION_SEG_4_TRIM!K206),\" \")","v":"Trimestre 1\n\nTrimestre 2\n\nTrimestre 3\n\nTrimestre 4\n"}]
[null,null,null,null,null,null,null,null,null,null,null,null,null,null,null,{"$f":"IFERROR(MAX(GESTION_SEG_1_TRIM!H207,GESTION_SEG_2_TRIM!H207,GESTION_SEG_3_TRIM!H207,GESTION_SEG_4_TRIM!H207),\" \")","v":0},"",{"$f":"IFERROR(_xlfn.CONCAT(\"Trimestre 1\",CHAR(10),GESTION_SEG_1_TRIM!J207,CHAR(10),\"Trimestre 2\",CHAR(10),GESTION_SEG_2_TRIM!J207,CHAR(10),\"Trimestre 3\",CHAR(10),GESTION_SEG_3_TRIM!J207,CHAR(10),\"Trimestre 4\",CHAR(10),GESTION_SEG_4_TRIM!J207),\" \")","v":"Trimestre 1\n\nTrimestre 2\n\nTrimestre 3\n\nTrimestre 4\n"},{"$f":"IFERROR(_xlfn.CONCAT(\"Trimestre 1\",CHAR(10),GESTION_SEG_1_TRIM!K207,CHAR(10),\"Trimestre 2\",CHAR(10),GESTION_SEG_2_TRIM!K207,CHAR(10),\"Trimestre 3\",CHAR(10),GESTION_SEG_3_TRIM!K207,CHAR(10),\"Trimestre 4\",CHAR(10),GESTION_SEG_4_TRIM!K207),\" \")","v":"Trimestre 1\n\nTrimestre 2\n\nTrimestre 3\n\nTrimestre 4\n"}]
[null,null,null,null,null,null,null,null,null,null,null,null,null,null,null,{"$f":"IFERROR(MAX(GESTION_SEG_1_TRIM!H208,GESTION_SEG_2_TRIM!H208,GESTION_SEG_3_TRIM!H208,GESTION_SEG_4_TRIM!H208),\" \")","v":0},null,{"$f":"IFERROR(_xlfn.CONCAT(\"Trimestre 1\",CHAR(10),GESTION_SEG_1_TRIM!J208,CHAR(10),\"Trimestre 2\",CHAR(10),GESTION_SEG_2_TRIM!J208,CHAR(10),\"Trimestre 3\",CHAR(10),GESTION_SEG_3_TRIM!J208,CHAR(10),\"Trimestre 4\",CHAR(10),GESTION_SEG_4_TRIM!J208),\" \")","v":"Trimestre 1\n\nTrimestre 2\n\nTrimestre 3\n\nTrimestre 4\n"},{"$f":"IFERROR(_xlfn.CONCAT(\"Trimestre 1\",CHAR(10),GESTION_SEG_1_TRIM!K208,CHAR(10),\"Trimestre 2\",CHAR(10),GESTION_SEG_2_TRIM!K208,CHAR(10),\"Trimestre 3\",CHAR(10),GESTION_SEG_3_TRIM!K208,CHAR(10),\"Trimestre 4\",CHAR(10),GESTION_SEG_4_TRIM!K208),\" \")","v":"Trimestre 1\n\nTrimestre 2\n\nTrimestre 3\n\nTrimestre 4\n"}]
[null,null,null,null,null,null,null,null,null,null,null,null,null,null,null,{"$f":"IFERROR(MAX(GESTION_SEG_1_TRIM!H209,GESTION_SEG_2_TRIM!H209,GESTION_SEG_3_TRIM!H209,GESTION_SEG_4_TRIM!H209),\" \")","v":0},null,{"$f":"IFERROR(_xlfn.CONCAT(\"Trimestre 1\",CHAR(10),GESTION_SEG_1_TRIM!J209,CHAR(10),\"Trimestre 2\",CHAR(10),GESTION_SEG_2_TRIM!J209,CHAR(10),\"Trimestre 3\",CHAR(10),GESTION_SEG_3_TRIM!J209,CHAR(10),\"Trimestre 4\",CHAR(10),GESTION_SEG_4_TRIM!J209),\" \")","v":"Trimestre 1\n\nTrimestre 2\n\nTrimestre 3\n\nTrimestre 4\n"},{"$f":"IFERROR(_xlfn.CONCAT(\"Trimestre 1\",CHAR(10),GESTION_SEG_1_TRIM!K209,CHAR(10),\"Trimestre 2\",CHAR(10),GESTION_SEG_2_TRIM!K209,CHAR(10),\"Trimestre 3\",CHAR(10),GESTION_SEG_3_TRIM!K209,CHAR(10),\"Trimestre 4\",CHAR(10),GESTION_SEG_4_TRIM!K209),\" \")","v":"Trimestre 1\n\nTrimestre 2\n\nTrimestre 3\n\nTrimestre 4\n"}]
[null,null,null,null,null,null,null,null,null,null,null,null,null,null,null,{"$f":"IFERROR(MAX(GESTION_SEG_1_TRIM!H210,GESTION_SEG_2_TRIM!H210,GESTION_SEG_3_TRIM!H210,GESTION_SEG_4_TRIM!H210),\" \")","v":0},null,{"$f":"IFERROR(_xlfn.CONCAT(\"Trimestre 1\",CHAR(10),GESTION_SEG_1_TRIM!J210,CHAR(10),\"Trimestre 2\",CHAR(10),GESTION_SEG_2_TRIM!J210,CHAR(10),\"Trimestre 3\",CHAR(10),GESTION_SEG_3_TRIM!J210,CHAR(10),\"Trimestre 4\",CHAR(10),GESTION_SEG_4_TRIM!J210),\" \")","v":"Trimestre 1\n\nTrimestre 2\n\nTrimestre 3\n\nTrimestre 4\n"},{"$f":"IFERROR(_xlfn.CONCAT(\"Trimestre 1\",CHAR(10),GESTION_SEG_1_TRIM!K210,CHAR(10),\"Trimestre 2\",CHAR(10),GESTION_SEG_2_TRIM!K210,CHAR(10),\"Trimestre 3\",CHAR(10),GESTION_SEG_3_TRIM!K210,CHAR(10),\"Trimestre 4\",CHAR(10),GESTION_SEG_4_TRIM!K210),\" \")","v":"Trimestre 1\n\nTrimestre 2\n\nTrimestre 3\n\nTrimestre 4\n"}]
[null,null,null,null,null,null,null,null,null,null,null,null,null,null,null,{"$f":"IFERROR(MAX(GESTION_SEG_1_TRIM!H211,GESTION_SEG_2_TRIM!H211,GESTION_SEG_3_TRIM!H211,GESTION_SEG_4_TRIM!H211),\" \")","v":0},null,{"$f":"IFERROR(_xlfn.CONCAT(\"Trimestre 1\",CHAR(10),GESTION_SEG_1_TRIM!J211,CHAR(10),\"Trimestre 2\",CHAR(10),GESTION_SEG_2_TRIM!J211,CHAR(10),\"Trimestre 3\",CHAR(10),GESTION_SEG_3_TRIM!J211,CHAR(10),\"Trimestre 4\",CHAR(10),GESTION_SEG_4_TRIM!J211),\" \")","v":"Trimestre 1\n\nTrimestre 2\n\nTrimestre 3\n\nTrimestre 4\n"},{"$f":"IFERROR(_xlfn.CONCAT(\"Trimestre 1\",CHAR(10),GESTION_SEG_1_TRIM!K211,CHAR(10),\"Trimestre 2\",CHAR(10),GESTION_SEG_2_TRIM!K211,CHAR(10),\"Trimestre 3\",CHAR(10),GESTION_SEG_3_TRIM!K211,CHAR(10),\"Trimestre 4\",CHAR(10),GESTION_SEG_4_TRIM!K211),\" \")","v":"Trimestre 1\n\nTrimestre 2\n\nTrimestre 3\n\nTrimestre 4\n"}]
[null,null,null,null,null,null,null,null,null,null,null,null,null,null,null,{"$f":"IFERROR(MAX(GESTION_SEG_1_TRIM!H212,GESTION_SEG_2_TRIM!H212,GESTION_SEG_3_TRIM!H212,GESTION_SEG_4_TRIM!H212),\" \")","v":0},null,{"$f":"IFERROR(_xlfn.CONCAT(\"Trimestre 1\",CHAR(10),GESTION_SEG_1_TRIM!J212,CHAR(10),\"Trimestre 2\",CHAR(10),GESTION_SEG_2_TRIM!J212,CHAR(10),\"Trimestre 3\",CHAR(10),GESTION_SEG_3_TRIM!J212,CHAR(10),\"Trimestre 4\",CHAR(10),GESTION_SEG_4_TRIM!J212),\" \")","v":"Trimestre 1\n\nTrimestre 2\n\nTrimestre 3\n\nTrimestre 4\n"},{"$f":"IFERROR(_xlfn.CONCAT(\"Trimestre 1\",CHAR(10),GESTION_SEG_1_TRIM!K212,CHAR(10),\"Trimestre 2\",CHAR(10),GESTION_SEG_2_TRIM!K212,CHAR(10),\"Trimestre 3\",CHAR(10),GESTION_SEG_3_TRIM!K212,CHAR(10),\"Trimestre 4\",CHAR(10),GESTION_SEG_4_TRIM!K212),\" \")","v":"Trimestre 1\n\nTrimestre 2\n\nTrimestre 3\n\nTrimestre 4\n"}]
[null,null,null,null,null,null,null,null,null,null,null,null,null,null,null,{"$f":"IFERROR(MAX(GESTION_SEG_1_TRIM!H213,GESTION_SEG_2_TRIM!H213,GESTION_SEG_3_TRIM!H213,GESTION_SEG_4_TRIM!H213),\" \")","v":0},"",{"$f":"IFERROR(_xlfn.CONCAT(\"Trimestre 1\",CHAR(10),GESTION_SEG_1_TRIM!J213,CHAR(10),\"Trimestre 2\",CHAR(10),GESTION_SEG_2_TRIM!J213,CHAR(10),\"Trimestre 3\",CHAR(10),GESTION_SEG_3_TRIM!J213,CHAR(10),\"Trimestre 4\",CHAR(10),GESTION_SEG_4_TRIM!J213),\" \")","v":"Trimestre 1\n\nTrimestre 2\n\nTrimestre 3\n\nTrimestre 4\n"},{"$f":"IFERROR(_xlfn.CONCAT(\"Trimestre 1\",CHAR(10),GESTION_SEG_1_TRIM!K213,CHAR(10),\"Trimestre 2\",CHAR(10),GESTION_SEG_2_TRIM!K213,CHAR(10),\"Trimestre 3\",CHAR(10),GESTION_SEG_3_TRIM!K213,CHAR(10),\"Trimestre 4\",CHAR(10),GESTION_SEG_4_TRIM!K213),\" \")","v":"Trimestre 1\n\nTrimestre 2\n\nTrimestre 3\n\nTrimestre 4\n"}]
[null,null,null,null,null,null,null,null,null,null,null,null,null,null,null,{"$f":"IFERROR(MAX(GESTION_SEG_1_TRIM!H214,GESTION_SEG_2_TRIM!H214,GESTION_SEG_3_TRIM!H214,GESTION_SEG_4_TRIM!H214),\" \")","v":0},"",{"$f":"IFERROR(_xlfn.CONCAT(\"Trimestre 1\",CHAR(10),GESTION_SEG_1_TRIM!J214,CHAR(10),\"Trimestre 2\",CHAR(10),GESTION_SEG_2_TRIM!J214,CHAR(10),\"Trimestre 3\",CHAR(10),GESTION_SEG_3_TRIM!J214,CHAR(10),\"Trimestre 4\",CHAR(10),GESTION_SEG_4_TRIM!J214),\" \")","v":"Trimestre 1\n\nTrimestre 2\n\nTrimestre 3\n\nTrimestre 4\n"},{"$f":"IFERROR(_xlfn.CONCAT(\"Trimestre 1\",CHAR(10),GESTION_SEG_1_TRIM!K214,CHAR(10),\"Trimestre 2\",CHAR(10),GESTION_SEG_2_TRIM!K214,CHAR(10),\"Trimestre 3\",CHAR(10),GESTION_SEG_3_TRIM!K214,CHAR(10),\"Trimestre 4\",CHAR(10),GESTION_SEG_4_TRIM!K214),\" \")","v":"Trimestre 1\n\nTrimestre 2\n\nTrimestre 3\n\nTrimestre 4\n"}]
[null,null,null,null,null,null,null,null,null,null,null,null,null,null,null,{"$f":"IFERROR(MAX(GESTION_SEG_1_TRIM!H215,GESTION_SEG_2_TRIM!H215,GESTION_SEG_3_TRIM!H215,GESTION_SEG_4_TRIM!H215),\" \")","v":0},"",{"$f":"IFERROR(_xlfn.CONCAT(\"Trimestre 1\",CHAR(10),GESTION_SEG_1_TRIM!J215,CHAR(10),\"Trimestre 2\",CHAR(10),GESTION_SEG_2_TRIM!J215,CHAR(10),\"Trimestre 3\",CHAR(10),GESTION_SEG_3_TRIM!J215,CHAR(10),\"Trimestre 4\",CHAR(10),GESTION_SEG_4_TRIM!J215),\" \")","v":"Trimestre 1\n\nTrimestre 2\n\nTrimestre 3\n\nTrimestre 4\n"},{"$f":"IFERROR(_xlfn.CONCAT(\"Trimestre 1\",CHAR(10),GESTION_SEG_1_TRIM!K215,CHAR(10),\"Trimestre 2\",CHAR(10),GESTION_SEG_2_TRIM!K215,CHAR(10),\"Trimestre 3\",CHAR(10),GESTION_SEG_3_TRIM!K215,CHAR(10),\"Trimestre 4\",CHAR(10),GESTION_SEG_4_TRIM!K215),\" \")","v":"Trimestre 1\n\nTrimestre 2\n\nTrimestre 3\n\nTrimestre 4\n"}]
[null,null,"4. Desarrollar en los servidores judiciales y demás grupos de valor relevantes las competencias necesarias para la efectividad de la transformación digital de modo que puedan, entre otros, utilizar con solvencia las herramientas digitales dispuestas para sus respectivas funciones. Además, fortalecer y actualizar los conocimientos del personal a cargo de la gestión de proyectos de tecnología.",null,null,null,null,null,null,null,null,null,null,null,null,{"$f":"IFERROR(MAX(GESTION_SEG_1_TRIM!H216,GESTION_SEG_2_TRIM!H216,GESTION_SEG_3_TRIM!H216,GESTION_SEG_4_TRIM!H216),\" \")","v":0},"",{"$f":"IFERROR(_xlfn.CONCAT(\"Trimestre 1\",CHAR(10),GESTION_SEG_1_TRIM!J216,CHAR(10),\"Trimestre 2\",CHAR(10),GESTION_SEG_2_TRIM!J216,CHAR(10),\"Trimestre 3\",CHAR(10),GESTION_SEG_3_TRIM!J216,CHAR(10),\"Trimestre 4\",CHAR(10),GESTION_SEG_4_TRIM!J216),\" \")","v":"Trimestre 1\n\nTrimestre 2\n\nTrimestre 3\n\nTrimestre 4\n"},{"$f":"IFERROR(_xlfn.CONCAT(\"Trimestre 1\",CHAR(10),GESTION_SEG_1_TRIM!K216,CHAR(10),\"Trimestre 2\",CHAR(10),GESTION_SEG_2_TRIM!K216,CHAR(10),\"Trimestre 3\",CHAR(10),GESTION_SEG_3_TRIM!K216,CHAR(10),\"Trimestre 4\",CHAR(10),GESTION_SEG_4_TRIM!K216),\" \")","v":"Trimestre 1\n\nTrimestre 2\n\nTrimestre 3\n\nTrimestre 4\n"}]
[null,null,null,null,null,null,null,null,null,null,null,null,null,null,null,{"$f":"IFERROR(MAX(GESTION_SEG_1_TRIM!H217,GESTION_SEG_2_TRIM!H217,GESTION_SEG_3_TRIM!H217,GESTION_SEG_4_TRIM!H217),\" \")","v":0},"",{"$f":"IFERROR(_xlfn.CONCAT(\"Trimestre 1\",CHAR(10),GESTION_SEG_1_TRIM!J217,CHAR(10),\"Trimestre 2\",CHAR(10),GESTION_SEG_2_TRIM!J217,CHAR(10),\"Trimestre 3\",CHAR(10),GESTION_SEG_3_TRIM!J217,CHAR(10),\"Trimestre 4\",CHAR(10),GESTION_SEG_4_TRIM!J217),\" \")","v":"Trimestre 1\n\nTrimestre 2\n\nTrimestre 3\n\nTrimestre 4\n"},{"$f":"IFERROR(_xlfn.CONCAT(\"Trimestre 1\",CHAR(10),GESTION_SEG_1_TRIM!K217,CHAR(10),\"Trimestre 2\",CHAR(10),GESTION_SEG_2_TRIM!K217,CHAR(10),\"Trimestre 3\",CHAR(10),GESTION_SEG_3_TRIM!K217,CHAR(10),\"Trimestre 4\",CHAR(10),GESTION_SEG_4_TRIM!K217),\" \")","v":"Trimestre 1\n\nTrimestre 2\n\nTrimestre 3\n\nTrimestre 4\n"}]
[null,null,null,null,null,null,null,null,null,null,null,null,null,null,null,{"$f":"IFERROR(MAX(GESTION_SEG_1_TRIM!H218,GESTION_SEG_2_TRIM!H218,GESTION_SEG_3_TRIM!H218,GESTION_SEG_4_TRIM!H218),\" \")","v":0},null,{"$f":"IFERROR(_xlfn.CONCAT(\"Trimestre 1\",CHAR(10),GESTION_SEG_1_TRIM!J218,CHAR(10),\"Trimestre 2\",CHAR(10),GESTION_SEG_2_TRIM!J218,CHAR(10),\"Trimestre 3\",CHAR(10),GESTION_SEG_3_TRIM!J218,CHAR(10),\"Trimestre 4\",CHAR(10),GESTION_SEG_4_TRIM!J218),\" \")","v":"Trimestre 1\n\nTrimestre 2\n\nTrimestre 3\n\nTrimestre 4\n"},{"$f":"IFERROR(_xlfn.CONCAT(\"Trimestre 1\",CHAR(10),GESTION_SEG_1_TRIM!K218,CHAR(10),\"Trimestre 2\",CHAR(10),GESTION_SEG_2_TRIM!K218,CHAR(10),\"Trimestre 3\",CHAR(10),GESTION_SEG_3_TRIM!K218,CHAR(10),\"Trimestre 4\",CHAR(10),GESTION_SEG_4_TRIM!K218),\" \")","v":"Trimestre 1\n\nTrimestre 2\n\nTrimestre 3\n\nTrimestre 4\n"}]
[null,null,null,null,null,null,null,null,null,null,null,null,null,null,null,{"$f":"IFERROR(MAX(GESTION_SEG_1_TRIM!H219,GESTION_SEG_2_TRIM!H219,GESTION_SEG_3_TRIM!H219,GESTION_SEG_4_TRIM!H219),\" \")","v":0},null,{"$f":"IFERROR(_xlfn.CONCAT(\"Trimestre 1\",CHAR(10),GESTION_SEG_1_TRIM!J219,CHAR(10),\"Trimestre 2\",CHAR(10),GESTION_SEG_2_TRIM!J219,CHAR(10),\"Trimestre 3\",CHAR(10),GESTION_SEG_3_TRIM!J219,CHAR(10),\"Trimestre 4\",CHAR(10),GESTION_SEG_4_TRIM!J219),\" \")","v":"Trimestre 1\n\nTrimestre 2\n\nTrimestre 3\n\nTrimestre 4\n"},{"$f":"IFERROR(_xlfn.CONCAT(\"Trimestre 1\",CHAR(10),GESTION_SEG_1_TRIM!K219,CHAR(10),\"Trimestre 2\",CHAR(10),GESTION_SEG_2_TRIM!K219,CHAR(10),\"Trimestre 3\",CHAR(10),GESTION_SEG_3_TRIM!K219,CHAR(10),\"Trimestre 4\",CHAR(10),GESTION_SEG_4_TRIM!K219),\" \")","v":"Trimestre 1\n\nTrimestre 2\n\nTrimestre 3\n\nTrimestre 4\n"}]
[null,null,null,null,null,null,null,null,null,null,null,null,null,null,null,{"$f":"IFERROR(MAX(GESTION_SEG_1_TRIM!H220,GESTION_SEG_2_TRIM!H220,GESTION_SEG_3_TRIM!H220,GESTION_SEG_4_TRIM!H220),\" \")","v":0},null,{"$f":"IFERROR(_xlfn.CONCAT(\"Trimestre 1\",CHAR(10),GESTION_SEG_1_TRIM!J220,CHAR(10),\"Trimestre 2\",CHAR(10),GESTION_SEG_2_TRIM!J220,CHAR(10),\"Trimestre 3\",CHAR(10),GESTION_SEG_3_TRIM!J220,CHAR(10),\"Trimestre 4\",CHAR(10),GESTION_SEG_4_TRIM!J220),\" \")","v":"Trimestre 1\n\nTrimestre 2\n\nTrimestre 3\n\nTrimestre 4\n"},{"$f":"IFERROR(_xlfn.CONCAT(\"Trimestre 1\",CHAR(10),GESTION_SEG_1_TRIM!K220,CHAR(10),\"Trimestre 2\",CHAR(10),GESTION_SEG_2_TRIM!K220,CHAR(10),\"Trimestre 3\",CHAR(10),GESTION_SEG_3_TRIM!K220,CHAR(10),\"Trimestre 4\",CHAR(10),GESTION_SEG_4_TRIM!K220),\" \")","v":"Trimestre 1\n\nTrimestre 2\n\nTrimestre 3\n\nTrimestre 4\n"}]
[null,null,null,null,null,null,null,null,null,null,null,null,null,null,null,{"$f":"IFERROR(MAX(GESTION_SEG_1_TRIM!H221,GESTION_SEG_2_TRIM!H221,GESTION_SEG_3_TRIM!H221,GESTION_SEG_4_TRIM!H221),\" \")","v":0},null,{"$f":"IFERROR(_xlfn.CONCAT(\"Trimestre 1\",CHAR(10),GESTION_SEG_1_TRIM!J221,CHAR(10),\"Trimestre 2\",CHAR(10),GESTION_SEG_2_TRIM!J221,CHAR(10),\"Trimestre 3\",CHAR(10),GESTION_SEG_3_TRIM!J221,CHAR(10),\"Trimestre 4\",CHAR(10),GESTION_SEG_4_TRIM!J221),\" \")","v":"Trimestre 1\n\nTrimestre 2\n\nTrimestre 3\n\nTrimestre 4\n"},{"$f":"IFERROR(_xlfn.CONCAT(\"Trimestre 1\",CHAR(10),GESTION_SEG_1_TRIM!K221,CHAR(10),\"Trimestre 2\",CHAR(10),GESTION_SEG_2_TRIM!K221,CHAR(10),\"Trimestre 3\",CHAR(10),GESTION_SEG_3_TRIM!K221,CHAR(10),\"Trimestre 4\",CHAR(10),GESTION_SEG_4_TRIM!K221),\" \")","v":"Trimestre 1\n\nTrimestre 2\n\nTrimestre 3\n\nTrimestre 4\n"}]
[null,null,null,null,null,null,null,null,null,null,null,null,null,null,null,{"$f":"IFERROR(MAX(GESTION_SEG_1_TRIM!H222,GESTION_SEG_2_TRIM!H222,GESTION_SEG_3_TRIM!H222,GESTION_SEG_4_TRIM!H222),\" \")","v":0},null,{"$f":"IFERROR(_xlfn.CONCAT(\"Trimestre 1\",CHAR(10),GESTION_SEG_1_TRIM!J222,CHAR(10),\"Trimestre 2\",CHAR(10),GESTION_SEG_2_TRIM!J222,CHAR(10),\"Trimestre 3\",CHAR(10),GESTION_SEG_3_TRIM!J222,CHAR(10),\"Trimestre 4\",CHAR(10),GESTION_SEG_4_TRIM!J222),\" \")","v":"Trimestre 1\n\nTrimestre 2\n\nTrimestre 3\n\nTrimestre 4\n"},{"$f":"IFERROR(_xlfn.CONCAT(\"Trimestre 1\",CHAR(10),GESTION_SEG_1_TRIM!K222,CHAR(10),\"Trimestre 2\",CHAR(10),GESTION_SEG_2_TRIM!K222,CHAR(10),\"Trimestre 3\",CHAR(10),GESTION_SEG_3_TRIM!K222,CHAR(10),\"Trimestre 4\",CHAR(10),GESTION_SEG_4_TRIM!K222),\" \")","v":"Trimestre 1\n\nTrimestre 2\n\nTrimestre 3\n\nTrimestre 4\n"}]
[null,null,null,null,null,null,null,null,null,null,null,null,null,null,null,{"$f":"IFERROR(MAX(GESTION_SEG_1_TRIM!H223,GESTION_SEG_2_TRIM!H223,GESTION_SEG_3_TRIM!H223,GESTION_SEG_4_TRIM!H223),\" \")","v":0},"",{"$f":"IFERROR(_xlfn.CONCAT(\"Trimestre 1\",CHAR(10),GESTION_SEG_1_TRIM!J223,CHAR(10),\"Trimestre 2\",CHAR(10),GESTION_SEG_2_TRIM!J223,CHAR(10),\"Trimestre 3\",CHAR(10),GESTION_SEG_3_TRIM!J223,CHAR(10),\"Trimestre 4\",CHAR(10),GESTION_SEG_4_TRIM!J223),\" \")","v":"Trimestre 1\n\nTrimestre 2\n\nTrimestre 3\n\nTrimestre 4\n"},{"$f":"IFERROR(_xlfn.CONCAT(\"Trimestre 1\",CHAR(10),GESTION_SEG_1_TRIM!K223,CHAR(10),\"Trimestre 2\",CHAR(10),GESTION_SEG_2_TRIM!K223,CHAR(10),\"Trimestre 3\",CHAR(10),GESTION_SEG_3_TRIM!K223,CHAR(10),\"Trimestre 4\",CHAR(10),GESTION_SEG_4_TRIM!K223),\" \")","v":"Trimestre 1\n\nTrimestre 2\n\nTrimestre 3\n\nTrimestre 4\n"}]
[null,null,null,null,null,null,null,null,null,null,null,null,null,null,null,{"$f":"IFERROR(MAX(GESTION_SEG_1_TRIM!H224,GESTION_SEG_2_TRIM!H224,GESTION_SEG_3_TRIM!H224,GESTION_SEG_4_TRIM!H224),\" \")","v":0},"",{"$f":"IFERROR(_xlfn.CONCAT(\"Trimestre 1\",CHAR(10),GESTION_SEG_1_TRIM!J224,CHAR(10),\"Trimestre 2\",CHAR(10),GESTION_SEG_2_TRIM!J224,CHAR(10),\"Trimestre 3\",CHAR(10),GESTION_SEG_3_TRIM!J224,CHAR(10),\"Trimestre 4\",CHAR(10),GESTION_SEG_4_TRIM!J224),\" \")","v":"Trimestre 1\n\nTrimestre 2\n\nTrimestre 3\n\nTrimestre 4\n"},{"$f":"IFERROR(_xlfn.CONCAT(\"Trimestre 1\",CHAR(10),GESTION_SEG_1_TRIM!K224,CHAR(10),\"Trimestre 2\",CHAR(10),GESTION_SEG_2_TRIM!K224,CHAR(10),\"Trimestre 3\",CHAR(10),GESTION_SEG_3_TRIM!K224,CHAR(10),\"Trimestre 4\",CHAR(10),GESTION_SEG_4_TRIM!K224),\" \")","v":"Trimestre 1\n\nTrimestre 2\n\nTrimestre 3\n\nTrimestre 4\n"}]
[null,null,null,null,null,null,null,null,null,null,null,null,null,null,null,{"$f":"IFERROR(MAX(GESTION_SEG_1_TRIM!H225,GESTION_SEG_2_TRIM!H225,GESTION_SEG_3_TRIM!H225,GESTION_SEG_4_TRIM!H225),\" \")","v":0},"",{"$f":"IFERROR(_xlfn.CONCAT(\"Trimestre 1\",CHAR(10),GESTION_SEG_1_TRIM!J225,CHAR(10),\"Trimestre 2\",CHAR(10),GESTION_SEG_2_TRIM!J225,CHAR(10),\"Trimestre 3\",CHAR(10),GESTION_SEG_3_TRIM!J225,CHAR(10),\"Trimestre 4\",CHAR(10),GESTION_SEG_4_TRIM!J225),\" \")","v":"Trimestre 1\n\nTrimestre 2\n\nTrimestre 3\n\nTrimestre 4\n"},{"$f":"IFERROR(_xlfn.CONCAT(\"Trimestre 1\",CHAR(10),GESTION_SEG_1_TRIM!K225,CHAR(10),\"Trimestre 2\",CHAR(10),GESTION_SEG_2_TRIM!K225,CHAR(10),\"Trimestre 3\",CHAR(10),GESTION_SEG_3_TRIM!K225,CHAR(10),\"Trimestre 4\",CHAR(10),GESTION_SEG_4_TRIM!K225),\" \")","v":"Trimestre 1\n\nTrimestre 2\n\nTrimestre 3\n\nTrimestre 4\n"}]
[null,null,"5. Promover el bienestar de todos los servidores judiciales a través de la implementación de un sistema que contemple los diferentes niveles de estrategias y acciones necesarios para mejorar el clima laboral, la salud física y mental y la calidad del tiempo de descanso.","5. Generar espacios de trabajo seguros y saludables que contribuyan a minimizar los  incidentes, accidentes y enfermedades laborales derivados de las condiciones y actos  inseguros y fomentar  el autocuidado, los  estilos de vida y el trabajo saludable en los servidores judiciales, contratistas, judicantes y practicantes",null,null,null,null,null,null,null,null,null,null,null,{"$f":"IFERROR(MAX(GESTION_SEG_1_TRIM!H226,GESTION_SEG_2_TRIM!H226,GESTION_SEG_3_TRIM!H226,GESTION_SEG_4_TRIM!H226),\" \")","v":0},"",{"$f":"IFERROR(_xlfn.CONCAT(\"Trimestre 1\",CHAR(10),GESTION_SEG_1_TRIM!J226,CHAR(10),\"Trimestre 2\",CHAR(10),GESTION_SEG_2_TRIM!J226,CHAR(10),\"Trimestre 3\",CHAR(10),GESTION_SEG_3_TRIM!J226,CHAR(10),\"Trimestre 4\",CHAR(10),GESTION_SEG_4_TRIM!J226),\" \")","v":"Trimestre 1\n\nTrimestre 2\n\nTrimestre 3\n\nTrimestre 4\n"},{"$f":"IFERROR(_xlfn.CONCAT(\"Trimestre 1\",CHAR(10),GESTION_SEG_1_TRIM!K226,CHAR(10),\"Trimestre 2\",CHAR(10),GESTION_SEG_2_TRIM!K226,CHAR(10),\"Trimestre 3\",CHAR(10),GESTION_SEG_3_TRIM!K226,CHAR(10),\"Trimestre 4\",CHAR(10),GESTION_SEG_4_TRIM!K226),\" \")","v":"Trimestre 1\n\nTrimestre 2\n\nTrimestre 3\n\nTrimestre 4\n"}]
[null,null,null,null,null,null,null,null,null,null,null,null,null,null,null,{"$f":"IFERROR(MAX(GESTION_SEG_1_TRIM!H227,GESTION_SEG_2_TRIM!H227,GESTION_SEG_3_TRIM!H227,GESTION_SEG_4_TRIM!H227),\" \")","v":0},"",{"$f":"IFERROR(_xlfn.CONCAT(\"Trimestre 1\",CHAR(10),GESTION_SEG_1_TRIM!J227,CHAR(10),\"Trimestre 2\",CHAR(10),GESTION_SEG_2_TRIM!J227,CHAR(10),\"Trimestre 3\",CHAR(10),GESTION_SEG_3_TRIM!J227,CHAR(10),\"Trimestre 4\",CHAR(10),GESTION_SEG_4_TRIM!J227),\" \")","v":"Trimestre 1\n\nTrimestre 2\n\nTrimestre 3\n\nTrimestre 4\n"},{"$f":"IFERROR(_xlfn.CONCAT(\"Trimestre 1\",CHAR(10),GESTION_SEG_1_TRIM!K227,CHAR(10),\"Trimestre 2\",CHAR(10),GESTION_SEG_2_TRIM!K227,CHAR(10),\"Trimestre 3\",CHAR(10),GESTION_SEG_3_TRIM!K227,CHAR(10),\"Trimestre 4\",CHAR(10),GESTION_SEG_4_TRIM!K227),\" \")","v":"Trimestre 1\n\nTrimestre 2\n\nTrimestre 3\n\nTrimestre 4\n"}]
[null,null,null,null,null,null,null,null,null,null,null,null,null,null,null,{"$f":"IFERROR(MAX(GESTION_SEG_1_TRIM!H228,GESTION_SEG_2_TRIM!H228,GESTION_SEG_3_TRIM!H228,GESTION_SEG_4_TRIM!H228),\" \")","v":0},null,{"$f":"IFERROR(_xlfn.CONCAT(\"Trimestre 1\",CHAR(10),GESTION_SEG_1_TRIM!J228,CHAR(10),\"Trimestre 2\",CHAR(10),GESTION_SEG_2_TRIM!J228,CHAR(10),\"Trimestre 3\",CHAR(10),GESTION_SEG_3_TRIM!J228,CHAR(10),\"Trimestre 4\",CHAR(10),GESTION_SEG_4_TRIM!J228),\" \")","v":"Trimestre 1\n\nTrimestre 2\n\nTrimestre 3\n\nTrimestre 4\n"},{"$f":"IFERROR(_xlfn.CONCAT(\"Trimestre 1\",CHAR(10),GESTION_SEG_1_TRIM!K228,CHAR(10),\"Trimestre 2\",CHAR(10),GESTION_SEG_2_TRIM!K228,CHAR(10),\"Trimestre 3\",CHAR(10),GESTION_SEG_3_TRIM!K228,CHAR(10),\"Trimestre 4\",CHAR(10),GESTION_SEG_4_TRIM!K228),\" \")","v":"Trimestre 1\n\nTrimestre 2\n\nTrimestre 3\n\nTrimestre 4\n"}]
[null,null,null,null,null,null,null,null,null,null,null,null,null,null,null,{"$f":"IFERROR(MAX(GESTION_SEG_1_TRIM!H229,GESTION_SEG_2_TRIM!H229,GESTION_SEG_3_TRIM!H229,GESTION_SEG_4_TRIM!H229),\" \")","v":0},null,{"$f":"IFERROR(_xlfn.CONCAT(\"Trimestre 1\",CHAR(10),GESTION_SEG_1_TRIM!J229,CHAR(10),\"Trimestre 2\",CHAR(10),GESTION_SEG_2_TRIM!J229,CHAR(10),\"Trimestre 3\",CHAR(10),GESTION_SEG_3_TRIM!J229,CHAR(10),\"Trimestre 4\",CHAR(10),GESTION_SEG_4_TRIM!J229),\" \")","v":"Trimestre 1\n\nTrimestre 2\n\nTrimestre 3\n\nTrimestre 4\n"},{"$f":"IFERROR(_xlfn.CONCAT(\"Trimestre 1\",CHAR(10),GESTION_SEG_1_TRIM!K229,CHAR(10),\"Trimestre 2\",CHAR(10),GESTION_SEG_2_TRIM!K229,CHAR(10),\"Trimestre 3\",CHAR(10),GESTION_SEG_3_TRIM!K229,CHAR(10),\"Trimestre 4\",CHAR(10),GESTION_SEG_4_TRIM!K229),\" \")","v":"Trimestre 1\n\nTrimestre 2\n\nTrimestre 3\n\nTrimestre 4\n"}]
[null,null,null,null,null,null,null,null,null,null,null,null,null,null,null,{"$f":"IFERROR(MAX(GESTION_SEG_1_TRIM!H230,GESTION_SEG_2_TRIM!H230,GESTION_SEG_3_TRIM!H230,GESTION_SEG_4_TRIM!H230),\" \")","v":0},null,{"$f":"IFERROR(_xlfn.CONCAT(\"Trimestre 1\",CHAR(10),GESTION_SEG_1_TRIM!J230,CHAR(10),\"Trimestre 2\",CHAR(10),GESTION_SEG_2_TRIM!J230,CHAR(10),\"Trimestre 3\",CHAR(10),GESTION_SEG_3_TRIM!J230,CHAR(10),\"Trimestre 4\",CHAR(10),GESTION_SEG_4_TRIM!J230),\" \")","v":"Trimestre 1\n\nTrimestre 2\n\nTrimestre 3\n\nTrimestre 4\n"},{"$f":"IFERROR(_xlfn.CONCAT(\"Trimestre 1\",CHAR(10),GESTION_SEG_1_TRIM!K230,CHAR(10),\"Trimestre 2\",CHAR(10),GESTION_SEG_2_TRIM!K230,CHAR(10),\"Trimestre 3\",CHAR(10),GESTION_SEG_3_TRIM!K230,CHAR(10),\"Trimestre 4\",CHAR(10),GESTION_SEG_4_TRIM!K230),\" \")","v":"Trimestre 1\n\nTrimestre 2\n\nTrimestre 3\n\nTrimestre 4\n"}]
[null,null,null,null,null,null,null,null,null,null,null,null,null,null,null,{"$f":"IFERROR(MAX(GESTION_SEG_1_TRIM!H231,GESTION_SEG_2_TRIM!H231,GESTION_SEG_3_TRIM!H231,GESTION_SEG_4_TRIM!H231),\" \")","v":0},null,{"$f":"IFERROR(_xlfn.CONCAT(\"Trimestre 1\",CHAR(10),GESTION_SEG_1_TRIM!J231,CHAR(10),\"Trimestre 2\",CHAR(10),GESTION_SEG_2_TRIM!J231,CHAR(10),\"Trimestre 3\",CHAR(10),GESTION_SEG_3_TRIM!J231,CHAR(10),\"Trimestre 4\",CHAR(10),GESTION_SEG_4_TRIM!J231),\" \")","v":"Trimestre 1\n\nTrimestre 2\n\nTrimestre 3\n\nTrimestre 4\n"},{"$f":"IFERROR(_xlfn.CONCAT(\"Trimestre 1\",CHAR(10),GESTION_SEG_1_TRIM!K231,CHAR(10),\"Trimestre 2\",CHAR(10),GESTION_SEG_2_TRIM!K231,CHAR(10),\"Trimestre 3\",CHAR(10),GESTION_SEG_3_TRIM!K231,CHAR(10),\"Trimestre 4\",CHAR(10),GESTION_SEG_4_TRIM!K231),\" \")","v":"Trimestre 1\n\nTrimestre 2\n\nTrimestre 3\n\nTrimestre 4\n"}]
[null,null,null,null,null,null,null,null,null,null,null,null,null,null,null,{"$f":"IFERROR(MAX(GESTION_SEG_1_TRIM!H232,GESTION_SEG_2_TRIM!H232,GESTION_SEG_3_TRIM!H232,GESTION_SEG_4_TRIM!H232),\" \")","v":0},null,{"$f":"IFERROR(_xlfn.CONCAT(\"Trimestre 1\",CHAR(10),GESTION_SEG_1_TRIM!J232,CHAR(10),\"Trimestre 2\",CHAR(10),GESTION_SEG_2_TRIM!J232,CHAR(10),\"Trimestre 3\",CHAR(10),GESTION_SEG_3_TRIM!J232,CHAR(10),\"Trimestre 4\",CHAR(10),GESTION_SEG_4_TRIM!J232),\" \")","v":"Trimestre 1\n\nTrimestre 2\n\nTrimestre 3\n\nTrimestre 4\n"},{"$f":"IFERROR(_xlfn.CONCAT(\"Trimestre 1\",CHAR(10),GESTION_SEG_1_TRIM!K232,CHAR(10),\"Trimestre 2\",CHAR(10),GESTION_SEG_2_TRIM!K232,CHAR(10),\"Trimestre 3\",CHAR(10),GESTION_SEG_3_TRIM!K232,CHAR(10),\"Trimestre 4\",CHAR(10),GESTION_SEG_4_TRIM!K232),\" \")","v":"Trimestre 1\n\nTrimestre 2\n\nTrimestre 3\n\nTrimestre 4\n"}]
[null,null,null,null,null,null,null,null,null,null,null,null,null,null,null,{"$f":"IFERROR(MAX(GESTION_SEG_1_TRIM!H233,GESTION_SEG_2_TRIM!H233,GESTION_SEG_3_TRIM!H233,GESTION_SEG_4_TRIM!H233),\" \")","v":0},"",{"$f":"IFERROR(_xlfn.CONCAT(\"Trimestre 1\",CHAR(10),GESTION_SEG_1_TRIM!J233,CHAR(10),\"Trimestre 2\",CHAR(10),GESTION_SEG_2_TRIM!J233,CHAR(10),\"Trimestre 3\",CHAR(10),GESTION_SEG_3_TRIM!J233,CHAR(10),\"Trimestre 4\",CHAR(10),GESTION_SEG_4_TRIM!J233),\" \")","v":"Trimestre 1\n\nTrimestre 2\n\nTrimestre 3\n\nTrimestre 4\n"},{"$f":"IFERROR(_xlfn.CONCAT(\"Trimestre 1\",CHAR(10),GESTION_SEG_1_TRIM!K233,CHAR(10),\"Trimestre 2\",CHAR(10),GESTION_SEG_2_TRIM!K233,CHAR(10),\"Trimestre 3\",CHAR(10),GESTION_SEG_3_TRIM!K233,CHAR(10),\"Trimestre 4\",CHAR(10),GESTION_SEG_4_TRIM!K233),\" \")","v":"Trimestre 1\n\nTrimestre 2\n\nTrimestre 3\n\nTrimestre 4\n"}]
[null,null,null,null,null,null,null,null,null,null,null,null,null,null,null,{"$f":"IFERROR(MAX(GESTION_SEG_1_TRIM!H234,GESTION_SEG_2_TRIM!H234,GESTION_SEG_3_TRIM!H234,GESTION_SEG_4_TRIM!H234),\" \")","v":0},"",{"$f":"IFERROR(_xlfn.CONCAT(\"Trimestre 1\",CHAR(10),GESTION_SEG_1_TRIM!J234,CHAR(10),\"Trimestre 2\",CHAR(10),GESTION_SEG_2_TRIM!J234,CHAR(10),\"Trimestre 3\",CHAR(10),GESTION_SEG_3_TRIM!J234,CHAR(10),\"Trimestre 4\",CHAR(10),GESTION_SEG_4_TRIM!J234),\" \")","v":"Trimestre 1\n\nTrimestre 2\n\nTrimestre 3\n\nTrimestre 4\n"},{"$f":"IFERROR(_xlfn.CONCAT(\"Trimestre 1\",CHAR(10),GESTION_SEG_1_TRIM!K234,CHAR(10),\"Trimestre 2\",CHAR(10),GESTION_SEG_2_TRIM!K234,CHAR(10),\"Trimestre 3\",CHAR(10),GESTION_SEG_3_TRIM!K234,CHAR(10),\"Trimestre 4\",CHAR(10),GESTION_SEG_4_TRIM!K234),\" \")","v":"Trimestre 1\n\nTrimestre 2\n\nTrimestre 3\n\nTrimestre 4\n"}]
[null,null,null,null,null,null,null,null,null,null,null,null,null,null,null,{"$f":"IFERROR(MAX(GESTION_SEG_1_TRIM!H235,GESTION_SEG_2_TRIM!H235,GESTION_SEG_3_TRIM!H235,GESTION_SEG_4_TRIM!H235),\" \")","v":0},"",{"$f":"IFERROR(_xlfn.CONCAT(\"Trimestre 1\",CHAR(10),GESTION_SEG_1_TRIM!J235,CHAR(10),\"Trimestre 2\",CHAR(10),GESTION_SEG_2_TRIM!J235,CHAR(10),\"Trimestre 3\",CHAR(10),GESTION_SEG_3_TRIM!J235,CHAR(10),\"Trimestre 4\",CHAR(10),GESTION_SEG_4_TRIM!J235),\" \")","v":"Trimestre 1\n\nTrimestre 2\n\nTrimestre 3\n\nTrimestre 4\n"},{"$f":"IFERROR(_xlfn.CONCAT(\"Trimestre 1\",CHAR(10),GESTION_SEG_1_TRIM!K235,CHAR(10),\"Trimestre 2\",CHAR(10),GESTION_SEG_2_TRIM!K235,CHAR(10),\"Trimestre 3\",CHAR(10),GESTION_SEG_3_TRIM!K235,CHAR(10),\"Trimestre 4\",CHAR(10),GESTION_SEG_4_TRIM!K235),\" \")","v":"Trimestre 1\n\nTrimestre 2\n\nTrimestre 3\n\nTrimestre 4\n"}]
["5. Gobernanza, planeación estratégica y capacidad de toma de decisiones","Gobernanza, planeación estratégica y capacidad de toma de decisiones: Fortalecer la gobernanza, la planeación estratégica y la capacidad de toma de decisiones de la Rama Judicial con base en la evidencia empírica y la articulación efectiva con las demás entidades, para que la perspectiva de género y el enfoque diferencial sean transversales en el presente plan. ","1. Implementar un nuevo modelo integrado para la planeación estratégica, el seguimiento y la medición del desempeño institucional.","2. Asegurar  el cumplimiento de los objetivos institucionales, la normatividad aplicable,  la mejora del SIGCMA y la satisfacción de los usuarios, revisando de  forma continua y sistemática la planificación de la gestión y fortaleciendo la administración de riesgos y sus controles.","Transversal_todos_procesos","Transversal_todos_procesos","Seccional","Hacer seguimiento a los planes de acción ","Entregable",null,null,"Líder de cada proceso","Acta de seguimiento trimestral","2023-01-01","2023-12-31",{"$f":"IFERROR(MAX(GESTION_SEG_1_TRIM!H236,GESTION_SEG_2_TRIM!H236,GESTION_SEG_3_TRIM!H236,GESTION_SEG_4_TRIM!H236),\" \")","v":0},"",{"$f":"IFERROR(_xlfn.CONCAT(\"Trimestre 1\",CHAR(10),GESTION_SEG_1_TRIM!J236,CHAR(10),\"Trimestre 2\",CHAR(10),GESTION_SEG_2_TRIM!J236,CHAR(10),\"Trimestre 3\",CHAR(10),GESTION_SEG_3_TRIM!J236,CHAR(10),\"Trimestre 4\",CHAR(10),GESTION_SEG_4_TRIM!J236),\" \")","v":"Trimestre 1\n\nTrimestre 2\n\nTrimestre 3\n\nTrimestre 4\n"},{"$f":"IFERROR(_xlfn.CONCAT(\"Trimestre 1\",CHAR(10),GESTION_SEG_1_TRIM!K236,CHAR(10),\"Trimestre 2\",CHAR(10),GESTION_SEG_2_TRIM!K236,CHAR(10),\"Trimestre 3\",CHAR(10),GESTION_SEG_3_TRIM!K236,CHAR(10),\"Trimestre 4\",CHAR(10),GESTION_SEG_4_TRIM!K236),\" \")","v":"Trimestre 1\nDe acuerdo al cronograma establecido por nivel central, se realiza primer seguimiento al cumplimiento de actividades del plan de acción 2023\nTrimestre 2\nSe realizó la reunión de cierre SIGCMA del Consejo Seccional de la Judicatura de Caldas, correpondiente al segundo trimestre del año, en esta,se desarrollaron entre otros temas, el avance en la ejecución del Plan de Acción, los resultados de los Indicadores de Gestión, las acciones de gestión y los resultados de la audiotoría interna. Así mismo, se socializó con el grupo de trabajo el Manual del Icontec para el uso de sus logos, información que fue compartida a los correos institucionales para su aplicación.\nTrimestre 3\nSe realizó la reunión de cierre SIGCMA del Consejo Seccional de la Judicatura de Caldas, correpondiente al tercer trimestre del año, en esta,se desarrollaron entre otros temas, el avance en la ejecución del Plan de Acción, los resultados de los Indicadores de Gestión, las acciones de gestión y los resultados de la audiotoría interna. \nTrimestre 4\nSe realiza seguimiento correpondiente al cuarto trimestre del año 2023 para el avance en la ejecución del Plan de Acción de este año."}]
[null,null,null,null,"Transversal_todos_procesos","Transversal_todos_procesos","Seccional","Realizar seguimiento al control de riesgos de los diferentes procesos","Entregable",null,null,"Líder de cada proceso","Acta de seguimiento trimestral","2023-01-01","2023-12-31",{"$f":"IFERROR(MAX(GESTION_SEG_1_TRIM!H237,GESTION_SEG_2_TRIM!H237,GESTION_SEG_3_TRIM!H237,GESTION_SEG_4_TRIM!H237),\" \")","v":0},null,{"$f":"IFERROR(_xlfn.CONCAT(\"Trimestre 1\",CHAR(10),GESTION_SEG_1_TRIM!J237,CHAR(10),\"Trimestre 2\",CHAR(10),GESTION_SEG_2_TRIM!J237,CHAR(10),\"Trimestre 3\",CHAR(10),GESTION_SEG_3_TRIM!J237,CHAR(10),\"Trimestre 4\",CHAR(10),GESTION_SEG_4_TRIM!J237),\" \")","v":"Trimestre 1\nA la fecha no se ha recibido nuevo formato para seguimiento de los riesgos por proceso, por lo que se continua trabajando en el formato de 2022\nTrimestre 2\n\nTrimestre 3\n\nTrimestre 4\n"},{"$f":"IFERROR(_xlfn.CONCAT(\"Trimestre 1\",CHAR(10),GESTION_SEG_1_TRIM!K237,CHAR(10),\"Trimestre 2\",CHAR(10),GESTION_SEG_2_TRIM!K237,CHAR(10),\"Trimestre 3\",CHAR(10),GESTION_SEG_3_TRIM!K237,CHAR(10),\"Trimestre 4\",CHAR(10),GESTION_SEG_4_TRIM!K237),\" \")","v":"Trimestre 1\nNo se han materializado riesgos\nTrimestre 2\nNo se han materializado riesgos\nTrimestre 3\nNo se han materializado riesgos\nTrimestre 4\nSe hizo el seguimiento a los respectivos mapas de riesgos de los proces del Cosnejo Seccional y no se materializaron riesgos para el cuarto trimentre del año"}]
[null,null,null,null,"Estratégicos","Transversal_todos_procesos","Seccional","Consolidar y analizar los indicadores de los procesos del SIGCMA","Entregable",null,null,"Líder de cada proceso","Acta de seguimiento trimestral","2023-01-01","2023-12-31",{"$f":"IFERROR(MAX(GESTION_SEG_1_TRIM!H238,GESTION_SEG_2_TRIM!H238,GESTION_SEG_3_TRIM!H238,GESTION_SEG_4_TRIM!H238),\" \")","v":0},null,{"$f":"IFERROR(_xlfn.CONCAT(\"Trimestre 1\",CHAR(10),GESTION_SEG_1_TRIM!J238,CHAR(10),\"Trimestre 2\",CHAR(10),GESTION_SEG_2_TRIM!J238,CHAR(10),\"Trimestre 3\",CHAR(10),GESTION_SEG_3_TRIM!J238,CHAR(10),\"Trimestre 4\",CHAR(10),GESTION_SEG_4_TRIM!J238),\" \")","v":"Trimestre 1\n\nTrimestre 2\n\nTrimestre 3\n\nTrimestre 4\n"},{"$f":"IFERROR(_xlfn.CONCAT(\"Trimestre 1\",CHAR(10),GESTION_SEG_1_TRIM!K238,CHAR(10),\"Trimestre 2\",CHAR(10),GESTION_SEG_2_TRIM!K238,CHAR(10),\"Trimestre 3\",CHAR(10),GESTION_SEG_3_TRIM!K238,CHAR(10),\"Trimestre 4\",CHAR(10),GESTION_SEG_4_TRIM!K238),\" \")","v":"Trimestre 1\nSe consolidan los indicadores del primer trimestre, para aqullos indicadores con segimiento trimestral así:\n\n- Avance de las actividades de la matriz de comunicaciones Manizales\n- Quejas, Reclamos, Sugerencias y derechos de petición atendidos oportunamente Manizales\n- Tiempo Promedio de Atención de Quejas, Reclamos y Sugerencias\n-Atención de Propuestas de Reordenamiento y Descongestión\n- Oportunidad en el reporte de información estadística de gestión judicial Manizales\n- Cierre Oportuno de Acciones de Gestión \n- Avance Plan de implementación, mantenimiento y mejoramiento del SICGMA\n\nTodos estos indicadores tuvieron un resultado positivo pues superaron en el nivel de referencia establecido.\nTrimestre 2\nSe realizó la reunión de cierre SIGCMA del Consejo Seccional de la Judicatura de Caldas, correpondiente al segundo trimestre del año, en esta,se desarrollaron entre otros temas, el avance en la ejecución del Plan de Acción, los resultados de los Indicadores de Gestión, las acciones de gestión y los resultados de la audiotoría interna. Así mismo, se socializó con el grupo de trabajo el Manual del Icontec para el uso de sus logos, información que fue compartida a los correos institucionales para su aplicación.\nTrimestre 3\nSe realizó la reunión de cierre SIGCMA del Consejo Seccional de la Judicatura de Caldas, correpondiente al segundo trimestre del año, en esta,se desarrollaron entre otros temas, el avance en la ejecución del Plan de Acción, los resultados de los Indicadores de Gestión, las acciones de gestión y los resultados de la audiotoría interna.\nTrimestre 4\nSe consolida la inforación correspondiente a los indicadores, con la observación de que los indicadores del proceso de  Gestión de la información estadística no es posible calcularlo aún pues el terminos que tienen los juzgados para la presentación de este reporte, es posterior a la fecha de esta entrega del Plan de acción."},"Indicadores CSJC\nhttps://etbcsj-my.sharepoint.com/:f:/g/personal/sacsma_cendoj_ramajudicial_gov_co/EjQxuw-mRnZHvn7CaDw43PMBByow8rvTHf6lZO_8Fbx0QQ?e=Tvtorl \n"]
[null,null,null,null,"Transversal_todos_procesos","Transversal_todos_procesos","Seccional","Formular y tramitar las acciones de gestión (correctivas y preventivas)","Entregable",null,null,"Líder de cada proceso","Acta de seguimiento trimestral","2023-01-01","2023-12-31",{"$f":"IFERROR(MAX(GESTION_SEG_1_TRIM!H239,GESTION_SEG_2_TRIM!H239,GESTION_SEG_3_TRIM!H239,GESTION_SEG_4_TRIM!H239),\" \")","v":0},null,{"$f":"IFERROR(_xlfn.CONCAT(\"Trimestre 1\",CHAR(10),GESTION_SEG_1_TRIM!J239,CHAR(10),\"Trimestre 2\",CHAR(10),GESTION_SEG_2_TRIM!J239,CHAR(10),\"Trimestre 3\",CHAR(10),GESTION_SEG_3_TRIM!J239,CHAR(10),\"Trimestre 4\",CHAR(10),GESTION_SEG_4_TRIM!J239),\" \")","v":"Trimestre 1\n\nTrimestre 2\n\nTrimestre 3\n\nTrimestre 4\n"},{"$f":"IFERROR(_xlfn.CONCAT(\"Trimestre 1\",CHAR(10),GESTION_SEG_1_TRIM!K239,CHAR(10),\"Trimestre 2\",CHAR(10),GESTION_SEG_2_TRIM!K239,CHAR(10),\"Trimestre 3\",CHAR(10),GESTION_SEG_3_TRIM!K239,CHAR(10),\"Trimestre 4\",CHAR(10),GESTION_SEG_4_TRIM!K239),\" \")","v":"Trimestre 1\nDurante el primer trimestre, el Consejo Seccional de la Judicatura de Caldas implemento 2 acciones de mejora, la acción número 01-AC-CSJC-2023 y la 02-AC-CSJC-2023, las cuales se encuentran cerradas.\nTrimestre 2\nDurante el segundo trimestre, el Consejo Seccional de la Judicatura de Caldas implemento 2 acciones de mejora, la acción número 03-AC-CSJC-2023 y la 04-AC-CSJC-2023, las cuales se encuentran abiertas a la fecha ( 19 julio de 2023).\nTrimestre 3\nDurante el tercer trimestre, el Consejo Seccional de la Judicatura de Caldas no implemento acciones de mejora\nTrimestre 4\nDurante el cuarto trimestre, el Consejo Seccional de la Judicatura de Caldas no implemento acciones de mejora"},"Listado Maestro de Acciones:\n\nhttps://etbcsj-my.sharepoint.com/:f:/g/personal/sacsma_cendoj_ramajudicial_gov_co/Eh2RkONN5NRPjv9fWxJblcgBbo6f0FJeuDmne8Yp-YW2jA?e=CLj1MS"]
[null,null,null,null,"Evaluación_y_Mejora","Admin - Mejoramiento del Sistema Integrado de Gestión y Control de la Calidad y del Medio Ambiente","Seccional","Coordinar la realización de auditorias internas y externas","Entregable",null,null,"Líder SIGCMA seccional","Comunicación de la programación a los interesados","2023-05-02","2023-07-28",{"$f":"IFERROR(MAX(GESTION_SEG_1_TRIM!H240,GESTION_SEG_2_TRIM!H240,GESTION_SEG_3_TRIM!H240,GESTION_SEG_4_TRIM!H240),\" \")","v":0},null,{"$f":"IFERROR(_xlfn.CONCAT(\"Trimestre 1\",CHAR(10),GESTION_SEG_1_TRIM!J240,CHAR(10),\"Trimestre 2\",CHAR(10),GESTION_SEG_2_TRIM!J240,CHAR(10),\"Trimestre 3\",CHAR(10),GESTION_SEG_3_TRIM!J240,CHAR(10),\"Trimestre 4\",CHAR(10),GESTION_SEG_4_TRIM!J240),\" \")","v":"Trimestre 1\n\nTrimestre 2\n\nTrimestre 3\n\nTrimestre 4\n"},{"$f":"IFERROR(_xlfn.CONCAT(\"Trimestre 1\",CHAR(10),GESTION_SEG_1_TRIM!K240,CHAR(10),\"Trimestre 2\",CHAR(10),GESTION_SEG_2_TRIM!K240,CHAR(10),\"Trimestre 3\",CHAR(10),GESTION_SEG_3_TRIM!K240,CHAR(10),\"Trimestre 4\",CHAR(10),GESTION_SEG_4_TRIM!K240),\" \")","v":"Trimestre 1\n\nTrimestre 2\nEl 30 de junio de 2023, se recibió correo por parte del equipo auditor liderado por el Dr. Javier Alfonso Naranjo, quien solicitó la remisión de los docuemnteos correspondientes a las caracterizaciones e indicadores de las dependencias certificadas en la seccional. Lo anterior, como preparación de las auditorías internas de la Rama Judicial programadas para el 25 de julio de 2023.\nTrimestre 3\nLas auditorías internas se llevaron a cabo el 11/08/2023 y fue una auditoría integral (SGC, SGA y SG-SST) No se presentaron no conformidades y las oportunidades de mejora fueron socializadas y documentadas apropiadamente.\n\nPor otra parte la aduitoría externa fue realizada el 13/09/2023, a la fecha no se ha recibido el informe de esta\nTrimestre 4\nLas auditorías internas se llevaron a cabo el 11/08/2023 y fue una auditoría integral (SGC, SGA y SG-SST) No se presentaron no conformidades y las oportunidades de mejora fueron socializadas y documentadas apropiadamente.\n\nPor otra parte la aduitoría externa fue realizada el 13/09/2023, a la fecha no se ha recibido el informe de esta"}]
[null,null,null,null,"Misionales","Admin - Administración de la Carrera Judicial","Seccional","Calificación integral de servicio - Funcionarios Judiciales","Entregable",null,null,"Magistrada Consejo Seccional","Informe","2023-01-01","2023-12-31",{"$f":"IFERROR(MAX(GESTION_SEG_1_TRIM!H241,GESTION_SEG_2_TRIM!H241,GESTION_SEG_3_TRIM!H241,GESTION_SEG_4_TRIM!H241),\" \")","v":0},null,{"$f":"IFERROR(_xlfn.CONCAT(\"Trimestre 1\",CHAR(10),GESTION_SEG_1_TRIM!J241,CHAR(10),\"Trimestre 2\",CHAR(10),GESTION_SEG_2_TRIM!J241,CHAR(10),\"Trimestre 3\",CHAR(10),GESTION_SEG_3_TRIM!J241,CHAR(10),\"Trimestre 4\",CHAR(10),GESTION_SEG_4_TRIM!J241),\" \")","v":"Trimestre 1\n\nTrimestre 2\n\nTrimestre 3\n\nTrimestre 4\n"},{"$f":"IFERROR(_xlfn.CONCAT(\"Trimestre 1\",CHAR(10),GESTION_SEG_1_TRIM!K241,CHAR(10),\"Trimestre 2\",CHAR(10),GESTION_SEG_2_TRIM!K241,CHAR(10),\"Trimestre 3\",CHAR(10),GESTION_SEG_3_TRIM!K241,CHAR(10),\"Trimestre 4\",CHAR(10),GESTION_SEG_4_TRIM!K241),\" \")","v":"Trimestre 1\nActividad a la que se le hace seguimiento anual\nTrimestre 2\nActividad con seguimiento anual, sin embargo, esta actividad ya esta siendo ejecutada y tiene un gran avance, esperando terminarse durante el mes de agosoto.\nTrimestre 3\nLa actividad se culminó en el mes de agosto de 2023\nTrimestre 4\nLa actividad se culminó en el mes de agosto de 2023"}]
[null,null,null,null,"Misionales","Admin - Administración de la Carrera Judicial","Seccional","Consolidación calificación integral de los empleados","Entregable",null,null,"Magistrada Consejo Seccional","Consolidado calificación","2023-01-01","2023-12-31",{"$f":"IFERROR(MAX(GESTION_SEG_1_TRIM!H242,GESTION_SEG_2_TRIM!H242,GESTION_SEG_3_TRIM!H242,GESTION_SEG_4_TRIM!H242),\" \")","v":0},"",{"$f":"IFERROR(_xlfn.CONCAT(\"Trimestre 1\",CHAR(10),GESTION_SEG_1_TRIM!J242,CHAR(10),\"Trimestre 2\",CHAR(10),GESTION_SEG_2_TRIM!J242,CHAR(10),\"Trimestre 3\",CHAR(10),GESTION_SEG_3_TRIM!J242,CHAR(10),\"Trimestre 4\",CHAR(10),GESTION_SEG_4_TRIM!J242),\" \")","v":"Trimestre 1\n\nTrimestre 2\n\nTrimestre 3\n\nTrimestre 4\n"},{"$f":"IFERROR(_xlfn.CONCAT(\"Trimestre 1\",CHAR(10),GESTION_SEG_1_TRIM!K242,CHAR(10),\"Trimestre 2\",CHAR(10),GESTION_SEG_2_TRIM!K242,CHAR(10),\"Trimestre 3\",CHAR(10),GESTION_SEG_3_TRIM!K242,CHAR(10),\"Trimestre 4\",CHAR(10),GESTION_SEG_4_TRIM!K242),\" \")","v":"Trimestre 1\nActividad a la que se le hace seguimiento anual\nTrimestre 2\nActividad con seguimiento anual, sin embargo, esta actividad ya esta siendo ejecutada y tiene un gran avance, esperando terminarse durante el mes de agosoto.\nTrimestre 3\nLa actividad se culminó en el mes de agosto de 2023\nTrimestre 4\nLa actividad se culminó en el mes de agosto de 2023"}]
[null,null,null,null,null,null,null,null,null,null,null,null,null,null,null,{"$f":"IFERROR(MAX(GESTION_SEG_1_TRIM!H243,GESTION_SEG_2_TRIM!H243,GESTION_SEG_3_TRIM!H243,GESTION_SEG_4_TRIM!H243),\" \")","v":0},"",{"$f":"IFERROR(_xlfn.CONCAT(\"Trimestre 1\",CHAR(10),GESTION_SEG_1_TRIM!J243,CHAR(10),\"Trimestre 2\",CHAR(10),GESTION_SEG_2_TRIM!J243,CHAR(10),\"Trimestre 3\",CHAR(10),GESTION_SEG_3_TRIM!J243,CHAR(10),\"Trimestre 4\",CHAR(10),GESTION_SEG_4_TRIM!J243),\" \")","v":"Trimestre 1\n\nTrimestre 2\n\nTrimestre 3\n\nTrimestre 4\n"},{"$f":"IFERROR(_xlfn.CONCAT(\"Trimestre 1\",CHAR(10),GESTION_SEG_1_TRIM!K243,CHAR(10),\"Trimestre 2\",CHAR(10),GESTION_SEG_2_TRIM!K243,CHAR(10),\"Trimestre 3\",CHAR(10),GESTION_SEG_3_TRIM!K243,CHAR(10),\"Trimestre 4\",CHAR(10),GESTION_SEG_4_TRIM!K243),\" \")","v":"Trimestre 1\n\nTrimestre 2\n\nTrimestre 3\n\nTrimestre 4\n"}]
[null,null,null,null,null,null,null,null,null,null,null,null,null,null,null,{"$f":"IFERROR(MAX(GESTION_SEG_1_TRIM!H244,GESTION_SEG_2_TRIM!H244,GESTION_SEG_3_TRIM!H244,GESTION_SEG_4_TRIM!H244),\" \")","v":0},"",{"$f":"IFERROR(_xlfn.CONCAT(\"Trimestre 1\",CHAR(10),GESTION_SEG_1_TRIM!J244,CHAR(10),\"Trimestre 2\",CHAR(10),GESTION_SEG_2_TRIM!J244,CHAR(10),\"Trimestre 3\",CHAR(10),GESTION_SEG_3_TRIM!J244,CHAR(10),\"Trimestre 4\",CHAR(10),GESTION_SEG_4_TRIM!J244),\" \")","v":"Trimestre 1\n\nTrimestre 2\n\nTrimestre 3\n\nTrimestre 4\n"},{"$f":"IFERROR(_xlfn.CONCAT(\"Trimestre 1\",CHAR(10),GESTION_SEG_1_TRIM!K244,CHAR(10),\"Trimestre 2\",CHAR(10),GESTION_SEG_2_TRIM!K244,CHAR(10),\"Trimestre 3\",CHAR(10),GESTION_SEG_3_TRIM!K244,CHAR(10),\"Trimestre 4\",CHAR(10),GESTION_SEG_4_TRIM!K244),\" \")","v":"Trimestre 1\n\nTrimestre 2\n\nTrimestre 3\n\nTrimestre 4\n"}]
[null,null,null,null,null,null,null,null,null,null,null,null,null,null,null,{"$f":"IFERROR(MAX(GESTION_SEG_1_TRIM!H245,GESTION_SEG_2_TRIM!H245,GESTION_SEG_3_TRIM!H245,GESTION_SEG_4_TRIM!H245),\" \")","v":0},"",{"$f":"IFERROR(_xlfn.CONCAT(\"Trimestre 1\",CHAR(10),GESTION_SEG_1_TRIM!J245,CHAR(10),\"Trimestre 2\",CHAR(10),GESTION_SEG_2_TRIM!J245,CHAR(10),\"Trimestre 3\",CHAR(10),GESTION_SEG_3_TRIM!J245,CHAR(10),\"Trimestre 4\",CHAR(10),GESTION_SEG_4_TRIM!J245),\" \")","v":"Trimestre 1\n\nTrimestre 2\n\nTrimestre 3\n\nTrimestre 4\n"},{"$f":"IFERROR(_xlfn.CONCAT(\"Trimestre 1\",CHAR(10),GESTION_SEG_1_TRIM!K245,CHAR(10),\"Trimestre 2\",CHAR(10),GESTION_SEG_2_TRIM!K245,CHAR(10),\"Trimestre 3\",CHAR(10),GESTION_SEG_3_TRIM!K245,CHAR(10),\"Trimestre 4\",CHAR(10),GESTION_SEG_4_TRIM!K245),\" \")","v":"Trimestre 1\n\nTrimestre 2\n\nTrimestre 3\n\nTrimestre 4\n"}]
[null,null,"2. Definir e implementar el modelo optimizado de formulación, seguimiento y evaluación de la política pública judicial.",null,null,null,null,null,null,null,null,null,null,null,null,{"$f":"IFERROR(MAX(GESTION_SEG_1_TRIM!H246,GESTION_SEG_2_TRIM!H246,GESTION_SEG_3_TRIM!H246,GESTION_SEG_4_TRIM!H246),\" \")","v":0},"",{"$f":"IFERROR(_xlfn.CONCAT(\"Trimestre 1\",CHAR(10),GESTION_SEG_1_TRIM!J246,CHAR(10),\"Trimestre 2\",CHAR(10),GESTION_SEG_2_TRIM!J246,CHAR(10),\"Trimestre 3\",CHAR(10),GESTION_SEG_3_TRIM!J246,CHAR(10),\"Trimestre 4\",CHAR(10),GESTION_SEG_4_TRIM!J246),\" \")","v":"Trimestre 1\n\nTrimestre 2\n\nTrimestre 3\n\nTrimestre 4\n"},{"$f":"IFERROR(_xlfn.CONCAT(\"Trimestre 1\",CHAR(10),GESTION_SEG_1_TRIM!K246,CHAR(10),\"Trimestre 2\",CHAR(10),GESTION_SEG_2_TRIM!K246,CHAR(10),\"Trimestre 3\",CHAR(10),GESTION_SEG_3_TRIM!K246,CHAR(10),\"Trimestre 4\",CHAR(10),GESTION_SEG_4_TRIM!K246),\" \")","v":"Trimestre 1\n\nTrimestre 2\n\nTrimestre 3\n\nTrimestre 4\n"}]
[null,null,null,null,null,null,null,null,null,null,null,null,null,null,null,{"$f":"IFERROR(MAX(GESTION_SEG_1_TRIM!H247,GESTION_SEG_2_TRIM!H247,GESTION_SEG_3_TRIM!H247,GESTION_SEG_4_TRIM!H247),\" \")","v":0},"",{"$f":"IFERROR(_xlfn.CONCAT(\"Trimestre 1\",CHAR(10),GESTION_SEG_1_TRIM!J247,CHAR(10),\"Trimestre 2\",CHAR(10),GESTION_SEG_2_TRIM!J247,CHAR(10),\"Trimestre 3\",CHAR(10),GESTION_SEG_3_TRIM!J247,CHAR(10),\"Trimestre 4\",CHAR(10),GESTION_SEG_4_TRIM!J247),\" \")","v":"Trimestre 1\n\nTrimestre 2\n\nTrimestre 3\n\nTrimestre 4\n"},{"$f":"IFERROR(_xlfn.CONCAT(\"Trimestre 1\",CHAR(10),GESTION_SEG_1_TRIM!K247,CHAR(10),\"Trimestre 2\",CHAR(10),GESTION_SEG_2_TRIM!K247,CHAR(10),\"Trimestre 3\",CHAR(10),GESTION_SEG_3_TRIM!K247,CHAR(10),\"Trimestre 4\",CHAR(10),GESTION_SEG_4_TRIM!K247),\" \")","v":"Trimestre 1\n\nTrimestre 2\n\nTrimestre 3\n\nTrimestre 4\n"}]
[null,null,null,null,null,null,null,null,null,null,null,null,null,null,null,{"$f":"IFERROR(MAX(GESTION_SEG_1_TRIM!H248,GESTION_SEG_2_TRIM!H248,GESTION_SEG_3_TRIM!H248,GESTION_SEG_4_TRIM!H248),\" \")","v":0},null,{"$f":"IFERROR(_xlfn.CONCAT(\"Trimestre 1\",CHAR(10),GESTION_SEG_1_TRIM!J248,CHAR(10),\"Trimestre 2\",CHAR(10),GESTION_SEG_2_TRIM!J248,CHAR(10),\"Trimestre 3\",CHAR(10),GESTION_SEG_3_TRIM!J248,CHAR(10),\"Trimestre 4\",CHAR(10),GESTION_SEG_4_TRIM!J248),\" \")","v":"Trimestre 1\n\nTrimestre 2\n\nTrimestre 3\n\nTrimestre 4\n"},{"$f":"IFERROR(_xlfn.CONCAT(\"Trimestre 1\",CHAR(10),GESTION_SEG_1_TRIM!K248,CHAR(10),\"Trimestre 2\",CHAR(10),GESTION_SEG_2_TRIM!K248,CHAR(10),\"Trimestre 3\",CHAR(10),GESTION_SEG_3_TRIM!K248,CHAR(10),\"Trimestre 4\",CHAR(10),GESTION_SEG_4_TRIM!K248),\" \")","v":"Trimestre 1\n\nTrimestre 2\n\nTrimestre 3\n\nTrimestre 4\n"}]
[null,null,null,null,null,null,null,null,null,null,null,null,null,null,null,{"$f":"IFERROR(MAX(GESTION_SEG_1_TRIM!H249,GESTION_SEG_2_TRIM!H249,GESTION_SEG_3_TRIM!H249,GESTION_SEG_4_TRIM!H249),\" \")","v":0},null,{"$f":"IFERROR(_xlfn.CONCAT(\"Trimestre 1\",CHAR(10),GESTION_SEG_1_TRIM!J249,CHAR(10),\"Trimestre 2\",CHAR(10),GESTION_SEG_2_TRIM!J249,CHAR(10),\"Trimestre 3\",CHAR(10),GESTION_SEG_3_TRIM!J249,CHAR(10),\"Trimestre 4\",CHAR(10),GESTION_SEG_4_TRIM!J249),\" \")","v":"Trimestre 1\n\nTrimestre 2\n\nTrimestre 3\n\nTrimestre 4\n"},{"$f":"IFERROR(_xlfn.CONCAT(\"Trimestre 1\",CHAR(10),GESTION_SEG_1_TRIM!K249,CHAR(10),\"Trimestre 2\",CHAR(10),GESTION_SEG_2_TRIM!K249,CHAR(10),\"Trimestre 3\",CHAR(10),GESTION_SEG_3_TRIM!K249,CHAR(10),\"Trimestre 4\",CHAR(10),GESTION_SEG_4_TRIM!K249),\" \")","v":"Trimestre 1\n\nTrimestre 2\n\nTrimestre 3\n\nTrimestre 4\n"}]
[null,null,null,null,null,null,null,null,null,null,null,null,null,null,null,{"$f":"IFERROR(MAX(GESTION_SEG_1_TRIM!H250,GESTION_SEG_2_TRIM!H250,GESTION_SEG_3_TRIM!H250,GESTION_SEG_4_TRIM!H250),\" \")","v":0},null,{"$f":"IFERROR(_xlfn.CONCAT(\"Trimestre 1\",CHAR(10),GESTION_SEG_1_TRIM!J250,CHAR(10),\"Trimestre 2\",CHAR(10),GESTION_SEG_2_TRIM!J250,CHAR(10),\"Trimestre 3\",CHAR(10),GESTION_SEG_3_TRIM!J250,CHAR(10),\"Trimestre 4\",CHAR(10),GESTION_SEG_4_TRIM!J250),\" \")","v":"Trimestre 1\n\nTrimestre 2\n\nTrimestre 3\n\nTrimestre 4\n"},{"$f":"IFERROR(_xlfn.CONCAT(\"Trimestre 1\",CHAR(10),GESTION_SEG_1_TRIM!K250,CHAR(10),\"Trimestre 2\",CHAR(10),GESTION_SEG_2_TRIM!K250,CHAR(10),\"Trimestre 3\",CHAR(10),GESTION_SEG_3_TRIM!K250,CHAR(10),\"Trimestre 4\",CHAR(10),GESTION_SEG_4_TRIM!K250),\" \")","v":"Trimestre 1\n\nTrimestre 2\n\nTrimestre 3\n\nTrimestre 4\n"}]
[null,null,null,null,null,null,null,null,null,null,null,null,null,null,null,{"$f":"IFERROR(MAX(GESTION_SEG_1_TRIM!H251,GESTION_SEG_2_TRIM!H251,GESTION_SEG_3_TRIM!H251,GESTION_SEG_4_TRIM!H251),\" \")","v":0},null,{"$f":"IFERROR(_xlfn.CONCAT(\"Trimestre 1\",CHAR(10),GESTION_SEG_1_TRIM!J251,CHAR(10),\"Trimestre 2\",CHAR(10),GESTION_SEG_2_TRIM!J251,CHAR(10),\"Trimestre 3\",CHAR(10),GESTION_SEG_3_TRIM!J251,CHAR(10),\"Trimestre 4\",CHAR(10),GESTION_SEG_4_TRIM!J251),\" \")","v":"Trimestre 1\n\nTrimestre 2\n\nTrimestre 3\n\nTrimestre 4\n"},{"$f":"IFERROR(_xlfn.CONCAT(\"Trimestre 1\",CHAR(10),GESTION_SEG_1_TRIM!K251,CHAR(10),\"Trimestre 2\",CHAR(10),GESTION_SEG_2_TRIM!K251,CHAR(10),\"Trimestre 3\",CHAR(10),GESTION_SEG_3_TRIM!K251,CHAR(10),\"Trimestre 4\",CHAR(10),GESTION_SEG_4_TRIM!K251),\" \")","v":"Trimestre 1\n\nTrimestre 2\n\nTrimestre 3\n\nTrimestre 4\n"}]
[null,null,null,null,null,null,null,null,null,null,null,null,null,null,null,{"$f":"IFERROR(MAX(GESTION_SEG_1_TRIM!H252,GESTION_SEG_2_TRIM!H252,GESTION_SEG_3_TRIM!H252,GESTION_SEG_4_TRIM!H252),\" \")","v":0},null,{"$f":"IFERROR(_xlfn.CONCAT(\"Trimestre 1\",CHAR(10),GESTION_SEG_1_TRIM!J252,CHAR(10),\"Trimestre 2\",CHAR(10),GESTION_SEG_2_TRIM!J252,CHAR(10),\"Trimestre 3\",CHAR(10),GESTION_SEG_3_TRIM!J252,CHAR(10),\"Trimestre 4\",CHAR(10),GESTION_SEG_4_TRIM!J252),\" \")","v":"Trimestre 1\n\nTrimestre 2\n\nTrimestre 3\n\nTrimestre 4\n"},{"$f":"IFERROR(_xlfn.CONCAT(\"Trimestre 1\",CHAR(10),GESTION_SEG_1_TRIM!K252,CHAR(10),\"Trimestre 2\",CHAR(10),GESTION_SEG_2_TRIM!K252,CHAR(10),\"Trimestre 3\",CHAR(10),GESTION_SEG_3_TRIM!K252,CHAR(10),\"Trimestre 4\",CHAR(10),GESTION_SEG_4_TRIM!K252),\" \")","v":"Trimestre 1\n\nTrimestre 2\n\nTrimestre 3\n\nTrimestre 4\n"}]
[null,null,null,null,null,null,null,null,null,null,null,null,null,null,null,{"$f":"IFERROR(MAX(GESTION_SEG_1_TRIM!H253,GESTION_SEG_2_TRIM!H253,GESTION_SEG_3_TRIM!H253,GESTION_SEG_4_TRIM!H253),\" \")","v":0},"",{"$f":"IFERROR(_xlfn.CONCAT(\"Trimestre 1\",CHAR(10),GESTION_SEG_1_TRIM!J253,CHAR(10),\"Trimestre 2\",CHAR(10),GESTION_SEG_2_TRIM!J253,CHAR(10),\"Trimestre 3\",CHAR(10),GESTION_SEG_3_TRIM!J253,CHAR(10),\"Trimestre 4\",CHAR(10),GESTION_SEG_4_TRIM!J253),\" \")","v":"Trimestre 1\n\nTrimestre 2\n\nTrimestre 3\n\nTrimestre 4\n"},{"$f":"IFERROR(_xlfn.CONCAT(\"Trimestre 1\",CHAR(10),GESTION_SEG_1_TRIM!K253,CHAR(10),\"Trimestre 2\",CHAR(10),GESTION_SEG_2_TRIM!K253,CHAR(10),\"Trimestre 3\",CHAR(10),GESTION_SEG_3_TRIM!K253,CHAR(10),\"Trimestre 4\",CHAR(10),GESTION_SEG_4_TRIM!K253),\" \")","v":"Trimestre 1\n\nTrimestre 2\n\nTrimestre 3\n\nTrimestre 4\n"}]
[null,null,null,null,null,null,null,null,null,null,null,null,null,null,null,{"$f":"IFERROR(MAX(GESTION_SEG_1_TRIM!H254,GESTION_SEG_2_TRIM!H254,GESTION_SEG_3_TRIM!H254,GESTION_SEG_4_TRIM!H254),\" \")","v":0},"",{"$f":"IFERROR(_xlfn.CONCAT(\"Trimestre 1\",CHAR(10),GESTION_SEG_1_TRIM!J254,CHAR(10),\"Trimestre 2\",CHAR(10),GESTION_SEG_2_TRIM!J254,CHAR(10),\"Trimestre 3\",CHAR(10),GESTION_SEG_3_TRIM!J254,CHAR(10),\"Trimestre 4\",CHAR(10),GESTION_SEG_4_TRIM!J254),\" \")","v":"Trimestre 1\n\nTrimestre 2\n\nTrimestre 3\n\nTrimestre 4\n"},{"$f":"IFERROR(_xlfn.CONCAT(\"Trimestre 1\",CHAR(10),GESTION_SEG_1_TRIM!K254,CHAR(10),\"Trimestre 2\",CHAR(10),GESTION_SEG_2_TRIM!K254,CHAR(10),\"Trimestre 3\",CHAR(10),GESTION_SEG_3_TRIM!K254,CHAR(10),\"Trimestre 4\",CHAR(10),GESTION_SEG_4_TRIM!K254),\" \")","v":"Trimestre 1\n\nTrimestre 2\n\nTrimestre 3\n\nTrimestre 4\n"}]
[null,null,null,null,null,null,null,null,null,null,null,null,null,null,null,{"$f":"IFERROR(MAX(GESTION_SEG_1_TRIM!H255,GESTION_SEG_2_TRIM!H255,GESTION_SEG_3_TRIM!H255,GESTION_SEG_4_TRIM!H255),\" \")","v":0},"",{"$f":"IFERROR(_xlfn.CONCAT(\"Trimestre 1\",CHAR(10),GESTION_SEG_1_TRIM!J255,CHAR(10),\"Trimestre 2\",CHAR(10),GESTION_SEG_2_TRIM!J255,CHAR(10),\"Trimestre 3\",CHAR(10),GESTION_SEG_3_TRIM!J255,CHAR(10),\"Trimestre 4\",CHAR(10),GESTION_SEG_4_TRIM!J255),\" \")","v":"Trimestre 1\n\nTrimestre 2\n\nTrimestre 3\n\nTrimestre 4\n"},{"$f":"IFERROR(_xlfn.CONCAT(\"Trimestre 1\",CHAR(10),GESTION_SEG_1_TRIM!K255,CHAR(10),\"Trimestre 2\",CHAR(10),GESTION_SEG_2_TRIM!K255,CHAR(10),\"Trimestre 3\",CHAR(10),GESTION_SEG_3_TRIM!K255,CHAR(10),\"Trimestre 4\",CHAR(10),GESTION_SEG_4_TRIM!K255),\" \")","v":"Trimestre 1\n\nTrimestre 2\n\nTrimestre 3\n\nTrimestre 4\n"}]

{"sheet":"GESTION_SEG_4_TRIM","index":5,"n_rows":255,"n_cols":12,"rows_kept":255,"cut":false,"hidden":false,"merged":[[25,2,34,2],[25,3,34,3],[35,2,44,2],[35,3,44,3],[1,0,1,10],[2,0,2,3],[2,4,2,9],[2,10,4,10],[3,0,4,1],[3,2,4,2],[3,3,4,3],[3,4,3,9],[45,2,54,2],[45,3,54,3],[55,0,114,0],[55,1,114,1],[55,2,64,2],[55,3,114,3],[65,2,74,2],[75,2,84,2],[85,2,94,2],[95,2,104,2],[5,0,54,0],[5,1,54,1],[5,2,14,2],[5,3,14,3],[15,2,24,2],[15,3,24,3],[105,2,114,2],[115,0,184,0],[115,1,184,1],[115,2,124,2],[115,3,124,3],[125,2,134,2],[125,3,134,3],[135,2,144,2],[135,3,144,3],[145,2,154,2],[145,3,174,3],[155,2,164,2],[165,2,174,2],[175,2,184,2],[175,3,184,3],[205,2,214,2],[215,2,224,2],[225,2,234,2],[225,3,234,3],[235,0,254,0],[235,1,254,1],[235,2,244,2],[235,3,254,3],[245,2,254,2],[185,0,234,0],[185,1,234,1],[185,2,194,2],[185,3,224,3],[195,2,204,2]]}
[]
["CONSEJO SUPERIOR DE LA JUDICATURA \nUNIDADES MISIONALES DEL CONSEJO SUPERIOR DE LA JUDICATURA - \nDIRECCIÓN EJECUTIVA DE ADMINISTRACIÓN JUDICIAL - UNIDADES MISIONALES DE LA DEAJ\nDIRECCIONES SECCIONALES DE ADMINISTRACIÓN JUDICIAL - DEPENDENCIAS JUDICIALES CERTIFICADAS"]
["PLAN SECTORIAL DE DESARROLLO 2023-2026 - OBJETIVOS SIGCMA",null,null,null,null,null,null,null,null,null," ANÁLISIS RESULTADO"]
["OBJETIVO ESTRATÉGICO",null,"OBJETIVO ESPECÍFICO PSD","OBJETIVO ESPECÍFICO SIGCMA","MEDICIÓN DE LA GESTIÓN ANUAL"]
[null,null,null,null,"ACTIVIDADES ","INDIQUE SI ES ENTREGABLE O META CUANTIFICABLE","META ANUAL","AVANCE DE LA META ","NIVEL CUMPLIMIENTO","DIFICULTADES PARA LOGRAR LA META PROPUESTA"]
["1. Acceso e Infraestructura Física","Acceso e Infraestructura Física: Ampliar, en todo el territorio nacional, el acceso a una justicia efectiva, pronta, equitativa e incluyente, reduciendo el atraso y la congestión, de acuerdo con las necesidades de la demanda de justicia por jurisdicción y especialidad, y mejorando la articulación con la justicia restaurativa y terapéutica, y otros mecanismos de solución de conflictos y consolidando una infraestructura física óptima para el acceso a la justicia.","1. Ampliar el acceso a justicia para atender las necesidades jurídicas de los ciudadanos con un enfoque diferencial, de una manera pronta, reduciendo las inequidades y las brechas territoriales de acceso.","2. Asegurar  el cumplimiento de los objetivos institucionales, la normatividad aplicable,  la mejora del SIGCMA y la satisfacción de los usuarios, revisando de  forma continua y sistemática la planificación de la gestión y fortaleciendo la administración de riesgos y sus controles",{"$f":"IFERROR(GESTION!H6,\" \")","v":"Generar propuestas de reordenamiento para el mejoramiento de la administración de justciai"},{"$f":"IFERROR(GESTION!I6,\" \")","v":"Entregable"},{"$f":"IFERROR(GESTION!J6,\" \")","v":0},null,{"$f":"IFERROR(H6/G6,\"\")","v":""},null,"Durante el cuarto trimestre esta Corporación envió al Consejo Superior de la Judicatura un proyecto de reordenamiento, así:\n\n1. Propuesta Radicado 2023-006:\nCon oficio CSJCAO23-1869 se envía la propuesta con la que se busca consolidar las necesidades de reforzamiento de la oferta  judicial (despachos y cargos de empleados del Distrito  Judicial de Manizales). La propuesta pretende trasladar el cargo de escribiente de circuito de la oficina de servicios administrativos de chinchiná para el Centro de Servicios de los Juzgados Penales","Propuestas de reordenamiento:\n\nhttps://etbcsj-my.sharepoint.com/:f:/g/personal/sacsma_cendoj_ramajudicial_gov_co/Ek4bUa_aIVJEv0Zi2juTivcB0EDJjMZc7YOmtFDXV3Qqww?e=UK4N6F"]
[null,null,null,null,{"$f":"IFERROR(GESTION!H7,\" \")","v":"Seguimiento al cumplimiento de metas de las medidas transitorias establecidas por el CSJ"},{"$f":"IFERROR(GESTION!I7,\" \")","v":"Entregable"},{"$f":"IFERROR(GESTION!J7,\" \")","v":0},null,"",null,"Se hace el seguimiento respectivo a las medidas de transitorias creadas mediante acuerdos:\n- PCSJA23-12055, marzo 31 de 2023, prorroga\n- PCSJA 23-12053, , 17 de marzo de 2023.\n-PCSJA23-12069 , 2 de junio de 2023","Informes UDAE:\n\nhttps://etbcsj-my.sharepoint.com/:f:/g/personal/sacsma_cendoj_ramajudicial_gov_co/Eti200TWm5hItlaA4COKj6EBKVqUEUq9YgMk085P9MbGng?e=U3zCdS"]
[null,null,null,null,{"$f":"IFERROR(GESTION!H8,\" \")","v":"Seguimiento al Punto de Atención y Orientación al Usuario de Justicia y la Oficina de Gestión en salud"},{"$f":"IFERROR(GESTION!I8,\" \")","v":"Entregable"},{"$f":"IFERROR(GESTION!J8,\" \")","v":0},null,"",null,"Se realiza el informe de Gestióndel Punto de Atención y Orientación al Usuario Justicia, correspondiente al año 2023. \n\nPor otro lado se cuenta con el informe de gestión de la Ofcina de Gestión en Salud, correspondiente al año 2023 ","Informe de Gestión PAUJ - Primer Semestre 2023:\n\nhttps://etbcsj-my.sharepoint.com/:b:/r/personal/sacsma_cendoj_ramajudicial_gov_co/Documents/SICONSEC%20COMPARTIDA/1.%20P.ESTRATEGICOS/1.%20COMUNICACION%20INSTITUCIONAL/3.%20PUNTO%20DE%20ATENCI%C3%93N/2.%20INFORMES%20Y%20ACCIONES/2023/Informe%20PAO%20UJ%20Semestre%201%202023.pdf?csf=1&web=1&e=ij8x5N \n\nInformde De Gestión OGS Primer Semestre 2023:\n\nhttps://etbcsj-my.sharepoint.com/:f:/g/personal/sacsma_cendoj_ramajudicial_gov_co/EvIq1wuOi65HrB5W9Yi_u4sBF3YpSgvyyGJfbU7n-rpy8Q?e=XGIaFq"]
[null,null,null,null,{"$f":"IFERROR(GESTION!H9,\" \")","v":0},{"$f":"IFERROR(GESTION!I9,\" \")","v":0},{"$f":"IFERROR(GESTION!J9,\" \")","v":0},null,""]
[null,null,null,null,{"$f":"IFERROR(GESTION!H10,\" \")","v":0},{"$f":"IFERROR(GESTION!I10,\" \")","v":0},{"$f":"IFERROR(GESTION!J10,\" \")","v":0},null,""]
[null,null,null,null,{"$f":"IFERROR(GESTION!H11,\" \")","v":0},{"$f":"IFERROR(GESTION!I11,\" \")","v":0},{"$f":"IFERROR(GESTION!J11,\" \")","v":0},null,""]
[null,null,null,null,{"$f":"IFERROR(GESTION!H12,\" \")","v":0},{"$f":"IFERROR(GESTION!I12,\" \")","v":0},{"$f":"IFERROR(GESTION!J12,\" \")","v":0},null,""]
[null,null,null,null,{"$f":"IFERROR(GESTION!H13,\" \")","v":0},{"$f":"IFERROR(GESTION!I13,\" \")","v":0},{"$f":"IFERROR(GESTION!J13,\" \")","v":0},null,""]
[null,null,null,null,{"$f":"IFERROR(GESTION!H14,\" \")","v":0},{"$f":"IFERROR(GESTION!I14,\" \")","v":0},{"$f":"IFERROR(GESTION!J14,\" \")","v":0},null,""]
[null,null,null,null,{"$f":"IFERROR(GESTION!H15,\" \")","v":0},{"$f":"IFERROR(GESTION!I15,\" \")","v":0},{"$f":"IFERROR(GESTION!J15,\" \")","v":0},null,""]
[null,null,"2. Mejorar los tiempos de respuesta de la Rama Judicial y reducir el inventario de procesos, identificando los retos internos y promoviendo tanto acciones articuladas específicas para abordarlos como estrategias coordinadas para enfrentar las barreras que dependen de otras entidades.","2. Asegurar  el cumplimiento de los objetivos institucionales, la normatividad aplicable,  la mejora del SIGCMA y la satisfacción de los usuarios, revisando de  forma continua y sistemática la planificación de la gestión y fortaleciendo la administración de riesgos y sus controles",{"$f":"IFERROR(GESTION!H16,\" \")","v":0},{"$f":"IFERROR(GESTION!I16,\" \")","v":0},{"$f":"IFERROR(GESTION!J16,\" \")","v":0},null,""]
[null,null,null,null,{"$f":"IFERROR(GESTION!H17,\" \")","v":0},{"$f":"IFERROR(GESTION!I17,\" \")","v":0},{"$f":"IFERROR(GESTION!J17,\" \")","v":0},null,""]
[null,null,null,null,{"$f":"IFERROR(GESTION!H18,\" \")","v":0},{"$f":"IFERROR(GESTION!I18,\" \")","v":0},{"$f":"IFERROR(GESTION!J18,\" \")","v":0},null,""]
[null,null,null,null,{"$f":"IFERROR(GESTION!H19,\" \")","v":0},{"$f":"IFERROR(GESTION!I19,\" \")","v":0},{"$f":"IFERROR(GESTION!J19,\" \")","v":0},null,""]
[null,null,null,null,{"$f":"IFERROR(GESTION!H20,\" \")","v":0},{"$f":"IFERROR(GESTION!I20,\" \")","v":0},{"$f":"IFERROR(GESTION!J20,\" \")","v":0},null,""]
[null,null,null,null,{"$f":"IFERROR(GESTION!H21,\" \")","v":0},{"$f":"IFERROR(GESTION!I21,\" \")","v":0},{"$f":"IFERROR(GESTION!J21,\" \")","v":0},null,""]
[null,null,null,null,{"$f":"IFERROR(GESTION!H22,\" \")","v":0},{"$f":"IFERROR(GESTION!I22,\" \")","v":0},{"$f":"IFERROR(GESTION!J22,\" \")","v":0},null,""]
[null,null,null,null,{"$f":"IFERROR(GESTION!H23,\" \")","v":0},{"$f":"IFERROR(GESTION!I23,\" \")","v":0},{"$f":"IFERROR(GESTION!J23,\" \")","v":0},null,""]
[null,null,null,null,{"$f":"IFERROR(GESTION!H24,\" \")","v":0},{"$f":"IFERROR(GESTION!I24,\" \")","v":0},{"$f":"IFERROR(GESTION!J24,\" \")","v":0},null,""]
[null,null,null,null,{"$f":"IFERROR(GESTION!H25,\" \")","v":0},{"$f":"IFERROR(GESTION!I25,\" \")","v":0},{"$f":"IFERROR(GESTION!J25,\" \")","v":0},null,""]
[null,null,"3. Coadyuvar en la garantía de la idoneidad en el ejercicio de la profesión jurídica de acuerdo con lo establecido en la Ley 1905 de 2018","2. Asegurar  el cumplimiento de los objetivos institucionales, la normatividad aplicable,  la mejora del SIGCMA y la satisfacción de los usuarios, revisando de  forma continua y sistemática la planificación de la gestión y fortaleciendo la administración de riesgos y sus controles",{"$f":"IFERROR(GESTION!H26,\" \")","v":0},{"$f":"IFERROR(GESTION!I26,\" \")","v":0},{"$f":"IFERROR(GESTION!J26,\" \")","v":0},null,""]
[null,null,null,null,{"$f":"IFERROR(GESTION!H27,\" \")","v":0},{"$f":"IFERROR(GESTION!I27,\" \")","v":0},{"$f":"IFERROR(GESTION!J27,\" \")","v":0},null,""]
[null,null,null,null,{"$f":"IFERROR(GESTION!H28,\" \")","v":0},{"$f":"IFERROR(GESTION!I28,\" \")","v":0},{"$f":"IFERROR(GESTION!J28,\" \")","v":0},null,""]
[null,null,null,null,{"$f":"IFERROR(GESTION!H29,\" \")","v":0},{"$f":"IFERROR(GESTION!I29,\" \")","v":0},{"$f":"IFERROR(GESTION!J29,\" \")","v":0},null,""]
[null,null,null,null,{"$f":"IFERROR(GESTION!H30,\" \")","v":0},{"$f":"IFERROR(GESTION!I30,\" \")","v":0},{"$f":"IFERROR(GESTION!J30,\" \")","v":0},null,""]
[null,null,null,null,{"$f":"IFERROR(GESTION!H31,\" \")","v":0},{"$f":"IFERROR(GESTION!I31,\" \")","v":0},{"$f":"IFERROR(GESTION!J31,\" \")","v":0},null,""]
[null,null,null,null,{"$f":"IFERROR(GESTION!H32,\" \")","v":0},{"$f":"IFERROR(GESTION!I32,\" \")","v":0},{"$f":"IFERROR(GESTION!J32,\" \")","v":0},null,""]
[null,null,null,null,{"$f":"IFERROR(GESTION!H33,\" \")","v":0},{"$f":"IFERROR(GESTION!I33,\" \")","v":0},{"$f":"IFERROR(GESTION!J33,\" \")","v":0},null,""]
[null,null,null,null,{"$f":"IFERROR(GESTION!H34,\" \")","v":0},{"$f":"IFERROR(GESTION!I34,\" \")","v":0},{"$f":"IFERROR(GESTION!J34,\" \")","v":0},null,""]
[null,null,null,null,{"$f":"IFERROR(GESTION!H35,\" \")","v":0},{"$f":"IFERROR(GESTION!I35,\" \")","v":0},{"$f":"IFERROR(GESTION!J35,\" \")","v":0},null,""]
[null,null,"4. Avanzar en la disposición de una infraestructura óptima para el acceso a la justicia en la Rama Judicial de modo que se fortalezca la presencia territorial, teniendo en cuenta las posibilidades que ofrece la transformación digital y las necesidades que se derivan de ella, y considerando tanto las necesidades de los usuarios como las de los servidores judiciales.","4. Hacer un uso racional de los recursos naturales aplicando los principios y fases de la Economía Circular, para prevenir, mitigar y controlar los impactos ambientales",{"$f":"IFERROR(GESTION!H36,\" \")","v":0},{"$f":"IFERROR(GESTION!I36,\" \")","v":0},{"$f":"IFERROR(GESTION!J36,\" \")","v":0},null,""]
[null,null,null,null,{"$f":"IFERROR(GESTION!H37,\" \")","v":0},{"$f":"IFERROR(GESTION!I37,\" \")","v":0},{"$f":"IFERROR(GESTION!J37,\" \")","v":0},null,""]
[null,null,null,null,{"$f":"IFERROR(GESTION!H38,\" \")","v":0},{"$f":"IFERROR(GESTION!I38,\" \")","v":0},{"$f":"IFERROR(GESTION!J38,\" \")","v":0},null,""]
[null,null,null,null,{"$f":"IFERROR(GESTION!H39,\" \")","v":0},{"$f":"IFERROR(GESTION!I39,\" \")","v":0},{"$f":"IFERROR(GESTION!J39,\" \")","v":0},null,""]
[null,null,null,null,{"$f":"IFERROR(GESTION!H40,\" \")","v":0},{"$f":"IFERROR(GESTION!I40,\" \")","v":0},{"$f":"IFERROR(GESTION!J40,\" \")","v":0},null,""]
[null,null,null,null,{"$f":"IFERROR(GESTION!H41,\" \")","v":0},{"$f":"IFERROR(GESTION!I41,\" \")","v":0},{"$f":"IFERROR(GESTION!J41,\" \")","v":0},null,""]
[null,null,null,null,{"$f":"IFERROR(GESTION!H42,\" \")","v":0},{"$f":"IFERROR(GESTION!I42,\" \")","v":0},{"$f":"IFERROR(GESTION!J42,\" \")","v":0},null,""]
[null,null,null,null,{"$f":"IFERROR(GESTION!H43,\" \")","v":0},{"$f":"IFERROR(GESTION!I43,\" \")","v":0},{"$f":"IFERROR(GESTION!J43,\" \")","v":0},null,""]
[null,null,null,null,{"$f":"IFERROR(GESTION!H44,\" \")","v":0},{"$f":"IFERROR(GESTION!I44,\" \")","v":0},{"$f":"IFERROR(GESTION!J44,\" \")","v":0},null,""]
[null,null,null,null,{"$f":"IFERROR(GESTION!H45,\" \")","v":0},{"$f":"IFERROR(GESTION!I45,\" \")","v":0},{"$f":"IFERROR(GESTION!J45,\" \")","v":0},null,""]
[null,null,"5. Impulsar el uso de mecanismos alternativos para la solución de conflictos y la ampliación de la justicia restaurativa y terapéutica y el robustecimiento de las alternativas al encarcelamiento","2. Asegurar  el cumplimiento de los objetivos institucionales, la normatividad aplicable,  la mejora del SIGCMA y la satisfacción de los usuarios, revisando de  forma continua y sistemática la planificación de la gestión y fortaleciendo la administración de riesgos y sus controles",{"$f":"IFERROR(GESTION!H46,\" \")","v":0},{"$f":"IFERROR(GESTION!I46,\" \")","v":0},{"$f":"IFERROR(GESTION!J46,\" \")","v":0},null,""]
[null,null,null,null,{"$f":"IFERROR(GESTION!H47,\" \")","v":0},{"$f":"IFERROR(GESTION!I47,\" \")","v":0},{"$f":"IFERROR(GESTION!J47,\" \")","v":0},null,""]
[null,null,null,null,{"$f":"IFERROR(GESTION!H48,\" \")","v":0},{"$f":"IFERROR(GESTION!I48,\" \")","v":0},{"$f":"IFERROR(GESTION!J48,\" \")","v":0},null,""]
[null,null,null,null,{"$f":"IFERROR(GESTION!H49,\" \")","v":0},{"$f":"IFERROR(GESTION!I49,\" \")","v":0},{"$f":"IFERROR(GESTION!J49,\" \")","v":0},null,""]
[null,null,null,null,{"$f":"IFERROR(GESTION!H50,\" \")","v":0},{"$f":"IFERROR(GESTION!I50,\" \")","v":0},{"$f":"IFERROR(GESTION!J50,\" \")","v":0},null,""]
[null,null,null,null,{"$f":"IFERROR(GESTION!H51,\" \")","v":0},{"$f":"IFERROR(GESTION!I51,\" \")","v":0},{"$f":"IFERROR(GESTION!J51,\" \")","v":0},null,""]
[null,null,null,null,{"$f":"IFERROR(GESTION!H52,\" \")","v":0},{"$f":"IFERROR(GESTION!I52,\" \")","v":0},{"$f":"IFERROR(GESTION!J52,\" \")","v":0},null,""]
[null,null,null,null,{"$f":"IFERROR(GESTION!H53,\" \")","v":0},{"$f":"IFERROR(GESTION!I53,\" \")","v":0},{"$f":"IFERROR(GESTION!J53,\" \")","v":0},null,""]
[null,null,null,null,{"$f":"IFERROR(GESTION!H54,\" \")","v":0},{"$f":"IFERROR(GESTION!I54,\" \")","v":0},{"$f":"IFERROR(GESTION!J54,\" \")","v":0},null,""]
[null,null,null,null,{"$f":"IFERROR(GESTION!H55,\" \")","v":0},{"$f":"IFERROR(GESTION!I55,\" \")","v":0},{"$f":"IFERROR(GESTION!J55,\" \")","v":0},null,""]
["2. Servicios digitales y de tecnología, innovación y análisis de la información.","Servicios digitales y de tecnología, innovación y análisis de la información: Consolidar una justicia integrada y soportada en servicios digitales y de tecnología, innovación y análisis de la información, con una cultura digital apropiada, segura y sensible a las realidades del territorio nacional. ","1. Ampliar el acceso a la justicia a través de la consolidación del uso de los servicios digitales que conforman el sistema único integrado de gestión judicial en todos los despachos judiciales y dependencias de apoyo y, específicamente, incluyendo el despliegue e implementación del Expediente Judicial Electrónico en todas las jurisdicciones y especialidades.","6. Proteger, preservar y administrar los activos de información  implementando acciones  para gestionar de forma adecuada los incidentes, proteger los datos personales y adoptar mecanismos  de ciberseguridad y aseguramiento de la  continuidad del negocio.",{"$f":"IFERROR(GESTION!H56,\" \")","v":0},{"$f":"IFERROR(GESTION!I56,\" \")","v":0},{"$f":"IFERROR(GESTION!J56,\" \")","v":0},null,""]
[null,null,null,null,{"$f":"IFERROR(GESTION!H57,\" \")","v":0},{"$f":"IFERROR(GESTION!I57,\" \")","v":0},{"$f":"IFERROR(GESTION!J57,\" \")","v":0},null,""]
[null,null,null,null,{"$f":"IFERROR(GESTION!H58,\" \")","v":0},{"$f":"IFERROR(GESTION!I58,\" \")","v":0},{"$f":"IFERROR(GESTION!J58,\" \")","v":0},null,""]
[null,null,null,null,{"$f":"IFERROR(GESTION!H59,\" \")","v":0},{"$f":"IFERROR(GESTION!I59,\" \")","v":0},{"$f":"IFERROR(GESTION!J59,\" \")","v":0},null,""]
[null,null,null,null,{"$f":"IFERROR(GESTION!H60,\" \")","v":0},{"$f":"IFERROR(GESTION!I60,\" \")","v":0},{"$f":"IFERROR(GESTION!J60,\" \")","v":0},null,""]
[null,null,null,null,{"$f":"IFERROR(GESTION!H61,\" \")","v":0},{"$f":"IFERROR(GESTION!I61,\" \")","v":0},{"$f":"IFERROR(GESTION!J61,\" \")","v":0},null,""]
[null,null,null,null,{"$f":"IFERROR(GESTION!H62,\" \")","v":0},{"$f":"IFERROR(GESTION!I62,\" \")","v":0},{"$f":"IFERROR(GESTION!J62,\" \")","v":0},null,""]
[null,null,null,null,{"$f":"IFERROR(GESTION!H63,\" \")","v":0},{"$f":"IFERROR(GESTION!I63,\" \")","v":0},{"$f":"IFERROR(GESTION!J63,\" \")","v":0},null,""]
[null,null,null,null,{"$f":"IFERROR(GESTION!H64,\" \")","v":0},{"$f":"IFERROR(GESTION!I64,\" \")","v":0},{"$f":"IFERROR(GESTION!J64,\" \")","v":0},null,""]
[null,null,null,null,{"$f":"IFERROR(GESTION!H65,\" \")","v":0},{"$f":"IFERROR(GESTION!I65,\" \")","v":0},{"$f":"IFERROR(GESTION!J65,\" \")","v":0},null,""]
[null,null,"2. Integrar y hacer compatibles todos los aplicativos de transición con SIUGJ, para que la migración de los expedientes judiciales a dicha plataforma sea real y no suponga afectaciones en la prestación del servicio de justicia.",null,{"$f":"IFERROR(GESTION!H66,\" \")","v":0},{"$f":"IFERROR(GESTION!I66,\" \")","v":0},{"$f":"IFERROR(GESTION!J66,\" \")","v":0},null,""]
[null,null,null,null,{"$f":"IFERROR(GESTION!H67,\" \")","v":0},{"$f":"IFERROR(GESTION!I67,\" \")","v":0},{"$f":"IFERROR(GESTION!J67,\" \")","v":0},null,""]
[null,null,null,null,{"$f":"IFERROR(GESTION!H68,\" \")","v":0},{"$f":"IFERROR(GESTION!I68,\" \")","v":0},{"$f":"IFERROR(GESTION!J68,\" \")","v":0},null,""]
[null,null,null,null,{"$f":"IFERROR(GESTION!H69,\" \")","v":0},{"$f":"IFERROR(GESTION!I69,\" \")","v":0},{"$f":"IFERROR(GESTION!J69,\" \")","v":0},null,""]
[null,null,null,null,{"$f":"IFERROR(GESTION!H70,\" \")","v":0},{"$f":"IFERROR(GESTION!I70,\" \")","v":0},{"$f":"IFERROR(GESTION!J70,\" \")","v":0},null,{"$f":"IFERROR(H70/G70,\"\")","v":""}]
[null,null,null,null,{"$f":"IFERROR(GESTION!H71,\" \")","v":0},{"$f":"IFERROR(GESTION!I71,\" \")","v":0},{"$f":"IFERROR(GESTION!J71,\" \")","v":0},null,""]
[null,null,null,null,{"$f":"IFERROR(GESTION!H72,\" \")","v":0},{"$f":"IFERROR(GESTION!I72,\" \")","v":0},{"$f":"IFERROR(GESTION!J72,\" \")","v":0},null,""]
[null,null,null,null,{"$f":"IFERROR(GESTION!H73,\" \")","v":0},{"$f":"IFERROR(GESTION!I73,\" \")","v":0},{"$f":"IFERROR(GESTION!J73,\" \")","v":0},null,""]
[null,null,null,null,{"$f":"IFERROR(GESTION!H74,\" \")","v":0},{"$f":"IFERROR(GESTION!I74,\" \")","v":0},{"$f":"IFERROR(GESTION!J74,\" \")","v":0},null,""]
[null,null,null,null,{"$f":"IFERROR(GESTION!H75,\" \")","v":0},{"$f":"IFERROR(GESTION!I75,\" \")","v":0},{"$f":"IFERROR(GESTION!J75,\" \")","v":0},null,""]
[null,null,"3. Fortalecer las capacidades institucionales, adecuar el modelo operativo y de servicio, bajo un enfoque de Arquitectura Empresarial y de fortalecimiento del acceso a la justicia.",null,{"$f":"IFERROR(GESTION!H76,\" \")","v":0},{"$f":"IFERROR(GESTION!I76,\" \")","v":0},{"$f":"IFERROR(GESTION!J76,\" \")","v":0},null,""]
[null,null,null,null,{"$f":"IFERROR(GESTION!H77,\" \")","v":0},{"$f":"IFERROR(GESTION!I77,\" \")","v":0},{"$f":"IFERROR(GESTION!J77,\" \")","v":0},null,""]
[null,null,null,null,{"$f":"IFERROR(GESTION!H78,\" \")","v":0},{"$f":"IFERROR(GESTION!I78,\" \")","v":0},{"$f":"IFERROR(GESTION!J78,\" \")","v":0},null,""]
[null,null,null,null,{"$f":"IFERROR(GESTION!H79,\" \")","v":0},{"$f":"IFERROR(GESTION!I79,\" \")","v":0},{"$f":"IFERROR(GESTION!J79,\" \")","v":0},null,""]
[null,null,null,null,{"$f":"IFERROR(GESTION!H80,\" \")","v":0},{"$f":"IFERROR(GESTION!I80,\" \")","v":0},{"$f":"IFERROR(GESTION!J80,\" \")","v":0},null,""]
[null,null,null,null,{"$f":"IFERROR(GESTION!H81,\" \")","v":0},{"$f":"IFERROR(GESTION!I81,\" \")","v":0},{"$f":"IFERROR(GESTION!J81,\" \")","v":0},null,""]
[null,null,null,null,{"$f":"IFERROR(GESTION!H82,\" \")","v":0},{"$f":"IFERROR(GESTION!I82,\" \")","v":0},{"$f":"IFERROR(GESTION!J82,\" \")","v":0},null,""]
[null,null,null,null,{"$f":"IFERROR(GESTION!H83,\" \")","v":0},{"$f":"IFERROR(GESTION!I83,\" \")","v":0},{"$f":"IFERROR(GESTION!J83,\" \")","v":0},null,""]
[null,null,null,null,{"$f":"IFERROR(GESTION!H84,\" \")","v":0},{"$f":"IFERROR(GESTION!I84,\" \")","v":0},{"$f":"IFERROR(GESTION!J84,\" \")","v":0},null,""]
[null,null,null,null,{"$f":"IFERROR(GESTION!H85,\" \")","v":0},{"$f":"IFERROR(GESTION!I85,\" \")","v":0},{"$f":"IFERROR(GESTION!J85,\" \")","v":0},null,""]
[null,null,"4.Consolidar la cultura y apropiación de la transformación digital en los servidores y usuarios de los servicios de la Rama Judicial y reducir brechas de acceso y conocimiento, incluyendo la oferta efectiva de información sobre el uso de las nuevas herramientas virtuales implementadas en las diferentes jurisdicciones, con especial énfasis en las zonas del país donde es evidente la brecha digital.",null,{"$f":"IFERROR(GESTION!H86,\" \")","v":0},{"$f":"IFERROR(GESTION!I86,\" \")","v":0},{"$f":"IFERROR(GESTION!J86,\" \")","v":0},null,""]
[null,null,null,null,{"$f":"IFERROR(GESTION!H87,\" \")","v":0},{"$f":"IFERROR(GESTION!I87,\" \")","v":0},{"$f":"IFERROR(GESTION!J87,\" \")","v":0},null,""]
[null,null,null,null,{"$f":"IFERROR(GESTION!H88,\" \")","v":0},{"$f":"IFERROR(GESTION!I88,\" \")","v":0},{"$f":"IFERROR(GESTION!J88,\" \")","v":0},null,""]
[null,null,null,null,{"$f":"IFERROR(GESTION!H89,\" \")","v":0},{"$f":"IFERROR(GESTION!I89,\" \")","v":0},{"$f":"IFERROR(GESTION!J89,\" \")","v":0},null,""]
[null,null,null,null,{"$f":"IFERROR(GESTION!H90,\" \")","v":0},{"$f":"IFERROR(GESTION!I90,\" \")","v":0},{"$f":"IFERROR(GESTION!J90,\" \")","v":0},null,""]
[null,null,null,null,{"$f":"IFERROR(GESTION!H91,\" \")","v":0},{"$f":"IFERROR(GESTION!I91,\" \")","v":0},{"$f":"IFERROR(GESTION!J91,\" \")","v":0},null,""]
[null,null,null,null,{"$f":"IFERROR(GESTION!H92,\" \")","v":0},{"$f":"IFERROR(GESTION!I92,\" \")","v":0},{"$f":"IFERROR(GESTION!J92,\" \")","v":0},null,""]
[null,null,null,null,{"$f":"IFERROR(GESTION!H93,\" \")","v":0},{"$f":"IFERROR(GESTION!I93,\" \")","v":0},{"$f":"IFERROR(GESTION!J93,\" \")","v":0},null,""]
[null,null,null,null,{"$f":"IFERROR(GESTION!H94,\" \")","v":0},{"$f":"IFERROR(GESTION!I94,\" \")","v":0},{"$f":"IFERROR(GESTION!J94,\" \")","v":0},null,""]
[null,null,null,null,{"$f":"IFERROR(GESTION!H95,\" \")","v":0},{"$f":"IFERROR(GESTION!I95,\" \")","v":0},{"$f":"IFERROR(GESTION!J95,\" \")","v":0},null,""]
[null,null,"5.Consolidar la infraestructura y los recursos necesarios para la implementación exitosa de la transformación digital, incluyendo la disposición de internet de calidad en el 100% de las sedes en la Rama Judicial y modernizar los servicios tecnológicos de soporte. ",null,{"$f":"IFERROR(GESTION!H96,\" \")","v":0},{"$f":"IFERROR(GESTION!I96,\" \")","v":0},{"$f":"IFERROR(GESTION!J96,\" \")","v":0},null,""]
[null,null,null,null,{"$f":"IFERROR(GESTION!H97,\" \")","v":0},{"$f":"IFERROR(GESTION!I97,\" \")","v":0},{"$f":"IFERROR(GESTION!J97,\" \")","v":0},null,""]
[null,null,null,null,{"$f":"IFERROR(GESTION!H98,\" \")","v":0},{"$f":"IFERROR(GESTION!I98,\" \")","v":0},{"$f":"IFERROR(GESTION!J98,\" \")","v":0},null,""]
[null,null,null,null,{"$f":"IFERROR(GESTION!H99,\" \")","v":0},{"$f":"IFERROR(GESTION!I99,\" \")","v":0},{"$f":"IFERROR(GESTION!J99,\" \")","v":0},null,""]
[null,null,null,null,{"$f":"IFERROR(GESTION!H100,\" \")","v":0},{"$f":"IFERROR(GESTION!I100,\" \")","v":0},{"$f":"IFERROR(GESTION!J100,\" \")","v":0},null,""]
[null,null,null,null,{"$f":"IFERROR(GESTION!H101,\" \")","v":0},{"$f":"IFERROR(GESTION!I101,\" \")","v":0},{"$f":"IFERROR(GESTION!J101,\" \")","v":0},null,""]
[null,null,null,null,{"$f":"IFERROR(GESTION!H102,\" \")","v":0},{"$f":"IFERROR(GESTION!I102,\" \")","v":0},{"$f":"IFERROR(GESTION!J102,\" \")","v":0},null,""]
[null,null,null,null,{"$f":"IFERROR(GESTION!H103,\" \")","v":0},{"$f":"IFERROR(GESTION!I103,\" \")","v":0},{"$f":"IFERROR(GESTION!J103,\" \")","v":0},null,""]
[null,null,null,null,{"$f":"IFERROR(GESTION!H104,\" \")","v":0},{"$f":"IFERROR(GESTION!I104,\" \")","v":0},{"$f":"IFERROR(GESTION!J104,\" \")","v":0},null,""]
[null,null,null,null,{"$f":"IFERROR(GESTION!H105,\" \")","v":0},{"$f":"IFERROR(GESTION!I105,\" \")","v":0},{"$f":"IFERROR(GESTION!J105,\" \")","v":0},null,""]
[null,null,"6.Integrar y optimizar los servicios administrativos de la Rama Judicial bajo un enfoque de transformación digital e innovación incluyendo los componentes financiero, administrativo, talento humano, entre otros",null,{"$f":"IFERROR(GESTION!H106,\" \")","v":0},{"$f":"IFERROR(GESTION!I106,\" \")","v":0},{"$f":"IFERROR(GESTION!J106,\" \")","v":0},null,""]
[null,null,null,null,{"$f":"IFERROR(GESTION!H107,\" \")","v":0},{"$f":"IFERROR(GESTION!I107,\" \")","v":0},{"$f":"IFERROR(GESTION!J107,\" \")","v":0},null,""]
[null,null,null,null,{"$f":"IFERROR(GESTION!H108,\" \")","v":0},{"$f":"IFERROR(GESTION!I108,\" \")","v":0},{"$f":"IFERROR(GESTION!J108,\" \")","v":0},null,""]
[null,null,null,null,{"$f":"IFERROR(GESTION!H109,\" \")","v":0},{"$f":"IFERROR(GESTION!I109,\" \")","v":0},{"$f":"IFERROR(GESTION!J109,\" \")","v":0},null,""]
[null,null,null,null,{"$f":"IFERROR(GESTION!H110,\" \")","v":0},{"$f":"IFERROR(GESTION!I110,\" \")","v":0},{"$f":"IFERROR(GESTION!J110,\" \")","v":0},null,""]
[null,null,null,null,{"$f":"IFERROR(GESTION!H111,\" \")","v":0},{"$f":"IFERROR(GESTION!I111,\" \")","v":0},{"$f":"IFERROR(GESTION!J111,\" \")","v":0},null,""]
[null,null,null,null,{"$f":"IFERROR(GESTION!H112,\" \")","v":0},{"$f":"IFERROR(GESTION!I112,\" \")","v":0},{"$f":"IFERROR(GESTION!J112,\" \")","v":0},null,""]
[null,null,null,null,{"$f":"IFERROR(GESTION!H113,\" \")","v":0},{"$f":"IFERROR(GESTION!I113,\" \")","v":0},{"$f":"IFERROR(GESTION!J113,\" \")","v":0},null,""]
[null,null,null,null,{"$f":"IFERROR(GESTION!H114,\" \")","v":0},{"$f":"IFERROR(GESTION!I114,\" \")","v":0},{"$f":"IFERROR(GESTION!J114,\" \")","v":0},null,""]
[null,null,null,null,{"$f":"IFERROR(GESTION!H115,\" \")","v":0},{"$f":"IFERROR(GESTION!I115,\" \")","v":0},{"$f":"IFERROR(GESTION!J115,\" \")","v":0},null,""]
["3. Confianza pública, transparencia y rendición de cuentas","Confianza pública, transparencia y rendición de cuentas: Aumentar la confianza pública en la justicia a través de la transparencia, la rendición de cuentas y la participación, incluyendo la información de justicia y la producción, gestión y acceso a las fuentes de derecho, el fortalecimiento del sistema de gestión de calidad y medio ambiente (SIGCMA) y el mejoramiento de la calidad y publicidad de la información. ","1. Incrementar la cantidad, la calidad y pertinencia de los datos sobre el funcionamiento del servicio de justicia bajo un modelo de gobierno de datos y un liderazgo unificado. ","4. Hacer un uso racional de los recursos naturales aplicando los principios y fases de la Economía Circular, para prevenir, mitigar y controlar los impactos ambientales.",{"$f":"IFERROR(GESTION!H116,\" \")","v":"Desarrollar las tareas definidas en el cronograma de Rendición de Cuentas"},{"$f":"IFERROR(GESTION!I116,\" \")","v":"Entregable"},{"$f":"IFERROR(GESTION!J116,\" \")","v":0},null,"",null,"* En el mes de octubre se divugó el informe sobre la gestión judicial del año 2022\n\n*La acción de información proyectada para el mes de noviembre no se pudo llevar a cabo, debido a que se generó la información con corte al 28 de noviembre de 2023 y por instrucciones del Director Seccional, se requería actualizar la misma con corte al 08 de diciembre de 2023. Por esta época se presentaron situaciones de salud con el coordinador del área,aunado al incremento de la carga laboral del área con ocasión a los pagos de diferentes emolumentos (primas y salarios) que dificultaron la presentación de esta acción. \n\nNo obstante y teniendo en cuenta que este punto hace parte del informe que se presenta anualmente, se socializarán los resultados del año 2023 durante la audiencia pública de rendición de cuentas","Acciones de Información Rendición de Cuentas 2023\n\nhttps://etbcsj-my.sharepoint.com/:f:/g/personal/sacsma_cendoj_ramajudicial_gov_co/EjlZWVNBfw9PmSr2IszqKVEBCT10edaewXq9bUnn8HPsTQ?e=mrCWwb "]
[null,null,null,null,{"$f":"IFERROR(GESTION!H117,\" \")","v":"Medir la satisfacción del usuario"},{"$f":"IFERROR(GESTION!I117,\" \")","v":"Entregable"},{"$f":"IFERROR(GESTION!J117,\" \")","v":0},null,""]
[null,null,null,null,{"$f":"IFERROR(GESTION!H118,\" \")","v":"Atender, gestionar y solucionar las diferentes solicitudes de usuarios internos y externos"},{"$f":"IFERROR(GESTION!I118,\" \")","v":"Entregable"},{"$f":"IFERROR(GESTION!J118,\" \")","v":0},null,"",null,"Durante el cuarto trimestre se presentaron 3 quejas en el Consejo Seccional, las cuales fueron atendidas oportunamente. Es decir, dentro del termino de 15 días definidos por la ley.","Listado Maestro de QRS:\n\nhttps://etbcsj-my.sharepoint.com/:f:/g/personal/sacsma_cendoj_ramajudicial_gov_co/EvGPycniJktKmlm1YBGTBfYBLFZvofefeOVGMEF_N_dZ_g?e=qS4Ww8"]
[null,null,null,null,{"$f":"IFERROR(GESTION!H119,\" \")","v":"Elaborar el informe de revisión por la Alta Dirección"},{"$f":"IFERROR(GESTION!I119,\" \")","v":"Entregable"},{"$f":"IFERROR(GESTION!J119,\" \")","v":0},null,"",null,"Medianta acta No 003 del 24/05/2023 se llevó a cabo el proceso de revisión de los sistemas integrados de gestion de calidad y medio ambiente, por parte de la alta dirección en la Seccional, quedando aprobado el documento final. \n\nEste documento fue remitido al nivel central para su publicación en el micrositio web del SIGCMA, el 01 de junio de 2023","Informe de Revisión por la Alta Dirección:\n\nhttps://etbcsj-my.sharepoint.com/:f:/g/personal/sacsma_cendoj_ramajudicial_gov_co/Eo_tSFI-ceNBl6yX5JfyHP4Bol_Eygs2uS13xRXmGCBSzg?e=kXLsbV"]
[null,null,null,null,{"$f":"IFERROR(GESTION!H120,\" \")","v":"Atender de las novedades SIERJU"},{"$f":"IFERROR(GESTION!I120,\" \")","v":"Entregable"},{"$f":"IFERROR(GESTION!J120,\" \")","v":0},null,"",null,"Para la fecha, no ha trasncurrido el trermino establecido por el acuerdo PSAA16-10476 de 2016, para la presentación de la información estadística ( 17 de enero de 2024 para este caso), razón por la cual, no es posible tener seguimiento de este actividad a la fecha (12 Enero de 2024).","Consolidado Novedades Sierju:\nhttps://etbcsj-my.sharepoint.com/:x:/g/personal/sacsma_cendoj_ramajudicial_gov_co/EcFvSQj93thOoeTN4o2-vEIBgo57vAMI2Yp6WtBKTcXqaQ?e=inBDmb\n"]
[null,null,null,null,{"$f":"IFERROR(GESTION!H121,\" \")","v":"Acompañamiento y capacitación a los despachos judiciales en el diligenciamiento de la información SIERJU"},{"$f":"IFERROR(GESTION!I121,\" \")","v":"Entregable"},{"$f":"IFERROR(GESTION!J121,\" \")","v":0},null,"",null,"Para la fecha, no ha trasncurrido el trermino establecido por el acuerdo PSAA16-10476 de 2016, para la presentación de la información estadística ( 17 de enero de 2024 para este caso), razón por la cual, no es posible tener seguimiento de este actividad a la fecha (12 Enero de 2024).","Consolidado Soporte Sierju:\nhttps://etbcsj-my.sharepoint.com/:x:/g/personal/sacsma_cendoj_ramajudicial_gov_co/EcFvSQj93thOoeTN4o2-vEIBgo57vAMI2Yp6WtBKTcXqaQ?e=inBDmb\n"]
[null,null,null,null,{"$f":"IFERROR(GESTION!H122,\" \")","v":"Registro de cargos vacantes y provistos en Carrera- Jueces"},{"$f":"IFERROR(GESTION!I122,\" \")","v":"Entregable"},{"$f":"IFERROR(GESTION!J122,\" \")","v":0},null,"",null,"Durante el cuarto trimestre de 2023 se remitieron 3 oficios a la Unidad de Administración de Carrera Judicial para que efectuara las publicaciones de las vacantes definitivas en la página web de la Rama Judicial - del Consejo Superior de la Judicatura.","Registro de cargos vacantes y provistos en Carrera- Jueces:\n\nhttps://etbcsj-my.sharepoint.com/:f:/g/personal/sacsma_cendoj_ramajudicial_gov_co/ElhONg3Uq3ZFnfUWxxFcca0BoZHmQPdJNSuhxkMi5rWPGw?e=CYjr2m\n\n"]
[null,null,null,null,{"$f":"IFERROR(GESTION!H123,\" \")","v":"Divulgación y publicación de información relevante para los usuarios"},{"$f":"IFERROR(GESTION!I123,\" \")","v":"Entregable"},{"$f":"IFERROR(GESTION!J123,\" \")","v":0},null,"",null,"Durante el año 2023, se hicieron un total de 72 twitts, 18.440 impresiones, 1.541 visitas, 80 menciones a la cuenta y se perdieron un totral de 10 seguidores. esta red social se encuentra trabajando en mejoras dentro de su servicio de analítica, por lo que algunas estadísticas no aparecieron en el informe que la plataforma le muestra a quien administra esta cuenta. Es por lo anterior, que algunos ítems no tienen datos desde el mes de agosto de 2023.\n\nEn cuando a la página de facebook, para las 41 publicaiones en total del año se tuvo 488 interacciones y se alcanzaron un total de 5.736 personas.\n\n","Informe Consolidado  Vigencia 2023\n\nhttps://etbcsj-my.sharepoint.com/:w:/g/personal/sacsma_cendoj_ramajudicial_gov_co/EUBizR3uJx5Bi2Rw7eMLtMMB-MUIdcShRIKvjtzvIKLbaw?e=cI4r4Z"]
[null,null,null,null,{"$f":"IFERROR(GESTION!H124,\" \")","v":"Seguimiento al reporte oportuno de la información estadística"},{"$f":"IFERROR(GESTION!I124,\" \")","v":"Entregable"},{"$f":"IFERROR(GESTION!J124,\" \")","v":0},null,"",null,"Para la fecha, no ha trasncurrido el trermino establecido por el acuerdo PSAA16-10476 de 2016, para la presentación de la información estadística ( 17 de enero de 2024 para este caso), razón por la cual, no es posible tener seguimiento de este actividad a la fecha (12 Enero de 2024).","Reporte Oportuno de la Información Estadística:\n\nhttps://etbcsj-my.sharepoint.com/personal/sacsma_cendoj_ramajudicial_gov_co/_layouts/15/onedrive.aspx?FolderCTID=0x012000317A1E007757CE45B525F06A98FF662C&id=%2Fpersonal%2Fsacsma%5Fcendoj%5Framajudicial%5Fgov%5Fco%2FDocuments%2FSICONSEC%20COMPARTIDA%2F3%2E%20P%2E%20APOYO%2F1%2E%20GESTIÓN%20DE%20LA%20INFORMACIÓN%20ESTADÍSTICA%2F4%2E%20SIGCMA%2F6%2E%20SOPORTES%20SIGC%2F2023%2FIndice%20de%20Oportunidad\n"]
[null,null,null,null,{"$f":"IFERROR(GESTION!H125,\" \")","v":"Programación de visitas del factor organización del trabajo"},{"$f":"IFERROR(GESTION!I125,\" \")","v":"Entregable"},{"$f":"IFERROR(GESTION!J125,\" \")","v":0},null,"",null,"Se elabora el Cronograma de Visitas para la calificación del factor organización del trabajo, el cual se ejecutó debidamente","Programación de Visitas Factor Organización del trabajo:\n\nhttps://etbcsj-my.sharepoint.com/:x:/g/personal/sacsma_cendoj_ramajudicial_gov_co/ETX_l2kkvcVFp_z3JorzGQgBd133YYQUUr-0bzNgnR5ykA?e=gBCx3c"]
[null,null,"2. Consolidar la administración de la información entendida como todas las acciones rientadas a garantizar el acceso, consulta, uso y conservación de la información de justicia de manera ágil, flexible e inteligente, bajo un enfoque de innovación.",null,{"$f":"IFERROR(GESTION!H126,\" \")","v":"Trámite de vigilancias judiciales"},{"$f":"IFERROR(GESTION!I126,\" \")","v":"Entregable"},{"$f":"IFERROR(GESTION!J126,\" \")","v":0},null,"",null,"Durante el cuarto trimestre del 2023 se tramitaron un total de 41 vigilancias judiciales y se realizaron las siguientes actividades:\n\n• Recepción de la solicitud de Vigilancia  Judicial Administrativa.\n• Reparto\n• Recopilación de información.\n• Auto de apertura / No apertura. \n• Resolución. (En las vigilancias en las que se dio apertura). \n• Comunicación final. ","Trámite de Vigilancias Judiciales:\n\nhttps://etbcsj-my.sharepoint.com/:f:/g/personal/sacsma_cendoj_ramajudicial_gov_co/EqHbP9uoUPVOtIDQQHUk6w8Bbo6hu9YOB3KLLbZ0ckPy3A?e=43R5wm "]
[null,null,null,null,{"$f":"IFERROR(GESTION!H127,\" \")","v":"Verificación de la Información estadística"},{"$f":"IFERROR(GESTION!I127,\" \")","v":"Entregable"},{"$f":"IFERROR(GESTION!J127,\" \")","v":0},null,"",null,"Para cada visita se realizó la respectiva información estadistica reportada y se relacionaron las inconsistencias","Verificación estadística - Inconsistencias:\n\nhttps://etbcsj-my.sharepoint.com/:x:/g/personal/sacsma_cendoj_ramajudicial_gov_co/EcFvSQj93thOoeTN4o2-vEIBgo57vAMI2Yp6WtBKTcXqaQ?e=inBDmb"]
[null,null,null,null,{"$f":"IFERROR(GESTION!H128,\" \")","v":"Elaborar la Matriz de Comunicaciones Institucional y hacer su seguimiento"},{"$f":"IFERROR(GESTION!I128,\" \")","v":"Entregable"},{"$f":"IFERROR(GESTION!J128,\" \")","v":0},null,"",null,"Para el cuarto trimestre del año 2023 no se realizaron Notijudiciales , se expidieron 24 acuerdos, 62 circulares y 146 resoluciones y 1 seguimiento a redes sociales.","Matriz de Comunicaciones:\n\nhttps://etbcsj-my.sharepoint.com/:f:/g/personal/sacsma_cendoj_ramajudicial_gov_co/EqNu9VxCLJFBpt0Ud6w2MC8Bsw2gdEmRfmPsK1Za6a67ug?e=S8rlQU"]
[null,null,null,null,{"$f":"IFERROR(GESTION!H129,\" \")","v":"Orientar al usuario interno y externo acerca del procedimiento para realizar trámites ante la URNA"},{"$f":"IFERROR(GESTION!I129,\" \")","v":"Entregable"},{"$f":"IFERROR(GESTION!J129,\" \")","v":0},null,"",null,"Durante este trimestre se brindo orientación a 13 usuarios en diferentes temas ante la Unidad de Registro Nacional de Abogados - URNA","Registro de Usuarios que solicitan orientación:\n\nhttps://etbcsj-my.sharepoint.com/:x:/g/personal/sacsma_cendoj_ramajudicial_gov_co/EdZR6cvxZF9Ol07SqAtzbSABhkh5sFJyO07gGfFTjBYu-g?e=NuOq5j"]
[null,null,null,null,{"$f":"IFERROR(GESTION!H130,\" \")","v":0},{"$f":"IFERROR(GESTION!I130,\" \")","v":0},{"$f":"IFERROR(GESTION!J130,\" \")","v":0},null,""]
[null,null,null,null,{"$f":"IFERROR(GESTION!H131,\" \")","v":0},{"$f":"IFERROR(GESTION!I131,\" \")","v":0},{"$f":"IFERROR(GESTION!J131,\" \")","v":0},null,""]
[null,null,null,null,{"$f":"IFERROR(GESTION!H132,\" \")","v":0},{"$f":"IFERROR(GESTION!I132,\" \")","v":0},{"$f":"IFERROR(GESTION!J132,\" \")","v":0},null,""]
[null,null,null,null,{"$f":"IFERROR(GESTION!H133,\" \")","v":0},{"$f":"IFERROR(GESTION!I133,\" \")","v":0},{"$f":"IFERROR(GESTION!J133,\" \")","v":0},null,""]
[null,null,null,null,{"$f":"IFERROR(GESTION!H134,\" \")","v":0},{"$f":"IFERROR(GESTION!I134,\" \")","v":0},{"$f":"IFERROR(GESTION!J134,\" \")","v":0},null,{"$f":"IFERROR(H134/G134,\"\")","v":""}]
[null,null,null,null,{"$f":"IFERROR(GESTION!H135,\" \")","v":0},{"$f":"IFERROR(GESTION!I135,\" \")","v":0},{"$f":"IFERROR(GESTION!J135,\" \")","v":0},null,""]
[null,null,"3. Fortalecer el Sistema integrado de Gestión de la Rama, orientado a la implementación y certificación de las normas antisoborno.","1. Gestionar el desarrollo de las competencias, la toma de conciencia , la cultura  organizacional  y el compromiso de los  servidores judiciales, contratistas, practicantes y  judicantes de contribuir a generar valor público en la administración de justicia, en el marco de  cumplimiento de los requisitos  aplicables y el comportamiento ético.\n3. Fomentar la transparencia y la participación generando lineamientos y promoviendo la rendición de cuentas ,la consulta, reporte y planteamiento de inquietudes en relación con las decisiones y aspectos del SIGCMA.",{"$f":"IFERROR(GESTION!H136,\" \")","v":0},{"$f":"IFERROR(GESTION!I136,\" \")","v":0},{"$f":"IFERROR(GESTION!J136,\" \")","v":0},null,""]
[null,null,null,null,{"$f":"IFERROR(GESTION!H137,\" \")","v":0},{"$f":"IFERROR(GESTION!I137,\" \")","v":0},{"$f":"IFERROR(GESTION!J137,\" \")","v":0},null,""]
[null,null,null,null,{"$f":"IFERROR(GESTION!H138,\" \")","v":0},{"$f":"IFERROR(GESTION!I138,\" \")","v":0},{"$f":"IFERROR(GESTION!J138,\" \")","v":0},null,""]
[null,null,null,null,{"$f":"IFERROR(GESTION!H139,\" \")","v":0},{"$f":"IFERROR(GESTION!I139,\" \")","v":0},{"$f":"IFERROR(GESTION!J139,\" \")","v":0},null,""]
[null,null,null,null,{"$f":"IFERROR(GESTION!H140,\" \")","v":0},{"$f":"IFERROR(GESTION!I140,\" \")","v":0},{"$f":"IFERROR(GESTION!J140,\" \")","v":0},null,""]
[null,null,null,null,{"$f":"IFERROR(GESTION!H141,\" \")","v":0},{"$f":"IFERROR(GESTION!I141,\" \")","v":0},{"$f":"IFERROR(GESTION!J141,\" \")","v":0},null,""]
[null,null,null,null,{"$f":"IFERROR(GESTION!H142,\" \")","v":0},{"$f":"IFERROR(GESTION!I142,\" \")","v":0},{"$f":"IFERROR(GESTION!J142,\" \")","v":0},null,""]
[null,null,null,null,{"$f":"IFERROR(GESTION!H143,\" \")","v":0},{"$f":"IFERROR(GESTION!I143,\" \")","v":0},{"$f":"IFERROR(GESTION!J143,\" \")","v":0},null,""]
[null,null,null,null,{"$f":"IFERROR(GESTION!H144,\" \")","v":0},{"$f":"IFERROR(GESTION!I144,\" \")","v":0},{"$f":"IFERROR(GESTION!J144,\" \")","v":0},null,""]
[null,null,null,null,{"$f":"IFERROR(GESTION!H145,\" \")","v":0},{"$f":"IFERROR(GESTION!I145,\" \")","v":0},{"$f":"IFERROR(GESTION!J145,\" \")","v":0},null,""]
[null,null,"4. Aumentar la confianza, la cercanía y acceso a los servicios de la Rama Judicial a través, entre otros, de una comunicación clara y asertiva con la ciudadanía.","3. Fomentar la transparencia y la participación generando lineamientos y promoviendo la rendición de cuentas ,la consulta, reporte y planteamiento de inquietudes en relación con las decisiones y aspectos del SIGCMA.",{"$f":"IFERROR(GESTION!H146,\" \")","v":0},{"$f":"IFERROR(GESTION!I146,\" \")","v":0},{"$f":"IFERROR(GESTION!J146,\" \")","v":0},null,""]
[null,null,null,null,{"$f":"IFERROR(GESTION!H147,\" \")","v":0},{"$f":"IFERROR(GESTION!I147,\" \")","v":0},{"$f":"IFERROR(GESTION!J147,\" \")","v":0},null,""]
[null,null,null,null,{"$f":"IFERROR(GESTION!H148,\" \")","v":0},{"$f":"IFERROR(GESTION!I148,\" \")","v":0},{"$f":"IFERROR(GESTION!J148,\" \")","v":0},null,""]
[null,null,null,null,{"$f":"IFERROR(GESTION!H149,\" \")","v":0},{"$f":"IFERROR(GESTION!I149,\" \")","v":0},{"$f":"IFERROR(GESTION!J149,\" \")","v":0},null,""]
[null,null,null,null,{"$f":"IFERROR(GESTION!H150,\" \")","v":0},{"$f":"IFERROR(GESTION!I150,\" \")","v":0},{"$f":"IFERROR(GESTION!J150,\" \")","v":0},null,""]
[null,null,null,null,{"$f":"IFERROR(GESTION!H151,\" \")","v":0},{"$f":"IFERROR(GESTION!I151,\" \")","v":0},{"$f":"IFERROR(GESTION!J151,\" \")","v":0},null,""]
[null,null,null,null,{"$f":"IFERROR(GESTION!H152,\" \")","v":0},{"$f":"IFERROR(GESTION!I152,\" \")","v":0},{"$f":"IFERROR(GESTION!J152,\" \")","v":0},null,""]
[null,null,null,null,{"$f":"IFERROR(GESTION!H153,\" \")","v":0},{"$f":"IFERROR(GESTION!I153,\" \")","v":0},{"$f":"IFERROR(GESTION!J153,\" \")","v":0},null,""]
[null,null,null,null,{"$f":"IFERROR(GESTION!H154,\" \")","v":0},{"$f":"IFERROR(GESTION!I154,\" \")","v":0},{"$f":"IFERROR(GESTION!J154,\" \")","v":0},null,""]
[null,null,null,null,{"$f":"IFERROR(GESTION!H155,\" \")","v":0},{"$f":"IFERROR(GESTION!I155,\" \")","v":0},{"$f":"IFERROR(GESTION!J155,\" \")","v":0},null,""]
[null,null,"5. Prevenir fenómenos asociados con actos de corrupción en la Rama Judicial y reducir las experiencias de corrupción de usuarios y servidores judiciales.",null,{"$f":"IFERROR(GESTION!H156,\" \")","v":0},{"$f":"IFERROR(GESTION!I156,\" \")","v":0},{"$f":"IFERROR(GESTION!J156,\" \")","v":0},null,""]
[null,null,null,null,{"$f":"IFERROR(GESTION!H157,\" \")","v":0},{"$f":"IFERROR(GESTION!I157,\" \")","v":0},{"$f":"IFERROR(GESTION!J157,\" \")","v":0},null,""]
[null,null,null,null,{"$f":"IFERROR(GESTION!H158,\" \")","v":0},{"$f":"IFERROR(GESTION!I158,\" \")","v":0},{"$f":"IFERROR(GESTION!J158,\" \")","v":0},null,""]
[null,null,null,null,{"$f":"IFERROR(GESTION!H159,\" \")","v":0},{"$f":"IFERROR(GESTION!I159,\" \")","v":0},{"$f":"IFERROR(GESTION!J159,\" \")","v":0},null,""]
[null,null,null,null,{"$f":"IFERROR(GESTION!H160,\" \")","v":0},{"$f":"IFERROR(GESTION!I160,\" \")","v":0},{"$f":"IFERROR(GESTION!J160,\" \")","v":0},null,""]
[null,null,null,null,{"$f":"IFERROR(GESTION!H161,\" \")","v":0},{"$f":"IFERROR(GESTION!I161,\" \")","v":0},{"$f":"IFERROR(GESTION!J161,\" \")","v":0},null,""]
[null,null,null,null,{"$f":"IFERROR(GESTION!H162,\" \")","v":0},{"$f":"IFERROR(GESTION!I162,\" \")","v":0},{"$f":"IFERROR(GESTION!J162,\" \")","v":0},null,""]
[null,null,null,null,{"$f":"IFERROR(GESTION!H163,\" \")","v":0},{"$f":"IFERROR(GESTION!I163,\" \")","v":0},{"$f":"IFERROR(GESTION!J163,\" \")","v":0},null,""]
[null,null,null,null,{"$f":"IFERROR(GESTION!H164,\" \")","v":0},{"$f":"IFERROR(GESTION!I164,\" \")","v":0},{"$f":"IFERROR(GESTION!J164,\" \")","v":0},null,""]
[null,null,null,null,{"$f":"IFERROR(GESTION!H165,\" \")","v":0},{"$f":"IFERROR(GESTION!I165,\" \")","v":0},{"$f":"IFERROR(GESTION!J165,\" \")","v":0},null,""]
[null,null,"6. Promover la rendición de cuentas y la colaboración real con la ciudadanía como fundamento para diseñar acciones de mejoramiento del acceso a la justicia.",null,{"$f":"IFERROR(GESTION!H166,\" \")","v":0},{"$f":"IFERROR(GESTION!I166,\" \")","v":0},{"$f":"IFERROR(GESTION!J166,\" \")","v":0},null,""]
[null,null,null,null,{"$f":"IFERROR(GESTION!H167,\" \")","v":0},{"$f":"IFERROR(GESTION!I167,\" \")","v":0},{"$f":"IFERROR(GESTION!J167,\" \")","v":0},null,""]
[null,null,null,null,{"$f":"IFERROR(GESTION!H168,\" \")","v":0},{"$f":"IFERROR(GESTION!I168,\" \")","v":0},{"$f":"IFERROR(GESTION!J168,\" \")","v":0},null,""]
[null,null,null,null,{"$f":"IFERROR(GESTION!H169,\" \")","v":0},{"$f":"IFERROR(GESTION!I169,\" \")","v":0},{"$f":"IFERROR(GESTION!J169,\" \")","v":0},null,""]
[null,null,null,null,{"$f":"IFERROR(GESTION!H170,\" \")","v":0},{"$f":"IFERROR(GESTION!I170,\" \")","v":0},{"$f":"IFERROR(GESTION!J170,\" \")","v":0},null,""]
[null,null,null,null,{"$f":"IFERROR(GESTION!H171,\" \")","v":0},{"$f":"IFERROR(GESTION!I171,\" \")","v":0},{"$f":"IFERROR(GESTION!J171,\" \")","v":0},null,""]
[null,null,null,null,{"$f":"IFERROR(GESTION!H172,\" \")","v":0},{"$f":"IFERROR(GESTION!I172,\" \")","v":0},{"$f":"IFERROR(GESTION!J172,\" \")","v":0},null,""]
[null,null,null,null,{"$f":"IFERROR(GESTION!H173,\" \")","v":0},{"$f":"IFERROR(GESTION!I173,\" \")","v":0},{"$f":"IFERROR(GESTION!J173,\" \")","v":0},null,""]
[null,null,null,null,{"$f":"IFERROR(GESTION!H174,\" \")","v":0},{"$f":"IFERROR(GESTION!I174,\" \")","v":0},{"$f":"IFERROR(GESTION!J174,\" \")","v":0},null,""]
[null,null,null,null,{"$f":"IFERROR(GESTION!H175,\" \")","v":0},{"$f":"IFERROR(GESTION!I175,\" \")","v":0},{"$f":"IFERROR(GESTION!J175,\" \")","v":0},null,""]
[null,null,"7. Continuar la consolidación del SIGCMA, a través de los procesos de formación en modelos de gestión, logrando la implementación y ampliación de este en los esquemas certificados de manera gradual, teniendo en cuenta las capacidades de los diferentes despachos judiciales y dependencias de la Rama Judicial y articulando el enfoque de Arquitectura Empresarial para el desarrollo del PETD a través de la gestión del conocimiento para la gestión del cambio propendiendo por una cultura de la calidad, la transparencia, la rendición de cuentas, la anticorrupción y el antisoborno","1. Gestionar el desarrollo de las competencias, la toma de conciencia , la cultura  organizacional  y el compromiso de los  servidores judiciales, contratistas, practicantes y  judicantes de contribuir a generar valor público en la administración de justicia, en el marco de  cumplimiento de los requisitos  aplicables y el comportamiento ético.\n4. Hacer un uso racional de los recursos naturales aplicando los principios y fases de la Economía Circular, para prevenir, mitigar y controlar los impactos ambientales.",{"$f":"IFERROR(GESTION!H176,\" \")","v":0},{"$f":"IFERROR(GESTION!I176,\" \")","v":0},{"$f":"IFERROR(GESTION!J176,\" \")","v":0},null,""]
[null,null,null,null,{"$f":"IFERROR(GESTION!H177,\" \")","v":0},{"$f":"IFERROR(GESTION!I177,\" \")","v":0},{"$f":"IFERROR(GESTION!J177,\" \")","v":0},null,""]
[null,null,null,null,{"$f":"IFERROR(GESTION!H178,\" \")","v":0},{"$f":"IFERROR(GESTION!I178,\" \")","v":0},{"$f":"IFERROR(GESTION!J178,\" \")","v":0},null,""]
[null,null,null,null,{"$f":"IFERROR(GESTION!H179,\" \")","v":0},{"$f":"IFERROR(GESTION!I179,\" \")","v":0},{"$f":"IFERROR(GESTION!J179,\" \")","v":0},null,""]
[null,null,null,null,{"$f":"IFERROR(GESTION!H180,\" \")","v":0},{"$f":"IFERROR(GESTION!I180,\" \")","v":0},{"$f":"IFERROR(GESTION!J180,\" \")","v":0},null,""]
[null,null,null,null,{"$f":"IFERROR(GESTION!H181,\" \")","v":0},{"$f":"IFERROR(GESTION!I181,\" \")","v":0},{"$f":"IFERROR(GESTION!J181,\" \")","v":0},null,""]
[null,null,null,null,{"$f":"IFERROR(GESTION!H182,\" \")","v":0},{"$f":"IFERROR(GESTION!I182,\" \")","v":0},{"$f":"IFERROR(GESTION!J182,\" \")","v":0},null,""]
[null,null,null,null,{"$f":"IFERROR(GESTION!H183,\" \")","v":0},{"$f":"IFERROR(GESTION!I183,\" \")","v":0},{"$f":"IFERROR(GESTION!J183,\" \")","v":0},null,""]
[null,null,null,null,{"$f":"IFERROR(GESTION!H184,\" \")","v":0},{"$f":"IFERROR(GESTION!I184,\" \")","v":0},{"$f":"IFERROR(GESTION!J184,\" \")","v":0},null,""]
[null,null,null,null,{"$f":"IFERROR(GESTION!H185,\" \")","v":0},{"$f":"IFERROR(GESTION!I185,\" \")","v":0},{"$f":"IFERROR(GESTION!J185,\" \")","v":0},null,""]
["4. Talento Humano","Talento Humano: Fortalecer el talento humano en la Rama Judicial para que sea eficiente, capacitado y realice su labor en ambientes saludables y seguros. Ampliar la cobertura de la carrera judicial y mejorar la oferta de formación, que esté disponible para todos los servidores judiciales e impacte positivamente el servicio de justicia y responda a las necesidades reales del ejercicio de la función judicial.","1. Ampliar la cobertura de la carrera judicial optimizando los procesos de los concursos de méritos y propender por mitigar su litigiosidad.","1. Gestionar el desarrollo de las competencias, la toma de conciencia , la cultura  organizacional  y el compromiso de los  servidores judiciales, contratistas, practicantes y  judicantes de contribuir a generar valor público en la administración de justicia, en el marco de  cumplimiento de los requisitos  aplicables y el comportamiento ético.",{"$f":"IFERROR(GESTION!H186,\" \")","v":"Plan de necesidades de formación Judicial"},{"$f":"IFERROR(GESTION!I186,\" \")","v":"Entregable"},{"$f":"IFERROR(GESTION!J186,\" \")","v":0},null,"",null,"El Plan de necesidades de formación judicial fue publicado el segundo trimestre del año, después del 24 mayo de 2023, fecha en la que se hizo la última revisión y no se encontró este documento en el módulo destinado para el mismo. Así las cosas ya se cuenta con un Plan de Necesidades de formación judicial 2023-2024.","Plan de Necesidades de Formación Judicial:\n\nhttps://etbcsj-my.sharepoint.com/:f:/g/personal/sacsma_cendoj_ramajudicial_gov_co/EjTKlS5ZEWtLrQ8DBLXUVhsBB0CzjAolxHmPbhHmi_txZg?e=EN7CId \n\n"]
[null,null,null,null,{"$f":"IFERROR(GESTION!H187,\" \")","v":"Realizar seguimiento a los eventos programados  por la EJRLB en la seccional."},{"$f":"IFERROR(GESTION!I187,\" \")","v":"Entregable"},{"$f":"IFERROR(GESTION!J187,\" \")","v":0},null,"","Se evidenció que la EJRLB no volvió a enviar la relación semanal con la oferta académica y por tanto no se ha realizado difusión","NA","Participación Cursos EJRLB:\n\nhttps://etbcsj-my.sharepoint.com/:f:/g/personal/sacsma_cendoj_ramajudicial_gov_co/EoIXKKHZCCpAgqqLrxfUqc4BC_SpyFV_nloYQqCdg-z7PQ?e=6WUQSR \n"]
[null,null,null,null,{"$f":"IFERROR(GESTION!H188,\" \")","v":"Difundir y divulgar la oferta académica"},{"$f":"IFERROR(GESTION!I188,\" \")","v":"Entregable"},{"$f":"IFERROR(GESTION!J188,\" \")","v":0},null,""]
[null,null,null,null,{"$f":"IFERROR(GESTION!H189,\" \")","v":"Realizar reuniones con el Grupo Seccional de Apoyo"},{"$f":"IFERROR(GESTION!I189,\" \")","v":"Entregable"},{"$f":"IFERROR(GESTION!J189,\" \")","v":0},null,""]
[null,null,null,null,{"$f":"IFERROR(GESTION!H190,\" \")","v":"Realizar jornadas de capacitación, divulgación y/o verificación de temas relacionados con el SIGCMA"},{"$f":"IFERROR(GESTION!I190,\" \")","v":"Entregable"},{"$f":"IFERROR(GESTION!J190,\" \")","v":0},null,"",null,"Según el plan de habilidades del año 2023, durante cuarto trimestre se tenia programada para el 18/10/2023 la capacitación en el manejo de Residuos de Aparatos Electricos y Electrónicos (RAEE) la cual sería dictada por la empresa Colombianet, quien ha realizado la gestión de este tipo de residuos en Manizales. Debido a temas de agenda de los servidores jduiciales de diferentes procesos, se debio aplazar la misma"]
[null,null,null,null,{"$f":"IFERROR(GESTION!H191,\" \")","v":"Socializar las políticas ambientales de la entidad y sensibilizar acerca de las mismas"},{"$f":"IFERROR(GESTION!I191,\" \")","v":"Entregable"},{"$f":"IFERROR(GESTION!J191,\" \")","v":0},null,"",null,"Se mantuvieron las estrategias de socialización que se venían trabajando durante el año, tales como: publicación de información en pantallas de ingreso a las sedes judiciales, protectores de pantalla de los equipos de computo de los servidores judiciales del Distrito, socialización de implementación del plan de gestión ambiental en inducciones y reinducciones de servidores judiciales y contratistas"]
[null,null,null,null,{"$f":"IFERROR(GESTION!H192,\" \")","v":"Solicitar apoyo al CENDOJ para realización de capacitaciones en tablas de retención documental (TRD)"},{"$f":"IFERROR(GESTION!I192,\" \")","v":"Entregable"},{"$f":"IFERROR(GESTION!J192,\" \")","v":0},null,"",null,"Se mantuvieron las estrategias de socialización que se venían trabajando durante el año, tales como: difusión de información a traves de las pantallas de ingreso a las sedes judiciales, socialización de la política, roles y responsabilidades e implementación del plan de gestión ambiental en Manizales, sensibilización a traves de los descansa pantallas de los equipos de computo de los servidores judiciales."]
[null,null,null,null,{"$f":"IFERROR(GESTION!H193,\" \")","v":"Lista de elegibles"},{"$f":"IFERROR(GESTION!I193,\" \")","v":"Entregable"},{"$f":"IFERROR(GESTION!J193,\" \")","v":0},null,"",null,"Durante el cuarto trimestre del año 2023, se elaboraron 17 acuerdos de listas de elegibles, realizando las siguientes actividades:\n\n1. Publicación de opciones de sede: total 40 cargos durante el cuarto trimestre (12 en octubre, 17 en noviembre  y 11 en diciembre)\n\n2. Recepción de formatos de opción de sede: 83 opciones de sede, así: Octubre  19 (3 Secretario Juz. Mpal, 5 Escribiente Juz Mpal y 11 Oficial Mayor Juz Mpal ), Noviembre 58 (1 Secretario Juz Cto, 2 Secretario Juz Mpal, 4 Secretario Tribunal, 28 Oficial Mayor Juz Cto, 19 Oficial Mayor Juz Mpal, 4 asistente social Juz Familia-Promisco Familia y Penal de Adolescentes) y en Diciembre 6 (1 Secretario Juz Cto, 5 Asistente Social de Ejecucion de penas)\n\n3. Consolidación y remisión al nominador de la lista de elegibles: se consolidaron 17 listas de elegibles","1, Opciones de sede: \nhttps://www.ramajudicial.gov.co/web/consejo-seccional-de-la-judicatura-de-caldas/formato-opcion-de-sede3\n\n2, Formatos Opcion de sede recibidos: \nhttps://etbcsj-my.sharepoint.com/:f:/g/personal/sacsma_cendoj_ramajudicial_gov_co/EjR2UCGG6OVKglKd4FaBj_ABByUPL9jEuuo-kO55AUpOKg?e=BKGmf8 \n\n3. Consolidación y remisión de Listas de elegibles: \nhttps://etbcsj-my.sharepoint.com/:f:/g/personal/sacsma_cendoj_ramajudicial_gov_co/EjR2UCGG6OVKglKd4FaBj_ABByUPL9jEuuo-kO55AUpOKg?e=BKGmf8 "]
[null,null,null,null,{"$f":"IFERROR(GESTION!H194,\" \")","v":"Registro de elegibles"},{"$f":"IFERROR(GESTION!I194,\" \")","v":"Entregable"},{"$f":"IFERROR(GESTION!J194,\" \")","v":0},null,"",null,"Durante el cuarto trimestre del año 2023 se posesionaron 3 aspirantes de la convocatoria 4.\n1 Hombres y 2 Mujeres en los siguientes cargos:\n \n1 Asistente sociual Promiscuo Familia\n2 Oficial Mayor Juzgdo Mpal","1, Consolidado Gral Registro de Elegibles.\nhttps://etbcsj-my.sharepoint.com/:f:/g/personal/sacsma_cendoj_ramajudicial_gov_co/EkIU-P7z7FNJrDJffhZLJF0Bop_OD5yxLBUiUQOK1ziJoA?e=Xa5ieQ\n\n2, Actualización del Registro de Elegibles:\n\nhttps://etbcsj-my.sharepoint.com/:f:/g/personal/sacsma_cendoj_ramajudicial_gov_co/Et6Kg5mOUDpHuWIqV6j-V68B1DExVlYK6e0Ll4HnQDaGnA?e=qRBSYx"]
[null,null,null,null,{"$f":"IFERROR(GESTION!H195,\" \")","v":"Proyectar conceptos a las solicitudes de traslados"},{"$f":"IFERROR(GESTION!I195,\" \")","v":"Entregable"},{"$f":"IFERROR(GESTION!J195,\" \")","v":0},null,"",null,"Durante el tercer trimestre del año 2023, se presentaron y se resolvieron 30 solicitudes de traslado, para lo cual se desarrollaron las siguientes actividades:\n\n - Recepción de solicitudes de traslado: (30) solicitudes de traslado enviadas por servidores de carrera.\n\n -  Solicitud de traslado: se emitieron (22) conceptos de traslado favorables y (8) desfavorables.\n\n - Notificación de concepto favorable o desfavorable de traslado al servidor judicial: se remitieron 30 Resoluciones de traslado expedidas por esta Corporación, a los servidores Judiciales.","Conceptos Solicitudes de Traslados:\n\nhttps://etbcsj-my.sharepoint.com/:f:/g/personal/sacsma_cendoj_ramajudicial_gov_co/Ekp3LvJjML1Dkz8l62zoVtABuDZs7jj76G9G-V6BNxi3JQ?e=q0ba8S"]
[null,null,"2. Impactar la función y servicios que presta la Rama Judicial, a través de una formación integral desde una visión de gestión del conocimiento, relacionada con los problemas de la justicia y los problemas de gestión de quienes administran los recursos de la justicia, y potenciando el uso de medios virtuales.",null,{"$f":"IFERROR(GESTION!H196,\" \")","v":0},{"$f":"IFERROR(GESTION!I196,\" \")","v":0},{"$f":"IFERROR(GESTION!J196,\" \")","v":0},null,""]
[null,null,null,null,{"$f":"IFERROR(GESTION!H197,\" \")","v":0},{"$f":"IFERROR(GESTION!I197,\" \")","v":0},{"$f":"IFERROR(GESTION!J197,\" \")","v":0},null,""]
[null,null,null,null,{"$f":"IFERROR(GESTION!H198,\" \")","v":0},{"$f":"IFERROR(GESTION!I198,\" \")","v":0},{"$f":"IFERROR(GESTION!J198,\" \")","v":0},null,{"$f":"IFERROR(H198/G198,\"\")","v":""}]
[null,null,null,null,{"$f":"IFERROR(GESTION!H199,\" \")","v":0},{"$f":"IFERROR(GESTION!I199,\" \")","v":0},{"$f":"IFERROR(GESTION!J199,\" \")","v":0},null,""]
[null,null,null,null,{"$f":"IFERROR(GESTION!H200,\" \")","v":0},{"$f":"IFERROR(GESTION!I200,\" \")","v":0},{"$f":"IFERROR(GESTION!J200,\" \")","v":0},null,""]
[null,null,null,null,{"$f":"IFERROR(GESTION!H201,\" \")","v":0},{"$f":"IFERROR(GESTION!I201,\" \")","v":0},{"$f":"IFERROR(GESTION!J201,\" \")","v":0},null,""]
[null,null,null,null,{"$f":"IFERROR(GESTION!H202,\" \")","v":0},{"$f":"IFERROR(GESTION!I202,\" \")","v":0},{"$f":"IFERROR(GESTION!J202,\" \")","v":0},null,""]
[null,null,null,null,{"$f":"IFERROR(GESTION!H203,\" \")","v":0},{"$f":"IFERROR(GESTION!I203,\" \")","v":0},{"$f":"IFERROR(GESTION!J203,\" \")","v":0},null,""]
[null,null,null,null,{"$f":"IFERROR(GESTION!H204,\" \")","v":0},{"$f":"IFERROR(GESTION!I204,\" \")","v":0},{"$f":"IFERROR(GESTION!J204,\" \")","v":0},null,""]
[null,null,null,null,{"$f":"IFERROR(GESTION!H205,\" \")","v":0},{"$f":"IFERROR(GESTION!I205,\" \")","v":0},{"$f":"IFERROR(GESTION!J205,\" \")","v":0},null,""]
[null,null,"3. Promover la incorporación de la perspectiva de género y el enfoque diferencial en los fallos judiciales y en la atención a los ciudadanos, la administración de la Rama Judicial, la administración de la carrera judicial y la elaboración de listas para altas Cortes. ",null,{"$f":"IFERROR(GESTION!H206,\" \")","v":0},{"$f":"IFERROR(GESTION!I206,\" \")","v":0},{"$f":"IFERROR(GESTION!J206,\" \")","v":0},null,""]
[null,null,null,null,{"$f":"IFERROR(GESTION!H207,\" \")","v":0},{"$f":"IFERROR(GESTION!I207,\" \")","v":0},{"$f":"IFERROR(GESTION!J207,\" \")","v":0},null,""]
[null,null,null,null,{"$f":"IFERROR(GESTION!H208,\" \")","v":0},{"$f":"IFERROR(GESTION!I208,\" \")","v":0},{"$f":"IFERROR(GESTION!J208,\" \")","v":0},null,""]
[null,null,null,null,{"$f":"IFERROR(GESTION!H209,\" \")","v":0},{"$f":"IFERROR(GESTION!I209,\" \")","v":0},{"$f":"IFERROR(GESTION!J209,\" \")","v":0},null,""]
[null,null,null,null,{"$f":"IFERROR(GESTION!H210,\" \")","v":0},{"$f":"IFERROR(GESTION!I210,\" \")","v":0},{"$f":"IFERROR(GESTION!J210,\" \")","v":0},null,""]
[null,null,null,null,{"$f":"IFERROR(GESTION!H211,\" \")","v":0},{"$f":"IFERROR(GESTION!I211,\" \")","v":0},{"$f":"IFERROR(GESTION!J211,\" \")","v":0},null,""]
[null,null,null,null,{"$f":"IFERROR(GESTION!H212,\" \")","v":0},{"$f":"IFERROR(GESTION!I212,\" \")","v":0},{"$f":"IFERROR(GESTION!J212,\" \")","v":0},null,""]
[null,null,null,null,{"$f":"IFERROR(GESTION!H213,\" \")","v":0},{"$f":"IFERROR(GESTION!I213,\" \")","v":0},{"$f":"IFERROR(GESTION!J213,\" \")","v":0},null,""]
[null,null,null,null,{"$f":"IFERROR(GESTION!H214,\" \")","v":0},{"$f":"IFERROR(GESTION!I214,\" \")","v":0},{"$f":"IFERROR(GESTION!J214,\" \")","v":0},null,""]
[null,null,null,null,{"$f":"IFERROR(GESTION!H215,\" \")","v":0},{"$f":"IFERROR(GESTION!I215,\" \")","v":0},{"$f":"IFERROR(GESTION!J215,\" \")","v":0},null,""]
[null,null,"4. Desarrollar en los servidores judiciales y demás grupos de valor relevantes las competencias necesarias para la efectividad de la transformación digital de modo que puedan, entre otros, utilizar con solvencia las herramientas digitales dispuestas para sus respectivas funciones. Además, fortalecer y actualizar los conocimientos del personal a cargo de la gestión de proyectos de tecnología.",null,{"$f":"IFERROR(GESTION!H216,\" \")","v":0},{"$f":"IFERROR(GESTION!I216,\" \")","v":0},{"$f":"IFERROR(GESTION!J216,\" \")","v":0},null,""]
[null,null,null,null,{"$f":"IFERROR(GESTION!H217,\" \")","v":0},{"$f":"IFERROR(GESTION!I217,\" \")","v":0},{"$f":"IFERROR(GESTION!J217,\" \")","v":0},null,""]
[null,null,null,null,{"$f":"IFERROR(GESTION!H218,\" \")","v":0},{"$f":"IFERROR(GESTION!I218,\" \")","v":0},{"$f":"IFERROR(GESTION!J218,\" \")","v":0},null,""]
[null,null,null,null,{"$f":"IFERROR(GESTION!H219,\" \")","v":0},{"$f":"IFERROR(GESTION!I219,\" \")","v":0},{"$f":"IFERROR(GESTION!J219,\" \")","v":0},null,""]
[null,null,null,null,{"$f":"IFERROR(GESTION!H220,\" \")","v":0},{"$f":"IFERROR(GESTION!I220,\" \")","v":0},{"$f":"IFERROR(GESTION!J220,\" \")","v":0},null,""]
[null,null,null,null,{"$f":"IFERROR(GESTION!H221,\" \")","v":0},{"$f":"IFERROR(GESTION!I221,\" \")","v":0},{"$f":"IFERROR(GESTION!J221,\" \")","v":0},null,""]
[null,null,null,null,{"$f":"IFERROR(GESTION!H222,\" \")","v":0},{"$f":"IFERROR(GESTION!I222,\" \")","v":0},{"$f":"IFERROR(GESTION!J222,\" \")","v":0},null,""]
[null,null,null,null,{"$f":"IFERROR(GESTION!H223,\" \")","v":0},{"$f":"IFERROR(GESTION!I223,\" \")","v":0},{"$f":"IFERROR(GESTION!J223,\" \")","v":0},null,""]
[null,null,null,null,{"$f":"IFERROR(GESTION!H224,\" \")","v":0},{"$f":"IFERROR(GESTION!I224,\" \")","v":0},{"$f":"IFERROR(GESTION!J224,\" \")","v":0},null,""]
[null,null,null,null,{"$f":"IFERROR(GESTION!H225,\" \")","v":0},{"$f":"IFERROR(GESTION!I225,\" \")","v":0},{"$f":"IFERROR(GESTION!J225,\" \")","v":0},null,""]
[null,null,"5. Promover el bienestar de todos los servidores judiciales a través de la implementación de un sistema que contemple los diferentes niveles de estrategias y acciones necesarios para mejorar el clima laboral, la salud física y mental y la calidad del tiempo de descanso.","5. Generar espacios de trabajo seguros y saludables que contribuyan a minimizar los  incidentes, accidentes y enfermedades laborales derivados de las condiciones y actos  inseguros y fomentar  el autocuidado, los  estilos de vida y el trabajo saludable en los servidores judiciales, contratistas, judicantes y practicantes",{"$f":"IFERROR(GESTION!H226,\" \")","v":0},{"$f":"IFERROR(GESTION!I226,\" \")","v":0},{"$f":"IFERROR(GESTION!J226,\" \")","v":0},null,""]
[null,null,null,null,{"$f":"IFERROR(GESTION!H227,\" \")","v":0},{"$f":"IFERROR(GESTION!I227,\" \")","v":0},{"$f":"IFERROR(GESTION!J227,\" \")","v":0},null,""]
[null,null,null,null,{"$f":"IFERROR(GESTION!H228,\" \")","v":0},{"$f":"IFERROR(GESTION!I228,\" \")","v":0},{"$f":"IFERROR(GESTION!J228,\" \")","v":0},null,""]
[null,null,null,null,{"$f":"IFERROR(GESTION!H229,\" \")","v":0},{"$f":"IFERROR(GESTION!I229,\" \")","v":0},{"$f":"IFERROR(GESTION!J229,\" \")","v":0},null,""]
[null,null,null,null,{"$f":"IFERROR(GESTION!H230,\" \")","v":0},{"$f":"IFERROR(GESTION!I230,\" \")","v":0},{"$f":"IFERROR(GESTION!J230,\" \")","v":0},null,""]
[null,null,null,null,{"$f":"IFERROR(GESTION!H231,\" \")","v":0},{"$f":"IFERROR(GESTION!I231,\" \")","v":0},{"$f":"IFERROR(GESTION!J231,\" \")","v":0},null,""]
[null,null,null,null,{"$f":"IFERROR(GESTION!H232,\" \")","v":0},{"$f":"IFERROR(GESTION!I232,\" \")","v":0},{"$f":"IFERROR(GESTION!J232,\" \")","v":0},null,""]
[null,null,null,null,{"$f":"IFERROR(GESTION!H233,\" \")","v":0},{"$f":"IFERROR(GESTION!I233,\" \")","v":0},{"$f":"IFERROR(GESTION!J233,\" \")","v":0},null,""]
[null,null,null,null,{"$f":"IFERROR(GESTION!H234,\" \")","v":0},{"$f":"IFERROR(GESTION!I234,\" \")","v":0},{"$f":"IFERROR(GESTION!J234,\" \")","v":0},null,""]
[null,null,null,null,{"$f":"IFERROR(GESTION!H235,\" \")","v":0},{"$f":"IFERROR(GESTION!I235,\" \")","v":0},{"$f":"IFERROR(GESTION!J235,\" \")","v":0},null,""]
["5. Gobernanza, planeación estratégica y capacidad de toma de decisiones","Gobernanza, planeación estratégica y capacidad de toma de decisiones: Fortalecer la gobernanza, la planeación estratégica y la capacidad de toma de decisiones de la Rama Judicial con base en la evidencia empírica y la articulación efectiva con las demás entidades, para que la perspectiva de género y el enfoque diferencial sean transversales en el presente plan. ","1. Implementar un nuevo modelo integrado para la planeación estratégica, el seguimiento y la medición del desempeño institucional.","2. Asegurar  el cumplimiento de los objetivos institucionales, la normatividad aplicable,  la mejora del SIGCMA y la satisfacción de los usuarios, revisando de  forma continua y sistemática la planificación de la gestión y fortaleciendo la administración de riesgos y sus controles.",{"$f":"IFERROR(GESTION!H236,\" \")","v":"Hacer seguimiento a los planes de acción "},{"$f":"IFERROR(GESTION!I236,\" \")","v":"Entregable"},{"$f":"IFERROR(GESTION!J236,\" \")","v":0},null,"",null,"Se realiza seguimiento correpondiente al cuarto trimestre del año 2023 para el avance en la ejecución del Plan de Acción de este año."]
[null,null,null,null,{"$f":"IFERROR(GESTION!H237,\" \")","v":"Realizar seguimiento al control de riesgos de los diferentes procesos"},{"$f":"IFERROR(GESTION!I237,\" \")","v":"Entregable"},{"$f":"IFERROR(GESTION!J237,\" \")","v":0},null,"",null,"Se hizo el seguimiento a los respectivos mapas de riesgos de los proces del Cosnejo Seccional y no se materializaron riesgos para el cuarto trimentre del año"]
[null,null,null,null,{"$f":"IFERROR(GESTION!H238,\" \")","v":"Consolidar y analizar los indicadores de los procesos del SIGCMA"},{"$f":"IFERROR(GESTION!I238,\" \")","v":"Entregable"},{"$f":"IFERROR(GESTION!J238,\" \")","v":0},null,"",null,"Se consolida la inforación correspondiente a los indicadores, con la observación de que los indicadores del proceso de  Gestión de la información estadística no es posible calcularlo aún pues el terminos que tienen los juzgados para la presentación de este reporte, es posterior a la fecha de esta entrega del Plan de acción."]
[null,null,null,null,{"$f":"IFERROR(GESTION!H239,\" \")","v":"Formular y tramitar las acciones de gestión (correctivas y preventivas)"},{"$f":"IFERROR(GESTION!I239,\" \")","v":"Entregable"},{"$f":"IFERROR(GESTION!J239,\" \")","v":0},null,"",null,"Durante el cuarto trimestre, el Consejo Seccional de la Judicatura de Caldas no implemento acciones de mejora"]
[null,null,null,null,{"$f":"IFERROR(GESTION!H240,\" \")","v":"Coordinar la realización de auditorias internas y externas"},{"$f":"IFERROR(GESTION!I240,\" \")","v":"Entregable"},{"$f":"IFERROR(GESTION!J240,\" \")","v":0},null,"",null,"Las auditorías internas se llevaron a cabo el 11/08/2023 y fue una auditoría integral (SGC, SGA y SG-SST) No se presentaron no conformidades y las oportunidades de mejora fueron socializadas y documentadas apropiadamente.\n\nPor otra parte la aduitoría externa fue realizada el 13/09/2023, a la fecha no se ha recibido el informe de esta"]
[null,null,null,null,{"$f":"IFERROR(GESTION!H241,\" \")","v":"Calificación integral de servicio - Funcionarios Judiciales"},{"$f":"IFERROR(GESTION!I241,\" \")","v":"Entregable"},{"$f":"IFERROR(GESTION!J241,\" \")","v":0},null,"",null,"La actividad se culminó en el mes de agosto de 2023","Calificación de Jueces año 2022\nhttps://etbcsj-my.sharepoint.com/:f:/g/personal/sacsma_cendoj_ramajudicial_gov_co/EutfCO4x3PhBqAXD8kzPhkEBDDo9BjRY_rjlZacaW0y-dg?e=YUV1eQ\n\nSICONSEC:\nhttp://190.217.24.24/sinsac/\n\nInforme de Calificaciones:\nhttps://etbcsj-my.sharepoint.com/:p:/g/personal/sacsma_cendoj_ramajudicial_gov_co/Ee64sCyzCsNHoMCGJcqars0B9oh4wEC0grvjnLK4CdAzhQ?e=PUTK6f "]
[null,null,null,null,{"$f":"IFERROR(GESTION!H242,\" \")","v":"Consolidación calificación integral de los empleados"},{"$f":"IFERROR(GESTION!I242,\" \")","v":"Entregable"},{"$f":"IFERROR(GESTION!J242,\" \")","v":0},null,"",null,"La actividad se culminó en el mes de agosto de 2023","Informe de Calificaciones:\nhttps://etbcsj-my.sharepoint.com/:f:/g/personal/sacsma_cendoj_ramajudicial_gov_co/Eshc1TnNnTJNgT3az7zKJZEBv3ev5mU3ILo4QaxRbWVubg?e=FqHtIH\n"]
[null,null,null,null,{"$f":"IFERROR(GESTION!H243,\" \")","v":0},{"$f":"IFERROR(GESTION!I243,\" \")","v":0},{"$f":"IFERROR(GESTION!J243,\" \")","v":0},null,""]
[null,null,null,null,{"$f":"IFERROR(GESTION!H244,\" \")","v":0},{"$f":"IFERROR(GESTION!I244,\" \")","v":0},{"$f":"IFERROR(GESTION!J244,\" \")","v":0},null,""]
[null,null,null,null,{"$f":"IFERROR(GESTION!H245,\" \")","v":0},{"$f":"IFERROR(GESTION!I245,\" \")","v":0},{"$f":"IFERROR(GESTION!J245,\" \")","v":0},null,""]
[null,null,"2. Definir e implementar el modelo optimizado de formulación, seguimiento y evaluación de la política pública judicial.",null,{"$f":"IFERROR(GESTION!H246,\" \")","v":0},{"$f":"IFERROR(GESTION!I246,\" \")","v":0},{"$f":"IFERROR(GESTION!J246,\" \")","v":0},null,""]
[null,null,null,null,{"$f":"IFERROR(GESTION!H247,\" \")","v":0},{"$f":"IFERROR(GESTION!I247,\" \")","v":0},{"$f":"IFERROR(GESTION!J247,\" \")","v":0},null,""]
[null,null,null,null,{"$f":"IFERROR(GESTION!H248,\" \")","v":0},{"$f":"IFERROR(GESTION!I248,\" \")","v":0},{"$f":"IFERROR(GESTION!J248,\" \")","v":0},null,""]
[null,null,null,null,{"$f":"IFERROR(GESTION!H249,\" \")","v":0},{"$f":"IFERROR(GESTION!I249,\" \")","v":0},{"$f":"IFERROR(GESTION!J249,\" \")","v":0},null,""]
[null,null,null,null,{"$f":"IFERROR(GESTION!H250,\" \")","v":0},{"$f":"IFERROR(GESTION!I250,\" \")","v":0},{"$f":"IFERROR(GESTION!J250,\" \")","v":0},null,""]
[null,null,null,null,{"$f":"IFERROR(GESTION!H251,\" \")","v":0},{"$f":"IFERROR(GESTION!I251,\" \")","v":0},{"$f":"IFERROR(GESTION!J251,\" \")","v":0},null,""]
[null,null,null,null,{"$f":"IFERROR(GESTION!H252,\" \")","v":0},{"$f":"IFERROR(GESTION!I252,\" \")","v":0},{"$f":"IFERROR(GESTION!J252,\" \")","v":0},null,""]
[null,null,null,null,{"$f":"IFERROR(GESTION!H253,\" \")","v":0},{"$f":"IFERROR(GESTION!I253,\" \")","v":0},{"$f":"IFERROR(GESTION!J253,\" \")","v":0},null,""]
[null,null,null,null,{"$f":"IFERROR(GESTION!H254,\" \")","v":0},{"$f":"IFERROR(GESTION!I254,\" \")","v":0},{"$f":"IFERROR(GESTION!J254,\" \")","v":0},null,""]
[null,null,null,null,{"$f":"IFERROR(GESTION!H255,\" \")","v":0},{"$f":"IFERROR(GESTION!I255,\" \")","v":0},{"$f":"IFERROR(GESTION!J255,\" \")","v":0},null,""]

{"sheet":"GESTION_SEG_3_TRIM","index":6,"n_rows":255,"n_cols":12,"rows_kept":255,"cut":false,"hidden":false,"merged":[[205,2,214,2],[215,2,224,2],[225,2,234,2],[225,3,234,3],[235,0,254,0],[235,1,254,1],[235,2,244,2],[235,3,254,3],[245,2,254,2],[185,0,234,0],[185,1,234,1],[185,2,194,2],[185,3,224,3],[195,2,204,2],[105,2,114,2],[115,0,184,0],[115,1,184,1],[115,2,124,2],[115,3,124,3],[125,2,134,2],[125,3,134,3],[135,2,144,2],[135,3,144,3],[145,2,154,2],[145,3,174,3],[155,2,164,2],[165,2,174,2],[175,2,184,2],[175,3,184,3],[45,2,54,2],[45,3,54,3],[55,0,114,0],[55,1,114,1],[55,2,64,2],[55,3,114,3],[65,2,74,2],[75,2,84,2],[85,2,94,2],[95,2,104,2],[5,0,54,0],[5,1,54,1],[5,2,14,2],[5,3,14,3],[15,2,24,2],[15,3,24,3],[25,2,34,2],[25,3,34,3],[35,2,44,2],[35,3,44,3],[1,0,1,10],[2,0,2,3],[2,4,2,9],[2,10,4,10],[3,0,4,1],[3,2,4,2],[3,3,4,3],[3,4,3,9]]}
[]
["CONSEJO SUPERIOR DE LA JUDICATURA \nUNIDADES MISIONALES DEL CONSEJO SUPERIOR DE LA JUDICATURA - \nDIRECCIÓN EJECUTIVA DE ADMINISTRACIÓN JUDICIAL - UNIDADES MISIONALES DE LA DEAJ\nDIRECCIONES SECCIONALES DE ADMINISTRACIÓN JUDICIAL - DEPENDENCIAS JUDICIALES CERTIFICADAS"]
["PLAN SECTORIAL DE DESARROLLO 2023-2026 - OBJETIVOS SIGCMA",null,null,null,null,null,null,null,null,null," ANÁLISIS RESULTADO"]
["OBJETIVO ESTRATÉGICO",null,"OBJETIVO ESPECÍFICO PSD","OBJETIVO ESPECÍFICO SIGCMA","MEDICIÓN DE LA GESTIÓN ANUAL"]
[null,null,null,null,"ACTIVIDADES ","INDIQUE SI ES ENTREGABLE O META CUANTIFICABLE","META ANUAL","AVANCE DE LA META ","NIVEL CUMPLIMIENTO","DIFICULTADES PARA LOGRAR LA META PROPUESTA"]
["1. Acceso e Infraestructura Física","Acceso e Infraestructura Física: Ampliar, en todo el territorio nacional, el acceso a una justicia efectiva, pronta, equitativa e incluyente, reduciendo el atraso y la congestión, de acuerdo con las necesidades de la demanda de justicia por jurisdicción y especialidad, y mejorando la articulación con la justicia restaurativa y terapéutica, y otros mecanismos de solución de conflictos y consolidando una infraestructura física óptima para el acceso a la justicia.","1. Ampliar el acceso a justicia para atender las necesidades jurídicas de los ciudadanos con un enfoque diferencial, de una manera pronta, reduciendo las inequidades y las brechas territoriales de acceso.","2. Asegurar  el cumplimiento de los objetivos institucionales, la normatividad aplicable,  la mejora del SIGCMA y la satisfacción de los usuarios, revisando de  forma continua y sistemática la planificación de la gestión y fortaleciendo la administración de riesgos y sus controles",{"$f":"IFERROR(GESTION!H6,\" \")","v":"Generar propuestas de reordenamiento para el mejoramiento de la administración de justciai"},{"$f":"IFERROR(GESTION!I6,\" \")","v":"Entregable"},{"$f":"IFERROR(GESTION!J6,\" \")","v":0},null,{"$f":"IFERROR(H6/G6,\"\")","v":""},null,"Durante el tercer trimestre esta Corporación envió al Consejo Superior de la Judicatura un proyecto de reordenamiento, así:\n\n1. Propuesta Radicado 2023-005:\nCon oficio CSJCAO23-1869 se envía la propuesta con la que se busca consolidar las necesidades de reforzamiento de la oferta  judicial (despachos y cargos de empleados del Distrito  Judicial de Manizales). La propuesta pretende trasladar el cargo de técnico de sistemas grado 11 de la oficina de servicios administrativos de chinchiná para la Secretaía de la Comisión de Disciplina Judicial","Propuestas de reordenamiento:\n\nhttps://etbcsj-my.sharepoint.com/:f:/g/personal/sacsma_cendoj_ramajudicial_gov_co/Ek4bUa_aIVJEv0Zi2juTivcB0EDJjMZc7YOmtFDXV3Qqww?e=UK4N6F"]
[null,null,null,null,{"$f":"IFERROR(GESTION!H7,\" \")","v":"Seguimiento al cumplimiento de metas de las medidas transitorias establecidas por el CSJ"},{"$f":"IFERROR(GESTION!I7,\" \")","v":"Entregable"},{"$f":"IFERROR(GESTION!J7,\" \")","v":0},null,"",null,"Se hace el seguimiento respectivo a las medidas de transitorias creadas mediante acuerdos:\n- PCSJA23-12055, marzo 31 de 2023, prorroga\n- PCSJA 23-12053, , 17 de marzo de 2023.\n-PCSJA23-12069 , 2 de junio de 2023","Informes UDAE:\n\nhttps://etbcsj-my.sharepoint.com/:f:/g/personal/sacsma_cendoj_ramajudicial_gov_co/Eti200TWm5hItlaA4COKj6EBKVqUEUq9YgMk085P9MbGng?e=U3zCdS"]
[null,null,null,null,{"$f":"IFERROR(GESTION!H8,\" \")","v":"Seguimiento al Punto de Atención y Orientación al Usuario de Justicia y la Oficina de Gestión en salud"},{"$f":"IFERROR(GESTION!I8,\" \")","v":"Entregable"},{"$f":"IFERROR(GESTION!J8,\" \")","v":0},null,"",null,"Actividad con seguimiento semestral"]
[null,null,null,null,{"$f":"IFERROR(GESTION!H9,\" \")","v":0},{"$f":"IFERROR(GESTION!I9,\" \")","v":0},{"$f":"IFERROR(GESTION!J9,\" \")","v":0},null,""]
[null,null,null,null,{"$f":"IFERROR(GESTION!H10,\" \")","v":0},{"$f":"IFERROR(GESTION!I10,\" \")","v":0},{"$f":"IFERROR(GESTION!J10,\" \")","v":0},null,""]
[null,null,null,null,{"$f":"IFERROR(GESTION!H11,\" \")","v":0},{"$f":"IFERROR(GESTION!I11,\" \")","v":0},{"$f":"IFERROR(GESTION!J11,\" \")","v":0},null,""]
[null,null,null,null,{"$f":"IFERROR(GESTION!H12,\" \")","v":0},{"$f":"IFERROR(GESTION!I12,\" \")","v":0},{"$f":"IFERROR(GESTION!J12,\" \")","v":0},null,""]
[null,null,null,null,{"$f":"IFERROR(GESTION!H13,\" \")","v":0},{"$f":"IFERROR(GESTION!I13,\" \")","v":0},{"$f":"IFERROR(GESTION!J13,\" \")","v":0},null,""]
[null,null,null,null,{"$f":"IFERROR(GESTION!H14,\" \")","v":0},{"$f":"IFERROR(GESTION!I14,\" \")","v":0},{"$f":"IFERROR(GESTION!J14,\" \")","v":0},null,""]
[null,null,null,null,{"$f":"IFERROR(GESTION!H15,\" \")","v":0},{"$f":"IFERROR(GESTION!I15,\" \")","v":0},{"$f":"IFERROR(GESTION!J15,\" \")","v":0},null,""]
[null,null,"2. Mejorar los tiempos de respuesta de la Rama Judicial y reducir el inventario de procesos, identificando los retos internos y promoviendo tanto acciones articuladas específicas para abordarlos como estrategias coordinadas para enfrentar las barreras que dependen de otras entidades.","2. Asegurar  el cumplimiento de los objetivos institucionales, la normatividad aplicable,  la mejora del SIGCMA y la satisfacción de los usuarios, revisando de  forma continua y sistemática la planificación de la gestión y fortaleciendo la administración de riesgos y sus controles",{"$f":"IFERROR(GESTION!H16,\" \")","v":0},{"$f":"IFERROR(GESTION!I16,\" \")","v":0},{"$f":"IFERROR(GESTION!J16,\" \")","v":0},null,""]
[null,null,null,null,{"$f":"IFERROR(GESTION!H17,\" \")","v":0},{"$f":"IFERROR(GESTION!I17,\" \")","v":0},{"$f":"IFERROR(GESTION!J17,\" \")","v":0},null,""]
[null,null,null,null,{"$f":"IFERROR(GESTION!H18,\" \")","v":0},{"$f":"IFERROR(GESTION!I18,\" \")","v":0},{"$f":"IFERROR(GESTION!J18,\" \")","v":0},null,""]
[null,null,null,null,{"$f":"IFERROR(GESTION!H19,\" \")","v":0},{"$f":"IFERROR(GESTION!I19,\" \")","v":0},{"$f":"IFERROR(GESTION!J19,\" \")","v":0},null,""]
[null,null,null,null,{"$f":"IFERROR(GESTION!H20,\" \")","v":0},{"$f":"IFERROR(GESTION!I20,\" \")","v":0},{"$f":"IFERROR(GESTION!J20,\" \")","v":0},null,""]
[null,null,null,null,{"$f":"IFERROR(GESTION!H21,\" \")","v":0},{"$f":"IFERROR(GESTION!I21,\" \")","v":0},{"$f":"IFERROR(GESTION!J21,\" \")","v":0},null,""]
[null,null,null,null,{"$f":"IFERROR(GESTION!H22,\" \")","v":0},{"$f":"IFERROR(GESTION!I22,\" \")","v":0},{"$f":"IFERROR(GESTION!J22,\" \")","v":0},null,""]
[null,null,null,null,{"$f":"IFERROR(GESTION!H23,\" \")","v":0},{"$f":"IFERROR(GESTION!I23,\" \")","v":0},{"$f":"IFERROR(GESTION!J23,\" \")","v":0},null,""]
[null,null,null,null,{"$f":"IFERROR(GESTION!H24,\" \")","v":0},{"$f":"IFERROR(GESTION!I24,\" \")","v":0},{"$f":"IFERROR(GESTION!J24,\" \")","v":0},null,""]
[null,null,null,null,{"$f":"IFERROR(GESTION!H25,\" \")","v":0},{"$f":"IFERROR(GESTION!I25,\" \")","v":0},{"$f":"IFERROR(GESTION!J25,\" \")","v":0},null,""]
[null,null,"3. Coadyuvar en la garantía de la idoneidad en el ejercicio de la profesión jurídica de acuerdo con lo establecido en la Ley 1905 de 2018","2. Asegurar  el cumplimiento de los objetivos institucionales, la normatividad aplicable,  la mejora del SIGCMA y la satisfacción de los usuarios, revisando de  forma continua y sistemática la planificación de la gestión y fortaleciendo la administración de riesgos y sus controles",{"$f":"IFERROR(GESTION!H26,\" \")","v":0},{"$f":"IFERROR(GESTION!I26,\" \")","v":0},{"$f":"IFERROR(GESTION!J26,\" \")","v":0},null,""]
[null,null,null,null,{"$f":"IFERROR(GESTION!H27,\" \")","v":0},{"$f":"IFERROR(GESTION!I27,\" \")","v":0},{"$f":"IFERROR(GESTION!J27,\" \")","v":0},null,""]
[null,null,null,null,{"$f":"IFERROR(GESTION!H28,\" \")","v":0},{"$f":"IFERROR(GESTION!I28,\" \")","v":0},{"$f":"IFERROR(GESTION!J28,\" \")","v":0},null,""]
[null,null,null,null,{"$f":"IFERROR(GESTION!H29,\" \")","v":0},{"$f":"IFERROR(GESTION!I29,\" \")","v":0},{"$f":"IFERROR(GESTION!J29,\" \")","v":0},null,""]
[null,null,null,null,{"$f":"IFERROR(GESTION!H30,\" \")","v":0},{"$f":"IFERROR(GESTION!I30,\" \")","v":0},{"$f":"IFERROR(GESTION!J30,\" \")","v":0},null,""]
[null,null,null,null,{"$f":"IFERROR(GESTION!H31,\" \")","v":0},{"$f":"IFERROR(GESTION!I31,\" \")","v":0},{"$f":"IFERROR(GESTION!J31,\" \")","v":0},null,""]
[null,null,null,null,{"$f":"IFERROR(GESTION!H32,\" \")","v":0},{"$f":"IFERROR(GESTION!I32,\" \")","v":0},{"$f":"IFERROR(GESTION!J32,\" \")","v":0},null,""]
[null,null,null,null,{"$f":"IFERROR(GESTION!H33,\" \")","v":0},{"$f":"IFERROR(GESTION!I33,\" \")","v":0},{"$f":"IFERROR(GESTION!J33,\" \")","v":0},null,""]
[null,null,null,null,{"$f":"IFERROR(GESTION!H34,\" \")","v":0},{"$f":"IFERROR(GESTION!I34,\" \")","v":0},{"$f":"IFERROR(GESTION!J34,\" \")","v":0},null,""]
[null,null,null,null,{"$f":"IFERROR(GESTION!H35,\" \")","v":0},{"$f":"IFERROR(GESTION!I35,\" \")","v":0},{"$f":"IFERROR(GESTION!J35,\" \")","v":0},null,""]
[null,null,"4. Avanzar en la disposición de una infraestructura óptima para el acceso a la justicia en la Rama Judicial de modo que se fortalezca la presencia territorial, teniendo en cuenta las posibilidades que ofrece la transformación digital y las necesidades que se derivan de ella, y considerando tanto las necesidades de los usuarios como las de los servidores judiciales.","4. Hacer un uso racional de los recursos naturales aplicando los principios y fases de la Economía Circular, para prevenir, mitigar y controlar los impactos ambientales",{"$f":"IFERROR(GESTION!H36,\" \")","v":0},{"$f":"IFERROR(GESTION!I36,\" \")","v":0},{"$f":"IFERROR(GESTION!J36,\" \")","v":0},null,""]
[null,null,null,null,{"$f":"IFERROR(GESTION!H37,\" \")","v":0},{"$f":"IFERROR(GESTION!I37,\" \")","v":0},{"$f":"IFERROR(GESTION!J37,\" \")","v":0},null,""]
[null,null,null,null,{"$f":"IFERROR(GESTION!H38,\" \")","v":0},{"$f":"IFERROR(GESTION!I38,\" \")","v":0},{"$f":"IFERROR(GESTION!J38,\" \")","v":0},null,""]
[null,null,null,null,{"$f":"IFERROR(GESTION!H39,\" \")","v":0},{"$f":"IFERROR(GESTION!I39,\" \")","v":0},{"$f":"IFERROR(GESTION!J39,\" \")","v":0},null,""]
[null,null,null,null,{"$f":"IFERROR(GESTION!H40,\" \")","v":0},{"$f":"IFERROR(GESTION!I40,\" \")","v":0},{"$f":"IFERROR(GESTION!J40,\" \")","v":0},null,""]
[null,null,null,null,{"$f":"IFERROR(GESTION!H41,\" \")","v":0},{"$f":"IFERROR(GESTION!I41,\" \")","v":0},{"$f":"IFERROR(GESTION!J41,\" \")","v":0},null,""]
[null,null,null,null,{"$f":"IFERROR(GESTION!H42,\" \")","v":0},{"$f":"IFERROR(GESTION!I42,\" \")","v":0},{"$f":"IFERROR(GESTION!J42,\" \")","v":0},null,""]
[null,null,null,null,{"$f":"IFERROR(GESTION!H43,\" \")","v":0},{"$f":"IFERROR(GESTION!I43,\" \")","v":0},{"$f":"IFERROR(GESTION!J43,\" \")","v":0},null,""]
[null,null,null,null,{"$f":"IFERROR(GESTION!H44,\" \")","v":0},{"$f":"IFERROR(GESTION!I44,\" \")","v":0},{"$f":"IFERROR(GESTION!J44,\" \")","v":0},null,""]
[null,null,null,null,{"$f":"IFERROR(GESTION!H45,\" \")","v":0},{"$f":"IFERROR(GESTION!I45,\" \")","v":0},{"$f":"IFERROR(GESTION!J45,\" \")","v":0},null,""]
[null,null,"5. Impulsar el uso de mecanismos alternativos para la solución de conflictos y la ampliación de la justicia restaurativa y terapéutica y el robustecimiento de las alternativas al encarcelamiento","2. Asegurar  el cumplimiento de los objetivos institucionales, la normatividad aplicable,  la mejora del SIGCMA y la satisfacción de los usuarios, revisando de  forma continua y sistemática la planificación de la gestión y fortaleciendo la administración de riesgos y sus controles",{"$f":"IFERROR(GESTION!H46,\" \")","v":0},{"$f":"IFERROR(GESTION!I46,\" \")","v":0},{"$f":"IFERROR(GESTION!J46,\" \")","v":0},null,""]
[null,null,null,null,{"$f":"IFERROR(GESTION!H47,\" \")","v":0},{"$f":"IFERROR(GESTION!I47,\" \")","v":0},{"$f":"IFERROR(GESTION!J47,\" \")","v":0},null,""]
[null,null,null,null,{"$f":"IFERROR(GESTION!H48,\" \")","v":0},{"$f":"IFERROR(GESTION!I48,\" \")","v":0},{"$f":"IFERROR(GESTION!J48,\" \")","v":0},null,""]
[null,null,null,null,{"$f":"IFERROR(GESTION!H49,\" \")","v":0},{"$f":"IFERROR(GESTION!I49,\" \")","v":0},{"$f":"IFERROR(GESTION!J49,\" \")","v":0},null,""]
[null,null,null,null,{"$f":"IFERROR(GESTION!H50,\" \")","v":0},{"$f":"IFERROR(GESTION!I50,\" \")","v":0},{"$f":"IFERROR(GESTION!J50,\" \")","v":0},null,""]
[null,null,null,null,{"$f":"IFERROR(GESTION!H51,\" \")","v":0},{"$f":"IFERROR(GESTION!I51,\" \")","v":0},{"$f":"IFERROR(GESTION!J51,\" \")","v":0},null,""]
[null,null,null,null,{"$f":"IFERROR(GESTION!H52,\" \")","v":0},{"$f":"IFERROR(GESTION!I52,\" \")","v":0},{"$f":"IFERROR(GESTION!J52,\" \")","v":0},null,""]
[null,null,null,null,{"$f":"IFERROR(GESTION!H53,\" \")","v":0},{"$f":"IFERROR(GESTION!I53,\" \")","v":0},{"$f":"IFERROR(GESTION!J53,\" \")","v":0},null,""]
[null,null,null,null,{"$f":"IFERROR(GESTION!H54,\" \")","v":0},{"$f":"IFERROR(GESTION!I54,\" \")","v":0},{"$f":"IFERROR(GESTION!J54,\" \")","v":0},null,""]
[null,null,null,null,{"$f":"IFERROR(GESTION!H55,\" \")","v":0},{"$f":"IFERROR(GESTION!I55,\" \")","v":0},{"$f":"IFERROR(GESTION!J55,\" \")","v":0},null,""]
["2. Servicios digitales y de tecnología, innovación y análisis de la información.","Servicios digitales y de tecnología, innovación y análisis de la información: Consolidar una justicia integrada y soportada en servicios digitales y de tecnología, innovación y análisis de la información, con una cultura digital apropiada, segura y sensible a las realidades del territorio nacional. ","1. Ampliar el acceso a la justicia a través de la consolidación del uso de los servicios digitales que conforman el sistema único integrado de gestión judicial en todos los despachos judiciales y dependencias de apoyo y, específicamente, incluyendo el despliegue e implementación del Expediente Judicial Electrónico en todas las jurisdicciones y especialidades.","6. Proteger, preservar y administrar los activos de información  implementando acciones  para gestionar de forma adecuada los incidentes, proteger los datos personales y adoptar mecanismos  de ciberseguridad y aseguramiento de la  continuidad del negocio.",{"$f":"IFERROR(GESTION!H56,\" \")","v":0},{"$f":"IFERROR(GESTION!I56,\" \")","v":0},{"$f":"IFERROR(GESTION!J56,\" \")","v":0},null,""]
[null,null,null,null,{"$f":"IFERROR(GESTION!H57,\" \")","v":0},{"$f":"IFERROR(GESTION!I57,\" \")","v":0},{"$f":"IFERROR(GESTION!J57,\" \")","v":0},null,""]
[null,null,null,null,{"$f":"IFERROR(GESTION!H58,\" \")","v":0},{"$f":"IFERROR(GESTION!I58,\" \")","v":0},{"$f":"IFERROR(GESTION!J58,\" \")","v":0},null,""]
[null,null,null,null,{"$f":"IFERROR(GESTION!H59,\" \")","v":0},{"$f":"IFERROR(GESTION!I59,\" \")","v":0},{"$f":"IFERROR(GESTION!J59,\" \")","v":0},null,""]
[null,null,null,null,{"$f":"IFERROR(GESTION!H60,\" \")","v":0},{"$f":"IFERROR(GESTION!I60,\" \")","v":0},{"$f":"IFERROR(GESTION!J60,\" \")","v":0},null,""]
[null,null,null,null,{"$f":"IFERROR(GESTION!H61,\" \")","v":0},{"$f":"IFERROR(GESTION!I61,\" \")","v":0},{"$f":"IFERROR(GESTION!J61,\" \")","v":0},null,""]
[null,null,null,null,{"$f":"IFERROR(GESTION!H62,\" \")","v":0},{"$f":"IFERROR(GESTION!I62,\" \")","v":0},{"$f":"IFERROR(GESTION!J62,\" \")","v":0},null,""]
[null,null,null,null,{"$f":"IFERROR(GESTION!H63,\" \")","v":0},{"$f":"IFERROR(GESTION!I63,\" \")","v":0},{"$f":"IFERROR(GESTION!J63,\" \")","v":0},null,""]
[null,null,null,null,{"$f":"IFERROR(GESTION!H64,\" \")","v":0},{"$f":"IFERROR(GESTION!I64,\" \")","v":0},{"$f":"IFERROR(GESTION!J64,\" \")","v":0},null,""]
[null,null,null,null,{"$f":"IFERROR(GESTION!H65,\" \")","v":0},{"$f":"IFERROR(GESTION!I65,\" \")","v":0},{"$f":"IFERROR(GESTION!J65,\" \")","v":0},null,""]
[null,null,"2. Integrar y hacer compatibles todos los aplicativos de transición con SIUGJ, para que la migración de los expedientes judiciales a dicha plataforma sea real y no suponga afectaciones en la prestación del servicio de justicia.",null,{"$f":"IFERROR(GESTION!H66,\" \")","v":0},{"$f":"IFERROR(GESTION!I66,\" \")","v":0},{"$f":"IFERROR(GESTION!J66,\" \")","v":0},null,""]
[null,null,null,null,{"$f":"IFERROR(GESTION!H67,\" \")","v":0},{"$f":"IFERROR(GESTION!I67,\" \")","v":0},{"$f":"IFERROR(GESTION!J67,\" \")","v":0},null,""]
[null,null,null,null,{"$f":"IFERROR(GESTION!H68,\" \")","v":0},{"$f":"IFERROR(GESTION!I68,\" \")","v":0},{"$f":"IFERROR(GESTION!J68,\" \")","v":0},null,""]
[null,null,null,null,{"$f":"IFERROR(GESTION!H69,\" \")","v":0},{"$f":"IFERROR(GESTION!I69,\" \")","v":0},{"$f":"IFERROR(GESTION!J69,\" \")","v":0},null,""]
[null,null,null,null,{"$f":"IFERROR(GESTION!H70,\" \")","v":0},{"$f":"IFERROR(GESTION!I70,\" \")","v":0},{"$f":"IFERROR(GESTION!J70,\" \")","v":0},null,{"$f":"IFERROR(H70/G70,\"\")","v":""}]
[null,null,null,null,{"$f":"IFERROR(GESTION!H71,\" \")","v":0},{"$f":"IFERROR(GESTION!I71,\" \")","v":0},{"$f":"IFERROR(GESTION!J71,\" \")","v":0},null,""]
[null,null,null,null,{"$f":"IFERROR(GESTION!H72,\" \")","v":0},{"$f":"IFERROR(GESTION!I72,\" \")","v":0},{"$f":"IFERROR(GESTION!J72,\" \")","v":0},null,""]
[null,null,null,null,{"$f":"IFERROR(GESTION!H73,\" \")","v":0},{"$f":"IFERROR(GESTION!I73,\" \")","v":0},{"$f":"IFERROR(GESTION!J73,\" \")","v":0},null,""]
[null,null,null,null,{"$f":"IFERROR(GESTION!H74,\" \")","v":0},{"$f":"IFERROR(GESTION!I74,\" \")","v":0},{"$f":"IFERROR(GESTION!J74,\" \")","v":0},null,""]
[null,null,null,null,{"$f":"IFERROR(GESTION!H75,\" \")","v":0},{"$f":"IFERROR(GESTION!I75,\" \")","v":0},{"$f":"IFERROR(GESTION!J75,\" \")","v":0},null,""]
[null,null,"3. Fortalecer las capacidades institucionales, adecuar el modelo operativo y de servicio, bajo un enfoque de Arquitectura Empresarial y de fortalecimiento del acceso a la justicia.",null,{"$f":"IFERROR(GESTION!H76,\" \")","v":0},{"$f":"IFERROR(GESTION!I76,\" \")","v":0},{"$f":"IFERROR(GESTION!J76,\" \")","v":0},null,""]
[null,null,null,null,{"$f":"IFERROR(GESTION!H77,\" \")","v":0},{"$f":"IFERROR(GESTION!I77,\" \")","v":0},{"$f":"IFERROR(GESTION!J77,\" \")","v":0},null,""]
[null,null,null,null,{"$f":"IFERROR(GESTION!H78,\" \")","v":0},{"$f":"IFERROR(GESTION!I78,\" \")","v":0},{"$f":"IFERROR(GESTION!J78,\" \")","v":0},null,""]
[null,null,null,null,{"$f":"IFERROR(GESTION!H79,\" \")","v":0},{"$f":"IFERROR(GESTION!I79,\" \")","v":0},{"$f":"IFERROR(GESTION!J79,\" \")","v":0},null,""]
[null,null,null,null,{"$f":"IFERROR(GESTION!H80,\" \")","v":0},{"$f":"IFERROR(GESTION!I80,\" \")","v":0},{"$f":"IFERROR(GESTION!J80,\" \")","v":0},null,""]
[null,null,null,null,{"$f":"IFERROR(GESTION!H81,\" \")","v":0},{"$f":"IFERROR(GESTION!I81,\" \")","v":0},{"$f":"IFERROR(GESTION!J81,\" \")","v":0},null,""]
[null,null,null,null,{"$f":"IFERROR(GESTION!H82,\" \")","v":0},{"$f":"IFERROR(GESTION!I82,\" \")","v":0},{"$f":"IFERROR(GESTION!J82,\" \")","v":0},null,""]
[null,null,null,null,{"$f":"IFERROR(GESTION!H83,\" \")","v":0},{"$f":"IFERROR(GESTION!I83,\" \")","v":0},{"$f":"IFERROR(GESTION!J83,\" \")","v":0},null,""]
[null,null,null,null,{"$f":"IFERROR(GESTION!H84,\" \")","v":0},{"$f":"IFERROR(GESTION!I84,\" \")","v":0},{"$f":"IFERROR(GESTION!J84,\" \")","v":0},null,""]
[null,null,null,null,{"$f":"IFERROR(GESTION!H85,\" \")","v":0},{"$f":"IFERROR(GESTION!I85,\" \")","v":0},{"$f":"IFERROR(GESTION!J85,\" \")","v":0},null,""]
[null,null,"4.Consolidar la cultura y apropiación de la transformación digital en los servidores y usuarios de los servicios de la Rama Judicial y reducir brechas de acceso y conocimiento, incluyendo la oferta efectiva de información sobre el uso de las nuevas herramientas virtuales implementadas en las diferentes jurisdicciones, con especial énfasis en las zonas del país donde es evidente la brecha digital.",null,{"$f":"IFERROR(GESTION!H86,\" \")","v":0},{"$f":"IFERROR(GESTION!I86,\" \")","v":0},{"$f":"IFERROR(GESTION!J86,\" \")","v":0},null,""]
[null,null,null,null,{"$f":"IFERROR(GESTION!H87,\" \")","v":0},{"$f":"IFERROR(GESTION!I87,\" \")","v":0},{"$f":"IFERROR(GESTION!J87,\" \")","v":0},null,""]
[null,null,null,null,{"$f":"IFERROR(GESTION!H88,\" \")","v":0},{"$f":"IFERROR(GESTION!I88,\" \")","v":0},{"$f":"IFERROR(GESTION!J88,\" \")","v":0},null,""]
[null,null,null,null,{"$f":"IFERROR(GESTION!H89,\" \")","v":0},{"$f":"IFERROR(GESTION!I89,\" \")","v":0},{"$f":"IFERROR(GESTION!J89,\" \")","v":0},null,""]
[null,null,null,null,{"$f":"IFERROR(GESTION!H90,\" \")","v":0},{"$f":"IFERROR(GESTION!I90,\" \")","v":0},{"$f":"IFERROR(GESTION!J90,\" \")","v":0},null,""]
[null,null,null,null,{"$f":"IFERROR(GESTION!H91,\" \")","v":0},{"$f":"IFERROR(GESTION!I91,\" \")","v":0},{"$f":"IFERROR(GESTION!J91,\" \")","v":0},null,""]
[null,null,null,null,{"$f":"IFERROR(GESTION!H92,\" \")","v":0},{"$f":"IFERROR(GESTION!I92,\" \")","v":0},{"$f":"IFERROR(GESTION!J92,\" \")","v":0},null,""]
[null,null,null,null,{"$f":"IFERROR(GESTION!H93,\" \")","v":0},{"$f":"IFERROR(GESTION!I93,\" \")","v":0},{"$f":"IFERROR(GESTION!J93,\" \")","v":0},null,""]
[null,null,null,null,{"$f":"IFERROR(GESTION!H94,\" \")","v":0},{"$f":"IFERROR(GESTION!I94,\" \")","v":0},{"$f":"IFERROR(GESTION!J94,\" \")","v":0},null,""]
[null,null,null,null,{"$f":"IFERROR(GESTION!H95,\" \")","v":0},{"$f":"IFERROR(GESTION!I95,\" \")","v":0},{"$f":"IFERROR(GESTION!J95,\" \")","v":0},null,""]
[null,null,"5.Consolidar la infraestructura y los recursos necesarios para la implementación exitosa de la transformación digital, incluyendo la disposición de internet de calidad en el 100% de las sedes en la Rama Judicial y modernizar los servicios tecnológicos de soporte. ",null,{"$f":"IFERROR(GESTION!H96,\" \")","v":0},{"$f":"IFERROR(GESTION!I96,\" \")","v":0},{"$f":"IFERROR(GESTION!J96,\" \")","v":0},null,""]
[null,null,null,null,{"$f":"IFERROR(GESTION!H97,\" \")","v":0},{"$f":"IFERROR(GESTION!I97,\" \")","v":0},{"$f":"IFERROR(GESTION!J97,\" \")","v":0},null,""]
[null,null,null,null,{"$f":"IFERROR(GESTION!H98,\" \")","v":0},{"$f":"IFERROR(GESTION!I98,\" \")","v":0},{"$f":"IFERROR(GESTION!J98,\" \")","v":0},null,""]
[null,null,null,null,{"$f":"IFERROR(GESTION!H99,\" \")","v":0},{"$f":"IFERROR(GESTION!I99,\" \")","v":0},{"$f":"IFERROR(GESTION!J99,\" \")","v":0},null,""]
[null,null,null,null,{"$f":"IFERROR(GESTION!H100,\" \")","v":0},{"$f":"IFERROR(GESTION!I100,\" \")","v":0},{"$f":"IFERROR(GESTION!J100,\" \")","v":0},null,""]
[null,null,null,null,{"$f":"IFERROR(GESTION!H101,\" \")","v":0},{"$f":"IFERROR(GESTION!I101,\" \")","v":0},{"$f":"IFERROR(GESTION!J101,\" \")","v":0},null,""]
[null,null,null,null,{"$f":"IFERROR(GESTION!H102,\" \")","v":0},{"$f":"IFERROR(GESTION!I102,\" \")","v":0},{"$f":"IFERROR(GESTION!J102,\" \")","v":0},null,""]
[null,null,null,null,{"$f":"IFERROR(GESTION!H103,\" \")","v":0},{"$f":"IFERROR(GESTION!I103,\" \")","v":0},{"$f":"IFERROR(GESTION!J103,\" \")","v":0},null,""]
[null,null,null,null,{"$f":"IFERROR(GESTION!H104,\" \")","v":0},{"$f":"IFERROR(GESTION!I104,\" \")","v":0},{"$f":"IFERROR(GESTION!J104,\" \")","v":0},null,""]
[null,null,null,null,{"$f":"IFERROR(GESTION!H105,\" \")","v":0},{"$f":"IFERROR(GESTION!I105,\" \")","v":0},{"$f":"IFERROR(GESTION!J105,\" \")","v":0},null,""]
[null,null,"6.Integrar y optimizar los servicios administrativos de la Rama Judicial bajo un enfoque de transformación digital e innovación incluyendo los componentes financiero, administrativo, talento humano, entre otros",null,{"$f":"IFERROR(GESTION!H106,\" \")","v":0},{"$f":"IFERROR(GESTION!I106,\" \")","v":0},{"$f":"IFERROR(GESTION!J106,\" \")","v":0},null,""]
[null,null,null,null,{"$f":"IFERROR(GESTION!H107,\" \")","v":0},{"$f":"IFERROR(GESTION!I107,\" \")","v":0},{"$f":"IFERROR(GESTION!J107,\" \")","v":0},null,""]
[null,null,null,null,{"$f":"IFERROR(GESTION!H108,\" \")","v":0},{"$f":"IFERROR(GESTION!I108,\" \")","v":0},{"$f":"IFERROR(GESTION!J108,\" \")","v":0},null,""]
[null,null,null,null,{"$f":"IFERROR(GESTION!H109,\" \")","v":0},{"$f":"IFERROR(GESTION!I109,\" \")","v":0},{"$f":"IFERROR(GESTION!J109,\" \")","v":0},null,""]
[null,null,null,null,{"$f":"IFERROR(GESTION!H110,\" \")","v":0},{"$f":"IFERROR(GESTION!I110,\" \")","v":0},{"$f":"IFERROR(GESTION!J110,\" \")","v":0},null,""]
[null,null,null,null,{"$f":"IFERROR(GESTION!H111,\" \")","v":0},{"$f":"IFERROR(GESTION!I111,\" \")","v":0},{"$f":"IFERROR(GESTION!J111,\" \")","v":0},null,""]
[null,null,null,null,{"$f":"IFERROR(GESTION!H112,\" \")","v":0},{"$f":"IFERROR(GESTION!I112,\" \")","v":0},{"$f":"IFERROR(GESTION!J112,\" \")","v":0},null,""]
[null,null,null,null,{"$f":"IFERROR(GESTION!H113,\" \")","v":0},{"$f":"IFERROR(GESTION!I113,\" \")","v":0},{"$f":"IFERROR(GESTION!J113,\" \")","v":0},null,""]
[null,null,null,null,{"$f":"IFERROR(GESTION!H114,\" \")","v":0},{"$f":"IFERROR(GESTION!I114,\" \")","v":0},{"$f":"IFERROR(GESTION!J114,\" \")","v":0},null,""]
[null,null,null,null,{"$f":"IFERROR(GESTION!H115,\" \")","v":0},{"$f":"IFERROR(GESTION!I115,\" \")","v":0},{"$f":"IFERROR(GESTION!J115,\" \")","v":0},null,""]
["3. Confianza pública, transparencia y rendición de cuentas","Confianza pública, transparencia y rendición de cuentas: Aumentar la confianza pública en la justicia a través de la transparencia, la rendición de cuentas y la participación, incluyendo la información de justicia y la producción, gestión y acceso a las fuentes de derecho, el fortalecimiento del sistema de gestión de calidad y medio ambiente (SIGCMA) y el mejoramiento de la calidad y publicidad de la información. ","1. Incrementar la cantidad, la calidad y pertinencia de los datos sobre el funcionamiento del servicio de justicia bajo un modelo de gobierno de datos y un liderazgo unificado. ","4. Hacer un uso racional de los recursos naturales aplicando los principios y fases de la Economía Circular, para prevenir, mitigar y controlar los impactos ambientales.",{"$f":"IFERROR(GESTION!H116,\" \")","v":"Desarrollar las tareas definidas en el cronograma de Rendición de Cuentas"},{"$f":"IFERROR(GESTION!I116,\" \")","v":"Entregable"},{"$f":"IFERROR(GESTION!J116,\" \")","v":0},null,"",null,"* En el mes de agosto, se publicó en las redes sociales del Consejo Seccional de la Judicatura de Caldas el Capitulo 1 del Podcast propuesto, en el cual se habla de la Oficina de Gestión en Salud, frente al tema de la Justcia Cercana al Ciudadano. En este audio intervinieron tanto los líderes de esta iniciativa,  como los usuarios beneficiados de esta oficina.\n\n*El 27 de Septiuembre se publico un capitulo adicional que no había sido contemplado inicialmente, en el cual se hizo segumimiento a las personaas entrevistadas en el capitulo 1, frente a los servicios recibidos por parte de la Oficina de Gestión en Salud.\n\nEl 29 de Septiembre, se publico en redes sociales, el que se convirtión en el capitulo 3 de estos podcast, en el cual se habló del Punto de Atención y Orientación al Usuario de Justicia, donde los estudiantes de últimos Semestres de derecho de laas universidades, se encargan de ofrecer asesoría en diversos trámites al rededor de la administración de Justicia","Acciones de Información Rendición de Cuentas 2023\n\nhttps://etbcsj-my.sharepoint.com/:f:/g/personal/sacsma_cendoj_ramajudicial_gov_co/EjlZWVNBfw9PmSr2IszqKVEBCT10edaewXq9bUnn8HPsTQ?e=mrCWwb "]
[null,null,null,null,{"$f":"IFERROR(GESTION!H117,\" \")","v":"Medir la satisfacción del usuario"},{"$f":"IFERROR(GESTION!I117,\" \")","v":"Entregable"},{"$f":"IFERROR(GESTION!J117,\" \")","v":0},null,""]
[null,null,null,null,{"$f":"IFERROR(GESTION!H118,\" \")","v":"Atender, gestionar y solucionar las diferentes solicitudes de usuarios internos y externos"},{"$f":"IFERROR(GESTION!I118,\" \")","v":"Entregable"},{"$f":"IFERROR(GESTION!J118,\" \")","v":0},null,"",null,"Durante el tercer trimestre se presentaron 2 quejas en el Consejo Seccional, las cuales fueron atendidas oportunamente. Es decir,en el termino de 15 días definidos por la ley.\n\nAmbas Quejas eran debido al mal funcionamiento de la página web de la Rama Judicial.","Listado Maestro de QRS:\n\nhttps://etbcsj-my.sharepoint.com/:f:/g/personal/sacsma_cendoj_ramajudicial_gov_co/EvGPycniJktKmlm1YBGTBfYBLFZvofefeOVGMEF_N_dZ_g?e=qS4Ww8"]
[null,null,null,null,{"$f":"IFERROR(GESTION!H119,\" \")","v":"Elaborar el informe de revisión por la Alta Dirección"},{"$f":"IFERROR(GESTION!I119,\" \")","v":"Entregable"},{"$f":"IFERROR(GESTION!J119,\" \")","v":0},null,"",null,"Medianta acta No 003 del 24/05/2023 se llevó a cabo el proceso de revisión de los sistemas integrados de gestion de calidad y medio ambiente, por parte de la alta dirección en la Seccional, quedando aprobado el documento final. \n\nEste documento fue remitido al nivel central para su publicación en el micrositio web del SIGCMA, el 01 de junio de 2023","Informe de Revisión por la Alta Dirección:\n\nhttps://etbcsj-my.sharepoint.com/:f:/g/personal/sacsma_cendoj_ramajudicial_gov_co/Eo_tSFI-ceNBl6yX5JfyHP4Bol_Eygs2uS13xRXmGCBSzg?e=kXLsbV"]
[null,null,null,null,{"$f":"IFERROR(GESTION!H120,\" \")","v":"Atender de las novedades SIERJU"},{"$f":"IFERROR(GESTION!I120,\" \")","v":"Entregable"},{"$f":"IFERROR(GESTION!J120,\" \")","v":0},null,"",null,"Durante este trimestre, se atendieron (45) solicitudes de ajuste de inventario inicial\n\nLas mismas fueron atendidas y/o cerradas  de manera oportuna, a través del sistema de información Sierju.","Consolidado Novedades Sierju:\nhttps://etbcsj-my.sharepoint.com/:x:/g/personal/sacsma_cendoj_ramajudicial_gov_co/EcFvSQj93thOoeTN4o2-vEIBgo57vAMI2Yp6WtBKTcXqaQ?e=inBDmb\n"]
[null,null,null,null,{"$f":"IFERROR(GESTION!H121,\" \")","v":"Acompañamiento y capacitación a los despachos judiciales en el diligenciamiento de la información SIERJU"},{"$f":"IFERROR(GESTION!I121,\" \")","v":"Entregable"},{"$f":"IFERROR(GESTION!J121,\" \")","v":0},null,"",null,"Durante este trimestre, se atendieron (65) necesidades de soporte SIERJU a los despachos judiciales, brindando orientanción en diferentes temas, así:\n\n* Cambio usuario (23)\n* Creacion usuarios  (4)\n* Eliminación de formularios (7)\n* Reinicio contraseña (8)\n- Soporte general (23]))\n\nLas mismas fueron atendidas y/o cerradas  de manera oportuna, a través del sistema de información Sierju.","Consolidado Soporte Sierju:\nhttps://etbcsj-my.sharepoint.com/:x:/g/personal/sacsma_cendoj_ramajudicial_gov_co/EcFvSQj93thOoeTN4o2-vEIBgo57vAMI2Yp6WtBKTcXqaQ?e=inBDmb\n"]
[null,null,null,null,{"$f":"IFERROR(GESTION!H122,\" \")","v":"Registro de cargos vacantes y provistos en Carrera- Jueces"},{"$f":"IFERROR(GESTION!I122,\" \")","v":"Entregable"},{"$f":"IFERROR(GESTION!J122,\" \")","v":0},null,"",null,"Durante el tercer trimestre de 2023 se remitieron 3 oficios a la Unidad de Administración de Carrera Judicial para que efectuara las publicaciones de las vacantes definitivas en la página web de la Rama Judicial - del Consejo Superior de la Judicatura.","Registro de cargos vacantes y provistos en Carrera- Jueces:\n\nhttps://etbcsj-my.sharepoint.com/:f:/g/personal/sacsma_cendoj_ramajudicial_gov_co/ElhONg3Uq3ZFnfUWxxFcca0BoZHmQPdJNSuhxkMi5rWPGw?e=CYjr2m\n\n"]
[null,null,null,null,{"$f":"IFERROR(GESTION!H123,\" \")","v":"Divulgación y publicación de información relevante para los usuarios"},{"$f":"IFERROR(GESTION!I123,\" \")","v":"Entregable"},{"$f":"IFERROR(GESTION!J123,\" \")","v":0},null,"",null,"Activdad con seguimiento anual"]
[null,null,null,null,{"$f":"IFERROR(GESTION!H124,\" \")","v":"Seguimiento al reporte oportuno de la información estadística"},{"$f":"IFERROR(GESTION!I124,\" \")","v":"Entregable"},{"$f":"IFERROR(GESTION!J124,\" \")","v":0},null,"",null,"En el tercer trimestre, de los 164 despachos Judiciales adscritos al Distrito judicial de Manizales y Administrativo de Caldas, 158 reportaron oportunamente la informción estadística, equivalente al 96,3% de los despachos y cumpliendo así con el término que  establece en acuerdo PSAA16-10476 del 01 de marzo de 2016.\n\nDe los 6 despachos faltantes por el reporte, 2 no presentaron el reporte y 4 iniciaron el proceso pero no terminaron sobre el tértmino establecido por el acuerdo que se emnciona anteriormente.","Reporte Oportuno de la Información Estadística:\n\nhttps://etbcsj-my.sharepoint.com/:f:/g/personal/sacsma_cendoj_ramajudicial_gov_co/EkTXl_v4QS9Gn7SzTeEV-vwB7_ntTskxMZf0t7wxHZEfmg?e=FQTwaO\n"]
[null,null,null,null,{"$f":"IFERROR(GESTION!H125,\" \")","v":"Programación de visitas del factor organización del trabajo"},{"$f":"IFERROR(GESTION!I125,\" \")","v":"Entregable"},{"$f":"IFERROR(GESTION!J125,\" \")","v":0},null,"",null,"Se elabora el Cronograma de Visitas para la calificación del factor organización del trabajo, el cual se ejecutó debidamente","Programación de Visitas Factor Organización del trabajo:\n\nhttps://etbcsj-my.sharepoint.com/:x:/g/personal/sacsma_cendoj_ramajudicial_gov_co/ETX_l2kkvcVFp_z3JorzGQgBd133YYQUUr-0bzNgnR5ykA?e=gBCx3c"]
[null,null,"2. Consolidar la administración de la información entendida como todas las acciones rientadas a garantizar el acceso, consulta, uso y conservación de la información de justicia de manera ágil, flexible e inteligente, bajo un enfoque de innovación.",null,{"$f":"IFERROR(GESTION!H126,\" \")","v":"Trámite de vigilancias judiciales"},{"$f":"IFERROR(GESTION!I126,\" \")","v":"Entregable"},{"$f":"IFERROR(GESTION!J126,\" \")","v":0},null,"",null,"Durante el tercer trimestre del 2023 se tramitaron un total de 54 vigilancias judiciales y se realizaron las siguientes actividades:\n\n• Recepción de la solicitud de Vigilancia  Judicial Administrativa.\n• Reparto\n• Recopilación de información.\n• Auto de apertura / No apertura. \n• Resolución. (En las vigilancias en las que se dio apertura). \n• Comunicación final. ","Trámite de Vigilancias Judiciales:\n\nhttps://etbcsj-my.sharepoint.com/:f:/g/personal/sacsma_cendoj_ramajudicial_gov_co/EqHbP9uoUPVOtIDQQHUk6w8Bbo6hu9YOB3KLLbZ0ckPy3A?e=43R5wm "]
[null,null,null,null,{"$f":"IFERROR(GESTION!H127,\" \")","v":"Verificación de la Información estadística"},{"$f":"IFERROR(GESTION!I127,\" \")","v":"Entregable"},{"$f":"IFERROR(GESTION!J127,\" \")","v":0},null,"",null,"Para cada visita se realizó la respectiva información estadistica reportada y se relacionaron las inconsistencias","Verificación estadística - Inconsistencias:\n\nhttps://etbcsj-my.sharepoint.com/:x:/g/personal/sacsma_cendoj_ramajudicial_gov_co/EcFvSQj93thOoeTN4o2-vEIBgo57vAMI2Yp6WtBKTcXqaQ?e=inBDmb"]
[null,null,null,null,{"$f":"IFERROR(GESTION!H128,\" \")","v":"Elaborar la Matriz de Comunicaciones Institucional y hacer su seguimiento"},{"$f":"IFERROR(GESTION!I128,\" \")","v":"Entregable"},{"$f":"IFERROR(GESTION!J128,\" \")","v":0},null,"",null,"Para el tercer trimestre del año 2023 no se realizaron Notijudiciales , se expidieron 15 acuerdos, 17 circulares y 147 resoluciones y 1 seguimiento a redes sociales.","Matriz de Comunicaciones:\n\nhttps://etbcsj-my.sharepoint.com/:f:/g/personal/sacsma_cendoj_ramajudicial_gov_co/EqNu9VxCLJFBpt0Ud6w2MC8Bsw2gdEmRfmPsK1Za6a67ug?e=S8rlQU"]
[null,null,null,null,{"$f":"IFERROR(GESTION!H129,\" \")","v":"Orientar al usuario interno y externo acerca del procedimiento para realizar trámites ante la URNA"},{"$f":"IFERROR(GESTION!I129,\" \")","v":"Entregable"},{"$f":"IFERROR(GESTION!J129,\" \")","v":0},null,"",null,"Durante este trimestre se brindo orientación a los usuarios en diferentes temas ante la Unidad de Registro Nacional de Abogados - URNA","Registro de Usuarios que solicitan orientación:\n\nhttps://etbcsj-my.sharepoint.com/:f:/g/personal/sacsma_cendoj_ramajudicial_gov_co/Eg073ZVB7TBJsyGLYaeSV24Ba6Wk43EG4TPO1cqUqIDE_Q?e=msfhNf "]
[null,null,null,null,{"$f":"IFERROR(GESTION!H130,\" \")","v":0},{"$f":"IFERROR(GESTION!I130,\" \")","v":0},{"$f":"IFERROR(GESTION!J130,\" \")","v":0},null,""]
[null,null,null,null,{"$f":"IFERROR(GESTION!H131,\" \")","v":0},{"$f":"IFERROR(GESTION!I131,\" \")","v":0},{"$f":"IFERROR(GESTION!J131,\" \")","v":0},null,""]
[null,null,null,null,{"$f":"IFERROR(GESTION!H132,\" \")","v":0},{"$f":"IFERROR(GESTION!I132,\" \")","v":0},{"$f":"IFERROR(GESTION!J132,\" \")","v":0},null,""]
[null,null,null,null,{"$f":"IFERROR(GESTION!H133,\" \")","v":0},{"$f":"IFERROR(GESTION!I133,\" \")","v":0},{"$f":"IFERROR(GESTION!J133,\" \")","v":0},null,""]
[null,null,null,null,{"$f":"IFERROR(GESTION!H134,\" \")","v":0},{"$f":"IFERROR(GESTION!I134,\" \")","v":0},{"$f":"IFERROR(GESTION!J134,\" \")","v":0},null,{"$f":"IFERROR(H134/G134,\"\")","v":""}]
[null,null,null,null,{"$f":"IFERROR(GESTION!H135,\" \")","v":0},{"$f":"IFERROR(GESTION!I135,\" \")","v":0},{"$f":"IFERROR(GESTION!J135,\" \")","v":0},null,""]
[null,null,"3. Fortalecer el Sistema integrado de Gestión de la Rama, orientado a la implementación y certificación de las normas antisoborno.","1. Gestionar el desarrollo de las competencias, la toma de conciencia , la cultura  organizacional  y el compromiso de los  servidores judiciales, contratistas, practicantes y  judicantes de contribuir a generar valor público en la administración de justicia, en el marco de  cumplimiento de los requisitos  aplicables y el comportamiento ético.\n3. Fomentar la transparencia y la participación generando lineamientos y promoviendo la rendición de cuentas ,la consulta, reporte y planteamiento de inquietudes en relación con las decisiones y aspectos del SIGCMA.",{"$f":"IFERROR(GESTION!H136,\" \")","v":0},{"$f":"IFERROR(GESTION!I136,\" \")","v":0},{"$f":"IFERROR(GESTION!J136,\" \")","v":0},null,""]
[null,null,null,null,{"$f":"IFERROR(GESTION!H137,\" \")","v":0},{"$f":"IFERROR(GESTION!I137,\" \")","v":0},{"$f":"IFERROR(GESTION!J137,\" \")","v":0},null,""]
[null,null,null,null,{"$f":"IFERROR(GESTION!H138,\" \")","v":0},{"$f":"IFERROR(GESTION!I138,\" \")","v":0},{"$f":"IFERROR(GESTION!J138,\" \")","v":0},null,""]
[null,null,null,null,{"$f":"IFERROR(GESTION!H139,\" \")","v":0},{"$f":"IFERROR(GESTION!I139,\" \")","v":0},{"$f":"IFERROR(GESTION!J139,\" \")","v":0},null,""]
[null,null,null,null,{"$f":"IFERROR(GESTION!H140,\" \")","v":0},{"$f":"IFERROR(GESTION!I140,\" \")","v":0},{"$f":"IFERROR(GESTION!J140,\" \")","v":0},null,""]
[null,null,null,null,{"$f":"IFERROR(GESTION!H141,\" \")","v":0},{"$f":"IFERROR(GESTION!I141,\" \")","v":0},{"$f":"IFERROR(GESTION!J141,\" \")","v":0},null,""]
[null,null,null,null,{"$f":"IFERROR(GESTION!H142,\" \")","v":0},{"$f":"IFERROR(GESTION!I142,\" \")","v":0},{"$f":"IFERROR(GESTION!J142,\" \")","v":0},null,""]
[null,null,null,null,{"$f":"IFERROR(GESTION!H143,\" \")","v":0},{"$f":"IFERROR(GESTION!I143,\" \")","v":0},{"$f":"IFERROR(GESTION!J143,\" \")","v":0},null,""]
[null,null,null,null,{"$f":"IFERROR(GESTION!H144,\" \")","v":0},{"$f":"IFERROR(GESTION!I144,\" \")","v":0},{"$f":"IFERROR(GESTION!J144,\" \")","v":0},null,""]
[null,null,null,null,{"$f":"IFERROR(GESTION!H145,\" \")","v":0},{"$f":"IFERROR(GESTION!I145,\" \")","v":0},{"$f":"IFERROR(GESTION!J145,\" \")","v":0},null,""]
[null,null,"4. Aumentar la confianza, la cercanía y acceso a los servicios de la Rama Judicial a través, entre otros, de una comunicación clara y asertiva con la ciudadanía.","3. Fomentar la transparencia y la participación generando lineamientos y promoviendo la rendición de cuentas ,la consulta, reporte y planteamiento de inquietudes en relación con las decisiones y aspectos del SIGCMA.",{"$f":"IFERROR(GESTION!H146,\" \")","v":0},{"$f":"IFERROR(GESTION!I146,\" \")","v":0},{"$f":"IFERROR(GESTION!J146,\" \")","v":0},null,""]
[null,null,null,null,{"$f":"IFERROR(GESTION!H147,\" \")","v":0},{"$f":"IFERROR(GESTION!I147,\" \")","v":0},{"$f":"IFERROR(GESTION!J147,\" \")","v":0},null,""]
[null,null,null,null,{"$f":"IFERROR(GESTION!H148,\" \")","v":0},{"$f":"IFERROR(GESTION!I148,\" \")","v":0},{"$f":"IFERROR(GESTION!J148,\" \")","v":0},null,""]
[null,null,null,null,{"$f":"IFERROR(GESTION!H149,\" \")","v":0},{"$f":"IFERROR(GESTION!I149,\" \")","v":0},{"$f":"IFERROR(GESTION!J149,\" \")","v":0},null,""]
[null,null,null,null,{"$f":"IFERROR(GESTION!H150,\" \")","v":0},{"$f":"IFERROR(GESTION!I150,\" \")","v":0},{"$f":"IFERROR(GESTION!J150,\" \")","v":0},null,""]
[null,null,null,null,{"$f":"IFERROR(GESTION!H151,\" \")","v":0},{"$f":"IFERROR(GESTION!I151,\" \")","v":0},{"$f":"IFERROR(GESTION!J151,\" \")","v":0},null,""]
[null,null,null,null,{"$f":"IFERROR(GESTION!H152,\" \")","v":0},{"$f":"IFERROR(GESTION!I152,\" \")","v":0},{"$f":"IFERROR(GESTION!J152,\" \")","v":0},null,""]
[null,null,null,null,{"$f":"IFERROR(GESTION!H153,\" \")","v":0},{"$f":"IFERROR(GESTION!I153,\" \")","v":0},{"$f":"IFERROR(GESTION!J153,\" \")","v":0},null,""]
[null,null,null,null,{"$f":"IFERROR(GESTION!H154,\" \")","v":0},{"$f":"IFERROR(GESTION!I154,\" \")","v":0},{"$f":"IFERROR(GESTION!J154,\" \")","v":0},null,""]
[null,null,null,null,{"$f":"IFERROR(GESTION!H155,\" \")","v":0},{"$f":"IFERROR(GESTION!I155,\" \")","v":0},{"$f":"IFERROR(GESTION!J155,\" \")","v":0},null,""]
[null,null,"5. Prevenir fenómenos asociados con actos de corrupción en la Rama Judicial y reducir las experiencias de corrupción de usuarios y servidores judiciales.",null,{"$f":"IFERROR(GESTION!H156,\" \")","v":0},{"$f":"IFERROR(GESTION!I156,\" \")","v":0},{"$f":"IFERROR(GESTION!J156,\" \")","v":0},null,""]
[null,null,null,null,{"$f":"IFERROR(GESTION!H157,\" \")","v":0},{"$f":"IFERROR(GESTION!I157,\" \")","v":0},{"$f":"IFERROR(GESTION!J157,\" \")","v":0},null,""]
[null,null,null,null,{"$f":"IFERROR(GESTION!H158,\" \")","v":0},{"$f":"IFERROR(GESTION!I158,\" \")","v":0},{"$f":"IFERROR(GESTION!J158,\" \")","v":0},null,""]
[null,null,null,null,{"$f":"IFERROR(GESTION!H159,\" \")","v":0},{"$f":"IFERROR(GESTION!I159,\" \")","v":0},{"$f":"IFERROR(GESTION!J159,\" \")","v":0},null,""]
[null,null,null,null,{"$f":"IFERROR(GESTION!H160,\" \")","v":0},{"$f":"IFERROR(GESTION!I160,\" \")","v":0},{"$f":"IFERROR(GESTION!J160,\" \")","v":0},null,""]
[null,null,null,null,{"$f":"IFERROR(GESTION!H161,\" \")","v":0},{"$f":"IFERROR(GESTION!I161,\" \")","v":0},{"$f":"IFERROR(GESTION!J161,\" \")","v":0},null,""]
[null,null,null,null,{"$f":"IFERROR(GESTION!H162,\" \")","v":0},{"$f":"IFERROR(GESTION!I162,\" \")","v":0},{"$f":"IFERROR(GESTION!J162,\" \")","v":0},null,""]
[null,null,null,null,{"$f":"IFERROR(GESTION!H163,\" \")","v":0},{"$f":"IFERROR(GESTION!I163,\" \")","v":0},{"$f":"IFERROR(GESTION!J163,\" \")","v":0},null,""]
[null,null,null,null,{"$f":"IFERROR(GESTION!H164,\" \")","v":0},{"$f":"IFERROR(GESTION!I164,\" \")","v":0},{"$f":"IFERROR(GESTION!J164,\" \")","v":0},null,""]
[null,null,null,null,{"$f":"IFERROR(GESTION!H165,\" \")","v":0},{"$f":"IFERROR(GESTION!I165,\" \")","v":0},{"$f":"IFERROR(GESTION!J165,\" \")","v":0},null,""]
[null,null,"6. Promover la rendición de cuentas y la colaboración real con la ciudadanía como fundamento para diseñar acciones de mejoramiento del acceso a la justicia.",null,{"$f":"IFERROR(GESTION!H166,\" \")","v":0},{"$f":"IFERROR(GESTION!I166,\" \")","v":0},{"$f":"IFERROR(GESTION!J166,\" \")","v":0},null,""]
[null,null,null,null,{"$f":"IFERROR(GESTION!H167,\" \")","v":0},{"$f":"IFERROR(GESTION!I167,\" \")","v":0},{"$f":"IFERROR(GESTION!J167,\" \")","v":0},null,""]
[null,null,null,null,{"$f":"IFERROR(GESTION!H168,\" \")","v":0},{"$f":"IFERROR(GESTION!I168,\" \")","v":0},{"$f":"IFERROR(GESTION!J168,\" \")","v":0},null,""]
[null,null,null,null,{"$f":"IFERROR(GESTION!H169,\" \")","v":0},{"$f":"IFERROR(GESTION!I169,\" \")","v":0},{"$f":"IFERROR(GESTION!J169,\" \")","v":0},null,""]
[null,null,null,null,{"$f":"IFERROR(GESTION!H170,\" \")","v":0},{"$f":"IFERROR(GESTION!I170,\" \")","v":0},{"$f":"IFERROR(GESTION!J170,\" \")","v":0},null,""]
[null,null,null,null,{"$f":"IFERROR(GESTION!H171,\" \")","v":0},{"$f":"IFERROR(GESTION!I171,\" \")","v":0},{"$f":"IFERROR(GESTION!J171,\" \")","v":0},null,""]
[null,null,null,null,{"$f":"IFERROR(GESTION!H172,\" \")","v":0},{"$f":"IFERROR(GESTION!I172,\" \")","v":0},{"$f":"IFERROR(GESTION!J172,\" \")","v":0},null,""]
[null,null,null,null,{"$f":"IFERROR(GESTION!H173,\" \")","v":0},{"$f":"IFERROR(GESTION!I173,\" \")","v":0},{"$f":"IFERROR(GESTION!J173,\" \")","v":0},null,""]
[null,null,null,null,{"$f":"IFERROR(GESTION!H174,\" \")","v":0},{"$f":"IFERROR(GESTION!I174,\" \")","v":0},{"$f":"IFERROR(GESTION!J174,\" \")","v":0},null,""]
[null,null,null,null,{"$f":"IFERROR(GESTION!H175,\" \")","v":0},{"$f":"IFERROR(GESTION!I175,\" \")","v":0},{"$f":"IFERROR(GESTION!J175,\" \")","v":0},null,""]
[null,null,"7. Continuar la consolidación del SIGCMA, a través de los procesos de formación en modelos de gestión, logrando la implementación y ampliación de este en los esquemas certificados de manera gradual, teniendo en cuenta las capacidades de los diferentes despachos judiciales y dependencias de la Rama Judicial y articulando el enfoque de Arquitectura Empresarial para el desarrollo del PETD a través de la gestión del conocimiento para la gestión del cambio propendiendo por una cultura de la calidad, la transparencia, la rendición de cuentas, la anticorrupción y el antisoborno","1. Gestionar el desarrollo de las competencias, la toma de conciencia , la cultura  organizacional  y el compromiso de los  servidores judiciales, contratistas, practicantes y  judicantes de contribuir a generar valor público en la administración de justicia, en el marco de  cumplimiento de los requisitos  aplicables y el comportamiento ético.\n4. Hacer un uso racional de los recursos naturales aplicando los principios y fases de la Economía Circular, para prevenir, mitigar y controlar los impactos ambientales.",{"$f":"IFERROR(GESTION!H176,\" \")","v":0},{"$f":"IFERROR(GESTION!I176,\" \")","v":0},{"$f":"IFERROR(GESTION!J176,\" \")","v":0},null,""]
[null,null,null,null,{"$f":"IFERROR(GESTION!H177,\" \")","v":0},{"$f":"IFERROR(GESTION!I177,\" \")","v":0},{"$f":"IFERROR(GESTION!J177,\" \")","v":0},null,""]
[null,null,null,null,{"$f":"IFERROR(GESTION!H178,\" \")","v":0},{"$f":"IFERROR(GESTION!I178,\" \")","v":0},{"$f":"IFERROR(GESTION!J178,\" \")","v":0},null,""]
[null,null,null,null,{"$f":"IFERROR(GESTION!H179,\" \")","v":0},{"$f":"IFERROR(GESTION!I179,\" \")","v":0},{"$f":"IFERROR(GESTION!J179,\" \")","v":0},null,""]
[null,null,null,null,{"$f":"IFERROR(GESTION!H180,\" \")","v":0},{"$f":"IFERROR(GESTION!I180,\" \")","v":0},{"$f":"IFERROR(GESTION!J180,\" \")","v":0},null,""]
[null,null,null,null,{"$f":"IFERROR(GESTION!H181,\" \")","v":0},{"$f":"IFERROR(GESTION!I181,\" \")","v":0},{"$f":"IFERROR(GESTION!J181,\" \")","v":0},null,""]
[null,null,null,null,{"$f":"IFERROR(GESTION!H182,\" \")","v":0},{"$f":"IFERROR(GESTION!I182,\" \")","v":0},{"$f":"IFERROR(GESTION!J182,\" \")","v":0},null,""]
[null,null,null,null,{"$f":"IFERROR(GESTION!H183,\" \")","v":0},{"$f":"IFERROR(GESTION!I183,\" \")","v":0},{"$f":"IFERROR(GESTION!J183,\" \")","v":0},null,""]
[null,null,null,null,{"$f":"IFERROR(GESTION!H184,\" \")","v":0},{"$f":"IFERROR(GESTION!I184,\" \")","v":0},{"$f":"IFERROR(GESTION!J184,\" \")","v":0},null,""]
[null,null,null,null,{"$f":"IFERROR(GESTION!H185,\" \")","v":0},{"$f":"IFERROR(GESTION!I185,\" \")","v":0},{"$f":"IFERROR(GESTION!J185,\" \")","v":0},null,""]
["4. Talento Humano","Talento Humano: Fortalecer el talento humano en la Rama Judicial para que sea eficiente, capacitado y realice su labor en ambientes saludables y seguros. Ampliar la cobertura de la carrera judicial y mejorar la oferta de formación, que esté disponible para todos los servidores judiciales e impacte positivamente el servicio de justicia y responda a las necesidades reales del ejercicio de la función judicial.","1. Ampliar la cobertura de la carrera judicial optimizando los procesos de los concursos de méritos y propender por mitigar su litigiosidad.","1. Gestionar el desarrollo de las competencias, la toma de conciencia , la cultura  organizacional  y el compromiso de los  servidores judiciales, contratistas, practicantes y  judicantes de contribuir a generar valor público en la administración de justicia, en el marco de  cumplimiento de los requisitos  aplicables y el comportamiento ético.",{"$f":"IFERROR(GESTION!H186,\" \")","v":"Plan de necesidades de formación Judicial"},{"$f":"IFERROR(GESTION!I186,\" \")","v":"Entregable"},{"$f":"IFERROR(GESTION!J186,\" \")","v":0},null,"",null,"El Plan de necesidades de formación judicial fue publicado el segundo trimestre del año, después del 24 mayo de 2023, fecha en la que se hizo la última revisión y no se encontró este documento en el módulo destinado para el mismo. Así las cosas ya se cuenta con un Plan de Necesidades de formación judicial 2023-2024.","Plan de Necesidades de Formación Judicial:\n\nhttps://etbcsj-my.sharepoint.com/:f:/g/personal/sacsma_cendoj_ramajudicial_gov_co/EjTKlS5ZEWtLrQ8DBLXUVhsBB0CzjAolxHmPbhHmi_txZg?e=EN7CId \n\n"]
[null,null,null,null,{"$f":"IFERROR(GESTION!H187,\" \")","v":"Realizar seguimiento a los eventos programados  por la EJRLB en la seccional."},{"$f":"IFERROR(GESTION!I187,\" \")","v":"Entregable"},{"$f":"IFERROR(GESTION!J187,\" \")","v":0},null,"",null,"Se recibe correo de la EJRLB informando el inicio de la oferta académica virtual con inscripciones permanentes durante el tercer semestre del 2023, de acuerdo a la demanda que se presente y con base en los cupos disponibles. ","Participación Cursos EJRLB:\n\nhttps://etbcsj-my.sharepoint.com/:f:/g/personal/sacsma_cendoj_ramajudicial_gov_co/EoIXKKHZCCpAgqqLrxfUqc4BC_SpyFV_nloYQqCdg-z7PQ?e=6WUQSR \n"]
[null,null,null,null,{"$f":"IFERROR(GESTION!H188,\" \")","v":"Difundir y divulgar la oferta académica"},{"$f":"IFERROR(GESTION!I188,\" \")","v":"Entregable"},{"$f":"IFERROR(GESTION!J188,\" \")","v":0},null,""]
[null,null,null,null,{"$f":"IFERROR(GESTION!H189,\" \")","v":"Realizar reuniones con el Grupo Seccional de Apoyo"},{"$f":"IFERROR(GESTION!I189,\" \")","v":"Entregable"},{"$f":"IFERROR(GESTION!J189,\" \")","v":0},null,"",null,"Actividad con seguimiento semestral"]
[null,null,null,null,{"$f":"IFERROR(GESTION!H190,\" \")","v":"Realizar jornadas de capacitación, divulgación y/o verificación de temas relacionados con el SIGCMA"},{"$f":"IFERROR(GESTION!I190,\" \")","v":"Entregable"},{"$f":"IFERROR(GESTION!J190,\" \")","v":0},null,"",null,"Según el plan de habilidades del año 2023, durante tercer trimestre se tenia programada la charla \"Transformando a la organizaciones a la sostenibilidad ambiental\" la cual se llevó a cabo el 09/08/2023 en el Palacio de Justicia Fanny Gonzalez Franco"]
[null,null,null,null,{"$f":"IFERROR(GESTION!H191,\" \")","v":"Socializar las políticas ambientales de la entidad y sensibilizar acerca de las mismas"},{"$f":"IFERROR(GESTION!I191,\" \")","v":"Entregable"},{"$f":"IFERROR(GESTION!J191,\" \")","v":0},null,"",null,"Se mantuvieron las estrategias de socialización que se venían trabajando durante el año"]
[null,null,null,null,{"$f":"IFERROR(GESTION!H192,\" \")","v":"Solicitar apoyo al CENDOJ para realización de capacitaciones en tablas de retención documental (TRD)"},{"$f":"IFERROR(GESTION!I192,\" \")","v":"Entregable"},{"$f":"IFERROR(GESTION!J192,\" \")","v":0},null,"",null,"Actividad programada para el último trimestre del año, debido a los compromisos de las auditorías internas y externas del SIGCMA"]
[null,null,null,null,{"$f":"IFERROR(GESTION!H193,\" \")","v":"Lista de elegibles"},{"$f":"IFERROR(GESTION!I193,\" \")","v":"Entregable"},{"$f":"IFERROR(GESTION!J193,\" \")","v":0},null,"",null,"Durante el tercer trimestre del año 2023, se elaboraron 17 acuerdos de listas de elegibles, realizando las siguientes actividades:\n\n1. Publicación de opciones de sede: total 40 cargos durante el tercer trimestre (11 en julio, 19 en agosto y 10 en septiembre)\n\n2. Recepción de formatos de opción de sede: 65 opciones de sede, así: Julio 28 (2 Secretario Juz. Mpal, 11 oficial mayor mpal, 9 asistente administrativo juzgado ejecucion penas, 6 Citador Juz. Mpal), Agosto 17 (7 Citador Juz. Cto, 4 asistente social Juz. Flia, 6 asistente juridico Juz Ejec Penas) y en Septiembre 30 (2 Secretario Juz Cto, 11 Oficial Mayor Juz Mpal, 17 Citador Juz Mpal)\n\n3. Consolidación y remisión al nominador de la lista de elegibles: se consolidaron 19 listas de elegibles","1, Opciones de sede: \nhttps://www.ramajudicial.gov.co/web/consejo-seccional-de-la-judicatura-de-caldas/formato-opcion-de-sede3\n\n2, Formatos Opcion de sede recibidos: \nhttps://etbcsj-my.sharepoint.com/:f:/g/personal/sacsma_cendoj_ramajudicial_gov_co/EjR2UCGG6OVKglKd4FaBj_ABByUPL9jEuuo-kO55AUpOKg?e=BKGmf8 \n\n3. Consolidación y remisión de Listas de elegibles: \nhttps://etbcsj-my.sharepoint.com/:f:/g/personal/sacsma_cendoj_ramajudicial_gov_co/EjR2UCGG6OVKglKd4FaBj_ABByUPL9jEuuo-kO55AUpOKg?e=BKGmf8 "]
[null,null,null,null,{"$f":"IFERROR(GESTION!H194,\" \")","v":"Registro de elegibles"},{"$f":"IFERROR(GESTION!I194,\" \")","v":"Entregable"},{"$f":"IFERROR(GESTION!J194,\" \")","v":0},null,"",null,"Durante el tercer trimestre del año 2023 se posesionaron 9 aspirantes de la convocatoria 4.\n4 Hombres y 5 Mujeres en los siguientes cargos:\n\n1 Escribiente Cto Centro de Servicios\n1 Escribiente Mpal Centro de Servicios\n1 Escribiente Juz Cto\n2 Secretario Juz Cto\n1 Secretario Juz Mpal\n2 Oficiales Mayores Juz Cto\n1 Oficial Mayor Juz Mpal  ","1, Consolidado Gral Registro de Elegibles.\nhttps://etbcsj-my.sharepoint.com/:f:/g/personal/sacsma_cendoj_ramajudicial_gov_co/Eqqp0EN0w7RDj9SQESSCej0B0V5G_B-dFtT0Tx2vuEvCWg?e=gSOCeq\n\n2, Actualización del Registro de Elegibles:\n\nhttps://etbcsj-my.sharepoint.com/:f:/g/personal/sacsma_cendoj_ramajudicial_gov_co/Et6Kg5mOUDpHuWIqV6j-V68B1DExVlYK6e0Ll4HnQDaGnA?e=qRBSYx"]
[null,null,null,null,{"$f":"IFERROR(GESTION!H195,\" \")","v":"Proyectar conceptos a las solicitudes de traslados"},{"$f":"IFERROR(GESTION!I195,\" \")","v":"Entregable"},{"$f":"IFERROR(GESTION!J195,\" \")","v":0},null,"",null,"Durante el tercer trimestre del año 2023, se presentaron y se resolvieron 22 solicitudes de traslado, para lo cual se desarrollaron las siguientes actividades:\n\n - Recepción de solicitudes de traslado: (22) solicitudes de traslado enviadas por servidores de carrera.\n\n -  Solicitud de traslado: se emitieron (18) conceptos de traslado favorables y (4) desfavorables.\n\n - Notificación de concepto favorable o desfavorable de traslado al servidor judicial: se remitieron 22 Resoluciones de traslado expedidas por esta Corporación, a los servidores Judiciales.","Conceptos Solicitudes de Traslados:\n\nhttps://etbcsj-my.sharepoint.com/:f:/g/personal/sacsma_cendoj_ramajudicial_gov_co/Ekp3LvJjML1Dkz8l62zoVtABuDZs7jj76G9G-V6BNxi3JQ?e=q0ba8S"]
[null,null,"2. Impactar la función y servicios que presta la Rama Judicial, a través de una formación integral desde una visión de gestión del conocimiento, relacionada con los problemas de la justicia y los problemas de gestión de quienes administran los recursos de la justicia, y potenciando el uso de medios virtuales.",null,{"$f":"IFERROR(GESTION!H196,\" \")","v":0},{"$f":"IFERROR(GESTION!I196,\" \")","v":0},{"$f":"IFERROR(GESTION!J196,\" \")","v":0},null,""]
[null,null,null,null,{"$f":"IFERROR(GESTION!H197,\" \")","v":0},{"$f":"IFERROR(GESTION!I197,\" \")","v":0},{"$f":"IFERROR(GESTION!J197,\" \")","v":0},null,""]
[null,null,null,null,{"$f":"IFERROR(GESTION!H198,\" \")","v":0},{"$f":"IFERROR(GESTION!I198,\" \")","v":0},{"$f":"IFERROR(GESTION!J198,\" \")","v":0},null,{"$f":"IFERROR(H198/G198,\"\")","v":""}]
[null,null,null,null,{"$f":"IFERROR(GESTION!H199,\" \")","v":0},{"$f":"IFERROR(GESTION!I199,\" \")","v":0},{"$f":"IFERROR(GESTION!J199,\" \")","v":0},null,""]
[null,null,null,null,{"$f":"IFERROR(GESTION!H200,\" \")","v":0},{"$f":"IFERROR(GESTION!I200,\" \")","v":0},{"$f":"IFERROR(GESTION!J200,\" \")","v":0},null,""]
[null,null,null,null,{"$f":"IFERROR(GESTION!H201,\" \")","v":0},{"$f":"IFERROR(GESTION!I201,\" \")","v":0},{"$f":"IFERROR(GESTION!J201,\" \")","v":0},null,""]
[null,null,null,null,{"$f":"IFERROR(GESTION!H202,\" \")","v":0},{"$f":"IFERROR(GESTION!I202,\" \")","v":0},{"$f":"IFERROR(GESTION!J202,\" \")","v":0},null,""]
[null,null,null,null,{"$f":"IFERROR(GESTION!H203,\" \")","v":0},{"$f":"IFERROR(GESTION!I203,\" \")","v":0},{"$f":"IFERROR(GESTION!J203,\" \")","v":0},null,""]
[null,null,null,null,{"$f":"IFERROR(GESTION!H204,\" \")","v":0},{"$f":"IFERROR(GESTION!I204,\" \")","v":0},{"$f":"IFERROR(GESTION!J204,\" \")","v":0},null,""]
[null,null,null,null,{"$f":"IFERROR(GESTION!H205,\" \")","v":0},{"$f":"IFERROR(GESTION!I205,\" \")","v":0},{"$f":"IFERROR(GESTION!J205,\" \")","v":0},null,""]
[null,null,"3. Promover la incorporación de la perspectiva de género y el enfoque diferencial en los fallos judiciales y en la atención a los ciudadanos, la administración de la Rama Judicial, la administración de la carrera judicial y la elaboración de listas para altas Cortes. ",null,{"$f":"IFERROR(GESTION!H206,\" \")","v":0},{"$f":"IFERROR(GESTION!I206,\" \")","v":0},{"$f":"IFERROR(GESTION!J206,\" \")","v":0},null,""]
[null,null,null,null,{"$f":"IFERROR(GESTION!H207,\" \")","v":0},{"$f":"IFERROR(GESTION!I207,\" \")","v":0},{"$f":"IFERROR(GESTION!J207,\" \")","v":0},null,""]
[null,null,null,null,{"$f":"IFERROR(GESTION!H208,\" \")","v":0},{"$f":"IFERROR(GESTION!I208,\" \")","v":0},{"$f":"IFERROR(GESTION!J208,\" \")","v":0},null,""]
[null,null,null,null,{"$f":"IFERROR(GESTION!H209,\" \")","v":0},{"$f":"IFERROR(GESTION!I209,\" \")","v":0},{"$f":"IFERROR(GESTION!J209,\" \")","v":0},null,""]
[null,null,null,null,{"$f":"IFERROR(GESTION!H210,\" \")","v":0},{"$f":"IFERROR(GESTION!I210,\" \")","v":0},{"$f":"IFERROR(GESTION!J210,\" \")","v":0},null,""]
[null,null,null,null,{"$f":"IFERROR(GESTION!H211,\" \")","v":0},{"$f":"IFERROR(GESTION!I211,\" \")","v":0},{"$f":"IFERROR(GESTION!J211,\" \")","v":0},null,""]
[null,null,null,null,{"$f":"IFERROR(GESTION!H212,\" \")","v":0},{"$f":"IFERROR(GESTION!I212,\" \")","v":0},{"$f":"IFERROR(GESTION!J212,\" \")","v":0},null,""]
[null,null,null,null,{"$f":"IFERROR(GESTION!H213,\" \")","v":0},{"$f":"IFERROR(GESTION!I213,\" \")","v":0},{"$f":"IFERROR(GESTION!J213,\" \")","v":0},null,""]
[null,null,null,null,{"$f":"IFERROR(GESTION!H214,\" \")","v":0},{"$f":"IFERROR(GESTION!I214,\" \")","v":0},{"$f":"IFERROR(GESTION!J214,\" \")","v":0},null,""]
[null,null,null,null,{"$f":"IFERROR(GESTION!H215,\" \")","v":0},{"$f":"IFERROR(GESTION!I215,\" \")","v":0},{"$f":"IFERROR(GESTION!J215,\" \")","v":0},null,""]
[null,null,"4. Desarrollar en los servidores judiciales y demás grupos de valor relevantes las competencias necesarias para la efectividad de la transformación digital de modo que puedan, entre otros, utilizar con solvencia las herramientas digitales dispuestas para sus respectivas funciones. Además, fortalecer y actualizar los conocimientos del personal a cargo de la gestión de proyectos de tecnología.",null,{"$f":"IFERROR(GESTION!H216,\" \")","v":0},{"$f":"IFERROR(GESTION!I216,\" \")","v":0},{"$f":"IFERROR(GESTION!J216,\" \")","v":0},null,""]
[null,null,null,null,{"$f":"IFERROR(GESTION!H217,\" \")","v":0},{"$f":"IFERROR(GESTION!I217,\" \")","v":0},{"$f":"IFERROR(GESTION!J217,\" \")","v":0},null,""]
[null,null,null,null,{"$f":"IFERROR(GESTION!H218,\" \")","v":0},{"$f":"IFERROR(GESTION!I218,\" \")","v":0},{"$f":"IFERROR(GESTION!J218,\" \")","v":0},null,""]
[null,null,null,null,{"$f":"IFERROR(GESTION!H219,\" \")","v":0},{"$f":"IFERROR(GESTION!I219,\" \")","v":0},{"$f":"IFERROR(GESTION!J219,\" \")","v":0},null,""]
[null,null,null,null,{"$f":"IFERROR(GESTION!H220,\" \")","v":0},{"$f":"IFERROR(GESTION!I220,\" \")","v":0},{"$f":"IFERROR(GESTION!J220,\" \")","v":0},null,""]
[null,null,null,null,{"$f":"IFERROR(GESTION!H221,\" \")","v":0},{"$f":"IFERROR(GESTION!I221,\" \")","v":0},{"$f":"IFERROR(GESTION!J221,\" \")","v":0},null,""]
[null,null,null,null,{"$f":"IFERROR(GESTION!H222,\" \")","v":0},{"$f":"IFERROR(GESTION!I222,\" \")","v":0},{"$f":"IFERROR(GESTION!J222,\" \")","v":0},null,""]
[null,null,null,null,{"$f":"IFERROR(GESTION!H223,\" \")","v":0},{"$f":"IFERROR(GESTION!I223,\" \")","v":0},{"$f":"IFERROR(GESTION!J223,\" \")","v":0},null,""]
[null,null,null,null,{"$f":"IFERROR(GESTION!H224,\" \")","v":0},{"$f":"IFERROR(GESTION!I224,\" \")","v":0},{"$f":"IFERROR(GESTION!J224,\" \")","v":0},null,""]
[null,null,null,null,{"$f":"IFERROR(GESTION!H225,\" \")","v":0},{"$f":"IFERROR(GESTION!I225,\" \")","v":0},{"$f":"IFERROR(GESTION!J225,\" \")","v":0},null,""]
[null,null,"5. Promover el bienestar de todos los servidores judiciales a través de la implementación de un sistema que contemple los diferentes niveles de estrategias y acciones necesarios para mejorar el clima laboral, la salud física y mental y la calidad del tiempo de descanso.","5. Generar espacios de trabajo seguros y saludables que contribuyan a minimizar los  incidentes, accidentes y enfermedades laborales derivados de las condiciones y actos  inseguros y fomentar  el autocuidado, los  estilos de vida y el trabajo saludable en los servidores judiciales, contratistas, judicantes y practicantes",{"$f":"IFERROR(GESTION!H226,\" \")","v":0},{"$f":"IFERROR(GESTION!I226,\" \")","v":0},{"$f":"IFERROR(GESTION!J226,\" \")","v":0},null,""]
[null,null,null,null,{"$f":"IFERROR(GESTION!H227,\" \")","v":0},{"$f":"IFERROR(GESTION!I227,\" \")","v":0},{"$f":"IFERROR(GESTION!J227,\" \")","v":0},null,""]
[null,null,null,null,{"$f":"IFERROR(GESTION!H228,\" \")","v":0},{"$f":"IFERROR(GESTION!I228,\" \")","v":0},{"$f":"IFERROR(GESTION!J228,\" \")","v":0},null,""]
[null,null,null,null,{"$f":"IFERROR(GESTION!H229,\" \")","v":0},{"$f":"IFERROR(GESTION!I229,\" \")","v":0},{"$f":"IFERROR(GESTION!J229,\" \")","v":0},null,""]
[null,null,null,null,{"$f":"IFERROR(GESTION!H230,\" \")","v":0},{"$f":"IFERROR(GESTION!I230,\" \")","v":0},{"$f":"IFERROR(GESTION!J230,\" \")","v":0},null,""]
[null,null,null,null,{"$f":"IFERROR(GESTION!H231,\" \")","v":0},{"$f":"IFERROR(GESTION!I231,\" \")","v":0},{"$f":"IFERROR(GESTION!J231,\" \")","v":0},null,""]
[null,null,null,null,{"$f":"IFERROR(GESTION!H232,\" \")","v":0},{"$f":"IFERROR(GESTION!I232,\" \")","v":0},{"$f":"IFERROR(GESTION!J232,\" \")","v":0},null,""]
[null,null,null,null,{"$f":"IFERROR(GESTION!H233,\" \")","v":0},{"$f":"IFERROR(GESTION!I233,\" \")","v":0},{"$f":"IFERROR(GESTION!J233,\" \")","v":0},null,""]
[null,null,null,null,{"$f":"IFERROR(GESTION!H234,\" \")","v":0},{"$f":"IFERROR(GESTION!I234,\" \")","v":0},{"$f":"IFERROR(GESTION!J234,\" \")","v":0},null,""]
[null,null,null,null,{"$f":"IFERROR(GESTION!H235,\" \")","v":0},{"$f":"IFERROR(GESTION!I235,\" \")","v":0},{"$f":"IFERROR(GESTION!J235,\" \")","v":0},null,""]
["5. Gobernanza, planeación estratégica y capacidad de toma de decisiones","Gobernanza, planeación estratégica y capacidad de toma de decisiones: Fortalecer la gobernanza, la planeación estratégica y la capacidad de toma de decisiones de la Rama Judicial con base en la evidencia empírica y la articulación efectiva con las demás entidades, para que la perspectiva de género y el enfoque diferencial sean transversales en el presente plan. ","1. Implementar un nuevo modelo integrado para la planeación estratégica, el seguimiento y la medición del desempeño institucional.","2. Asegurar  el cumplimiento de los objetivos institucionales, la normatividad aplicable,  la mejora del SIGCMA y la satisfacción de los usuarios, revisando de  forma continua y sistemática la planificación de la gestión y fortaleciendo la administración de riesgos y sus controles.",{"$f":"IFERROR(GESTION!H236,\" \")","v":"Hacer seguimiento a los planes de acción "},{"$f":"IFERROR(GESTION!I236,\" \")","v":"Entregable"},{"$f":"IFERROR(GESTION!J236,\" \")","v":0},null,"",null,"Se realizó la reunión de cierre SIGCMA del Consejo Seccional de la Judicatura de Caldas, correpondiente al tercer trimestre del año, en esta,se desarrollaron entre otros temas, el avance en la ejecución del Plan de Acción, los resultados de los Indicadores de Gestión, las acciones de gestión y los resultados de la audiotoría interna. "]
[null,null,null,null,{"$f":"IFERROR(GESTION!H237,\" \")","v":"Realizar seguimiento al control de riesgos de los diferentes procesos"},{"$f":"IFERROR(GESTION!I237,\" \")","v":"Entregable"},{"$f":"IFERROR(GESTION!J237,\" \")","v":0},null,"",null,"No se han materializado riesgos"]
[null,null,null,null,{"$f":"IFERROR(GESTION!H238,\" \")","v":"Consolidar y analizar los indicadores de los procesos del SIGCMA"},{"$f":"IFERROR(GESTION!I238,\" \")","v":"Entregable"},{"$f":"IFERROR(GESTION!J238,\" \")","v":0},null,"",null,"Se realizó la reunión de cierre SIGCMA del Consejo Seccional de la Judicatura de Caldas, correpondiente al segundo trimestre del año, en esta,se desarrollaron entre otros temas, el avance en la ejecución del Plan de Acción, los resultados de los Indicadores de Gestión, las acciones de gestión y los resultados de la audiotoría interna."]
[null,null,null,null,{"$f":"IFERROR(GESTION!H239,\" \")","v":"Formular y tramitar las acciones de gestión (correctivas y preventivas)"},{"$f":"IFERROR(GESTION!I239,\" \")","v":"Entregable"},{"$f":"IFERROR(GESTION!J239,\" \")","v":0},null,"",null,"Durante el tercer trimestre, el Consejo Seccional de la Judicatura de Caldas no implemento acciones de mejora"]
[null,null,null,null,{"$f":"IFERROR(GESTION!H240,\" \")","v":"Coordinar la realización de auditorias internas y externas"},{"$f":"IFERROR(GESTION!I240,\" \")","v":"Entregable"},{"$f":"IFERROR(GESTION!J240,\" \")","v":0},null,"",null,"Las auditorías internas se llevaron a cabo el 11/08/2023 y fue una auditoría integral (SGC, SGA y SG-SST) No se presentaron no conformidades y las oportunidades de mejora fueron socializadas y documentadas apropiadamente.\n\nPor otra parte la aduitoría externa fue realizada el 13/09/2023, a la fecha no se ha recibido el informe de esta"]
[null,null,null,null,{"$f":"IFERROR(GESTION!H241,\" \")","v":"Calificación integral de servicio - Funcionarios Judiciales"},{"$f":"IFERROR(GESTION!I241,\" \")","v":"Entregable"},{"$f":"IFERROR(GESTION!J241,\" \")","v":0},null,"",null,"La actividad se culminó en el mes de agosto de 2023","Calificación de Jueces año 2022\nhttps://etbcsj-my.sharepoint.com/:f:/g/personal/sacsma_cendoj_ramajudicial_gov_co/EutfCO4x3PhBqAXD8kzPhkEBDDo9BjRY_rjlZacaW0y-dg?e=YUV1eQ\n\nSICONSEC:\nhttp://190.217.24.24/sinsac/\n\nInforme de Calificaciones:\nhttps://etbcsj-my.sharepoint.com/:p:/g/personal/sacsma_cendoj_ramajudicial_gov_co/Ee64sCyzCsNHoMCGJcqars0B9oh4wEC0grvjnLK4CdAzhQ?e=PUTK6f "]
[null,null,null,null,{"$f":"IFERROR(GESTION!H242,\" \")","v":"Consolidación calificación integral de los empleados"},{"$f":"IFERROR(GESTION!I242,\" \")","v":"Entregable"},{"$f":"IFERROR(GESTION!J242,\" \")","v":0},null,"",null,"La actividad se culminó en el mes de agosto de 2023","Informe de Calificaciones:\nhttps://etbcsj-my.sharepoint.com/:f:/g/personal/sacsma_cendoj_ramajudicial_gov_co/Eshc1TnNnTJNgT3az7zKJZEBv3ev5mU3ILo4QaxRbWVubg?e=FqHtIH\n"]
[null,null,null,null,{"$f":"IFERROR(GESTION!H243,\" \")","v":0},{"$f":"IFERROR(GESTION!I243,\" \")","v":0},{"$f":"IFERROR(GESTION!J243,\" \")","v":0},null,""]
[null,null,null,null,{"$f":"IFERROR(GESTION!H244,\" \")","v":0},{"$f":"IFERROR(GESTION!I244,\" \")","v":0},{"$f":"IFERROR(GESTION!J244,\" \")","v":0},null,""]
[null,null,null,null,{"$f":"IFERROR(GESTION!H245,\" \")","v":0},{"$f":"IFERROR(GESTION!I245,\" \")","v":0},{"$f":"IFERROR(GESTION!J245,\" \")","v":0},null,""]
[null,null,"2. Definir e implementar el modelo optimizado de formulación, seguimiento y evaluación de la política pública judicial.",null,{"$f":"IFERROR(GESTION!H246,\" \")","v":0},{"$f":"IFERROR(GESTION!I246,\" \")","v":0},{"$f":"IFERROR(GESTION!J246,\" \")","v":0},null,""]
[null,null,null,null,{"$f":"IFERROR(GESTION!H247,\" \")","v":0},{"$f":"IFERROR(GESTION!I247,\" \")","v":0},{"$f":"IFERROR(GESTION!J247,\" \")","v":0},null,""]
[null,null,null,null,{"$f":"IFERROR(GESTION!H248,\" \")","v":0},{"$f":"IFERROR(GESTION!I248,\" \")","v":0},{"$f":"IFERROR(GESTION!J248,\" \")","v":0},null,""]
[null,null,null,null,{"$f":"IFERROR(GESTION!H249,\" \")","v":0},{"$f":"IFERROR(GESTION!I249,\" \")","v":0},{"$f":"IFERROR(GESTION!J249,\" \")","v":0},null,""]
[null,null,null,null,{"$f":"IFERROR(GESTION!H250,\" \")","v":0},{"$f":"IFERROR(GESTION!I250,\" \")","v":0},{"$f":"IFERROR(GESTION!J250,\" \")","v":0},null,""]
[null,null,null,null,{"$f":"IFERROR(GESTION!H251,\" \")","v":0},{"$f":"IFERROR(GESTION!I251,\" \")","v":0},{"$f":"IFERROR(GESTION!J251,\" \")","v":0},null,""]
[null,null,null,null,{"$f":"IFERROR(GESTION!H252,\" \")","v":0},{"$f":"IFERROR(GESTION!I252,\" \")","v":0},{"$f":"IFERROR(GESTION!J252,\" \")","v":0},null,""]
[null,null,null,null,{"$f":"IFERROR(GESTION!H253,\" \")","v":0},{"$f":"IFERROR(GESTION!I253,\" \")","v":0},{"$f":"IFERROR(GESTION!J253,\" \")","v":0},null,""]
[null,null,null,null,{"$f":"IFERROR(GESTION!H254,\" \")","v":0},{"$f":"IFERROR(GESTION!I254,\" \")","v":0},{"$f":"IFERROR(GESTION!J254,\" \")","v":0},null,""]
[null,null,null,null,{"$f":"IFERROR(GESTION!H255,\" \")","v":0},{"$f":"IFERROR(GESTION!I255,\" \")","v":0},{"$f":"IFERROR(GESTION!J255,\" \")","v":0},null,""]

{"sheet":"GESTION_SEG_2_TRIM","index":7,"n_rows":255,"n_cols":12,"rows_kept":255,"cut":false,"hidden":false,"merged":[[205,2,214,2],[215,2,224,2],[225,2,234,2],[225,3,234,3],[235,0,254,0],[235,1,254,1],[235,2,244,2],[235,3,254,3],[245,2,254,2],[185,0,234,0],[185,1,234,1],[185,2,194,2],[185,3,224,3],[195,2,204,2],[105,2,114,2],[115,0,184,0],[115,1,184,1],[115,2,124,2],[115,3,124,3],[125,2,134,2],[125,3,134,3],[135,2,144,2],[135,3,144,3],[145,2,154,2],[145,3,174,3],[155,2,164,2],[165,2,174,2],[175,2,184,2],[175,3,184,3],[45,2,54,2],[45,3,54,3],[55,0,114,0],[55,1,114,1],[55,2,64,2],[55,3,114,3],[65,2,74,2],[75,2,84,2],[85,2,94,2],[95,2,104,2],[5,0,54,0],[5,1,54,1],[5,2,14,2],[5,3,14,3],[15,2,24,2],[15,3,24,3],[25,2,34,2],[25,3,34,3],[35,2,44,2],[35,3,44,3],[1,0,1,10],[2,0,2,3],[2,4,2,9],[2,10,4,10],[3,0,4,1],[3,2,4,2],[3,3,4,3],[3,4,3,9]]}
[]
["CONSEJO SUPERIOR DE LA JUDICATURA \nUNIDADES MISIONALES DEL CONSEJO SUPERIOR DE LA JUDICATURA - \nDIRECCIÓN EJECUTIVA DE ADMINISTRACIÓN JUDICIAL - UNIDADES MISIONALES DE LA DEAJ\nDIRECCIONES SECCIONALES DE ADMINISTRACIÓN JUDICIAL - DEPENDENCIAS JUDICIALES CERTIFICADAS"]
["PLAN SECTORIAL DE DESARROLLO 2023-2026 - OBJETIVOS SIGCMA",null,null,null,null,null,null,null,null,null," ANÁLISIS RESULTADO"]
["OBJETIVO ESTRATÉGICO",null,"OBJETIVO ESPECÍFICO PSD","OBJETIVO ESPECÍFICO SIGCMA","MEDICIÓN DE LA GESTIÓN ANUAL"]
[null,null,null,null,"ACTIVIDADES ","INDIQUE SI ES ENTREGABLE O META CUANTIFICABLE","META ANUAL","AVANCE DE LA META ","NIVEL CUMPLIMIENTO","DIFICULTADES PARA LOGRAR LA META PROPUESTA"]
["1. Acceso e Infraestructura Física","Acceso e Infraestructura Física: Ampliar, en todo el territorio nacional, el acceso a una justicia efectiva, pronta, equitativa e incluyente, reduciendo el atraso y la congestión, de acuerdo con las necesidades de la demanda de justicia por jurisdicción y especialidad, y mejorando la articulación con la justicia restaurativa y terapéutica, y otros mecanismos de solución de conflictos y consolidando una infraestructura física óptima para el acceso a la justicia.","1. Ampliar el acceso a justicia para atender las necesidades jurídicas de los ciudadanos con un enfoque diferencial, de una manera pronta, reduciendo las inequidades y las brechas territoriales de acceso.","2. Asegurar  el cumplimiento de los objetivos institucionales, la normatividad aplicable,  la mejora del SIGCMA y la satisfacción de los usuarios, revisando de  forma continua y sistemática la planificación de la gestión y fortaleciendo la administración de riesgos y sus controles",{"$f":"IFERROR(GESTION!H6,\" \")","v":"Generar propuestas de reordenamiento para el mejoramiento de la administración de justciai"},{"$f":"IFERROR(GESTION!I6,\" \")","v":"Entregable"},{"$f":"IFERROR(GESTION!J6,\" \")","v":0},null,{"$f":"IFERROR(H6/G6,\"\")","v":""},null,"Durante el segundo trimestre esta Corporación envió al Consejo Superior de la Judicatura dos proyectos de reordenamiento, así:\n\n1. Propuesta Radicado 2023-003:\nCon oficio CSJCAO23-702 se envía la propuesta con la que se busca consolidar las necesidades de reforzamiento de la oferta  judicial (despachos y cargos de empleados del Distrito  Judicial de Manizales), integrando y actualizando las  distintas propuestas presentadas durante el año 2023. Esta propuesta reemplaza en su integridad los proyectos números 2023-001 y 2023-002,  remitidos al Consejo Superior, en razón a que en este proyecto quedan integradas, con datos  y necesidades actuales.\n\n2. Propuesta Radicado 2023-004:\nEn respuesta al oficio  UDAEO23-1063 de mayo 5 de 2023, en el que solicitan informar la gestión de los dos (2) cargos de Profesional Universitario grado 11 creados por Acuerdo PCSJA22-12032 del 29/12/2022 y adicionalmente los cargos transitorios que se requieren en la  presente vigencia para este Cosejo Seccional. así la. Por lo anterior, se solicitan los cargos de Profesional Universitario 11 y Asistente Adminstrativo Grado 8 anexando el formato requerido por la UDAE y diligenciando el forms según las indicaciones.Esta información se remite mediante oficio CSJCAO23-764.","Propuestas de reordenamiento:\n\nhttps://etbcsj-my.sharepoint.com/:f:/g/personal/sacsma_cendoj_ramajudicial_gov_co/Ek4bUa_aIVJEv0Zi2juTivcB0EDJjMZc7YOmtFDXV3Qqww?e=UK4N6F"]
[null,null,null,null,{"$f":"IFERROR(GESTION!H7,\" \")","v":"Seguimiento al cumplimiento de metas de las medidas transitorias establecidas por el CSJ"},{"$f":"IFERROR(GESTION!I7,\" \")","v":"Entregable"},{"$f":"IFERROR(GESTION!J7,\" \")","v":0},null,"",null,"Se hace el seguimiento respectivo a las medidas de transitorias creadas mediante acuerdos:\n- PCSJA23-12055, marzo 31 de 2023, prorroga\n- PCSJA 23-12053, , 17 de marzo de 2023.\n-PCSJA23-12069 , 2 de junio de 2023\n\n\n- ","Informes UDAE:\n\nhttps://etbcsj-my.sharepoint.com/:f:/g/personal/sacsma_cendoj_ramajudicial_gov_co/Eti200TWm5hItlaA4COKj6EBKVqUEUq9YgMk085P9MbGng?e=U3zCdS"]
[null,null,null,null,{"$f":"IFERROR(GESTION!H8,\" \")","v":"Seguimiento al Punto de Atención y Orientación al Usuario de Justicia y la Oficina de Gestión en salud"},{"$f":"IFERROR(GESTION!I8,\" \")","v":"Entregable"},{"$f":"IFERROR(GESTION!J8,\" \")","v":0},null,"",null,"Se realiza el informe de Gestióndel Punto de Atención y Orientación al Usuario Justicia, correspondiente al primer semestre del año 2023. \n\nPor otro lado se cuenta con el informe de gestión de la Ofcina de Gestión en Salud, correspondiente al primer trimestre del año 2023 ","Informe de Gestión PAUJ - Primer Semestre 2023:\n\nhttps://etbcsj-my.sharepoint.com/:b:/r/personal/sacsma_cendoj_ramajudicial_gov_co/Documents/SICONSEC%20COMPARTIDA/1.%20P.ESTRATEGICOS/1.%20COMUNICACION%20INSTITUCIONAL/3.%20PUNTO%20DE%20ATENCI%C3%93N/2.%20INFORMES%20Y%20ACCIONES/2023/Informe%20PAO%20UJ%20Semestre%201%202023.pdf?csf=1&web=1&e=ij8x5N \n\nInformde De Gestión OGS Primer Semestre 2023:\n\nhttps://etbcsj-my.sharepoint.com/:f:/g/personal/sacsma_cendoj_ramajudicial_gov_co/EvIq1wuOi65HrB5W9Yi_u4sBF3YpSgvyyGJfbU7n-rpy8Q?e=XGIaFq"]
[null,null,null,null,{"$f":"IFERROR(GESTION!H9,\" \")","v":0},{"$f":"IFERROR(GESTION!I9,\" \")","v":0},{"$f":"IFERROR(GESTION!J9,\" \")","v":0},null,""]
[null,null,null,null,{"$f":"IFERROR(GESTION!H10,\" \")","v":0},{"$f":"IFERROR(GESTION!I10,\" \")","v":0},{"$f":"IFERROR(GESTION!J10,\" \")","v":0},null,""]
[null,null,null,null,{"$f":"IFERROR(GESTION!H11,\" \")","v":0},{"$f":"IFERROR(GESTION!I11,\" \")","v":0},{"$f":"IFERROR(GESTION!J11,\" \")","v":0},null,""]
[null,null,null,null,{"$f":"IFERROR(GESTION!H12,\" \")","v":0},{"$f":"IFERROR(GESTION!I12,\" \")","v":0},{"$f":"IFERROR(GESTION!J12,\" \")","v":0},null,""]
[null,null,null,null,{"$f":"IFERROR(GESTION!H13,\" \")","v":0},{"$f":"IFERROR(GESTION!I13,\" \")","v":0},{"$f":"IFERROR(GESTION!J13,\" \")","v":0},null,""]
[null,null,null,null,{"$f":"IFERROR(GESTION!H14,\" \")","v":0},{"$f":"IFERROR(GESTION!I14,\" \")","v":0},{"$f":"IFERROR(GESTION!J14,\" \")","v":0},null,""]
[null,null,null,null,{"$f":"IFERROR(GESTION!H15,\" \")","v":0},{"$f":"IFERROR(GESTION!I15,\" \")","v":0},{"$f":"IFERROR(GESTION!J15,\" \")","v":0},null,""]
[null,null,"2. Mejorar los tiempos de respuesta de la Rama Judicial y reducir el inventario de procesos, identificando los retos internos y promoviendo tanto acciones articuladas específicas para abordarlos como estrategias coordinadas para enfrentar las barreras que dependen de otras entidades.","2. Asegurar  el cumplimiento de los objetivos institucionales, la normatividad aplicable,  la mejora del SIGCMA y la satisfacción de los usuarios, revisando de  forma continua y sistemática la planificación de la gestión y fortaleciendo la administración de riesgos y sus controles",{"$f":"IFERROR(GESTION!H16,\" \")","v":0},{"$f":"IFERROR(GESTION!I16,\" \")","v":0},{"$f":"IFERROR(GESTION!J16,\" \")","v":0},null,""]
[null,null,null,null,{"$f":"IFERROR(GESTION!H17,\" \")","v":0},{"$f":"IFERROR(GESTION!I17,\" \")","v":0},{"$f":"IFERROR(GESTION!J17,\" \")","v":0},null,""]
[null,null,null,null,{"$f":"IFERROR(GESTION!H18,\" \")","v":0},{"$f":"IFERROR(GESTION!I18,\" \")","v":0},{"$f":"IFERROR(GESTION!J18,\" \")","v":0},null,""]
[null,null,null,null,{"$f":"IFERROR(GESTION!H19,\" \")","v":0},{"$f":"IFERROR(GESTION!I19,\" \")","v":0},{"$f":"IFERROR(GESTION!J19,\" \")","v":0},null,""]
[null,null,null,null,{"$f":"IFERROR(GESTION!H20,\" \")","v":0},{"$f":"IFERROR(GESTION!I20,\" \")","v":0},{"$f":"IFERROR(GESTION!J20,\" \")","v":0},null,""]
[null,null,null,null,{"$f":"IFERROR(GESTION!H21,\" \")","v":0},{"$f":"IFERROR(GESTION!I21,\" \")","v":0},{"$f":"IFERROR(GESTION!J21,\" \")","v":0},null,""]
[null,null,null,null,{"$f":"IFERROR(GESTION!H22,\" \")","v":0},{"$f":"IFERROR(GESTION!I22,\" \")","v":0},{"$f":"IFERROR(GESTION!J22,\" \")","v":0},null,""]
[null,null,null,null,{"$f":"IFERROR(GESTION!H23,\" \")","v":0},{"$f":"IFERROR(GESTION!I23,\" \")","v":0},{"$f":"IFERROR(GESTION!J23,\" \")","v":0},null,""]
[null,null,null,null,{"$f":"IFERROR(GESTION!H24,\" \")","v":0},{"$f":"IFERROR(GESTION!I24,\" \")","v":0},{"$f":"IFERROR(GESTION!J24,\" \")","v":0},null,""]
[null,null,null,null,{"$f":"IFERROR(GESTION!H25,\" \")","v":0},{"$f":"IFERROR(GESTION!I25,\" \")","v":0},{"$f":"IFERROR(GESTION!J25,\" \")","v":0},null,""]
[null,null,"3. Coadyuvar en la garantía de la idoneidad en el ejercicio de la profesión jurídica de acuerdo con lo establecido en la Ley 1905 de 2018","2. Asegurar  el cumplimiento de los objetivos institucionales, la normatividad aplicable,  la mejora del SIGCMA y la satisfacción de los usuarios, revisando de  forma continua y sistemática la planificación de la gestión y fortaleciendo la administración de riesgos y sus controles",{"$f":"IFERROR(GESTION!H26,\" \")","v":0},{"$f":"IFERROR(GESTION!I26,\" \")","v":0},{"$f":"IFERROR(GESTION!J26,\" \")","v":0},null,""]
[null,null,null,null,{"$f":"IFERROR(GESTION!H27,\" \")","v":0},{"$f":"IFERROR(GESTION!I27,\" \")","v":0},{"$f":"IFERROR(GESTION!J27,\" \")","v":0},null,""]
[null,null,null,null,{"$f":"IFERROR(GESTION!H28,\" \")","v":0},{"$f":"IFERROR(GESTION!I28,\" \")","v":0},{"$f":"IFERROR(GESTION!J28,\" \")","v":0},null,""]
[null,null,null,null,{"$f":"IFERROR(GESTION!H29,\" \")","v":0},{"$f":"IFERROR(GESTION!I29,\" \")","v":0},{"$f":"IFERROR(GESTION!J29,\" \")","v":0},null,""]
[null,null,null,null,{"$f":"IFERROR(GESTION!H30,\" \")","v":0},{"$f":"IFERROR(GESTION!I30,\" \")","v":0},{"$f":"IFERROR(GESTION!J30,\" \")","v":0},null,""]
[null,null,null,null,{"$f":"IFERROR(GESTION!H31,\" \")","v":0},{"$f":"IFERROR(GESTION!I31,\" \")","v":0},{"$f":"IFERROR(GESTION!J31,\" \")","v":0},null,""]
[null,null,null,null,{"$f":"IFERROR(GESTION!H32,\" \")","v":0},{"$f":"IFERROR(GESTION!I32,\" \")","v":0},{"$f":"IFERROR(GESTION!J32,\" \")","v":0},null,""]
[null,null,null,null,{"$f":"IFERROR(GESTION!H33,\" \")","v":0},{"$f":"IFERROR(GESTION!I33,\" \")","v":0},{"$f":"IFERROR(GESTION!J33,\" \")","v":0},null,""]
[null,null,null,null,{"$f":"IFERROR(GESTION!H34,\" \")","v":0},{"$f":"IFERROR(GESTION!I34,\" \")","v":0},{"$f":"IFERROR(GESTION!J34,\" \")","v":0},null,""]
[null,null,null,null,{"$f":"IFERROR(GESTION!H35,\" \")","v":0},{"$f":"IFERROR(GESTION!I35,\" \")","v":0},{"$f":"IFERROR(GESTION!J35,\" \")","v":0},null,""]
[null,null,"4. Avanzar en la disposición de una infraestructura óptima para el acceso a la justicia en la Rama Judicial de modo que se fortalezca la presencia territorial, teniendo en cuenta las posibilidades que ofrece la transformación digital y las necesidades que se derivan de ella, y considerando tanto las necesidades de los usuarios como las de los servidores judiciales.","4. Hacer un uso racional de los recursos naturales aplicando los principios y fases de la Economía Circular, para prevenir, mitigar y controlar los impactos ambientales",{"$f":"IFERROR(GESTION!H36,\" \")","v":0},{"$f":"IFERROR(GESTION!I36,\" \")","v":0},{"$f":"IFERROR(GESTION!J36,\" \")","v":0},null,""]
[null,null,null,null,{"$f":"IFERROR(GESTION!H37,\" \")","v":0},{"$f":"IFERROR(GESTION!I37,\" \")","v":0},{"$f":"IFERROR(GESTION!J37,\" \")","v":0},null,""]
[null,null,null,null,{"$f":"IFERROR(GESTION!H38,\" \")","v":0},{"$f":"IFERROR(GESTION!I38,\" \")","v":0},{"$f":"IFERROR(GESTION!J38,\" \")","v":0},null,""]
[null,null,null,null,{"$f":"IFERROR(GESTION!H39,\" \")","v":0},{"$f":"IFERROR(GESTION!I39,\" \")","v":0},{"$f":"IFERROR(GESTION!J39,\" \")","v":0},null,""]
[null,null,null,null,{"$f":"IFERROR(GESTION!H40,\" \")","v":0},{"$f":"IFERROR(GESTION!I40,\" \")","v":0},{"$f":"IFERROR(GESTION!J40,\" \")","v":0},null,""]
[null,null,null,null,{"$f":"IFERROR(GESTION!H41,\" \")","v":0},{"$f":"IFERROR(GESTION!I41,\" \")","v":0},{"$f":"IFERROR(GESTION!J41,\" \")","v":0},null,""]
[null,null,null,null,{"$f":"IFERROR(GESTION!H42,\" \")","v":0},{"$f":"IFERROR(GESTION!I42,\" \")","v":0},{"$f":"IFERROR(GESTION!J42,\" \")","v":0},null,""]
[null,null,null,null,{"$f":"IFERROR(GESTION!H43,\" \")","v":0},{"$f":"IFERROR(GESTION!I43,\" \")","v":0},{"$f":"IFERROR(GESTION!J43,\" \")","v":0},null,""]
[null,null,null,null,{"$f":"IFERROR(GESTION!H44,\" \")","v":0},{"$f":"IFERROR(GESTION!I44,\" \")","v":0},{"$f":"IFERROR(GESTION!J44,\" \")","v":0},null,""]
[null,null,null,null,{"$f":"IFERROR(GESTION!H45,\" \")","v":0},{"$f":"IFERROR(GESTION!I45,\" \")","v":0},{"$f":"IFERROR(GESTION!J45,\" \")","v":0},null,""]
[null,null,"5. Impulsar el uso de mecanismos alternativos para la solución de conflictos y la ampliación de la justicia restaurativa y terapéutica y el robustecimiento de las alternativas al encarcelamiento","2. Asegurar  el cumplimiento de los objetivos institucionales, la normatividad aplicable,  la mejora del SIGCMA y la satisfacción de los usuarios, revisando de  forma continua y sistemática la planificación de la gestión y fortaleciendo la administración de riesgos y sus controles",{"$f":"IFERROR(GESTION!H46,\" \")","v":0},{"$f":"IFERROR(GESTION!I46,\" \")","v":0},{"$f":"IFERROR(GESTION!J46,\" \")","v":0},null,""]
[null,null,null,null,{"$f":"IFERROR(GESTION!H47,\" \")","v":0},{"$f":"IFERROR(GESTION!I47,\" \")","v":0},{"$f":"IFERROR(GESTION!J47,\" \")","v":0},null,""]
[null,null,null,null,{"$f":"IFERROR(GESTION!H48,\" \")","v":0},{"$f":"IFERROR(GESTION!I48,\" \")","v":0},{"$f":"IFERROR(GESTION!J48,\" \")","v":0},null,""]
[null,null,null,null,{"$f":"IFERROR(GESTION!H49,\" \")","v":0},{"$f":"IFERROR(GESTION!I49,\" \")","v":0},{"$f":"IFERROR(GESTION!J49,\" \")","v":0},null,""]
[null,null,null,null,{"$f":"IFERROR(GESTION!H50,\" \")","v":0},{"$f":"IFERROR(GESTION!I50,\" \")","v":0},{"$f":"IFERROR(GESTION!J50,\" \")","v":0},null,""]
[null,null,null,null,{"$f":"IFERROR(GESTION!H51,\" \")","v":0},{"$f":"IFERROR(GESTION!I51,\" \")","v":0},{"$f":"IFERROR(GESTION!J51,\" \")","v":0},null,""]
[null,null,null,null,{"$f":"IFERROR(GESTION!H52,\" \")","v":0},{"$f":"IFERROR(GESTION!I52,\" \")","v":0},{"$f":"IFERROR(GESTION!J52,\" \")","v":0},null,""]
[null,null,null,null,{"$f":"IFERROR(GESTION!H53,\" \")","v":0},{"$f":"IFERROR(GESTION!I53,\" \")","v":0},{"$f":"IFERROR(GESTION!J53,\" \")","v":0},null,""]
[null,null,null,null,{"$f":"IFERROR(GESTION!H54,\" \")","v":0},{"$f":"IFERROR(GESTION!I54,\" \")","v":0},{"$f":"IFERROR(GESTION!J54,\" \")","v":0},null,""]
[null,null,null,null,{"$f":"IFERROR(GESTION!H55,\" \")","v":0},{"$f":"IFERROR(GESTION!I55,\" \")","v":0},{"$f":"IFERROR(GESTION!J55,\" \")","v":0},null,""]
["2. Servicios digitales y de tecnología, innovación y análisis de la información.","Servicios digitales y de tecnología, innovación y análisis de la información: Consolidar una justicia integrada y soportada en servicios digitales y de tecnología, innovación y análisis de la información, con una cultura digital apropiada, segura y sensible a las realidades del territorio nacional. ","1. Ampliar el acceso a la justicia a través de la consolidación del uso de los servicios digitales que conforman el sistema único integrado de gestión judicial en todos los despachos judiciales y dependencias de apoyo y, específicamente, incluyendo el despliegue e implementación del Expediente Judicial Electrónico en todas las jurisdicciones y especialidades.","6. Proteger, preservar y administrar los activos de información  implementando acciones  para gestionar de forma adecuada los incidentes, proteger los datos personales y adoptar mecanismos  de ciberseguridad y aseguramiento de la  continuidad del negocio.",{"$f":"IFERROR(GESTION!H56,\" \")","v":0},{"$f":"IFERROR(GESTION!I56,\" \")","v":0},{"$f":"IFERROR(GESTION!J56,\" \")","v":0},null,""]
[null,null,null,null,{"$f":"IFERROR(GESTION!H57,\" \")","v":0},{"$f":"IFERROR(GESTION!I57,\" \")","v":0},{"$f":"IFERROR(GESTION!J57,\" \")","v":0},null,""]
[null,null,null,null,{"$f":"IFERROR(GESTION!H58,\" \")","v":0},{"$f":"IFERROR(GESTION!I58,\" \")","v":0},{"$f":"IFERROR(GESTION!J58,\" \")","v":0},null,""]
[null,null,null,null,{"$f":"IFERROR(GESTION!H59,\" \")","v":0},{"$f":"IFERROR(GESTION!I59,\" \")","v":0},{"$f":"IFERROR(GESTION!J59,\" \")","v":0},null,""]
[null,null,null,null,{"$f":"IFERROR(GESTION!H60,\" \")","v":0},{"$f":"IFERROR(GESTION!I60,\" \")","v":0},{"$f":"IFERROR(GESTION!J60,\" \")","v":0},null,""]
[null,null,null,null,{"$f":"IFERROR(GESTION!H61,\" \")","v":0},{"$f":"IFERROR(GESTION!I61,\" \")","v":0},{"$f":"IFERROR(GESTION!J61,\" \")","v":0},null,""]
[null,null,null,null,{"$f":"IFERROR(GESTION!H62,\" \")","v":0},{"$f":"IFERROR(GESTION!I62,\" \")","v":0},{"$f":"IFERROR(GESTION!J62,\" \")","v":0},null,""]
[null,null,null,null,{"$f":"IFERROR(GESTION!H63,\" \")","v":0},{"$f":"IFERROR(GESTION!I63,\" \")","v":0},{"$f":"IFERROR(GESTION!J63,\" \")","v":0},null,""]
[null,null,null,null,{"$f":"IFERROR(GESTION!H64,\" \")","v":0},{"$f":"IFERROR(GESTION!I64,\" \")","v":0},{"$f":"IFERROR(GESTION!J64,\" \")","v":0},null,""]
[null,null,null,null,{"$f":"IFERROR(GESTION!H65,\" \")","v":0},{"$f":"IFERROR(GESTION!I65,\" \")","v":0},{"$f":"IFERROR(GESTION!J65,\" \")","v":0},null,""]
[null,null,"2. Integrar y hacer compatibles todos los aplicativos de transición con SIUGJ, para que la migración de los expedientes judiciales a dicha plataforma sea real y no suponga afectaciones en la prestación del servicio de justicia.",null,{"$f":"IFERROR(GESTION!H66,\" \")","v":0},{"$f":"IFERROR(GESTION!I66,\" \")","v":0},{"$f":"IFERROR(GESTION!J66,\" \")","v":0},null,""]
[null,null,null,null,{"$f":"IFERROR(GESTION!H67,\" \")","v":0},{"$f":"IFERROR(GESTION!I67,\" \")","v":0},{"$f":"IFERROR(GESTION!J67,\" \")","v":0},null,""]
[null,null,null,null,{"$f":"IFERROR(GESTION!H68,\" \")","v":0},{"$f":"IFERROR(GESTION!I68,\" \")","v":0},{"$f":"IFERROR(GESTION!J68,\" \")","v":0},null,""]
[null,null,null,null,{"$f":"IFERROR(GESTION!H69,\" \")","v":0},{"$f":"IFERROR(GESTION!I69,\" \")","v":0},{"$f":"IFERROR(GESTION!J69,\" \")","v":0},null,""]
[null,null,null,null,{"$f":"IFERROR(GESTION!H70,\" \")","v":0},{"$f":"IFERROR(GESTION!I70,\" \")","v":0},{"$f":"IFERROR(GESTION!J70,\" \")","v":0},null,{"$f":"IFERROR(H70/G70,\"\")","v":""}]
[null,null,null,null,{"$f":"IFERROR(GESTION!H71,\" \")","v":0},{"$f":"IFERROR(GESTION!I71,\" \")","v":0},{"$f":"IFERROR(GESTION!J71,\" \")","v":0},null,""]
[null,null,null,null,{"$f":"IFERROR(GESTION!H72,\" \")","v":0},{"$f":"IFERROR(GESTION!I72,\" \")","v":0},{"$f":"IFERROR(GESTION!J72,\" \")","v":0},null,""]
[null,null,null,null,{"$f":"IFERROR(GESTION!H73,\" \")","v":0},{"$f":"IFERROR(GESTION!I73,\" \")","v":0},{"$f":"IFERROR(GESTION!J73,\" \")","v":0},null,""]
[null,null,null,null,{"$f":"IFERROR(GESTION!H74,\" \")","v":0},{"$f":"IFERROR(GESTION!I74,\" \")","v":0},{"$f":"IFERROR(GESTION!J74,\" \")","v":0},null,""]
[null,null,null,null,{"$f":"IFERROR(GESTION!H75,\" \")","v":0},{"$f":"IFERROR(GESTION!I75,\" \")","v":0},{"$f":"IFERROR(GESTION!J75,\" \")","v":0},null,""]
[null,null,"3. Fortalecer las capacidades institucionales, adecuar el modelo operativo y de servicio, bajo un enfoque de Arquitectura Empresarial y de fortalecimiento del acceso a la justicia.",null,{"$f":"IFERROR(GESTION!H76,\" \")","v":0},{"$f":"IFERROR(GESTION!I76,\" \")","v":0},{"$f":"IFERROR(GESTION!J76,\" \")","v":0},null,""]
[null,null,null,null,{"$f":"IFERROR(GESTION!H77,\" \")","v":0},{"$f":"IFERROR(GESTION!I77,\" \")","v":0},{"$f":"IFERROR(GESTION!J77,\" \")","v":0},null,""]
[null,null,null,null,{"$f":"IFERROR(GESTION!H78,\" \")","v":0},{"$f":"IFERROR(GESTION!I78,\" \")","v":0},{"$f":"IFERROR(GESTION!J78,\" \")","v":0},null,""]
[null,null,null,null,{"$f":"IFERROR(GESTION!H79,\" \")","v":0},{"$f":"IFERROR(GESTION!I79,\" \")","v":0},{"$f":"IFERROR(GESTION!J79,\" \")","v":0},null,""]
[null,null,null,null,{"$f":"IFERROR(GESTION!H80,\" \")","v":0},{"$f":"IFERROR(GESTION!I80,\" \")","v":0},{"$f":"IFERROR(GESTION!J80,\" \")","v":0},null,""]
[null,null,null,null,{"$f":"IFERROR(GESTION!H81,\" \")","v":0},{"$f":"IFERROR(GESTION!I81,\" \")","v":0},{"$f":"IFERROR(GESTION!J81,\" \")","v":0},null,""]
[null,null,null,null,{"$f":"IFERROR(GESTION!H82,\" \")","v":0},{"$f":"IFERROR(GESTION!I82,\" \")","v":0},{"$f":"IFERROR(GESTION!J82,\" \")","v":0},null,""]
[null,null,null,null,{"$f":"IFERROR(GESTION!H83,\" \")","v":0},{"$f":"IFERROR(GESTION!I83,\" \")","v":0},{"$f":"IFERROR(GESTION!J83,\" \")","v":0},null,""]
[null,null,null,null,{"$f":"IFERROR(GESTION!H84,\" \")","v":0},{"$f":"IFERROR(GESTION!I84,\" \")","v":0},{"$f":"IFERROR(GESTION!J84,\" \")","v":0},null,""]
[null,null,null,null,{"$f":"IFERROR(GESTION!H85,\" \")","v":0},{"$f":"IFERROR(GESTION!I85,\" \")","v":0},{"$f":"IFERROR(GESTION!J85,\" \")","v":0},null,""]
[null,null,"4.Consolidar la cultura y apropiación de la transformación digital en los servidores y usuarios de los servicios de la Rama Judicial y reducir brechas de acceso y conocimiento, incluyendo la oferta efectiva de información sobre el uso de las nuevas herramientas virtuales implementadas en las diferentes jurisdicciones, con especial énfasis en las zonas del país donde es evidente la brecha digital.",null,{"$f":"IFERROR(GESTION!H86,\" \")","v":0},{"$f":"IFERROR(GESTION!I86,\" \")","v":0},{"$f":"IFERROR(GESTION!J86,\" \")","v":0},null,""]
[null,null,null,null,{"$f":"IFERROR(GESTION!H87,\" \")","v":0},{"$f":"IFERROR(GESTION!I87,\" \")","v":0},{"$f":"IFERROR(GESTION!J87,\" \")","v":0},null,""]
[null,null,null,null,{"$f":"IFERROR(GESTION!H88,\" \")","v":0},{"$f":"IFERROR(GESTION!I88,\" \")","v":0},{"$f":"IFERROR(GESTION!J88,\" \")","v":0},null,""]
[null,null,null,null,{"$f":"IFERROR(GESTION!H89,\" \")","v":0},{"$f":"IFERROR(GESTION!I89,\" \")","v":0},{"$f":"IFERROR(GESTION!J89,\" \")","v":0},null,""]
[null,null,null,null,{"$f":"IFERROR(GESTION!H90,\" \")","v":0},{"$f":"IFERROR(GESTION!I90,\" \")","v":0},{"$f":"IFERROR(GESTION!J90,\" \")","v":0},null,""]
[null,null,null,null,{"$f":"IFERROR(GESTION!H91,\" \")","v":0},{"$f":"IFERROR(GESTION!I91,\" \")","v":0},{"$f":"IFERROR(GESTION!J91,\" \")","v":0},null,""]
[null,null,null,null,{"$f":"IFERROR(GESTION!H92,\" \")","v":0},{"$f":"IFERROR(GESTION!I92,\" \")","v":0},{"$f":"IFERROR(GESTION!J92,\" \")","v":0},null,""]
[null,null,null,null,{"$f":"IFERROR(GESTION!H93,\" \")","v":0},{"$f":"IFERROR(GESTION!I93,\" \")","v":0},{"$f":"IFERROR(GESTION!J93,\" \")","v":0},null,""]
[null,null,null,null,{"$f":"IFERROR(GESTION!H94,\" \")","v":0},{"$f":"IFERROR(GESTION!I94,\" \")","v":0},{"$f":"IFERROR(GESTION!J94,\" \")","v":0},null,""]
[null,null,null,null,{"$f":"IFERROR(GESTION!H95,\" \")","v":0},{"$f":"IFERROR(GESTION!I95,\" \")","v":0},{"$f":"IFERROR(GESTION!J95,\" \")","v":0},null,""]
[null,null,"5.Consolidar la infraestructura y los recursos necesarios para la implementación exitosa de la transformación digital, incluyendo la disposición de internet de calidad en el 100% de las sedes en la Rama Judicial y modernizar los servicios tecnológicos de soporte. ",null,{"$f":"IFERROR(GESTION!H96,\" \")","v":0},{"$f":"IFERROR(GESTION!I96,\" \")","v":0},{"$f":"IFERROR(GESTION!J96,\" \")","v":0},null,""]
[null,null,null,null,{"$f":"IFERROR(GESTION!H97,\" \")","v":0},{"$f":"IFERROR(GESTION!I97,\" \")","v":0},{"$f":"IFERROR(GESTION!J97,\" \")","v":0},null,""]
[null,null,null,null,{"$f":"IFERROR(GESTION!H98,\" \")","v":0},{"$f":"IFERROR(GESTION!I98,\" \")","v":0},{"$f":"IFERROR(GESTION!J98,\" \")","v":0},null,""]
[null,null,null,null,{"$f":"IFERROR(GESTION!H99,\" \")","v":0},{"$f":"IFERROR(GESTION!I99,\" \")","v":0},{"$f":"IFERROR(GESTION!J99,\" \")","v":0},null,""]
[null,null,null,null,{"$f":"IFERROR(GESTION!H100,\" \")","v":0},{"$f":"IFERROR(GESTION!I100,\" \")","v":0},{"$f":"IFERROR(GESTION!J100,\" \")","v":0},null,""]
[null,null,null,null,{"$f":"IFERROR(GESTION!H101,\" \")","v":0},{"$f":"IFERROR(GESTION!I101,\" \")","v":0},{"$f":"IFERROR(GESTION!J101,\" \")","v":0},null,""]
[null,null,null,null,{"$f":"IFERROR(GESTION!H102,\" \")","v":0},{"$f":"IFERROR(GESTION!I102,\" \")","v":0},{"$f":"IFERROR(GESTION!J102,\" \")","v":0},null,""]
[null,null,null,null,{"$f":"IFERROR(GESTION!H103,\" \")","v":0},{"$f":"IFERROR(GESTION!I103,\" \")","v":0},{"$f":"IFERROR(GESTION!J103,\" \")","v":0},null,""]
[null,null,null,null,{"$f":"IFERROR(GESTION!H104,\" \")","v":0},{"$f":"IFERROR(GESTION!I104,\" \")","v":0},{"$f":"IFERROR(GESTION!J104,\" \")","v":0},null,""]
[null,null,null,null,{"$f":"IFERROR(GESTION!H105,\" \")","v":0},{"$f":"IFERROR(GESTION!I105,\" \")","v":0},{"$f":"IFERROR(GESTION!J105,\" \")","v":0},null,""]
[null,null,"6.Integrar y optimizar los servicios administrativos de la Rama Judicial bajo un enfoque de transformación digital e innovación incluyendo los componentes financiero, administrativo, talento humano, entre otros",null,{"$f":"IFERROR(GESTION!H106,\" \")","v":0},{"$f":"IFERROR(GESTION!I106,\" \")","v":0},{"$f":"IFERROR(GESTION!J106,\" \")","v":0},null,""]
[null,null,null,null,{"$f":"IFERROR(GESTION!H107,\" \")","v":0},{"$f":"IFERROR(GESTION!I107,\" \")","v":0},{"$f":"IFERROR(GESTION!J107,\" \")","v":0},null,""]
[null,null,null,null,{"$f":"IFERROR(GESTION!H108,\" \")","v":0},{"$f":"IFERROR(GESTION!I108,\" \")","v":0},{"$f":"IFERROR(GESTION!J108,\" \")","v":0},null,""]
[null,null,null,null,{"$f":"IFERROR(GESTION!H109,\" \")","v":0},{"$f":"IFERROR(GESTION!I109,\" \")","v":0},{"$f":"IFERROR(GESTION!J109,\" \")","v":0},null,""]
[null,null,null,null,{"$f":"IFERROR(GESTION!H110,\" \")","v":0},{"$f":"IFERROR(GESTION!I110,\" \")","v":0},{"$f":"IFERROR(GESTION!J110,\" \")","v":0},null,""]
[null,null,null,null,{"$f":"IFERROR(GESTION!H111,\" \")","v":0},{"$f":"IFERROR(GESTION!I111,\" \")","v":0},{"$f":"IFERROR(GESTION!J111,\" \")","v":0},null,""]
[null,null,null,null,{"$f":"IFERROR(GESTION!H112,\" \")","v":0},{"$f":"IFERROR(GESTION!I112,\" \")","v":0},{"$f":"IFERROR(GESTION!J112,\" \")","v":0},null,""]
[null,null,null,null,{"$f":"IFERROR(GESTION!H113,\" \")","v":0},{"$f":"IFERROR(GESTION!I113,\" \")","v":0},{"$f":"IFERROR(GESTION!J113,\" \")","v":0},null,""]
[null,null,null,null,{"$f":"IFERROR(GESTION!H114,\" \")","v":0},{"$f":"IFERROR(GESTION!I114,\" \")","v":0},{"$f":"IFERROR(GESTION!J114,\" \")","v":0},null,""]
[null,null,null,null,{"$f":"IFERROR(GESTION!H115,\" \")","v":0},{"$f":"IFERROR(GESTION!I115,\" \")","v":0},{"$f":"IFERROR(GESTION!J115,\" \")","v":0},null,""]
["3. Confianza pública, transparencia y rendición de cuentas","Confianza pública, transparencia y rendición de cuentas: Aumentar la confianza pública en la justicia a través de la transparencia, la rendición de cuentas y la participación, incluyendo la información de justicia y la producción, gestión y acceso a las fuentes de derecho, el fortalecimiento del sistema de gestión de calidad y medio ambiente (SIGCMA) y el mejoramiento de la calidad y publicidad de la información. ","1. Incrementar la cantidad, la calidad y pertinencia de los datos sobre el funcionamiento del servicio de justicia bajo un modelo de gobierno de datos y un liderazgo unificado. ","4. Hacer un uso racional de los recursos naturales aplicando los principios y fases de la Economía Circular, para prevenir, mitigar y controlar los impactos ambientales.",{"$f":"IFERROR(GESTION!H116,\" \")","v":"Desarrollar las tareas definidas en el cronograma de Rendición de Cuentas"},{"$f":"IFERROR(GESTION!I116,\" \")","v":"Entregable"},{"$f":"IFERROR(GESTION!J116,\" \")","v":0},null,"",null,"* En el mes de abril se elaboró una infografía desarrollando el tema de Calidad en la Justicia y se compartió con los servidores judiciales del distrito a traves del correo electrónico. Esta pieza gráfica en la que se  describieron las normas en las cuales nos encontramos certificaedos en la Seccional (especificando las dependencias certificadas) y sus beneficios también fue compratida con los usuarios externos por medio de las redes sociales del Cosnjeo Seccional de la Judicatura de Caldas.\n\n* En el mes de mayo se realizó el video correspondiente al tema del Sistema de Gestión Ambiental y las actividades que se han ejecutado en la Seccional para dar cumplimiento a los requisitos ambientales y resaltando la importancia del compromiso de todos para el mantenimiento del sistema. Este video fue compartido por correo electrónico con los servidores judiciales del distrito.\n\n* Durante el mes de junio,  se desarrolla el tema de  Vigilancias Judiciales,elaborando una infografía  donde se describe su proposito y el marco normativo. Adicionalmete se muestra cuantas vigilancias han sido tramitadas por el Consejo Seccional de la Judicatura de Caldas para el año 2022 y lo que va del año 2023 (fecha corte 20 de junio de 2023) y así mismo se suministra un código QR para descargar el formato de solicitud de vigilancias judiciales. Esta información es compartida por correo electrónico y en grupos de whatsapp","Acciones de Información Rendición de Cuentas 2023\n\nhttps://etbcsj-my.sharepoint.com/:f:/g/personal/sacsma_cendoj_ramajudicial_gov_co/EjlZWVNBfw9PmSr2IszqKVEBCT10edaewXq9bUnn8HPsTQ?e=mrCWwb "]
[null,null,null,null,{"$f":"IFERROR(GESTION!H117,\" \")","v":"Medir la satisfacción del usuario"},{"$f":"IFERROR(GESTION!I117,\" \")","v":"Entregable"},{"$f":"IFERROR(GESTION!J117,\" \")","v":0},null,"",null,"Esta Actividad se realizará una vez ejecutada la acción No.04-AM-CSJC-2023 derivada de la encuesta de satisfacción anterior, con el fin de poder comparar un antes y un despues en los resultados de la misma y verificar así mismo la efectividad de esta acción."]
[null,null,null,null,{"$f":"IFERROR(GESTION!H118,\" \")","v":"Atender, gestionar y solucionar las diferentes solicitudes de usuarios internos y externos"},{"$f":"IFERROR(GESTION!I118,\" \")","v":"Entregable"},{"$f":"IFERROR(GESTION!J118,\" \")","v":0},null,"",null,"Durante el segundo trimestre del año 2023 no se presentaron QRS´s.","Listado Maestro de QRS:\n\nhttps://etbcsj-my.sharepoint.com/:f:/g/personal/sacsma_cendoj_ramajudicial_gov_co/EvGPycniJktKmlm1YBGTBfYBLFZvofefeOVGMEF_N_dZ_g?e=qS4Ww8"]
[null,null,null,null,{"$f":"IFERROR(GESTION!H119,\" \")","v":"Elaborar el informe de revisión por la Alta Dirección"},{"$f":"IFERROR(GESTION!I119,\" \")","v":"Entregable"},{"$f":"IFERROR(GESTION!J119,\" \")","v":0},null,"",null,"Medianta acta No 003 del 24/05/2023 se llevó a cabo el proceso de revisión de los sistemas integrados de gestion de calidad y medio ambiente, por parte de la alta dirección en la Seccional, quedando aprobado el documento final. \n\nEste documento fue remitido al nivel central para su publicación en el micrositio web del SIGCMA, el 01 de junio de 2023","Informe de Revisión por la Alta Dirección:\n\nhttps://etbcsj-my.sharepoint.com/:f:/g/personal/sacsma_cendoj_ramajudicial_gov_co/Eo_tSFI-ceNBl6yX5JfyHP4Bol_Eygs2uS13xRXmGCBSzg?e=kXLsbV"]
[null,null,null,null,{"$f":"IFERROR(GESTION!H120,\" \")","v":"Atender de las novedades SIERJU"},{"$f":"IFERROR(GESTION!I120,\" \")","v":"Entregable"},{"$f":"IFERROR(GESTION!J120,\" \")","v":0},null,"",null,"Durante este trimestre, se atendieron (186) solicitudes, que se clasifican así:\n\n* Ajuste en Inventario Inicial (180)\n* Cambio Fechas Formulario (1)\n* Consulta-ADM (3)\n* Licencias\t(1)\n* Otros Permisos Autorizados (1)\n\nLas mismas fueron atendidas y/o cerradas  de manera oportuna, a través del sistema de información Sierju.","Consolidado Novedades Sierju:\nhttps://etbcsj-my.sharepoint.com/:x:/g/personal/sacsma_cendoj_ramajudicial_gov_co/EcFvSQj93thOoeTN4o2-vEIBgo57vAMI2Yp6WtBKTcXqaQ?e=inBDmb\n"]
[null,null,null,null,{"$f":"IFERROR(GESTION!H121,\" \")","v":"Acompañamiento y capacitación a los despachos judiciales en el diligenciamiento de la información SIERJU"},{"$f":"IFERROR(GESTION!I121,\" \")","v":"Entregable"},{"$f":"IFERROR(GESTION!J121,\" \")","v":0},null,"",null,"Durante este trimestre, se atendieron (127) necesidades de soporte SIERJU a los despachos judiciales, brindando orientanción en diferentes temas, así:\n\n* Ajuste en Inventario Inicial (58)\n*Cambio de Usuario (27)\n*Soporte General (25)\nReinicio de Contraseña (7)\n\nLas mismas fueron atendidas y/o cerradas  de manera oportuna, a través del sistema de información Sierju.","Consolidado Soporte Sierju:\nhttps://etbcsj-my.sharepoint.com/:x:/g/personal/sacsma_cendoj_ramajudicial_gov_co/EcFvSQj93thOoeTN4o2-vEIBgo57vAMI2Yp6WtBKTcXqaQ?e=inBDmb\n"]
[null,null,null,null,{"$f":"IFERROR(GESTION!H122,\" \")","v":"Registro de cargos vacantes y provistos en Carrera- Jueces"},{"$f":"IFERROR(GESTION!I122,\" \")","v":"Entregable"},{"$f":"IFERROR(GESTION!J122,\" \")","v":0},null,"",null,"Durante el segundo trimestre de 2023 se remitieron 3 oficios a la Unidad de Administración de Carrera Judicial para que efectuara las publicaciones de las vacantes definitivas en la página web de la Rama Judicial - del Consejo Superior de la Judicatura.\n\n Para ello, fueron consolidadas y reportadas  las vacantes de Jueces para los meses de abril Oficio CSJCAO23-712 (45 vacantes ), mayo Oficio CSJCAO23-891 (46 vacantes) y junio CSJCAO23-1099 46 vacantes)","Registro de cargos vacantes y provistos en Carrera- Jueces:\n\nhttps://etbcsj-my.sharepoint.com/:f:/g/personal/sacsma_cendoj_ramajudicial_gov_co/ElhONg3Uq3ZFnfUWxxFcca0BoZHmQPdJNSuhxkMi5rWPGw?e=CYjr2m\n\n"]
[null,null,null,null,{"$f":"IFERROR(GESTION!H123,\" \")","v":"Divulgación y publicación de información relevante para los usuarios"},{"$f":"IFERROR(GESTION!I123,\" \")","v":"Entregable"},{"$f":"IFERROR(GESTION!J123,\" \")","v":0},null,"",null,"Activdad con seguimiento anual"]
[null,null,null,null,{"$f":"IFERROR(GESTION!H124,\" \")","v":"Seguimiento al reporte oportuno de la información estadística"},{"$f":"IFERROR(GESTION!I124,\" \")","v":"Entregable"},{"$f":"IFERROR(GESTION!J124,\" \")","v":0},null,"",null,"En el segundo trimestre, de los 164 despachos Judiciales adscritos al Distrito judicial de Manizales y Administrativo de Caldas, 158 reportaron oportunamente la informción estadística, equivalente al 96,3% de los despachos y cumpliendo así con el término que  establece en acuerdo PSAA16-10476 del 01 de marzo de 2016.\n\nDe los 6 despachos faltantes por el reporte, 2 no presentaron el reporte y 4 iniciaron el proceso pero no terminaron sobre el tértmino establecido por el acuerdo que se emnciona anteriormente. Estos despachos fueron requeridos mediante oficios CSJCAO23-1170, CSJCAO23-1171, CSJCAO23-1172, CSJCAO23-1173, CSJCAO23-1174, CSJCAO23-1175 del 11 de julio de 2023 y a las fecha de este seguimiento (17 de julio de 2023), los 6 ya finalizado su proceso de reporte de la información estadística.","Reporte Oportuno de la Información Estadística:\n\nhttps://etbcsj-my.sharepoint.com/:f:/g/personal/sacsma_cendoj_ramajudicial_gov_co/EkTXl_v4QS9Gn7SzTeEV-vwB7_ntTskxMZf0t7wxHZEfmg?e=FQTwaO\n"]
[null,null,null,null,{"$f":"IFERROR(GESTION!H125,\" \")","v":"Programación de visitas del factor organización del trabajo"},{"$f":"IFERROR(GESTION!I125,\" \")","v":"Entregable"},{"$f":"IFERROR(GESTION!J125,\" \")","v":0},null,"",null,"Se elabora el Cronograma de Visitas para la calificación del factor organización del trabajo.","Programación de Visitas Factor Organización del trabajo:\n\nhttps://etbcsj-my.sharepoint.com/:x:/g/personal/sacsma_cendoj_ramajudicial_gov_co/ETX_l2kkvcVFp_z3JorzGQgBd133YYQUUr-0bzNgnR5ykA?e=gBCx3c"]
[null,null,"2. Consolidar la administración de la información entendida como todas las acciones rientadas a garantizar el acceso, consulta, uso y conservación de la información de justicia de manera ágil, flexible e inteligente, bajo un enfoque de innovación.",null,{"$f":"IFERROR(GESTION!H126,\" \")","v":"Trámite de vigilancias judiciales"},{"$f":"IFERROR(GESTION!I126,\" \")","v":"Entregable"},{"$f":"IFERROR(GESTION!J126,\" \")","v":0},null,"",null,"Durante el segundo trimestre del 2023 se tramitaron un total de 57 vigilancias judiciales y se realizaron las siguientes actividades:\n\n• Recepción de la solicitud de Vigilancia  Judicial Administrativa.\n• Reparto\n• Recopilación de información.\n• Auto de apertura / No apertura. \n• Resolución. (En las vigilancias en las que se dio apertura). \n• Comunicación final. \n\nEn total para este segindo trimestre se realizaron los siguientes documentos: \n\n-97 autos. \n-203 oficios. ","Trámite de Vigilancias Judiciales:\n\nhttps://etbcsj-my.sharepoint.com/:f:/g/personal/sacsma_cendoj_ramajudicial_gov_co/EqHbP9uoUPVOtIDQQHUk6w8Bbo6hu9YOB3KLLbZ0ckPy3A?e=43R5wm "]
[null,null,null,null,{"$f":"IFERROR(GESTION!H127,\" \")","v":"Verificación de la Información estadística"},{"$f":"IFERROR(GESTION!I127,\" \")","v":"Entregable"},{"$f":"IFERROR(GESTION!J127,\" \")","v":0},null,"",null,"Para este período se evidenciaron (16) inconsistencias en la información estadística reportada en el Sistema SIERJU, así:\n\n* INCONSISTENCIAS VISITA CONSEJO SECCIONAL\t (14)\n\n - JUZGADO 001 PROMISCUO MUNICIPAL DE SALAMINA \t(1)\n- JUZGADO 001 PROMISCUO MUNICIPAL DE PUERTO SALGAR  (1)\n- JUZGADO 007 CIVIL MUNICIPAL DE MANIZALES \t(1)\n- JUZGADO 009 CIVIL MUNICIPAL DE MANIZALES           (1)\n- JUZGADO 008 CIVIL MUNICIPAL DE MANIZALES  (1)\n- JUZGADO 005 CIVIL MUNICIPAL DE MANIZALES (1)\n- JUZGADO 010 CIVIL MUNICIPAL DE MANIZALES (1)\n- JUZGADO 003 CIVIL DEL CIRCUITO DE MANIZALES (1)\n- JUZGADO 005 CIVIL DEL CIRCUITO DE MANIZALES (1) \n- JUZGADO 005 PENAL DEL CIRCUITO DE MANIZALES (1)\n- JUZGADO 005 ADMINISTRATIVO  DE MANIZALES (1)\n- JUZGADO 003 DE FAMILIA  DE MANIZALES (1)\n- JUZGADO 009 ADMINISTRATIVO  DE MANIZALES (1)\n- DESPACHO 001 DE LA SALA CIVIL FAMILIA DEL TRIBUNAL SUPERIOR DE MANIZALES (1)\n\n * INCONSISTENCIAS ENCONTRADAS POR DESPACHO JUDICIAL \t(2)\n\n- JUZGADO 002 PROMISCUO MUNICIPAL DE ANSERMA (1)\n- JUZGADO 001 PROMISCUO MUNICIPAL DE AGUADAS  \t(1)","Verificación estadística - Inconsistencias:\n\nhttps://etbcsj-my.sharepoint.com/:x:/g/personal/sacsma_cendoj_ramajudicial_gov_co/EcFvSQj93thOoeTN4o2-vEIBgo57vAMI2Yp6WtBKTcXqaQ?e=inBDmb"]
[null,null,null,null,{"$f":"IFERROR(GESTION!H128,\" \")","v":"Elaborar la Matriz de Comunicaciones Institucional y hacer su seguimiento"},{"$f":"IFERROR(GESTION!I128,\" \")","v":"Entregable"},{"$f":"IFERROR(GESTION!J128,\" \")","v":0},null,"",null,"Para el segundo trimestre del año 2023 se realizaron 2 Notijudiciales , se expidieron 24 acuerdos, 39 circulares, 530 oficios y  149 resoluciones y 1 seguimiento a redes sociales.","Matriz de Comunicaciones:\n\nhttps://etbcsj-my.sharepoint.com/:f:/g/personal/sacsma_cendoj_ramajudicial_gov_co/EqNu9VxCLJFBpt0Ud6w2MC8Bsw2gdEmRfmPsK1Za6a67ug?e=S8rlQU"]
[null,null,null,null,{"$f":"IFERROR(GESTION!H129,\" \")","v":"Orientar al usuario interno y externo acerca del procedimiento para realizar trámites ante la URNA"},{"$f":"IFERROR(GESTION!I129,\" \")","v":"Entregable"},{"$f":"IFERROR(GESTION!J129,\" \")","v":0},null,"",null,"Durante este trimestre se brindo orientación a un total de 6 usuarios en diferentes temas ante la Unidad de Registro Nacional de Abogados - URNA asì:\n\n-Trámite Tarjeta Profesional: 5\n-Trámite Licencia de Judicatura: 1\n","Registro de Usuarios que solicitan orientación:\n\nhttps://etbcsj-my.sharepoint.com/:f:/g/personal/sacsma_cendoj_ramajudicial_gov_co/Eg073ZVB7TBJsyGLYaeSV24Ba6Wk43EG4TPO1cqUqIDE_Q?e=msfhNf "]
[null,null,null,null,{"$f":"IFERROR(GESTION!H130,\" \")","v":0},{"$f":"IFERROR(GESTION!I130,\" \")","v":0},{"$f":"IFERROR(GESTION!J130,\" \")","v":0},null,""]
[null,null,null,null,{"$f":"IFERROR(GESTION!H131,\" \")","v":0},{"$f":"IFERROR(GESTION!I131,\" \")","v":0},{"$f":"IFERROR(GESTION!J131,\" \")","v":0},null,""]
[null,null,null,null,{"$f":"IFERROR(GESTION!H132,\" \")","v":0},{"$f":"IFERROR(GESTION!I132,\" \")","v":0},{"$f":"IFERROR(GESTION!J132,\" \")","v":0},null,""]
[null,null,null,null,{"$f":"IFERROR(GESTION!H133,\" \")","v":0},{"$f":"IFERROR(GESTION!I133,\" \")","v":0},{"$f":"IFERROR(GESTION!J133,\" \")","v":0},null,""]
[null,null,null,null,{"$f":"IFERROR(GESTION!H134,\" \")","v":0},{"$f":"IFERROR(GESTION!I134,\" \")","v":0},{"$f":"IFERROR(GESTION!J134,\" \")","v":0},null,{"$f":"IFERROR(H134/G134,\"\")","v":""}]
[null,null,null,null,{"$f":"IFERROR(GESTION!H135,\" \")","v":0},{"$f":"IFERROR(GESTION!I135,\" \")","v":0},{"$f":"IFERROR(GESTION!J135,\" \")","v":0},null,""]
[null,null,"3. Fortalecer el Sistema integrado de Gestión de la Rama, orientado a la implementación y certificación de las normas antisoborno.","1. Gestionar el desarrollo de las competencias, la toma de conciencia , la cultura  organizacional  y el compromiso de los  servidores judiciales, contratistas, practicantes y  judicantes de contribuir a generar valor público en la administración de justicia, en el marco de  cumplimiento de los requisitos  aplicables y el comportamiento ético.\n3. Fomentar la transparencia y la participación generando lineamientos y promoviendo la rendición de cuentas ,la consulta, reporte y planteamiento de inquietudes en relación con las decisiones y aspectos del SIGCMA.",{"$f":"IFERROR(GESTION!H136,\" \")","v":0},{"$f":"IFERROR(GESTION!I136,\" \")","v":0},{"$f":"IFERROR(GESTION!J136,\" \")","v":0},null,""]
[null,null,null,null,{"$f":"IFERROR(GESTION!H137,\" \")","v":0},{"$f":"IFERROR(GESTION!I137,\" \")","v":0},{"$f":"IFERROR(GESTION!J137,\" \")","v":0},null,""]
[null,null,null,null,{"$f":"IFERROR(GESTION!H138,\" \")","v":0},{"$f":"IFERROR(GESTION!I138,\" \")","v":0},{"$f":"IFERROR(GESTION!J138,\" \")","v":0},null,""]
[null,null,null,null,{"$f":"IFERROR(GESTION!H139,\" \")","v":0},{"$f":"IFERROR(GESTION!I139,\" \")","v":0},{"$f":"IFERROR(GESTION!J139,\" \")","v":0},null,""]
[null,null,null,null,{"$f":"IFERROR(GESTION!H140,\" \")","v":0},{"$f":"IFERROR(GESTION!I140,\" \")","v":0},{"$f":"IFERROR(GESTION!J140,\" \")","v":0},null,""]
[null,null,null,null,{"$f":"IFERROR(GESTION!H141,\" \")","v":0},{"$f":"IFERROR(GESTION!I141,\" \")","v":0},{"$f":"IFERROR(GESTION!J141,\" \")","v":0},null,""]
[null,null,null,null,{"$f":"IFERROR(GESTION!H142,\" \")","v":0},{"$f":"IFERROR(GESTION!I142,\" \")","v":0},{"$f":"IFERROR(GESTION!J142,\" \")","v":0},null,""]
[null,null,null,null,{"$f":"IFERROR(GESTION!H143,\" \")","v":0},{"$f":"IFERROR(GESTION!I143,\" \")","v":0},{"$f":"IFERROR(GESTION!J143,\" \")","v":0},null,""]
[null,null,null,null,{"$f":"IFERROR(GESTION!H144,\" \")","v":0},{"$f":"IFERROR(GESTION!I144,\" \")","v":0},{"$f":"IFERROR(GESTION!J144,\" \")","v":0},null,""]
[null,null,null,null,{"$f":"IFERROR(GESTION!H145,\" \")","v":0},{"$f":"IFERROR(GESTION!I145,\" \")","v":0},{"$f":"IFERROR(GESTION!J145,\" \")","v":0},null,""]
[null,null,"4. Aumentar la confianza, la cercanía y acceso a los servicios de la Rama Judicial a través, entre otros, de una comunicación clara y asertiva con la ciudadanía.","3. Fomentar la transparencia y la participación generando lineamientos y promoviendo la rendición de cuentas ,la consulta, reporte y planteamiento de inquietudes en relación con las decisiones y aspectos del SIGCMA.",{"$f":"IFERROR(GESTION!H146,\" \")","v":0},{"$f":"IFERROR(GESTION!I146,\" \")","v":0},{"$f":"IFERROR(GESTION!J146,\" \")","v":0},null,""]
[null,null,null,null,{"$f":"IFERROR(GESTION!H147,\" \")","v":0},{"$f":"IFERROR(GESTION!I147,\" \")","v":0},{"$f":"IFERROR(GESTION!J147,\" \")","v":0},null,""]
[null,null,null,null,{"$f":"IFERROR(GESTION!H148,\" \")","v":0},{"$f":"IFERROR(GESTION!I148,\" \")","v":0},{"$f":"IFERROR(GESTION!J148,\" \")","v":0},null,""]
[null,null,null,null,{"$f":"IFERROR(GESTION!H149,\" \")","v":0},{"$f":"IFERROR(GESTION!I149,\" \")","v":0},{"$f":"IFERROR(GESTION!J149,\" \")","v":0},null,""]
[null,null,null,null,{"$f":"IFERROR(GESTION!H150,\" \")","v":0},{"$f":"IFERROR(GESTION!I150,\" \")","v":0},{"$f":"IFERROR(GESTION!J150,\" \")","v":0},null,""]
[null,null,null,null,{"$f":"IFERROR(GESTION!H151,\" \")","v":0},{"$f":"IFERROR(GESTION!I151,\" \")","v":0},{"$f":"IFERROR(GESTION!J151,\" \")","v":0},null,""]
[null,null,null,null,{"$f":"IFERROR(GESTION!H152,\" \")","v":0},{"$f":"IFERROR(GESTION!I152,\" \")","v":0},{"$f":"IFERROR(GESTION!J152,\" \")","v":0},null,""]
[null,null,null,null,{"$f":"IFERROR(GESTION!H153,\" \")","v":0},{"$f":"IFERROR(GESTION!I153,\" \")","v":0},{"$f":"IFERROR(GESTION!J153,\" \")","v":0},null,""]
[null,null,null,null,{"$f":"IFERROR(GESTION!H154,\" \")","v":0},{"$f":"IFERROR(GESTION!I154,\" \")","v":0},{"$f":"IFERROR(GESTION!J154,\" \")","v":0},null,""]
[null,null,null,null,{"$f":"IFERROR(GESTION!H155,\" \")","v":0},{"$f":"IFERROR(GESTION!I155,\" \")","v":0},{"$f":"IFERROR(GESTION!J155,\" \")","v":0},null,""]
[null,null,"5. Prevenir fenómenos asociados con actos de corrupción en la Rama Judicial y reducir las experiencias de corrupción de usuarios y servidores judiciales.",null,{"$f":"IFERROR(GESTION!H156,\" \")","v":0},{"$f":"IFERROR(GESTION!I156,\" \")","v":0},{"$f":"IFERROR(GESTION!J156,\" \")","v":0},null,""]
[null,null,null,null,{"$f":"IFERROR(GESTION!H157,\" \")","v":0},{"$f":"IFERROR(GESTION!I157,\" \")","v":0},{"$f":"IFERROR(GESTION!J157,\" \")","v":0},null,""]
[null,null,null,null,{"$f":"IFERROR(GESTION!H158,\" \")","v":0},{"$f":"IFERROR(GESTION!I158,\" \")","v":0},{"$f":"IFERROR(GESTION!J158,\" \")","v":0},null,""]
[null,null,null,null,{"$f":"IFERROR(GESTION!H159,\" \")","v":0},{"$f":"IFERROR(GESTION!I159,\" \")","v":0},{"$f":"IFERROR(GESTION!J159,\" \")","v":0},null,""]
[null,null,null,null,{"$f":"IFERROR(GESTION!H160,\" \")","v":0},{"$f":"IFERROR(GESTION!I160,\" \")","v":0},{"$f":"IFERROR(GESTION!J160,\" \")","v":0},null,""]
[null,null,null,null,{"$f":"IFERROR(GESTION!H161,\" \")","v":0},{"$f":"IFERROR(GESTION!I161,\" \")","v":0},{"$f":"IFERROR(GESTION!J161,\" \")","v":0},null,""]
[null,null,null,null,{"$f":"IFERROR(GESTION!H162,\" \")","v":0},{"$f":"IFERROR(GESTION!I162,\" \")","v":0},{"$f":"IFERROR(GESTION!J162,\" \")","v":0},null,""]
[null,null,null,null,{"$f":"IFERROR(GESTION!H163,\" \")","v":0},{"$f":"IFERROR(GESTION!I163,\" \")","v":0},{"$f":"IFERROR(GESTION!J163,\" \")","v":0},null,""]
[null,null,null,null,{"$f":"IFERROR(GESTION!H164,\" \")","v":0},{"$f":"IFERROR(GESTION!I164,\" \")","v":0},{"$f":"IFERROR(GESTION!J164,\" \")","v":0},null,""]
[null,null,null,null,{"$f":"IFERROR(GESTION!H165,\" \")","v":0},{"$f":"IFERROR(GESTION!I165,\" \")","v":0},{"$f":"IFERROR(GESTION!J165,\" \")","v":0},null,""]
[null,null,"6. Promover la rendición de cuentas y la colaboración real con la ciudadanía como fundamento para diseñar acciones de mejoramiento del acceso a la justicia.",null,{"$f":"IFERROR(GESTION!H166,\" \")","v":0},{"$f":"IFERROR(GESTION!I166,\" \")","v":0},{"$f":"IFERROR(GESTION!J166,\" \")","v":0},null,""]
[null,null,null,null,{"$f":"IFERROR(GESTION!H167,\" \")","v":0},{"$f":"IFERROR(GESTION!I167,\" \")","v":0},{"$f":"IFERROR(GESTION!J167,\" \")","v":0},null,""]
[null,null,null,null,{"$f":"IFERROR(GESTION!H168,\" \")","v":0},{"$f":"IFERROR(GESTION!I168,\" \")","v":0},{"$f":"IFERROR(GESTION!J168,\" \")","v":0},null,""]
[null,null,null,null,{"$f":"IFERROR(GESTION!H169,\" \")","v":0},{"$f":"IFERROR(GESTION!I169,\" \")","v":0},{"$f":"IFERROR(GESTION!J169,\" \")","v":0},null,""]
[null,null,null,null,{"$f":"IFERROR(GESTION!H170,\" \")","v":0},{"$f":"IFERROR(GESTION!I170,\" \")","v":0},{"$f":"IFERROR(GESTION!J170,\" \")","v":0},null,""]
[null,null,null,null,{"$f":"IFERROR(GESTION!H171,\" \")","v":0},{"$f":"IFERROR(GESTION!I171,\" \")","v":0},{"$f":"IFERROR(GESTION!J171,\" \")","v":0},null,""]
[null,null,null,null,{"$f":"IFERROR(GESTION!H172,\" \")","v":0},{"$f":"IFERROR(GESTION!I172,\" \")","v":0},{"$f":"IFERROR(GESTION!J172,\" \")","v":0},null,""]
[null,null,null,null,{"$f":"IFERROR(GESTION!H173,\" \")","v":0},{"$f":"IFERROR(GESTION!I173,\" \")","v":0},{"$f":"IFERROR(GESTION!J173,\" \")","v":0},null,""]
[null,null,null,null,{"$f":"IFERROR(GESTION!H174,\" \")","v":0},{"$f":"IFERROR(GESTION!I174,\" \")","v":0},{"$f":"IFERROR(GESTION!J174,\" \")","v":0},null,""]
[null,null,null,null,{"$f":"IFERROR(GESTION!H175,\" \")","v":0},{"$f":"IFERROR(GESTION!I175,\" \")","v":0},{"$f":"IFERROR(GESTION!J175,\" \")","v":0},null,""]
[null,null,"7. Continuar la consolidación del SIGCMA, a través de los procesos de formación en modelos de gestión, logrando la implementación y ampliación de este en los esquemas certificados de manera gradual, teniendo en cuenta las capacidades de los diferentes despachos judiciales y dependencias de la Rama Judicial y articulando el enfoque de Arquitectura Empresarial para el desarrollo del PETD a través de la gestión del conocimiento para la gestión del cambio propendiendo por una cultura de la calidad, la transparencia, la rendición de cuentas, la anticorrupción y el antisoborno","1. Gestionar el desarrollo de las competencias, la toma de conciencia , la cultura  organizacional  y el compromiso de los  servidores judiciales, contratistas, practicantes y  judicantes de contribuir a generar valor público en la administración de justicia, en el marco de  cumplimiento de los requisitos  aplicables y el comportamiento ético.\n4. Hacer un uso racional de los recursos naturales aplicando los principios y fases de la Economía Circular, para prevenir, mitigar y controlar los impactos ambientales.",{"$f":"IFERROR(GESTION!H176,\" \")","v":0},{"$f":"IFERROR(GESTION!I176,\" \")","v":0},{"$f":"IFERROR(GESTION!J176,\" \")","v":0},null,""]
[null,null,null,null,{"$f":"IFERROR(GESTION!H177,\" \")","v":0},{"$f":"IFERROR(GESTION!I177,\" \")","v":0},{"$f":"IFERROR(GESTION!J177,\" \")","v":0},null,""]
[null,null,null,null,{"$f":"IFERROR(GESTION!H178,\" \")","v":0},{"$f":"IFERROR(GESTION!I178,\" \")","v":0},{"$f":"IFERROR(GESTION!J178,\" \")","v":0},null,""]
[null,null,null,null,{"$f":"IFERROR(GESTION!H179,\" \")","v":0},{"$f":"IFERROR(GESTION!I179,\" \")","v":0},{"$f":"IFERROR(GESTION!J179,\" \")","v":0},null,""]
[null,null,null,null,{"$f":"IFERROR(GESTION!H180,\" \")","v":0},{"$f":"IFERROR(GESTION!I180,\" \")","v":0},{"$f":"IFERROR(GESTION!J180,\" \")","v":0},null,""]
[null,null,null,null,{"$f":"IFERROR(GESTION!H181,\" \")","v":0},{"$f":"IFERROR(GESTION!I181,\" \")","v":0},{"$f":"IFERROR(GESTION!J181,\" \")","v":0},null,""]
[null,null,null,null,{"$f":"IFERROR(GESTION!H182,\" \")","v":0},{"$f":"IFERROR(GESTION!I182,\" \")","v":0},{"$f":"IFERROR(GESTION!J182,\" \")","v":0},null,""]
[null,null,null,null,{"$f":"IFERROR(GESTION!H183,\" \")","v":0},{"$f":"IFERROR(GESTION!I183,\" \")","v":0},{"$f":"IFERROR(GESTION!J183,\" \")","v":0},null,""]
[null,null,null,null,{"$f":"IFERROR(GESTION!H184,\" \")","v":0},{"$f":"IFERROR(GESTION!I184,\" \")","v":0},{"$f":"IFERROR(GESTION!J184,\" \")","v":0},null,""]
[null,null,null,null,{"$f":"IFERROR(GESTION!H185,\" \")","v":0},{"$f":"IFERROR(GESTION!I185,\" \")","v":0},{"$f":"IFERROR(GESTION!J185,\" \")","v":0},null,""]
["4. Talento Humano","Talento Humano: Fortalecer el talento humano en la Rama Judicial para que sea eficiente, capacitado y realice su labor en ambientes saludables y seguros. Ampliar la cobertura de la carrera judicial y mejorar la oferta de formación, que esté disponible para todos los servidores judiciales e impacte positivamente el servicio de justicia y responda a las necesidades reales del ejercicio de la función judicial.","1. Ampliar la cobertura de la carrera judicial optimizando los procesos de los concursos de méritos y propender por mitigar su litigiosidad.","1. Gestionar el desarrollo de las competencias, la toma de conciencia , la cultura  organizacional  y el compromiso de los  servidores judiciales, contratistas, practicantes y  judicantes de contribuir a generar valor público en la administración de justicia, en el marco de  cumplimiento de los requisitos  aplicables y el comportamiento ético.",{"$f":"IFERROR(GESTION!H186,\" \")","v":"Plan de necesidades de formación Judicial"},{"$f":"IFERROR(GESTION!I186,\" \")","v":"Entregable"},{"$f":"IFERROR(GESTION!J186,\" \")","v":0},null,"",null,"Despés de ingresar periodicamente al sitio web de la EJRLB, se puede evidenciar que el Plan de necesidades de formación judicial fue publicado después del 24 mayo de 2023, fecha en la que se hizo la última revisión y no se encontró este documento en el módulo destinado para el mismo. Así las cosas ya se cuenta con un Plan de Necesidades de formación judicial 2023-2024.\n","Plan de Necesidades de Formación Judicial:\n\nhttps://etbcsj-my.sharepoint.com/:f:/g/personal/sacsma_cendoj_ramajudicial_gov_co/EjTKlS5ZEWtLrQ8DBLXUVhsBB0CzjAolxHmPbhHmi_txZg?e=EN7CId \n\n"]
[null,null,null,null,{"$f":"IFERROR(GESTION!H187,\" \")","v":"Realizar seguimiento a los eventos programados  por la EJRLB en la seccional."},{"$f":"IFERROR(GESTION!I187,\" \")","v":"Entregable"},{"$f":"IFERROR(GESTION!J187,\" \")","v":0},null,"","El Plan de Necesidades de formación fue publicado despues del 24 de mato y así mismo los cursos iniciaron a partir del 15 de junio.","Se recibe correo de la EJRLB informando el inicio de la oferta académica virtual con inscripciones permanentes durante el segundo semestre del 2023, de acuerdo a la demanda que se presente y con base en los cupos disponibles. El inicio de estas inscripciones sería a patir del 15 de junio,donde el tiempo mínimo de culminación del curso con menor intensidad horaria es de 30 días calendario.Por esta razón, no es posible contar con la información que nos permita validar el nivel de participación.","Participación Cursos EJRLB:\n\nhttps://etbcsj-my.sharepoint.com/:f:/g/personal/sacsma_cendoj_ramajudicial_gov_co/EoIXKKHZCCpAgqqLrxfUqc4BC_SpyFV_nloYQqCdg-z7PQ?e=6WUQSR \n"]
[null,null,null,null,{"$f":"IFERROR(GESTION!H188,\" \")","v":"Difundir y divulgar la oferta académica"},{"$f":"IFERROR(GESTION!I188,\" \")","v":"Entregable"},{"$f":"IFERROR(GESTION!J188,\" \")","v":0},null,"",null,"el 09 de junio se recibe correo elect´ronico de la EJRLB anunciando el inicio de sus cursos. Este correo es reenviado a través del sacsma (Correo del Consejo Seccional de la Judicatura de Caldas) días despés con la intención de reforzar la promoción de las inscripciones. Así mismo, se anunció por los altavoces del Palacio de Justicia Fanny Gonzalez Franco, la disponibilidad de esta oferta acuademica, sobre la cual podrían tener información mas detallada en el correo que se menciona anteriormente. ","Divulgación oferta cadémica EJRLB:\n\nhttps://etbcsj-my.sharepoint.com/:f:/g/personal/sacsma_cendoj_ramajudicial_gov_co/Et8qWkbES-ROh7iCLyHm1P8BB-pRRpq1TtM0_7cHhcxiqw?e=gtntMW "]
[null,null,null,null,{"$f":"IFERROR(GESTION!H189,\" \")","v":"Realizar reuniones con el Grupo Seccional de Apoyo"},{"$f":"IFERROR(GESTION!I189,\" \")","v":"Entregable"},{"$f":"IFERROR(GESTION!J189,\" \")","v":0},null,"",null,"Durante el primer semestre del año 2023 se hizo una reunión con el grupo seccional de apoyo.","Acta Reunión Grupo Seccional de Apoyo:\nhttps://etbcsj-my.sharepoint.com/:w:/g/personal/sacsma_cendoj_ramajudicial_gov_co/Eb4yKtzN9plEuMJoLpI5ZYsBdxruFPBVZshCSMkStb-JfQ?e=N53vol "]
[null,null,null,null,{"$f":"IFERROR(GESTION!H190,\" \")","v":"Realizar jornadas de capacitación, divulgación y/o verificación de temas relacionados con el SIGCMA"},{"$f":"IFERROR(GESTION!I190,\" \")","v":"Entregable"},{"$f":"IFERROR(GESTION!J190,\" \")","v":0},null,"",null,"Según el Plan de habilidades del año 2023, durante el segunto trimestre del año se tenía programada la socialización sobre el funcionamiento del Sistema de Gestión Ambiental en las Sedes Judiciales de Manizales. Esta se realizó se realizó el 26 de mayo de 2023.","Acciones de Información Rendición de Cuentas 2023\n\nhttps://etbcsj-my.sharepoint.com/:f:/g/personal/sacsma_cendoj_ramajudicial_gov_co/EjlZWVNBfw9PmSr2IszqKVEBCT10edaewXq9bUnn8HPsTQ?e=mrCWwb "]
[null,null,null,null,{"$f":"IFERROR(GESTION!H191,\" \")","v":"Socializar las políticas ambientales de la entidad y sensibilizar acerca de las mismas"},{"$f":"IFERROR(GESTION!I191,\" \")","v":"Entregable"},{"$f":"IFERROR(GESTION!J191,\" \")","v":0},null,"",null,"Según el Plan de habilidades del año 2023, durante el segunto trimestre del año se tenía programada la socialización sobre el funcionamiento del Sistema de Gestión Ambienta,l en las Sedes Judiciales de Manizales. Esta se realizó s el 26 de mayo de 2023.","Acciones de Información Rendición de Cuentas 2023\n\nhttps://etbcsj-my.sharepoint.com/:f:/g/personal/sacsma_cendoj_ramajudicial_gov_co/EjlZWVNBfw9PmSr2IszqKVEBCT10edaewXq9bUnn8HPsTQ?e=mrCWwb "]
[null,null,null,null,{"$f":"IFERROR(GESTION!H192,\" \")","v":"Solicitar apoyo al CENDOJ para realización de capacitaciones en tablas de retención documental (TRD)"},{"$f":"IFERROR(GESTION!I192,\" \")","v":"Entregable"},{"$f":"IFERROR(GESTION!J192,\" \")","v":0},null,"","Teniendo en cuenta que el enfoque de la capacitación fue general y que en ella intervinieron algunos despachos judiciales, se programa la realización de una solicitud enfocada en las TRD del Consejo y la Dirección Seccional","El 19/04/2023 se llevó a cabo la capacitación en el manejo de tablas de retención documental a todos los servidores judiciales del Distrito, solicitada en el mes de marzo","Grabación  Capacitación:\n\nhttps://etbcsj-my.sharepoint.com/personal/asis4ofjudmzl_cendoj_ramajudicial_gov_co/_layouts/15/stream.aspx?id=%2Fpersonal%2Fasis4ofjudmzl%5Fcendoj%5Framajudicial%5Fgov%5Fco%2FDocuments%2FCapacitaci%C3%B3n%20Gesti%C3%B3n%20Documental%2FCapacitacion%20Gestion%20Documental%2D20230419%5F091253%2DGrabaci%C3%B3n%20de%20la%20reuni%C3%B3n%2Emp4&referrer=OneDriveForBusiness&referrerScenario=OpenFile\n"]
[null,null,null,null,{"$f":"IFERROR(GESTION!H193,\" \")","v":"Lista de elegibles"},{"$f":"IFERROR(GESTION!I193,\" \")","v":"Entregable"},{"$f":"IFERROR(GESTION!J193,\" \")","v":0},null,"",null,"Durante el segundo trimestre del año 2023, se elaboraron 17 acuerdos de listas de elegibles (2 de los cuales modificaron acuerdos anteriores), realizando las siguientes actividades:\n\n1. Publicación de opciones de sede: total 29 cargos durante el segundo trimestre (10 en abril, 13 en mayo y 6 en junio)\n\n2. Recepción de formatos de opción de sede: 79 opciones de sede, así: Abril 16 (6 Relator, 4 Secretario Juz. Municipal, 6 Escribiente Juz. Circuito), Mayo 55 (17 oficial mayor Cto, 10 Escribiente Juz. cto, 6 Secretario Juz. Cto, 4 Secretario Juz. Mpal, 4 Escribiente Juz. Mpal, 14 Citador Juz. Mpal)  y en junio 8 (3 Secretario Juz. Cto, 5 Escribiente Mpal de Centro).\n\n3. Consolidación y remisión al nominador de la lista de elegibles: se consolidaron 15 y se enviaron a los nominadores 7 acuerdos con lista de elegibles (los restantes,  no se remiten durante este periodo por encontrarse pendiente de resolver solicitud de traslado de servidor en carrera). Del primer trimestre de 2023 se enviaron 10 acuerdos con listas de elegibles, quedando pendientes 10 acuerdos (2 de 2022 por recursos pendientes por resolver en Bogotá y 8 acuerdo del primer semestre de 2023 con recursos de traslados)","1, Opciones de sede: \nhttps://www.ramajudicial.gov.co/web/consejo-seccional-de-la-judicatura-de-caldas/formato-opcion-de-sede3\n\n2, Formatos Opcion de sede recibidos: \nhttps://etbcsj-my.sharepoint.com/:f:/g/personal/sacsma_cendoj_ramajudicial_gov_co/EjR2UCGG6OVKglKd4FaBj_ABByUPL9jEuuo-kO55AUpOKg?e=BKGmf8 \n\n3. Consolidación y remisión de Listas de elegibles: \nhttps://etbcsj-my.sharepoint.com/:f:/g/personal/sacsma_cendoj_ramajudicial_gov_co/EjR2UCGG6OVKglKd4FaBj_ABByUPL9jEuuo-kO55AUpOKg?e=BKGmf8 "]
[null,null,null,null,{"$f":"IFERROR(GESTION!H194,\" \")","v":"Registro de elegibles"},{"$f":"IFERROR(GESTION!I194,\" \")","v":"Entregable"},{"$f":"IFERROR(GESTION!J194,\" \")","v":0},null,"",null,"Durante el segundo trimestre del año 2023 se posesionaron 7 aspirantes de la convocatoria 4.\n2 Hombres y 5 Mujeres en los siguientes cargos:\n\n1 Asistente Juridico de JEPMS  \n1 Citador Juz. cto\n1 Escribiente Juz Cto\n1 Relator Tribunal\n1 Oficial mayor Juz. Cto\n1 Secretario Juz. Mpal\n1 Profesional Univ. Juz. Administrativo\n\n\nSe publicaron 7 actualizaciones del registro de elegibles, así, abril 1, mayo 5 y junio 1.","1, Consolidado Gral Registro de Elegibles.\nhttps://etbcsj-my.sharepoint.com/:f:/g/personal/sacsma_cendoj_ramajudicial_gov_co/Eqqp0EN0w7RDj9SQESSCej0B0V5G_B-dFtT0Tx2vuEvCWg?e=gSOCeq\n\n2, Actualización del Registro de Elegibles:\n\nhttps://etbcsj-my.sharepoint.com/:f:/g/personal/sacsma_cendoj_ramajudicial_gov_co/Et6Kg5mOUDpHuWIqV6j-V68B1DExVlYK6e0Ll4HnQDaGnA?e=qRBSYx"]
[null,null,null,null,{"$f":"IFERROR(GESTION!H195,\" \")","v":"Proyectar conceptos a las solicitudes de traslados"},{"$f":"IFERROR(GESTION!I195,\" \")","v":"Entregable"},{"$f":"IFERROR(GESTION!J195,\" \")","v":0},null,"",null,"Durante el segundo trimestre del año 2023, se presentaron y se resolvieron 25 solicitudes de traslado, para lo cual se desarrollaron las siguientes actividades:\n\n - Recepción de solicitudes de traslado: (25) solicitudes de traslado enviadas por servidores de carrera.\n\n -  Solicitud de traslado: se emitieron (16) conceptos de traslado favorables y (9) desfavorables.\n\n - Notificación de concepto favorable o desfavorable de traslado al servidor judicial: se remitieron 25 Resoluciones de traslado expedidas por esta Corporación, a los servidores Judiciales. Están pendientes por remitir a los nominadores 11 resoluciones de traslado, por encontrarse pendiente por resolver recursos (reposición y/o apelación)","Conceptos Solicitudes de Traslados:\n\nhttps://etbcsj-my.sharepoint.com/:f:/g/personal/sacsma_cendoj_ramajudicial_gov_co/Ekp3LvJjML1Dkz8l62zoVtABuDZs7jj76G9G-V6BNxi3JQ?e=q0ba8S"]
[null,null,"2. Impactar la función y servicios que presta la Rama Judicial, a través de una formación integral desde una visión de gestión del conocimiento, relacionada con los problemas de la justicia y los problemas de gestión de quienes administran los recursos de la justicia, y potenciando el uso de medios virtuales.",null,{"$f":"IFERROR(GESTION!H196,\" \")","v":0},{"$f":"IFERROR(GESTION!I196,\" \")","v":0},{"$f":"IFERROR(GESTION!J196,\" \")","v":0},null,""]
[null,null,null,null,{"$f":"IFERROR(GESTION!H197,\" \")","v":0},{"$f":"IFERROR(GESTION!I197,\" \")","v":0},{"$f":"IFERROR(GESTION!J197,\" \")","v":0},null,""]
[null,null,null,null,{"$f":"IFERROR(GESTION!H198,\" \")","v":0},{"$f":"IFERROR(GESTION!I198,\" \")","v":0},{"$f":"IFERROR(GESTION!J198,\" \")","v":0},null,{"$f":"IFERROR(H198/G198,\"\")","v":""}]
[null,null,null,null,{"$f":"IFERROR(GESTION!H199,\" \")","v":0},{"$f":"IFERROR(GESTION!I199,\" \")","v":0},{"$f":"IFERROR(GESTION!J199,\" \")","v":0},null,""]
[null,null,null,null,{"$f":"IFERROR(GESTION!H200,\" \")","v":0},{"$f":"IFERROR(GESTION!I200,\" \")","v":0},{"$f":"IFERROR(GESTION!J200,\" \")","v":0},null,""]
[null,null,null,null,{"$f":"IFERROR(GESTION!H201,\" \")","v":0},{"$f":"IFERROR(GESTION!I201,\" \")","v":0},{"$f":"IFERROR(GESTION!J201,\" \")","v":0},null,""]
[null,null,null,null,{"$f":"IFERROR(GESTION!H202,\" \")","v":0},{"$f":"IFERROR(GESTION!I202,\" \")","v":0},{"$f":"IFERROR(GESTION!J202,\" \")","v":0},null,""]
[null,null,null,null,{"$f":"IFERROR(GESTION!H203,\" \")","v":0},{"$f":"IFERROR(GESTION!I203,\" \")","v":0},{"$f":"IFERROR(GESTION!J203,\" \")","v":0},null,""]
[null,null,null,null,{"$f":"IFERROR(GESTION!H204,\" \")","v":0},{"$f":"IFERROR(GESTION!I204,\" \")","v":0},{"$f":"IFERROR(GESTION!J204,\" \")","v":0},null,""]
[null,null,null,null,{"$f":"IFERROR(GESTION!H205,\" \")","v":0},{"$f":"IFERROR(GESTION!I205,\" \")","v":0},{"$f":"IFERROR(GESTION!J205,\" \")","v":0},null,""]
[null,null,"3. Promover la incorporación de la perspectiva de género y el enfoque diferencial en los fallos judiciales y en la atención a los ciudadanos, la administración de la Rama Judicial, la administración de la carrera judicial y la elaboración de listas para altas Cortes. ",null,{"$f":"IFERROR(GESTION!H206,\" \")","v":0},{"$f":"IFERROR(GESTION!I206,\" \")","v":0},{"$f":"IFERROR(GESTION!J206,\" \")","v":0},null,""]
[null,null,null,null,{"$f":"IFERROR(GESTION!H207,\" \")","v":0},{"$f":"IFERROR(GESTION!I207,\" \")","v":0},{"$f":"IFERROR(GESTION!J207,\" \")","v":0},null,""]
[null,null,null,null,{"$f":"IFERROR(GESTION!H208,\" \")","v":0},{"$f":"IFERROR(GESTION!I208,\" \")","v":0},{"$f":"IFERROR(GESTION!J208,\" \")","v":0},null,""]
[null,null,null,null,{"$f":"IFERROR(GESTION!H209,\" \")","v":0},{"$f":"IFERROR(GESTION!I209,\" \")","v":0},{"$f":"IFERROR(GESTION!J209,\" \")","v":0},null,""]
[null,null,null,null,{"$f":"IFERROR(GESTION!H210,\" \")","v":0},{"$f":"IFERROR(GESTION!I210,\" \")","v":0},{"$f":"IFERROR(GESTION!J210,\" \")","v":0},null,""]
[null,null,null,null,{"$f":"IFERROR(GESTION!H211,\" \")","v":0},{"$f":"IFERROR(GESTION!I211,\" \")","v":0},{"$f":"IFERROR(GESTION!J211,\" \")","v":0},null,""]
[null,null,null,null,{"$f":"IFERROR(GESTION!H212,\" \")","v":0},{"$f":"IFERROR(GESTION!I212,\" \")","v":0},{"$f":"IFERROR(GESTION!J212,\" \")","v":0},null,""]
[null,null,null,null,{"$f":"IFERROR(GESTION!H213,\" \")","v":0},{"$f":"IFERROR(GESTION!I213,\" \")","v":0},{"$f":"IFERROR(GESTION!J213,\" \")","v":0},null,""]
[null,null,null,null,{"$f":"IFERROR(GESTION!H214,\" \")","v":0},{"$f":"IFERROR(GESTION!I214,\" \")","v":0},{"$f":"IFERROR(GESTION!J214,\" \")","v":0},null,""]
[null,null,null,null,{"$f":"IFERROR(GESTION!H215,\" \")","v":0},{"$f":"IFERROR(GESTION!I215,\" \")","v":0},{"$f":"IFERROR(GESTION!J215,\" \")","v":0},null,""]
[null,null,"4. Desarrollar en los servidores judiciales y demás grupos de valor relevantes las competencias necesarias para la efectividad de la transformación digital de modo que puedan, entre otros, utilizar con solvencia las herramientas digitales dispuestas para sus respectivas funciones. Además, fortalecer y actualizar los conocimientos del personal a cargo de la gestión de proyectos de tecnología.",null,{"$f":"IFERROR(GESTION!H216,\" \")","v":0},{"$f":"IFERROR(GESTION!I216,\" \")","v":0},{"$f":"IFERROR(GESTION!J216,\" \")","v":0},null,""]
[null,null,null,null,{"$f":"IFERROR(GESTION!H217,\" \")","v":0},{"$f":"IFERROR(GESTION!I217,\" \")","v":0},{"$f":"IFERROR(GESTION!J217,\" \")","v":0},null,""]
[null,null,null,null,{"$f":"IFERROR(GESTION!H218,\" \")","v":0},{"$f":"IFERROR(GESTION!I218,\" \")","v":0},{"$f":"IFERROR(GESTION!J218,\" \")","v":0},null,""]
[null,null,null,null,{"$f":"IFERROR(GESTION!H219,\" \")","v":0},{"$f":"IFERROR(GESTION!I219,\" \")","v":0},{"$f":"IFERROR(GESTION!J219,\" \")","v":0},null,""]
[null,null,null,null,{"$f":"IFERROR(GESTION!H220,\" \")","v":0},{"$f":"IFERROR(GESTION!I220,\" \")","v":0},{"$f":"IFERROR(GESTION!J220,\" \")","v":0},null,""]
[null,null,null,null,{"$f":"IFERROR(GESTION!H221,\" \")","v":0},{"$f":"IFERROR(GESTION!I221,\" \")","v":0},{"$f":"IFERROR(GESTION!J221,\" \")","v":0},null,""]
[null,null,null,null,{"$f":"IFERROR(GESTION!H222,\" \")","v":0},{"$f":"IFERROR(GESTION!I222,\" \")","v":0},{"$f":"IFERROR(GESTION!J222,\" \")","v":0},null,""]
[null,null,null,null,{"$f":"IFERROR(GESTION!H223,\" \")","v":0},{"$f":"IFERROR(GESTION!I223,\" \")","v":0},{"$f":"IFERROR(GESTION!J223,\" \")","v":0},null,""]
[null,null,null,null,{"$f":"IFERROR(GESTION!H224,\" \")","v":0},{"$f":"IFERROR(GESTION!I224,\" \")","v":0},{"$f":"IFERROR(GESTION!J224,\" \")","v":0},null,""]
[null,null,null,null,{"$f":"IFERROR(GESTION!H225,\" \")","v":0},{"$f":"IFERROR(GESTION!I225,\" \")","v":0},{"$f":"IFERROR(GESTION!J225,\" \")","v":0},null,""]
[null,null,"5. Promover el bienestar de todos los servidores judiciales a través de la implementación de un sistema que contemple los diferentes niveles de estrategias y acciones necesarios para mejorar el clima laboral, la salud física y mental y la calidad del tiempo de descanso.","5. Generar espacios de trabajo seguros y saludables que contribuyan a minimizar los  incidentes, accidentes y enfermedades laborales derivados de las condiciones y actos  inseguros y fomentar  el autocuidado, los  estilos de vida y el trabajo saludable en los servidores judiciales, contratistas, judicantes y practicantes",{"$f":"IFERROR(GESTION!H226,\" \")","v":0},{"$f":"IFERROR(GESTION!I226,\" \")","v":0},{"$f":"IFERROR(GESTION!J226,\" \")","v":0},null,""]
[null,null,null,null,{"$f":"IFERROR(GESTION!H227,\" \")","v":0},{"$f":"IFERROR(GESTION!I227,\" \")","v":0},{"$f":"IFERROR(GESTION!J227,\" \")","v":0},null,""]
[null,null,null,null,{"$f":"IFERROR(GESTION!H228,\" \")","v":0},{"$f":"IFERROR(GESTION!I228,\" \")","v":0},{"$f":"IFERROR(GESTION!J228,\" \")","v":0},null,""]
[null,null,null,null,{"$f":"IFERROR(GESTION!H229,\" \")","v":0},{"$f":"IFERROR(GESTION!I229,\" \")","v":0},{"$f":"IFERROR(GESTION!J229,\" \")","v":0},null,""]
[null,null,null,null,{"$f":"IFERROR(GESTION!H230,\" \")","v":0},{"$f":"IFERROR(GESTION!I230,\" \")","v":0},{"$f":"IFERROR(GESTION!J230,\" \")","v":0},null,""]
[null,null,null,null,{"$f":"IFERROR(GESTION!H231,\" \")","v":0},{"$f":"IFERROR(GESTION!I231,\" \")","v":0},{"$f":"IFERROR(GESTION!J231,\" \")","v":0},null,""]
[null,null,null,null,{"$f":"IFERROR(GESTION!H232,\" \")","v":0},{"$f":"IFERROR(GESTION!I232,\" \")","v":0},{"$f":"IFERROR(GESTION!J232,\" \")","v":0},null,""]
[null,null,null,null,{"$f":"IFERROR(GESTION!H233,\" \")","v":0},{"$f":"IFERROR(GESTION!I233,\" \")","v":0},{"$f":"IFERROR(GESTION!J233,\" \")","v":0},null,""]
[null,null,null,null,{"$f":"IFERROR(GESTION!H234,\" \")","v":0},{"$f":"IFERROR(GESTION!I234,\" \")","v":0},{"$f":"IFERROR(GESTION!J234,\" \")","v":0},null,""]
[null,null,null,null,{"$f":"IFERROR(GESTION!H235,\" \")","v":0},{"$f":"IFERROR(GESTION!I235,\" \")","v":0},{"$f":"IFERROR(GESTION!J235,\" \")","v":0},null,""]
["5. Gobernanza, planeación estratégica y capacidad de toma de decisiones","Gobernanza, planeación estratégica y capacidad de toma de decisiones: Fortalecer la gobernanza, la planeación estratégica y la capacidad de toma de decisiones de la Rama Judicial con base en la evidencia empírica y la articulación efectiva con las demás entidades, para que la perspectiva de género y el enfoque diferencial sean transversales en el presente plan. ","1. Implementar un nuevo modelo integrado para la planeación estratégica, el seguimiento y la medición del desempeño institucional.","2. Asegurar  el cumplimiento de los objetivos institucionales, la normatividad aplicable,  la mejora del SIGCMA y la satisfacción de los usuarios, revisando de  forma continua y sistemática la planificación de la gestión y fortaleciendo la administración de riesgos y sus controles.",{"$f":"IFERROR(GESTION!H236,\" \")","v":"Hacer seguimiento a los planes de acción "},{"$f":"IFERROR(GESTION!I236,\" \")","v":"Entregable"},{"$f":"IFERROR(GESTION!J236,\" \")","v":0},null,"",null,"Se realizó la reunión de cierre SIGCMA del Consejo Seccional de la Judicatura de Caldas, correpondiente al segundo trimestre del año, en esta,se desarrollaron entre otros temas, el avance en la ejecución del Plan de Acción, los resultados de los Indicadores de Gestión, las acciones de gestión y los resultados de la audiotoría interna. Así mismo, se socializó con el grupo de trabajo el Manual del Icontec para el uso de sus logos, información que fue compartida a los correos institucionales para su aplicación.","Acta de Reunión de Cierre Segundo Trimestre:\n\nhttps://etbcsj-my.sharepoint.com/:f:/g/personal/sacsma_cendoj_ramajudicial_gov_co/En73j16o1QJJkX2NPA7O2QUBTBAUytm29K36O90qPC1Eig?e=1QJylD\n\n"]
[null,null,null,null,{"$f":"IFERROR(GESTION!H237,\" \")","v":"Realizar seguimiento al control de riesgos de los diferentes procesos"},{"$f":"IFERROR(GESTION!I237,\" \")","v":"Entregable"},{"$f":"IFERROR(GESTION!J237,\" \")","v":0},null,"",null,"No se han materializado riesgos"]
[null,null,null,null,{"$f":"IFERROR(GESTION!H238,\" \")","v":"Consolidar y analizar los indicadores de los procesos del SIGCMA"},{"$f":"IFERROR(GESTION!I238,\" \")","v":"Entregable"},{"$f":"IFERROR(GESTION!J238,\" \")","v":0},null,"",null,"Se realizó la reunión de cierre SIGCMA del Consejo Seccional de la Judicatura de Caldas, correpondiente al segundo trimestre del año, en esta,se desarrollaron entre otros temas, el avance en la ejecución del Plan de Acción, los resultados de los Indicadores de Gestión, las acciones de gestión y los resultados de la audiotoría interna. Así mismo, se socializó con el grupo de trabajo el Manual del Icontec para el uso de sus logos, información que fue compartida a los correos institucionales para su aplicación.","Acta de Reunión de Cierre Segundo Trimestre:\n\nhttps://etbcsj-my.sharepoint.com/:f:/g/personal/sacsma_cendoj_ramajudicial_gov_co/En73j16o1QJJkX2NPA7O2QUBTBAUytm29K36O90qPC1Eig?e=1QJylD\n\n"]
[null,null,null,null,{"$f":"IFERROR(GESTION!H239,\" \")","v":"Formular y tramitar las acciones de gestión (correctivas y preventivas)"},{"$f":"IFERROR(GESTION!I239,\" \")","v":"Entregable"},{"$f":"IFERROR(GESTION!J239,\" \")","v":0},null,"",null,"Durante el segundo trimestre, el Consejo Seccional de la Judicatura de Caldas implemento 2 acciones de mejora, la acción número 03-AC-CSJC-2023 y la 04-AC-CSJC-2023, las cuales se encuentran abiertas a la fecha ( 19 julio de 2023).","Listado Maestro de Acciones:\n\nhttps://etbcsj-my.sharepoint.com/:f:/g/personal/sacsma_cendoj_ramajudicial_gov_co/Eh2RkONN5NRPjv9fWxJblcgBbo6f0FJeuDmne8Yp-YW2jA?e=CLj1MS"]
[null,null,null,null,{"$f":"IFERROR(GESTION!H240,\" \")","v":"Coordinar la realización de auditorias internas y externas"},{"$f":"IFERROR(GESTION!I240,\" \")","v":"Entregable"},{"$f":"IFERROR(GESTION!J240,\" \")","v":0},null,"",null,"El 30 de junio de 2023, se recibió correo por parte del equipo auditor liderado por el Dr. Javier Alfonso Naranjo, quien solicitó la remisión de los docuemnteos correspondientes a las caracterizaciones e indicadores de las dependencias certificadas en la seccional. Lo anterior, como preparación de las auditorías internas de la Rama Judicial programadas para el 25 de julio de 2023.","Solicitud Información Auditría Interna:\n\nhttps://etbcsj-my.sharepoint.com/:f:/g/personal/sacsma_cendoj_ramajudicial_gov_co/EqRtK8rLTadGope3-nIzz2IBYj8ILzcxorJ32F54SJBF8Q?e=sINBZp"]
[null,null,null,null,{"$f":"IFERROR(GESTION!H241,\" \")","v":"Calificación integral de servicio - Funcionarios Judiciales"},{"$f":"IFERROR(GESTION!I241,\" \")","v":"Entregable"},{"$f":"IFERROR(GESTION!J241,\" \")","v":0},null,"",null,"Actividad con seguimiento anual, sin embargo, esta actividad ya esta siendo ejecutada y tiene un gran avance, esperando terminarse durante el mes de agosoto.","Calificación de Jueces año 2022\nhttps://etbcsj-my.sharepoint.com/:f:/g/personal/sacsma_cendoj_ramajudicial_gov_co/EutfCO4x3PhBqAXD8kzPhkEBDDo9BjRY_rjlZacaW0y-dg?e=YUV1eQ\n\nSICONSEC:\nhttp://190.217.24.24/sinsac/\n\nInforme de Calificaciones:\nhttps://etbcsj-my.sharepoint.com/:p:/g/personal/sacsma_cendoj_ramajudicial_gov_co/Ee64sCyzCsNHoMCGJcqars0B9oh4wEC0grvjnLK4CdAzhQ?e=PUTK6f "]
[null,null,null,null,{"$f":"IFERROR(GESTION!H242,\" \")","v":"Consolidación calificación integral de los empleados"},{"$f":"IFERROR(GESTION!I242,\" \")","v":"Entregable"},{"$f":"IFERROR(GESTION!J242,\" \")","v":0},null,"",null,"Actividad con seguimiento anual, sin embargo, esta actividad ya esta siendo ejecutada y tiene un gran avance, esperando terminarse durante el mes de agosoto.","Informe de Calificaciones:\nhttps://etbcsj-my.sharepoint.com/:f:/g/personal/sacsma_cendoj_ramajudicial_gov_co/Eshc1TnNnTJNgT3az7zKJZEBv3ev5mU3ILo4QaxRbWVubg?e=FqHtIH\n"]
[null,null,null,null,{"$f":"IFERROR(GESTION!H243,\" \")","v":0},{"$f":"IFERROR(GESTION!I243,\" \")","v":0},{"$f":"IFERROR(GESTION!J243,\" \")","v":0},null,""]
[null,null,null,null,{"$f":"IFERROR(GESTION!H244,\" \")","v":0},{"$f":"IFERROR(GESTION!I244,\" \")","v":0},{"$f":"IFERROR(GESTION!J244,\" \")","v":0},null,""]
[null,null,null,null,{"$f":"IFERROR(GESTION!H245,\" \")","v":0},{"$f":"IFERROR(GESTION!I245,\" \")","v":0},{"$f":"IFERROR(GESTION!J245,\" \")","v":0},null,""]
[null,null,"2. Definir e implementar el modelo optimizado de formulación, seguimiento y evaluación de la política pública judicial.",null,{"$f":"IFERROR(GESTION!H246,\" \")","v":0},{"$f":"IFERROR(GESTION!I246,\" \")","v":0},{"$f":"IFERROR(GESTION!J246,\" \")","v":0},null,""]
[null,null,null,null,{"$f":"IFERROR(GESTION!H247,\" \")","v":0},{"$f":"IFERROR(GESTION!I247,\" \")","v":0},{"$f":"IFERROR(GESTION!J247,\" \")","v":0},null,""]
[null,null,null,null,{"$f":"IFERROR(GESTION!H248,\" \")","v":0},{"$f":"IFERROR(GESTION!I248,\" \")","v":0},{"$f":"IFERROR(GESTION!J248,\" \")","v":0},null,""]
[null,null,null,null,{"$f":"IFERROR(GESTION!H249,\" \")","v":0},{"$f":"IFERROR(GESTION!I249,\" \")","v":0},{"$f":"IFERROR(GESTION!J249,\" \")","v":0},null,""]
[null,null,null,null,{"$f":"IFERROR(GESTION!H250,\" \")","v":0},{"$f":"IFERROR(GESTION!I250,\" \")","v":0},{"$f":"IFERROR(GESTION!J250,\" \")","v":0},null,""]
[null,null,null,null,{"$f":"IFERROR(GESTION!H251,\" \")","v":0},{"$f":"IFERROR(GESTION!I251,\" \")","v":0},{"$f":"IFERROR(GESTION!J251,\" \")","v":0},null,""]
[null,null,null,null,{"$f":"IFERROR(GESTION!H252,\" \")","v":0},{"$f":"IFERROR(GESTION!I252,\" \")","v":0},{"$f":"IFERROR(GESTION!J252,\" \")","v":0},null,""]
[null,null,null,null,{"$f":"IFERROR(GESTION!H253,\" \")","v":0},{"$f":"IFERROR(GESTION!I253,\" \")","v":0},{"$f":"IFERROR(GESTION!J253,\" \")","v":0},null,""]
[null,null,null,null,{"$f":"IFERROR(GESTION!H254,\" \")","v":0},{"$f":"IFERROR(GESTION!I254,\" \")","v":0},{"$f":"IFERROR(GESTION!J254,\" \")","v":0},null,""]
[null,null,null,null,{"$f":"IFERROR(GESTION!H255,\" \")","v":0},{"$f":"IFERROR(GESTION!I255,\" \")","v":0},{"$f":"IFERROR(GESTION!J255,\" \")","v":0},null,""]

{"sheet":"GESTION_SEG_1_TRIM","index":8,"n_rows":255,"n_cols":15,"rows_kept":255,"cut":false,"hidden":false,"merged":[[25,2,34,2],[25,3,34,3],[35,2,44,2],[35,3,44,3],[1,0,1,10],[2,0,2,3],[2,4,2,9],[2,10,4,10],[3,0,4,1],[3,2,4,2],[3,3,4,3],[3,4,3,9],[45,2,54,2],[45,3,54,3],[55,0,114,0],[55,1,114,1],[55,2,64,2],[55,3,114,3],[65,2,74,2],[75,2,84,2],[85,2,94,2],[95,2,104,2],[5,0,54,0],[5,1,54,1],[5,2,14,2],[5,3,14,3],[15,2,24,2],[15,3,24,3],[105,2,114,2],[115,0,184,0],[115,1,184,1],[115,2,124,2],[115,3,124,3],[125,2,134,2],[125,3,134,3],[135,2,144,2],[135,3,144,3],[145,2,154,2],[145,3,174,3],[155,2,164,2],[165,2,174,2],[175,2,184,2],[175,3,184,3],[205,2,214,2],[215,2,224,2],[225,2,234,2],[225,3,234,3],[235,0,254,0],[235,1,254,1],[235,2,244,2],[235,3,254,3],[245,2,254,2],[185,0,234,0],[185,1,234,1],[185,2,194,2],[185,3,224,3],[195,2,204,2]]}
[]
["CONSEJO SUPERIOR DE LA JUDICATURA \nUNIDADES MISIONALES DEL CONSEJO SUPERIOR DE LA JUDICATURA - \nDIRECCIÓN EJECUTIVA DE ADMINISTRACIÓN JUDICIAL - UNIDADES MISIONALES DE LA DEAJ\nDIRECCIONES SECCIONALES DE ADMINISTRACIÓN JUDICIAL - DEPENDENCIAS JUDICIALES CERTIFICADAS"]
["PLAN SECTORIAL DE DESARROLLO 2023-2026 - OBJETIVOS SIGCMA",null,null,null,null,null,null,null,null,null," ANÁLISIS RESULTADO"]
["OBJETIVO ESTRATÉGICO",null,"OBJETIVO ESPECÍFICO PSD","OBJETIVO ESPECÍFICO SIGCMA","MEDICIÓN DE LA GESTIÓN ANUAL"]
[null,null,null,null,"ACTIVIDADES ","INDIQUE SI ES ENTREGABLE O META CUANTIFICABLE","META ANUAL","AVANCE DE LA META ","NIVEL CUMPLIMIENTO","DIFICULTADES PARA LOGRAR LA META PROPUESTA"]
["1. Acceso e Infraestructura Física","Acceso e Infraestructura Física: Ampliar, en todo el territorio nacional, el acceso a una justicia efectiva, pronta, equitativa e incluyente, reduciendo el atraso y la congestión, de acuerdo con las necesidades de la demanda de justicia por jurisdicción y especialidad, y mejorando la articulación con la justicia restaurativa y terapéutica, y otros mecanismos de solución de conflictos y consolidando una infraestructura física óptima para el acceso a la justicia.","1. Ampliar el acceso a justicia para atender las necesidades jurídicas de los ciudadanos con un enfoque diferencial, de una manera pronta, reduciendo las inequidades y las brechas territoriales de acceso.","2. Asegurar  el cumplimiento de los objetivos institucionales, la normatividad aplicable,  la mejora del SIGCMA y la satisfacción de los usuarios, revisando de  forma continua y sistemática la planificación de la gestión y fortaleciendo la administración de riesgos y sus controles",{"$f":"IFERROR(GESTION!H6,\" \")","v":"Generar propuestas de reordenamiento para el mejoramiento de la administración de justciai"},{"$f":"IFERROR(GESTION!I6,\" \")","v":"Entregable"},{"$f":"IFERROR(GESTION!J6,\" \")","v":0},null,{"$f":"IFERROR(H6/G6,\"\")","v":""},null,"Durante el primer trimestre esta Corporación envió al Consejo Superior de la Judicatura dos proyectos de reordenamiento, así:\n\n1. Propuesta Radicado 2023-001:\nCon oficio CSJCAO23-238 se envía la propuesta con la que se busca  fortalecer la oferta de justicia en la Jurisdicción ordinaria del distrito judicial de Manizales, en respuesta a petición  de la UDAE con oficio UDAEO23-273, enero 09 de 2023”. En el presente proyecto se actualiza la propuesta  presentada en el documento 2022-007 de noviembre de  2022.\n\n2. Propuesta Radicado 2023-002:\nMediante oficio de febrero 17 del año en curso, se remitió a la UDAE proyecto de  reordenamiento judicial No. 2023-001 de la misma fecha, en respuesta al oficio UDAE\u000223-273 de enero 9 de 2023, en el que por la premura del tiempo, no fueron incluidos las \nnecesidades todas las necesidades  de esta seccional. \n\nPor lo anterior mediante oficio CSJCAO23- 281 de febrero 24, se envía propuesta de reordenamiento  solicitando la  creación de un cargo “escribiente” para la secretaria de la Sala Penal del Tribunal  Superior de Manizales, de carácter permanente, mientras ello sea posible de carácter  transitorio y  la creación, con carácter permanente, de un (1) cargo de Sustanciador para el juzgado  3 de ejecución de penas y medidas de seguridad.\n\n"]
[null,null,null,null,{"$f":"IFERROR(GESTION!H7,\" \")","v":"Seguimiento al cumplimiento de metas de las medidas transitorias establecidas por el CSJ"},{"$f":"IFERROR(GESTION!I7,\" \")","v":"Entregable"},{"$f":"IFERROR(GESTION!J7,\" \")","v":0},null,"",null,"Se realizó el seguimiento a las medidas transitorias vigentes para este periodo."]
[null,null,null,null,{"$f":"IFERROR(GESTION!H8,\" \")","v":"Seguimiento al Punto de Atención y Orientación al Usuario de Justicia y la Oficina de Gestión en salud"},{"$f":"IFERROR(GESTION!I8,\" \")","v":"Entregable"},{"$f":"IFERROR(GESTION!J8,\" \")","v":0},null,"",null,"Actividad con seguimiento semestral"]
[null,null,null,null,{"$f":"IFERROR(GESTION!H9,\" \")","v":0},{"$f":"IFERROR(GESTION!I9,\" \")","v":0},{"$f":"IFERROR(GESTION!J9,\" \")","v":0},null,""]
[null,null,null,null,{"$f":"IFERROR(GESTION!H10,\" \")","v":0},{"$f":"IFERROR(GESTION!I10,\" \")","v":0},{"$f":"IFERROR(GESTION!J10,\" \")","v":0},null,""]
[null,null,null,null,{"$f":"IFERROR(GESTION!H11,\" \")","v":0},{"$f":"IFERROR(GESTION!I11,\" \")","v":0},{"$f":"IFERROR(GESTION!J11,\" \")","v":0},null,""]
[null,null,null,null,{"$f":"IFERROR(GESTION!H12,\" \")","v":0},{"$f":"IFERROR(GESTION!I12,\" \")","v":0},{"$f":"IFERROR(GESTION!J12,\" \")","v":0},null,""]
[null,null,null,null,{"$f":"IFERROR(GESTION!H13,\" \")","v":0},{"$f":"IFERROR(GESTION!I13,\" \")","v":0},{"$f":"IFERROR(GESTION!J13,\" \")","v":0},null,""]
[null,null,null,null,{"$f":"IFERROR(GESTION!H14,\" \")","v":0},{"$f":"IFERROR(GESTION!I14,\" \")","v":0},{"$f":"IFERROR(GESTION!J14,\" \")","v":0},null,""]
[null,null,null,null,{"$f":"IFERROR(GESTION!H15,\" \")","v":0},{"$f":"IFERROR(GESTION!I15,\" \")","v":0},{"$f":"IFERROR(GESTION!J15,\" \")","v":0},null,""]
[null,null,"2. Mejorar los tiempos de respuesta de la Rama Judicial y reducir el inventario de procesos, identificando los retos internos y promoviendo tanto acciones articuladas específicas para abordarlos como estrategias coordinadas para enfrentar las barreras que dependen de otras entidades.","2. Asegurar  el cumplimiento de los objetivos institucionales, la normatividad aplicable,  la mejora del SIGCMA y la satisfacción de los usuarios, revisando de  forma continua y sistemática la planificación de la gestión y fortaleciendo la administración de riesgos y sus controles",{"$f":"IFERROR(GESTION!H16,\" \")","v":0},{"$f":"IFERROR(GESTION!I16,\" \")","v":0},{"$f":"IFERROR(GESTION!J16,\" \")","v":0},null,""]
[null,null,null,null,{"$f":"IFERROR(GESTION!H17,\" \")","v":0},{"$f":"IFERROR(GESTION!I17,\" \")","v":0},{"$f":"IFERROR(GESTION!J17,\" \")","v":0},null,""]
[null,null,null,null,{"$f":"IFERROR(GESTION!H18,\" \")","v":0},{"$f":"IFERROR(GESTION!I18,\" \")","v":0},{"$f":"IFERROR(GESTION!J18,\" \")","v":0},null,""]
[null,null,null,null,{"$f":"IFERROR(GESTION!H19,\" \")","v":0},{"$f":"IFERROR(GESTION!I19,\" \")","v":0},{"$f":"IFERROR(GESTION!J19,\" \")","v":0},null,""]
[null,null,null,null,{"$f":"IFERROR(GESTION!H20,\" \")","v":0},{"$f":"IFERROR(GESTION!I20,\" \")","v":0},{"$f":"IFERROR(GESTION!J20,\" \")","v":0},null,""]
[null,null,null,null,{"$f":"IFERROR(GESTION!H21,\" \")","v":0},{"$f":"IFERROR(GESTION!I21,\" \")","v":0},{"$f":"IFERROR(GESTION!J21,\" \")","v":0},null,""]
[null,null,null,null,{"$f":"IFERROR(GESTION!H22,\" \")","v":0},{"$f":"IFERROR(GESTION!I22,\" \")","v":0},{"$f":"IFERROR(GESTION!J22,\" \")","v":0},null,""]
[null,null,null,null,{"$f":"IFERROR(GESTION!H23,\" \")","v":0},{"$f":"IFERROR(GESTION!I23,\" \")","v":0},{"$f":"IFERROR(GESTION!J23,\" \")","v":0},null,""]
[null,null,null,null,{"$f":"IFERROR(GESTION!H24,\" \")","v":0},{"$f":"IFERROR(GESTION!I24,\" \")","v":0},{"$f":"IFERROR(GESTION!J24,\" \")","v":0},null,""]
[null,null,null,null,{"$f":"IFERROR(GESTION!H25,\" \")","v":0},{"$f":"IFERROR(GESTION!I25,\" \")","v":0},{"$f":"IFERROR(GESTION!J25,\" \")","v":0},null,""]
[null,null,"3. Coadyuvar en la garantía de la idoneidad en el ejercicio de la profesión jurídica de acuerdo con lo establecido en la Ley 1905 de 2018","2. Asegurar  el cumplimiento de los objetivos institucionales, la normatividad aplicable,  la mejora del SIGCMA y la satisfacción de los usuarios, revisando de  forma continua y sistemática la planificación de la gestión y fortaleciendo la administración de riesgos y sus controles",{"$f":"IFERROR(GESTION!H26,\" \")","v":0},{"$f":"IFERROR(GESTION!I26,\" \")","v":0},{"$f":"IFERROR(GESTION!J26,\" \")","v":0},null,""]
[null,null,null,null,{"$f":"IFERROR(GESTION!H27,\" \")","v":0},{"$f":"IFERROR(GESTION!I27,\" \")","v":0},{"$f":"IFERROR(GESTION!J27,\" \")","v":0},null,""]
[null,null,null,null,{"$f":"IFERROR(GESTION!H28,\" \")","v":0},{"$f":"IFERROR(GESTION!I28,\" \")","v":0},{"$f":"IFERROR(GESTION!J28,\" \")","v":0},null,""]
[null,null,null,null,{"$f":"IFERROR(GESTION!H29,\" \")","v":0},{"$f":"IFERROR(GESTION!I29,\" \")","v":0},{"$f":"IFERROR(GESTION!J29,\" \")","v":0},null,""]
[null,null,null,null,{"$f":"IFERROR(GESTION!H30,\" \")","v":0},{"$f":"IFERROR(GESTION!I30,\" \")","v":0},{"$f":"IFERROR(GESTION!J30,\" \")","v":0},null,""]
[null,null,null,null,{"$f":"IFERROR(GESTION!H31,\" \")","v":0},{"$f":"IFERROR(GESTION!I31,\" \")","v":0},{"$f":"IFERROR(GESTION!J31,\" \")","v":0},null,""]
[null,null,null,null,{"$f":"IFERROR(GESTION!H32,\" \")","v":0},{"$f":"IFERROR(GESTION!I32,\" \")","v":0},{"$f":"IFERROR(GESTION!J32,\" \")","v":0},null,""]
[null,null,null,null,{"$f":"IFERROR(GESTION!H33,\" \")","v":0},{"$f":"IFERROR(GESTION!I33,\" \")","v":0},{"$f":"IFERROR(GESTION!J33,\" \")","v":0},null,""]
[null,null,null,null,{"$f":"IFERROR(GESTION!H34,\" \")","v":0},{"$f":"IFERROR(GESTION!I34,\" \")","v":0},{"$f":"IFERROR(GESTION!J34,\" \")","v":0},null,""]
[null,null,null,null,{"$f":"IFERROR(GESTION!H35,\" \")","v":0},{"$f":"IFERROR(GESTION!I35,\" \")","v":0},{"$f":"IFERROR(GESTION!J35,\" \")","v":0},null,""]
[null,null,"4. Avanzar en la disposición de una infraestructura óptima para el acceso a la justicia en la Rama Judicial de modo que se fortalezca la presencia territorial, teniendo en cuenta las posibilidades que ofrece la transformación digital y las necesidades que se derivan de ella, y considerando tanto las necesidades de los usuarios como las de los servidores judiciales.","4. Hacer un uso racional de los recursos naturales aplicando los principios y fases de la Economía Circular, para prevenir, mitigar y controlar los impactos ambientales",{"$f":"IFERROR(GESTION!H36,\" \")","v":0},{"$f":"IFERROR(GESTION!I36,\" \")","v":0},{"$f":"IFERROR(GESTION!J36,\" \")","v":0},null,""]
[null,null,null,null,{"$f":"IFERROR(GESTION!H37,\" \")","v":0},{"$f":"IFERROR(GESTION!I37,\" \")","v":0},{"$f":"IFERROR(GESTION!J37,\" \")","v":0},null,""]
[null,null,null,null,{"$f":"IFERROR(GESTION!H38,\" \")","v":0},{"$f":"IFERROR(GESTION!I38,\" \")","v":0},{"$f":"IFERROR(GESTION!J38,\" \")","v":0},null,""]
[null,null,null,null,{"$f":"IFERROR(GESTION!H39,\" \")","v":0},{"$f":"IFERROR(GESTION!I39,\" \")","v":0},{"$f":"IFERROR(GESTION!J39,\" \")","v":0},null,""]
[null,null,null,null,{"$f":"IFERROR(GESTION!H40,\" \")","v":0},{"$f":"IFERROR(GESTION!I40,\" \")","v":0},{"$f":"IFERROR(GESTION!J40,\" \")","v":0},null,""]
[null,null,null,null,{"$f":"IFERROR(GESTION!H41,\" \")","v":0},{"$f":"IFERROR(GESTION!I41,\" \")","v":0},{"$f":"IFERROR(GESTION!J41,\" \")","v":0},null,""]
[null,null,null,null,{"$f":"IFERROR(GESTION!H42,\" \")","v":0},{"$f":"IFERROR(GESTION!I42,\" \")","v":0},{"$f":"IFERROR(GESTION!J42,\" \")","v":0},null,""]
[null,null,null,null,{"$f":"IFERROR(GESTION!H43,\" \")","v":0},{"$f":"IFERROR(GESTION!I43,\" \")","v":0},{"$f":"IFERROR(GESTION!J43,\" \")","v":0},null,""]
[null,null,null,null,{"$f":"IFERROR(GESTION!H44,\" \")","v":0},{"$f":"IFERROR(GESTION!I44,\" \")","v":0},{"$f":"IFERROR(GESTION!J44,\" \")","v":0},null,""]
[null,null,null,null,{"$f":"IFERROR(GESTION!H45,\" \")","v":0},{"$f":"IFERROR(GESTION!I45,\" \")","v":0},{"$f":"IFERROR(GESTION!J45,\" \")","v":0},null,""]
[null,null,"5. Impulsar el uso de mecanismos alternativos para la solución de conflictos y la ampliación de la justicia restaurativa y terapéutica y el robustecimiento de las alternativas al encarcelamiento","2. Asegurar  el cumplimiento de los objetivos institucionales, la normatividad aplicable,  la mejora del SIGCMA y la satisfacción de los usuarios, revisando de  forma continua y sistemática la planificación de la gestión y fortaleciendo la administración de riesgos y sus controles",{"$f":"IFERROR(GESTION!H46,\" \")","v":0},{"$f":"IFERROR(GESTION!I46,\" \")","v":0},{"$f":"IFERROR(GESTION!J46,\" \")","v":0},null,""]
[null,null,null,null,{"$f":"IFERROR(GESTION!H47,\" \")","v":0},{"$f":"IFERROR(GESTION!I47,\" \")","v":0},{"$f":"IFERROR(GESTION!J47,\" \")","v":0},null,""]
[null,null,null,null,{"$f":"IFERROR(GESTION!H48,\" \")","v":0},{"$f":"IFERROR(GESTION!I48,\" \")","v":0},{"$f":"IFERROR(GESTION!J48,\" \")","v":0},null,""]
[null,null,null,null,{"$f":"IFERROR(GESTION!H49,\" \")","v":0},{"$f":"IFERROR(GESTION!I49,\" \")","v":0},{"$f":"IFERROR(GESTION!J49,\" \")","v":0},null,""]
[null,null,null,null,{"$f":"IFERROR(GESTION!H50,\" \")","v":0},{"$f":"IFERROR(GESTION!I50,\" \")","v":0},{"$f":"IFERROR(GESTION!J50,\" \")","v":0},null,""]
[null,null,null,null,{"$f":"IFERROR(GESTION!H51,\" \")","v":0},{"$f":"IFERROR(GESTION!I51,\" \")","v":0},{"$f":"IFERROR(GESTION!J51,\" \")","v":0},null,""]
[null,null,null,null,{"$f":"IFERROR(GESTION!H52,\" \")","v":0},{"$f":"IFERROR(GESTION!I52,\" \")","v":0},{"$f":"IFERROR(GESTION!J52,\" \")","v":0},null,""]
[null,null,null,null,{"$f":"IFERROR(GESTION!H53,\" \")","v":0},{"$f":"IFERROR(GESTION!I53,\" \")","v":0},{"$f":"IFERROR(GESTION!J53,\" \")","v":0},null,""]
[null,null,null,null,{"$f":"IFERROR(GESTION!H54,\" \")","v":0},{"$f":"IFERROR(GESTION!I54,\" \")","v":0},{"$f":"IFERROR(GESTION!J54,\" \")","v":0},null,""]
[null,null,null,null,{"$f":"IFERROR(GESTION!H55,\" \")","v":0},{"$f":"IFERROR(GESTION!I55,\" \")","v":0},{"$f":"IFERROR(GESTION!J55,\" \")","v":0},null,""]
["2. Servicios digitales y de tecnología, innovación y análisis de la información.","Servicios digitales y de tecnología, innovación y análisis de la información: Consolidar una justicia integrada y soportada en servicios digitales y de tecnología, innovación y análisis de la información, con una cultura digital apropiada, segura y sensible a las realidades del territorio nacional. ","1. Ampliar el acceso a la justicia a través de la consolidación del uso de los servicios digitales que conforman el sistema único integrado de gestión judicial en todos los despachos judiciales y dependencias de apoyo y, específicamente, incluyendo el despliegue e implementación del Expediente Judicial Electrónico en todas las jurisdicciones y especialidades.","6. Proteger, preservar y administrar los activos de información  implementando acciones  para gestionar de forma adecuada los incidentes, proteger los datos personales y adoptar mecanismos  de ciberseguridad y aseguramiento de la  continuidad del negocio.",{"$f":"IFERROR(GESTION!H56,\" \")","v":0},{"$f":"IFERROR(GESTION!I56,\" \")","v":0},{"$f":"IFERROR(GESTION!J56,\" \")","v":0},null,""]
[null,null,null,null,{"$f":"IFERROR(GESTION!H57,\" \")","v":0},{"$f":"IFERROR(GESTION!I57,\" \")","v":0},{"$f":"IFERROR(GESTION!J57,\" \")","v":0},null,""]
[null,null,null,null,{"$f":"IFERROR(GESTION!H58,\" \")","v":0},{"$f":"IFERROR(GESTION!I58,\" \")","v":0},{"$f":"IFERROR(GESTION!J58,\" \")","v":0},null,""]
[null,null,null,null,{"$f":"IFERROR(GESTION!H59,\" \")","v":0},{"$f":"IFERROR(GESTION!I59,\" \")","v":0},{"$f":"IFERROR(GESTION!J59,\" \")","v":0},null,""]
[null,null,null,null,{"$f":"IFERROR(GESTION!H60,\" \")","v":0},{"$f":"IFERROR(GESTION!I60,\" \")","v":0},{"$f":"IFERROR(GESTION!J60,\" \")","v":0},null,""]
[null,null,null,null,{"$f":"IFERROR(GESTION!H61,\" \")","v":0},{"$f":"IFERROR(GESTION!I61,\" \")","v":0},{"$f":"IFERROR(GESTION!J61,\" \")","v":0},null,""]
[null,null,null,null,{"$f":"IFERROR(GESTION!H62,\" \")","v":0},{"$f":"IFERROR(GESTION!I62,\" \")","v":0},{"$f":"IFERROR(GESTION!J62,\" \")","v":0},null,""]
[null,null,null,null,{"$f":"IFERROR(GESTION!H63,\" \")","v":0},{"$f":"IFERROR(GESTION!I63,\" \")","v":0},{"$f":"IFERROR(GESTION!J63,\" \")","v":0},null,""]
[null,null,null,null,{"$f":"IFERROR(GESTION!H64,\" \")","v":0},{"$f":"IFERROR(GESTION!I64,\" \")","v":0},{"$f":"IFERROR(GESTION!J64,\" \")","v":0},null,""]
[null,null,null,null,{"$f":"IFERROR(GESTION!H65,\" \")","v":0},{"$f":"IFERROR(GESTION!I65,\" \")","v":0},{"$f":"IFERROR(GESTION!J65,\" \")","v":0},null,""]
[null,null,"2. Integrar y hacer compatibles todos los aplicativos de transición con SIUGJ, para que la migración de los expedientes judiciales a dicha plataforma sea real y no suponga afectaciones en la prestación del servicio de justicia.",null,{"$f":"IFERROR(GESTION!H66,\" \")","v":0},{"$f":"IFERROR(GESTION!I66,\" \")","v":0},{"$f":"IFERROR(GESTION!J66,\" \")","v":0},null,""]
[null,null,null,null,{"$f":"IFERROR(GESTION!H67,\" \")","v":0},{"$f":"IFERROR(GESTION!I67,\" \")","v":0},{"$f":"IFERROR(GESTION!J67,\" \")","v":0},null,""]
[null,null,null,null,{"$f":"IFERROR(GESTION!H68,\" \")","v":0},{"$f":"IFERROR(GESTION!I68,\" \")","v":0},{"$f":"IFERROR(GESTION!J68,\" \")","v":0},null,""]
[null,null,null,null,{"$f":"IFERROR(GESTION!H69,\" \")","v":0},{"$f":"IFERROR(GESTION!I69,\" \")","v":0},{"$f":"IFERROR(GESTION!J69,\" \")","v":0},null,""]
[null,null,null,null,{"$f":"IFERROR(GESTION!H70,\" \")","v":0},{"$f":"IFERROR(GESTION!I70,\" \")","v":0},{"$f":"IFERROR(GESTION!J70,\" \")","v":0},null,{"$f":"IFERROR(H70/G70,\"\")","v":""}]
[null,null,null,null,{"$f":"IFERROR(GESTION!H71,\" \")","v":0},{"$f":"IFERROR(GESTION!I71,\" \")","v":0},{"$f":"IFERROR(GESTION!J71,\" \")","v":0},null,""]
[null,null,null,null,{"$f":"IFERROR(GESTION!H72,\" \")","v":0},{"$f":"IFERROR(GESTION!I72,\" \")","v":0},{"$f":"IFERROR(GESTION!J72,\" \")","v":0},null,""]
[null,null,null,null,{"$f":"IFERROR(GESTION!H73,\" \")","v":0},{"$f":"IFERROR(GESTION!I73,\" \")","v":0},{"$f":"IFERROR(GESTION!J73,\" \")","v":0},null,""]
[null,null,null,null,{"$f":"IFERROR(GESTION!H74,\" \")","v":0},{"$f":"IFERROR(GESTION!I74,\" \")","v":0},{"$f":"IFERROR(GESTION!J74,\" \")","v":0},null,""]
[null,null,null,null,{"$f":"IFERROR(GESTION!H75,\" \")","v":0},{"$f":"IFERROR(GESTION!I75,\" \")","v":0},{"$f":"IFERROR(GESTION!J75,\" \")","v":0},null,""]
[null,null,"3. Fortalecer las capacidades institucionales, adecuar el modelo operativo y de servicio, bajo un enfoque de Arquitectura Empresarial y de fortalecimiento del acceso a la justicia.",null,{"$f":"IFERROR(GESTION!H76,\" \")","v":0},{"$f":"IFERROR(GESTION!I76,\" \")","v":0},{"$f":"IFERROR(GESTION!J76,\" \")","v":0},null,""]
[null,null,null,null,{"$f":"IFERROR(GESTION!H77,\" \")","v":0},{"$f":"IFERROR(GESTION!I77,\" \")","v":0},{"$f":"IFERROR(GESTION!J77,\" \")","v":0},null,""]
[null,null,null,null,{"$f":"IFERROR(GESTION!H78,\" \")","v":0},{"$f":"IFERROR(GESTION!I78,\" \")","v":0},{"$f":"IFERROR(GESTION!J78,\" \")","v":0},null,""]
[null,null,null,null,{"$f":"IFERROR(GESTION!H79,\" \")","v":0},{"$f":"IFERROR(GESTION!I79,\" \")","v":0},{"$f":"IFERROR(GESTION!J79,\" \")","v":0},null,""]
[null,null,null,null,{"$f":"IFERROR(GESTION!H80,\" \")","v":0},{"$f":"IFERROR(GESTION!I80,\" \")","v":0},{"$f":"IFERROR(GESTION!J80,\" \")","v":0},null,""]
[null,null,null,null,{"$f":"IFERROR(GESTION!H81,\" \")","v":0},{"$f":"IFERROR(GESTION!I81,\" \")","v":0},{"$f":"IFERROR(GESTION!J81,\" \")","v":0},null,""]
[null,null,null,null,{"$f":"IFERROR(GESTION!H82,\" \")","v":0},{"$f":"IFERROR(GESTION!I82,\" \")","v":0},{"$f":"IFERROR(GESTION!J82,\" \")","v":0},null,""]
[null,null,null,null,{"$f":"IFERROR(GESTION!H83,\" \")","v":0},{"$f":"IFERROR(GESTION!I83,\" \")","v":0},{"$f":"IFERROR(GESTION!J83,\" \")","v":0},null,""]
[null,null,null,null,{"$f":"IFERROR(GESTION!H84,\" \")","v":0},{"$f":"IFERROR(GESTION!I84,\" \")","v":0},{"$f":"IFERROR(GESTION!J84,\" \")","v":0},null,""]
[null,null,null,null,{"$f":"IFERROR(GESTION!H85,\" \")","v":0},{"$f":"IFERROR(GESTION!I85,\" \")","v":0},{"$f":"IFERROR(GESTION!J85,\" \")","v":0},null,""]
[null,null,"4.Consolidar la cultura y apropiación de la transformación digital en los servidores y usuarios de los servicios de la Rama Judicial y reducir brechas de acceso y conocimiento, incluyendo la oferta efectiva de información sobre el uso de las nuevas herramientas virtuales implementadas en las diferentes jurisdicciones, con especial énfasis en las zonas del país donde es evidente la brecha digital.",null,{"$f":"IFERROR(GESTION!H86,\" \")","v":0},{"$f":"IFERROR(GESTION!I86,\" \")","v":0},{"$f":"IFERROR(GESTION!J86,\" \")","v":0},null,""]
[null,null,null,null,{"$f":"IFERROR(GESTION!H87,\" \")","v":0},{"$f":"IFERROR(GESTION!I87,\" \")","v":0},{"$f":"IFERROR(GESTION!J87,\" \")","v":0},null,""]
[null,null,null,null,{"$f":"IFERROR(GESTION!H88,\" \")","v":0},{"$f":"IFERROR(GESTION!I88,\" \")","v":0},{"$f":"IFERROR(GESTION!J88,\" \")","v":0},null,""]
[null,null,null,null,{"$f":"IFERROR(GESTION!H89,\" \")","v":0},{"$f":"IFERROR(GESTION!I89,\" \")","v":0},{"$f":"IFERROR(GESTION!J89,\" \")","v":0},null,""]
[null,null,null,null,{"$f":"IFERROR(GESTION!H90,\" \")","v":0},{"$f":"IFERROR(GESTION!I90,\" \")","v":0},{"$f":"IFERROR(GESTION!J90,\" \")","v":0},null,""]
[null,null,null,null,{"$f":"IFERROR(GESTION!H91,\" \")","v":0},{"$f":"IFERROR(GESTION!I91,\" \")","v":0},{"$f":"IFERROR(GESTION!J91,\" \")","v":0},null,""]
[null,null,null,null,{"$f":"IFERROR(GESTION!H92,\" \")","v":0},{"$f":"IFERROR(GESTION!I92,\" \")","v":0},{"$f":"IFERROR(GESTION!J92,\" \")","v":0},null,""]
[null,null,null,null,{"$f":"IFERROR(GESTION!H93,\" \")","v":0},{"$f":"IFERROR(GESTION!I93,\" \")","v":0},{"$f":"IFERROR(GESTION!J93,\" \")","v":0},null,""]
[null,null,null,null,{"$f":"IFERROR(GESTION!H94,\" \")","v":0},{"$f":"IFERROR(GESTION!I94,\" \")","v":0},{"$f":"IFERROR(GESTION!J94,\" \")","v":0},null,""]
[null,null,null,null,{"$f":"IFERROR(GESTION!H95,\" \")","v":0},{"$f":"IFERROR(GESTION!I95,\" \")","v":0},{"$f":"IFERROR(GESTION!J95,\" \")","v":0},null,""]
[null,null,"5.Consolidar la infraestructura y los recursos necesarios para la implementación exitosa de la transformación digital, incluyendo la disposición de internet de calidad en el 100% de las sedes en la Rama Judicial y modernizar los servicios tecnológicos de soporte. ",null,{"$f":"IFERROR(GESTION!H96,\" \")","v":0},{"$f":"IFERROR(GESTION!I96,\" \")","v":0},{"$f":"IFERROR(GESTION!J96,\" \")","v":0},null,""]
[null,null,null,null,{"$f":"IFERROR(GESTION!H97,\" \")","v":0},{"$f":"IFERROR(GESTION!I97,\" \")","v":0},{"$f":"IFERROR(GESTION!J97,\" \")","v":0},null,""]
[null,null,null,null,{"$f":"IFERROR(GESTION!H98,\" \")","v":0},{"$f":"IFERROR(GESTION!I98,\" \")","v":0},{"$f":"IFERROR(GESTION!J98,\" \")","v":0},null,""]
[null,null,null,null,{"$f":"IFERROR(GESTION!H99,\" \")","v":0},{"$f":"IFERROR(GESTION!I99,\" \")","v":0},{"$f":"IFERROR(GESTION!J99,\" \")","v":0},null,""]
[null,null,null,null,{"$f":"IFERROR(GESTION!H100,\" \")","v":0},{"$f":"IFERROR(GESTION!I100,\" \")","v":0},{"$f":"IFERROR(GESTION!J100,\" \")","v":0},null,""]
[null,null,null,null,{"$f":"IFERROR(GESTION!H101,\" \")","v":0},{"$f":"IFERROR(GESTION!I101,\" \")","v":0},{"$f":"IFERROR(GESTION!J101,\" \")","v":0},null,""]
[null,null,null,null,{"$f":"IFERROR(GESTION!H102,\" \")","v":0},{"$f":"IFERROR(GESTION!I102,\" \")","v":0},{"$f":"IFERROR(GESTION!J102,\" \")","v":0},null,""]
[null,null,null,null,{"$f":"IFERROR(GESTION!H103,\" \")","v":0},{"$f":"IFERROR(GESTION!I103,\" \")","v":0},{"$f":"IFERROR(GESTION!J103,\" \")","v":0},null,""]
[null,null,null,null,{"$f":"IFERROR(GESTION!H104,\" \")","v":0},{"$f":"IFERROR(GESTION!I104,\" \")","v":0},{"$f":"IFERROR(GESTION!J104,\" \")","v":0},null,""]
[null,null,null,null,{"$f":"IFERROR(GESTION!H105,\" \")","v":0},{"$f":"IFERROR(GESTION!I105,\" \")","v":0},{"$f":"IFERROR(GESTION!J105,\" \")","v":0},null,""]
[null,null,"6.Integrar y optimizar los servicios administrativos de la Rama Judicial bajo un enfoque de transformación digital e innovación incluyendo los componentes financiero, administrativo, talento humano, entre otros",null,{"$f":"IFERROR(GESTION!H106,\" \")","v":0},{"$f":"IFERROR(GESTION!I106,\" \")","v":0},{"$f":"IFERROR(GESTION!J106,\" \")","v":0},null,""]
[null,null,null,null,{"$f":"IFERROR(GESTION!H107,\" \")","v":0},{"$f":"IFERROR(GESTION!I107,\" \")","v":0},{"$f":"IFERROR(GESTION!J107,\" \")","v":0},null,""]
[null,null,null,null,{"$f":"IFERROR(GESTION!H108,\" \")","v":0},{"$f":"IFERROR(GESTION!I108,\" \")","v":0},{"$f":"IFERROR(GESTION!J108,\" \")","v":0},null,""]
[null,null,null,null,{"$f":"IFERROR(GESTION!H109,\" \")","v":0},{"$f":"IFERROR(GESTION!I109,\" \")","v":0},{"$f":"IFERROR(GESTION!J109,\" \")","v":0},null,""]
[null,null,null,null,{"$f":"IFERROR(GESTION!H110,\" \")","v":0},{"$f":"IFERROR(GESTION!I110,\" \")","v":0},{"$f":"IFERROR(GESTION!J110,\" \")","v":0},null,""]
[null,null,null,null,{"$f":"IFERROR(GESTION!H111,\" \")","v":0},{"$f":"IFERROR(GESTION!I111,\" \")","v":0},{"$f":"IFERROR(GESTION!J111,\" \")","v":0},null,""]
[null,null,null,null,{"$f":"IFERROR(GESTION!H112,\" \")","v":0},{"$f":"IFERROR(GESTION!I112,\" \")","v":0},{"$f":"IFERROR(GESTION!J112,\" \")","v":0},null,""]
[null,null,null,null,{"$f":"IFERROR(GESTION!H113,\" \")","v":0},{"$f":"IFERROR(GESTION!I113,\" \")","v":0},{"$f":"IFERROR(GESTION!J113,\" \")","v":0},null,""]
[null,null,null,null,{"$f":"IFERROR(GESTION!H114,\" \")","v":0},{"$f":"IFERROR(GESTION!I114,\" \")","v":0},{"$f":"IFERROR(GESTION!J114,\" \")","v":0},null,""]
[null,null,null,null,{"$f":"IFERROR(GESTION!H115,\" \")","v":0},{"$f":"IFERROR(GESTION!I115,\" \")","v":0},{"$f":"IFERROR(GESTION!J115,\" \")","v":0},null,""]
["3. Confianza pública, transparencia y rendición de cuentas","Confianza pública, transparencia y rendición de cuentas: Aumentar la confianza pública en la justicia a través de la transparencia, la rendición de cuentas y la participación, incluyendo la información de justicia y la producción, gestión y acceso a las fuentes de derecho, el fortalecimiento del sistema de gestión de calidad y medio ambiente (SIGCMA) y el mejoramiento de la calidad y publicidad de la información. ","1. Incrementar la cantidad, la calidad y pertinencia de los datos sobre el funcionamiento del servicio de justicia bajo un modelo de gobierno de datos y un liderazgo unificado. ","4. Hacer un uso racional de los recursos naturales aplicando los principios y fases de la Economía Circular, para prevenir, mitigar y controlar los impactos ambientales.",{"$f":"IFERROR(GESTION!H116,\" \")","v":"Desarrollar las tareas definidas en el cronograma de Rendición de Cuentas"},{"$f":"IFERROR(GESTION!I116,\" \")","v":"Entregable"},{"$f":"IFERROR(GESTION!J116,\" \")","v":0},null,"",null,"El 28 de Marzo tuvo lugar la audiencia de rendición de cuentas de la seccional caldas desde el municipio de Chinchiná a las 10:30 de la mañana. \n\nEn esta audiencia se expusieron los 5 temas preseleccionados por las partes interesadas mediante encuesta y con to una una participación de 162 personas conectadas por lLifeSize y 345 reproduccones en Twitter.","Acciones de Información Rendición de Cuentas 2023\n\nhttps://etbcsj-my.sharepoint.com/:f:/g/personal/sacsma_cendoj_ramajudicial_gov_co/EjlZWVNBfw9PmSr2IszqKVEBCT10edaewXq9bUnn8HPsTQ?e=mrCWwb "]
[null,null,null,null,{"$f":"IFERROR(GESTION!H117,\" \")","v":"Medir la satisfacción del usuario"},{"$f":"IFERROR(GESTION!I117,\" \")","v":"Entregable"},{"$f":"IFERROR(GESTION!J117,\" \")","v":0},null,"",null,"Actividad con seguimiento semestral"]
[null,null,null,null,{"$f":"IFERROR(GESTION!H118,\" \")","v":"Atender, gestionar y solucionar las diferentes solicitudes de usuarios internos y externos"},{"$f":"IFERROR(GESTION!I118,\" \")","v":"Entregable"},{"$f":"IFERROR(GESTION!J118,\" \")","v":0},null,"",null,"Durante el primer trimestre se presentaron 1 queja en el Consejo Seccional, la cual fue atendida oportunamente. Es decir,en el termino de 15 días definidos por la ley"]
[null,null,null,null,{"$f":"IFERROR(GESTION!H119,\" \")","v":"Elaborar el informe de revisión por la Alta Dirección"},{"$f":"IFERROR(GESTION!I119,\" \")","v":"Entregable"},{"$f":"IFERROR(GESTION!J119,\" \")","v":0},null,"","Según el cronograma establecido por el nivel central, el informe se deberá remitir en el mes de mayo de 2023, por lo que su seguimiento se realizará durante el segundo trimestre del año","Seguimiento a realizar en el segundo trimestre del año"]
[null,null,null,null,{"$f":"IFERROR(GESTION!H120,\" \")","v":"Atender de las novedades SIERJU"},{"$f":"IFERROR(GESTION!I120,\" \")","v":"Entregable"},{"$f":"IFERROR(GESTION!J120,\" \")","v":0},null,"",null,"Durante este trimestre, se atendieron (117) solicitudes, que se clasifican así:\n\n* Ajuste en Inventario Inicial (107)\n* Cambio Fechas Formulario (6)\n* Consulta-ADM (2)\n* Licencias\t(1)\n* Otros Permisos Autorizados (1)\n\nLas mismas fueron atendidas y/o cerradas  de manera oportuna, a través del sistema de información Sierju.","Enlace evidencia:\nhttps://etbcsj-my.sharepoint.com/:x:/g/personal/sacsma_cendoj_ramajudicial_gov_co/EcFvSQj93thOoeTN4o2-vEIBgo57vAMI2Yp6WtBKTcXqaQ?e=inBDmb\n"]
[null,null,null,null,{"$f":"IFERROR(GESTION!H121,\" \")","v":"Acompañamiento y capacitación a los despachos judiciales en el diligenciamiento de la información SIERJU"},{"$f":"IFERROR(GESTION!I121,\" \")","v":"Entregable"},{"$f":"IFERROR(GESTION!J121,\" \")","v":0},null,"",null,"Durante este trimestre, se atendieron (165) necesidades de soporte SIERJU a los despachos judiciales, brindando orientanción en diferentes temas, así:\n\n* Soporte General  (39)\n* Cambiop de usuario (5)\n* Reinicio de contraseña  (7)\n* Corrección de fecha  (6)\n* Ajuste de Inventarios  (107)\n* Creación de Usuario (1)\n\nLas mismas fueron atendidas y/o cerradas  de manera oportuna, a través del sistema de información Sierju.","Enlace evidencia:\nhttps://etbcsj-my.sharepoint.com/:x:/g/personal/sacsma_cendoj_ramajudicial_gov_co/EcFvSQj93thOoeTN4o2-vEIBgo57vAMI2Yp6WtBKTcXqaQ?e=inBDmb\n"]
[null,null,null,null,{"$f":"IFERROR(GESTION!H122,\" \")","v":"Registro de cargos vacantes y provistos en Carrera- Jueces"},{"$f":"IFERROR(GESTION!I122,\" \")","v":"Entregable"},{"$f":"IFERROR(GESTION!J122,\" \")","v":0},null,"",null,"Durante el primer trimestre de 2023 se hicieron las publicaciones de lista de elegibles y vacantes definitivas en el micrositio del Consejo Seccional de la Judicatura de Caldas.\n\nAdicionalmente fueron consolidadas y reportadas  las vacantes de Jueces para los meses de enero Oficio CSJCAO23-118 (44 vacantes ), febrero Oficio CSJCAO23-327 (43 vacantes ) y marzo CSJCAO23-547 (43 vacantes )",null,null,null," "]
[null,null,null,null,{"$f":"IFERROR(GESTION!H123,\" \")","v":"Divulgación y publicación de información relevante para los usuarios"},{"$f":"IFERROR(GESTION!I123,\" \")","v":"Entregable"},{"$f":"IFERROR(GESTION!J123,\" \")","v":0},null,"",null,"Actividad con seguimiento anual"]
[null,null,null,null,{"$f":"IFERROR(GESTION!H124,\" \")","v":"Seguimiento al reporte oportuno de la información estadística"},{"$f":"IFERROR(GESTION!I124,\" \")","v":"Entregable"},{"$f":"IFERROR(GESTION!J124,\" \")","v":0},null,"",null,"En el primer trimestre, los (164) despachos Judiciales adscritos al Distrito judicial de Manizales y Administrativo de Caldas, reportaron oportunamente la informción estadística, cumpliendo así con el término que  establece en acuerdo PSAA16-10476 del 01 de marzo de 2016.\n\nLo anterior, teniendo en cuenta que mediante comunicado por correo electrónico enviado por la Unidad de Análisis y Desarrollo Estadístico - UDAE, se amplió el plazo para el reporte del primer trimestre hata el 19 de abril de 2023.\n\n\"(...)Se informa a los usuarios del SIERJU que se ampliará el plazo del reporte de la gestión estadística hasta el próximo 19 de abril de 2023, de conformidad con lo regulado en el parágrafo 2 del Acuerdo No. PSAA16-10476 de marzo 1 de 2016: \"En caso de presentarse problemas técnicos relacionados con la plataforma tecnológica que soporte el SIERJU y que impidan el cumplimiento de los tiempos estipulados para el registro de información, éstos se correrán previa comunicación.\"\nReciban un cordial saludo,\nUNIDAD DE DESARROLLO Y ANÁLISIS ESTADÍSTICO\nCONSEJO SUPERIOR DE LA JUDICATURA...\""]
[null,null,null,null,{"$f":"IFERROR(GESTION!H125,\" \")","v":"Programación de visitas del factor organización del trabajo"},{"$f":"IFERROR(GESTION!I125,\" \")","v":"Entregable"},{"$f":"IFERROR(GESTION!J125,\" \")","v":0},null,"",null,"Actividad con seguimiento anual"]
[null,null,"2. Consolidar la administración de la información entendida como todas las acciones rientadas a garantizar el acceso, consulta, uso y conservación de la información de justicia de manera ágil, flexible e inteligente, bajo un enfoque de innovación.",null,{"$f":"IFERROR(GESTION!H126,\" \")","v":"Trámite de vigilancias judiciales"},{"$f":"IFERROR(GESTION!I126,\" \")","v":"Entregable"},{"$f":"IFERROR(GESTION!J126,\" \")","v":0},null,"",null,"Durante el primer trimestre del 2023 se tramitaron un total de 26 vigilancias judiciales y se realizaron las siguientes actividades:\n\n• Recepción de la solicitud de Vigilancia  Judicial Administrativa.\n• Reparto\n• Recopilación de información.\n• Auto de apertura / No apertura. \n• Resolución. (En las vigilancias en las que se dio apertura). \n• Comunicación final. \n\nEn total para este primer trimestre se realizaron los siguientes documentos: \n\n-50 autos. \n-155 oficios. "]
[null,null,null,null,{"$f":"IFERROR(GESTION!H127,\" \")","v":"Verificación de la Información estadística"},{"$f":"IFERROR(GESTION!I127,\" \")","v":"Entregable"},{"$f":"IFERROR(GESTION!J127,\" \")","v":0},null,"",null,"Para este período se evidenciaron (5) inconsistencias en la información estadística reportada en el Sistema SIERJU, así:\n\n* INCONSISTENCIAS VISITA CONSEJO SECCIONAL\t (3)\n - Juzgado 001 Civil Municipal de Manizales \t(1)\n- Juzgado 001 Promiscuo Municipal de Riosucio \t(1)\n- Despacho 006 del Tribunal Administrativo De  Caldas\t(1)\n\n * INCONSISTENCIAS ENCONTRADAS POR DESPACHO JUDICIAL \t(2)\n- Juzgado 001 Penal Municipal para Adolescentes Con Función de Control De Garantías de Manizales \t(1)\n- Juzgado 002 Penal Municipal con Función de Conocimiento de Manizales \t(1)\n"]
[null,null,null,null,{"$f":"IFERROR(GESTION!H128,\" \")","v":"Elaborar la Matriz de Comunicaciones Institucional y hacer su seguimiento"},{"$f":"IFERROR(GESTION!I128,\" \")","v":"Entregable"},{"$f":"IFERROR(GESTION!J128,\" \")","v":0},null,"",null,"Para el primer trimestre del año 2023 se realizaron 2 Notijudiciales , se expidieron 49 acuerdos, 63 circulares, 535 oficios y  177 resoluciones y 1 seguimiento a redes sociales.\n\nPor otro lado, se hizo la audiencia pública de rendición de cuentas yasí mismo se hizo la encuesta de satisfacción correspondiente a este evento."]
[null,null,null,null,{"$f":"IFERROR(GESTION!H129,\" \")","v":"Orientar al usuario interno y externo acerca del procedimiento para realizar trámites ante la URNA"},{"$f":"IFERROR(GESTION!I129,\" \")","v":"Entregable"},{"$f":"IFERROR(GESTION!J129,\" \")","v":0},null,"",null,"Durante este trimestre se brindo orientación a un total de 40 usuarios en diferentes temas ante la Unidad de Registro Nacional de Abogados - URNA asì:\n\n-Trámite Tarjeta Profesional: 20\n- Trámite duplicado de tarjeta: 2\n-Trámite Licencia de Judicatura: 17\n- Tràmite de Licencia Temporal: 1"]
[null,null,null,null,{"$f":"IFERROR(GESTION!H130,\" \")","v":0},{"$f":"IFERROR(GESTION!I130,\" \")","v":0},{"$f":"IFERROR(GESTION!J130,\" \")","v":0},null,""]
[null,null,null,null,{"$f":"IFERROR(GESTION!H131,\" \")","v":0},{"$f":"IFERROR(GESTION!I131,\" \")","v":0},{"$f":"IFERROR(GESTION!J131,\" \")","v":0},null,""]
[null,null,null,null,{"$f":"IFERROR(GESTION!H132,\" \")","v":0},{"$f":"IFERROR(GESTION!I132,\" \")","v":0},{"$f":"IFERROR(GESTION!J132,\" \")","v":0},null,""]
[null,null,null,null,{"$f":"IFERROR(GESTION!H133,\" \")","v":0},{"$f":"IFERROR(GESTION!I133,\" \")","v":0},{"$f":"IFERROR(GESTION!J133,\" \")","v":0},null,""]
[null,null,null,null,{"$f":"IFERROR(GESTION!H134,\" \")","v":0},{"$f":"IFERROR(GESTION!I134,\" \")","v":0},{"$f":"IFERROR(GESTION!J134,\" \")","v":0},null,{"$f":"IFERROR(H134/G134,\"\")","v":""}]
[null,null,null,null,{"$f":"IFERROR(GESTION!H135,\" \")","v":0},{"$f":"IFERROR(GESTION!I135,\" \")","v":0},{"$f":"IFERROR(GESTION!J135,\" \")","v":0},null,""]
[null,null,"3. Fortalecer el Sistema integrado de Gestión de la Rama, orientado a la implementación y certificación de las normas antisoborno.","1. Gestionar el desarrollo de las competencias, la toma de conciencia , la cultura  organizacional  y el compromiso de los  servidores judiciales, contratistas, practicantes y  judicantes de contribuir a generar valor público en la administración de justicia, en el marco de  cumplimiento de los requisitos  aplicables y el comportamiento ético.\n3. Fomentar la transparencia y la participación generando lineamientos y promoviendo la rendición de cuentas ,la consulta, reporte y planteamiento de inquietudes en relación con las decisiones y aspectos del SIGCMA.",{"$f":"IFERROR(GESTION!H136,\" \")","v":0},{"$f":"IFERROR(GESTION!I136,\" \")","v":0},{"$f":"IFERROR(GESTION!J136,\" \")","v":0},null,""]
[null,null,null,null,{"$f":"IFERROR(GESTION!H137,\" \")","v":0},{"$f":"IFERROR(GESTION!I137,\" \")","v":0},{"$f":"IFERROR(GESTION!J137,\" \")","v":0},null,""]
[null,null,null,null,{"$f":"IFERROR(GESTION!H138,\" \")","v":0},{"$f":"IFERROR(GESTION!I138,\" \")","v":0},{"$f":"IFERROR(GESTION!J138,\" \")","v":0},null,""]
[null,null,null,null,{"$f":"IFERROR(GESTION!H139,\" \")","v":0},{"$f":"IFERROR(GESTION!I139,\" \")","v":0},{"$f":"IFERROR(GESTION!J139,\" \")","v":0},null,""]
[null,null,null,null,{"$f":"IFERROR(GESTION!H140,\" \")","v":0},{"$f":"IFERROR(GESTION!I140,\" \")","v":0},{"$f":"IFERROR(GESTION!J140,\" \")","v":0},null,""]
[null,null,null,null,{"$f":"IFERROR(GESTION!H141,\" \")","v":0},{"$f":"IFERROR(GESTION!I141,\" \")","v":0},{"$f":"IFERROR(GESTION!J141,\" \")","v":0},null,""]
[null,null,null,null,{"$f":"IFERROR(GESTION!H142,\" \")","v":0},{"$f":"IFERROR(GESTION!I142,\" \")","v":0},{"$f":"IFERROR(GESTION!J142,\" \")","v":0},null,""]
[null,null,null,null,{"$f":"IFERROR(GESTION!H143,\" \")","v":0},{"$f":"IFERROR(GESTION!I143,\" \")","v":0},{"$f":"IFERROR(GESTION!J143,\" \")","v":0},null,""]
[null,null,null,null,{"$f":"IFERROR(GESTION!H144,\" \")","v":0},{"$f":"IFERROR(GESTION!I144,\" \")","v":0},{"$f":"IFERROR(GESTION!J144,\" \")","v":0},null,""]
[null,null,null,null,{"$f":"IFERROR(GESTION!H145,\" \")","v":0},{"$f":"IFERROR(GESTION!I145,\" \")","v":0},{"$f":"IFERROR(GESTION!J145,\" \")","v":0},null,""]
[null,null,"4. Aumentar la confianza, la cercanía y acceso a los servicios de la Rama Judicial a través, entre otros, de una comunicación clara y asertiva con la ciudadanía.","3. Fomentar la transparencia y la participación generando lineamientos y promoviendo la rendición de cuentas ,la consulta, reporte y planteamiento de inquietudes en relación con las decisiones y aspectos del SIGCMA.",{"$f":"IFERROR(GESTION!H146,\" \")","v":0},{"$f":"IFERROR(GESTION!I146,\" \")","v":0},{"$f":"IFERROR(GESTION!J146,\" \")","v":0},null,""]
[null,null,null,null,{"$f":"IFERROR(GESTION!H147,\" \")","v":0},{"$f":"IFERROR(GESTION!I147,\" \")","v":0},{"$f":"IFERROR(GESTION!J147,\" \")","v":0},null,""]
[null,null,null,null,{"$f":"IFERROR(GESTION!H148,\" \")","v":0},{"$f":"IFERROR(GESTION!I148,\" \")","v":0},{"$f":"IFERROR(GESTION!J148,\" \")","v":0},null,""]
[null,null,null,null,{"$f":"IFERROR(GESTION!H149,\" \")","v":0},{"$f":"IFERROR(GESTION!I149,\" \")","v":0},{"$f":"IFERROR(GESTION!J149,\" \")","v":0},null,""]
[null,null,null,null,{"$f":"IFERROR(GESTION!H150,\" \")","v":0},{"$f":"IFERROR(GESTION!I150,\" \")","v":0},{"$f":"IFERROR(GESTION!J150,\" \")","v":0},null,""]
[null,null,null,null,{"$f":"IFERROR(GESTION!H151,\" \")","v":0},{"$f":"IFERROR(GESTION!I151,\" \")","v":0},{"$f":"IFERROR(GESTION!J151,\" \")","v":0},null,""]
[null,null,null,null,{"$f":"IFERROR(GESTION!H152,\" \")","v":0},{"$f":"IFERROR(GESTION!I152,\" \")","v":0},{"$f":"IFERROR(GESTION!J152,\" \")","v":0},null,""]
[null,null,null,null,{"$f":"IFERROR(GESTION!H153,\" \")","v":0},{"$f":"IFERROR(GESTION!I153,\" \")","v":0},{"$f":"IFERROR(GESTION!J153,\" \")","v":0},null,""]
[null,null,null,null,{"$f":"IFERROR(GESTION!H154,\" \")","v":0},{"$f":"IFERROR(GESTION!I154,\" \")","v":0},{"$f":"IFERROR(GESTION!J154,\" \")","v":0},null,""]
[null,null,null,null,{"$f":"IFERROR(GESTION!H155,\" \")","v":0},{"$f":"IFERROR(GESTION!I155,\" \")","v":0},{"$f":"IFERROR(GESTION!J155,\" \")","v":0},null,""]
[null,null,"5. Prevenir fenómenos asociados con actos de corrupción en la Rama Judicial y reducir las experiencias de corrupción de usuarios y servidores judiciales.",null,{"$f":"IFERROR(GESTION!H156,\" \")","v":0},{"$f":"IFERROR(GESTION!I156,\" \")","v":0},{"$f":"IFERROR(GESTION!J156,\" \")","v":0},null,""]
[null,null,null,null,{"$f":"IFERROR(GESTION!H157,\" \")","v":0},{"$f":"IFERROR(GESTION!I157,\" \")","v":0},{"$f":"IFERROR(GESTION!J157,\" \")","v":0},null,""]
[null,null,null,null,{"$f":"IFERROR(GESTION!H158,\" \")","v":0},{"$f":"IFERROR(GESTION!I158,\" \")","v":0},{"$f":"IFERROR(GESTION!J158,\" \")","v":0},null,""]
[null,null,null,null,{"$f":"IFERROR(GESTION!H159,\" \")","v":0},{"$f":"IFERROR(GESTION!I159,\" \")","v":0},{"$f":"IFERROR(GESTION!J159,\" \")","v":0},null,""]
[null,null,null,null,{"$f":"IFERROR(GESTION!H160,\" \")","v":0},{"$f":"IFERROR(GESTION!I160,\" \")","v":0},{"$f":"IFERROR(GESTION!J160,\" \")","v":0},null,""]
[null,null,null,null,{"$f":"IFERROR(GESTION!H161,\" \")","v":0},{"$f":"IFERROR(GESTION!I161,\" \")","v":0},{"$f":"IFERROR(GESTION!J161,\" \")","v":0},null,""]
[null,null,null,null,{"$f":"IFERROR(GESTION!H162,\" \")","v":0},{"$f":"IFERROR(GESTION!I162,\" \")","v":0},{"$f":"IFERROR(GESTION!J162,\" \")","v":0},null,""]
[null,null,null,null,{"$f":"IFERROR(GESTION!H163,\" \")","v":0},{"$f":"IFERROR(GESTION!I163,\" \")","v":0},{"$f":"IFERROR(GESTION!J163,\" \")","v":0},null,""]
[null,null,null,null,{"$f":"IFERROR(GESTION!H164,\" \")","v":0},{"$f":"IFERROR(GESTION!I164,\" \")","v":0},{"$f":"IFERROR(GESTION!J164,\" \")","v":0},null,""]
[null,null,null,null,{"$f":"IFERROR(GESTION!H165,\" \")","v":0},{"$f":"IFERROR(GESTION!I165,\" \")","v":0},{"$f":"IFERROR(GESTION!J165,\" \")","v":0},null,""]
[null,null,"6. Promover la rendición de cuentas y la colaboración real con la ciudadanía como fundamento para diseñar acciones de mejoramiento del acceso a la justicia.",null,{"$f":"IFERROR(GESTION!H166,\" \")","v":0},{"$f":"IFERROR(GESTION!I166,\" \")","v":0},{"$f":"IFERROR(GESTION!J166,\" \")","v":0},null,""]
[null,null,null,null,{"$f":"IFERROR(GESTION!H167,\" \")","v":0},{"$f":"IFERROR(GESTION!I167,\" \")","v":0},{"$f":"IFERROR(GESTION!J167,\" \")","v":0},null,""]
[null,null,null,null,{"$f":"IFERROR(GESTION!H168,\" \")","v":0},{"$f":"IFERROR(GESTION!I168,\" \")","v":0},{"$f":"IFERROR(GESTION!J168,\" \")","v":0},null,""]
[null,null,null,null,{"$f":"IFERROR(GESTION!H169,\" \")","v":0},{"$f":"IFERROR(GESTION!I169,\" \")","v":0},{"$f":"IFERROR(GESTION!J169,\" \")","v":0},null,""]
[null,null,null,null,{"$f":"IFERROR(GESTION!H170,\" \")","v":0},{"$f":"IFERROR(GESTION!I170,\" \")","v":0},{"$f":"IFERROR(GESTION!J170,\" \")","v":0},null,""]
[null,null,null,null,{"$f":"IFERROR(GESTION!H171,\" \")","v":0},{"$f":"IFERROR(GESTION!I171,\" \")","v":0},{"$f":"IFERROR(GESTION!J171,\" \")","v":0},null,""]
[null,null,null,null,{"$f":"IFERROR(GESTION!H172,\" \")","v":0},{"$f":"IFERROR(GESTION!I172,\" \")","v":0},{"$f":"IFERROR(GESTION!J172,\" \")","v":0},null,""]
[null,null,null,null,{"$f":"IFERROR(GESTION!H173,\" \")","v":0},{"$f":"IFERROR(GESTION!I173,\" \")","v":0},{"$f":"IFERROR(GESTION!J173,\" \")","v":0},null,""]
[null,null,null,null,{"$f":"IFERROR(GESTION!H174,\" \")","v":0},{"$f":"IFERROR(GESTION!I174,\" \")","v":0},{"$f":"IFERROR(GESTION!J174,\" \")","v":0},null,""]
[null,null,null,null,{"$f":"IFERROR(GESTION!H175,\" \")","v":0},{"$f":"IFERROR(GESTION!I175,\" \")","v":0},{"$f":"IFERROR(GESTION!J175,\" \")","v":0},null,""]
[null,null,"7. Continuar la consolidación del SIGCMA, a través de los procesos de formación en modelos de gestión, logrando la implementación y ampliación de este en los esquemas certificados de manera gradual, teniendo en cuenta las capacidades de los diferentes despachos judiciales y dependencias de la Rama Judicial y articulando el enfoque de Arquitectura Empresarial para el desarrollo del PETD a través de la gestión del conocimiento para la gestión del cambio propendiendo por una cultura de la calidad, la transparencia, la rendición de cuentas, la anticorrupción y el antisoborno","1. Gestionar el desarrollo de las competencias, la toma de conciencia , la cultura  organizacional  y el compromiso de los  servidores judiciales, contratistas, practicantes y  judicantes de contribuir a generar valor público en la administración de justicia, en el marco de  cumplimiento de los requisitos  aplicables y el comportamiento ético.\n4. Hacer un uso racional de los recursos naturales aplicando los principios y fases de la Economía Circular, para prevenir, mitigar y controlar los impactos ambientales.",{"$f":"IFERROR(GESTION!H176,\" \")","v":0},{"$f":"IFERROR(GESTION!I176,\" \")","v":0},{"$f":"IFERROR(GESTION!J176,\" \")","v":0},null,""]
[null,null,null,null,{"$f":"IFERROR(GESTION!H177,\" \")","v":0},{"$f":"IFERROR(GESTION!I177,\" \")","v":0},{"$f":"IFERROR(GESTION!J177,\" \")","v":0},null,""]
[null,null,null,null,{"$f":"IFERROR(GESTION!H178,\" \")","v":0},{"$f":"IFERROR(GESTION!I178,\" \")","v":0},{"$f":"IFERROR(GESTION!J178,\" \")","v":0},null,""]
[null,null,null,null,{"$f":"IFERROR(GESTION!H179,\" \")","v":0},{"$f":"IFERROR(GESTION!I179,\" \")","v":0},{"$f":"IFERROR(GESTION!J179,\" \")","v":0},null,""]
[null,null,null,null,{"$f":"IFERROR(GESTION!H180,\" \")","v":0},{"$f":"IFERROR(GESTION!I180,\" \")","v":0},{"$f":"IFERROR(GESTION!J180,\" \")","v":0},null,""]
[null,null,null,null,{"$f":"IFERROR(GESTION!H181,\" \")","v":0},{"$f":"IFERROR(GESTION!I181,\" \")","v":0},{"$f":"IFERROR(GESTION!J181,\" \")","v":0},null,""]
[null,null,null,null,{"$f":"IFERROR(GESTION!H182,\" \")","v":0},{"$f":"IFERROR(GESTION!I182,\" \")","v":0},{"$f":"IFERROR(GESTION!J182,\" \")","v":0},null,""]
[null,null,null,null,{"$f":"IFERROR(GESTION!H183,\" \")","v":0},{"$f":"IFERROR(GESTION!I183,\" \")","v":0},{"$f":"IFERROR(GESTION!J183,\" \")","v":0},null,""]
[null,null,null,null,{"$f":"IFERROR(GESTION!H184,\" \")","v":0},{"$f":"IFERROR(GESTION!I184,\" \")","v":0},{"$f":"IFERROR(GESTION!J184,\" \")","v":0},null,""]
[null,null,null,null,{"$f":"IFERROR(GESTION!H185,\" \")","v":0},{"$f":"IFERROR(GESTION!I185,\" \")","v":0},{"$f":"IFERROR(GESTION!J185,\" \")","v":0},null,""]
["4. Talento Humano","Talento Humano: Fortalecer el talento humano en la Rama Judicial para que sea eficiente, capacitado y realice su labor en ambientes saludables y seguros. Ampliar la cobertura de la carrera judicial y mejorar la oferta de formación, que esté disponible para todos los servidores judiciales e impacte positivamente el servicio de justicia y responda a las necesidades reales del ejercicio de la función judicial.","1. Ampliar la cobertura de la carrera judicial optimizando los procesos de los concursos de méritos y propender por mitigar su litigiosidad.","1. Gestionar el desarrollo de las competencias, la toma de conciencia , la cultura  organizacional  y el compromiso de los  servidores judiciales, contratistas, practicantes y  judicantes de contribuir a generar valor público en la administración de justicia, en el marco de  cumplimiento de los requisitos  aplicables y el comportamiento ético.",{"$f":"IFERROR(GESTION!H186,\" \")","v":"Plan de necesidades de formación Judicial"},{"$f":"IFERROR(GESTION!I186,\" \")","v":"Entregable"},{"$f":"IFERROR(GESTION!J186,\" \")","v":0},null,"",null,"El 14 de Diciembre de 2022 se recibio en el correo electrónico la circular EJC22-77 de la Escuala Judicial Rodrigo Lara Bonilla. En esta se comunicaba el procedimiento para realizar el diagnóstico de\nnecesidades del Plan de Formación 2023 para funcionarias(os) y empleadas(os) judiciales.\n \nSe hizo participe a los servidores judiciales por medio de un formulario denominado “levantamiento de necesidades para la construcción del plan 2023” los cuales pretenden relacionar las competencias y habilidades más relevantes para determinar las temáticas de formación y capacitación que fortalecerán la función judicial para la vigencia 2023.\n\na la fecha el Plan no ha sido remitido y tampoco se encuentra en la Página Web de la EJRLB"]
[null,null,null,null,{"$f":"IFERROR(GESTION!H187,\" \")","v":"Realizar seguimiento a los eventos programados  por la EJRLB en la seccional."},{"$f":"IFERROR(GESTION!I187,\" \")","v":"Entregable"},{"$f":"IFERROR(GESTION!J187,\" \")","v":0},null,"",null,"En este periodo del 2023 no se han ofrecido los cursos semanales de tipo virtual o presencial que habitualmente se programan por parte de la EJRLB, por lo anterior no se cuenta con listados de asistencia o participación para este periodo."]
[null,null,null,null,{"$f":"IFERROR(GESTION!H188,\" \")","v":"Difundir y divulgar la oferta académica"},{"$f":"IFERROR(GESTION!I188,\" \")","v":"Entregable"},{"$f":"IFERROR(GESTION!J188,\" \")","v":0},null,"",null,"En este periodo del 2023 no se han ofrecido los cursos semanales de tipo virtual o presencial que habitualmente se programan por parte de la EJRLB, por lo anterior no se ha divulgado información al respecto durante  este periodo."]
[null,null,null,null,{"$f":"IFERROR(GESTION!H189,\" \")","v":"Realizar reuniones con el Grupo Seccional de Apoyo"},{"$f":"IFERROR(GESTION!I189,\" \")","v":"Entregable"},{"$f":"IFERROR(GESTION!J189,\" \")","v":0},null,"",null,"Durante el primer trimestre del año 2023 no se han realizado reuniones con el grupo seccional de Apoyo"]
[null,null,null,null,{"$f":"IFERROR(GESTION!H190,\" \")","v":"Realizar jornadas de capacitación, divulgación y/o verificación de temas relacionados con el SIGCMA"},{"$f":"IFERROR(GESTION!I190,\" \")","v":"Entregable"},{"$f":"IFERROR(GESTION!J190,\" \")","v":0},null,"",null,"Según el plan de habilidades del año 2023, durante primer trimestre del año no se tenian programadas capacitaciones, sin embargo, durante este periodo, la seccional asistió a las diferentes actividades de capacitación y verificación del SIGCMA, entre ellas:\n\n- 19 de Febrero Reunión con la Coordinación del SIGCMA nivel central para la revisión de procedimientos.\n- Comité Nacional del SIGCMA del 24 de febrero para la presentación del nuevo formato de Plan de Accion, vigencia 2023.\n- El 8 de marzo, las dependencias certificadas de Manizales se reunieron con con la coorinación del SIGMA de nivel central para la solución de dudas y diificultades en la elaboración del nuevo fomrato del Plan de Acción\n\n\n"]
[null,null,null,null,{"$f":"IFERROR(GESTION!H191,\" \")","v":"Socializar las políticas ambientales de la entidad y sensibilizar acerca de las mismas"},{"$f":"IFERROR(GESTION!I191,\" \")","v":"Entregable"},{"$f":"IFERROR(GESTION!J191,\" \")","v":0},null,"",null,"En el Plan de Trabajo del Sistema de Gestión Ambiebtak se estableció llevar a cabo socialización de las políticas ambientales durante el segundo y cuarto trimestre del año 2023"]
[null,null,null,null,{"$f":"IFERROR(GESTION!H192,\" \")","v":"Solicitar apoyo al CENDOJ para realización de capacitaciones en tablas de retención documental (TRD)"},{"$f":"IFERROR(GESTION!I192,\" \")","v":"Entregable"},{"$f":"IFERROR(GESTION!J192,\" \")","v":0},null,"",null,"Mediante correo electronico del 28/03/2023 se solicitó capacitación sobre implementación de Tablas de Retención Documental (TRD), esta fue programada para el 19/04/2023 ","Solicitud Capacitación TRD:\n\nhttps://etbcsj-my.sharepoint.com/:f:/g/personal/sacsma_cendoj_ramajudicial_gov_co/En748LjvDFFJuXUdTZOspcYBif-FAJ57cq4WXInF9S7EIQ?e=LN5lI5"]
[null,null,null,null,{"$f":"IFERROR(GESTION!H193,\" \")","v":"Lista de elegibles"},{"$f":"IFERROR(GESTION!I193,\" \")","v":"Entregable"},{"$f":"IFERROR(GESTION!J193,\" \")","v":0},null,"",null,"Durante el primer trimestre del año 2023, se elaboraron 26 acuerdos de listas de elegibles, realizando las siguientes actividades:\n\n1. Publicación de opciones de sede: total 43 cargos durante el primer trimestre (24 en enero, 12 en febrero  y 7 en marzo)\n\n2. Recepción de formatos de opción de sede: 112 opciones de sede, así: enero 74 (2 secretario Cto, 4 Secretario Mpa, 21 oficial mayor Cto, 13 Oficial  mayor mpal, 4 escribiente tribunal, 9 escribiente cto, 8 escribiente cto CS, 2 asistente social, 4 Asistente jurídico, 7 Asistente administrativo G6), febrero 13 (3 Secretario Cto, 4 Secretario mpal, 6 escribiente mpal)  y en marzo 25 (1 Secretario Cto, 14 Oficial mayor Cto, 10 Escribiente Cto).\n\n3. Consolidación y remisión al nominador de la lista de elegibles: se consolidaron 26 y se enviaron a los nominadores 31 acuerdos con lista de elegibles (los restantes,  no se remiten durante este periodo por encontrarse pendiente de resolver solicitud de traslado de servidor en carrera). Del último trimestre del 2022 se enviaron 10 acuerdos con listas de elegibles, quedando pendientes 2 de este mismo periodo pues tienen recurso de apelación por resolver."]
[null,null,null,null,{"$f":"IFERROR(GESTION!H194,\" \")","v":"Registro de elegibles"},{"$f":"IFERROR(GESTION!I194,\" \")","v":"Entregable"},{"$f":"IFERROR(GESTION!J194,\" \")","v":0},null,"",null,"Durante el primer trimestre del año 2023 se posesionaron 13 aspirantes de la convocatoria 4.\n4 Hombres y 9 Mujeres en los siguientes cargos:\n\n1 Asistente Administrativo G6 Ejec Penas \n1 Citador Cto CS\n1 Citador Juz. Cto \n1 Escribiente Cto CS\n1 Escribiente Juz. Mpal\n1 Escribiente Tribunal\n3 Oficial mayor Juz. Cto\n1 Oficial Mayor Juz. Mpal\n1 Oficial Mayor Tribunal\n2 Secretario Juz. Cto\n\n\nSe publicaron 6 actualizaciones del registro de elegibles, así, enero 1, febrero 2 y marzo 3."]
[null,null,null,null,{"$f":"IFERROR(GESTION!H195,\" \")","v":"Proyectar conceptos a las solicitudes de traslados"},{"$f":"IFERROR(GESTION!I195,\" \")","v":"Entregable"},{"$f":"IFERROR(GESTION!J195,\" \")","v":0},null,"",null,"Durante el primer trimestre del año 2023, se presentaron y se resolvieron 33 solicitudes de traslado, para lo cual se desarrollaron las siguientes actividades:\n\n - Recepción de solicitudes de traslado: (33) solicitudes de traslado enviadas por servidores de carrera.\n\n -  Solicitud de traslado: se emitieron (24) conceptos de traslado favorables y (8) desfavorables y (1) remitido por competencia (traslado por razones del servicio).\n\n - Notificación de concepto favorable o desfavorable de traslado al servidor judicial: se remitieron por medio de Resolución expedida por esta Corporación, 24 conceptos de traslado favorable (tanto al nominador como al Servidor Judicial), catorce (8) conceptos de traslado desfavorables a los servidores.\n\n"]
[null,null,"2. Impactar la función y servicios que presta la Rama Judicial, a través de una formación integral desde una visión de gestión del conocimiento, relacionada con los problemas de la justicia y los problemas de gestión de quienes administran los recursos de la justicia, y potenciando el uso de medios virtuales.",null,{"$f":"IFERROR(GESTION!H196,\" \")","v":0},{"$f":"IFERROR(GESTION!I196,\" \")","v":0},{"$f":"IFERROR(GESTION!J196,\" \")","v":0},null,""]
[null,null,null,null,{"$f":"IFERROR(GESTION!H197,\" \")","v":0},{"$f":"IFERROR(GESTION!I197,\" \")","v":0},{"$f":"IFERROR(GESTION!J197,\" \")","v":0},null,""]
[null,null,null,null,{"$f":"IFERROR(GESTION!H198,\" \")","v":0},{"$f":"IFERROR(GESTION!I198,\" \")","v":0},{"$f":"IFERROR(GESTION!J198,\" \")","v":0},null,{"$f":"IFERROR(H198/G198,\"\")","v":""}]
[null,null,null,null,{"$f":"IFERROR(GESTION!H199,\" \")","v":0},{"$f":"IFERROR(GESTION!I199,\" \")","v":0},{"$f":"IFERROR(GESTION!J199,\" \")","v":0},null,""]
[null,null,null,null,{"$f":"IFERROR(GESTION!H200,\" \")","v":0},{"$f":"IFERROR(GESTION!I200,\" \")","v":0},{"$f":"IFERROR(GESTION!J200,\" \")","v":0},null,""]
[null,null,null,null,{"$f":"IFERROR(GESTION!H201,\" \")","v":0},{"$f":"IFERROR(GESTION!I201,\" \")","v":0},{"$f":"IFERROR(GESTION!J201,\" \")","v":0},null,""]
[null,null,null,null,{"$f":"IFERROR(GESTION!H202,\" \")","v":0},{"$f":"IFERROR(GESTION!I202,\" \")","v":0},{"$f":"IFERROR(GESTION!J202,\" \")","v":0},null,""]
[null,null,null,null,{"$f":"IFERROR(GESTION!H203,\" \")","v":0},{"$f":"IFERROR(GESTION!I203,\" \")","v":0},{"$f":"IFERROR(GESTION!J203,\" \")","v":0},null,""]
[null,null,null,null,{"$f":"IFERROR(GESTION!H204,\" \")","v":0},{"$f":"IFERROR(GESTION!I204,\" \")","v":0},{"$f":"IFERROR(GESTION!J204,\" \")","v":0},null,""]
[null,null,null,null,{"$f":"IFERROR(GESTION!H205,\" \")","v":0},{"$f":"IFERROR(GESTION!I205,\" \")","v":0},{"$f":"IFERROR(GESTION!J205,\" \")","v":0},null,""]
[null,null,"3. Promover la incorporación de la perspectiva de género y el enfoque diferencial en los fallos judiciales y en la atención a los ciudadanos, la administración de la Rama Judicial, la administración de la carrera judicial y la elaboración de listas para altas Cortes. ",null,{"$f":"IFERROR(GESTION!H206,\" \")","v":0},{"$f":"IFERROR(GESTION!I206,\" \")","v":0},{"$f":"IFERROR(GESTION!J206,\" \")","v":0},null,""]
[null,null,null,null,{"$f":"IFERROR(GESTION!H207,\" \")","v":0},{"$f":"IFERROR(GESTION!I207,\" \")","v":0},{"$f":"IFERROR(GESTION!J207,\" \")","v":0},null,""]
[null,null,null,null,{"$f":"IFERROR(GESTION!H208,\" \")","v":0},{"$f":"IFERROR(GESTION!I208,\" \")","v":0},{"$f":"IFERROR(GESTION!J208,\" \")","v":0},null,""]
[null,null,null,null,{"$f":"IFERROR(GESTION!H209,\" \")","v":0},{"$f":"IFERROR(GESTION!I209,\" \")","v":0},{"$f":"IFERROR(GESTION!J209,\" \")","v":0},null,""]
[null,null,null,null,{"$f":"IFERROR(GESTION!H210,\" \")","v":0},{"$f":"IFERROR(GESTION!I210,\" \")","v":0},{"$f":"IFERROR(GESTION!J210,\" \")","v":0},null,""]
[null,null,null,null,{"$f":"IFERROR(GESTION!H211,\" \")","v":0},{"$f":"IFERROR(GESTION!I211,\" \")","v":0},{"$f":"IFERROR(GESTION!J211,\" \")","v":0},null,""]
[null,null,null,null,{"$f":"IFERROR(GESTION!H212,\" \")","v":0},{"$f":"IFERROR(GESTION!I212,\" \")","v":0},{"$f":"IFERROR(GESTION!J212,\" \")","v":0},null,""]
[null,null,null,null,{"$f":"IFERROR(GESTION!H213,\" \")","v":0},{"$f":"IFERROR(GESTION!I213,\" \")","v":0},{"$f":"IFERROR(GESTION!J213,\" \")","v":0},null,""]
[null,null,null,null,{"$f":"IFERROR(GESTION!H214,\" \")","v":0},{"$f":"IFERROR(GESTION!I214,\" \")","v":0},{"$f":"IFERROR(GESTION!J214,\" \")","v":0},null,""]
[null,null,null,null,{"$f":"IFERROR(GESTION!H215,\" \")","v":0},{"$f":"IFERROR(GESTION!I215,\" \")","v":0},{"$f":"IFERROR(GESTION!J215,\" \")","v":0},null,""]
[null,null,"4. Desarrollar en los servidores judiciales y demás grupos de valor relevantes las competencias necesarias para la efectividad de la transformación digital de modo que puedan, entre otros, utilizar con solvencia las herramientas digitales dispuestas para sus respectivas funciones. Además, fortalecer y actualizar los conocimientos del personal a cargo de la gestión de proyectos de tecnología.",null,{"$f":"IFERROR(GESTION!H216,\" \")","v":0},{"$f":"IFERROR(GESTION!I216,\" \")","v":0},{"$f":"IFERROR(GESTION!J216,\" \")","v":0},null,""]
[null,null,null,null,{"$f":"IFERROR(GESTION!H217,\" \")","v":0},{"$f":"IFERROR(GESTION!I217,\" \")","v":0},{"$f":"IFERROR(GESTION!J217,\" \")","v":0},null,""]
[null,null,null,null,{"$f":"IFERROR(GESTION!H218,\" \")","v":0},{"$f":"IFERROR(GESTION!I218,\" \")","v":0},{"$f":"IFERROR(GESTION!J218,\" \")","v":0},null,""]
[null,null,null,null,{"$f":"IFERROR(GESTION!H219,\" \")","v":0},{"$f":"IFERROR(GESTION!I219,\" \")","v":0},{"$f":"IFERROR(GESTION!J219,\" \")","v":0},null,""]
[null,null,null,null,{"$f":"IFERROR(GESTION!H220,\" \")","v":0},{"$f":"IFERROR(GESTION!I220,\" \")","v":0},{"$f":"IFERROR(GESTION!J220,\" \")","v":0},null,""]
[null,null,null,null,{"$f":"IFERROR(GESTION!H221,\" \")","v":0},{"$f":"IFERROR(GESTION!I221,\" \")","v":0},{"$f":"IFERROR(GESTION!J221,\" \")","v":0},null,""]
[null,null,null,null,{"$f":"IFERROR(GESTION!H222,\" \")","v":0},{"$f":"IFERROR(GESTION!I222,\" \")","v":0},{"$f":"IFERROR(GESTION!J222,\" \")","v":0},null,""]
[null,null,null,null,{"$f":"IFERROR(GESTION!H223,\" \")","v":0},{"$f":"IFERROR(GESTION!I223,\" \")","v":0},{"$f":"IFERROR(GESTION!J223,\" \")","v":0},null,""]
[null,null,null,null,{"$f":"IFERROR(GESTION!H224,\" \")","v":0},{"$f":"IFERROR(GESTION!I224,\" \")","v":0},{"$f":"IFERROR(GESTION!J224,\" \")","v":0},null,""]
[null,null,null,null,{"$f":"IFERROR(GESTION!H225,\" \")","v":0},{"$f":"IFERROR(GESTION!I225,\" \")","v":0},{"$f":"IFERROR(GESTION!J225,\" \")","v":0},null,""]
[null,null,"5. Promover el bienestar de todos los servidores judiciales a través de la implementación de un sistema que contemple los diferentes niveles de estrategias y acciones necesarios para mejorar el clima laboral, la salud física y mental y la calidad del tiempo de descanso.","5. Generar espacios de trabajo seguros y saludables que contribuyan a minimizar los  incidentes, accidentes y enfermedades laborales derivados de las condiciones y actos  inseguros y fomentar  el autocuidado, los  estilos de vida y el trabajo saludable en los servidores judiciales, contratistas, judicantes y practicantes",{"$f":"IFERROR(GESTION!H226,\" \")","v":0},{"$f":"IFERROR(GESTION!I226,\" \")","v":0},{"$f":"IFERROR(GESTION!J226,\" \")","v":0},null,""]
[null,null,null,null,{"$f":"IFERROR(GESTION!H227,\" \")","v":0},{"$f":"IFERROR(GESTION!I227,\" \")","v":0},{"$f":"IFERROR(GESTION!J227,\" \")","v":0},null,""]
[null,null,null,null,{"$f":"IFERROR(GESTION!H228,\" \")","v":0},{"$f":"IFERROR(GESTION!I228,\" \")","v":0},{"$f":"IFERROR(GESTION!J228,\" \")","v":0},null,""]
[null,null,null,null,{"$f":"IFERROR(GESTION!H229,\" \")","v":0},{"$f":"IFERROR(GESTION!I229,\" \")","v":0},{"$f":"IFERROR(GESTION!J229,\" \")","v":0},null,""]
[null,null,null,null,{"$f":"IFERROR(GESTION!H230,\" \")","v":0},{"$f":"IFERROR(GESTION!I230,\" \")","v":0},{"$f":"IFERROR(GESTION!J230,\" \")","v":0},null,""]
[null,null,null,null,{"$f":"IFERROR(GESTION!H231,\" \")","v":0},{"$f":"IFERROR(GESTION!I231,\" \")","v":0},{"$f":"IFERROR(GESTION!J231,\" \")","v":0},null,""]
[null,null,null,null,{"$f":"IFERROR(GESTION!H232,\" \")","v":0},{"$f":"IFERROR(GESTION!I232,\" \")","v":0},{"$f":"IFERROR(GESTION!J232,\" \")","v":0},null,""]
[null,null,null,null,{"$f":"IFERROR(GESTION!H233,\" \")","v":0},{"$f":"IFERROR(GESTION!I233,\" \")","v":0},{"$f":"IFERROR(GESTION!J233,\" \")","v":0},null,""]
[null,null,null,null,{"$f":"IFERROR(GESTION!H234,\" \")","v":0},{"$f":"IFERROR(GESTION!I234,\" \")","v":0},{"$f":"IFERROR(GESTION!J234,\" \")","v":0},null,""]
[null,null,null,null,{"$f":"IFERROR(GESTION!H235,\" \")","v":0},{"$f":"IFERROR(GESTION!I235,\" \")","v":0},{"$f":"IFERROR(GESTION!J235,\" \")","v":0},null,""]
["5. Gobernanza, planeación estratégica y capacidad de toma de decisiones","Gobernanza, planeación estratégica y capacidad de toma de decisiones: Fortalecer la gobernanza, la planeación estratégica y la capacidad de toma de decisiones de la Rama Judicial con base en la evidencia empírica y la articulación efectiva con las demás entidades, para que la perspectiva de género y el enfoque diferencial sean transversales en el presente plan. ","1. Implementar un nuevo modelo integrado para la planeación estratégica, el seguimiento y la medición del desempeño institucional.","2. Asegurar  el cumplimiento de los objetivos institucionales, la normatividad aplicable,  la mejora del SIGCMA y la satisfacción de los usuarios, revisando de  forma continua y sistemática la planificación de la gestión y fortaleciendo la administración de riesgos y sus controles.",{"$f":"IFERROR(GESTION!H236,\" \")","v":"Hacer seguimiento a los planes de acción "},{"$f":"IFERROR(GESTION!I236,\" \")","v":"Entregable"},{"$f":"IFERROR(GESTION!J236,\" \")","v":0},null,"",null,"De acuerdo al cronograma establecido por nivel central, se realiza primer seguimiento al cumplimiento de actividades del plan de acción 2023"]
[null,null,null,null,{"$f":"IFERROR(GESTION!H237,\" \")","v":"Realizar seguimiento al control de riesgos de los diferentes procesos"},{"$f":"IFERROR(GESTION!I237,\" \")","v":"Entregable"},{"$f":"IFERROR(GESTION!J237,\" \")","v":0},null,"","A la fecha no se ha recibido nuevo formato para seguimiento de los riesgos por proceso, por lo que se continua trabajando en el formato de 2022","No se han materializado riesgos"]
[null,null,null,null,{"$f":"IFERROR(GESTION!H238,\" \")","v":"Consolidar y analizar los indicadores de los procesos del SIGCMA"},{"$f":"IFERROR(GESTION!I238,\" \")","v":"Entregable"},{"$f":"IFERROR(GESTION!J238,\" \")","v":0},null,"",null,"Se consolidan los indicadores del primer trimestre, para aqullos indicadores con segimiento trimestral así:\n\n- Avance de las actividades de la matriz de comunicaciones Manizales\n- Quejas, Reclamos, Sugerencias y derechos de petición atendidos oportunamente Manizales\n- Tiempo Promedio de Atención de Quejas, Reclamos y Sugerencias\n-Atención de Propuestas de Reordenamiento y Descongestión\n- Oportunidad en el reporte de información estadística de gestión judicial Manizales\n- Cierre Oportuno de Acciones de Gestión \n- Avance Plan de implementación, mantenimiento y mejoramiento del SICGMA\n\nTodos estos indicadores tuvieron un resultado positivo pues superaron en el nivel de referencia establecido.","Indicadores CSJC\nhttps://etbcsj-my.sharepoint.com/:f:/g/personal/sacsma_cendoj_ramajudicial_gov_co/EjQxuw-mRnZHvn7CaDw43PMBByow8rvTHf6lZO_8Fbx0QQ?e=Tvtorl \n"]
[null,null,null,null,{"$f":"IFERROR(GESTION!H239,\" \")","v":"Formular y tramitar las acciones de gestión (correctivas y preventivas)"},{"$f":"IFERROR(GESTION!I239,\" \")","v":"Entregable"},{"$f":"IFERROR(GESTION!J239,\" \")","v":0},null,"",null,"Durante el primer trimestre, el Consejo Seccional de la Judicatura de Caldas implemento 2 acciones de mejora, la acción número 01-AC-CSJC-2023 y la 02-AC-CSJC-2023, las cuales se encuentran cerradas.","Listado Maestro de Acciones:\n\nhttps://etbcsj-my.sharepoint.com/:f:/g/personal/sacsma_cendoj_ramajudicial_gov_co/Eh2RkONN5NRPjv9fWxJblcgBbo6f0FJeuDmne8Yp-YW2jA?e=CLj1MS"]
[null,null,null,null,{"$f":"IFERROR(GESTION!H240,\" \")","v":"Coordinar la realización de auditorias internas y externas"},{"$f":"IFERROR(GESTION!I240,\" \")","v":"Entregable"},{"$f":"IFERROR(GESTION!J240,\" \")","v":0},null,""]
[null,null,null,null,{"$f":"IFERROR(GESTION!H241,\" \")","v":"Calificación integral de servicio - Funcionarios Judiciales"},{"$f":"IFERROR(GESTION!I241,\" \")","v":"Entregable"},{"$f":"IFERROR(GESTION!J241,\" \")","v":0},null,"",null,"Actividad a la que se le hace seguimiento anual"]
[null,null,null,null,{"$f":"IFERROR(GESTION!H242,\" \")","v":"Consolidación calificación integral de los empleados"},{"$f":"IFERROR(GESTION!I242,\" \")","v":"Entregable"},{"$f":"IFERROR(GESTION!J242,\" \")","v":0},null,"",null,"Actividad a la que se le hace seguimiento anual"]
[null,null,null,null,{"$f":"IFERROR(GESTION!H243,\" \")","v":0},{"$f":"IFERROR(GESTION!I243,\" \")","v":0},{"$f":"IFERROR(GESTION!J243,\" \")","v":0},null,""]
[null,null,null,null,{"$f":"IFERROR(GESTION!H244,\" \")","v":0},{"$f":"IFERROR(GESTION!I244,\" \")","v":0},{"$f":"IFERROR(GESTION!J244,\" \")","v":0},null,""]
[null,null,null,null,{"$f":"IFERROR(GESTION!H245,\" \")","v":0},{"$f":"IFERROR(GESTION!I245,\" \")","v":0},{"$f":"IFERROR(GESTION!J245,\" \")","v":0},null,""]
[null,null,"2. Definir e implementar el modelo optimizado de formulación, seguimiento y evaluación de la política pública judicial.",null,{"$f":"IFERROR(GESTION!H246,\" \")","v":0},{"$f":"IFERROR(GESTION!I246,\" \")","v":0},{"$f":"IFERROR(GESTION!J246,\" \")","v":0},null,""]
[null,null,null,null,{"$f":"IFERROR(GESTION!H247,\" \")","v":0},{"$f":"IFERROR(GESTION!I247,\" \")","v":0},{"$f":"IFERROR(GESTION!J247,\" \")","v":0},null,""]
[null,null,null,null,{"$f":"IFERROR(GESTION!H248,\" \")","v":0},{"$f":"IFERROR(GESTION!I248,\" \")","v":0},{"$f":"IFERROR(GESTION!J248,\" \")","v":0},null,""]
[null,null,null,null,{"$f":"IFERROR(GESTION!H249,\" \")","v":0},{"$f":"IFERROR(GESTION!I249,\" \")","v":0},{"$f":"IFERROR(GESTION!J249,\" \")","v":0},null,""]
[null,null,null,null,{"$f":"IFERROR(GESTION!H250,\" \")","v":0},{"$f":"IFERROR(GESTION!I250,\" \")","v":0},{"$f":"IFERROR(GESTION!J250,\" \")","v":0},null,""]
[null,null,null,null,{"$f":"IFERROR(GESTION!H251,\" \")","v":0},{"$f":"IFERROR(GESTION!I251,\" \")","v":0},{"$f":"IFERROR(GESTION!J251,\" \")","v":0},null,""]
[null,null,null,null,{"$f":"IFERROR(GESTION!H252,\" \")","v":0},{"$f":"IFERROR(GESTION!I252,\" \")","v":0},{"$f":"IFERROR(GESTION!J252,\" \")","v":0},null,""]
[null,null,null,null,{"$f":"IFERROR(GESTION!H253,\" \")","v":0},{"$f":"IFERROR(GESTION!I253,\" \")","v":0},{"$f":"IFERROR(GESTION!J253,\" \")","v":0},null,""]
[null,null,null,null,{"$f":"IFERROR(GESTION!H254,\" \")","v":0},{"$f":"IFERROR(GESTION!I254,\" \")","v":0},{"$f":"IFERROR(GESTION!J254,\" \")","v":0},null,""]
[null,null,null,null,{"$f":"IFERROR(GESTION!H255,\" \")","v":0},{"$f":"IFERROR(GESTION!I255,\" \")","v":0},{"$f":"IFERROR(GESTION!J255,\" \")","v":0},null,""]

{"sheet":"INVERSION","index":9,"n_rows":255,"n_cols":40,"rows_kept":255,"cut":false,"hidden":true,"merged":[[185,5,224,5],[225,5,234,5],[185,1,234,1],[185,0,234,0],[235,5,254,5],[245,2,254,2],[245,3,254,3],[245,4,254,4],[235,1,254,1],[235,0,254,0],[225,2,234,2],[225,3,234,3],[225,4,234,4],[235,2,244,2],[235,3,244,3],[235,4,244,4],[215,2,224,2],[215,3,224,3],[215,4,224,4],[205,2,214,2],[205,3,214,3],[205,4,214,4],[115,0,184,0],[185,2,194,2],[185,3,194,3],[185,4,194,4],[195,2,204,2],[195,3,204,3],[195,4,204,4],[135,2,144,2],[135,3,144,3],[135,4,144,4],[135,5,144,5],[115,1,184,1],[145,5,174,5],[125,2,134,2],[125,3,134,3],[125,4,134,4],[125,5,134,5],[115,2,124,2],[115,3,124,3],[115,4,124,4],[115,5,124,5],[155,2,164,2],[155,3,164,3],[155,4,164,4],[145,2,154,2],[145,3,154,3],[145,4,154,4],[175,2,184,2],[175,3,184,3],[175,4,184,4],[175,5,184,5],[165,4,174,4],[165,2,174,2],[165,3,174,3],[55,0,114,0],[55,1,114,1],[45,5,54,5],[5,0,54,0],[5,1,54,1],[105,2,114,2],[105,3,114,3],[105,4,114,4],[55,5,114,5],[55,2,64,2],[55,3,64,3],[55,4,64,4],[65,2,74,2],[65,3,74,3],[65,4,74,4],[75,2,84,2],[25,5,34,5],[35,2,44,2],[35,3,44,3],[35,4,44,4],[35,5,44,5],[5,5,14,5],[15,2,24,2],[15,3,24,3],[15,4,24,4],[15,5,24,5],[3,4,4,4],[5,2,14,2],[5,3,14,3],[5,4,14,4],[25,2,34,2],[25,3,34,3],[25,4,34,4],[45,2,54,2],[45,3,54,3],[45,4,54,4],[75,3,84,3],[75,4,84,4],[85,2,94,2],[85,3,94,3],[85,4,94,4],[95,2,104,2],[95,3,104,3],[95,4,104,4],[1,39,1,48],[1,0,1,17],[1,18,1,38],[2,25,2,37],[2,38,4,38],[3,0,4,1],[3,2,4,2],[3,5,4,5],[3,6,3,11],[3,12,3,22],[3,23,3,24],[2,0,2,5],[2,6,2,24],[3,32,3,37],[3,25,3,31],[3,3,4,3]]}
[]
["CONSEJO SUPERIOR DE LA JUDICATURA \nUNIDADES MISIONALES DEL CONSEJO SUPERIOR DE LA JUDICATURA \nDIRECCIÓN EJECUTIVA DE ADMINISTRACIÓN JUDICIAL (DEAJ) - UNIDADES MISIONALES DE LA DEAJ\nDIRECCIONES SECCIONALES DE ADMINISTRACIÓN JUDICIAL ",null,null,null,null,null,null,null,null,null,null,null,null,null,null,null,null,null,null,null,null,null,null,null,null,null,null,null,null,null,null,null,null,null,null,null,null,null,null,"GENERADOR DE SEGUIMIENTOS TRIMESTALES"]
["PLAN SECTORIAL DE DESARROLLO 2023-2026 - OBJETIVOS SIGCMA",null,null,null,null,null,"PLAN DE ACCIÓN Y SEGUIMIENTO A LA INVERSIÓN INSTITUCIONAL ",null,null,null,null,null,null,null,null,null,null,null,null,null,null,null,null,null,null,"AVANCE PLAN DE ACCIÓN ANUAL",null,null,null,null,null,null,null,null,null,null,null,null," ANÁLISIS RESULTADO\nFINAL - ACUMULADO"]
["OBJETIVO ESTRATÉGICO",null,"OBJETIVO ESPECÍFICO PSD","NOMBRE DEL INDICADOR PSD","DEFINICIÓN DEL INDICADOR","OBJETIVO ESPECÍFICO SIGCMA","IDENTIFICACIÓN PROYECTO DE INVERSIÓN",null,null,null,null,null,"PARÁMETROS DE MEDICIÓN ",null,null,null,null,null,null,null,null,null,null,"INFORMACIÓN FINANCIERA",null,"SEGUIMIENTO - CUMPLIMIENTO ANUAL ",null,null,null,null,null,null,"INFORMACIÓN COMPLEMENTARIA FINAL"]
[null,null,null,null,null,null,"PROGRAMA DE INVERSIÓN","SUBPROGRAMA DE INVERSIÓN","RUBRO PRESUPUESTAL","CÓDIGO BPIN","NOMBRE DE PROYECTO","OBJETIVO ESPECÍFICO FORMULADO DEL PROYECTO BPIN","NOMBRE ACTIVIDAD DE INVERSIÓN (POAI)","JUSTIFICACIÓN DE LA ACTIVIDAD","DESCRIBA EL ENTREGABLE \n(Producto y/o servicio principal)","META ANUALIDAD","UNIDAD DE MEDIDA","TIPO DE INDICADOR (GESTIÓN O PRODUCTO)","FECHA DE INICIO DE LA ACTIVIDAD\nDÍA/MES/AÑO","FECHA TERMINACIÓN ACTIVIDAD\nDÍA/MES/AÑO \n(Sí supera anualidad, favor dejar 31/12/20xx)","NÚMERO DE BENEFICIARIOS INTERNOS (Servidores Judiciales)","NÚMERO DE BENEFICIARIOS EXTERNOS (Usuarios)"," DEPENDENCIA RESPONSABLE ","ACTO ADMINISTRATIVO (INDICAR EL ACUERDO INICIAL Y MODIFICACIONES)","RECURSOS ASIGNADOS ($)","DETALLE DE LAS ACTIVIDADES REALIZADAS PARA EL LOGRO DE LA INVERSIÓN (Periodo de reporte acumulado) ","COMPROMISO PRESUPUESTAL (VALOR DEL CONTRATO)","AVANCE DE LA META","% AVANCE ANUAL DE LA ACTIVIDAD"," % AVANCE PRESUPUESTAL ANUAL","AVANCE  DE LA ACTIVIDAD - % EN TIEMPO ANUAL","REZAGO","NÚMERO DE BENEFICIADOS INTERNOS","NÚMERO DE BENEFICIADOS EXTERNOS","DIFICULTADES PARA LOGRAR LA META PROPUESTA","EL PRODUCTO FINAL OBTENIDO ¿CÓMO IMPACTÓ SOBRE EL OBJETIVO ESTRATÉGICO?","RECOMENDACIONES PARA LOGRAR LA META","OBSERVACIONES"]
["1. Acceso e Infraestructura Física","Acceso e Infraestructura Física: Ampliar, en todo el territorio nacional, el acceso a una justicia efectiva, pronta, equitativa e incluyente, reduciendo el atraso y la congestión, de acuerdo con las necesidades de la demanda de justicia por jurisdicción y especialidad, y mejorando la articulación con la justicia restaurativa y terapéutica, y otros mecanismos de solución de conflictos y consolidando una infraestructura física óptima para el acceso a la justicia.","1. Ampliar el acceso a justicia para atender las necesidades jurídicas de los ciudadanos con un enfoque diferencial, de una manera pronta, reduciendo las inequidades y las brechas territoriales de acceso.","Estrategias implementadas por la Rama Judicial para ampliar el acceso a la justicia considerando el enfoque diferencial y territorial\n\nÍndice de dispersión en la calificación del factor calidad","# de estrategias establecida s en la meta implementa das durante la vigencia del plan\n\nDispersión en la calificación del factor de calidad por jurisdicción y nivel de competencia.","2. Asegurar  el cumplimiento de los objetivos institucionales, la normatividad aplicable,  la mejora del SIGCMA y la satisfacción de los usuarios, revisando de  forma continua y sistemática la planificación de la gestión y fortaleciendo la administración de riesgos y sus controles",null,null,null,null,null,null,null,null,null,null,null,null,null,null,null,null,null,null,null,{"$f":"IFERROR(#REF!,\" \")","v":" "},{"$f":"IFERROR(#REF!,\"\")","v":""},{"$f":"IFERROR(#REF!,\"\")","v":""},{"$f":"IFERROR(AB6/P6,\"\")","v":""},{"$f":"IFERROR(AA6/Y6,\"\")","v":""},{"$f":"IFERROR(#REF!,\"\")","v":""},{"$f":"IFERROR(P6-AB6,\"\")","v":""},{"$f":"IFERROR(#REF!,\"\")","v":""},{"$f":"IFERROR(#REF!,\"\")","v":""},{"$f":"_xlfn.CONCAT(\"Trimestre 1\",CHAR(10),IFERROR(#REF!,\"\"))","v":"Trimestre 1\n"},{"$f":"_xlfn.CONCAT(\"Trimestre 1\",CHAR(10),IFERROR(#REF!,\"\"))","v":"Trimestre 1\n"},{"$f":"_xlfn.CONCAT(\"Trimestre 1\",CHAR(10),IFERROR(#REF!,\"\"))","v":"Trimestre 1\n"},{"$f":"_xlfn.CONCAT(\"Trimestre 1\",CHAR(10),IFERROR(#REF!,\"\"))","v":"Trimestre 1\n"},{"$f":"_xlfn.CONCAT(\"Trimestre 1\",CHAR(10),IFERROR(#REF!,\"\"))","v":"Trimestre 1\n"}]
[null,null,null,null,null,null,null,null,null,null,null,null,null,null,null,null,null,null,null,null,null,null,null,null,null,{"$f":"IFERROR(#REF!,\" \")","v":" "},{"$f":"IFERROR(#REF!,\"\")","v":""},{"$f":"IFERROR(#REF!,\"\")","v":""},{"$f":"IFERROR(AB7/P7,\"\")","v":""},{"$f":"IFERROR(AA7/Y7,\"\")","v":""},{"$f":"IFERROR(#REF!,\"\")","v":""},{"$f":"IFERROR(P7-AB7,\"\")","v":""},{"$f":"IFERROR(#REF!,\"\")","v":""},{"$f":"IFERROR(#REF!,\"\")","v":""},{"$f":"_xlfn.CONCAT(\"Trimestre 1\",CHAR(10),IFERROR(#REF!,\"\"))","v":"Trimestre 1\n"},{"$f":"_xlfn.CONCAT(\"Trimestre 1\",CHAR(10),IFERROR(#REF!,\"\"))","v":"Trimestre 1\n"},{"$f":"_xlfn.CONCAT(\"Trimestre 1\",CHAR(10),IFERROR(#REF!,\"\"))","v":"Trimestre 1\n"},{"$f":"_xlfn.CONCAT(\"Trimestre 1\",CHAR(10),IFERROR(#REF!,\"\"))","v":"Trimestre 1\n"},{"$f":"_xlfn.CONCAT(\"Trimestre 1\",CHAR(10),IFERROR(#REF!,\"\"))","v":"Trimestre 1\n"}]
[null,null,null,null,null,null,null,null,null,null,null,null,null,null,null,null,null,null,null,null,null,null,null,null,null,{"$f":"IFERROR(#REF!,\" \")","v":" "},{"$f":"IFERROR(#REF!,\"\")","v":""},{"$f":"IFERROR(#REF!,\"\")","v":""},null,null,{"$f":"IFERROR(#REF!,\"\")","v":""},null,{"$f":"IFERROR(#REF!,\"\")","v":""},{"$f":"IFERROR(#REF!,\"\")","v":""},{"$f":"_xlfn.CONCAT(\"Trimestre 1\",CHAR(10),IFERROR(#REF!,\"\"))","v":"Trimestre 1\n"},{"$f":"_xlfn.CONCAT(\"Trimestre 1\",CHAR(10),IFERROR(#REF!,\"\"))","v":"Trimestre 1\n"},{"$f":"_xlfn.CONCAT(\"Trimestre 1\",CHAR(10),IFERROR(#REF!,\"\"))","v":"Trimestre 1\n"},{"$f":"_xlfn.CONCAT(\"Trimestre 1\",CHAR(10),IFERROR(#REF!,\"\"))","v":"Trimestre 1\n"},{"$f":"_xlfn.CONCAT(\"Trimestre 1\",CHAR(10),IFERROR(#REF!,\"\"))","v":"Trimestre 1\n"}]
[null,null,null,null,null,null,null,null,null,null,null,null,null,null,null,null,null,null,null,null,null,null,null,null,null,{"$f":"IFERROR(#REF!,\" \")","v":" "},{"$f":"IFERROR(#REF!,\"\")","v":""},{"$f":"IFERROR(#REF!,\"\")","v":""},null,null,{"$f":"IFERROR(#REF!,\"\")","v":""},null,{"$f":"IFERROR(#REF!,\"\")","v":""},{"$f":"IFERROR(#REF!,\"\")","v":""},{"$f":"_xlfn.CONCAT(\"Trimestre 1\",CHAR(10),IFERROR(#REF!,\"\"))","v":"Trimestre 1\n"},{"$f":"_xlfn.CONCAT(\"Trimestre 1\",CHAR(10),IFERROR(#REF!,\"\"))","v":"Trimestre 1\n"},{"$f":"_xlfn.CONCAT(\"Trimestre 1\",CHAR(10),IFERROR(#REF!,\"\"))","v":"Trimestre 1\n"},{"$f":"_xlfn.CONCAT(\"Trimestre 1\",CHAR(10),IFERROR(#REF!,\"\"))","v":"Trimestre 1\n"},{"$f":"_xlfn.CONCAT(\"Trimestre 1\",CHAR(10),IFERROR(#REF!,\"\"))","v":"Trimestre 1\n"}]
[null,null,null,null,null,null,null,null,null,null,null,null,null,null,null,null,null,null,null,null,null,null,null,null,null,{"$f":"IFERROR(#REF!,\" \")","v":" "},{"$f":"IFERROR(#REF!,\"\")","v":""},{"$f":"IFERROR(#REF!,\"\")","v":""},null,null,{"$f":"IFERROR(#REF!,\"\")","v":""},null,{"$f":"IFERROR(#REF!,\"\")","v":""},{"$f":"IFERROR(#REF!,\"\")","v":""},{"$f":"_xlfn.CONCAT(\"Trimestre 1\",CHAR(10),IFERROR(#REF!,\"\"))","v":"Trimestre 1\n"},{"$f":"_xlfn.CONCAT(\"Trimestre 1\",CHAR(10),IFERROR(#REF!,\"\"))","v":"Trimestre 1\n"},{"$f":"_xlfn.CONCAT(\"Trimestre 1\",CHAR(10),IFERROR(#REF!,\"\"))","v":"Trimestre 1\n"},{"$f":"_xlfn.CONCAT(\"Trimestre 1\",CHAR(10),IFERROR(#REF!,\"\"))","v":"Trimestre 1\n"},{"$f":"_xlfn.CONCAT(\"Trimestre 1\",CHAR(10),IFERROR(#REF!,\"\"))","v":"Trimestre 1\n"}]
[null,null,null,null,null,null,null,null,null,null,null,null,null,null,null,null,null,null,null,null,null,null,null,null,null,{"$f":"IFERROR(#REF!,\" \")","v":" "},{"$f":"IFERROR(#REF!,\"\")","v":""},{"$f":"IFERROR(#REF!,\"\")","v":""},null,null,{"$f":"IFERROR(#REF!,\"\")","v":""},null,{"$f":"IFERROR(#REF!,\"\")","v":""},{"$f":"IFERROR(#REF!,\"\")","v":""},{"$f":"_xlfn.CONCAT(\"Trimestre 1\",CHAR(10),IFERROR(#REF!,\"\"))","v":"Trimestre 1\n"},{"$f":"_xlfn.CONCAT(\"Trimestre 1\",CHAR(10),IFERROR(#REF!,\"\"))","v":"Trimestre 1\n"},{"$f":"_xlfn.CONCAT(\"Trimestre 1\",CHAR(10),IFERROR(#REF!,\"\"))","v":"Trimestre 1\n"},{"$f":"_xlfn.CONCAT(\"Trimestre 1\",CHAR(10),IFERROR(#REF!,\"\"))","v":"Trimestre 1\n"},{"$f":"_xlfn.CONCAT(\"Trimestre 1\",CHAR(10),IFERROR(#REF!,\"\"))","v":"Trimestre 1\n"}]
[null,null,null,null,null,null,null,null,null,null,null,null,null,null,null,null,null,null,null,null,null,null,null,null,null,{"$f":"IFERROR(#REF!,\" \")","v":" "},{"$f":"IFERROR(#REF!,\"\")","v":""},{"$f":"IFERROR(#REF!,\"\")","v":""},null,null,{"$f":"IFERROR(#REF!,\"\")","v":""},null,{"$f":"IFERROR(#REF!,\"\")","v":""},{"$f":"IFERROR(#REF!,\"\")","v":""},{"$f":"_xlfn.CONCAT(\"Trimestre 1\",CHAR(10),IFERROR(#REF!,\"\"))","v":"Trimestre 1\n"},{"$f":"_xlfn.CONCAT(\"Trimestre 1\",CHAR(10),IFERROR(#REF!,\"\"))","v":"Trimestre 1\n"},{"$f":"_xlfn.CONCAT(\"Trimestre 1\",CHAR(10),IFERROR(#REF!,\"\"))","v":"Trimestre 1\n"},{"$f":"_xlfn.CONCAT(\"Trimestre 1\",CHAR(10),IFERROR(#REF!,\"\"))","v":"Trimestre 1\n"},{"$f":"_xlfn.CONCAT(\"Trimestre 1\",CHAR(10),IFERROR(#REF!,\"\"))","v":"Trimestre 1\n"}]
[null,null,null,null,null,null,null,null,null,null,null,null,null,null,null,null,null,null,null,null,null,null,null,null,null,{"$f":"IFERROR(#REF!,\" \")","v":" "},{"$f":"IFERROR(#REF!,\"\")","v":""},{"$f":"IFERROR(#REF!,\"\")","v":""},{"$f":"IFERROR(AB13/P13,\"\")","v":""},{"$f":"IFERROR(AA13/Y13,\"\")","v":""},{"$f":"IFERROR(#REF!,\"\")","v":""},"",{"$f":"IFERROR(#REF!,\"\")","v":""},{"$f":"IFERROR(#REF!,\"\")","v":""},{"$f":"_xlfn.CONCAT(\"Trimestre 1\",CHAR(10),IFERROR(#REF!,\"\"))","v":"Trimestre 1\n"},{"$f":"_xlfn.CONCAT(\"Trimestre 1\",CHAR(10),IFERROR(#REF!,\"\"))","v":"Trimestre 1\n"},{"$f":"_xlfn.CONCAT(\"Trimestre 1\",CHAR(10),IFERROR(#REF!,\"\"))","v":"Trimestre 1\n"},{"$f":"_xlfn.CONCAT(\"Trimestre 1\",CHAR(10),IFERROR(#REF!,\"\"))","v":"Trimestre 1\n"},{"$f":"_xlfn.CONCAT(\"Trimestre 1\",CHAR(10),IFERROR(#REF!,\"\"))","v":"Trimestre 1\n"}]
[null,null,null,null,null,null,null,null,null,null,null,null,null,null,null,null,null,null,null,null,null,null,null,null,null,{"$f":"IFERROR(#REF!,\" \")","v":" "},{"$f":"IFERROR(#REF!,\"\")","v":""},{"$f":"IFERROR(#REF!,\"\")","v":""},"","",{"$f":"IFERROR(#REF!,\"\")","v":""},"",{"$f":"IFERROR(#REF!,\"\")","v":""},{"$f":"IFERROR(#REF!,\"\")","v":""},{"$f":"_xlfn.CONCAT(\"Trimestre 1\",CHAR(10),IFERROR(#REF!,\"\"))","v":"Trimestre 1\n"},{"$f":"_xlfn.CONCAT(\"Trimestre 1\",CHAR(10),IFERROR(#REF!,\"\"))","v":"Trimestre 1\n"},{"$f":"_xlfn.CONCAT(\"Trimestre 1\",CHAR(10),IFERROR(#REF!,\"\"))","v":"Trimestre 1\n"},{"$f":"_xlfn.CONCAT(\"Trimestre 1\",CHAR(10),IFERROR(#REF!,\"\"))","v":"Trimestre 1\n"},{"$f":"_xlfn.CONCAT(\"Trimestre 1\",CHAR(10),IFERROR(#REF!,\"\"))","v":"Trimestre 1\n"}]
[null,null,null,null,null,null,null,null,null,null,null,null,null,null,null,null,null,null,null,null,null,null,null,null,null,{"$f":"IFERROR(#REF!,\" \")","v":" "},{"$f":"IFERROR(#REF!,\"\")","v":""},{"$f":"IFERROR(#REF!,\"\")","v":""},"","",{"$f":"IFERROR(#REF!,\"\")","v":""},"",{"$f":"IFERROR(#REF!,\"\")","v":""},{"$f":"IFERROR(#REF!,\"\")","v":""},{"$f":"_xlfn.CONCAT(\"Trimestre 1\",CHAR(10),IFERROR(#REF!,\"\"))","v":"Trimestre 1\n"},{"$f":"_xlfn.CONCAT(\"Trimestre 1\",CHAR(10),IFERROR(#REF!,\"\"))","v":"Trimestre 1\n"},{"$f":"_xlfn.CONCAT(\"Trimestre 1\",CHAR(10),IFERROR(#REF!,\"\"))","v":"Trimestre 1\n"},{"$f":"_xlfn.CONCAT(\"Trimestre 1\",CHAR(10),IFERROR(#REF!,\"\"))","v":"Trimestre 1\n"},{"$f":"_xlfn.CONCAT(\"Trimestre 1\",CHAR(10),IFERROR(#REF!,\"\"))","v":"Trimestre 1\n"}]
[null,null,"2. Mejorar los tiempos de respuesta de la Rama Judicial y reducir el inventario de procesos, identificando los retos internos y promoviendo tanto acciones articuladas específicas para abordarlos como estrategias coordinadas para enfrentar las barreras que dependen de otras entidades.","Reducción de tiempos de respuesta en los despachos en los que se implemente el sistema de gestión judicial","% Reducción del promedio de días de duración de los procesos judiciales en los despachos en los que se implemente el sistema de gestión judicial","2. Asegurar  el cumplimiento de los objetivos institucionales, la normatividad aplicable,  la mejora del SIGCMA y la satisfacción de los usuarios, revisando de  forma continua y sistemática la planificación de la gestión y fortaleciendo la administración de riesgos y sus controles",null,null,null,null,null,null,null,null,null,null,null,null,null,null,null,null,null,null,null,{"$f":"IFERROR(#REF!,\" \")","v":" "},{"$f":"IFERROR(#REF!,\"\")","v":""},{"$f":"IFERROR(#REF!,\"\")","v":""},"","",{"$f":"IFERROR(#REF!,\"\")","v":""},"",{"$f":"IFERROR(#REF!,\"\")","v":""},{"$f":"IFERROR(#REF!,\"\")","v":""},{"$f":"_xlfn.CONCAT(\"Trimestre 1\",CHAR(10),IFERROR(#REF!,\"\"))","v":"Trimestre 1\n"},{"$f":"_xlfn.CONCAT(\"Trimestre 1\",CHAR(10),IFERROR(#REF!,\"\"))","v":"Trimestre 1\n"},{"$f":"_xlfn.CONCAT(\"Trimestre 1\",CHAR(10),IFERROR(#REF!,\"\"))","v":"Trimestre 1\n"},{"$f":"_xlfn.CONCAT(\"Trimestre 1\",CHAR(10),IFERROR(#REF!,\"\"))","v":"Trimestre 1\n"},{"$f":"_xlfn.CONCAT(\"Trimestre 1\",CHAR(10),IFERROR(#REF!,\"\"))","v":"Trimestre 1\n"}]
[null,null,null,null,null,null,null,null,null,null,null,null,null,null,null,null,null,null,null,null,null,null,null,null,null,{"$f":"IFERROR(#REF!,\" \")","v":" "},{"$f":"IFERROR(#REF!,\"\")","v":""},{"$f":"IFERROR(#REF!,\"\")","v":""},"","",{"$f":"IFERROR(#REF!,\"\")","v":""},"",{"$f":"IFERROR(#REF!,\"\")","v":""},{"$f":"IFERROR(#REF!,\"\")","v":""},{"$f":"_xlfn.CONCAT(\"Trimestre 1\",CHAR(10),IFERROR(#REF!,\"\"))","v":"Trimestre 1\n"},{"$f":"_xlfn.CONCAT(\"Trimestre 1\",CHAR(10),IFERROR(#REF!,\"\"))","v":"Trimestre 1\n"},{"$f":"_xlfn.CONCAT(\"Trimestre 1\",CHAR(10),IFERROR(#REF!,\"\"))","v":"Trimestre 1\n"},{"$f":"_xlfn.CONCAT(\"Trimestre 1\",CHAR(10),IFERROR(#REF!,\"\"))","v":"Trimestre 1\n"},{"$f":"_xlfn.CONCAT(\"Trimestre 1\",CHAR(10),IFERROR(#REF!,\"\"))","v":"Trimestre 1\n"}]
[null,null,null,null,null,null,null,null,null,null,null,null,null,null,null,null,null,null,null,null,null,null,null,null,null,{"$f":"IFERROR(#REF!,\" \")","v":" "},{"$f":"IFERROR(#REF!,\"\")","v":""},{"$f":"IFERROR(#REF!,\"\")","v":""},null,null,{"$f":"IFERROR(#REF!,\"\")","v":""},null,{"$f":"IFERROR(#REF!,\"\")","v":""},{"$f":"IFERROR(#REF!,\"\")","v":""},{"$f":"_xlfn.CONCAT(\"Trimestre 1\",CHAR(10),IFERROR(#REF!,\"\"))","v":"Trimestre 1\n"},{"$f":"_xlfn.CONCAT(\"Trimestre 1\",CHAR(10),IFERROR(#REF!,\"\"))","v":"Trimestre 1\n"},{"$f":"_xlfn.CONCAT(\"Trimestre 1\",CHAR(10),IFERROR(#REF!,\"\"))","v":"Trimestre 1\n"},{"$f":"_xlfn.CONCAT(\"Trimestre 1\",CHAR(10),IFERROR(#REF!,\"\"))","v":"Trimestre 1\n"},{"$f":"_xlfn.CONCAT(\"Trimestre 1\",CHAR(10),IFERROR(#REF!,\"\"))","v":"Trimestre 1\n"}]
[null,null,null,null,null,null,null,null,null,null,null,null,null,null,null,null,null,null,null,null,null,null,null,null,null,{"$f":"IFERROR(#REF!,\" \")","v":" "},{"$f":"IFERROR(#REF!,\"\")","v":""},{"$f":"IFERROR(#REF!,\"\")","v":""},null,null,{"$f":"IFERROR(#REF!,\"\")","v":""},null,{"$f":"IFERROR(#REF!,\"\")","v":""},{"$f":"IFERROR(#REF!,\"\")","v":""},{"$f":"_xlfn.CONCAT(\"Trimestre 1\",CHAR(10),IFERROR(#REF!,\"\"))","v":"Trimestre 1\n"},{"$f":"_xlfn.CONCAT(\"Trimestre 1\",CHAR(10),IFERROR(#REF!,\"\"))","v":"Trimestre 1\n"},{"$f":"_xlfn.CONCAT(\"Trimestre 1\",CHAR(10),IFERROR(#REF!,\"\"))","v":"Trimestre 1\n"},{"$f":"_xlfn.CONCAT(\"Trimestre 1\",CHAR(10),IFERROR(#REF!,\"\"))","v":"Trimestre 1\n"},{"$f":"_xlfn.CONCAT(\"Trimestre 1\",CHAR(10),IFERROR(#REF!,\"\"))","v":"Trimestre 1\n"}]
[null,null,null,null,null,null,null,null,null,null,null,null,null,null,null,null,null,null,null,null,null,null,null,null,null,{"$f":"IFERROR(#REF!,\" \")","v":" "},{"$f":"IFERROR(#REF!,\"\")","v":""},{"$f":"IFERROR(#REF!,\"\")","v":""},null,null,{"$f":"IFERROR(#REF!,\"\")","v":""},null,{"$f":"IFERROR(#REF!,\"\")","v":""},{"$f":"IFERROR(#REF!,\"\")","v":""},{"$f":"_xlfn.CONCAT(\"Trimestre 1\",CHAR(10),IFERROR(#REF!,\"\"))","v":"Trimestre 1\n"},{"$f":"_xlfn.CONCAT(\"Trimestre 1\",CHAR(10),IFERROR(#REF!,\"\"))","v":"Trimestre 1\n"},{"$f":"_xlfn.CONCAT(\"Trimestre 1\",CHAR(10),IFERROR(#REF!,\"\"))","v":"Trimestre 1\n"},{"$f":"_xlfn.CONCAT(\"Trimestre 1\",CHAR(10),IFERROR(#REF!,\"\"))","v":"Trimestre 1\n"},{"$f":"_xlfn.CONCAT(\"Trimestre 1\",CHAR(10),IFERROR(#REF!,\"\"))","v":"Trimestre 1\n"}]
[null,null,null,null,null,null,null,null,null,null,null,null,null,null,null,null,null,null,null,null,null,null,null,null,null,{"$f":"IFERROR(#REF!,\" \")","v":" "},{"$f":"IFERROR(#REF!,\"\")","v":""},{"$f":"IFERROR(#REF!,\"\")","v":""},null,null,{"$f":"IFERROR(#REF!,\"\")","v":""},null,{"$f":"IFERROR(#REF!,\"\")","v":""},{"$f":"IFERROR(#REF!,\"\")","v":""},{"$f":"_xlfn.CONCAT(\"Trimestre 1\",CHAR(10),IFERROR(#REF!,\"\"))","v":"Trimestre 1\n"},{"$f":"_xlfn.CONCAT(\"Trimestre 1\",CHAR(10),IFERROR(#REF!,\"\"))","v":"Trimestre 1\n"},{"$f":"_xlfn.CONCAT(\"Trimestre 1\",CHAR(10),IFERROR(#REF!,\"\"))","v":"Trimestre 1\n"},{"$f":"_xlfn.CONCAT(\"Trimestre 1\",CHAR(10),IFERROR(#REF!,\"\"))","v":"Trimestre 1\n"},{"$f":"_xlfn.CONCAT(\"Trimestre 1\",CHAR(10),IFERROR(#REF!,\"\"))","v":"Trimestre 1\n"}]
[null,null,null,null,null,null,null,null,null,null,null,null,null,null,null,null,null,null,null,null,null,null,null,null,null,{"$f":"IFERROR(#REF!,\" \")","v":" "},{"$f":"IFERROR(#REF!,\"\")","v":""},{"$f":"IFERROR(#REF!,\"\")","v":""},null,null,{"$f":"IFERROR(#REF!,\"\")","v":""},null,{"$f":"IFERROR(#REF!,\"\")","v":""},{"$f":"IFERROR(#REF!,\"\")","v":""},{"$f":"_xlfn.CONCAT(\"Trimestre 1\",CHAR(10),IFERROR(#REF!,\"\"))","v":"Trimestre 1\n"},{"$f":"_xlfn.CONCAT(\"Trimestre 1\",CHAR(10),IFERROR(#REF!,\"\"))","v":"Trimestre 1\n"},{"$f":"_xlfn.CONCAT(\"Trimestre 1\",CHAR(10),IFERROR(#REF!,\"\"))","v":"Trimestre 1\n"},{"$f":"_xlfn.CONCAT(\"Trimestre 1\",CHAR(10),IFERROR(#REF!,\"\"))","v":"Trimestre 1\n"},{"$f":"_xlfn.CONCAT(\"Trimestre 1\",CHAR(10),IFERROR(#REF!,\"\"))","v":"Trimestre 1\n"}]
[null,null,null,null,null,null,null,null,null,null,null,null,null,null,null,null,null,null,null,null,null,null,null,null,null,{"$f":"IFERROR(#REF!,\" \")","v":" "},{"$f":"IFERROR(#REF!,\"\")","v":""},{"$f":"IFERROR(#REF!,\"\")","v":""},"","",{"$f":"IFERROR(#REF!,\"\")","v":""},"",{"$f":"IFERROR(#REF!,\"\")","v":""},{"$f":"IFERROR(#REF!,\"\")","v":""},{"$f":"_xlfn.CONCAT(\"Trimestre 1\",CHAR(10),IFERROR(#REF!,\"\"))","v":"Trimestre 1\n"},{"$f":"_xlfn.CONCAT(\"Trimestre 1\",CHAR(10),IFERROR(#REF!,\"\"))","v":"Trimestre 1\n"},{"$f":"_xlfn.CONCAT(\"Trimestre 1\",CHAR(10),IFERROR(#REF!,\"\"))","v":"Trimestre 1\n"},{"$f":"_xlfn.CONCAT(\"Trimestre 1\",CHAR(10),IFERROR(#REF!,\"\"))","v":"Trimestre 1\n"},{"$f":"_xlfn.CONCAT(\"Trimestre 1\",CHAR(10),IFERROR(#REF!,\"\"))","v":"Trimestre 1\n"}]
[null,null,null,null,null,null,null,null,null,null,null,null,null,null,null,null,null,null,null,null,null,null,null,null,null,{"$f":"IFERROR(#REF!,\" \")","v":" "},{"$f":"IFERROR(#REF!,\"\")","v":""},{"$f":"IFERROR(#REF!,\"\")","v":""},"","",{"$f":"IFERROR(#REF!,\"\")","v":""},"",{"$f":"IFERROR(#REF!,\"\")","v":""},{"$f":"IFERROR(#REF!,\"\")","v":""},{"$f":"_xlfn.CONCAT(\"Trimestre 1\",CHAR(10),IFERROR(#REF!,\"\"))","v":"Trimestre 1\n"},{"$f":"_xlfn.CONCAT(\"Trimestre 1\",CHAR(10),IFERROR(#REF!,\"\"))","v":"Trimestre 1\n"},{"$f":"_xlfn.CONCAT(\"Trimestre 1\",CHAR(10),IFERROR(#REF!,\"\"))","v":"Trimestre 1\n"},{"$f":"_xlfn.CONCAT(\"Trimestre 1\",CHAR(10),IFERROR(#REF!,\"\"))","v":"Trimestre 1\n"},{"$f":"_xlfn.CONCAT(\"Trimestre 1\",CHAR(10),IFERROR(#REF!,\"\"))","v":"Trimestre 1\n"}]
[null,null,null,null,null,null,null,null,null,null,null,null,null,null,null,null,null,null,null,null,null,null,null,null,null,{"$f":"IFERROR(#REF!,\" \")","v":" "},{"$f":"IFERROR(#REF!,\"\")","v":""},{"$f":"IFERROR(#REF!,\"\")","v":""},"","",{"$f":"IFERROR(#REF!,\"\")","v":""},"",{"$f":"IFERROR(#REF!,\"\")","v":""},{"$f":"IFERROR(#REF!,\"\")","v":""},{"$f":"_xlfn.CONCAT(\"Trimestre 1\",CHAR(10),IFERROR(#REF!,\"\"))","v":"Trimestre 1\n"},{"$f":"_xlfn.CONCAT(\"Trimestre 1\",CHAR(10),IFERROR(#REF!,\"\"))","v":"Trimestre 1\n"},{"$f":"_xlfn.CONCAT(\"Trimestre 1\",CHAR(10),IFERROR(#REF!,\"\"))","v":"Trimestre 1\n"},{"$f":"_xlfn.CONCAT(\"Trimestre 1\",CHAR(10),IFERROR(#REF!,\"\"))","v":"Trimestre 1\n"},{"$f":"_xlfn.CONCAT(\"Trimestre 1\",CHAR(10),IFERROR(#REF!,\"\"))","v":"Trimestre 1\n"}]
[null,null,"3. Coadyuvar en la garantía de la idoneidad en el ejercicio de la profesión jurídica de acuerdo con lo establecido en la Ley 1905 de 2018.",null,null,"2. Asegurar  el cumplimiento de los objetivos institucionales, la normatividad aplicable,  la mejora del SIGCMA y la satisfacción de los usuarios, revisando de  forma continua y sistemática la planificación de la gestión y fortaleciendo la administración de riesgos y sus controles",null,null,null,null,null,null,null,null,null,null,null,null,null,null,null,null,null,null,null,{"$f":"IFERROR(#REF!,\" \")","v":" "},{"$f":"IFERROR(#REF!,\"\")","v":""},{"$f":"IFERROR(#REF!,\"\")","v":""},"","",{"$f":"IFERROR(#REF!,\"\")","v":""},"",{"$f":"IFERROR(#REF!,\"\")","v":""},{"$f":"IFERROR(#REF!,\"\")","v":""},{"$f":"_xlfn.CONCAT(\"Trimestre 1\",CHAR(10),IFERROR(#REF!,\"\"))","v":"Trimestre 1\n"},{"$f":"_xlfn.CONCAT(\"Trimestre 1\",CHAR(10),IFERROR(#REF!,\"\"))","v":"Trimestre 1\n"},{"$f":"_xlfn.CONCAT(\"Trimestre 1\",CHAR(10),IFERROR(#REF!,\"\"))","v":"Trimestre 1\n"},{"$f":"_xlfn.CONCAT(\"Trimestre 1\",CHAR(10),IFERROR(#REF!,\"\"))","v":"Trimestre 1\n"},{"$f":"_xlfn.CONCAT(\"Trimestre 1\",CHAR(10),IFERROR(#REF!,\"\"))","v":"Trimestre 1\n"}]
[null,null,null,null,null,null,null,null,null,null,null,null,null,null,null,null,null,null,null,null,null,null,null,null,null,{"$f":"IFERROR(#REF!,\" \")","v":" "},{"$f":"IFERROR(#REF!,\"\")","v":""},{"$f":"IFERROR(#REF!,\"\")","v":""},"","",{"$f":"IFERROR(#REF!,\"\")","v":""},"",{"$f":"IFERROR(#REF!,\"\")","v":""},{"$f":"IFERROR(#REF!,\"\")","v":""},{"$f":"_xlfn.CONCAT(\"Trimestre 1\",CHAR(10),IFERROR(#REF!,\"\"))","v":"Trimestre 1\n"},{"$f":"_xlfn.CONCAT(\"Trimestre 1\",CHAR(10),IFERROR(#REF!,\"\"))","v":"Trimestre 1\n"},{"$f":"_xlfn.CONCAT(\"Trimestre 1\",CHAR(10),IFERROR(#REF!,\"\"))","v":"Trimestre 1\n"},{"$f":"_xlfn.CONCAT(\"Trimestre 1\",CHAR(10),IFERROR(#REF!,\"\"))","v":"Trimestre 1\n"},{"$f":"_xlfn.CONCAT(\"Trimestre 1\",CHAR(10),IFERROR(#REF!,\"\"))","v":"Trimestre 1\n"}]
[null,null,null,null,null,null,null,null,null,null,null,null,null,null,null,null,null,null,null,null,null,null,null,null,null,{"$f":"IFERROR(#REF!,\" \")","v":" "},{"$f":"IFERROR(#REF!,\"\")","v":""},{"$f":"IFERROR(#REF!,\"\")","v":""},null,null,{"$f":"IFERROR(#REF!,\"\")","v":""},null,{"$f":"IFERROR(#REF!,\"\")","v":""},{"$f":"IFERROR(#REF!,\"\")","v":""},{"$f":"_xlfn.CONCAT(\"Trimestre 1\",CHAR(10),IFERROR(#REF!,\"\"))","v":"Trimestre 1\n"},{"$f":"_xlfn.CONCAT(\"Trimestre 1\",CHAR(10),IFERROR(#REF!,\"\"))","v":"Trimestre 1\n"},{"$f":"_xlfn.CONCAT(\"Trimestre 1\",CHAR(10),IFERROR(#REF!,\"\"))","v":"Trimestre 1\n"},{"$f":"_xlfn.CONCAT(\"Trimestre 1\",CHAR(10),IFERROR(#REF!,\"\"))","v":"Trimestre 1\n"},{"$f":"_xlfn.CONCAT(\"Trimestre 1\",CHAR(10),IFERROR(#REF!,\"\"))","v":"Trimestre 1\n"}]
[null,null,null,null,null,null,null,null,null,null,null,null,null,null,null,null,null,null,null,null,null,null,null,null,null,{"$f":"IFERROR(#REF!,\" \")","v":" "},{"$f":"IFERROR(#REF!,\"\")","v":""},{"$f":"IFERROR(#REF!,\"\")","v":""},null,null,{"$f":"IFERROR(#REF!,\"\")","v":""},null,{"$f":"IFERROR(#REF!,\"\")","v":""},{"$f":"IFERROR(#REF!,\"\")","v":""},{"$f":"_xlfn.CONCAT(\"Trimestre 1\",CHAR(10),IFERROR(#REF!,\"\"))","v":"Trimestre 1\n"},{"$f":"_xlfn.CONCAT(\"Trimestre 1\",CHAR(10),IFERROR(#REF!,\"\"))","v":"Trimestre 1\n"},{"$f":"_xlfn.CONCAT(\"Trimestre 1\",CHAR(10),IFERROR(#REF!,\"\"))","v":"Trimestre 1\n"},{"$f":"_xlfn.CONCAT(\"Trimestre 1\",CHAR(10),IFERROR(#REF!,\"\"))","v":"Trimestre 1\n"},{"$f":"_xlfn.CONCAT(\"Trimestre 1\",CHAR(10),IFERROR(#REF!,\"\"))","v":"Trimestre 1\n"}]
[null,null,null,null,null,null,null,null,null,null,null,null,null,null,null,null,null,null,null,null,null,null,null,null,null,{"$f":"IFERROR(#REF!,\" \")","v":" "},{"$f":"IFERROR(#REF!,\"\")","v":""},{"$f":"IFERROR(#REF!,\"\")","v":""},null,null,{"$f":"IFERROR(#REF!,\"\")","v":""},null,{"$f":"IFERROR(#REF!,\"\")","v":""},{"$f":"IFERROR(#REF!,\"\")","v":""},{"$f":"_xlfn.CONCAT(\"Trimestre 1\",CHAR(10),IFERROR(#REF!,\"\"))","v":"Trimestre 1\n"},{"$f":"_xlfn.CONCAT(\"Trimestre 1\",CHAR(10),IFERROR(#REF!,\"\"))","v":"Trimestre 1\n"},{"$f":"_xlfn.CONCAT(\"Trimestre 1\",CHAR(10),IFERROR(#REF!,\"\"))","v":"Trimestre 1\n"},{"$f":"_xlfn.CONCAT(\"Trimestre 1\",CHAR(10),IFERROR(#REF!,\"\"))","v":"Trimestre 1\n"},{"$f":"_xlfn.CONCAT(\"Trimestre 1\",CHAR(10),IFERROR(#REF!,\"\"))","v":"Trimestre 1\n"}]
[null,null,null,null,null,null,null,null,null,null,null,null,null,null,null,null,null,null,null,null,null,null,null,null,null,{"$f":"IFERROR(#REF!,\" \")","v":" "},{"$f":"IFERROR(#REF!,\"\")","v":""},{"$f":"IFERROR(#REF!,\"\")","v":""},null,null,{"$f":"IFERROR(#REF!,\"\")","v":""},null,{"$f":"IFERROR(#REF!,\"\")","v":""},{"$f":"IFERROR(#REF!,\"\")","v":""},{"$f":"_xlfn.CONCAT(\"Trimestre 1\",CHAR(10),IFERROR(#REF!,\"\"))","v":"Trimestre 1\n"},{"$f":"_xlfn.CONCAT(\"Trimestre 1\",CHAR(10),IFERROR(#REF!,\"\"))","v":"Trimestre 1\n"},{"$f":"_xlfn.CONCAT(\"Trimestre 1\",CHAR(10),IFERROR(#REF!,\"\"))","v":"Trimestre 1\n"},{"$f":"_xlfn.CONCAT(\"Trimestre 1\",CHAR(10),IFERROR(#REF!,\"\"))","v":"Trimestre 1\n"},{"$f":"_xlfn.CONCAT(\"Trimestre 1\",CHAR(10),IFERROR(#REF!,\"\"))","v":"Trimestre 1\n"}]
[null,null,null,null,null,null,null,null,null,null,null,null,null,null,null,null,null,null,null,null,null,null,null,null,null,{"$f":"IFERROR(#REF!,\" \")","v":" "},{"$f":"IFERROR(#REF!,\"\")","v":""},{"$f":"IFERROR(#REF!,\"\")","v":""},null,null,{"$f":"IFERROR(#REF!,\"\")","v":""},null,{"$f":"IFERROR(#REF!,\"\")","v":""},{"$f":"IFERROR(#REF!,\"\")","v":""},{"$f":"_xlfn.CONCAT(\"Trimestre 1\",CHAR(10),IFERROR(#REF!,\"\"))","v":"Trimestre 1\n"},{"$f":"_xlfn.CONCAT(\"Trimestre 1\",CHAR(10),IFERROR(#REF!,\"\"))","v":"Trimestre 1\n"},{"$f":"_xlfn.CONCAT(\"Trimestre 1\",CHAR(10),IFERROR(#REF!,\"\"))","v":"Trimestre 1\n"},{"$f":"_xlfn.CONCAT(\"Trimestre 1\",CHAR(10),IFERROR(#REF!,\"\"))","v":"Trimestre 1\n"},{"$f":"_xlfn.CONCAT(\"Trimestre 1\",CHAR(10),IFERROR(#REF!,\"\"))","v":"Trimestre 1\n"}]
[null,null,null,null,null,null,null,null,null,null,null,null,null,null,null,null,null,null,null,null,null,null,null,null,null,{"$f":"IFERROR(#REF!,\" \")","v":" "},{"$f":"IFERROR(#REF!,\"\")","v":""},{"$f":"IFERROR(#REF!,\"\")","v":""},"","",{"$f":"IFERROR(#REF!,\"\")","v":""},"",{"$f":"IFERROR(#REF!,\"\")","v":""},{"$f":"IFERROR(#REF!,\"\")","v":""},{"$f":"_xlfn.CONCAT(\"Trimestre 1\",CHAR(10),IFERROR(#REF!,\"\"))","v":"Trimestre 1\n"},{"$f":"_xlfn.CONCAT(\"Trimestre 1\",CHAR(10),IFERROR(#REF!,\"\"))","v":"Trimestre 1\n"},{"$f":"_xlfn.CONCAT(\"Trimestre 1\",CHAR(10),IFERROR(#REF!,\"\"))","v":"Trimestre 1\n"},{"$f":"_xlfn.CONCAT(\"Trimestre 1\",CHAR(10),IFERROR(#REF!,\"\"))","v":"Trimestre 1\n"},{"$f":"_xlfn.CONCAT(\"Trimestre 1\",CHAR(10),IFERROR(#REF!,\"\"))","v":"Trimestre 1\n"}]
[null,null,null,null,null,null,null,null,null,null,null,null,null,null,null,null,null,null,null,null,null,null,null,null,null,{"$f":"IFERROR(#REF!,\" \")","v":" "},{"$f":"IFERROR(#REF!,\"\")","v":""},{"$f":"IFERROR(#REF!,\"\")","v":""},"","",{"$f":"IFERROR(#REF!,\"\")","v":""},"",{"$f":"IFERROR(#REF!,\"\")","v":""},{"$f":"IFERROR(#REF!,\"\")","v":""},{"$f":"_xlfn.CONCAT(\"Trimestre 1\",CHAR(10),IFERROR(#REF!,\"\"))","v":"Trimestre 1\n"},{"$f":"_xlfn.CONCAT(\"Trimestre 1\",CHAR(10),IFERROR(#REF!,\"\"))","v":"Trimestre 1\n"},{"$f":"_xlfn.CONCAT(\"Trimestre 1\",CHAR(10),IFERROR(#REF!,\"\"))","v":"Trimestre 1\n"},{"$f":"_xlfn.CONCAT(\"Trimestre 1\",CHAR(10),IFERROR(#REF!,\"\"))","v":"Trimestre 1\n"},{"$f":"_xlfn.CONCAT(\"Trimestre 1\",CHAR(10),IFERROR(#REF!,\"\"))","v":"Trimestre 1\n"}]
[null,null,null,null,null,null,null,null,null,null,null,null,null,null,null,null,null,null,null,null,null,null,null,null,null,{"$f":"IFERROR(#REF!,\" \")","v":" "},{"$f":"IFERROR(#REF!,\"\")","v":""},{"$f":"IFERROR(#REF!,\"\")","v":""},"","",{"$f":"IFERROR(#REF!,\"\")","v":""},"",{"$f":"IFERROR(#REF!,\"\")","v":""},{"$f":"IFERROR(#REF!,\"\")","v":""},{"$f":"_xlfn.CONCAT(\"Trimestre 1\",CHAR(10),IFERROR(#REF!,\"\"))","v":"Trimestre 1\n"},{"$f":"_xlfn.CONCAT(\"Trimestre 1\",CHAR(10),IFERROR(#REF!,\"\"))","v":"Trimestre 1\n"},{"$f":"_xlfn.CONCAT(\"Trimestre 1\",CHAR(10),IFERROR(#REF!,\"\"))","v":"Trimestre 1\n"},{"$f":"_xlfn.CONCAT(\"Trimestre 1\",CHAR(10),IFERROR(#REF!,\"\"))","v":"Trimestre 1\n"},{"$f":"_xlfn.CONCAT(\"Trimestre 1\",CHAR(10),IFERROR(#REF!,\"\"))","v":"Trimestre 1\n"}]
[null,null,"4. Avanzar en la disposición de una infraestructura óptima para el acceso a la justicia en la Rama Judicial de modo que se fortalezca la presencia territorial, teniendo en cuenta las posibilidades que ofrece la transformación digital y las necesidades que se derivan de ella, y considerando tanto las necesidades de los usuarios como las de los servidores judiciales.","Diseños para la construcción de despachos judiciales","# de sedes proyectada s para construir o intervenir en el cuatrienio / # sedes efectivamen te construidas o intervenidas\n\nTotal de\ndiseños aprobados","4. Hacer un uso racional de los recursos naturales aplicando los principios y fases de la Economía Circular, para prevenir, mitigar y controlar los impactos ambientales",null,null,null,null,null,null,null,null,null,null,null,null,null,null,null,null,null,null,null,{"$f":"IFERROR(#REF!,\" \")","v":" "},{"$f":"IFERROR(#REF!,\"\")","v":""},{"$f":"IFERROR(#REF!,\"\")","v":""},"","",{"$f":"IFERROR(#REF!,\"\")","v":""},"",{"$f":"IFERROR(#REF!,\"\")","v":""},{"$f":"IFERROR(#REF!,\"\")","v":""},{"$f":"_xlfn.CONCAT(\"Trimestre 1\",CHAR(10),IFERROR(#REF!,\"\"))","v":"Trimestre 1\n"},{"$f":"_xlfn.CONCAT(\"Trimestre 1\",CHAR(10),IFERROR(#REF!,\"\"))","v":"Trimestre 1\n"},{"$f":"_xlfn.CONCAT(\"Trimestre 1\",CHAR(10),IFERROR(#REF!,\"\"))","v":"Trimestre 1\n"},{"$f":"_xlfn.CONCAT(\"Trimestre 1\",CHAR(10),IFERROR(#REF!,\"\"))","v":"Trimestre 1\n"},{"$f":"_xlfn.CONCAT(\"Trimestre 1\",CHAR(10),IFERROR(#REF!,\"\"))","v":"Trimestre 1\n"}]
[null,null,null,null,null,null,null,null,null,null,null,null,null,null,null,null,null,null,null,null,null,null,null,null,null,{"$f":"IFERROR(#REF!,\" \")","v":" "},{"$f":"IFERROR(#REF!,\"\")","v":""},{"$f":"IFERROR(#REF!,\"\")","v":""},"","",{"$f":"IFERROR(#REF!,\"\")","v":""},"",{"$f":"IFERROR(#REF!,\"\")","v":""},{"$f":"IFERROR(#REF!,\"\")","v":""},{"$f":"_xlfn.CONCAT(\"Trimestre 1\",CHAR(10),IFERROR(#REF!,\"\"))","v":"Trimestre 1\n"},{"$f":"_xlfn.CONCAT(\"Trimestre 1\",CHAR(10),IFERROR(#REF!,\"\"))","v":"Trimestre 1\n"},{"$f":"_xlfn.CONCAT(\"Trimestre 1\",CHAR(10),IFERROR(#REF!,\"\"))","v":"Trimestre 1\n"},{"$f":"_xlfn.CONCAT(\"Trimestre 1\",CHAR(10),IFERROR(#REF!,\"\"))","v":"Trimestre 1\n"},{"$f":"_xlfn.CONCAT(\"Trimestre 1\",CHAR(10),IFERROR(#REF!,\"\"))","v":"Trimestre 1\n"}]
[null,null,null,null,null,null,null,null,null,null,null,null,null,null,null,null,null,null,null,null,null,null,null,null,null,{"$f":"IFERROR(#REF!,\" \")","v":" "},{"$f":"IFERROR(#REF!,\"\")","v":""},{"$f":"IFERROR(#REF!,\"\")","v":""},null,null,{"$f":"IFERROR(#REF!,\"\")","v":""},null,{"$f":"IFERROR(#REF!,\"\")","v":""},{"$f":"IFERROR(#REF!,\"\")","v":""},{"$f":"_xlfn.CONCAT(\"Trimestre 1\",CHAR(10),IFERROR(#REF!,\"\"))","v":"Trimestre 1\n"},{"$f":"_xlfn.CONCAT(\"Trimestre 1\",CHAR(10),IFERROR(#REF!,\"\"))","v":"Trimestre 1\n"},{"$f":"_xlfn.CONCAT(\"Trimestre 1\",CHAR(10),IFERROR(#REF!,\"\"))","v":"Trimestre 1\n"},{"$f":"_xlfn.CONCAT(\"Trimestre 1\",CHAR(10),IFERROR(#REF!,\"\"))","v":"Trimestre 1\n"},{"$f":"_xlfn.CONCAT(\"Trimestre 1\",CHAR(10),IFERROR(#REF!,\"\"))","v":"Trimestre 1\n"}]
[null,null,null,null,null,null,null,null,null,null,null,null,null,null,null,null,null,null,null,null,null,null,null,null,null,{"$f":"IFERROR(#REF!,\" \")","v":" "},{"$f":"IFERROR(#REF!,\"\")","v":""},{"$f":"IFERROR(#REF!,\"\")","v":""},null,null,{"$f":"IFERROR(#REF!,\"\")","v":""},null,{"$f":"IFERROR(#REF!,\"\")","v":""},{"$f":"IFERROR(#REF!,\"\")","v":""},{"$f":"_xlfn.CONCAT(\"Trimestre 1\",CHAR(10),IFERROR(#REF!,\"\"))","v":"Trimestre 1\n"},{"$f":"_xlfn.CONCAT(\"Trimestre 1\",CHAR(10),IFERROR(#REF!,\"\"))","v":"Trimestre 1\n"},{"$f":"_xlfn.CONCAT(\"Trimestre 1\",CHAR(10),IFERROR(#REF!,\"\"))","v":"Trimestre 1\n"},{"$f":"_xlfn.CONCAT(\"Trimestre 1\",CHAR(10),IFERROR(#REF!,\"\"))","v":"Trimestre 1\n"},{"$f":"_xlfn.CONCAT(\"Trimestre 1\",CHAR(10),IFERROR(#REF!,\"\"))","v":"Trimestre 1\n"}]
[null,null,null,null,null,null,null,null,null,null,null,null,null,null,null,null,null,null,null,null,null,null,null,null,null,{"$f":"IFERROR(#REF!,\" \")","v":" "},{"$f":"IFERROR(#REF!,\"\")","v":""},{"$f":"IFERROR(#REF!,\"\")","v":""},null,null,{"$f":"IFERROR(#REF!,\"\")","v":""},null,{"$f":"IFERROR(#REF!,\"\")","v":""},{"$f":"IFERROR(#REF!,\"\")","v":""},{"$f":"_xlfn.CONCAT(\"Trimestre 1\",CHAR(10),IFERROR(#REF!,\"\"))","v":"Trimestre 1\n"},{"$f":"_xlfn.CONCAT(\"Trimestre 1\",CHAR(10),IFERROR(#REF!,\"\"))","v":"Trimestre 1\n"},{"$f":"_xlfn.CONCAT(\"Trimestre 1\",CHAR(10),IFERROR(#REF!,\"\"))","v":"Trimestre 1\n"},{"$f":"_xlfn.CONCAT(\"Trimestre 1\",CHAR(10),IFERROR(#REF!,\"\"))","v":"Trimestre 1\n"},{"$f":"_xlfn.CONCAT(\"Trimestre 1\",CHAR(10),IFERROR(#REF!,\"\"))","v":"Trimestre 1\n"}]
[null,null,null,null,null,null,null,null,null,null,null,null,null,null,null,null,null,null,null,null,null,null,null,null,null,{"$f":"IFERROR(#REF!,\" \")","v":" "},{"$f":"IFERROR(#REF!,\"\")","v":""},{"$f":"IFERROR(#REF!,\"\")","v":""},null,null,{"$f":"IFERROR(#REF!,\"\")","v":""},null,{"$f":"IFERROR(#REF!,\"\")","v":""},{"$f":"IFERROR(#REF!,\"\")","v":""},{"$f":"_xlfn.CONCAT(\"Trimestre 1\",CHAR(10),IFERROR(#REF!,\"\"))","v":"Trimestre 1\n"},{"$f":"_xlfn.CONCAT(\"Trimestre 1\",CHAR(10),IFERROR(#REF!,\"\"))","v":"Trimestre 1\n"},{"$f":"_xlfn.CONCAT(\"Trimestre 1\",CHAR(10),IFERROR(#REF!,\"\"))","v":"Trimestre 1\n"},{"$f":"_xlfn.CONCAT(\"Trimestre 1\",CHAR(10),IFERROR(#REF!,\"\"))","v":"Trimestre 1\n"},{"$f":"_xlfn.CONCAT(\"Trimestre 1\",CHAR(10),IFERROR(#REF!,\"\"))","v":"Trimestre 1\n"}]
[null,null,null,null,null,null,null,null,null,null,null,null,null,null,null,null,null,null,null,null,null,null,null,null,null,{"$f":"IFERROR(#REF!,\" \")","v":" "},{"$f":"IFERROR(#REF!,\"\")","v":""},{"$f":"IFERROR(#REF!,\"\")","v":""},null,null,{"$f":"IFERROR(#REF!,\"\")","v":""},null,{"$f":"IFERROR(#REF!,\"\")","v":""},{"$f":"IFERROR(#REF!,\"\")","v":""},{"$f":"_xlfn.CONCAT(\"Trimestre 1\",CHAR(10),IFERROR(#REF!,\"\"))","v":"Trimestre 1\n"},{"$f":"_xlfn.CONCAT(\"Trimestre 1\",CHAR(10),IFERROR(#REF!,\"\"))","v":"Trimestre 1\n"},{"$f":"_xlfn.CONCAT(\"Trimestre 1\",CHAR(10),IFERROR(#REF!,\"\"))","v":"Trimestre 1\n"},{"$f":"_xlfn.CONCAT(\"Trimestre 1\",CHAR(10),IFERROR(#REF!,\"\"))","v":"Trimestre 1\n"},{"$f":"_xlfn.CONCAT(\"Trimestre 1\",CHAR(10),IFERROR(#REF!,\"\"))","v":"Trimestre 1\n"}]
[null,null,null,null,null,null,null,null,null,null,null,null,null,null,null,null,null,null,null,null,null,null,null,null,null,{"$f":"IFERROR(#REF!,\" \")","v":" "},{"$f":"IFERROR(#REF!,\"\")","v":""},{"$f":"IFERROR(#REF!,\"\")","v":""},"","",{"$f":"IFERROR(#REF!,\"\")","v":""},"",{"$f":"IFERROR(#REF!,\"\")","v":""},{"$f":"IFERROR(#REF!,\"\")","v":""},{"$f":"_xlfn.CONCAT(\"Trimestre 1\",CHAR(10),IFERROR(#REF!,\"\"))","v":"Trimestre 1\n"},{"$f":"_xlfn.CONCAT(\"Trimestre 1\",CHAR(10),IFERROR(#REF!,\"\"))","v":"Trimestre 1\n"},{"$f":"_xlfn.CONCAT(\"Trimestre 1\",CHAR(10),IFERROR(#REF!,\"\"))","v":"Trimestre 1\n"},{"$f":"_xlfn.CONCAT(\"Trimestre 1\",CHAR(10),IFERROR(#REF!,\"\"))","v":"Trimestre 1\n"},{"$f":"_xlfn.CONCAT(\"Trimestre 1\",CHAR(10),IFERROR(#REF!,\"\"))","v":"Trimestre 1\n"}]
[null,null,null,null,null,null,null,null,null,null,null,null,null,null,null,null,null,null,null,null,null,null,null,null,null,{"$f":"IFERROR(#REF!,\" \")","v":" "},{"$f":"IFERROR(#REF!,\"\")","v":""},{"$f":"IFERROR(#REF!,\"\")","v":""},"","",{"$f":"IFERROR(#REF!,\"\")","v":""},"",{"$f":"IFERROR(#REF!,\"\")","v":""},{"$f":"IFERROR(#REF!,\"\")","v":""},{"$f":"_xlfn.CONCAT(\"Trimestre 1\",CHAR(10),IFERROR(#REF!,\"\"))","v":"Trimestre 1\n"},{"$f":"_xlfn.CONCAT(\"Trimestre 1\",CHAR(10),IFERROR(#REF!,\"\"))","v":"Trimestre 1\n"},{"$f":"_xlfn.CONCAT(\"Trimestre 1\",CHAR(10),IFERROR(#REF!,\"\"))","v":"Trimestre 1\n"},{"$f":"_xlfn.CONCAT(\"Trimestre 1\",CHAR(10),IFERROR(#REF!,\"\"))","v":"Trimestre 1\n"},{"$f":"_xlfn.CONCAT(\"Trimestre 1\",CHAR(10),IFERROR(#REF!,\"\"))","v":"Trimestre 1\n"}]
[null,null,null,null,null,null,null,null,null,null,null,null,null,null,null,null,null,null,null,null,null,null,null,null,null,{"$f":"IFERROR(#REF!,\" \")","v":" "},{"$f":"IFERROR(#REF!,\"\")","v":""},{"$f":"IFERROR(#REF!,\"\")","v":""},"","",{"$f":"IFERROR(#REF!,\"\")","v":""},"",{"$f":"IFERROR(#REF!,\"\")","v":""},{"$f":"IFERROR(#REF!,\"\")","v":""},{"$f":"_xlfn.CONCAT(\"Trimestre 1\",CHAR(10),IFERROR(#REF!,\"\"))","v":"Trimestre 1\n"},{"$f":"_xlfn.CONCAT(\"Trimestre 1\",CHAR(10),IFERROR(#REF!,\"\"))","v":"Trimestre 1\n"},{"$f":"_xlfn.CONCAT(\"Trimestre 1\",CHAR(10),IFERROR(#REF!,\"\"))","v":"Trimestre 1\n"},{"$f":"_xlfn.CONCAT(\"Trimestre 1\",CHAR(10),IFERROR(#REF!,\"\"))","v":"Trimestre 1\n"},{"$f":"_xlfn.CONCAT(\"Trimestre 1\",CHAR(10),IFERROR(#REF!,\"\"))","v":"Trimestre 1\n"}]
[null,null,"5. Impulsar el uso de mecanismos alternativos para la solución de conflictos y la ampliación de la justicia restaurativa y terapéutica y el robustecimiento de las alternativas al encarcelamiento","Seguimiento al cumplimiento de las disposiciones del CSJ que impulsan el uso de mecanismos alternativos de solución de conflictos, la ampliación de la justicia restaurativa y terapéutica y las alternativas al encarcelamiento.","% avance de implementa ción de las estrategias definidas para el seguimiento de las disposicion es adoptadas por el Consejo en materia de justicia restaurativa y terapéutica y las alternativas de encarcelami ento","2. Asegurar  el cumplimiento de los objetivos institucionales, la normatividad aplicable,  la mejora del SIGCMA y la satisfacción de los usuarios, revisando de  forma continua y sistemática la planificación de la gestión y fortaleciendo la administración de riesgos y sus controles",null,null,null,null,null,null,null,null,null,null,null,null,null,null,null,null,null,null,null,{"$f":"IFERROR(#REF!,\" \")","v":" "},{"$f":"IFERROR(#REF!,\"\")","v":""},{"$f":"IFERROR(#REF!,\"\")","v":""},"","",{"$f":"IFERROR(#REF!,\"\")","v":""},"",{"$f":"IFERROR(#REF!,\"\")","v":""},{"$f":"IFERROR(#REF!,\"\")","v":""},{"$f":"_xlfn.CONCAT(\"Trimestre 1\",CHAR(10),IFERROR(#REF!,\"\"))","v":"Trimestre 1\n"},{"$f":"_xlfn.CONCAT(\"Trimestre 1\",CHAR(10),IFERROR(#REF!,\"\"))","v":"Trimestre 1\n"},{"$f":"_xlfn.CONCAT(\"Trimestre 1\",CHAR(10),IFERROR(#REF!,\"\"))","v":"Trimestre 1\n"},{"$f":"_xlfn.CONCAT(\"Trimestre 1\",CHAR(10),IFERROR(#REF!,\"\"))","v":"Trimestre 1\n"},{"$f":"_xlfn.CONCAT(\"Trimestre 1\",CHAR(10),IFERROR(#REF!,\"\"))","v":"Trimestre 1\n"}]
[null,null,null,null,null,null,null,null,null,null,null,null,null,null,null,null,null,null,null,null,null,null,null,null,null,{"$f":"IFERROR(#REF!,\" \")","v":" "},{"$f":"IFERROR(#REF!,\"\")","v":""},{"$f":"IFERROR(#REF!,\"\")","v":""},"","",{"$f":"IFERROR(#REF!,\"\")","v":""},"",{"$f":"IFERROR(#REF!,\"\")","v":""},{"$f":"IFERROR(#REF!,\"\")","v":""},{"$f":"_xlfn.CONCAT(\"Trimestre 1\",CHAR(10),IFERROR(#REF!,\"\"))","v":"Trimestre 1\n"},{"$f":"_xlfn.CONCAT(\"Trimestre 1\",CHAR(10),IFERROR(#REF!,\"\"))","v":"Trimestre 1\n"},{"$f":"_xlfn.CONCAT(\"Trimestre 1\",CHAR(10),IFERROR(#REF!,\"\"))","v":"Trimestre 1\n"},{"$f":"_xlfn.CONCAT(\"Trimestre 1\",CHAR(10),IFERROR(#REF!,\"\"))","v":"Trimestre 1\n"},{"$f":"_xlfn.CONCAT(\"Trimestre 1\",CHAR(10),IFERROR(#REF!,\"\"))","v":"Trimestre 1\n"}]
[null,null,null,null,null,null,null,null,null,null,null,null,null,null,null,null,null,null,null,null,null,null,null,null,null,{"$f":"IFERROR(#REF!,\" \")","v":" "},{"$f":"IFERROR(#REF!,\"\")","v":""},{"$f":"IFERROR(#REF!,\"\")","v":""},null,null,{"$f":"IFERROR(#REF!,\"\")","v":""},null,{"$f":"IFERROR(#REF!,\"\")","v":""},{"$f":"IFERROR(#REF!,\"\")","v":""},{"$f":"_xlfn.CONCAT(\"Trimestre 1\",CHAR(10),IFERROR(#REF!,\"\"))","v":"Trimestre 1\n"},{"$f":"_xlfn.CONCAT(\"Trimestre 1\",CHAR(10),IFERROR(#REF!,\"\"))","v":"Trimestre 1\n"},{"$f":"_xlfn.CONCAT(\"Trimestre 1\",CHAR(10),IFERROR(#REF!,\"\"))","v":"Trimestre 1\n"},{"$f":"_xlfn.CONCAT(\"Trimestre 1\",CHAR(10),IFERROR(#REF!,\"\"))","v":"Trimestre 1\n"},{"$f":"_xlfn.CONCAT(\"Trimestre 1\",CHAR(10),IFERROR(#REF!,\"\"))","v":"Trimestre 1\n"}]
[null,null,null,null,null,null,null,null,null,null,null,null,null,null,null,null,null,null,null,null,null,null,null,null,null,{"$f":"IFERROR(#REF!,\" \")","v":" "},{"$f":"IFERROR(#REF!,\"\")","v":""},{"$f":"IFERROR(#REF!,\"\")","v":""},null,null,{"$f":"IFERROR(#REF!,\"\")","v":""},null,{"$f":"IFERROR(#REF!,\"\")","v":""},{"$f":"IFERROR(#REF!,\"\")","v":""},{"$f":"_xlfn.CONCAT(\"Trimestre 1\",CHAR(10),IFERROR(#REF!,\"\"))","v":"Trimestre 1\n"},{"$f":"_xlfn.CONCAT(\"Trimestre 1\",CHAR(10),IFERROR(#REF!,\"\"))","v":"Trimestre 1\n"},{"$f":"_xlfn.CONCAT(\"Trimestre 1\",CHAR(10),IFERROR(#REF!,\"\"))","v":"Trimestre 1\n"},{"$f":"_xlfn.CONCAT(\"Trimestre 1\",CHAR(10),IFERROR(#REF!,\"\"))","v":"Trimestre 1\n"},{"$f":"_xlfn.CONCAT(\"Trimestre 1\",CHAR(10),IFERROR(#REF!,\"\"))","v":"Trimestre 1\n"}]
[null,null,null,null,null,null,null,null,null,null,null,null,null,null,null,null,null,null,null,null,null,null,null,null,null,{"$f":"IFERROR(#REF!,\" \")","v":" "},{"$f":"IFERROR(#REF!,\"\")","v":""},{"$f":"IFERROR(#REF!,\"\")","v":""},null,null,{"$f":"IFERROR(#REF!,\"\")","v":""},null,{"$f":"IFERROR(#REF!,\"\")","v":""},{"$f":"IFERROR(#REF!,\"\")","v":""},{"$f":"_xlfn.CONCAT(\"Trimestre 1\",CHAR(10),IFERROR(#REF!,\"\"))","v":"Trimestre 1\n"},{"$f":"_xlfn.CONCAT(\"Trimestre 1\",CHAR(10),IFERROR(#REF!,\"\"))","v":"Trimestre 1\n"},{"$f":"_xlfn.CONCAT(\"Trimestre 1\",CHAR(10),IFERROR(#REF!,\"\"))","v":"Trimestre 1\n"},{"$f":"_xlfn.CONCAT(\"Trimestre 1\",CHAR(10),IFERROR(#REF!,\"\"))","v":"Trimestre 1\n"},{"$f":"_xlfn.CONCAT(\"Trimestre 1\",CHAR(10),IFERROR(#REF!,\"\"))","v":"Trimestre 1\n"}]
[null,null,null,null,null,null,null,null,null,null,null,null,null,null,null,null,null,null,null,null,null,null,null,null,null,{"$f":"IFERROR(#REF!,\" \")","v":" "},{"$f":"IFERROR(#REF!,\"\")","v":""},{"$f":"IFERROR(#REF!,\"\")","v":""},null,null,{"$f":"IFERROR(#REF!,\"\")","v":""},null,{"$f":"IFERROR(#REF!,\"\")","v":""},{"$f":"IFERROR(#REF!,\"\")","v":""},{"$f":"_xlfn.CONCAT(\"Trimestre 1\",CHAR(10),IFERROR(#REF!,\"\"))","v":"Trimestre 1\n"},{"$f":"_xlfn.CONCAT(\"Trimestre 1\",CHAR(10),IFERROR(#REF!,\"\"))","v":"Trimestre 1\n"},{"$f":"_xlfn.CONCAT(\"Trimestre 1\",CHAR(10),IFERROR(#REF!,\"\"))","v":"Trimestre 1\n"},{"$f":"_xlfn.CONCAT(\"Trimestre 1\",CHAR(10),IFERROR(#REF!,\"\"))","v":"Trimestre 1\n"},{"$f":"_xlfn.CONCAT(\"Trimestre 1\",CHAR(10),IFERROR(#REF!,\"\"))","v":"Trimestre 1\n"}]
[null,null,null,null,null,null,null,null,null,null,null,null,null,null,null,null,null,null,null,null,null,null,null,null,null,{"$f":"IFERROR(#REF!,\" \")","v":" "},{"$f":"IFERROR(#REF!,\"\")","v":""},{"$f":"IFERROR(#REF!,\"\")","v":""},null,null,{"$f":"IFERROR(#REF!,\"\")","v":""},null,{"$f":"IFERROR(#REF!,\"\")","v":""},{"$f":"IFERROR(#REF!,\"\")","v":""},{"$f":"_xlfn.CONCAT(\"Trimestre 1\",CHAR(10),IFERROR(#REF!,\"\"))","v":"Trimestre 1\n"},{"$f":"_xlfn.CONCAT(\"Trimestre 1\",CHAR(10),IFERROR(#REF!,\"\"))","v":"Trimestre 1\n"},{"$f":"_xlfn.CONCAT(\"Trimestre 1\",CHAR(10),IFERROR(#REF!,\"\"))","v":"Trimestre 1\n"},{"$f":"_xlfn.CONCAT(\"Trimestre 1\",CHAR(10),IFERROR(#REF!,\"\"))","v":"Trimestre 1\n"},{"$f":"_xlfn.CONCAT(\"Trimestre 1\",CHAR(10),IFERROR(#REF!,\"\"))","v":"Trimestre 1\n"}]
[null,null,null,null,null,null,null,null,null,null,null,null,null,null,null,null,null,null,null,null,null,null,null,null,null,{"$f":"IFERROR(#REF!,\" \")","v":" "},{"$f":"IFERROR(#REF!,\"\")","v":""},{"$f":"IFERROR(#REF!,\"\")","v":""},"","",{"$f":"IFERROR(#REF!,\"\")","v":""},"",{"$f":"IFERROR(#REF!,\"\")","v":""},{"$f":"IFERROR(#REF!,\"\")","v":""},{"$f":"_xlfn.CONCAT(\"Trimestre 1\",CHAR(10),IFERROR(#REF!,\"\"))","v":"Trimestre 1\n"},{"$f":"_xlfn.CONCAT(\"Trimestre 1\",CHAR(10),IFERROR(#REF!,\"\"))","v":"Trimestre 1\n"},{"$f":"_xlfn.CONCAT(\"Trimestre 1\",CHAR(10),IFERROR(#REF!,\"\"))","v":"Trimestre 1\n"},{"$f":"_xlfn.CONCAT(\"Trimestre 1\",CHAR(10),IFERROR(#REF!,\"\"))","v":"Trimestre 1\n"},{"$f":"_xlfn.CONCAT(\"Trimestre 1\",CHAR(10),IFERROR(#REF!,\"\"))","v":"Trimestre 1\n"}]
[null,null,null,null,null,null,null,null,null,null,null,null,null,null,null,null,null,null,null,null,null,null,null,null,null,{"$f":"IFERROR(#REF!,\" \")","v":" "},{"$f":"IFERROR(#REF!,\"\")","v":""},{"$f":"IFERROR(#REF!,\"\")","v":""},"","",{"$f":"IFERROR(#REF!,\"\")","v":""},"",{"$f":"IFERROR(#REF!,\"\")","v":""},{"$f":"IFERROR(#REF!,\"\")","v":""},{"$f":"_xlfn.CONCAT(\"Trimestre 1\",CHAR(10),IFERROR(#REF!,\"\"))","v":"Trimestre 1\n"},{"$f":"_xlfn.CONCAT(\"Trimestre 1\",CHAR(10),IFERROR(#REF!,\"\"))","v":"Trimestre 1\n"},{"$f":"_xlfn.CONCAT(\"Trimestre 1\",CHAR(10),IFERROR(#REF!,\"\"))","v":"Trimestre 1\n"},{"$f":"_xlfn.CONCAT(\"Trimestre 1\",CHAR(10),IFERROR(#REF!,\"\"))","v":"Trimestre 1\n"},{"$f":"_xlfn.CONCAT(\"Trimestre 1\",CHAR(10),IFERROR(#REF!,\"\"))","v":"Trimestre 1\n"}]
[null,null,null,null,null,null,null,null,null,null,null,null,null,null,null,null,null,null,null,null,null,null,null,null,null,{"$f":"IFERROR(#REF!,\" \")","v":" "},{"$f":"IFERROR(#REF!,\"\")","v":""},{"$f":"IFERROR(#REF!,\"\")","v":""},"","",{"$f":"IFERROR(#REF!,\"\")","v":""},"",{"$f":"IFERROR(#REF!,\"\")","v":""},{"$f":"IFERROR(#REF!,\"\")","v":""},{"$f":"_xlfn.CONCAT(\"Trimestre 1\",CHAR(10),IFERROR(#REF!,\"\"))","v":"Trimestre 1\n"},{"$f":"_xlfn.CONCAT(\"Trimestre 1\",CHAR(10),IFERROR(#REF!,\"\"))","v":"Trimestre 1\n"},{"$f":"_xlfn.CONCAT(\"Trimestre 1\",CHAR(10),IFERROR(#REF!,\"\"))","v":"Trimestre 1\n"},{"$f":"_xlfn.CONCAT(\"Trimestre 1\",CHAR(10),IFERROR(#REF!,\"\"))","v":"Trimestre 1\n"},{"$f":"_xlfn.CONCAT(\"Trimestre 1\",CHAR(10),IFERROR(#REF!,\"\"))","v":"Trimestre 1\n"}]
["2. Servicios digitales y de tecnología, innovación y análisis de la información.","Servicios digitales y de tecnología, innovación y análisis de la información: Consolidar una justicia integrada y soportada en servicios digitales y de tecnología, innovación y análisis de la información, con una cultura digital apropiada, segura y sensible a las realidades del territorio nacional. ","1. Ampliar el acceso a la justicia a través de la consolidación del uso de los servicios digitales que conforman el sistema único integrado de gestión judicial en todos los despachos judiciales y dependencias de apoyo y, específicamente, incluyendo el despliegue e implementación del Expediente Judicial Electrónico en todas las jurisdicciones y especialidades.","Procesos\njudiciales gestionados a través del expediente electrónico por especialidad","# de procesos judiciales en gestión con expediente electrónico en cada especialida d y por categoría de despacho a nivel de circuito / # de procesos judiciales totales en gestión por cada especialida d y circuito (cabecera de circuito)","6. Proteger, preservar y administrar los activos de información  implementando acciones  para gestionar de forma adecuada los incidentes, proteger los datos personales y adoptar mecanismos  de ciberseguridad y aseguramiento de la  continuidad del negocio.",null,null,null,null,null,null,null,null,null,null,null,null,null,null,null,null,null,null,null,{"$f":"IFERROR(#REF!,\" \")","v":" "},{"$f":"IFERROR(#REF!,\"\")","v":""},{"$f":"IFERROR(#REF!,\"\")","v":""},"","",{"$f":"IFERROR(#REF!,\"\")","v":""},"",{"$f":"IFERROR(#REF!,\"\")","v":""},{"$f":"IFERROR(#REF!,\"\")","v":""},{"$f":"_xlfn.CONCAT(\"Trimestre 1\",CHAR(10),IFERROR(#REF!,\"\"))","v":"Trimestre 1\n"},{"$f":"_xlfn.CONCAT(\"Trimestre 1\",CHAR(10),IFERROR(#REF!,\"\"))","v":"Trimestre 1\n"},{"$f":"_xlfn.CONCAT(\"Trimestre 1\",CHAR(10),IFERROR(#REF!,\"\"))","v":"Trimestre 1\n"},{"$f":"_xlfn.CONCAT(\"Trimestre 1\",CHAR(10),IFERROR(#REF!,\"\"))","v":"Trimestre 1\n"},{"$f":"_xlfn.CONCAT(\"Trimestre 1\",CHAR(10),IFERROR(#REF!,\"\"))","v":"Trimestre 1\n"}]
[null,null,null,null,null,null,null,null,null,null,null,null,null,null,null,null,null,null,null,null,null,null,null,null,null,{"$f":"IFERROR(#REF!,\" \")","v":" "},{"$f":"IFERROR(#REF!,\"\")","v":""},{"$f":"IFERROR(#REF!,\"\")","v":""},"","",{"$f":"IFERROR(#REF!,\"\")","v":""},"",{"$f":"IFERROR(#REF!,\"\")","v":""},{"$f":"IFERROR(#REF!,\"\")","v":""},{"$f":"_xlfn.CONCAT(\"Trimestre 1\",CHAR(10),IFERROR(#REF!,\"\"))","v":"Trimestre 1\n"},{"$f":"_xlfn.CONCAT(\"Trimestre 1\",CHAR(10),IFERROR(#REF!,\"\"))","v":"Trimestre 1\n"},{"$f":"_xlfn.CONCAT(\"Trimestre 1\",CHAR(10),IFERROR(#REF!,\"\"))","v":"Trimestre 1\n"},{"$f":"_xlfn.CONCAT(\"Trimestre 1\",CHAR(10),IFERROR(#REF!,\"\"))","v":"Trimestre 1\n"},{"$f":"_xlfn.CONCAT(\"Trimestre 1\",CHAR(10),IFERROR(#REF!,\"\"))","v":"Trimestre 1\n"}]
[null,null,null,null,null,null,null,null,null,null,null,null,null,null,null,null,null,null,null,null,null,null,null,null,null,{"$f":"IFERROR(#REF!,\" \")","v":" "},{"$f":"IFERROR(#REF!,\"\")","v":""},{"$f":"IFERROR(#REF!,\"\")","v":""},null,null,{"$f":"IFERROR(#REF!,\"\")","v":""},null,{"$f":"IFERROR(#REF!,\"\")","v":""},{"$f":"IFERROR(#REF!,\"\")","v":""},{"$f":"_xlfn.CONCAT(\"Trimestre 1\",CHAR(10),IFERROR(#REF!,\"\"))","v":"Trimestre 1\n"},{"$f":"_xlfn.CONCAT(\"Trimestre 1\",CHAR(10),IFERROR(#REF!,\"\"))","v":"Trimestre 1\n"},{"$f":"_xlfn.CONCAT(\"Trimestre 1\",CHAR(10),IFERROR(#REF!,\"\"))","v":"Trimestre 1\n"},{"$f":"_xlfn.CONCAT(\"Trimestre 1\",CHAR(10),IFERROR(#REF!,\"\"))","v":"Trimestre 1\n"},{"$f":"_xlfn.CONCAT(\"Trimestre 1\",CHAR(10),IFERROR(#REF!,\"\"))","v":"Trimestre 1\n"}]
[null,null,null,null,null,null,null,null,null,null,null,null,null,null,null,null,null,null,null,null,null,null,null,null,null,{"$f":"IFERROR(#REF!,\" \")","v":" "},{"$f":"IFERROR(#REF!,\"\")","v":""},{"$f":"IFERROR(#REF!,\"\")","v":""},null,null,{"$f":"IFERROR(#REF!,\"\")","v":""},null,{"$f":"IFERROR(#REF!,\"\")","v":""},{"$f":"IFERROR(#REF!,\"\")","v":""},{"$f":"_xlfn.CONCAT(\"Trimestre 1\",CHAR(10),IFERROR(#REF!,\"\"))","v":"Trimestre 1\n"},{"$f":"_xlfn.CONCAT(\"Trimestre 1\",CHAR(10),IFERROR(#REF!,\"\"))","v":"Trimestre 1\n"},{"$f":"_xlfn.CONCAT(\"Trimestre 1\",CHAR(10),IFERROR(#REF!,\"\"))","v":"Trimestre 1\n"},{"$f":"_xlfn.CONCAT(\"Trimestre 1\",CHAR(10),IFERROR(#REF!,\"\"))","v":"Trimestre 1\n"},{"$f":"_xlfn.CONCAT(\"Trimestre 1\",CHAR(10),IFERROR(#REF!,\"\"))","v":"Trimestre 1\n"}]
[null,null,null,null,null,null,null,null,null,null,null,null,null,null,null,null,null,null,null,null,null,null,null,null,null,{"$f":"IFERROR(#REF!,\" \")","v":" "},{"$f":"IFERROR(#REF!,\"\")","v":""},{"$f":"IFERROR(#REF!,\"\")","v":""},null,null,{"$f":"IFERROR(#REF!,\"\")","v":""},null,{"$f":"IFERROR(#REF!,\"\")","v":""},{"$f":"IFERROR(#REF!,\"\")","v":""},{"$f":"_xlfn.CONCAT(\"Trimestre 1\",CHAR(10),IFERROR(#REF!,\"\"))","v":"Trimestre 1\n"},{"$f":"_xlfn.CONCAT(\"Trimestre 1\",CHAR(10),IFERROR(#REF!,\"\"))","v":"Trimestre 1\n"},{"$f":"_xlfn.CONCAT(\"Trimestre 1\",CHAR(10),IFERROR(#REF!,\"\"))","v":"Trimestre 1\n"},{"$f":"_xlfn.CONCAT(\"Trimestre 1\",CHAR(10),IFERROR(#REF!,\"\"))","v":"Trimestre 1\n"},{"$f":"_xlfn.CONCAT(\"Trimestre 1\",CHAR(10),IFERROR(#REF!,\"\"))","v":"Trimestre 1\n"}]
[null,null,null,null,null,null,null,null,null,null,null,null,null,null,null,null,null,null,null,null,null,null,null,null,null,{"$f":"IFERROR(#REF!,\" \")","v":" "},{"$f":"IFERROR(#REF!,\"\")","v":""},{"$f":"IFERROR(#REF!,\"\")","v":""},null,null,{"$f":"IFERROR(#REF!,\"\")","v":""},null,{"$f":"IFERROR(#REF!,\"\")","v":""},{"$f":"IFERROR(#REF!,\"\")","v":""},{"$f":"_xlfn.CONCAT(\"Trimestre 1\",CHAR(10),IFERROR(#REF!,\"\"))","v":"Trimestre 1\n"},{"$f":"_xlfn.CONCAT(\"Trimestre 1\",CHAR(10),IFERROR(#REF!,\"\"))","v":"Trimestre 1\n"},{"$f":"_xlfn.CONCAT(\"Trimestre 1\",CHAR(10),IFERROR(#REF!,\"\"))","v":"Trimestre 1\n"},{"$f":"_xlfn.CONCAT(\"Trimestre 1\",CHAR(10),IFERROR(#REF!,\"\"))","v":"Trimestre 1\n"},{"$f":"_xlfn.CONCAT(\"Trimestre 1\",CHAR(10),IFERROR(#REF!,\"\"))","v":"Trimestre 1\n"}]
[null,null,null,null,null,null,null,null,null,null,null,null,null,null,null,null,null,null,null,null,null,null,null,null,null,{"$f":"IFERROR(#REF!,\" \")","v":" "},{"$f":"IFERROR(#REF!,\"\")","v":""},{"$f":"IFERROR(#REF!,\"\")","v":""},null,null,{"$f":"IFERROR(#REF!,\"\")","v":""},null,{"$f":"IFERROR(#REF!,\"\")","v":""},{"$f":"IFERROR(#REF!,\"\")","v":""},{"$f":"_xlfn.CONCAT(\"Trimestre 1\",CHAR(10),IFERROR(#REF!,\"\"))","v":"Trimestre 1\n"},{"$f":"_xlfn.CONCAT(\"Trimestre 1\",CHAR(10),IFERROR(#REF!,\"\"))","v":"Trimestre 1\n"},{"$f":"_xlfn.CONCAT(\"Trimestre 1\",CHAR(10),IFERROR(#REF!,\"\"))","v":"Trimestre 1\n"},{"$f":"_xlfn.CONCAT(\"Trimestre 1\",CHAR(10),IFERROR(#REF!,\"\"))","v":"Trimestre 1\n"},{"$f":"_xlfn.CONCAT(\"Trimestre 1\",CHAR(10),IFERROR(#REF!,\"\"))","v":"Trimestre 1\n"}]
[null,null,null,null,null,null,null,null,null,null,null,null,null,null,null,null,null,null,null,null,null,null,null,null,null,{"$f":"IFERROR(#REF!,\" \")","v":" "},{"$f":"IFERROR(#REF!,\"\")","v":""},{"$f":"IFERROR(#REF!,\"\")","v":""},"","",{"$f":"IFERROR(#REF!,\"\")","v":""},"",{"$f":"IFERROR(#REF!,\"\")","v":""},{"$f":"IFERROR(#REF!,\"\")","v":""},{"$f":"_xlfn.CONCAT(\"Trimestre 1\",CHAR(10),IFERROR(#REF!,\"\"))","v":"Trimestre 1\n"},{"$f":"_xlfn.CONCAT(\"Trimestre 1\",CHAR(10),IFERROR(#REF!,\"\"))","v":"Trimestre 1\n"},{"$f":"_xlfn.CONCAT(\"Trimestre 1\",CHAR(10),IFERROR(#REF!,\"\"))","v":"Trimestre 1\n"},{"$f":"_xlfn.CONCAT(\"Trimestre 1\",CHAR(10),IFERROR(#REF!,\"\"))","v":"Trimestre 1\n"},{"$f":"_xlfn.CONCAT(\"Trimestre 1\",CHAR(10),IFERROR(#REF!,\"\"))","v":"Trimestre 1\n"}]
[null,null,null,null,null,null,null,null,null,null,null,null,null,null,null,null,null,null,null,null,null,null,null,null,null,{"$f":"IFERROR(#REF!,\" \")","v":" "},{"$f":"IFERROR(#REF!,\"\")","v":""},{"$f":"IFERROR(#REF!,\"\")","v":""},"","",{"$f":"IFERROR(#REF!,\"\")","v":""},"",{"$f":"IFERROR(#REF!,\"\")","v":""},{"$f":"IFERROR(#REF!,\"\")","v":""},{"$f":"_xlfn.CONCAT(\"Trimestre 1\",CHAR(10),IFERROR(#REF!,\"\"))","v":"Trimestre 1\n"},{"$f":"_xlfn.CONCAT(\"Trimestre 1\",CHAR(10),IFERROR(#REF!,\"\"))","v":"Trimestre 1\n"},{"$f":"_xlfn.CONCAT(\"Trimestre 1\",CHAR(10),IFERROR(#REF!,\"\"))","v":"Trimestre 1\n"},{"$f":"_xlfn.CONCAT(\"Trimestre 1\",CHAR(10),IFERROR(#REF!,\"\"))","v":"Trimestre 1\n"},{"$f":"_xlfn.CONCAT(\"Trimestre 1\",CHAR(10),IFERROR(#REF!,\"\"))","v":"Trimestre 1\n"}]
[null,null,null,null,null,null,null,null,null,null,null,null,null,null,null,null,null,null,null,null,null,null,null,null,null,{"$f":"IFERROR(#REF!,\" \")","v":" "},{"$f":"IFERROR(#REF!,\"\")","v":""},{"$f":"IFERROR(#REF!,\"\")","v":""},"","",{"$f":"IFERROR(#REF!,\"\")","v":""},"",{"$f":"IFERROR(#REF!,\"\")","v":""},{"$f":"IFERROR(#REF!,\"\")","v":""},{"$f":"_xlfn.CONCAT(\"Trimestre 1\",CHAR(10),IFERROR(#REF!,\"\"))","v":"Trimestre 1\n"},{"$f":"_xlfn.CONCAT(\"Trimestre 1\",CHAR(10),IFERROR(#REF!,\"\"))","v":"Trimestre 1\n"},{"$f":"_xlfn.CONCAT(\"Trimestre 1\",CHAR(10),IFERROR(#REF!,\"\"))","v":"Trimestre 1\n"},{"$f":"_xlfn.CONCAT(\"Trimestre 1\",CHAR(10),IFERROR(#REF!,\"\"))","v":"Trimestre 1\n"},{"$f":"_xlfn.CONCAT(\"Trimestre 1\",CHAR(10),IFERROR(#REF!,\"\"))","v":"Trimestre 1\n"}]
[null,null,"2. Integrar y hacer compatibles todos los aplicativos de transición con SIUGJ, para que la migración de los expedientes judiciales a dicha plataforma sea real y no suponga afectaciones en la prestación del servicio de justicia.",null,null,null,null,null,null,null,null,null,null,null,null,null,null,null,null,null,null,null,null,null,null,{"$f":"IFERROR(#REF!,\" \")","v":" "},{"$f":"IFERROR(#REF!,\"\")","v":""},{"$f":"IFERROR(#REF!,\"\")","v":""},"","",{"$f":"IFERROR(#REF!,\"\")","v":""},"",{"$f":"IFERROR(#REF!,\"\")","v":""},{"$f":"IFERROR(#REF!,\"\")","v":""},{"$f":"_xlfn.CONCAT(\"Trimestre 1\",CHAR(10),IFERROR(#REF!,\"\"))","v":"Trimestre 1\n"},{"$f":"_xlfn.CONCAT(\"Trimestre 1\",CHAR(10),IFERROR(#REF!,\"\"))","v":"Trimestre 1\n"},{"$f":"_xlfn.CONCAT(\"Trimestre 1\",CHAR(10),IFERROR(#REF!,\"\"))","v":"Trimestre 1\n"},{"$f":"_xlfn.CONCAT(\"Trimestre 1\",CHAR(10),IFERROR(#REF!,\"\"))","v":"Trimestre 1\n"},{"$f":"_xlfn.CONCAT(\"Trimestre 1\",CHAR(10),IFERROR(#REF!,\"\"))","v":"Trimestre 1\n"}]
[null,null,null,null,null,null,null,null,null,null,null,null,null,null,null,null,null,null,null,null,null,null,null,null,null,{"$f":"IFERROR(#REF!,\" \")","v":" "},{"$f":"IFERROR(#REF!,\"\")","v":""},{"$f":"IFERROR(#REF!,\"\")","v":""},"","",{"$f":"IFERROR(#REF!,\"\")","v":""},"",{"$f":"IFERROR(#REF!,\"\")","v":""},{"$f":"IFERROR(#REF!,\"\")","v":""},{"$f":"_xlfn.CONCAT(\"Trimestre 1\",CHAR(10),IFERROR(#REF!,\"\"))","v":"Trimestre 1\n"},{"$f":"_xlfn.CONCAT(\"Trimestre 1\",CHAR(10),IFERROR(#REF!,\"\"))","v":"Trimestre 1\n"},{"$f":"_xlfn.CONCAT(\"Trimestre 1\",CHAR(10),IFERROR(#REF!,\"\"))","v":"Trimestre 1\n"},{"$f":"_xlfn.CONCAT(\"Trimestre 1\",CHAR(10),IFERROR(#REF!,\"\"))","v":"Trimestre 1\n"},{"$f":"_xlfn.CONCAT(\"Trimestre 1\",CHAR(10),IFERROR(#REF!,\"\"))","v":"Trimestre 1\n"}]
[null,null,null,null,null,null,null,null,null,null,null,null,null,null,null,null,null,null,null,null,null,null,null,null,null,{"$f":"IFERROR(#REF!,\" \")","v":" "},{"$f":"IFERROR(#REF!,\"\")","v":""},{"$f":"IFERROR(#REF!,\"\")","v":""},"","",{"$f":"IFERROR(#REF!,\"\")","v":""},"",{"$f":"IFERROR(#REF!,\"\")","v":""},{"$f":"IFERROR(#REF!,\"\")","v":""},{"$f":"_xlfn.CONCAT(\"Trimestre 1\",CHAR(10),IFERROR(#REF!,\"\"))","v":"Trimestre 1\n"},{"$f":"_xlfn.CONCAT(\"Trimestre 1\",CHAR(10),IFERROR(#REF!,\"\"))","v":"Trimestre 1\n"},{"$f":"_xlfn.CONCAT(\"Trimestre 1\",CHAR(10),IFERROR(#REF!,\"\"))","v":"Trimestre 1\n"},{"$f":"_xlfn.CONCAT(\"Trimestre 1\",CHAR(10),IFERROR(#REF!,\"\"))","v":"Trimestre 1\n"},{"$f":"_xlfn.CONCAT(\"Trimestre 1\",CHAR(10),IFERROR(#REF!,\"\"))","v":"Trimestre 1\n"}]
[null,null,null,null,null,null,null,null,null,null,null,null,null,null,null,null,null,null,null,null,null,null,null,null,null,{"$f":"IFERROR(#REF!,\" \")","v":" "},{"$f":"IFERROR(#REF!,\"\")","v":""},{"$f":"IFERROR(#REF!,\"\")","v":""},null,null,{"$f":"IFERROR(#REF!,\"\")","v":""},null,{"$f":"IFERROR(#REF!,\"\")","v":""},{"$f":"IFERROR(#REF!,\"\")","v":""},{"$f":"_xlfn.CONCAT(\"Trimestre 1\",CHAR(10),IFERROR(#REF!,\"\"))","v":"Trimestre 1\n"},{"$f":"_xlfn.CONCAT(\"Trimestre 1\",CHAR(10),IFERROR(#REF!,\"\"))","v":"Trimestre 1\n"},{"$f":"_xlfn.CONCAT(\"Trimestre 1\",CHAR(10),IFERROR(#REF!,\"\"))","v":"Trimestre 1\n"},{"$f":"_xlfn.CONCAT(\"Trimestre 1\",CHAR(10),IFERROR(#REF!,\"\"))","v":"Trimestre 1\n"},{"$f":"_xlfn.CONCAT(\"Trimestre 1\",CHAR(10),IFERROR(#REF!,\"\"))","v":"Trimestre 1\n"}]
[null,null,null,null,null,null,null,null,null,null,null,null,null,null,null,null,null,null,null,null,null,null,null,null,null,{"$f":"IFERROR(#REF!,\" \")","v":" "},{"$f":"IFERROR(#REF!,\"\")","v":""},{"$f":"IFERROR(#REF!,\"\")","v":""},null,null,{"$f":"IFERROR(#REF!,\"\")","v":""},null,{"$f":"IFERROR(#REF!,\"\")","v":""},{"$f":"IFERROR(#REF!,\"\")","v":""},{"$f":"_xlfn.CONCAT(\"Trimestre 1\",CHAR(10),IFERROR(#REF!,\"\"))","v":"Trimestre 1\n"},{"$f":"_xlfn.CONCAT(\"Trimestre 1\",CHAR(10),IFERROR(#REF!,\"\"))","v":"Trimestre 1\n"},{"$f":"_xlfn.CONCAT(\"Trimestre 1\",CHAR(10),IFERROR(#REF!,\"\"))","v":"Trimestre 1\n"},{"$f":"_xlfn.CONCAT(\"Trimestre 1\",CHAR(10),IFERROR(#REF!,\"\"))","v":"Trimestre 1\n"},{"$f":"_xlfn.CONCAT(\"Trimestre 1\",CHAR(10),IFERROR(#REF!,\"\"))","v":"Trimestre 1\n"}]
[null,null,null,null,null,null,null,null,null,null,null,null,null,null,null,null,null,null,null,null,null,null,null,null,null,{"$f":"IFERROR(#REF!,\" \")","v":" "},{"$f":"IFERROR(#REF!,\"\")","v":""},{"$f":"IFERROR(#REF!,\"\")","v":""},null,null,{"$f":"IFERROR(#REF!,\"\")","v":""},null,{"$f":"IFERROR(#REF!,\"\")","v":""},{"$f":"IFERROR(#REF!,\"\")","v":""},{"$f":"_xlfn.CONCAT(\"Trimestre 1\",CHAR(10),IFERROR(#REF!,\"\"))","v":"Trimestre 1\n"},{"$f":"_xlfn.CONCAT(\"Trimestre 1\",CHAR(10),IFERROR(#REF!,\"\"))","v":"Trimestre 1\n"},{"$f":"_xlfn.CONCAT(\"Trimestre 1\",CHAR(10),IFERROR(#REF!,\"\"))","v":"Trimestre 1\n"},{"$f":"_xlfn.CONCAT(\"Trimestre 1\",CHAR(10),IFERROR(#REF!,\"\"))","v":"Trimestre 1\n"},{"$f":"_xlfn.CONCAT(\"Trimestre 1\",CHAR(10),IFERROR(#REF!,\"\"))","v":"Trimestre 1\n"}]
[null,null,null,null,null,null,null,null,null,null,null,null,null,null,null,null,null,null,null,null,null,null,null,null,null,{"$f":"IFERROR(#REF!,\" \")","v":" "},{"$f":"IFERROR(#REF!,\"\")","v":""},{"$f":"IFERROR(#REF!,\"\")","v":""},null,null,{"$f":"IFERROR(#REF!,\"\")","v":""},null,{"$f":"IFERROR(#REF!,\"\")","v":""},{"$f":"IFERROR(#REF!,\"\")","v":""},{"$f":"_xlfn.CONCAT(\"Trimestre 1\",CHAR(10),IFERROR(#REF!,\"\"))","v":"Trimestre 1\n"},{"$f":"_xlfn.CONCAT(\"Trimestre 1\",CHAR(10),IFERROR(#REF!,\"\"))","v":"Trimestre 1\n"},{"$f":"_xlfn.CONCAT(\"Trimestre 1\",CHAR(10),IFERROR(#REF!,\"\"))","v":"Trimestre 1\n"},{"$f":"_xlfn.CONCAT(\"Trimestre 1\",CHAR(10),IFERROR(#REF!,\"\"))","v":"Trimestre 1\n"},{"$f":"_xlfn.CONCAT(\"Trimestre 1\",CHAR(10),IFERROR(#REF!,\"\"))","v":"Trimestre 1\n"}]
[null,null,null,null,null,null,null,null,null,null,null,null,null,null,null,null,null,null,null,null,null,null,null,null,null,{"$f":"IFERROR(#REF!,\" \")","v":" "},{"$f":"IFERROR(#REF!,\"\")","v":""},{"$f":"IFERROR(#REF!,\"\")","v":""},null,null,{"$f":"IFERROR(#REF!,\"\")","v":""},null,{"$f":"IFERROR(#REF!,\"\")","v":""},{"$f":"IFERROR(#REF!,\"\")","v":""},{"$f":"_xlfn.CONCAT(\"Trimestre 1\",CHAR(10),IFERROR(#REF!,\"\"))","v":"Trimestre 1\n"},{"$f":"_xlfn.CONCAT(\"Trimestre 1\",CHAR(10),IFERROR(#REF!,\"\"))","v":"Trimestre 1\n"},{"$f":"_xlfn.CONCAT(\"Trimestre 1\",CHAR(10),IFERROR(#REF!,\"\"))","v":"Trimestre 1\n"},{"$f":"_xlfn.CONCAT(\"Trimestre 1\",CHAR(10),IFERROR(#REF!,\"\"))","v":"Trimestre 1\n"},{"$f":"_xlfn.CONCAT(\"Trimestre 1\",CHAR(10),IFERROR(#REF!,\"\"))","v":"Trimestre 1\n"}]
[null,null,null,null,null,null,null,null,null,null,null,null,null,null,null,null,null,null,null,null,null,null,null,null,null,{"$f":"IFERROR(#REF!,\" \")","v":" "},{"$f":"IFERROR(#REF!,\"\")","v":""},{"$f":"IFERROR(#REF!,\"\")","v":""},"","",{"$f":"IFERROR(#REF!,\"\")","v":""},"",{"$f":"IFERROR(#REF!,\"\")","v":""},{"$f":"IFERROR(#REF!,\"\")","v":""},{"$f":"_xlfn.CONCAT(\"Trimestre 1\",CHAR(10),IFERROR(#REF!,\"\"))","v":"Trimestre 1\n"},{"$f":"_xlfn.CONCAT(\"Trimestre 1\",CHAR(10),IFERROR(#REF!,\"\"))","v":"Trimestre 1\n"},{"$f":"_xlfn.CONCAT(\"Trimestre 1\",CHAR(10),IFERROR(#REF!,\"\"))","v":"Trimestre 1\n"},{"$f":"_xlfn.CONCAT(\"Trimestre 1\",CHAR(10),IFERROR(#REF!,\"\"))","v":"Trimestre 1\n"},{"$f":"_xlfn.CONCAT(\"Trimestre 1\",CHAR(10),IFERROR(#REF!,\"\"))","v":"Trimestre 1\n"}]
[null,null,null,null,null,null,null,null,null,null,null,null,null,null,null,null,null,null,null,null,null,null,null,null,null,{"$f":"IFERROR(#REF!,\" \")","v":" "},{"$f":"IFERROR(#REF!,\"\")","v":""},{"$f":"IFERROR(#REF!,\"\")","v":""},"","",{"$f":"IFERROR(#REF!,\"\")","v":""},"",{"$f":"IFERROR(#REF!,\"\")","v":""},{"$f":"IFERROR(#REF!,\"\")","v":""},{"$f":"_xlfn.CONCAT(\"Trimestre 1\",CHAR(10),IFERROR(#REF!,\"\"))","v":"Trimestre 1\n"},{"$f":"_xlfn.CONCAT(\"Trimestre 1\",CHAR(10),IFERROR(#REF!,\"\"))","v":"Trimestre 1\n"},{"$f":"_xlfn.CONCAT(\"Trimestre 1\",CHAR(10),IFERROR(#REF!,\"\"))","v":"Trimestre 1\n"},{"$f":"_xlfn.CONCAT(\"Trimestre 1\",CHAR(10),IFERROR(#REF!,\"\"))","v":"Trimestre 1\n"},{"$f":"_xlfn.CONCAT(\"Trimestre 1\",CHAR(10),IFERROR(#REF!,\"\"))","v":"Trimestre 1\n"}]
[null,null,"3. Fortalecer las capacidades institucionales, adecuar el modelo operativo y de servicio, bajo un enfoque de Arquitectura Empresarial y de fortalecimiento del acceso a la justicia.","Implementación del programa de gestión del cambio y las comunicaciones del PETD","# de actividades del objetivo \"aumentar el conocimient o digital y el uso de apropiación de los sistemas\" del programa de gestión del cambio y las comunicaci ones del PETD cumplidas /# de actividades del objetivo \"aumentar el conocimient o digital y el uso de apropiación de los sistemas\" del programa de gestión del cambio y las comunicaci ones del PETD programada s",null,null,null,null,null,null,null,null,null,null,null,null,null,null,null,null,null,null,null,null,{"$f":"IFERROR(#REF!,\" \")","v":" "},{"$f":"IFERROR(#REF!,\"\")","v":""},{"$f":"IFERROR(#REF!,\"\")","v":""},"","",{"$f":"IFERROR(#REF!,\"\")","v":""},"",{"$f":"IFERROR(#REF!,\"\")","v":""},{"$f":"IFERROR(#REF!,\"\")","v":""},{"$f":"_xlfn.CONCAT(\"Trimestre 1\",CHAR(10),IFERROR(#REF!,\"\"))","v":"Trimestre 1\n"},{"$f":"_xlfn.CONCAT(\"Trimestre 1\",CHAR(10),IFERROR(#REF!,\"\"))","v":"Trimestre 1\n"},{"$f":"_xlfn.CONCAT(\"Trimestre 1\",CHAR(10),IFERROR(#REF!,\"\"))","v":"Trimestre 1\n"},{"$f":"_xlfn.CONCAT(\"Trimestre 1\",CHAR(10),IFERROR(#REF!,\"\"))","v":"Trimestre 1\n"},{"$f":"_xlfn.CONCAT(\"Trimestre 1\",CHAR(10),IFERROR(#REF!,\"\"))","v":"Trimestre 1\n"}]
[null,null,null,null,null,null,null,null,null,null,null,null,null,null,null,null,null,null,null,null,null,null,null,null,null,{"$f":"IFERROR(#REF!,\" \")","v":" "},{"$f":"IFERROR(#REF!,\"\")","v":""},{"$f":"IFERROR(#REF!,\"\")","v":""},"","",{"$f":"IFERROR(#REF!,\"\")","v":""},"",{"$f":"IFERROR(#REF!,\"\")","v":""},{"$f":"IFERROR(#REF!,\"\")","v":""},{"$f":"_xlfn.CONCAT(\"Trimestre 1\",CHAR(10),IFERROR(#REF!,\"\"))","v":"Trimestre 1\n"},{"$f":"_xlfn.CONCAT(\"Trimestre 1\",CHAR(10),IFERROR(#REF!,\"\"))","v":"Trimestre 1\n"},{"$f":"_xlfn.CONCAT(\"Trimestre 1\",CHAR(10),IFERROR(#REF!,\"\"))","v":"Trimestre 1\n"},{"$f":"_xlfn.CONCAT(\"Trimestre 1\",CHAR(10),IFERROR(#REF!,\"\"))","v":"Trimestre 1\n"},{"$f":"_xlfn.CONCAT(\"Trimestre 1\",CHAR(10),IFERROR(#REF!,\"\"))","v":"Trimestre 1\n"}]
[null,null,null,null,null,null,null,null,null,null,null,null,null,null,null,null,null,null,null,null,null,null,null,null,null,{"$f":"IFERROR(#REF!,\" \")","v":" "},{"$f":"IFERROR(#REF!,\"\")","v":""},{"$f":"IFERROR(#REF!,\"\")","v":""},null,null,{"$f":"IFERROR(#REF!,\"\")","v":""},null,{"$f":"IFERROR(#REF!,\"\")","v":""},{"$f":"IFERROR(#REF!,\"\")","v":""},{"$f":"_xlfn.CONCAT(\"Trimestre 1\",CHAR(10),IFERROR(#REF!,\"\"))","v":"Trimestre 1\n"},{"$f":"_xlfn.CONCAT(\"Trimestre 1\",CHAR(10),IFERROR(#REF!,\"\"))","v":"Trimestre 1\n"},{"$f":"_xlfn.CONCAT(\"Trimestre 1\",CHAR(10),IFERROR(#REF!,\"\"))","v":"Trimestre 1\n"},{"$f":"_xlfn.CONCAT(\"Trimestre 1\",CHAR(10),IFERROR(#REF!,\"\"))","v":"Trimestre 1\n"},{"$f":"_xlfn.CONCAT(\"Trimestre 1\",CHAR(10),IFERROR(#REF!,\"\"))","v":"Trimestre 1\n"}]
[null,null,null,null,null,null,null,null,null,null,null,null,null,null,null,null,null,null,null,null,null,null,null,null,null,{"$f":"IFERROR(#REF!,\" \")","v":" "},{"$f":"IFERROR(#REF!,\"\")","v":""},{"$f":"IFERROR(#REF!,\"\")","v":""},null,null,{"$f":"IFERROR(#REF!,\"\")","v":""},null,{"$f":"IFERROR(#REF!,\"\")","v":""},{"$f":"IFERROR(#REF!,\"\")","v":""},{"$f":"_xlfn.CONCAT(\"Trimestre 1\",CHAR(10),IFERROR(#REF!,\"\"))","v":"Trimestre 1\n"},{"$f":"_xlfn.CONCAT(\"Trimestre 1\",CHAR(10),IFERROR(#REF!,\"\"))","v":"Trimestre 1\n"},{"$f":"_xlfn.CONCAT(\"Trimestre 1\",CHAR(10),IFERROR(#REF!,\"\"))","v":"Trimestre 1\n"},{"$f":"_xlfn.CONCAT(\"Trimestre 1\",CHAR(10),IFERROR(#REF!,\"\"))","v":"Trimestre 1\n"},{"$f":"_xlfn.CONCAT(\"Trimestre 1\",CHAR(10),IFERROR(#REF!,\"\"))","v":"Trimestre 1\n"}]
[null,null,null,null,null,null,null,null,null,null,null,null,null,null,null,null,null,null,null,null,null,null,null,null,null,{"$f":"IFERROR(#REF!,\" \")","v":" "},{"$f":"IFERROR(#REF!,\"\")","v":""},{"$f":"IFERROR(#REF!,\"\")","v":""},null,null,{"$f":"IFERROR(#REF!,\"\")","v":""},null,{"$f":"IFERROR(#REF!,\"\")","v":""},{"$f":"IFERROR(#REF!,\"\")","v":""},{"$f":"_xlfn.CONCAT(\"Trimestre 1\",CHAR(10),IFERROR(#REF!,\"\"))","v":"Trimestre 1\n"},{"$f":"_xlfn.CONCAT(\"Trimestre 1\",CHAR(10),IFERROR(#REF!,\"\"))","v":"Trimestre 1\n"},{"$f":"_xlfn.CONCAT(\"Trimestre 1\",CHAR(10),IFERROR(#REF!,\"\"))","v":"Trimestre 1\n"},{"$f":"_xlfn.CONCAT(\"Trimestre 1\",CHAR(10),IFERROR(#REF!,\"\"))","v":"Trimestre 1\n"},{"$f":"_xlfn.CONCAT(\"Trimestre 1\",CHAR(10),IFERROR(#REF!,\"\"))","v":"Trimestre 1\n"}]
[null,null,null,null,null,null,null,null,null,null,null,null,null,null,null,null,null,null,null,null,null,null,null,null,null,{"$f":"IFERROR(#REF!,\" \")","v":" "},{"$f":"IFERROR(#REF!,\"\")","v":""},{"$f":"IFERROR(#REF!,\"\")","v":""},null,null,{"$f":"IFERROR(#REF!,\"\")","v":""},null,{"$f":"IFERROR(#REF!,\"\")","v":""},{"$f":"IFERROR(#REF!,\"\")","v":""},{"$f":"_xlfn.CONCAT(\"Trimestre 1\",CHAR(10),IFERROR(#REF!,\"\"))","v":"Trimestre 1\n"},{"$f":"_xlfn.CONCAT(\"Trimestre 1\",CHAR(10),IFERROR(#REF!,\"\"))","v":"Trimestre 1\n"},{"$f":"_xlfn.CONCAT(\"Trimestre 1\",CHAR(10),IFERROR(#REF!,\"\"))","v":"Trimestre 1\n"},{"$f":"_xlfn.CONCAT(\"Trimestre 1\",CHAR(10),IFERROR(#REF!,\"\"))","v":"Trimestre 1\n"},{"$f":"_xlfn.CONCAT(\"Trimestre 1\",CHAR(10),IFERROR(#REF!,\"\"))","v":"Trimestre 1\n"}]
[null,null,null,null,null,null,null,null,null,null,null,null,null,null,null,null,null,null,null,null,null,null,null,null,null,{"$f":"IFERROR(#REF!,\" \")","v":" "},{"$f":"IFERROR(#REF!,\"\")","v":""},{"$f":"IFERROR(#REF!,\"\")","v":""},null,null,{"$f":"IFERROR(#REF!,\"\")","v":""},null,{"$f":"IFERROR(#REF!,\"\")","v":""},{"$f":"IFERROR(#REF!,\"\")","v":""},{"$f":"_xlfn.CONCAT(\"Trimestre 1\",CHAR(10),IFERROR(#REF!,\"\"))","v":"Trimestre 1\n"},{"$f":"_xlfn.CONCAT(\"Trimestre 1\",CHAR(10),IFERROR(#REF!,\"\"))","v":"Trimestre 1\n"},{"$f":"_xlfn.CONCAT(\"Trimestre 1\",CHAR(10),IFERROR(#REF!,\"\"))","v":"Trimestre 1\n"},{"$f":"_xlfn.CONCAT(\"Trimestre 1\",CHAR(10),IFERROR(#REF!,\"\"))","v":"Trimestre 1\n"},{"$f":"_xlfn.CONCAT(\"Trimestre 1\",CHAR(10),IFERROR(#REF!,\"\"))","v":"Trimestre 1\n"}]
[null,null,null,null,null,null,null,null,null,null,null,null,null,null,null,null,null,null,null,null,null,null,null,null,null,{"$f":"IFERROR(#REF!,\" \")","v":" "},{"$f":"IFERROR(#REF!,\"\")","v":""},{"$f":"IFERROR(#REF!,\"\")","v":""},"","",{"$f":"IFERROR(#REF!,\"\")","v":""},"",{"$f":"IFERROR(#REF!,\"\")","v":""},{"$f":"IFERROR(#REF!,\"\")","v":""},{"$f":"_xlfn.CONCAT(\"Trimestre 1\",CHAR(10),IFERROR(#REF!,\"\"))","v":"Trimestre 1\n"},{"$f":"_xlfn.CONCAT(\"Trimestre 1\",CHAR(10),IFERROR(#REF!,\"\"))","v":"Trimestre 1\n"},{"$f":"_xlfn.CONCAT(\"Trimestre 1\",CHAR(10),IFERROR(#REF!,\"\"))","v":"Trimestre 1\n"},{"$f":"_xlfn.CONCAT(\"Trimestre 1\",CHAR(10),IFERROR(#REF!,\"\"))","v":"Trimestre 1\n"},{"$f":"_xlfn.CONCAT(\"Trimestre 1\",CHAR(10),IFERROR(#REF!,\"\"))","v":"Trimestre 1\n"}]
[null,null,null,null,null,null,null,null,null,null,null,null,null,null,null,null,null,null,null,null,null,null,null,null,null,{"$f":"IFERROR(#REF!,\" \")","v":" "},{"$f":"IFERROR(#REF!,\"\")","v":""},{"$f":"IFERROR(#REF!,\"\")","v":""},"","",{"$f":"IFERROR(#REF!,\"\")","v":""},"",{"$f":"IFERROR(#REF!,\"\")","v":""},{"$f":"IFERROR(#REF!,\"\")","v":""},{"$f":"_xlfn.CONCAT(\"Trimestre 1\",CHAR(10),IFERROR(#REF!,\"\"))","v":"Trimestre 1\n"},{"$f":"_xlfn.CONCAT(\"Trimestre 1\",CHAR(10),IFERROR(#REF!,\"\"))","v":"Trimestre 1\n"},{"$f":"_xlfn.CONCAT(\"Trimestre 1\",CHAR(10),IFERROR(#REF!,\"\"))","v":"Trimestre 1\n"},{"$f":"_xlfn.CONCAT(\"Trimestre 1\",CHAR(10),IFERROR(#REF!,\"\"))","v":"Trimestre 1\n"},{"$f":"_xlfn.CONCAT(\"Trimestre 1\",CHAR(10),IFERROR(#REF!,\"\"))","v":"Trimestre 1\n"}]
[null,null,null,null,null,null,null,null,null,null,null,null,null,null,null,null,null,null,null,null,null,null,null,null,null,{"$f":"IFERROR(#REF!,\" \")","v":" "},{"$f":"IFERROR(#REF!,\"\")","v":""},{"$f":"IFERROR(#REF!,\"\")","v":""},"","",{"$f":"IFERROR(#REF!,\"\")","v":""},"",{"$f":"IFERROR(#REF!,\"\")","v":""},{"$f":"IFERROR(#REF!,\"\")","v":""},{"$f":"_xlfn.CONCAT(\"Trimestre 1\",CHAR(10),IFERROR(#REF!,\"\"))","v":"Trimestre 1\n"},{"$f":"_xlfn.CONCAT(\"Trimestre 1\",CHAR(10),IFERROR(#REF!,\"\"))","v":"Trimestre 1\n"},{"$f":"_xlfn.CONCAT(\"Trimestre 1\",CHAR(10),IFERROR(#REF!,\"\"))","v":"Trimestre 1\n"},{"$f":"_xlfn.CONCAT(\"Trimestre 1\",CHAR(10),IFERROR(#REF!,\"\"))","v":"Trimestre 1\n"},{"$f":"_xlfn.CONCAT(\"Trimestre 1\",CHAR(10),IFERROR(#REF!,\"\"))","v":"Trimestre 1\n"}]
[null,null,"4.Consolidar la cultura y apropiación de la transformación digital en los servidores y usuarios de los servicios de la Rama Judicial y reducir brechas de acceso y conocimiento, incluyendo la oferta efectiva de información sobre el uso de las nuevas herramientas virtuales implementadas en las diferentes jurisdicciones, con especial énfasis en las zonas del país donde es evidente la brecha digital.","Cobertura de infraestructura y conectividad consolidada","# de sedes con infraestruct ura y conectivida d consolidada s/Número total de sedes",null,null,null,null,null,null,null,null,null,null,null,null,null,null,null,null,null,null,null,null,{"$f":"IFERROR(#REF!,\" \")","v":" "},{"$f":"IFERROR(#REF!,\"\")","v":""},{"$f":"IFERROR(#REF!,\"\")","v":""},"","",{"$f":"IFERROR(#REF!,\"\")","v":""},"",{"$f":"IFERROR(#REF!,\"\")","v":""},{"$f":"IFERROR(#REF!,\"\")","v":""},{"$f":"_xlfn.CONCAT(\"Trimestre 1\",CHAR(10),IFERROR(#REF!,\"\"))","v":"Trimestre 1\n"},{"$f":"_xlfn.CONCAT(\"Trimestre 1\",CHAR(10),IFERROR(#REF!,\"\"))","v":"Trimestre 1\n"},{"$f":"_xlfn.CONCAT(\"Trimestre 1\",CHAR(10),IFERROR(#REF!,\"\"))","v":"Trimestre 1\n"},{"$f":"_xlfn.CONCAT(\"Trimestre 1\",CHAR(10),IFERROR(#REF!,\"\"))","v":"Trimestre 1\n"},{"$f":"_xlfn.CONCAT(\"Trimestre 1\",CHAR(10),IFERROR(#REF!,\"\"))","v":"Trimestre 1\n"}]
[null,null,null,null,null,null,null,null,null,null,null,null,null,null,null,null,null,null,null,null,null,null,null,null,null,{"$f":"IFERROR(#REF!,\" \")","v":" "},{"$f":"IFERROR(#REF!,\"\")","v":""},{"$f":"IFERROR(#REF!,\"\")","v":""},"","",{"$f":"IFERROR(#REF!,\"\")","v":""},"",{"$f":"IFERROR(#REF!,\"\")","v":""},{"$f":"IFERROR(#REF!,\"\")","v":""},{"$f":"_xlfn.CONCAT(\"Trimestre 1\",CHAR(10),IFERROR(#REF!,\"\"))","v":"Trimestre 1\n"},{"$f":"_xlfn.CONCAT(\"Trimestre 1\",CHAR(10),IFERROR(#REF!,\"\"))","v":"Trimestre 1\n"},{"$f":"_xlfn.CONCAT(\"Trimestre 1\",CHAR(10),IFERROR(#REF!,\"\"))","v":"Trimestre 1\n"},{"$f":"_xlfn.CONCAT(\"Trimestre 1\",CHAR(10),IFERROR(#REF!,\"\"))","v":"Trimestre 1\n"},{"$f":"_xlfn.CONCAT(\"Trimestre 1\",CHAR(10),IFERROR(#REF!,\"\"))","v":"Trimestre 1\n"}]
[null,null,null,null,null,null,null,null,null,null,null,null,null,null,null,null,null,null,null,null,null,null,null,null,null,{"$f":"IFERROR(#REF!,\" \")","v":" "},{"$f":"IFERROR(#REF!,\"\")","v":""},{"$f":"IFERROR(#REF!,\"\")","v":""},null,null,{"$f":"IFERROR(#REF!,\"\")","v":""},null,{"$f":"IFERROR(#REF!,\"\")","v":""},{"$f":"IFERROR(#REF!,\"\")","v":""},{"$f":"_xlfn.CONCAT(\"Trimestre 1\",CHAR(10),IFERROR(#REF!,\"\"))","v":"Trimestre 1\n"},{"$f":"_xlfn.CONCAT(\"Trimestre 1\",CHAR(10),IFERROR(#REF!,\"\"))","v":"Trimestre 1\n"},{"$f":"_xlfn.CONCAT(\"Trimestre 1\",CHAR(10),IFERROR(#REF!,\"\"))","v":"Trimestre 1\n"},{"$f":"_xlfn.CONCAT(\"Trimestre 1\",CHAR(10),IFERROR(#REF!,\"\"))","v":"Trimestre 1\n"},{"$f":"_xlfn.CONCAT(\"Trimestre 1\",CHAR(10),IFERROR(#REF!,\"\"))","v":"Trimestre 1\n"}]
[null,null,null,null,null,null,null,null,null,null,null,null,null,null,null,null,null,null,null,null,null,null,null,null,null,{"$f":"IFERROR(#REF!,\" \")","v":" "},{"$f":"IFERROR(#REF!,\"\")","v":""},{"$f":"IFERROR(#REF!,\"\")","v":""},null,null,{"$f":"IFERROR(#REF!,\"\")","v":""},null,{"$f":"IFERROR(#REF!,\"\")","v":""},{"$f":"IFERROR(#REF!,\"\")","v":""},{"$f":"_xlfn.CONCAT(\"Trimestre 1\",CHAR(10),IFERROR(#REF!,\"\"))","v":"Trimestre 1\n"},{"$f":"_xlfn.CONCAT(\"Trimestre 1\",CHAR(10),IFERROR(#REF!,\"\"))","v":"Trimestre 1\n"},{"$f":"_xlfn.CONCAT(\"Trimestre 1\",CHAR(10),IFERROR(#REF!,\"\"))","v":"Trimestre 1\n"},{"$f":"_xlfn.CONCAT(\"Trimestre 1\",CHAR(10),IFERROR(#REF!,\"\"))","v":"Trimestre 1\n"},{"$f":"_xlfn.CONCAT(\"Trimestre 1\",CHAR(10),IFERROR(#REF!,\"\"))","v":"Trimestre 1\n"}]
[null,null,null,null,null,null,null,null,null,null,null,null,null,null,null,null,null,null,null,null,null,null,null,null,null,{"$f":"IFERROR(#REF!,\" \")","v":" "},{"$f":"IFERROR(#REF!,\"\")","v":""},{"$f":"IFERROR(#REF!,\"\")","v":""},null,null,{"$f":"IFERROR(#REF!,\"\")","v":""},null,{"$f":"IFERROR(#REF!,\"\")","v":""},{"$f":"IFERROR(#REF!,\"\")","v":""},{"$f":"_xlfn.CONCAT(\"Trimestre 1\",CHAR(10),IFERROR(#REF!,\"\"))","v":"Trimestre 1\n"},{"$f":"_xlfn.CONCAT(\"Trimestre 1\",CHAR(10),IFERROR(#REF!,\"\"))","v":"Trimestre 1\n"},{"$f":"_xlfn.CONCAT(\"Trimestre 1\",CHAR(10),IFERROR(#REF!,\"\"))","v":"Trimestre 1\n"},{"$f":"_xlfn.CONCAT(\"Trimestre 1\",CHAR(10),IFERROR(#REF!,\"\"))","v":"Trimestre 1\n"},{"$f":"_xlfn.CONCAT(\"Trimestre 1\",CHAR(10),IFERROR(#REF!,\"\"))","v":"Trimestre 1\n"}]
[null,null,null,null,null,null,null,null,null,null,null,null,null,null,null,null,null,null,null,null,null,null,null,null,null,{"$f":"IFERROR(#REF!,\" \")","v":" "},{"$f":"IFERROR(#REF!,\"\")","v":""},{"$f":"IFERROR(#REF!,\"\")","v":""},null,null,{"$f":"IFERROR(#REF!,\"\")","v":""},null,{"$f":"IFERROR(#REF!,\"\")","v":""},{"$f":"IFERROR(#REF!,\"\")","v":""},{"$f":"_xlfn.CONCAT(\"Trimestre 1\",CHAR(10),IFERROR(#REF!,\"\"))","v":"Trimestre 1\n"},{"$f":"_xlfn.CONCAT(\"Trimestre 1\",CHAR(10),IFERROR(#REF!,\"\"))","v":"Trimestre 1\n"},{"$f":"_xlfn.CONCAT(\"Trimestre 1\",CHAR(10),IFERROR(#REF!,\"\"))","v":"Trimestre 1\n"},{"$f":"_xlfn.CONCAT(\"Trimestre 1\",CHAR(10),IFERROR(#REF!,\"\"))","v":"Trimestre 1\n"},{"$f":"_xlfn.CONCAT(\"Trimestre 1\",CHAR(10),IFERROR(#REF!,\"\"))","v":"Trimestre 1\n"}]
[null,null,null,null,null,null,null,null,null,null,null,null,null,null,null,null,null,null,null,null,null,null,null,null,null,{"$f":"IFERROR(#REF!,\" \")","v":" "},{"$f":"IFERROR(#REF!,\"\")","v":""},{"$f":"IFERROR(#REF!,\"\")","v":""},null,null,{"$f":"IFERROR(#REF!,\"\")","v":""},null,{"$f":"IFERROR(#REF!,\"\")","v":""},{"$f":"IFERROR(#REF!,\"\")","v":""},{"$f":"_xlfn.CONCAT(\"Trimestre 1\",CHAR(10),IFERROR(#REF!,\"\"))","v":"Trimestre 1\n"},{"$f":"_xlfn.CONCAT(\"Trimestre 1\",CHAR(10),IFERROR(#REF!,\"\"))","v":"Trimestre 1\n"},{"$f":"_xlfn.CONCAT(\"Trimestre 1\",CHAR(10),IFERROR(#REF!,\"\"))","v":"Trimestre 1\n"},{"$f":"_xlfn.CONCAT(\"Trimestre 1\",CHAR(10),IFERROR(#REF!,\"\"))","v":"Trimestre 1\n"},{"$f":"_xlfn.CONCAT(\"Trimestre 1\",CHAR(10),IFERROR(#REF!,\"\"))","v":"Trimestre 1\n"}]
[null,null,null,null,null,null,null,null,null,null,null,null,null,null,null,null,null,null,null,null,null,null,null,null,null,{"$f":"IFERROR(#REF!,\" \")","v":" "},{"$f":"IFERROR(#REF!,\"\")","v":""},{"$f":"IFERROR(#REF!,\"\")","v":""},"","",{"$f":"IFERROR(#REF!,\"\")","v":""},"",{"$f":"IFERROR(#REF!,\"\")","v":""},{"$f":"IFERROR(#REF!,\"\")","v":""},{"$f":"_xlfn.CONCAT(\"Trimestre 1\",CHAR(10),IFERROR(#REF!,\"\"))","v":"Trimestre 1\n"},{"$f":"_xlfn.CONCAT(\"Trimestre 1\",CHAR(10),IFERROR(#REF!,\"\"))","v":"Trimestre 1\n"},{"$f":"_xlfn.CONCAT(\"Trimestre 1\",CHAR(10),IFERROR(#REF!,\"\"))","v":"Trimestre 1\n"},{"$f":"_xlfn.CONCAT(\"Trimestre 1\",CHAR(10),IFERROR(#REF!,\"\"))","v":"Trimestre 1\n"},{"$f":"_xlfn.CONCAT(\"Trimestre 1\",CHAR(10),IFERROR(#REF!,\"\"))","v":"Trimestre 1\n"}]
[null,null,null,null,null,null,null,null,null,null,null,null,null,null,null,null,null,null,null,null,null,null,null,null,null,{"$f":"IFERROR(#REF!,\" \")","v":" "},{"$f":"IFERROR(#REF!,\"\")","v":""},{"$f":"IFERROR(#REF!,\"\")","v":""},"","",{"$f":"IFERROR(#REF!,\"\")","v":""},"",{"$f":"IFERROR(#REF!,\"\")","v":""},{"$f":"IFERROR(#REF!,\"\")","v":""},{"$f":"_xlfn.CONCAT(\"Trimestre 1\",CHAR(10),IFERROR(#REF!,\"\"))","v":"Trimestre 1\n"},{"$f":"_xlfn.CONCAT(\"Trimestre 1\",CHAR(10),IFERROR(#REF!,\"\"))","v":"Trimestre 1\n"},{"$f":"_xlfn.CONCAT(\"Trimestre 1\",CHAR(10),IFERROR(#REF!,\"\"))","v":"Trimestre 1\n"},{"$f":"_xlfn.CONCAT(\"Trimestre 1\",CHAR(10),IFERROR(#REF!,\"\"))","v":"Trimestre 1\n"},{"$f":"_xlfn.CONCAT(\"Trimestre 1\",CHAR(10),IFERROR(#REF!,\"\"))","v":"Trimestre 1\n"}]
[null,null,null,null,null,null,null,null,null,null,null,null,null,null,null,null,null,null,null,null,null,null,null,null,null,{"$f":"IFERROR(#REF!,\" \")","v":" "},{"$f":"IFERROR(#REF!,\"\")","v":""},{"$f":"IFERROR(#REF!,\"\")","v":""},"","",{"$f":"IFERROR(#REF!,\"\")","v":""},"",{"$f":"IFERROR(#REF!,\"\")","v":""},{"$f":"IFERROR(#REF!,\"\")","v":""},{"$f":"_xlfn.CONCAT(\"Trimestre 1\",CHAR(10),IFERROR(#REF!,\"\"))","v":"Trimestre 1\n"},{"$f":"_xlfn.CONCAT(\"Trimestre 1\",CHAR(10),IFERROR(#REF!,\"\"))","v":"Trimestre 1\n"},{"$f":"_xlfn.CONCAT(\"Trimestre 1\",CHAR(10),IFERROR(#REF!,\"\"))","v":"Trimestre 1\n"},{"$f":"_xlfn.CONCAT(\"Trimestre 1\",CHAR(10),IFERROR(#REF!,\"\"))","v":"Trimestre 1\n"},{"$f":"_xlfn.CONCAT(\"Trimestre 1\",CHAR(10),IFERROR(#REF!,\"\"))","v":"Trimestre 1\n"}]
[null,null,"5.Consolidar la infraestructura y los recursos necesarios para la implementación exitosa de la transformación digital, incluyendo la disposición de internet de calidad en el 100% de las sedes en la Rama Judicial y modernizar los servicios tecnológicos de soporte. ","Implementación del programa de gestión del cambio y las comunicaciones del PETD","# de actividades del objetivo \"aumentar el conocimient o digital y el uso de apropiación de los sistemas\" del programa de gestión del cambio y las comunicaci ones del PETD cumplidas /# de actividades del objetivo \"aumentar el conocimient o digital y el uso de apropiación de los sistemas\" del programa de gestión del cambio y las comunicaci ones del PETD programada s",null,null,null,null,null,null,null,null,null,null,null,null,null,null,null,null,null,null,null,null,{"$f":"IFERROR(#REF!,\" \")","v":" "},{"$f":"IFERROR(#REF!,\"\")","v":""},{"$f":"IFERROR(#REF!,\"\")","v":""},"","",{"$f":"IFERROR(#REF!,\"\")","v":""},"",{"$f":"IFERROR(#REF!,\"\")","v":""},{"$f":"IFERROR(#REF!,\"\")","v":""},{"$f":"_xlfn.CONCAT(\"Trimestre 1\",CHAR(10),IFERROR(#REF!,\"\"))","v":"Trimestre 1\n"},{"$f":"_xlfn.CONCAT(\"Trimestre 1\",CHAR(10),IFERROR(#REF!,\"\"))","v":"Trimestre 1\n"},{"$f":"_xlfn.CONCAT(\"Trimestre 1\",CHAR(10),IFERROR(#REF!,\"\"))","v":"Trimestre 1\n"},{"$f":"_xlfn.CONCAT(\"Trimestre 1\",CHAR(10),IFERROR(#REF!,\"\"))","v":"Trimestre 1\n"},{"$f":"_xlfn.CONCAT(\"Trimestre 1\",CHAR(10),IFERROR(#REF!,\"\"))","v":"Trimestre 1\n"}]
[null,null,null,null,null,null,null,null,null,null,null,null,null,null,null,null,null,null,null,null,null,null,null,null,null,{"$f":"IFERROR(#REF!,\" \")","v":" "},{"$f":"IFERROR(#REF!,\"\")","v":""},{"$f":"IFERROR(#REF!,\"\")","v":""},"","",{"$f":"IFERROR(#REF!,\"\")","v":""},"",{"$f":"IFERROR(#REF!,\"\")","v":""},{"$f":"IFERROR(#REF!,\"\")","v":""},{"$f":"_xlfn.CONCAT(\"Trimestre 1\",CHAR(10),IFERROR(#REF!,\"\"))","v":"Trimestre 1\n"},{"$f":"_xlfn.CONCAT(\"Trimestre 1\",CHAR(10),IFERROR(#REF!,\"\"))","v":"Trimestre 1\n"},{"$f":"_xlfn.CONCAT(\"Trimestre 1\",CHAR(10),IFERROR(#REF!,\"\"))","v":"Trimestre 1\n"},{"$f":"_xlfn.CONCAT(\"Trimestre 1\",CHAR(10),IFERROR(#REF!,\"\"))","v":"Trimestre 1\n"},{"$f":"_xlfn.CONCAT(\"Trimestre 1\",CHAR(10),IFERROR(#REF!,\"\"))","v":"Trimestre 1\n"}]
[null,null,null,null,null,null,null,null,null,null,null,null,null,null,null,null,null,null,null,null,null,null,null,null,null,{"$f":"IFERROR(#REF!,\" \")","v":" "},{"$f":"IFERROR(#REF!,\"\")","v":""},{"$f":"IFERROR(#REF!,\"\")","v":""},null,null,{"$f":"IFERROR(#REF!,\"\")","v":""},null,{"$f":"IFERROR(#REF!,\"\")","v":""},{"$f":"IFERROR(#REF!,\"\")","v":""},{"$f":"_xlfn.CONCAT(\"Trimestre 1\",CHAR(10),IFERROR(#REF!,\"\"))","v":"Trimestre 1\n"},{"$f":"_xlfn.CONCAT(\"Trimestre 1\",CHAR(10),IFERROR(#REF!,\"\"))","v":"Trimestre 1\n"},{"$f":"_xlfn.CONCAT(\"Trimestre 1\",CHAR(10),IFERROR(#REF!,\"\"))","v":"Trimestre 1\n"},{"$f":"_xlfn.CONCAT(\"Trimestre 1\",CHAR(10),IFERROR(#REF!,\"\"))","v":"Trimestre 1\n"},{"$f":"_xlfn.CONCAT(\"Trimestre 1\",CHAR(10),IFERROR(#REF!,\"\"))","v":"Trimestre 1\n"}]
[null,null,null,null,null,null,null,null,null,null,null,null,null,null,null,null,null,null,null,null,null,null,null,null,null,{"$f":"IFERROR(#REF!,\" \")","v":" "},{"$f":"IFERROR(#REF!,\"\")","v":""},{"$f":"IFERROR(#REF!,\"\")","v":""},null,null,{"$f":"IFERROR(#REF!,\"\")","v":""},null,{"$f":"IFERROR(#REF!,\"\")","v":""},{"$f":"IFERROR(#REF!,\"\")","v":""},{"$f":"_xlfn.CONCAT(\"Trimestre 1\",CHAR(10),IFERROR(#REF!,\"\"))","v":"Trimestre 1\n"},{"$f":"_xlfn.CONCAT(\"Trimestre 1\",CHAR(10),IFERROR(#REF!,\"\"))","v":"Trimestre 1\n"},{"$f":"_xlfn.CONCAT(\"Trimestre 1\",CHAR(10),IFERROR(#REF!,\"\"))","v":"Trimestre 1\n"},{"$f":"_xlfn.CONCAT(\"Trimestre 1\",CHAR(10),IFERROR(#REF!,\"\"))","v":"Trimestre 1\n"},{"$f":"_xlfn.CONCAT(\"Trimestre 1\",CHAR(10),IFERROR(#REF!,\"\"))","v":"Trimestre 1\n"}]
[null,null,null,null,null,null,null,null,null,null,null,null,null,null,null,null,null,null,null,null,null,null,null,null,null,{"$f":"IFERROR(#REF!,\" \")","v":" "},{"$f":"IFERROR(#REF!,\"\")","v":""},{"$f":"IFERROR(#REF!,\"\")","v":""},null,null,{"$f":"IFERROR(#REF!,\"\")","v":""},null,{"$f":"IFERROR(#REF!,\"\")","v":""},{"$f":"IFERROR(#REF!,\"\")","v":""},{"$f":"_xlfn.CONCAT(\"Trimestre 1\",CHAR(10),IFERROR(#REF!,\"\"))","v":"Trimestre 1\n"},{"$f":"_xlfn.CONCAT(\"Trimestre 1\",CHAR(10),IFERROR(#REF!,\"\"))","v":"Trimestre 1\n"},{"$f":"_xlfn.CONCAT(\"Trimestre 1\",CHAR(10),IFERROR(#REF!,\"\"))","v":"Trimestre 1\n"},{"$f":"_xlfn.CONCAT(\"Trimestre 1\",CHAR(10),IFERROR(#REF!,\"\"))","v":"Trimestre 1\n"},{"$f":"_xlfn.CONCAT(\"Trimestre 1\",CHAR(10),IFERROR(#REF!,\"\"))","v":"Trimestre 1\n"}]
[null,null,null,null,null,null,null,null,null,null,null,null,null,null,null,null,null,null,null,null,null,null,null,null,null,{"$f":"IFERROR(#REF!,\" \")","v":" "},{"$f":"IFERROR(#REF!,\"\")","v":""},{"$f":"IFERROR(#REF!,\"\")","v":""},null,null,{"$f":"IFERROR(#REF!,\"\")","v":""},null,{"$f":"IFERROR(#REF!,\"\")","v":""},{"$f":"IFERROR(#REF!,\"\")","v":""},{"$f":"_xlfn.CONCAT(\"Trimestre 1\",CHAR(10),IFERROR(#REF!,\"\"))","v":"Trimestre 1\n"},{"$f":"_xlfn.CONCAT(\"Trimestre 1\",CHAR(10),IFERROR(#REF!,\"\"))","v":"Trimestre 1\n"},{"$f":"_xlfn.CONCAT(\"Trimestre 1\",CHAR(10),IFERROR(#REF!,\"\"))","v":"Trimestre 1\n"},{"$f":"_xlfn.CONCAT(\"Trimestre 1\",CHAR(10),IFERROR(#REF!,\"\"))","v":"Trimestre 1\n"},{"$f":"_xlfn.CONCAT(\"Trimestre 1\",CHAR(10),IFERROR(#REF!,\"\"))","v":"Trimestre 1\n"}]
[null,null,null,null,null,null,null,null,null,null,null,null,null,null,null,null,null,null,null,null,null,null,null,null,null,{"$f":"IFERROR(#REF!,\" \")","v":" "},{"$f":"IFERROR(#REF!,\"\")","v":""},{"$f":"IFERROR(#REF!,\"\")","v":""},null,null,{"$f":"IFERROR(#REF!,\"\")","v":""},null,{"$f":"IFERROR(#REF!,\"\")","v":""},{"$f":"IFERROR(#REF!,\"\")","v":""},{"$f":"_xlfn.CONCAT(\"Trimestre 1\",CHAR(10),IFERROR(#REF!,\"\"))","v":"Trimestre 1\n"},{"$f":"_xlfn.CONCAT(\"Trimestre 1\",CHAR(10),IFERROR(#REF!,\"\"))","v":"Trimestre 1\n"},{"$f":"_xlfn.CONCAT(\"Trimestre 1\",CHAR(10),IFERROR(#REF!,\"\"))","v":"Trimestre 1\n"},{"$f":"_xlfn.CONCAT(\"Trimestre 1\",CHAR(10),IFERROR(#REF!,\"\"))","v":"Trimestre 1\n"},{"$f":"_xlfn.CONCAT(\"Trimestre 1\",CHAR(10),IFERROR(#REF!,\"\"))","v":"Trimestre 1\n"}]
[null,null,null,null,null,null,null,null,null,null,null,null,null,null,null,null,null,null,null,null,null,null,null,null,null,{"$f":"IFERROR(#REF!,\" \")","v":" "},{"$f":"IFERROR(#REF!,\"\")","v":""},{"$f":"IFERROR(#REF!,\"\")","v":""},"","",{"$f":"IFERROR(#REF!,\"\")","v":""},"",{"$f":"IFERROR(#REF!,\"\")","v":""},{"$f":"IFERROR(#REF!,\"\")","v":""},{"$f":"_xlfn.CONCAT(\"Trimestre 1\",CHAR(10),IFERROR(#REF!,\"\"))","v":"Trimestre 1\n"},{"$f":"_xlfn.CONCAT(\"Trimestre 1\",CHAR(10),IFERROR(#REF!,\"\"))","v":"Trimestre 1\n"},{"$f":"_xlfn.CONCAT(\"Trimestre 1\",CHAR(10),IFERROR(#REF!,\"\"))","v":"Trimestre 1\n"},{"$f":"_xlfn.CONCAT(\"Trimestre 1\",CHAR(10),IFERROR(#REF!,\"\"))","v":"Trimestre 1\n"},{"$f":"_xlfn.CONCAT(\"Trimestre 1\",CHAR(10),IFERROR(#REF!,\"\"))","v":"Trimestre 1\n"}]
[null,null,null,null,null,null,null,null,null,null,null,null,null,null,null,null,null,null,null,null,null,null,null,null,null,{"$f":"IFERROR(#REF!,\" \")","v":" "},{"$f":"IFERROR(#REF!,\"\")","v":""},{"$f":"IFERROR(#REF!,\"\")","v":""},"","",{"$f":"IFERROR(#REF!,\"\")","v":""},"",{"$f":"IFERROR(#REF!,\"\")","v":""},{"$f":"IFERROR(#REF!,\"\")","v":""},{"$f":"_xlfn.CONCAT(\"Trimestre 1\",CHAR(10),IFERROR(#REF!,\"\"))","v":"Trimestre 1\n"},{"$f":"_xlfn.CONCAT(\"Trimestre 1\",CHAR(10),IFERROR(#REF!,\"\"))","v":"Trimestre 1\n"},{"$f":"_xlfn.CONCAT(\"Trimestre 1\",CHAR(10),IFERROR(#REF!,\"\"))","v":"Trimestre 1\n"},{"$f":"_xlfn.CONCAT(\"Trimestre 1\",CHAR(10),IFERROR(#REF!,\"\"))","v":"Trimestre 1\n"},{"$f":"_xlfn.CONCAT(\"Trimestre 1\",CHAR(10),IFERROR(#REF!,\"\"))","v":"Trimestre 1\n"}]
[null,null,null,null,null,null,null,null,null,null,null,null,null,null,null,null,null,null,null,null,null,null,null,null,null,{"$f":"IFERROR(#REF!,\" \")","v":" "},{"$f":"IFERROR(#REF!,\"\")","v":""},{"$f":"IFERROR(#REF!,\"\")","v":""},"","",{"$f":"IFERROR(#REF!,\"\")","v":""},"",{"$f":"IFERROR(#REF!,\"\")","v":""},{"$f":"IFERROR(#REF!,\"\")","v":""},{"$f":"_xlfn.CONCAT(\"Trimestre 1\",CHAR(10),IFERROR(#REF!,\"\"))","v":"Trimestre 1\n"},{"$f":"_xlfn.CONCAT(\"Trimestre 1\",CHAR(10),IFERROR(#REF!,\"\"))","v":"Trimestre 1\n"},{"$f":"_xlfn.CONCAT(\"Trimestre 1\",CHAR(10),IFERROR(#REF!,\"\"))","v":"Trimestre 1\n"},{"$f":"_xlfn.CONCAT(\"Trimestre 1\",CHAR(10),IFERROR(#REF!,\"\"))","v":"Trimestre 1\n"},{"$f":"_xlfn.CONCAT(\"Trimestre 1\",CHAR(10),IFERROR(#REF!,\"\"))","v":"Trimestre 1\n"}]
[null,null,"6.Integrar y optimizar los servicios administrativos de la Rama Judicial bajo un enfoque de transformación digital e innovación incluyendo los componentes financiero, administrativo, talento humano, entre otros.",null,null,null,null,null,null,null,null,null,null,null,null,null,null,null,null,null,null,null,null,null,null,{"$f":"IFERROR(#REF!,\" \")","v":" "},{"$f":"IFERROR(#REF!,\"\")","v":""},{"$f":"IFERROR(#REF!,\"\")","v":""},"","",{"$f":"IFERROR(#REF!,\"\")","v":""},"",{"$f":"IFERROR(#REF!,\"\")","v":""},{"$f":"IFERROR(#REF!,\"\")","v":""},{"$f":"_xlfn.CONCAT(\"Trimestre 1\",CHAR(10),IFERROR(#REF!,\"\"))","v":"Trimestre 1\n"},{"$f":"_xlfn.CONCAT(\"Trimestre 1\",CHAR(10),IFERROR(#REF!,\"\"))","v":"Trimestre 1\n"},{"$f":"_xlfn.CONCAT(\"Trimestre 1\",CHAR(10),IFERROR(#REF!,\"\"))","v":"Trimestre 1\n"},{"$f":"_xlfn.CONCAT(\"Trimestre 1\",CHAR(10),IFERROR(#REF!,\"\"))","v":"Trimestre 1\n"},{"$f":"_xlfn.CONCAT(\"Trimestre 1\",CHAR(10),IFERROR(#REF!,\"\"))","v":"Trimestre 1\n"}]
[null,null,null,null,null,null,null,null,null,null,null,null,null,null,null,null,null,null,null,null,null,null,null,null,null,{"$f":"IFERROR(#REF!,\" \")","v":" "},{"$f":"IFERROR(#REF!,\"\")","v":""},{"$f":"IFERROR(#REF!,\"\")","v":""},"","",{"$f":"IFERROR(#REF!,\"\")","v":""},"",{"$f":"IFERROR(#REF!,\"\")","v":""},{"$f":"IFERROR(#REF!,\"\")","v":""},{"$f":"_xlfn.CONCAT(\"Trimestre 1\",CHAR(10),IFERROR(#REF!,\"\"))","v":"Trimestre 1\n"},{"$f":"_xlfn.CONCAT(\"Trimestre 1\",CHAR(10),IFERROR(#REF!,\"\"))","v":"Trimestre 1\n"},{"$f":"_xlfn.CONCAT(\"Trimestre 1\",CHAR(10),IFERROR(#REF!,\"\"))","v":"Trimestre 1\n"},{"$f":"_xlfn.CONCAT(\"Trimestre 1\",CHAR(10),IFERROR(#REF!,\"\"))","v":"Trimestre 1\n"},{"$f":"_xlfn.CONCAT(\"Trimestre 1\",CHAR(10),IFERROR(#REF!,\"\"))","v":"Trimestre 1\n"}]
[null,null,null,null,null,null,null,null,null,null,null,null,null,null,null,null,null,null,null,null,null,null,null,null,null,{"$f":"IFERROR(#REF!,\" \")","v":" "},{"$f":"IFERROR(#REF!,\"\")","v":""},{"$f":"IFERROR(#REF!,\"\")","v":""},null,null,{"$f":"IFERROR(#REF!,\"\")","v":""},null,{"$f":"IFERROR(#REF!,\"\")","v":""},{"$f":"IFERROR(#REF!,\"\")","v":""},{"$f":"_xlfn.CONCAT(\"Trimestre 1\",CHAR(10),IFERROR(#REF!,\"\"))","v":"Trimestre 1\n"},{"$f":"_xlfn.CONCAT(\"Trimestre 1\",CHAR(10),IFERROR(#REF!,\"\"))","v":"Trimestre 1\n"},{"$f":"_xlfn.CONCAT(\"Trimestre 1\",CHAR(10),IFERROR(#REF!,\"\"))","v":"Trimestre 1\n"},{"$f":"_xlfn.CONCAT(\"Trimestre 1\",CHAR(10),IFERROR(#REF!,\"\"))","v":"Trimestre 1\n"},{"$f":"_xlfn.CONCAT(\"Trimestre 1\",CHAR(10),IFERROR(#REF!,\"\"))","v":"Trimestre 1\n"}]
[null,null,null,null,null,null,null,null,null,null,null,null,null,null,null,null,null,null,null,null,null,null,null,null,null,{"$f":"IFERROR(#REF!,\" \")","v":" "},{"$f":"IFERROR(#REF!,\"\")","v":""},{"$f":"IFERROR(#REF!,\"\")","v":""},null,null,{"$f":"IFERROR(#REF!,\"\")","v":""},null,{"$f":"IFERROR(#REF!,\"\")","v":""},{"$f":"IFERROR(#REF!,\"\")","v":""},{"$f":"_xlfn.CONCAT(\"Trimestre 1\",CHAR(10),IFERROR(#REF!,\"\"))","v":"Trimestre 1\n"},{"$f":"_xlfn.CONCAT(\"Trimestre 1\",CHAR(10),IFERROR(#REF!,\"\"))","v":"Trimestre 1\n"},{"$f":"_xlfn.CONCAT(\"Trimestre 1\",CHAR(10),IFERROR(#REF!,\"\"))","v":"Trimestre 1\n"},{"$f":"_xlfn.CONCAT(\"Trimestre 1\",CHAR(10),IFERROR(#REF!,\"\"))","v":"Trimestre 1\n"},{"$f":"_xlfn.CONCAT(\"Trimestre 1\",CHAR(10),IFERROR(#REF!,\"\"))","v":"Trimestre 1\n"}]
[null,null,null,null,null,null,null,null,null,null,null,null,null,null,null,null,null,null,null,null,null,null,null,null,null,{"$f":"IFERROR(#REF!,\" \")","v":" "},{"$f":"IFERROR(#REF!,\"\")","v":""},{"$f":"IFERROR(#REF!,\"\")","v":""},null,null,{"$f":"IFERROR(#REF!,\"\")","v":""},null,{"$f":"IFERROR(#REF!,\"\")","v":""},{"$f":"IFERROR(#REF!,\"\")","v":""},{"$f":"_xlfn.CONCAT(\"Trimestre 1\",CHAR(10),IFERROR(#REF!,\"\"))","v":"Trimestre 1\n"},{"$f":"_xlfn.CONCAT(\"Trimestre 1\",CHAR(10),IFERROR(#REF!,\"\"))","v":"Trimestre 1\n"},{"$f":"_xlfn.CONCAT(\"Trimestre 1\",CHAR(10),IFERROR(#REF!,\"\"))","v":"Trimestre 1\n"},{"$f":"_xlfn.CONCAT(\"Trimestre 1\",CHAR(10),IFERROR(#REF!,\"\"))","v":"Trimestre 1\n"},{"$f":"_xlfn.CONCAT(\"Trimestre 1\",CHAR(10),IFERROR(#REF!,\"\"))","v":"Trimestre 1\n"}]
[null,null,null,null,null,null,null,null,null,null,null,null,null,null,null,null,null,null,null,null,null,null,null,null,null,{"$f":"IFERROR(#REF!,\" \")","v":" "},{"$f":"IFERROR(#REF!,\"\")","v":""},{"$f":"IFERROR(#REF!,\"\")","v":""},null,null,{"$f":"IFERROR(#REF!,\"\")","v":""},null,{"$f":"IFERROR(#REF!,\"\")","v":""},{"$f":"IFERROR(#REF!,\"\")","v":""},{"$f":"_xlfn.CONCAT(\"Trimestre 1\",CHAR(10),IFERROR(#REF!,\"\"))","v":"Trimestre 1\n"},{"$f":"_xlfn.CONCAT(\"Trimestre 1\",CHAR(10),IFERROR(#REF!,\"\"))","v":"Trimestre 1\n"},{"$f":"_xlfn.CONCAT(\"Trimestre 1\",CHAR(10),IFERROR(#REF!,\"\"))","v":"Trimestre 1\n"},{"$f":"_xlfn.CONCAT(\"Trimestre 1\",CHAR(10),IFERROR(#REF!,\"\"))","v":"Trimestre 1\n"},{"$f":"_xlfn.CONCAT(\"Trimestre 1\",CHAR(10),IFERROR(#REF!,\"\"))","v":"Trimestre 1\n"}]
[null,null,null,null,null,null,null,null,null,null,null,null,null,null,null,null,null,null,null,null,null,null,null,null,null,{"$f":"IFERROR(#REF!,\" \")","v":" "},{"$f":"IFERROR(#REF!,\"\")","v":""},{"$f":"IFERROR(#REF!,\"\")","v":""},null,null,{"$f":"IFERROR(#REF!,\"\")","v":""},null,{"$f":"IFERROR(#REF!,\"\")","v":""},{"$f":"IFERROR(#REF!,\"\")","v":""},{"$f":"_xlfn.CONCAT(\"Trimestre 1\",CHAR(10),IFERROR(#REF!,\"\"))","v":"Trimestre 1\n"},{"$f":"_xlfn.CONCAT(\"Trimestre 1\",CHAR(10),IFERROR(#REF!,\"\"))","v":"Trimestre 1\n"},{"$f":"_xlfn.CONCAT(\"Trimestre 1\",CHAR(10),IFERROR(#REF!,\"\"))","v":"Trimestre 1\n"},{"$f":"_xlfn.CONCAT(\"Trimestre 1\",CHAR(10),IFERROR(#REF!,\"\"))","v":"Trimestre 1\n"},{"$f":"_xlfn.CONCAT(\"Trimestre 1\",CHAR(10),IFERROR(#REF!,\"\"))","v":"Trimestre 1\n"}]
[null,null,null,null,null,null,null,null,null,null,null,null,null,null,null,null,null,null,null,null,null,null,null,null,null,{"$f":"IFERROR(#REF!,\" \")","v":" "},{"$f":"IFERROR(#REF!,\"\")","v":""},{"$f":"IFERROR(#REF!,\"\")","v":""},"","",{"$f":"IFERROR(#REF!,\"\")","v":""},"",{"$f":"IFERROR(#REF!,\"\")","v":""},{"$f":"IFERROR(#REF!,\"\")","v":""},{"$f":"_xlfn.CONCAT(\"Trimestre 1\",CHAR(10),IFERROR(#REF!,\"\"))","v":"Trimestre 1\n"},{"$f":"_xlfn.CONCAT(\"Trimestre 1\",CHAR(10),IFERROR(#REF!,\"\"))","v":"Trimestre 1\n"},{"$f":"_xlfn.CONCAT(\"Trimestre 1\",CHAR(10),IFERROR(#REF!,\"\"))","v":"Trimestre 1\n"},{"$f":"_xlfn.CONCAT(\"Trimestre 1\",CHAR(10),IFERROR(#REF!,\"\"))","v":"Trimestre 1\n"},{"$f":"_xlfn.CONCAT(\"Trimestre 1\",CHAR(10),IFERROR(#REF!,\"\"))","v":"Trimestre 1\n"}]
[null,null,null,null,null,null,null,null,null,null,null,null,null,null,null,null,null,null,null,null,null,null,null,null,null,{"$f":"IFERROR(#REF!,\" \")","v":" "},{"$f":"IFERROR(#REF!,\"\")","v":""},{"$f":"IFERROR(#REF!,\"\")","v":""},"","",{"$f":"IFERROR(#REF!,\"\")","v":""},"",{"$f":"IFERROR(#REF!,\"\")","v":""},{"$f":"IFERROR(#REF!,\"\")","v":""},{"$f":"_xlfn.CONCAT(\"Trimestre 1\",CHAR(10),IFERROR(#REF!,\"\"))","v":"Trimestre 1\n"},{"$f":"_xlfn.CONCAT(\"Trimestre 1\",CHAR(10),IFERROR(#REF!,\"\"))","v":"Trimestre 1\n"},{"$f":"_xlfn.CONCAT(\"Trimestre 1\",CHAR(10),IFERROR(#REF!,\"\"))","v":"Trimestre 1\n"},{"$f":"_xlfn.CONCAT(\"Trimestre 1\",CHAR(10),IFERROR(#REF!,\"\"))","v":"Trimestre 1\n"},{"$f":"_xlfn.CONCAT(\"Trimestre 1\",CHAR(10),IFERROR(#REF!,\"\"))","v":"Trimestre 1\n"}]
[null,null,null,null,null,null,null,null,null,null,null,null,null,null,null,null,null,null,null,null,null,null,null,null,null,{"$f":"IFERROR(#REF!,\" \")","v":" "},{"$f":"IFERROR(#REF!,\"\")","v":""},{"$f":"IFERROR(#REF!,\"\")","v":""},"","",{"$f":"IFERROR(#REF!,\"\")","v":""},"",{"$f":"IFERROR(#REF!,\"\")","v":""},{"$f":"IFERROR(#REF!,\"\")","v":""},{"$f":"_xlfn.CONCAT(\"Trimestre 1\",CHAR(10),IFERROR(#REF!,\"\"))","v":"Trimestre 1\n"},{"$f":"_xlfn.CONCAT(\"Trimestre 1\",CHAR(10),IFERROR(#REF!,\"\"))","v":"Trimestre 1\n"},{"$f":"_xlfn.CONCAT(\"Trimestre 1\",CHAR(10),IFERROR(#REF!,\"\"))","v":"Trimestre 1\n"},{"$f":"_xlfn.CONCAT(\"Trimestre 1\",CHAR(10),IFERROR(#REF!,\"\"))","v":"Trimestre 1\n"},{"$f":"_xlfn.CONCAT(\"Trimestre 1\",CHAR(10),IFERROR(#REF!,\"\"))","v":"Trimestre 1\n"}]
["3. Confianza pública, transparencia y rendición de cuentas","Confianza pública, transparencia y rendición de cuentas: Aumentar la confianza pública en la justicia a través de la transparencia, la rendición de cuentas y la participación, incluyendo la información de justicia y la producción, gestión y acceso a las fuentes de derecho, el fortalecimiento del sistema de gestión de calidad y medio ambiente (SIGCMA) y el mejoramiento de la calidad y publicidad de la información. ","1. Incrementar la cantidad, la calidad y pertinencia de los datos sobre el funcionamiento del servicio de justicia bajo un modelo de gobierno de datos y un liderazgo unificado. ","Modelo de\ngobierno y calidad de datos implementado","% de implementa ción del modelo de gobierno y calidad de datos","4. Hacer un uso racional de los recursos naturales aplicando los principios y fases de la Economía Circular, para prevenir, mitigar y controlar los impactos ambientales.",null,null,null,null,null,null,null,null,null,null,null,null,null,null,null,null,null,null,null,{"$f":"IFERROR(#REF!,\" \")","v":" "},{"$f":"IFERROR(#REF!,\"\")","v":""},{"$f":"IFERROR(#REF!,\"\")","v":""},"","",{"$f":"IFERROR(#REF!,\"\")","v":""},"",{"$f":"IFERROR(#REF!,\"\")","v":""},{"$f":"IFERROR(#REF!,\"\")","v":""},{"$f":"_xlfn.CONCAT(\"Trimestre 1\",CHAR(10),IFERROR(#REF!,\"\"))","v":"Trimestre 1\n"},{"$f":"_xlfn.CONCAT(\"Trimestre 1\",CHAR(10),IFERROR(#REF!,\"\"))","v":"Trimestre 1\n"},{"$f":"_xlfn.CONCAT(\"Trimestre 1\",CHAR(10),IFERROR(#REF!,\"\"))","v":"Trimestre 1\n"},{"$f":"_xlfn.CONCAT(\"Trimestre 1\",CHAR(10),IFERROR(#REF!,\"\"))","v":"Trimestre 1\n"},{"$f":"_xlfn.CONCAT(\"Trimestre 1\",CHAR(10),IFERROR(#REF!,\"\"))","v":"Trimestre 1\n"}]
[null,null,null,null,null,null,null,null,null,null,null,null,null,null,null,null,null,null,null,null,null,null,null,null,null,{"$f":"IFERROR(#REF!,\" \")","v":" "},{"$f":"IFERROR(#REF!,\"\")","v":""},{"$f":"IFERROR(#REF!,\"\")","v":""},"","",{"$f":"IFERROR(#REF!,\"\")","v":""},"",{"$f":"IFERROR(#REF!,\"\")","v":""},{"$f":"IFERROR(#REF!,\"\")","v":""},{"$f":"_xlfn.CONCAT(\"Trimestre 1\",CHAR(10),IFERROR(#REF!,\"\"))","v":"Trimestre 1\n"},{"$f":"_xlfn.CONCAT(\"Trimestre 1\",CHAR(10),IFERROR(#REF!,\"\"))","v":"Trimestre 1\n"},{"$f":"_xlfn.CONCAT(\"Trimestre 1\",CHAR(10),IFERROR(#REF!,\"\"))","v":"Trimestre 1\n"},{"$f":"_xlfn.CONCAT(\"Trimestre 1\",CHAR(10),IFERROR(#REF!,\"\"))","v":"Trimestre 1\n"},{"$f":"_xlfn.CONCAT(\"Trimestre 1\",CHAR(10),IFERROR(#REF!,\"\"))","v":"Trimestre 1\n"}]
[null,null,null,null,null,null,null,null,null,null,null,null,null,null,null,null,null,null,null,null,null,null,null,null,null,{"$f":"IFERROR(#REF!,\" \")","v":" "},{"$f":"IFERROR(#REF!,\"\")","v":""},{"$f":"IFERROR(#REF!,\"\")","v":""},null,null,{"$f":"IFERROR(#REF!,\"\")","v":""},null,{"$f":"IFERROR(#REF!,\"\")","v":""},{"$f":"IFERROR(#REF!,\"\")","v":""},{"$f":"_xlfn.CONCAT(\"Trimestre 1\",CHAR(10),IFERROR(#REF!,\"\"))","v":"Trimestre 1\n"},{"$f":"_xlfn.CONCAT(\"Trimestre 1\",CHAR(10),IFERROR(#REF!,\"\"))","v":"Trimestre 1\n"},{"$f":"_xlfn.CONCAT(\"Trimestre 1\",CHAR(10),IFERROR(#REF!,\"\"))","v":"Trimestre 1\n"},{"$f":"_xlfn.CONCAT(\"Trimestre 1\",CHAR(10),IFERROR(#REF!,\"\"))","v":"Trimestre 1\n"},{"$f":"_xlfn.CONCAT(\"Trimestre 1\",CHAR(10),IFERROR(#REF!,\"\"))","v":"Trimestre 1\n"}]
[null,null,null,null,null,null,null,null,null,null,null,null,null,null,null,null,null,null,null,null,null,null,null,null,null,{"$f":"IFERROR(#REF!,\" \")","v":" "},{"$f":"IFERROR(#REF!,\"\")","v":""},{"$f":"IFERROR(#REF!,\"\")","v":""},null,null,{"$f":"IFERROR(#REF!,\"\")","v":""},null,{"$f":"IFERROR(#REF!,\"\")","v":""},{"$f":"IFERROR(#REF!,\"\")","v":""},{"$f":"_xlfn.CONCAT(\"Trimestre 1\",CHAR(10),IFERROR(#REF!,\"\"))","v":"Trimestre 1\n"},{"$f":"_xlfn.CONCAT(\"Trimestre 1\",CHAR(10),IFERROR(#REF!,\"\"))","v":"Trimestre 1\n"},{"$f":"_xlfn.CONCAT(\"Trimestre 1\",CHAR(10),IFERROR(#REF!,\"\"))","v":"Trimestre 1\n"},{"$f":"_xlfn.CONCAT(\"Trimestre 1\",CHAR(10),IFERROR(#REF!,\"\"))","v":"Trimestre 1\n"},{"$f":"_xlfn.CONCAT(\"Trimestre 1\",CHAR(10),IFERROR(#REF!,\"\"))","v":"Trimestre 1\n"}]
[null,null,null,null,null,null,null,null,null,null,null,null,null,null,null,null,null,null,null,null,null,null,null,null,null,{"$f":"IFERROR(#REF!,\" \")","v":" "},{"$f":"IFERROR(#REF!,\"\")","v":""},{"$f":"IFERROR(#REF!,\"\")","v":""},null,null,{"$f":"IFERROR(#REF!,\"\")","v":""},null,{"$f":"IFERROR(#REF!,\"\")","v":""},{"$f":"IFERROR(#REF!,\"\")","v":""},{"$f":"_xlfn.CONCAT(\"Trimestre 1\",CHAR(10),IFERROR(#REF!,\"\"))","v":"Trimestre 1\n"},{"$f":"_xlfn.CONCAT(\"Trimestre 1\",CHAR(10),IFERROR(#REF!,\"\"))","v":"Trimestre 1\n"},{"$f":"_xlfn.CONCAT(\"Trimestre 1\",CHAR(10),IFERROR(#REF!,\"\"))","v":"Trimestre 1\n"},{"$f":"_xlfn.CONCAT(\"Trimestre 1\",CHAR(10),IFERROR(#REF!,\"\"))","v":"Trimestre 1\n"},{"$f":"_xlfn.CONCAT(\"Trimestre 1\",CHAR(10),IFERROR(#REF!,\"\"))","v":"Trimestre 1\n"}]
[null,null,null,null,null,null,null,null,null,null,null,null,null,null,null,null,null,null,null,null,null,null,null,null,null,{"$f":"IFERROR(#REF!,\" \")","v":" "},{"$f":"IFERROR(#REF!,\"\")","v":""},{"$f":"IFERROR(#REF!,\"\")","v":""},null,null,{"$f":"IFERROR(#REF!,\"\")","v":""},null,{"$f":"IFERROR(#REF!,\"\")","v":""},{"$f":"IFERROR(#REF!,\"\")","v":""},{"$f":"_xlfn.CONCAT(\"Trimestre 1\",CHAR(10),IFERROR(#REF!,\"\"))","v":"Trimestre 1\n"},{"$f":"_xlfn.CONCAT(\"Trimestre 1\",CHAR(10),IFERROR(#REF!,\"\"))","v":"Trimestre 1\n"},{"$f":"_xlfn.CONCAT(\"Trimestre 1\",CHAR(10),IFERROR(#REF!,\"\"))","v":"Trimestre 1\n"},{"$f":"_xlfn.CONCAT(\"Trimestre 1\",CHAR(10),IFERROR(#REF!,\"\"))","v":"Trimestre 1\n"},{"$f":"_xlfn.CONCAT(\"Trimestre 1\",CHAR(10),IFERROR(#REF!,\"\"))","v":"Trimestre 1\n"}]
[null,null,null,null,null,null,null,null,null,null,null,null,null,null,null,null,null,null,null,null,null,null,null,null,null,{"$f":"IFERROR(#REF!,\" \")","v":" "},{"$f":"IFERROR(#REF!,\"\")","v":""},{"$f":"IFERROR(#REF!,\"\")","v":""},null,null,{"$f":"IFERROR(#REF!,\"\")","v":""},null,{"$f":"IFERROR(#REF!,\"\")","v":""},{"$f":"IFERROR(#REF!,\"\")","v":""},{"$f":"_xlfn.CONCAT(\"Trimestre 1\",CHAR(10),IFERROR(#REF!,\"\"))","v":"Trimestre 1\n"},{"$f":"_xlfn.CONCAT(\"Trimestre 1\",CHAR(10),IFERROR(#REF!,\"\"))","v":"Trimestre 1\n"},{"$f":"_xlfn.CONCAT(\"Trimestre 1\",CHAR(10),IFERROR(#REF!,\"\"))","v":"Trimestre 1\n"},{"$f":"_xlfn.CONCAT(\"Trimestre 1\",CHAR(10),IFERROR(#REF!,\"\"))","v":"Trimestre 1\n"},{"$f":"_xlfn.CONCAT(\"Trimestre 1\",CHAR(10),IFERROR(#REF!,\"\"))","v":"Trimestre 1\n"}]
[null,null,null,null,null,null,null,null,null,null,null,null,null,null,null,null,null,null,null,null,null,null,null,null,null,{"$f":"IFERROR(#REF!,\" \")","v":" "},{"$f":"IFERROR(#REF!,\"\")","v":""},{"$f":"IFERROR(#REF!,\"\")","v":""},"","",{"$f":"IFERROR(#REF!,\"\")","v":""},"",{"$f":"IFERROR(#REF!,\"\")","v":""},{"$f":"IFERROR(#REF!,\"\")","v":""},{"$f":"_xlfn.CONCAT(\"Trimestre 1\",CHAR(10),IFERROR(#REF!,\"\"))","v":"Trimestre 1\n"},{"$f":"_xlfn.CONCAT(\"Trimestre 1\",CHAR(10),IFERROR(#REF!,\"\"))","v":"Trimestre 1\n"},{"$f":"_xlfn.CONCAT(\"Trimestre 1\",CHAR(10),IFERROR(#REF!,\"\"))","v":"Trimestre 1\n"},{"$f":"_xlfn.CONCAT(\"Trimestre 1\",CHAR(10),IFERROR(#REF!,\"\"))","v":"Trimestre 1\n"},{"$f":"_xlfn.CONCAT(\"Trimestre 1\",CHAR(10),IFERROR(#REF!,\"\"))","v":"Trimestre 1\n"}]
[null,null,null,null,null,null,null,null,null,null,null,null,null,null,null,null,null,null,null,null,null,null,null,null,null,{"$f":"IFERROR(#REF!,\" \")","v":" "},{"$f":"IFERROR(#REF!,\"\")","v":""},{"$f":"IFERROR(#REF!,\"\")","v":""},"","",{"$f":"IFERROR(#REF!,\"\")","v":""},"",{"$f":"IFERROR(#REF!,\"\")","v":""},{"$f":"IFERROR(#REF!,\"\")","v":""},{"$f":"_xlfn.CONCAT(\"Trimestre 1\",CHAR(10),IFERROR(#REF!,\"\"))","v":"Trimestre 1\n"},{"$f":"_xlfn.CONCAT(\"Trimestre 1\",CHAR(10),IFERROR(#REF!,\"\"))","v":"Trimestre 1\n"},{"$f":"_xlfn.CONCAT(\"Trimestre 1\",CHAR(10),IFERROR(#REF!,\"\"))","v":"Trimestre 1\n"},{"$f":"_xlfn.CONCAT(\"Trimestre 1\",CHAR(10),IFERROR(#REF!,\"\"))","v":"Trimestre 1\n"},{"$f":"_xlfn.CONCAT(\"Trimestre 1\",CHAR(10),IFERROR(#REF!,\"\"))","v":"Trimestre 1\n"}]
[null,null,null,null,null,null,null,null,null,null,null,null,null,null,null,null,null,null,null,null,null,null,null,null,null,{"$f":"IFERROR(#REF!,\" \")","v":" "},{"$f":"IFERROR(#REF!,\"\")","v":""},{"$f":"IFERROR(#REF!,\"\")","v":""},"","",{"$f":"IFERROR(#REF!,\"\")","v":""},"",{"$f":"IFERROR(#REF!,\"\")","v":""},{"$f":"IFERROR(#REF!,\"\")","v":""},{"$f":"_xlfn.CONCAT(\"Trimestre 1\",CHAR(10),IFERROR(#REF!,\"\"))","v":"Trimestre 1\n"},{"$f":"_xlfn.CONCAT(\"Trimestre 1\",CHAR(10),IFERROR(#REF!,\"\"))","v":"Trimestre 1\n"},{"$f":"_xlfn.CONCAT(\"Trimestre 1\",CHAR(10),IFERROR(#REF!,\"\"))","v":"Trimestre 1\n"},{"$f":"_xlfn.CONCAT(\"Trimestre 1\",CHAR(10),IFERROR(#REF!,\"\"))","v":"Trimestre 1\n"},{"$f":"_xlfn.CONCAT(\"Trimestre 1\",CHAR(10),IFERROR(#REF!,\"\"))","v":"Trimestre 1\n"}]
[null,null,"2. Consolidar la administración de la información entendida como todas las acciones rientadas a garantizar el acceso, consulta, uso y conservación de la información de justicia de manera ágil, flexible e inteligente, bajo un enfoque de innovación.","Modelo de producción, acceso, consulta y conservación del conocimiento jurídico","% de implementa ción del modelo de producción, acceso, consulta y conservació n del conocimient o jurídico",null,null,null,null,null,null,null,null,null,null,null,null,null,null,null,null,null,null,null,null,{"$f":"IFERROR(#REF!,\" \")","v":" "},{"$f":"IFERROR(#REF!,\"\")","v":""},{"$f":"IFERROR(#REF!,\"\")","v":""},"","",{"$f":"IFERROR(#REF!,\"\")","v":""},"",{"$f":"IFERROR(#REF!,\"\")","v":""},{"$f":"IFERROR(#REF!,\"\")","v":""},{"$f":"_xlfn.CONCAT(\"Trimestre 1\",CHAR(10),IFERROR(#REF!,\"\"))","v":"Trimestre 1\n"},{"$f":"_xlfn.CONCAT(\"Trimestre 1\",CHAR(10),IFERROR(#REF!,\"\"))","v":"Trimestre 1\n"},{"$f":"_xlfn.CONCAT(\"Trimestre 1\",CHAR(10),IFERROR(#REF!,\"\"))","v":"Trimestre 1\n"},{"$f":"_xlfn.CONCAT(\"Trimestre 1\",CHAR(10),IFERROR(#REF!,\"\"))","v":"Trimestre 1\n"},{"$f":"_xlfn.CONCAT(\"Trimestre 1\",CHAR(10),IFERROR(#REF!,\"\"))","v":"Trimestre 1\n"}]
[null,null,null,null,null,null,null,null,null,null,null,null,null,null,null,null,null,null,null,null,null,null,null,null,null,{"$f":"IFERROR(#REF!,\" \")","v":" "},{"$f":"IFERROR(#REF!,\"\")","v":""},{"$f":"IFERROR(#REF!,\"\")","v":""},"","",{"$f":"IFERROR(#REF!,\"\")","v":""},"",{"$f":"IFERROR(#REF!,\"\")","v":""},{"$f":"IFERROR(#REF!,\"\")","v":""},{"$f":"_xlfn.CONCAT(\"Trimestre 1\",CHAR(10),IFERROR(#REF!,\"\"))","v":"Trimestre 1\n"},{"$f":"_xlfn.CONCAT(\"Trimestre 1\",CHAR(10),IFERROR(#REF!,\"\"))","v":"Trimestre 1\n"},{"$f":"_xlfn.CONCAT(\"Trimestre 1\",CHAR(10),IFERROR(#REF!,\"\"))","v":"Trimestre 1\n"},{"$f":"_xlfn.CONCAT(\"Trimestre 1\",CHAR(10),IFERROR(#REF!,\"\"))","v":"Trimestre 1\n"},{"$f":"_xlfn.CONCAT(\"Trimestre 1\",CHAR(10),IFERROR(#REF!,\"\"))","v":"Trimestre 1\n"}]
[null,null,null,null,null,null,null,null,null,null,null,null,null,null,null,null,null,null,null,null,null,null,null,null,null,{"$f":"IFERROR(#REF!,\" \")","v":" "},{"$f":"IFERROR(#REF!,\"\")","v":""},{"$f":"IFERROR(#REF!,\"\")","v":""},null,null,{"$f":"IFERROR(#REF!,\"\")","v":""},null,{"$f":"IFERROR(#REF!,\"\")","v":""},{"$f":"IFERROR(#REF!,\"\")","v":""},{"$f":"_xlfn.CONCAT(\"Trimestre 1\",CHAR(10),IFERROR(#REF!,\"\"))","v":"Trimestre 1\n"},{"$f":"_xlfn.CONCAT(\"Trimestre 1\",CHAR(10),IFERROR(#REF!,\"\"))","v":"Trimestre 1\n"},{"$f":"_xlfn.CONCAT(\"Trimestre 1\",CHAR(10),IFERROR(#REF!,\"\"))","v":"Trimestre 1\n"},{"$f":"_xlfn.CONCAT(\"Trimestre 1\",CHAR(10),IFERROR(#REF!,\"\"))","v":"Trimestre 1\n"},{"$f":"_xlfn.CONCAT(\"Trimestre 1\",CHAR(10),IFERROR(#REF!,\"\"))","v":"Trimestre 1\n"}]
[null,null,null,null,null,null,null,null,null,null,null,null,null,null,null,null,null,null,null,null,null,null,null,null,null,{"$f":"IFERROR(#REF!,\" \")","v":" "},{"$f":"IFERROR(#REF!,\"\")","v":""},{"$f":"IFERROR(#REF!,\"\")","v":""},null,null,{"$f":"IFERROR(#REF!,\"\")","v":""},null,{"$f":"IFERROR(#REF!,\"\")","v":""},{"$f":"IFERROR(#REF!,\"\")","v":""},{"$f":"_xlfn.CONCAT(\"Trimestre 1\",CHAR(10),IFERROR(#REF!,\"\"))","v":"Trimestre 1\n"},{"$f":"_xlfn.CONCAT(\"Trimestre 1\",CHAR(10),IFERROR(#REF!,\"\"))","v":"Trimestre 1\n"},{"$f":"_xlfn.CONCAT(\"Trimestre 1\",CHAR(10),IFERROR(#REF!,\"\"))","v":"Trimestre 1\n"},{"$f":"_xlfn.CONCAT(\"Trimestre 1\",CHAR(10),IFERROR(#REF!,\"\"))","v":"Trimestre 1\n"},{"$f":"_xlfn.CONCAT(\"Trimestre 1\",CHAR(10),IFERROR(#REF!,\"\"))","v":"Trimestre 1\n"}]
[null,null,null,null,null,null,null,null,null,null,null,null,null,null,null,null,null,null,null,null,null,null,null,null,null,{"$f":"IFERROR(#REF!,\" \")","v":" "},{"$f":"IFERROR(#REF!,\"\")","v":""},{"$f":"IFERROR(#REF!,\"\")","v":""},null,null,{"$f":"IFERROR(#REF!,\"\")","v":""},null,{"$f":"IFERROR(#REF!,\"\")","v":""},{"$f":"IFERROR(#REF!,\"\")","v":""},{"$f":"_xlfn.CONCAT(\"Trimestre 1\",CHAR(10),IFERROR(#REF!,\"\"))","v":"Trimestre 1\n"},{"$f":"_xlfn.CONCAT(\"Trimestre 1\",CHAR(10),IFERROR(#REF!,\"\"))","v":"Trimestre 1\n"},{"$f":"_xlfn.CONCAT(\"Trimestre 1\",CHAR(10),IFERROR(#REF!,\"\"))","v":"Trimestre 1\n"},{"$f":"_xlfn.CONCAT(\"Trimestre 1\",CHAR(10),IFERROR(#REF!,\"\"))","v":"Trimestre 1\n"},{"$f":"_xlfn.CONCAT(\"Trimestre 1\",CHAR(10),IFERROR(#REF!,\"\"))","v":"Trimestre 1\n"}]
[null,null,null,null,null,null,null,null,null,null,null,null,null,null,null,null,null,null,null,null,null,null,null,null,null,{"$f":"IFERROR(#REF!,\" \")","v":" "},{"$f":"IFERROR(#REF!,\"\")","v":""},{"$f":"IFERROR(#REF!,\"\")","v":""},null,null,{"$f":"IFERROR(#REF!,\"\")","v":""},null,{"$f":"IFERROR(#REF!,\"\")","v":""},{"$f":"IFERROR(#REF!,\"\")","v":""},{"$f":"_xlfn.CONCAT(\"Trimestre 1\",CHAR(10),IFERROR(#REF!,\"\"))","v":"Trimestre 1\n"},{"$f":"_xlfn.CONCAT(\"Trimestre 1\",CHAR(10),IFERROR(#REF!,\"\"))","v":"Trimestre 1\n"},{"$f":"_xlfn.CONCAT(\"Trimestre 1\",CHAR(10),IFERROR(#REF!,\"\"))","v":"Trimestre 1\n"},{"$f":"_xlfn.CONCAT(\"Trimestre 1\",CHAR(10),IFERROR(#REF!,\"\"))","v":"Trimestre 1\n"},{"$f":"_xlfn.CONCAT(\"Trimestre 1\",CHAR(10),IFERROR(#REF!,\"\"))","v":"Trimestre 1\n"}]
[null,null,null,null,null,null,null,null,null,null,null,null,null,null,null,null,null,null,null,null,null,null,null,null,null,{"$f":"IFERROR(#REF!,\" \")","v":" "},{"$f":"IFERROR(#REF!,\"\")","v":""},{"$f":"IFERROR(#REF!,\"\")","v":""},null,null,{"$f":"IFERROR(#REF!,\"\")","v":""},null,{"$f":"IFERROR(#REF!,\"\")","v":""},{"$f":"IFERROR(#REF!,\"\")","v":""},{"$f":"_xlfn.CONCAT(\"Trimestre 1\",CHAR(10),IFERROR(#REF!,\"\"))","v":"Trimestre 1\n"},{"$f":"_xlfn.CONCAT(\"Trimestre 1\",CHAR(10),IFERROR(#REF!,\"\"))","v":"Trimestre 1\n"},{"$f":"_xlfn.CONCAT(\"Trimestre 1\",CHAR(10),IFERROR(#REF!,\"\"))","v":"Trimestre 1\n"},{"$f":"_xlfn.CONCAT(\"Trimestre 1\",CHAR(10),IFERROR(#REF!,\"\"))","v":"Trimestre 1\n"},{"$f":"_xlfn.CONCAT(\"Trimestre 1\",CHAR(10),IFERROR(#REF!,\"\"))","v":"Trimestre 1\n"}]
[null,null,null,null,null,null,null,null,null,null,null,null,null,null,null,null,null,null,null,null,null,null,null,null,null,{"$f":"IFERROR(#REF!,\" \")","v":" "},{"$f":"IFERROR(#REF!,\"\")","v":""},{"$f":"IFERROR(#REF!,\"\")","v":""},"","",{"$f":"IFERROR(#REF!,\"\")","v":""},"",{"$f":"IFERROR(#REF!,\"\")","v":""},{"$f":"IFERROR(#REF!,\"\")","v":""},{"$f":"_xlfn.CONCAT(\"Trimestre 1\",CHAR(10),IFERROR(#REF!,\"\"))","v":"Trimestre 1\n"},{"$f":"_xlfn.CONCAT(\"Trimestre 1\",CHAR(10),IFERROR(#REF!,\"\"))","v":"Trimestre 1\n"},{"$f":"_xlfn.CONCAT(\"Trimestre 1\",CHAR(10),IFERROR(#REF!,\"\"))","v":"Trimestre 1\n"},{"$f":"_xlfn.CONCAT(\"Trimestre 1\",CHAR(10),IFERROR(#REF!,\"\"))","v":"Trimestre 1\n"},{"$f":"_xlfn.CONCAT(\"Trimestre 1\",CHAR(10),IFERROR(#REF!,\"\"))","v":"Trimestre 1\n"}]
[null,null,null,null,null,null,null,null,null,null,null,null,null,null,null,null,null,null,null,null,null,null,null,null,null,{"$f":"IFERROR(#REF!,\" \")","v":" "},{"$f":"IFERROR(#REF!,\"\")","v":""},{"$f":"IFERROR(#REF!,\"\")","v":""},"","",{"$f":"IFERROR(#REF!,\"\")","v":""},"",{"$f":"IFERROR(#REF!,\"\")","v":""},{"$f":"IFERROR(#REF!,\"\")","v":""},{"$f":"_xlfn.CONCAT(\"Trimestre 1\",CHAR(10),IFERROR(#REF!,\"\"))","v":"Trimestre 1\n"},{"$f":"_xlfn.CONCAT(\"Trimestre 1\",CHAR(10),IFERROR(#REF!,\"\"))","v":"Trimestre 1\n"},{"$f":"_xlfn.CONCAT(\"Trimestre 1\",CHAR(10),IFERROR(#REF!,\"\"))","v":"Trimestre 1\n"},{"$f":"_xlfn.CONCAT(\"Trimestre 1\",CHAR(10),IFERROR(#REF!,\"\"))","v":"Trimestre 1\n"},{"$f":"_xlfn.CONCAT(\"Trimestre 1\",CHAR(10),IFERROR(#REF!,\"\"))","v":"Trimestre 1\n"}]
[null,null,null,null,null,null,null,null,null,null,null,null,null,null,null,null,null,null,null,null,null,null,null,null,null,{"$f":"IFERROR(#REF!,\" \")","v":" "},{"$f":"IFERROR(#REF!,\"\")","v":""},{"$f":"IFERROR(#REF!,\"\")","v":""},"","",{"$f":"IFERROR(#REF!,\"\")","v":""},"",{"$f":"IFERROR(#REF!,\"\")","v":""},{"$f":"IFERROR(#REF!,\"\")","v":""},{"$f":"_xlfn.CONCAT(\"Trimestre 1\",CHAR(10),IFERROR(#REF!,\"\"))","v":"Trimestre 1\n"},{"$f":"_xlfn.CONCAT(\"Trimestre 1\",CHAR(10),IFERROR(#REF!,\"\"))","v":"Trimestre 1\n"},{"$f":"_xlfn.CONCAT(\"Trimestre 1\",CHAR(10),IFERROR(#REF!,\"\"))","v":"Trimestre 1\n"},{"$f":"_xlfn.CONCAT(\"Trimestre 1\",CHAR(10),IFERROR(#REF!,\"\"))","v":"Trimestre 1\n"},{"$f":"_xlfn.CONCAT(\"Trimestre 1\",CHAR(10),IFERROR(#REF!,\"\"))","v":"Trimestre 1\n"}]
[null,null,"3. Fortalecer el Sistema integrado de Gestión de la Rama, orientado a la implementación y certificación de las normas antisoborno.","Certificación del Sistema Integrado de Gestión de la Rama en norma antisoborno","# de dependenci as judiciales y administrati vas certificadas en norma antisoborno /# total de despachos certificados en calidad","1. Gestionar el desarrollo de las competencias, la toma de conciencia , la cultura  organizacional  y el compromiso de los  servidores judiciales, contratistas, practicantes y  judicantes de contribuir a generar valor público en la administración de justicia, en el marco de  cumplimiento de los requisitos  aplicables y el comportamiento ético.\n3. Fomentar la transparencia y la participación generando lineamientos y promoviendo la rendición de cuentas ,la consulta, reporte y planteamiento de inquietudes en relación con las decisiones y aspectos del SIGCMA.",null,null,null,null,null,null,null,null,null,null,null,null,null,null,null,null,null,null,null,{"$f":"IFERROR(#REF!,\" \")","v":" "},{"$f":"IFERROR(#REF!,\"\")","v":""},{"$f":"IFERROR(#REF!,\"\")","v":""},"","",{"$f":"IFERROR(#REF!,\"\")","v":""},{"$f":"IFERROR(P136-AB136,\"\")","v":""},{"$f":"IFERROR(#REF!,\"\")","v":""},{"$f":"IFERROR(#REF!,\"\")","v":""},{"$f":"_xlfn.CONCAT(\"Trimestre 1\",CHAR(10),IFERROR(#REF!,\"\"))","v":"Trimestre 1\n"},{"$f":"_xlfn.CONCAT(\"Trimestre 1\",CHAR(10),IFERROR(#REF!,\"\"))","v":"Trimestre 1\n"},{"$f":"_xlfn.CONCAT(\"Trimestre 1\",CHAR(10),IFERROR(#REF!,\"\"))","v":"Trimestre 1\n"},{"$f":"_xlfn.CONCAT(\"Trimestre 1\",CHAR(10),IFERROR(#REF!,\"\"))","v":"Trimestre 1\n"},{"$f":"_xlfn.CONCAT(\"Trimestre 1\",CHAR(10),IFERROR(#REF!,\"\"))","v":"Trimestre 1\n"}]
[null,null,null,null,null,null,null,null,null,null,null,null,null,null,null,null,null,null,null,null,null,null,null,null,null,{"$f":"IFERROR(#REF!,\" \")","v":" "},{"$f":"IFERROR(#REF!,\"\")","v":""},{"$f":"IFERROR(#REF!,\"\")","v":""},{"$f":"IFERROR(AB137/P137,\"\")","v":""},{"$f":"IFERROR(AA137/Y137,\"\")","v":""},{"$f":"IFERROR(#REF!,\"\")","v":""},"",{"$f":"IFERROR(#REF!,\"\")","v":""},{"$f":"IFERROR(#REF!,\"\")","v":""},{"$f":"_xlfn.CONCAT(\"Trimestre 1\",CHAR(10),IFERROR(#REF!,\"\"))","v":"Trimestre 1\n"},{"$f":"_xlfn.CONCAT(\"Trimestre 1\",CHAR(10),IFERROR(#REF!,\"\"))","v":"Trimestre 1\n"},{"$f":"_xlfn.CONCAT(\"Trimestre 1\",CHAR(10),IFERROR(#REF!,\"\"))","v":"Trimestre 1\n"},{"$f":"_xlfn.CONCAT(\"Trimestre 1\",CHAR(10),IFERROR(#REF!,\"\"))","v":"Trimestre 1\n"},{"$f":"_xlfn.CONCAT(\"Trimestre 1\",CHAR(10),IFERROR(#REF!,\"\"))","v":"Trimestre 1\n"}]
[null,null,null,null,null,null,null,null,null,null,null,null,null,null,null,null,null,null,null,null,null,null,null,null,null,{"$f":"IFERROR(#REF!,\" \")","v":" "},{"$f":"IFERROR(#REF!,\"\")","v":""},{"$f":"IFERROR(#REF!,\"\")","v":""},null,null,{"$f":"IFERROR(#REF!,\"\")","v":""},null,{"$f":"IFERROR(#REF!,\"\")","v":""},{"$f":"IFERROR(#REF!,\"\")","v":""},{"$f":"_xlfn.CONCAT(\"Trimestre 1\",CHAR(10),IFERROR(#REF!,\"\"))","v":"Trimestre 1\n"},{"$f":"_xlfn.CONCAT(\"Trimestre 1\",CHAR(10),IFERROR(#REF!,\"\"))","v":"Trimestre 1\n"},{"$f":"_xlfn.CONCAT(\"Trimestre 1\",CHAR(10),IFERROR(#REF!,\"\"))","v":"Trimestre 1\n"},{"$f":"_xlfn.CONCAT(\"Trimestre 1\",CHAR(10),IFERROR(#REF!,\"\"))","v":"Trimestre 1\n"},{"$f":"_xlfn.CONCAT(\"Trimestre 1\",CHAR(10),IFERROR(#REF!,\"\"))","v":"Trimestre 1\n"}]
[null,null,null,null,null,null,null,null,null,null,null,null,null,null,null,null,null,null,null,null,null,null,null,null,null,{"$f":"IFERROR(#REF!,\" \")","v":" "},{"$f":"IFERROR(#REF!,\"\")","v":""},{"$f":"IFERROR(#REF!,\"\")","v":""},null,null,{"$f":"IFERROR(#REF!,\"\")","v":""},null,{"$f":"IFERROR(#REF!,\"\")","v":""},{"$f":"IFERROR(#REF!,\"\")","v":""},{"$f":"_xlfn.CONCAT(\"Trimestre 1\",CHAR(10),IFERROR(#REF!,\"\"))","v":"Trimestre 1\n"},{"$f":"_xlfn.CONCAT(\"Trimestre 1\",CHAR(10),IFERROR(#REF!,\"\"))","v":"Trimestre 1\n"},{"$f":"_xlfn.CONCAT(\"Trimestre 1\",CHAR(10),IFERROR(#REF!,\"\"))","v":"Trimestre 1\n"},{"$f":"_xlfn.CONCAT(\"Trimestre 1\",CHAR(10),IFERROR(#REF!,\"\"))","v":"Trimestre 1\n"},{"$f":"_xlfn.CONCAT(\"Trimestre 1\",CHAR(10),IFERROR(#REF!,\"\"))","v":"Trimestre 1\n"}]
[null,null,null,null,null,null,null,null,null,null,null,null,null,null,null,null,null,null,null,null,null,null,null,null,null,{"$f":"IFERROR(#REF!,\" \")","v":" "},{"$f":"IFERROR(#REF!,\"\")","v":""},{"$f":"IFERROR(#REF!,\"\")","v":""},null,null,{"$f":"IFERROR(#REF!,\"\")","v":""},null,{"$f":"IFERROR(#REF!,\"\")","v":""},{"$f":"IFERROR(#REF!,\"\")","v":""},{"$f":"_xlfn.CONCAT(\"Trimestre 1\",CHAR(10),IFERROR(#REF!,\"\"))","v":"Trimestre 1\n"},{"$f":"_xlfn.CONCAT(\"Trimestre 1\",CHAR(10),IFERROR(#REF!,\"\"))","v":"Trimestre 1\n"},{"$f":"_xlfn.CONCAT(\"Trimestre 1\",CHAR(10),IFERROR(#REF!,\"\"))","v":"Trimestre 1\n"},{"$f":"_xlfn.CONCAT(\"Trimestre 1\",CHAR(10),IFERROR(#REF!,\"\"))","v":"Trimestre 1\n"},{"$f":"_xlfn.CONCAT(\"Trimestre 1\",CHAR(10),IFERROR(#REF!,\"\"))","v":"Trimestre 1\n"}]
[null,null,null,null,null,null,null,null,null,null,null,null,null,null,null,null,null,null,null,null,null,null,null,null,null,{"$f":"IFERROR(#REF!,\" \")","v":" "},{"$f":"IFERROR(#REF!,\"\")","v":""},{"$f":"IFERROR(#REF!,\"\")","v":""},null,null,{"$f":"IFERROR(#REF!,\"\")","v":""},null,{"$f":"IFERROR(#REF!,\"\")","v":""},{"$f":"IFERROR(#REF!,\"\")","v":""},{"$f":"_xlfn.CONCAT(\"Trimestre 1\",CHAR(10),IFERROR(#REF!,\"\"))","v":"Trimestre 1\n"},{"$f":"_xlfn.CONCAT(\"Trimestre 1\",CHAR(10),IFERROR(#REF!,\"\"))","v":"Trimestre 1\n"},{"$f":"_xlfn.CONCAT(\"Trimestre 1\",CHAR(10),IFERROR(#REF!,\"\"))","v":"Trimestre 1\n"},{"$f":"_xlfn.CONCAT(\"Trimestre 1\",CHAR(10),IFERROR(#REF!,\"\"))","v":"Trimestre 1\n"},{"$f":"_xlfn.CONCAT(\"Trimestre 1\",CHAR(10),IFERROR(#REF!,\"\"))","v":"Trimestre 1\n"}]
[null,null,null,null,null,null,null,null,null,null,null,null,null,null,null,null,null,null,null,null,null,null,null,null,null,{"$f":"IFERROR(#REF!,\" \")","v":" "},{"$f":"IFERROR(#REF!,\"\")","v":""},{"$f":"IFERROR(#REF!,\"\")","v":""},null,null,{"$f":"IFERROR(#REF!,\"\")","v":""},null,{"$f":"IFERROR(#REF!,\"\")","v":""},{"$f":"IFERROR(#REF!,\"\")","v":""},{"$f":"_xlfn.CONCAT(\"Trimestre 1\",CHAR(10),IFERROR(#REF!,\"\"))","v":"Trimestre 1\n"},{"$f":"_xlfn.CONCAT(\"Trimestre 1\",CHAR(10),IFERROR(#REF!,\"\"))","v":"Trimestre 1\n"},{"$f":"_xlfn.CONCAT(\"Trimestre 1\",CHAR(10),IFERROR(#REF!,\"\"))","v":"Trimestre 1\n"},{"$f":"_xlfn.CONCAT(\"Trimestre 1\",CHAR(10),IFERROR(#REF!,\"\"))","v":"Trimestre 1\n"},{"$f":"_xlfn.CONCAT(\"Trimestre 1\",CHAR(10),IFERROR(#REF!,\"\"))","v":"Trimestre 1\n"}]
[null,null,null,null,null,null,null,null,null,null,null,null,null,null,null,null,null,null,null,null,null,null,null,null,null,{"$f":"IFERROR(#REF!,\" \")","v":" "},{"$f":"IFERROR(#REF!,\"\")","v":""},{"$f":"IFERROR(#REF!,\"\")","v":""},"","",{"$f":"IFERROR(#REF!,\"\")","v":""},"",{"$f":"IFERROR(#REF!,\"\")","v":""},{"$f":"IFERROR(#REF!,\"\")","v":""},{"$f":"_xlfn.CONCAT(\"Trimestre 1\",CHAR(10),IFERROR(#REF!,\"\"))","v":"Trimestre 1\n"},{"$f":"_xlfn.CONCAT(\"Trimestre 1\",CHAR(10),IFERROR(#REF!,\"\"))","v":"Trimestre 1\n"},{"$f":"_xlfn.CONCAT(\"Trimestre 1\",CHAR(10),IFERROR(#REF!,\"\"))","v":"Trimestre 1\n"},{"$f":"_xlfn.CONCAT(\"Trimestre 1\",CHAR(10),IFERROR(#REF!,\"\"))","v":"Trimestre 1\n"},{"$f":"_xlfn.CONCAT(\"Trimestre 1\",CHAR(10),IFERROR(#REF!,\"\"))","v":"Trimestre 1\n"}]
[null,null,null,null,null,null,null,null,null,null,null,null,null,null,null,null,null,null,null,null,null,null,null,null,null,{"$f":"IFERROR(#REF!,\" \")","v":" "},{"$f":"IFERROR(#REF!,\"\")","v":""},{"$f":"IFERROR(#REF!,\"\")","v":""},"","",{"$f":"IFERROR(#REF!,\"\")","v":""},"",{"$f":"IFERROR(#REF!,\"\")","v":""},{"$f":"IFERROR(#REF!,\"\")","v":""},{"$f":"_xlfn.CONCAT(\"Trimestre 1\",CHAR(10),IFERROR(#REF!,\"\"))","v":"Trimestre 1\n"},{"$f":"_xlfn.CONCAT(\"Trimestre 1\",CHAR(10),IFERROR(#REF!,\"\"))","v":"Trimestre 1\n"},{"$f":"_xlfn.CONCAT(\"Trimestre 1\",CHAR(10),IFERROR(#REF!,\"\"))","v":"Trimestre 1\n"},{"$f":"_xlfn.CONCAT(\"Trimestre 1\",CHAR(10),IFERROR(#REF!,\"\"))","v":"Trimestre 1\n"},{"$f":"_xlfn.CONCAT(\"Trimestre 1\",CHAR(10),IFERROR(#REF!,\"\"))","v":"Trimestre 1\n"}]
[null,null,null,null,null,null,null,null,null,null,null,null,null,null,null,null,null,null,null,null,null,null,null,null,null,{"$f":"IFERROR(#REF!,\" \")","v":" "},{"$f":"IFERROR(#REF!,\"\")","v":""},{"$f":"IFERROR(#REF!,\"\")","v":""},"","",{"$f":"IFERROR(#REF!,\"\")","v":""},"",{"$f":"IFERROR(#REF!,\"\")","v":""},{"$f":"IFERROR(#REF!,\"\")","v":""},{"$f":"_xlfn.CONCAT(\"Trimestre 1\",CHAR(10),IFERROR(#REF!,\"\"))","v":"Trimestre 1\n"},{"$f":"_xlfn.CONCAT(\"Trimestre 1\",CHAR(10),IFERROR(#REF!,\"\"))","v":"Trimestre 1\n"},{"$f":"_xlfn.CONCAT(\"Trimestre 1\",CHAR(10),IFERROR(#REF!,\"\"))","v":"Trimestre 1\n"},{"$f":"_xlfn.CONCAT(\"Trimestre 1\",CHAR(10),IFERROR(#REF!,\"\"))","v":"Trimestre 1\n"},{"$f":"_xlfn.CONCAT(\"Trimestre 1\",CHAR(10),IFERROR(#REF!,\"\"))","v":"Trimestre 1\n"}]
[null,null,"4. Aumentar la confianza, la cercanía y acceso a los servicios de la Rama Judicial a través, entre otros, de una comunicación clara y asertiva con la ciudadanía.","Satisfacción de la ciudadanía con la administración de justicia","% de satisfacción de la ciudadanía alto o muy alto con la administraci ón de justicia","3. Fomentar la transparencia y la participación generando lineamientos y promoviendo la rendición de cuentas ,la consulta, reporte y planteamiento de inquietudes en relación con las decisiones y aspectos del SIGCMA.",null,null,null,null,null,null,null,null,null,null,null,null,null,null,null,null,null,null,null,{"$f":"IFERROR(#REF!,\" \")","v":" "},{"$f":"IFERROR(#REF!,\"\")","v":""},{"$f":"IFERROR(#REF!,\"\")","v":""},"","",{"$f":"IFERROR(#REF!,\"\")","v":""},"",{"$f":"IFERROR(#REF!,\"\")","v":""},{"$f":"IFERROR(#REF!,\"\")","v":""},{"$f":"_xlfn.CONCAT(\"Trimestre 1\",CHAR(10),IFERROR(#REF!,\"\"))","v":"Trimestre 1\n"},{"$f":"_xlfn.CONCAT(\"Trimestre 1\",CHAR(10),IFERROR(#REF!,\"\"))","v":"Trimestre 1\n"},{"$f":"_xlfn.CONCAT(\"Trimestre 1\",CHAR(10),IFERROR(#REF!,\"\"))","v":"Trimestre 1\n"},{"$f":"_xlfn.CONCAT(\"Trimestre 1\",CHAR(10),IFERROR(#REF!,\"\"))","v":"Trimestre 1\n"},{"$f":"_xlfn.CONCAT(\"Trimestre 1\",CHAR(10),IFERROR(#REF!,\"\"))","v":"Trimestre 1\n"}]
[null,null,null,null,null,null,null,null,null,null,null,null,null,null,null,null,null,null,null,null,null,null,null,null,null,{"$f":"IFERROR(#REF!,\" \")","v":" "},{"$f":"IFERROR(#REF!,\"\")","v":""},{"$f":"IFERROR(#REF!,\"\")","v":""},"","",{"$f":"IFERROR(#REF!,\"\")","v":""},"",{"$f":"IFERROR(#REF!,\"\")","v":""},{"$f":"IFERROR(#REF!,\"\")","v":""},{"$f":"_xlfn.CONCAT(\"Trimestre 1\",CHAR(10),IFERROR(#REF!,\"\"))","v":"Trimestre 1\n"},{"$f":"_xlfn.CONCAT(\"Trimestre 1\",CHAR(10),IFERROR(#REF!,\"\"))","v":"Trimestre 1\n"},{"$f":"_xlfn.CONCAT(\"Trimestre 1\",CHAR(10),IFERROR(#REF!,\"\"))","v":"Trimestre 1\n"},{"$f":"_xlfn.CONCAT(\"Trimestre 1\",CHAR(10),IFERROR(#REF!,\"\"))","v":"Trimestre 1\n"},{"$f":"_xlfn.CONCAT(\"Trimestre 1\",CHAR(10),IFERROR(#REF!,\"\"))","v":"Trimestre 1\n"}]
[null,null,null,null,null,null,null,null,null,null,null,null,null,null,null,null,null,null,null,null,null,null,null,null,null,{"$f":"IFERROR(#REF!,\" \")","v":" "},{"$f":"IFERROR(#REF!,\"\")","v":""},{"$f":"IFERROR(#REF!,\"\")","v":""},null,null,{"$f":"IFERROR(#REF!,\"\")","v":""},null,{"$f":"IFERROR(#REF!,\"\")","v":""},{"$f":"IFERROR(#REF!,\"\")","v":""},{"$f":"_xlfn.CONCAT(\"Trimestre 1\",CHAR(10),IFERROR(#REF!,\"\"))","v":"Trimestre 1\n"},{"$f":"_xlfn.CONCAT(\"Trimestre 1\",CHAR(10),IFERROR(#REF!,\"\"))","v":"Trimestre 1\n"},{"$f":"_xlfn.CONCAT(\"Trimestre 1\",CHAR(10),IFERROR(#REF!,\"\"))","v":"Trimestre 1\n"},{"$f":"_xlfn.CONCAT(\"Trimestre 1\",CHAR(10),IFERROR(#REF!,\"\"))","v":"Trimestre 1\n"},{"$f":"_xlfn.CONCAT(\"Trimestre 1\",CHAR(10),IFERROR(#REF!,\"\"))","v":"Trimestre 1\n"}]
[null,null,null,null,null,null,null,null,null,null,null,null,null,null,null,null,null,null,null,null,null,null,null,null,null,{"$f":"IFERROR(#REF!,\" \")","v":" "},{"$f":"IFERROR(#REF!,\"\")","v":""},{"$f":"IFERROR(#REF!,\"\")","v":""},null,null,{"$f":"IFERROR(#REF!,\"\")","v":""},null,{"$f":"IFERROR(#REF!,\"\")","v":""},{"$f":"IFERROR(#REF!,\"\")","v":""},{"$f":"_xlfn.CONCAT(\"Trimestre 1\",CHAR(10),IFERROR(#REF!,\"\"))","v":"Trimestre 1\n"},{"$f":"_xlfn.CONCAT(\"Trimestre 1\",CHAR(10),IFERROR(#REF!,\"\"))","v":"Trimestre 1\n"},{"$f":"_xlfn.CONCAT(\"Trimestre 1\",CHAR(10),IFERROR(#REF!,\"\"))","v":"Trimestre 1\n"},{"$f":"_xlfn.CONCAT(\"Trimestre 1\",CHAR(10),IFERROR(#REF!,\"\"))","v":"Trimestre 1\n"},{"$f":"_xlfn.CONCAT(\"Trimestre 1\",CHAR(10),IFERROR(#REF!,\"\"))","v":"Trimestre 1\n"}]
[null,null,null,null,null,null,null,null,null,null,null,null,null,null,null,null,null,null,null,null,null,null,null,null,null,{"$f":"IFERROR(#REF!,\" \")","v":" "},{"$f":"IFERROR(#REF!,\"\")","v":""},{"$f":"IFERROR(#REF!,\"\")","v":""},null,null,{"$f":"IFERROR(#REF!,\"\")","v":""},null,{"$f":"IFERROR(#REF!,\"\")","v":""},{"$f":"IFERROR(#REF!,\"\")","v":""},{"$f":"_xlfn.CONCAT(\"Trimestre 1\",CHAR(10),IFERROR(#REF!,\"\"))","v":"Trimestre 1\n"},{"$f":"_xlfn.CONCAT(\"Trimestre 1\",CHAR(10),IFERROR(#REF!,\"\"))","v":"Trimestre 1\n"},{"$f":"_xlfn.CONCAT(\"Trimestre 1\",CHAR(10),IFERROR(#REF!,\"\"))","v":"Trimestre 1\n"},{"$f":"_xlfn.CONCAT(\"Trimestre 1\",CHAR(10),IFERROR(#REF!,\"\"))","v":"Trimestre 1\n"},{"$f":"_xlfn.CONCAT(\"Trimestre 1\",CHAR(10),IFERROR(#REF!,\"\"))","v":"Trimestre 1\n"}]
[null,null,null,null,null,null,null,null,null,null,null,null,null,null,null,null,null,null,null,null,null,null,null,null,null,{"$f":"IFERROR(#REF!,\" \")","v":" "},{"$f":"IFERROR(#REF!,\"\")","v":""},{"$f":"IFERROR(#REF!,\"\")","v":""},null,null,{"$f":"IFERROR(#REF!,\"\")","v":""},null,{"$f":"IFERROR(#REF!,\"\")","v":""},{"$f":"IFERROR(#REF!,\"\")","v":""},{"$f":"_xlfn.CONCAT(\"Trimestre 1\",CHAR(10),IFERROR(#REF!,\"\"))","v":"Trimestre 1\n"},{"$f":"_xlfn.CONCAT(\"Trimestre 1\",CHAR(10),IFERROR(#REF!,\"\"))","v":"Trimestre 1\n"},{"$f":"_xlfn.CONCAT(\"Trimestre 1\",CHAR(10),IFERROR(#REF!,\"\"))","v":"Trimestre 1\n"},{"$f":"_xlfn.CONCAT(\"Trimestre 1\",CHAR(10),IFERROR(#REF!,\"\"))","v":"Trimestre 1\n"},{"$f":"_xlfn.CONCAT(\"Trimestre 1\",CHAR(10),IFERROR(#REF!,\"\"))","v":"Trimestre 1\n"}]
[null,null,null,null,null,null,null,null,null,null,null,null,null,null,null,null,null,null,null,null,null,null,null,null,null,{"$f":"IFERROR(#REF!,\" \")","v":" "},{"$f":"IFERROR(#REF!,\"\")","v":""},{"$f":"IFERROR(#REF!,\"\")","v":""},null,null,{"$f":"IFERROR(#REF!,\"\")","v":""},null,{"$f":"IFERROR(#REF!,\"\")","v":""},{"$f":"IFERROR(#REF!,\"\")","v":""},{"$f":"_xlfn.CONCAT(\"Trimestre 1\",CHAR(10),IFERROR(#REF!,\"\"))","v":"Trimestre 1\n"},{"$f":"_xlfn.CONCAT(\"Trimestre 1\",CHAR(10),IFERROR(#REF!,\"\"))","v":"Trimestre 1\n"},{"$f":"_xlfn.CONCAT(\"Trimestre 1\",CHAR(10),IFERROR(#REF!,\"\"))","v":"Trimestre 1\n"},{"$f":"_xlfn.CONCAT(\"Trimestre 1\",CHAR(10),IFERROR(#REF!,\"\"))","v":"Trimestre 1\n"},{"$f":"_xlfn.CONCAT(\"Trimestre 1\",CHAR(10),IFERROR(#REF!,\"\"))","v":"Trimestre 1\n"}]
[null,null,null,null,null,null,null,null,null,null,null,null,null,null,null,null,null,null,null,null,null,null,null,null,null,{"$f":"IFERROR(#REF!,\" \")","v":" "},{"$f":"IFERROR(#REF!,\"\")","v":""},{"$f":"IFERROR(#REF!,\"\")","v":""},"","",{"$f":"IFERROR(#REF!,\"\")","v":""},"",{"$f":"IFERROR(#REF!,\"\")","v":""},{"$f":"IFERROR(#REF!,\"\")","v":""},{"$f":"_xlfn.CONCAT(\"Trimestre 1\",CHAR(10),IFERROR(#REF!,\"\"))","v":"Trimestre 1\n"},{"$f":"_xlfn.CONCAT(\"Trimestre 1\",CHAR(10),IFERROR(#REF!,\"\"))","v":"Trimestre 1\n"},{"$f":"_xlfn.CONCAT(\"Trimestre 1\",CHAR(10),IFERROR(#REF!,\"\"))","v":"Trimestre 1\n"},{"$f":"_xlfn.CONCAT(\"Trimestre 1\",CHAR(10),IFERROR(#REF!,\"\"))","v":"Trimestre 1\n"},{"$f":"_xlfn.CONCAT(\"Trimestre 1\",CHAR(10),IFERROR(#REF!,\"\"))","v":"Trimestre 1\n"}]
[null,null,null,null,null,null,null,null,null,null,null,null,null,null,null,null,null,null,null,null,null,null,null,null,null,{"$f":"IFERROR(#REF!,\" \")","v":" "},{"$f":"IFERROR(#REF!,\"\")","v":""},{"$f":"IFERROR(#REF!,\"\")","v":""},"","",{"$f":"IFERROR(#REF!,\"\")","v":""},"",{"$f":"IFERROR(#REF!,\"\")","v":""},{"$f":"IFERROR(#REF!,\"\")","v":""},{"$f":"_xlfn.CONCAT(\"Trimestre 1\",CHAR(10),IFERROR(#REF!,\"\"))","v":"Trimestre 1\n"},{"$f":"_xlfn.CONCAT(\"Trimestre 1\",CHAR(10),IFERROR(#REF!,\"\"))","v":"Trimestre 1\n"},{"$f":"_xlfn.CONCAT(\"Trimestre 1\",CHAR(10),IFERROR(#REF!,\"\"))","v":"Trimestre 1\n"},{"$f":"_xlfn.CONCAT(\"Trimestre 1\",CHAR(10),IFERROR(#REF!,\"\"))","v":"Trimestre 1\n"},{"$f":"_xlfn.CONCAT(\"Trimestre 1\",CHAR(10),IFERROR(#REF!,\"\"))","v":"Trimestre 1\n"}]
[null,null,null,null,null,null,null,null,null,null,null,null,null,null,null,null,null,null,null,null,null,null,null,null,null,{"$f":"IFERROR(#REF!,\" \")","v":" "},{"$f":"IFERROR(#REF!,\"\")","v":""},{"$f":"IFERROR(#REF!,\"\")","v":""},"","",{"$f":"IFERROR(#REF!,\"\")","v":""},"",{"$f":"IFERROR(#REF!,\"\")","v":""},{"$f":"IFERROR(#REF!,\"\")","v":""},{"$f":"_xlfn.CONCAT(\"Trimestre 1\",CHAR(10),IFERROR(#REF!,\"\"))","v":"Trimestre 1\n"},{"$f":"_xlfn.CONCAT(\"Trimestre 1\",CHAR(10),IFERROR(#REF!,\"\"))","v":"Trimestre 1\n"},{"$f":"_xlfn.CONCAT(\"Trimestre 1\",CHAR(10),IFERROR(#REF!,\"\"))","v":"Trimestre 1\n"},{"$f":"_xlfn.CONCAT(\"Trimestre 1\",CHAR(10),IFERROR(#REF!,\"\"))","v":"Trimestre 1\n"},{"$f":"_xlfn.CONCAT(\"Trimestre 1\",CHAR(10),IFERROR(#REF!,\"\"))","v":"Trimestre 1\n"}]
[null,null,"5. Prevenir fenómenos asociados con actos de corrupción en la Rama Judicial y reducir las experiencias de corrupción de usuarios y servidores judiciales.","Cumplimiento del Plan Anticorrupción y de Atención al Ciudadano de la Rama Judicial","# Actividades cumplidas del PAAC/# Actividades programada s del PAAC*100",null,null,null,null,null,null,null,null,null,null,null,null,null,null,null,null,null,null,null,null,{"$f":"IFERROR(#REF!,\" \")","v":" "},{"$f":"IFERROR(#REF!,\"\")","v":""},{"$f":"IFERROR(#REF!,\"\")","v":""},"","",{"$f":"IFERROR(#REF!,\"\")","v":""},"",{"$f":"IFERROR(#REF!,\"\")","v":""},{"$f":"IFERROR(#REF!,\"\")","v":""},{"$f":"_xlfn.CONCAT(\"Trimestre 1\",CHAR(10),IFERROR(#REF!,\"\"))","v":"Trimestre 1\n"},{"$f":"_xlfn.CONCAT(\"Trimestre 1\",CHAR(10),IFERROR(#REF!,\"\"))","v":"Trimestre 1\n"},{"$f":"_xlfn.CONCAT(\"Trimestre 1\",CHAR(10),IFERROR(#REF!,\"\"))","v":"Trimestre 1\n"},{"$f":"_xlfn.CONCAT(\"Trimestre 1\",CHAR(10),IFERROR(#REF!,\"\"))","v":"Trimestre 1\n"},{"$f":"_xlfn.CONCAT(\"Trimestre 1\",CHAR(10),IFERROR(#REF!,\"\"))","v":"Trimestre 1\n"}]
[null,null,null,null,null,null,null,null,null,null,null,null,null,null,null,null,null,null,null,null,null,null,null,null,null,{"$f":"IFERROR(#REF!,\" \")","v":" "},{"$f":"IFERROR(#REF!,\"\")","v":""},{"$f":"IFERROR(#REF!,\"\")","v":""},null,null,{"$f":"IFERROR(#REF!,\"\")","v":""},null,{"$f":"IFERROR(#REF!,\"\")","v":""},{"$f":"IFERROR(#REF!,\"\")","v":""},{"$f":"_xlfn.CONCAT(\"Trimestre 1\",CHAR(10),IFERROR(#REF!,\"\"))","v":"Trimestre 1\n"},{"$f":"_xlfn.CONCAT(\"Trimestre 1\",CHAR(10),IFERROR(#REF!,\"\"))","v":"Trimestre 1\n"},{"$f":"_xlfn.CONCAT(\"Trimestre 1\",CHAR(10),IFERROR(#REF!,\"\"))","v":"Trimestre 1\n"},{"$f":"_xlfn.CONCAT(\"Trimestre 1\",CHAR(10),IFERROR(#REF!,\"\"))","v":"Trimestre 1\n"},{"$f":"_xlfn.CONCAT(\"Trimestre 1\",CHAR(10),IFERROR(#REF!,\"\"))","v":"Trimestre 1\n"}]
[null,null,null,null,null,null,null,null,null,null,null,null,null,null,null,null,null,null,null,null,null,null,null,null,null,{"$f":"IFERROR(#REF!,\" \")","v":" "},{"$f":"IFERROR(#REF!,\"\")","v":""},{"$f":"IFERROR(#REF!,\"\")","v":""},null,null,{"$f":"IFERROR(#REF!,\"\")","v":""},null,{"$f":"IFERROR(#REF!,\"\")","v":""},{"$f":"IFERROR(#REF!,\"\")","v":""},{"$f":"_xlfn.CONCAT(\"Trimestre 1\",CHAR(10),IFERROR(#REF!,\"\"))","v":"Trimestre 1\n"},{"$f":"_xlfn.CONCAT(\"Trimestre 1\",CHAR(10),IFERROR(#REF!,\"\"))","v":"Trimestre 1\n"},{"$f":"_xlfn.CONCAT(\"Trimestre 1\",CHAR(10),IFERROR(#REF!,\"\"))","v":"Trimestre 1\n"},{"$f":"_xlfn.CONCAT(\"Trimestre 1\",CHAR(10),IFERROR(#REF!,\"\"))","v":"Trimestre 1\n"},{"$f":"_xlfn.CONCAT(\"Trimestre 1\",CHAR(10),IFERROR(#REF!,\"\"))","v":"Trimestre 1\n"}]
[null,null,null,null,null,null,null,null,null,null,null,null,null,null,null,null,null,null,null,null,null,null,null,null,null,{"$f":"IFERROR(#REF!,\" \")","v":" "},{"$f":"IFERROR(#REF!,\"\")","v":""},{"$f":"IFERROR(#REF!,\"\")","v":""},null,null,{"$f":"IFERROR(#REF!,\"\")","v":""},null,{"$f":"IFERROR(#REF!,\"\")","v":""},{"$f":"IFERROR(#REF!,\"\")","v":""},{"$f":"_xlfn.CONCAT(\"Trimestre 1\",CHAR(10),IFERROR(#REF!,\"\"))","v":"Trimestre 1\n"},{"$f":"_xlfn.CONCAT(\"Trimestre 1\",CHAR(10),IFERROR(#REF!,\"\"))","v":"Trimestre 1\n"},{"$f":"_xlfn.CONCAT(\"Trimestre 1\",CHAR(10),IFERROR(#REF!,\"\"))","v":"Trimestre 1\n"},{"$f":"_xlfn.CONCAT(\"Trimestre 1\",CHAR(10),IFERROR(#REF!,\"\"))","v":"Trimestre 1\n"},{"$f":"_xlfn.CONCAT(\"Trimestre 1\",CHAR(10),IFERROR(#REF!,\"\"))","v":"Trimestre 1\n"}]
[null,null,null,null,null,null,null,null,null,null,null,null,null,null,null,null,null,null,null,null,null,null,null,null,null,{"$f":"IFERROR(#REF!,\" \")","v":" "},{"$f":"IFERROR(#REF!,\"\")","v":""},{"$f":"IFERROR(#REF!,\"\")","v":""},null,null,{"$f":"IFERROR(#REF!,\"\")","v":""},null,{"$f":"IFERROR(#REF!,\"\")","v":""},{"$f":"IFERROR(#REF!,\"\")","v":""},{"$f":"_xlfn.CONCAT(\"Trimestre 1\",CHAR(10),IFERROR(#REF!,\"\"))","v":"Trimestre 1\n"},{"$f":"_xlfn.CONCAT(\"Trimestre 1\",CHAR(10),IFERROR(#REF!,\"\"))","v":"Trimestre 1\n"},{"$f":"_xlfn.CONCAT(\"Trimestre 1\",CHAR(10),IFERROR(#REF!,\"\"))","v":"Trimestre 1\n"},{"$f":"_xlfn.CONCAT(\"Trimestre 1\",CHAR(10),IFERROR(#REF!,\"\"))","v":"Trimestre 1\n"},{"$f":"_xlfn.CONCAT(\"Trimestre 1\",CHAR(10),IFERROR(#REF!,\"\"))","v":"Trimestre 1\n"}]
[null,null,null,null,null,null,null,null,null,null,null,null,null,null,null,null,null,null,null,null,null,null,null,null,null,{"$f":"IFERROR(#REF!,\" \")","v":" "},{"$f":"IFERROR(#REF!,\"\")","v":""},{"$f":"IFERROR(#REF!,\"\")","v":""},null,null,{"$f":"IFERROR(#REF!,\"\")","v":""},null,{"$f":"IFERROR(#REF!,\"\")","v":""},{"$f":"IFERROR(#REF!,\"\")","v":""},{"$f":"_xlfn.CONCAT(\"Trimestre 1\",CHAR(10),IFERROR(#REF!,\"\"))","v":"Trimestre 1\n"},{"$f":"_xlfn.CONCAT(\"Trimestre 1\",CHAR(10),IFERROR(#REF!,\"\"))","v":"Trimestre 1\n"},{"$f":"_xlfn.CONCAT(\"Trimestre 1\",CHAR(10),IFERROR(#REF!,\"\"))","v":"Trimestre 1\n"},{"$f":"_xlfn.CONCAT(\"Trimestre 1\",CHAR(10),IFERROR(#REF!,\"\"))","v":"Trimestre 1\n"},{"$f":"_xlfn.CONCAT(\"Trimestre 1\",CHAR(10),IFERROR(#REF!,\"\"))","v":"Trimestre 1\n"}]
[null,null,null,null,null,null,null,null,null,null,null,null,null,null,null,null,null,null,null,null,null,null,null,null,null,{"$f":"IFERROR(#REF!,\" \")","v":" "},{"$f":"IFERROR(#REF!,\"\")","v":""},{"$f":"IFERROR(#REF!,\"\")","v":""},"","",{"$f":"IFERROR(#REF!,\"\")","v":""},"",{"$f":"IFERROR(#REF!,\"\")","v":""},{"$f":"IFERROR(#REF!,\"\")","v":""},{"$f":"_xlfn.CONCAT(\"Trimestre 1\",CHAR(10),IFERROR(#REF!,\"\"))","v":"Trimestre 1\n"},{"$f":"_xlfn.CONCAT(\"Trimestre 1\",CHAR(10),IFERROR(#REF!,\"\"))","v":"Trimestre 1\n"},{"$f":"_xlfn.CONCAT(\"Trimestre 1\",CHAR(10),IFERROR(#REF!,\"\"))","v":"Trimestre 1\n"},{"$f":"_xlfn.CONCAT(\"Trimestre 1\",CHAR(10),IFERROR(#REF!,\"\"))","v":"Trimestre 1\n"},{"$f":"_xlfn.CONCAT(\"Trimestre 1\",CHAR(10),IFERROR(#REF!,\"\"))","v":"Trimestre 1\n"}]
[null,null,null,null,null,null,null,null,null,null,null,null,null,null,null,null,null,null,null,null,null,null,null,null,null,{"$f":"IFERROR(#REF!,\" \")","v":" "},{"$f":"IFERROR(#REF!,\"\")","v":""},{"$f":"IFERROR(#REF!,\"\")","v":""},"","",{"$f":"IFERROR(#REF!,\"\")","v":""},"",{"$f":"IFERROR(#REF!,\"\")","v":""},{"$f":"IFERROR(#REF!,\"\")","v":""},{"$f":"_xlfn.CONCAT(\"Trimestre 1\",CHAR(10),IFERROR(#REF!,\"\"))","v":"Trimestre 1\n"},{"$f":"_xlfn.CONCAT(\"Trimestre 1\",CHAR(10),IFERROR(#REF!,\"\"))","v":"Trimestre 1\n"},{"$f":"_xlfn.CONCAT(\"Trimestre 1\",CHAR(10),IFERROR(#REF!,\"\"))","v":"Trimestre 1\n"},{"$f":"_xlfn.CONCAT(\"Trimestre 1\",CHAR(10),IFERROR(#REF!,\"\"))","v":"Trimestre 1\n"},{"$f":"_xlfn.CONCAT(\"Trimestre 1\",CHAR(10),IFERROR(#REF!,\"\"))","v":"Trimestre 1\n"}]
[null,null,null,null,null,null,null,null,null,null,null,null,null,null,null,null,null,null,null,null,null,null,null,null,null,{"$f":"IFERROR(#REF!,\" \")","v":" "},{"$f":"IFERROR(#REF!,\"\")","v":""},{"$f":"IFERROR(#REF!,\"\")","v":""},"","",{"$f":"IFERROR(#REF!,\"\")","v":""},"",{"$f":"IFERROR(#REF!,\"\")","v":""},{"$f":"IFERROR(#REF!,\"\")","v":""},{"$f":"_xlfn.CONCAT(\"Trimestre 1\",CHAR(10),IFERROR(#REF!,\"\"))","v":"Trimestre 1\n"},{"$f":"_xlfn.CONCAT(\"Trimestre 1\",CHAR(10),IFERROR(#REF!,\"\"))","v":"Trimestre 1\n"},{"$f":"_xlfn.CONCAT(\"Trimestre 1\",CHAR(10),IFERROR(#REF!,\"\"))","v":"Trimestre 1\n"},{"$f":"_xlfn.CONCAT(\"Trimestre 1\",CHAR(10),IFERROR(#REF!,\"\"))","v":"Trimestre 1\n"},{"$f":"_xlfn.CONCAT(\"Trimestre 1\",CHAR(10),IFERROR(#REF!,\"\"))","v":"Trimestre 1\n"}]
[null,null,null,null,null,null,null,null,null,null,null,null,null,null,null,null,null,null,null,null,null,null,null,null,null,{"$f":"IFERROR(#REF!,\" \")","v":" "},{"$f":"IFERROR(#REF!,\"\")","v":""},{"$f":"IFERROR(#REF!,\"\")","v":""},"","",{"$f":"IFERROR(#REF!,\"\")","v":""},"",{"$f":"IFERROR(#REF!,\"\")","v":""},{"$f":"IFERROR(#REF!,\"\")","v":""},{"$f":"_xlfn.CONCAT(\"Trimestre 1\",CHAR(10),IFERROR(#REF!,\"\"))","v":"Trimestre 1\n"},{"$f":"_xlfn.CONCAT(\"Trimestre 1\",CHAR(10),IFERROR(#REF!,\"\"))","v":"Trimestre 1\n"},{"$f":"_xlfn.CONCAT(\"Trimestre 1\",CHAR(10),IFERROR(#REF!,\"\"))","v":"Trimestre 1\n"},{"$f":"_xlfn.CONCAT(\"Trimestre 1\",CHAR(10),IFERROR(#REF!,\"\"))","v":"Trimestre 1\n"},{"$f":"_xlfn.CONCAT(\"Trimestre 1\",CHAR(10),IFERROR(#REF!,\"\"))","v":"Trimestre 1\n"}]
[null,null,"6. Promover la rendición de cuentas y la colaboración real con la ciudadanía como fundamento para diseñar acciones de mejoramiento del acceso a la justicia.","Estrategias para implementar la colaboración real con la ciudadanía en el marco de la \"justicia abierta\" implementadas","% de implementa ción de las estrategias de colaboració n real con la ciudadanía en el marco de la \"justicia abierta\" definidas para cada anualidad",null,null,null,null,null,null,null,null,null,null,null,null,null,null,null,null,null,null,null,null,{"$f":"IFERROR(#REF!,\" \")","v":" "},{"$f":"IFERROR(#REF!,\"\")","v":""},{"$f":"IFERROR(#REF!,\"\")","v":""},"","",{"$f":"IFERROR(#REF!,\"\")","v":""},"",{"$f":"IFERROR(#REF!,\"\")","v":""},{"$f":"IFERROR(#REF!,\"\")","v":""},{"$f":"_xlfn.CONCAT(\"Trimestre 1\",CHAR(10),IFERROR(#REF!,\"\"))","v":"Trimestre 1\n"},{"$f":"_xlfn.CONCAT(\"Trimestre 1\",CHAR(10),IFERROR(#REF!,\"\"))","v":"Trimestre 1\n"},{"$f":"_xlfn.CONCAT(\"Trimestre 1\",CHAR(10),IFERROR(#REF!,\"\"))","v":"Trimestre 1\n"},{"$f":"_xlfn.CONCAT(\"Trimestre 1\",CHAR(10),IFERROR(#REF!,\"\"))","v":"Trimestre 1\n"},{"$f":"_xlfn.CONCAT(\"Trimestre 1\",CHAR(10),IFERROR(#REF!,\"\"))","v":"Trimestre 1\n"}]
[null,null,null,null,null,null,null,null,null,null,null,null,null,null,null,null,null,null,null,null,null,null,null,null,null,{"$f":"IFERROR(#REF!,\" \")","v":" "},{"$f":"IFERROR(#REF!,\"\")","v":""},{"$f":"IFERROR(#REF!,\"\")","v":""},"","",{"$f":"IFERROR(#REF!,\"\")","v":""},"",{"$f":"IFERROR(#REF!,\"\")","v":""},{"$f":"IFERROR(#REF!,\"\")","v":""},{"$f":"_xlfn.CONCAT(\"Trimestre 1\",CHAR(10),IFERROR(#REF!,\"\"))","v":"Trimestre 1\n"},{"$f":"_xlfn.CONCAT(\"Trimestre 1\",CHAR(10),IFERROR(#REF!,\"\"))","v":"Trimestre 1\n"},{"$f":"_xlfn.CONCAT(\"Trimestre 1\",CHAR(10),IFERROR(#REF!,\"\"))","v":"Trimestre 1\n"},{"$f":"_xlfn.CONCAT(\"Trimestre 1\",CHAR(10),IFERROR(#REF!,\"\"))","v":"Trimestre 1\n"},{"$f":"_xlfn.CONCAT(\"Trimestre 1\",CHAR(10),IFERROR(#REF!,\"\"))","v":"Trimestre 1\n"}]
[null,null,null,null,null,null,null,null,null,null,null,null,null,null,null,null,null,null,null,null,null,null,null,null,null,{"$f":"IFERROR(#REF!,\" \")","v":" "},{"$f":"IFERROR(#REF!,\"\")","v":""},{"$f":"IFERROR(#REF!,\"\")","v":""},null,null,{"$f":"IFERROR(#REF!,\"\")","v":""},null,{"$f":"IFERROR(#REF!,\"\")","v":""},{"$f":"IFERROR(#REF!,\"\")","v":""},{"$f":"_xlfn.CONCAT(\"Trimestre 1\",CHAR(10),IFERROR(#REF!,\"\"))","v":"Trimestre 1\n"},{"$f":"_xlfn.CONCAT(\"Trimestre 1\",CHAR(10),IFERROR(#REF!,\"\"))","v":"Trimestre 1\n"},{"$f":"_xlfn.CONCAT(\"Trimestre 1\",CHAR(10),IFERROR(#REF!,\"\"))","v":"Trimestre 1\n"},{"$f":"_xlfn.CONCAT(\"Trimestre 1\",CHAR(10),IFERROR(#REF!,\"\"))","v":"Trimestre 1\n"},{"$f":"_xlfn.CONCAT(\"Trimestre 1\",CHAR(10),IFERROR(#REF!,\"\"))","v":"Trimestre 1\n"}]
[null,null,null,null,null,null,null,null,null,null,null,null,null,null,null,null,null,null,null,null,null,null,null,null,null,{"$f":"IFERROR(#REF!,\" \")","v":" "},{"$f":"IFERROR(#REF!,\"\")","v":""},{"$f":"IFERROR(#REF!,\"\")","v":""},null,null,{"$f":"IFERROR(#REF!,\"\")","v":""},null,{"$f":"IFERROR(#REF!,\"\")","v":""},{"$f":"IFERROR(#REF!,\"\")","v":""},{"$f":"_xlfn.CONCAT(\"Trimestre 1\",CHAR(10),IFERROR(#REF!,\"\"))","v":"Trimestre 1\n"},{"$f":"_xlfn.CONCAT(\"Trimestre 1\",CHAR(10),IFERROR(#REF!,\"\"))","v":"Trimestre 1\n"},{"$f":"_xlfn.CONCAT(\"Trimestre 1\",CHAR(10),IFERROR(#REF!,\"\"))","v":"Trimestre 1\n"},{"$f":"_xlfn.CONCAT(\"Trimestre 1\",CHAR(10),IFERROR(#REF!,\"\"))","v":"Trimestre 1\n"},{"$f":"_xlfn.CONCAT(\"Trimestre 1\",CHAR(10),IFERROR(#REF!,\"\"))","v":"Trimestre 1\n"}]
[null,null,null,null,null,null,null,null,null,null,null,null,null,null,null,null,null,null,null,null,null,null,null,null,null,{"$f":"IFERROR(#REF!,\" \")","v":" "},{"$f":"IFERROR(#REF!,\"\")","v":""},{"$f":"IFERROR(#REF!,\"\")","v":""},null,null,{"$f":"IFERROR(#REF!,\"\")","v":""},null,{"$f":"IFERROR(#REF!,\"\")","v":""},{"$f":"IFERROR(#REF!,\"\")","v":""},{"$f":"_xlfn.CONCAT(\"Trimestre 1\",CHAR(10),IFERROR(#REF!,\"\"))","v":"Trimestre 1\n"},{"$f":"_xlfn.CONCAT(\"Trimestre 1\",CHAR(10),IFERROR(#REF!,\"\"))","v":"Trimestre 1\n"},{"$f":"_xlfn.CONCAT(\"Trimestre 1\",CHAR(10),IFERROR(#REF!,\"\"))","v":"Trimestre 1\n"},{"$f":"_xlfn.CONCAT(\"Trimestre 1\",CHAR(10),IFERROR(#REF!,\"\"))","v":"Trimestre 1\n"},{"$f":"_xlfn.CONCAT(\"Trimestre 1\",CHAR(10),IFERROR(#REF!,\"\"))","v":"Trimestre 1\n"}]
[null,null,null,null,null,null,null,null,null,null,null,null,null,null,null,null,null,null,null,null,null,null,null,null,null,{"$f":"IFERROR(#REF!,\" \")","v":" "},{"$f":"IFERROR(#REF!,\"\")","v":""},{"$f":"IFERROR(#REF!,\"\")","v":""},null,null,{"$f":"IFERROR(#REF!,\"\")","v":""},null,{"$f":"IFERROR(#REF!,\"\")","v":""},{"$f":"IFERROR(#REF!,\"\")","v":""},{"$f":"_xlfn.CONCAT(\"Trimestre 1\",CHAR(10),IFERROR(#REF!,\"\"))","v":"Trimestre 1\n"},{"$f":"_xlfn.CONCAT(\"Trimestre 1\",CHAR(10),IFERROR(#REF!,\"\"))","v":"Trimestre 1\n"},{"$f":"_xlfn.CONCAT(\"Trimestre 1\",CHAR(10),IFERROR(#REF!,\"\"))","v":"Trimestre 1\n"},{"$f":"_xlfn.CONCAT(\"Trimestre 1\",CHAR(10),IFERROR(#REF!,\"\"))","v":"Trimestre 1\n"},{"$f":"_xlfn.CONCAT(\"Trimestre 1\",CHAR(10),IFERROR(#REF!,\"\"))","v":"Trimestre 1\n"}]
[null,null,null,null,null,null,null,null,null,null,null,null,null,null,null,null,null,null,null,null,null,null,null,null,null,{"$f":"IFERROR(#REF!,\" \")","v":" "},{"$f":"IFERROR(#REF!,\"\")","v":""},{"$f":"IFERROR(#REF!,\"\")","v":""},null,null,{"$f":"IFERROR(#REF!,\"\")","v":""},null,{"$f":"IFERROR(#REF!,\"\")","v":""},{"$f":"IFERROR(#REF!,\"\")","v":""},{"$f":"_xlfn.CONCAT(\"Trimestre 1\",CHAR(10),IFERROR(#REF!,\"\"))","v":"Trimestre 1\n"},{"$f":"_xlfn.CONCAT(\"Trimestre 1\",CHAR(10),IFERROR(#REF!,\"\"))","v":"Trimestre 1\n"},{"$f":"_xlfn.CONCAT(\"Trimestre 1\",CHAR(10),IFERROR(#REF!,\"\"))","v":"Trimestre 1\n"},{"$f":"_xlfn.CONCAT(\"Trimestre 1\",CHAR(10),IFERROR(#REF!,\"\"))","v":"Trimestre 1\n"},{"$f":"_xlfn.CONCAT(\"Trimestre 1\",CHAR(10),IFERROR(#REF!,\"\"))","v":"Trimestre 1\n"}]
[null,null,null,null,null,null,null,null,null,null,null,null,null,null,null,null,null,null,null,null,null,null,null,null,null,{"$f":"IFERROR(#REF!,\" \")","v":" "},{"$f":"IFERROR(#REF!,\"\")","v":""},{"$f":"IFERROR(#REF!,\"\")","v":""},"","",{"$f":"IFERROR(#REF!,\"\")","v":""},"",{"$f":"IFERROR(#REF!,\"\")","v":""},{"$f":"IFERROR(#REF!,\"\")","v":""},{"$f":"_xlfn.CONCAT(\"Trimestre 1\",CHAR(10),IFERROR(#REF!,\"\"))","v":"Trimestre 1\n"},{"$f":"_xlfn.CONCAT(\"Trimestre 1\",CHAR(10),IFERROR(#REF!,\"\"))","v":"Trimestre 1\n"},{"$f":"_xlfn.CONCAT(\"Trimestre 1\",CHAR(10),IFERROR(#REF!,\"\"))","v":"Trimestre 1\n"},{"$f":"_xlfn.CONCAT(\"Trimestre 1\",CHAR(10),IFERROR(#REF!,\"\"))","v":"Trimestre 1\n"},{"$f":"_xlfn.CONCAT(\"Trimestre 1\",CHAR(10),IFERROR(#REF!,\"\"))","v":"Trimestre 1\n"}]
[null,null,null,null,null,null,null,null,null,null,null,null,null,null,null,null,null,null,null,null,null,null,null,null,null,{"$f":"IFERROR(#REF!,\" \")","v":" "},{"$f":"IFERROR(#REF!,\"\")","v":""},{"$f":"IFERROR(#REF!,\"\")","v":""},"","",{"$f":"IFERROR(#REF!,\"\")","v":""},"",{"$f":"IFERROR(#REF!,\"\")","v":""},{"$f":"IFERROR(#REF!,\"\")","v":""},{"$f":"_xlfn.CONCAT(\"Trimestre 1\",CHAR(10),IFERROR(#REF!,\"\"))","v":"Trimestre 1\n"},{"$f":"_xlfn.CONCAT(\"Trimestre 1\",CHAR(10),IFERROR(#REF!,\"\"))","v":"Trimestre 1\n"},{"$f":"_xlfn.CONCAT(\"Trimestre 1\",CHAR(10),IFERROR(#REF!,\"\"))","v":"Trimestre 1\n"},{"$f":"_xlfn.CONCAT(\"Trimestre 1\",CHAR(10),IFERROR(#REF!,\"\"))","v":"Trimestre 1\n"},{"$f":"_xlfn.CONCAT(\"Trimestre 1\",CHAR(10),IFERROR(#REF!,\"\"))","v":"Trimestre 1\n"}]
[null,null,null,null,null,null,null,null,null,null,null,null,null,null,null,null,null,null,null,null,null,null,null,null,null,{"$f":"IFERROR(#REF!,\" \")","v":" "},{"$f":"IFERROR(#REF!,\"\")","v":""},{"$f":"IFERROR(#REF!,\"\")","v":""},"","",{"$f":"IFERROR(#REF!,\"\")","v":""},"",{"$f":"IFERROR(#REF!,\"\")","v":""},{"$f":"IFERROR(#REF!,\"\")","v":""},{"$f":"_xlfn.CONCAT(\"Trimestre 1\",CHAR(10),IFERROR(#REF!,\"\"))","v":"Trimestre 1\n"},{"$f":"_xlfn.CONCAT(\"Trimestre 1\",CHAR(10),IFERROR(#REF!,\"\"))","v":"Trimestre 1\n"},{"$f":"_xlfn.CONCAT(\"Trimestre 1\",CHAR(10),IFERROR(#REF!,\"\"))","v":"Trimestre 1\n"},{"$f":"_xlfn.CONCAT(\"Trimestre 1\",CHAR(10),IFERROR(#REF!,\"\"))","v":"Trimestre 1\n"},{"$f":"_xlfn.CONCAT(\"Trimestre 1\",CHAR(10),IFERROR(#REF!,\"\"))","v":"Trimestre 1\n"}]
[null,null,"7. Continuar la consolidación del SIGCMA, a través de los procesos de formación en modelos de gestión, logrando la implementación y ampliación de este en los esquemas certificados de manera gradual, teniendo en cuenta las capacidades de los diferentes despachos judiciales y dependencias de la Rama Judicial y articulando el enfoque de Arquitectura Empresarial para el desarrollo del PETD a través de la gestión del conocimiento para la gestión del cambio propendiendo por una cultura de la calidad, la transparencia, la rendición de cuentas, la anticorrupción y el antisoborno","Procesos de formación en modelos de gestión aplicados","# de servidores judiciales formados en modelos de gestión de las dependenci as judiciales y administrati vas certificadas en SIGCMA que implementa n el PETD / # total de servidores judiciales de las dependenci as judiciales y administrati vas certificadas en SIGCMA que implementa n el PETD","1. Gestionar el desarrollo de las competencias, la toma de conciencia , la cultura  organizacional  y el compromiso de los  servidores judiciales, contratistas, practicantes y  judicantes de contribuir a generar valor público en la administración de justicia, en el marco de  cumplimiento de los requisitos  aplicables y el comportamiento ético.\n4. Hacer un uso racional de los recursos naturales aplicando los principios y fases de la Economía Circular, para prevenir, mitigar y controlar los impactos ambientales.",null,null,null,null,null,null,null,null,null,null,null,null,null,null,null,null,null,null,null,{"$f":"IFERROR(#REF!,\" \")","v":" "},{"$f":"IFERROR(#REF!,\"\")","v":""},{"$f":"IFERROR(#REF!,\"\")","v":""},"","",{"$f":"IFERROR(#REF!,\"\")","v":""},"",{"$f":"IFERROR(#REF!,\"\")","v":""},{"$f":"IFERROR(#REF!,\"\")","v":""},{"$f":"_xlfn.CONCAT(\"Trimestre 1\",CHAR(10),IFERROR(#REF!,\"\"))","v":"Trimestre 1\n"},{"$f":"_xlfn.CONCAT(\"Trimestre 1\",CHAR(10),IFERROR(#REF!,\"\"))","v":"Trimestre 1\n"},{"$f":"_xlfn.CONCAT(\"Trimestre 1\",CHAR(10),IFERROR(#REF!,\"\"))","v":"Trimestre 1\n"},{"$f":"_xlfn.CONCAT(\"Trimestre 1\",CHAR(10),IFERROR(#REF!,\"\"))","v":"Trimestre 1\n"},{"$f":"_xlfn.CONCAT(\"Trimestre 1\",CHAR(10),IFERROR(#REF!,\"\"))","v":"Trimestre 1\n"}]
[null,null,null,null,null,null,null,null,null,null,null,null,null,null,null,null,null,null,null,null,null,null,null,null,null,{"$f":"IFERROR(#REF!,\" \")","v":" "},{"$f":"IFERROR(#REF!,\"\")","v":""},{"$f":"IFERROR(#REF!,\"\")","v":""},"","",{"$f":"IFERROR(#REF!,\"\")","v":""},"",{"$f":"IFERROR(#REF!,\"\")","v":""},{"$f":"IFERROR(#REF!,\"\")","v":""},{"$f":"_xlfn.CONCAT(\"Trimestre 1\",CHAR(10),IFERROR(#REF!,\"\"))","v":"Trimestre 1\n"},{"$f":"_xlfn.CONCAT(\"Trimestre 1\",CHAR(10),IFERROR(#REF!,\"\"))","v":"Trimestre 1\n"},{"$f":"_xlfn.CONCAT(\"Trimestre 1\",CHAR(10),IFERROR(#REF!,\"\"))","v":"Trimestre 1\n"},{"$f":"_xlfn.CONCAT(\"Trimestre 1\",CHAR(10),IFERROR(#REF!,\"\"))","v":"Trimestre 1\n"},{"$f":"_xlfn.CONCAT(\"Trimestre 1\",CHAR(10),IFERROR(#REF!,\"\"))","v":"Trimestre 1\n"}]
[null,null,null,null,null,null,null,null,null,null,null,null,null,null,null,null,null,null,null,null,null,null,null,null,null,{"$f":"IFERROR(#REF!,\" \")","v":" "},{"$f":"IFERROR(#REF!,\"\")","v":""},{"$f":"IFERROR(#REF!,\"\")","v":""},null,null,{"$f":"IFERROR(#REF!,\"\")","v":""},null,{"$f":"IFERROR(#REF!,\"\")","v":""},{"$f":"IFERROR(#REF!,\"\")","v":""},{"$f":"_xlfn.CONCAT(\"Trimestre 1\",CHAR(10),IFERROR(#REF!,\"\"))","v":"Trimestre 1\n"},{"$f":"_xlfn.CONCAT(\"Trimestre 1\",CHAR(10),IFERROR(#REF!,\"\"))","v":"Trimestre 1\n"},{"$f":"_xlfn.CONCAT(\"Trimestre 1\",CHAR(10),IFERROR(#REF!,\"\"))","v":"Trimestre 1\n"},{"$f":"_xlfn.CONCAT(\"Trimestre 1\",CHAR(10),IFERROR(#REF!,\"\"))","v":"Trimestre 1\n"},{"$f":"_xlfn.CONCAT(\"Trimestre 1\",CHAR(10),IFERROR(#REF!,\"\"))","v":"Trimestre 1\n"}]
[null,null,null,null,null,null,null,null,null,null,null,null,null,null,null,null,null,null,null,null,null,null,null,null,null,{"$f":"IFERROR(#REF!,\" \")","v":" "},{"$f":"IFERROR(#REF!,\"\")","v":""},{"$f":"IFERROR(#REF!,\"\")","v":""},null,null,{"$f":"IFERROR(#REF!,\"\")","v":""},null,{"$f":"IFERROR(#REF!,\"\")","v":""},{"$f":"IFERROR(#REF!,\"\")","v":""},{"$f":"_xlfn.CONCAT(\"Trimestre 1\",CHAR(10),IFERROR(#REF!,\"\"))","v":"Trimestre 1\n"},{"$f":"_xlfn.CONCAT(\"Trimestre 1\",CHAR(10),IFERROR(#REF!,\"\"))","v":"Trimestre 1\n"},{"$f":"_xlfn.CONCAT(\"Trimestre 1\",CHAR(10),IFERROR(#REF!,\"\"))","v":"Trimestre 1\n"},{"$f":"_xlfn.CONCAT(\"Trimestre 1\",CHAR(10),IFERROR(#REF!,\"\"))","v":"Trimestre 1\n"},{"$f":"_xlfn.CONCAT(\"Trimestre 1\",CHAR(10),IFERROR(#REF!,\"\"))","v":"Trimestre 1\n"}]
[null,null,null,null,null,null,null,null,null,null,null,null,null,null,null,null,null,null,null,null,null,null,null,null,null,{"$f":"IFERROR(#REF!,\" \")","v":" "},{"$f":"IFERROR(#REF!,\"\")","v":""},{"$f":"IFERROR(#REF!,\"\")","v":""},null,null,{"$f":"IFERROR(#REF!,\"\")","v":""},null,{"$f":"IFERROR(#REF!,\"\")","v":""},{"$f":"IFERROR(#REF!,\"\")","v":""},{"$f":"_xlfn.CONCAT(\"Trimestre 1\",CHAR(10),IFERROR(#REF!,\"\"))","v":"Trimestre 1\n"},{"$f":"_xlfn.CONCAT(\"Trimestre 1\",CHAR(10),IFERROR(#REF!,\"\"))","v":"Trimestre 1\n"},{"$f":"_xlfn.CONCAT(\"Trimestre 1\",CHAR(10),IFERROR(#REF!,\"\"))","v":"Trimestre 1\n"},{"$f":"_xlfn.CONCAT(\"Trimestre 1\",CHAR(10),IFERROR(#REF!,\"\"))","v":"Trimestre 1\n"},{"$f":"_xlfn.CONCAT(\"Trimestre 1\",CHAR(10),IFERROR(#REF!,\"\"))","v":"Trimestre 1\n"}]
[null,null,null,null,null,null,null,null,null,null,null,null,null,null,null,null,null,null,null,null,null,null,null,null,null,{"$f":"IFERROR(#REF!,\" \")","v":" "},{"$f":"IFERROR(#REF!,\"\")","v":""},{"$f":"IFERROR(#REF!,\"\")","v":""},null,null,{"$f":"IFERROR(#REF!,\"\")","v":""},null,{"$f":"IFERROR(#REF!,\"\")","v":""},{"$f":"IFERROR(#REF!,\"\")","v":""},{"$f":"_xlfn.CONCAT(\"Trimestre 1\",CHAR(10),IFERROR(#REF!,\"\"))","v":"Trimestre 1\n"},{"$f":"_xlfn.CONCAT(\"Trimestre 1\",CHAR(10),IFERROR(#REF!,\"\"))","v":"Trimestre 1\n"},{"$f":"_xlfn.CONCAT(\"Trimestre 1\",CHAR(10),IFERROR(#REF!,\"\"))","v":"Trimestre 1\n"},{"$f":"_xlfn.CONCAT(\"Trimestre 1\",CHAR(10),IFERROR(#REF!,\"\"))","v":"Trimestre 1\n"},{"$f":"_xlfn.CONCAT(\"Trimestre 1\",CHAR(10),IFERROR(#REF!,\"\"))","v":"Trimestre 1\n"}]
[null,null,null,null,null,null,null,null,null,null,null,null,null,null,null,null,null,null,null,null,null,null,null,null,null,{"$f":"IFERROR(#REF!,\" \")","v":" "},{"$f":"IFERROR(#REF!,\"\")","v":""},{"$f":"IFERROR(#REF!,\"\")","v":""},null,null,{"$f":"IFERROR(#REF!,\"\")","v":""},null,{"$f":"IFERROR(#REF!,\"\")","v":""},{"$f":"IFERROR(#REF!,\"\")","v":""},{"$f":"_xlfn.CONCAT(\"Trimestre 1\",CHAR(10),IFERROR(#REF!,\"\"))","v":"Trimestre 1\n"},{"$f":"_xlfn.CONCAT(\"Trimestre 1\",CHAR(10),IFERROR(#REF!,\"\"))","v":"Trimestre 1\n"},{"$f":"_xlfn.CONCAT(\"Trimestre 1\",CHAR(10),IFERROR(#REF!,\"\"))","v":"Trimestre 1\n"},{"$f":"_xlfn.CONCAT(\"Trimestre 1\",CHAR(10),IFERROR(#REF!,\"\"))","v":"Trimestre 1\n"},{"$f":"_xlfn.CONCAT(\"Trimestre 1\",CHAR(10),IFERROR(#REF!,\"\"))","v":"Trimestre 1\n"}]
[null,null,null,null,null,null,null,null,null,null,null,null,null,null,null,null,null,null,null,null,null,null,null,null,null,{"$f":"IFERROR(#REF!,\" \")","v":" "},{"$f":"IFERROR(#REF!,\"\")","v":""},{"$f":"IFERROR(#REF!,\"\")","v":""},"","",{"$f":"IFERROR(#REF!,\"\")","v":""},"",{"$f":"IFERROR(#REF!,\"\")","v":""},{"$f":"IFERROR(#REF!,\"\")","v":""},{"$f":"_xlfn.CONCAT(\"Trimestre 1\",CHAR(10),IFERROR(#REF!,\"\"))","v":"Trimestre 1\n"},{"$f":"_xlfn.CONCAT(\"Trimestre 1\",CHAR(10),IFERROR(#REF!,\"\"))","v":"Trimestre 1\n"},{"$f":"_xlfn.CONCAT(\"Trimestre 1\",CHAR(10),IFERROR(#REF!,\"\"))","v":"Trimestre 1\n"},{"$f":"_xlfn.CONCAT(\"Trimestre 1\",CHAR(10),IFERROR(#REF!,\"\"))","v":"Trimestre 1\n"},{"$f":"_xlfn.CONCAT(\"Trimestre 1\",CHAR(10),IFERROR(#REF!,\"\"))","v":"Trimestre 1\n"}]
[null,null,null,null,null,null,null,null,null,null,null,null,null,null,null,null,null,null,null,null,null,null,null,null,null,{"$f":"IFERROR(#REF!,\" \")","v":" "},{"$f":"IFERROR(#REF!,\"\")","v":""},{"$f":"IFERROR(#REF!,\"\")","v":""},"","",{"$f":"IFERROR(#REF!,\"\")","v":""},"",{"$f":"IFERROR(#REF!,\"\")","v":""},{"$f":"IFERROR(#REF!,\"\")","v":""},{"$f":"_xlfn.CONCAT(\"Trimestre 1\",CHAR(10),IFERROR(#REF!,\"\"))","v":"Trimestre 1\n"},{"$f":"_xlfn.CONCAT(\"Trimestre 1\",CHAR(10),IFERROR(#REF!,\"\"))","v":"Trimestre 1\n"},{"$f":"_xlfn.CONCAT(\"Trimestre 1\",CHAR(10),IFERROR(#REF!,\"\"))","v":"Trimestre 1\n"},{"$f":"_xlfn.CONCAT(\"Trimestre 1\",CHAR(10),IFERROR(#REF!,\"\"))","v":"Trimestre 1\n"},{"$f":"_xlfn.CONCAT(\"Trimestre 1\",CHAR(10),IFERROR(#REF!,\"\"))","v":"Trimestre 1\n"}]
[null,null,null,null,null,null,null,null,null,null,null,null,null,null,null,null,null,null,null,null,null,null,null,null,null,{"$f":"IFERROR(#REF!,\" \")","v":" "},{"$f":"IFERROR(#REF!,\"\")","v":""},{"$f":"IFERROR(#REF!,\"\")","v":""},"","",{"$f":"IFERROR(#REF!,\"\")","v":""},"",{"$f":"IFERROR(#REF!,\"\")","v":""},{"$f":"IFERROR(#REF!,\"\")","v":""},{"$f":"_xlfn.CONCAT(\"Trimestre 1\",CHAR(10),IFERROR(#REF!,\"\"))","v":"Trimestre 1\n"},{"$f":"_xlfn.CONCAT(\"Trimestre 1\",CHAR(10),IFERROR(#REF!,\"\"))","v":"Trimestre 1\n"},{"$f":"_xlfn.CONCAT(\"Trimestre 1\",CHAR(10),IFERROR(#REF!,\"\"))","v":"Trimestre 1\n"},{"$f":"_xlfn.CONCAT(\"Trimestre 1\",CHAR(10),IFERROR(#REF!,\"\"))","v":"Trimestre 1\n"},{"$f":"_xlfn.CONCAT(\"Trimestre 1\",CHAR(10),IFERROR(#REF!,\"\"))","v":"Trimestre 1\n"}]
["4. Talento Humano","Talento Humano: Fortalecer el talento humano en la Rama Judicial para que sea eficiente, capacitado y realice su labor en ambientes saludables y seguros. Ampliar la cobertura de la carrera judicial y mejorar la oferta de formación, que esté disponible para todos los servidores judiciales e impacte positivamente el servicio de justicia y responda a las necesidades reales del ejercicio de la función judicial.","1. Ampliar la cobertura de la carrera judicial optimizando los procesos de los concursos de méritos y propender por mitigar su litigiosidad.","Cobertura de la carrera judicial diferenciada entre magistrados, jueces y empleados","# de cargos provistos por carrera judicial/# de cargos de carrera judicial","1. Gestionar el desarrollo de las competencias, la toma de conciencia , la cultura  organizacional  y el compromiso de los  servidores judiciales, contratistas, practicantes y  judicantes de contribuir a generar valor público en la administración de justicia, en el marco de  cumplimiento de los requisitos  aplicables y el comportamiento ético.",null,null,null,null,null,null,null,null,null,null,null,null,null,null,null,null,null,null,null,{"$f":"IFERROR(#REF!,\" \")","v":" "},{"$f":"IFERROR(#REF!,\"\")","v":""},{"$f":"IFERROR(#REF!,\"\")","v":""},"","",{"$f":"IFERROR(#REF!,\"\")","v":""},"",{"$f":"IFERROR(#REF!,\"\")","v":""},{"$f":"IFERROR(#REF!,\"\")","v":""},{"$f":"_xlfn.CONCAT(\"Trimestre 1\",CHAR(10),IFERROR(#REF!,\"\"))","v":"Trimestre 1\n"},{"$f":"_xlfn.CONCAT(\"Trimestre 1\",CHAR(10),IFERROR(#REF!,\"\"))","v":"Trimestre 1\n"},{"$f":"_xlfn.CONCAT(\"Trimestre 1\",CHAR(10),IFERROR(#REF!,\"\"))","v":"Trimestre 1\n"},{"$f":"_xlfn.CONCAT(\"Trimestre 1\",CHAR(10),IFERROR(#REF!,\"\"))","v":"Trimestre 1\n"},{"$f":"_xlfn.CONCAT(\"Trimestre 1\",CHAR(10),IFERROR(#REF!,\"\"))","v":"Trimestre 1\n"}]
[null,null,null,null,null,null,null,null,null,null,null,null,null,null,null,null,null,null,null,null,null,null,null,null,null,{"$f":"IFERROR(#REF!,\" \")","v":" "},{"$f":"IFERROR(#REF!,\"\")","v":""},{"$f":"IFERROR(#REF!,\"\")","v":""},"","",{"$f":"IFERROR(#REF!,\"\")","v":""},"",{"$f":"IFERROR(#REF!,\"\")","v":""},{"$f":"IFERROR(#REF!,\"\")","v":""},{"$f":"_xlfn.CONCAT(\"Trimestre 1\",CHAR(10),IFERROR(#REF!,\"\"))","v":"Trimestre 1\n"},{"$f":"_xlfn.CONCAT(\"Trimestre 1\",CHAR(10),IFERROR(#REF!,\"\"))","v":"Trimestre 1\n"},{"$f":"_xlfn.CONCAT(\"Trimestre 1\",CHAR(10),IFERROR(#REF!,\"\"))","v":"Trimestre 1\n"},{"$f":"_xlfn.CONCAT(\"Trimestre 1\",CHAR(10),IFERROR(#REF!,\"\"))","v":"Trimestre 1\n"},{"$f":"_xlfn.CONCAT(\"Trimestre 1\",CHAR(10),IFERROR(#REF!,\"\"))","v":"Trimestre 1\n"}]
[null,null,null,null,null,null,null,null,null,null,null,null,null,null,null,null,null,null,null,null,null,null,null,null,null,{"$f":"IFERROR(#REF!,\" \")","v":" "},{"$f":"IFERROR(#REF!,\"\")","v":""},{"$f":"IFERROR(#REF!,\"\")","v":""},null,null,{"$f":"IFERROR(#REF!,\"\")","v":""},null,{"$f":"IFERROR(#REF!,\"\")","v":""},{"$f":"IFERROR(#REF!,\"\")","v":""},{"$f":"_xlfn.CONCAT(\"Trimestre 1\",CHAR(10),IFERROR(#REF!,\"\"))","v":"Trimestre 1\n"},{"$f":"_xlfn.CONCAT(\"Trimestre 1\",CHAR(10),IFERROR(#REF!,\"\"))","v":"Trimestre 1\n"},{"$f":"_xlfn.CONCAT(\"Trimestre 1\",CHAR(10),IFERROR(#REF!,\"\"))","v":"Trimestre 1\n"},{"$f":"_xlfn.CONCAT(\"Trimestre 1\",CHAR(10),IFERROR(#REF!,\"\"))","v":"Trimestre 1\n"},{"$f":"_xlfn.CONCAT(\"Trimestre 1\",CHAR(10),IFERROR(#REF!,\"\"))","v":"Trimestre 1\n"}]
[null,null,null,null,null,null,null,null,null,null,null,null,null,null,null,null,null,null,null,null,null,null,null,null,null,{"$f":"IFERROR(#REF!,\" \")","v":" "},{"$f":"IFERROR(#REF!,\"\")","v":""},{"$f":"IFERROR(#REF!,\"\")","v":""},null,null,{"$f":"IFERROR(#REF!,\"\")","v":""},null,{"$f":"IFERROR(#REF!,\"\")","v":""},{"$f":"IFERROR(#REF!,\"\")","v":""},{"$f":"_xlfn.CONCAT(\"Trimestre 1\",CHAR(10),IFERROR(#REF!,\"\"))","v":"Trimestre 1\n"},{"$f":"_xlfn.CONCAT(\"Trimestre 1\",CHAR(10),IFERROR(#REF!,\"\"))","v":"Trimestre 1\n"},{"$f":"_xlfn.CONCAT(\"Trimestre 1\",CHAR(10),IFERROR(#REF!,\"\"))","v":"Trimestre 1\n"},{"$f":"_xlfn.CONCAT(\"Trimestre 1\",CHAR(10),IFERROR(#REF!,\"\"))","v":"Trimestre 1\n"},{"$f":"_xlfn.CONCAT(\"Trimestre 1\",CHAR(10),IFERROR(#REF!,\"\"))","v":"Trimestre 1\n"}]
[null,null,null,null,null,null,null,null,null,null,null,null,null,null,null,null,null,null,null,null,null,null,null,null,null,{"$f":"IFERROR(#REF!,\" \")","v":" "},{"$f":"IFERROR(#REF!,\"\")","v":""},{"$f":"IFERROR(#REF!,\"\")","v":""},null,null,{"$f":"IFERROR(#REF!,\"\")","v":""},null,{"$f":"IFERROR(#REF!,\"\")","v":""},{"$f":"IFERROR(#REF!,\"\")","v":""},{"$f":"_xlfn.CONCAT(\"Trimestre 1\",CHAR(10),IFERROR(#REF!,\"\"))","v":"Trimestre 1\n"},{"$f":"_xlfn.CONCAT(\"Trimestre 1\",CHAR(10),IFERROR(#REF!,\"\"))","v":"Trimestre 1\n"},{"$f":"_xlfn.CONCAT(\"Trimestre 1\",CHAR(10),IFERROR(#REF!,\"\"))","v":"Trimestre 1\n"},{"$f":"_xlfn.CONCAT(\"Trimestre 1\",CHAR(10),IFERROR(#REF!,\"\"))","v":"Trimestre 1\n"},{"$f":"_xlfn.CONCAT(\"Trimestre 1\",CHAR(10),IFERROR(#REF!,\"\"))","v":"Trimestre 1\n"}]
[null,null,null,null,null,null,null,null,null,null,null,null,null,null,null,null,null,null,null,null,null,null,null,null,null,{"$f":"IFERROR(#REF!,\" \")","v":" "},{"$f":"IFERROR(#REF!,\"\")","v":""},{"$f":"IFERROR(#REF!,\"\")","v":""},null,null,{"$f":"IFERROR(#REF!,\"\")","v":""},null,{"$f":"IFERROR(#REF!,\"\")","v":""},{"$f":"IFERROR(#REF!,\"\")","v":""},{"$f":"_xlfn.CONCAT(\"Trimestre 1\",CHAR(10),IFERROR(#REF!,\"\"))","v":"Trimestre 1\n"},{"$f":"_xlfn.CONCAT(\"Trimestre 1\",CHAR(10),IFERROR(#REF!,\"\"))","v":"Trimestre 1\n"},{"$f":"_xlfn.CONCAT(\"Trimestre 1\",CHAR(10),IFERROR(#REF!,\"\"))","v":"Trimestre 1\n"},{"$f":"_xlfn.CONCAT(\"Trimestre 1\",CHAR(10),IFERROR(#REF!,\"\"))","v":"Trimestre 1\n"},{"$f":"_xlfn.CONCAT(\"Trimestre 1\",CHAR(10),IFERROR(#REF!,\"\"))","v":"Trimestre 1\n"}]
[null,null,null,null,null,null,null,null,null,null,null,null,null,null,null,null,null,null,null,null,null,null,null,null,null,{"$f":"IFERROR(#REF!,\" \")","v":" "},{"$f":"IFERROR(#REF!,\"\")","v":""},{"$f":"IFERROR(#REF!,\"\")","v":""},null,null,{"$f":"IFERROR(#REF!,\"\")","v":""},null,{"$f":"IFERROR(#REF!,\"\")","v":""},{"$f":"IFERROR(#REF!,\"\")","v":""},{"$f":"_xlfn.CONCAT(\"Trimestre 1\",CHAR(10),IFERROR(#REF!,\"\"))","v":"Trimestre 1\n"},{"$f":"_xlfn.CONCAT(\"Trimestre 1\",CHAR(10),IFERROR(#REF!,\"\"))","v":"Trimestre 1\n"},{"$f":"_xlfn.CONCAT(\"Trimestre 1\",CHAR(10),IFERROR(#REF!,\"\"))","v":"Trimestre 1\n"},{"$f":"_xlfn.CONCAT(\"Trimestre 1\",CHAR(10),IFERROR(#REF!,\"\"))","v":"Trimestre 1\n"},{"$f":"_xlfn.CONCAT(\"Trimestre 1\",CHAR(10),IFERROR(#REF!,\"\"))","v":"Trimestre 1\n"}]
[null,null,null,null,null,null,null,null,null,null,null,null,null,null,null,null,null,null,null,null,null,null,null,null,null,{"$f":"IFERROR(#REF!,\" \")","v":" "},{"$f":"IFERROR(#REF!,\"\")","v":""},{"$f":"IFERROR(#REF!,\"\")","v":""},"","",{"$f":"IFERROR(#REF!,\"\")","v":""},"",{"$f":"IFERROR(#REF!,\"\")","v":""},{"$f":"IFERROR(#REF!,\"\")","v":""},{"$f":"_xlfn.CONCAT(\"Trimestre 1\",CHAR(10),IFERROR(#REF!,\"\"))","v":"Trimestre 1\n"},{"$f":"_xlfn.CONCAT(\"Trimestre 1\",CHAR(10),IFERROR(#REF!,\"\"))","v":"Trimestre 1\n"},{"$f":"_xlfn.CONCAT(\"Trimestre 1\",CHAR(10),IFERROR(#REF!,\"\"))","v":"Trimestre 1\n"},{"$f":"_xlfn.CONCAT(\"Trimestre 1\",CHAR(10),IFERROR(#REF!,\"\"))","v":"Trimestre 1\n"},{"$f":"_xlfn.CONCAT(\"Trimestre 1\",CHAR(10),IFERROR(#REF!,\"\"))","v":"Trimestre 1\n"}]
[null,null,null,null,null,null,null,null,null,null,null,null,null,null,null,null,null,null,null,null,null,null,null,null,null,{"$f":"IFERROR(#REF!,\" \")","v":" "},{"$f":"IFERROR(#REF!,\"\")","v":""},{"$f":"IFERROR(#REF!,\"\")","v":""},"","",{"$f":"IFERROR(#REF!,\"\")","v":""},"",{"$f":"IFERROR(#REF!,\"\")","v":""},{"$f":"IFERROR(#REF!,\"\")","v":""},{"$f":"_xlfn.CONCAT(\"Trimestre 1\",CHAR(10),IFERROR(#REF!,\"\"))","v":"Trimestre 1\n"},{"$f":"_xlfn.CONCAT(\"Trimestre 1\",CHAR(10),IFERROR(#REF!,\"\"))","v":"Trimestre 1\n"},{"$f":"_xlfn.CONCAT(\"Trimestre 1\",CHAR(10),IFERROR(#REF!,\"\"))","v":"Trimestre 1\n"},{"$f":"_xlfn.CONCAT(\"Trimestre 1\",CHAR(10),IFERROR(#REF!,\"\"))","v":"Trimestre 1\n"},{"$f":"_xlfn.CONCAT(\"Trimestre 1\",CHAR(10),IFERROR(#REF!,\"\"))","v":"Trimestre 1\n"}]
[null,null,null,null,null,null,null,null,null,null,null,null,null,null,null,null,null,null,null,null,null,null,null,null,null,{"$f":"IFERROR(#REF!,\" \")","v":" "},{"$f":"IFERROR(#REF!,\"\")","v":""},{"$f":"IFERROR(#REF!,\"\")","v":""},"","",{"$f":"IFERROR(#REF!,\"\")","v":""},"",{"$f":"IFERROR(#REF!,\"\")","v":""},{"$f":"IFERROR(#REF!,\"\")","v":""},{"$f":"_xlfn.CONCAT(\"Trimestre 1\",CHAR(10),IFERROR(#REF!,\"\"))","v":"Trimestre 1\n"},{"$f":"_xlfn.CONCAT(\"Trimestre 1\",CHAR(10),IFERROR(#REF!,\"\"))","v":"Trimestre 1\n"},{"$f":"_xlfn.CONCAT(\"Trimestre 1\",CHAR(10),IFERROR(#REF!,\"\"))","v":"Trimestre 1\n"},{"$f":"_xlfn.CONCAT(\"Trimestre 1\",CHAR(10),IFERROR(#REF!,\"\"))","v":"Trimestre 1\n"},{"$f":"_xlfn.CONCAT(\"Trimestre 1\",CHAR(10),IFERROR(#REF!,\"\"))","v":"Trimestre 1\n"}]
[null,null,"2. Impactar la función y servicios que presta la Rama Judicial, a través de una formación integral desde una visión de gestión del conocimiento, relacionada con los problemas de la justicia y los problemas de gestión de quienes administran los recursos de la justicia, y potenciando el uso de medios virtuales.","Cobertura de la formación impartida por la Escuela Judicial en el fortalecimiento de las competencias de los servidores judiciales","# servidores que no han recibido ningún curso de formación en los dos años anteriores al proceso de formación, discriminad o por funcionarios y empleados, municipio y especialida d /# servidores totales, discriminad o por funcionarios y empleados, municipio y especialida d",null,null,null,null,null,null,null,null,null,null,null,null,null,null,null,null,null,null,null,null,{"$f":"IFERROR(#REF!,\" \")","v":" "},{"$f":"IFERROR(#REF!,\"\")","v":""},{"$f":"IFERROR(#REF!,\"\")","v":""},"","",{"$f":"IFERROR(#REF!,\"\")","v":""},"",{"$f":"IFERROR(#REF!,\"\")","v":""},{"$f":"IFERROR(#REF!,\"\")","v":""},{"$f":"_xlfn.CONCAT(\"Trimestre 1\",CHAR(10),IFERROR(#REF!,\"\"))","v":"Trimestre 1\n"},{"$f":"_xlfn.CONCAT(\"Trimestre 1\",CHAR(10),IFERROR(#REF!,\"\"))","v":"Trimestre 1\n"},{"$f":"_xlfn.CONCAT(\"Trimestre 1\",CHAR(10),IFERROR(#REF!,\"\"))","v":"Trimestre 1\n"},{"$f":"_xlfn.CONCAT(\"Trimestre 1\",CHAR(10),IFERROR(#REF!,\"\"))","v":"Trimestre 1\n"},{"$f":"_xlfn.CONCAT(\"Trimestre 1\",CHAR(10),IFERROR(#REF!,\"\"))","v":"Trimestre 1\n"}]
[null,null,null,null,null,null,null,null,null,null,null,null,null,null,null,null,null,null,null,null,null,null,null,null,null,{"$f":"IFERROR(#REF!,\" \")","v":" "},{"$f":"IFERROR(#REF!,\"\")","v":""},{"$f":"IFERROR(#REF!,\"\")","v":""},"","",{"$f":"IFERROR(#REF!,\"\")","v":""},"",{"$f":"IFERROR(#REF!,\"\")","v":""},{"$f":"IFERROR(#REF!,\"\")","v":""},{"$f":"_xlfn.CONCAT(\"Trimestre 1\",CHAR(10),IFERROR(#REF!,\"\"))","v":"Trimestre 1\n"},{"$f":"_xlfn.CONCAT(\"Trimestre 1\",CHAR(10),IFERROR(#REF!,\"\"))","v":"Trimestre 1\n"},{"$f":"_xlfn.CONCAT(\"Trimestre 1\",CHAR(10),IFERROR(#REF!,\"\"))","v":"Trimestre 1\n"},{"$f":"_xlfn.CONCAT(\"Trimestre 1\",CHAR(10),IFERROR(#REF!,\"\"))","v":"Trimestre 1\n"},{"$f":"_xlfn.CONCAT(\"Trimestre 1\",CHAR(10),IFERROR(#REF!,\"\"))","v":"Trimestre 1\n"}]
[null,null,null,null,null,null,null,null,null,null,null,null,null,null,null,null,null,null,null,null,null,null,null,null,null,{"$f":"IFERROR(#REF!,\" \")","v":" "},{"$f":"IFERROR(#REF!,\"\")","v":""},{"$f":"IFERROR(#REF!,\"\")","v":""},null,null,{"$f":"IFERROR(#REF!,\"\")","v":""},null,{"$f":"IFERROR(#REF!,\"\")","v":""},{"$f":"IFERROR(#REF!,\"\")","v":""},{"$f":"_xlfn.CONCAT(\"Trimestre 1\",CHAR(10),IFERROR(#REF!,\"\"))","v":"Trimestre 1\n"},{"$f":"_xlfn.CONCAT(\"Trimestre 1\",CHAR(10),IFERROR(#REF!,\"\"))","v":"Trimestre 1\n"},{"$f":"_xlfn.CONCAT(\"Trimestre 1\",CHAR(10),IFERROR(#REF!,\"\"))","v":"Trimestre 1\n"},{"$f":"_xlfn.CONCAT(\"Trimestre 1\",CHAR(10),IFERROR(#REF!,\"\"))","v":"Trimestre 1\n"},{"$f":"_xlfn.CONCAT(\"Trimestre 1\",CHAR(10),IFERROR(#REF!,\"\"))","v":"Trimestre 1\n"}]
[null,null,null,null,null,null,null,null,null,null,null,null,null,null,null,null,null,null,null,null,null,null,null,null,null,{"$f":"IFERROR(#REF!,\" \")","v":" "},{"$f":"IFERROR(#REF!,\"\")","v":""},{"$f":"IFERROR(#REF!,\"\")","v":""},null,null,{"$f":"IFERROR(#REF!,\"\")","v":""},null,{"$f":"IFERROR(#REF!,\"\")","v":""},{"$f":"IFERROR(#REF!,\"\")","v":""},{"$f":"_xlfn.CONCAT(\"Trimestre 1\",CHAR(10),IFERROR(#REF!,\"\"))","v":"Trimestre 1\n"},{"$f":"_xlfn.CONCAT(\"Trimestre 1\",CHAR(10),IFERROR(#REF!,\"\"))","v":"Trimestre 1\n"},{"$f":"_xlfn.CONCAT(\"Trimestre 1\",CHAR(10),IFERROR(#REF!,\"\"))","v":"Trimestre 1\n"},{"$f":"_xlfn.CONCAT(\"Trimestre 1\",CHAR(10),IFERROR(#REF!,\"\"))","v":"Trimestre 1\n"},{"$f":"_xlfn.CONCAT(\"Trimestre 1\",CHAR(10),IFERROR(#REF!,\"\"))","v":"Trimestre 1\n"}]
[null,null,null,null,null,null,null,null,null,null,null,null,null,null,null,null,null,null,null,null,null,null,null,null,null,{"$f":"IFERROR(#REF!,\" \")","v":" "},{"$f":"IFERROR(#REF!,\"\")","v":""},{"$f":"IFERROR(#REF!,\"\")","v":""},null,null,{"$f":"IFERROR(#REF!,\"\")","v":""},null,{"$f":"IFERROR(#REF!,\"\")","v":""},{"$f":"IFERROR(#REF!,\"\")","v":""},{"$f":"_xlfn.CONCAT(\"Trimestre 1\",CHAR(10),IFERROR(#REF!,\"\"))","v":"Trimestre 1\n"},{"$f":"_xlfn.CONCAT(\"Trimestre 1\",CHAR(10),IFERROR(#REF!,\"\"))","v":"Trimestre 1\n"},{"$f":"_xlfn.CONCAT(\"Trimestre 1\",CHAR(10),IFERROR(#REF!,\"\"))","v":"Trimestre 1\n"},{"$f":"_xlfn.CONCAT(\"Trimestre 1\",CHAR(10),IFERROR(#REF!,\"\"))","v":"Trimestre 1\n"},{"$f":"_xlfn.CONCAT(\"Trimestre 1\",CHAR(10),IFERROR(#REF!,\"\"))","v":"Trimestre 1\n"}]
[null,null,null,null,null,null,null,null,null,null,null,null,null,null,null,null,null,null,null,null,null,null,null,null,null,{"$f":"IFERROR(#REF!,\" \")","v":" "},{"$f":"IFERROR(#REF!,\"\")","v":""},{"$f":"IFERROR(#REF!,\"\")","v":""},null,null,{"$f":"IFERROR(#REF!,\"\")","v":""},null,{"$f":"IFERROR(#REF!,\"\")","v":""},{"$f":"IFERROR(#REF!,\"\")","v":""},{"$f":"_xlfn.CONCAT(\"Trimestre 1\",CHAR(10),IFERROR(#REF!,\"\"))","v":"Trimestre 1\n"},{"$f":"_xlfn.CONCAT(\"Trimestre 1\",CHAR(10),IFERROR(#REF!,\"\"))","v":"Trimestre 1\n"},{"$f":"_xlfn.CONCAT(\"Trimestre 1\",CHAR(10),IFERROR(#REF!,\"\"))","v":"Trimestre 1\n"},{"$f":"_xlfn.CONCAT(\"Trimestre 1\",CHAR(10),IFERROR(#REF!,\"\"))","v":"Trimestre 1\n"},{"$f":"_xlfn.CONCAT(\"Trimestre 1\",CHAR(10),IFERROR(#REF!,\"\"))","v":"Trimestre 1\n"}]
[null,null,null,null,null,null,null,null,null,null,null,null,null,null,null,null,null,null,null,null,null,null,null,null,null,{"$f":"IFERROR(#REF!,\" \")","v":" "},{"$f":"IFERROR(#REF!,\"\")","v":""},{"$f":"IFERROR(#REF!,\"\")","v":""},null,null,{"$f":"IFERROR(#REF!,\"\")","v":""},null,{"$f":"IFERROR(#REF!,\"\")","v":""},{"$f":"IFERROR(#REF!,\"\")","v":""},{"$f":"_xlfn.CONCAT(\"Trimestre 1\",CHAR(10),IFERROR(#REF!,\"\"))","v":"Trimestre 1\n"},{"$f":"_xlfn.CONCAT(\"Trimestre 1\",CHAR(10),IFERROR(#REF!,\"\"))","v":"Trimestre 1\n"},{"$f":"_xlfn.CONCAT(\"Trimestre 1\",CHAR(10),IFERROR(#REF!,\"\"))","v":"Trimestre 1\n"},{"$f":"_xlfn.CONCAT(\"Trimestre 1\",CHAR(10),IFERROR(#REF!,\"\"))","v":"Trimestre 1\n"},{"$f":"_xlfn.CONCAT(\"Trimestre 1\",CHAR(10),IFERROR(#REF!,\"\"))","v":"Trimestre 1\n"}]
[null,null,null,null,null,null,null,null,null,null,null,null,null,null,null,null,null,null,null,null,null,null,null,null,null,{"$f":"IFERROR(#REF!,\" \")","v":" "},{"$f":"IFERROR(#REF!,\"\")","v":""},{"$f":"IFERROR(#REF!,\"\")","v":""},"","",{"$f":"IFERROR(#REF!,\"\")","v":""},"",{"$f":"IFERROR(#REF!,\"\")","v":""},{"$f":"IFERROR(#REF!,\"\")","v":""},{"$f":"_xlfn.CONCAT(\"Trimestre 1\",CHAR(10),IFERROR(#REF!,\"\"))","v":"Trimestre 1\n"},{"$f":"_xlfn.CONCAT(\"Trimestre 1\",CHAR(10),IFERROR(#REF!,\"\"))","v":"Trimestre 1\n"},{"$f":"_xlfn.CONCAT(\"Trimestre 1\",CHAR(10),IFERROR(#REF!,\"\"))","v":"Trimestre 1\n"},{"$f":"_xlfn.CONCAT(\"Trimestre 1\",CHAR(10),IFERROR(#REF!,\"\"))","v":"Trimestre 1\n"},{"$f":"_xlfn.CONCAT(\"Trimestre 1\",CHAR(10),IFERROR(#REF!,\"\"))","v":"Trimestre 1\n"}]
[null,null,null,null,null,null,null,null,null,null,null,null,null,null,null,null,null,null,null,null,null,null,null,null,null,{"$f":"IFERROR(#REF!,\" \")","v":" "},{"$f":"IFERROR(#REF!,\"\")","v":""},{"$f":"IFERROR(#REF!,\"\")","v":""},"","",{"$f":"IFERROR(#REF!,\"\")","v":""},"",{"$f":"IFERROR(#REF!,\"\")","v":""},{"$f":"IFERROR(#REF!,\"\")","v":""},{"$f":"_xlfn.CONCAT(\"Trimestre 1\",CHAR(10),IFERROR(#REF!,\"\"))","v":"Trimestre 1\n"},{"$f":"_xlfn.CONCAT(\"Trimestre 1\",CHAR(10),IFERROR(#REF!,\"\"))","v":"Trimestre 1\n"},{"$f":"_xlfn.CONCAT(\"Trimestre 1\",CHAR(10),IFERROR(#REF!,\"\"))","v":"Trimestre 1\n"},{"$f":"_xlfn.CONCAT(\"Trimestre 1\",CHAR(10),IFERROR(#REF!,\"\"))","v":"Trimestre 1\n"},{"$f":"_xlfn.CONCAT(\"Trimestre 1\",CHAR(10),IFERROR(#REF!,\"\"))","v":"Trimestre 1\n"}]
[null,null,null,null,null,null,null,null,null,null,null,null,null,null,null,null,null,null,null,null,null,null,null,null,null,{"$f":"IFERROR(#REF!,\" \")","v":" "},{"$f":"IFERROR(#REF!,\"\")","v":""},{"$f":"IFERROR(#REF!,\"\")","v":""},"","",{"$f":"IFERROR(#REF!,\"\")","v":""},"",{"$f":"IFERROR(#REF!,\"\")","v":""},{"$f":"IFERROR(#REF!,\"\")","v":""},{"$f":"_xlfn.CONCAT(\"Trimestre 1\",CHAR(10),IFERROR(#REF!,\"\"))","v":"Trimestre 1\n"},{"$f":"_xlfn.CONCAT(\"Trimestre 1\",CHAR(10),IFERROR(#REF!,\"\"))","v":"Trimestre 1\n"},{"$f":"_xlfn.CONCAT(\"Trimestre 1\",CHAR(10),IFERROR(#REF!,\"\"))","v":"Trimestre 1\n"},{"$f":"_xlfn.CONCAT(\"Trimestre 1\",CHAR(10),IFERROR(#REF!,\"\"))","v":"Trimestre 1\n"},{"$f":"_xlfn.CONCAT(\"Trimestre 1\",CHAR(10),IFERROR(#REF!,\"\"))","v":"Trimestre 1\n"}]
[null,null,"3. Promover la incorporación de la perspectiva de género y el enfoque diferencial en los fallos judiciales y en la atención a los ciudadanos, la administración de la Rama Judicial, la administración de la carrera judicial y la elaboración de listas para altas Cortes. ","Enfoque diferencial y perspectiva de género en las decisiones judiciales de la Rama Judicial","# de decisiones judiciales postuladas al Concurso de “Reconocim iento a la incorporaci ón del derecho a la igualdad y la no discriminaci ón en las sentencias judiciales” en el año corriente/# de decisiones judiciales postuladas al Concurso de “Reconocim iento a la incorporaci ón del derecho a la igualdad y la no discriminaci ón en las sentencias judiciales” en el año inmediatam ente anterior",null,null,null,null,null,null,null,null,null,null,null,null,null,null,null,null,null,null,null,null,{"$f":"IFERROR(#REF!,\" \")","v":" "},{"$f":"IFERROR(#REF!,\"\")","v":""},{"$f":"IFERROR(#REF!,\"\")","v":""},"","",{"$f":"IFERROR(#REF!,\"\")","v":""},"",{"$f":"IFERROR(#REF!,\"\")","v":""},{"$f":"IFERROR(#REF!,\"\")","v":""},{"$f":"_xlfn.CONCAT(\"Trimestre 1\",CHAR(10),IFERROR(#REF!,\"\"))","v":"Trimestre 1\n"},{"$f":"_xlfn.CONCAT(\"Trimestre 1\",CHAR(10),IFERROR(#REF!,\"\"))","v":"Trimestre 1\n"},{"$f":"_xlfn.CONCAT(\"Trimestre 1\",CHAR(10),IFERROR(#REF!,\"\"))","v":"Trimestre 1\n"},{"$f":"_xlfn.CONCAT(\"Trimestre 1\",CHAR(10),IFERROR(#REF!,\"\"))","v":"Trimestre 1\n"},{"$f":"_xlfn.CONCAT(\"Trimestre 1\",CHAR(10),IFERROR(#REF!,\"\"))","v":"Trimestre 1\n"}]
[null,null,null,null,null,null,null,null,null,null,null,null,null,null,null,null,null,null,null,null,null,null,null,null,null,{"$f":"IFERROR(#REF!,\" \")","v":" "},{"$f":"IFERROR(#REF!,\"\")","v":""},{"$f":"IFERROR(#REF!,\"\")","v":""},"","",{"$f":"IFERROR(#REF!,\"\")","v":""},"",{"$f":"IFERROR(#REF!,\"\")","v":""},{"$f":"IFERROR(#REF!,\"\")","v":""},{"$f":"_xlfn.CONCAT(\"Trimestre 1\",CHAR(10),IFERROR(#REF!,\"\"))","v":"Trimestre 1\n"},{"$f":"_xlfn.CONCAT(\"Trimestre 1\",CHAR(10),IFERROR(#REF!,\"\"))","v":"Trimestre 1\n"},{"$f":"_xlfn.CONCAT(\"Trimestre 1\",CHAR(10),IFERROR(#REF!,\"\"))","v":"Trimestre 1\n"},{"$f":"_xlfn.CONCAT(\"Trimestre 1\",CHAR(10),IFERROR(#REF!,\"\"))","v":"Trimestre 1\n"},{"$f":"_xlfn.CONCAT(\"Trimestre 1\",CHAR(10),IFERROR(#REF!,\"\"))","v":"Trimestre 1\n"}]
[null,null,null,null,null,null,null,null,null,null,null,null,null,null,null,null,null,null,null,null,null,null,null,null,null,{"$f":"IFERROR(#REF!,\" \")","v":" "},{"$f":"IFERROR(#REF!,\"\")","v":""},{"$f":"IFERROR(#REF!,\"\")","v":""},null,null,{"$f":"IFERROR(#REF!,\"\")","v":""},null,{"$f":"IFERROR(#REF!,\"\")","v":""},{"$f":"IFERROR(#REF!,\"\")","v":""},{"$f":"_xlfn.CONCAT(\"Trimestre 1\",CHAR(10),IFERROR(#REF!,\"\"))","v":"Trimestre 1\n"},{"$f":"_xlfn.CONCAT(\"Trimestre 1\",CHAR(10),IFERROR(#REF!,\"\"))","v":"Trimestre 1\n"},{"$f":"_xlfn.CONCAT(\"Trimestre 1\",CHAR(10),IFERROR(#REF!,\"\"))","v":"Trimestre 1\n"},{"$f":"_xlfn.CONCAT(\"Trimestre 1\",CHAR(10),IFERROR(#REF!,\"\"))","v":"Trimestre 1\n"},{"$f":"_xlfn.CONCAT(\"Trimestre 1\",CHAR(10),IFERROR(#REF!,\"\"))","v":"Trimestre 1\n"}]
[null,null,null,null,null,null,null,null,null,null,null,null,null,null,null,null,null,null,null,null,null,null,null,null,null,{"$f":"IFERROR(#REF!,\" \")","v":" "},{"$f":"IFERROR(#REF!,\"\")","v":""},{"$f":"IFERROR(#REF!,\"\")","v":""},null,null,{"$f":"IFERROR(#REF!,\"\")","v":""},null,{"$f":"IFERROR(#REF!,\"\")","v":""},{"$f":"IFERROR(#REF!,\"\")","v":""},{"$f":"_xlfn.CONCAT(\"Trimestre 1\",CHAR(10),IFERROR(#REF!,\"\"))","v":"Trimestre 1\n"},{"$f":"_xlfn.CONCAT(\"Trimestre 1\",CHAR(10),IFERROR(#REF!,\"\"))","v":"Trimestre 1\n"},{"$f":"_xlfn.CONCAT(\"Trimestre 1\",CHAR(10),IFERROR(#REF!,\"\"))","v":"Trimestre 1\n"},{"$f":"_xlfn.CONCAT(\"Trimestre 1\",CHAR(10),IFERROR(#REF!,\"\"))","v":"Trimestre 1\n"},{"$f":"_xlfn.CONCAT(\"Trimestre 1\",CHAR(10),IFERROR(#REF!,\"\"))","v":"Trimestre 1\n"}]
[null,null,null,null,null,null,null,null,null,null,null,null,null,null,null,null,null,null,null,null,null,null,null,null,null,{"$f":"IFERROR(#REF!,\" \")","v":" "},{"$f":"IFERROR(#REF!,\"\")","v":""},{"$f":"IFERROR(#REF!,\"\")","v":""},null,null,{"$f":"IFERROR(#REF!,\"\")","v":""},null,{"$f":"IFERROR(#REF!,\"\")","v":""},{"$f":"IFERROR(#REF!,\"\")","v":""},{"$f":"_xlfn.CONCAT(\"Trimestre 1\",CHAR(10),IFERROR(#REF!,\"\"))","v":"Trimestre 1\n"},{"$f":"_xlfn.CONCAT(\"Trimestre 1\",CHAR(10),IFERROR(#REF!,\"\"))","v":"Trimestre 1\n"},{"$f":"_xlfn.CONCAT(\"Trimestre 1\",CHAR(10),IFERROR(#REF!,\"\"))","v":"Trimestre 1\n"},{"$f":"_xlfn.CONCAT(\"Trimestre 1\",CHAR(10),IFERROR(#REF!,\"\"))","v":"Trimestre 1\n"},{"$f":"_xlfn.CONCAT(\"Trimestre 1\",CHAR(10),IFERROR(#REF!,\"\"))","v":"Trimestre 1\n"}]
[null,null,null,null,null,null,null,null,null,null,null,null,null,null,null,null,null,null,null,null,null,null,null,null,null,{"$f":"IFERROR(#REF!,\" \")","v":" "},{"$f":"IFERROR(#REF!,\"\")","v":""},{"$f":"IFERROR(#REF!,\"\")","v":""},null,null,{"$f":"IFERROR(#REF!,\"\")","v":""},null,{"$f":"IFERROR(#REF!,\"\")","v":""},{"$f":"IFERROR(#REF!,\"\")","v":""},{"$f":"_xlfn.CONCAT(\"Trimestre 1\",CHAR(10),IFERROR(#REF!,\"\"))","v":"Trimestre 1\n"},{"$f":"_xlfn.CONCAT(\"Trimestre 1\",CHAR(10),IFERROR(#REF!,\"\"))","v":"Trimestre 1\n"},{"$f":"_xlfn.CONCAT(\"Trimestre 1\",CHAR(10),IFERROR(#REF!,\"\"))","v":"Trimestre 1\n"},{"$f":"_xlfn.CONCAT(\"Trimestre 1\",CHAR(10),IFERROR(#REF!,\"\"))","v":"Trimestre 1\n"},{"$f":"_xlfn.CONCAT(\"Trimestre 1\",CHAR(10),IFERROR(#REF!,\"\"))","v":"Trimestre 1\n"}]
[null,null,null,null,null,null,null,null,null,null,null,null,null,null,null,null,null,null,null,null,null,null,null,null,null,{"$f":"IFERROR(#REF!,\" \")","v":" "},{"$f":"IFERROR(#REF!,\"\")","v":""},{"$f":"IFERROR(#REF!,\"\")","v":""},null,null,{"$f":"IFERROR(#REF!,\"\")","v":""},null,{"$f":"IFERROR(#REF!,\"\")","v":""},{"$f":"IFERROR(#REF!,\"\")","v":""},{"$f":"_xlfn.CONCAT(\"Trimestre 1\",CHAR(10),IFERROR(#REF!,\"\"))","v":"Trimestre 1\n"},{"$f":"_xlfn.CONCAT(\"Trimestre 1\",CHAR(10),IFERROR(#REF!,\"\"))","v":"Trimestre 1\n"},{"$f":"_xlfn.CONCAT(\"Trimestre 1\",CHAR(10),IFERROR(#REF!,\"\"))","v":"Trimestre 1\n"},{"$f":"_xlfn.CONCAT(\"Trimestre 1\",CHAR(10),IFERROR(#REF!,\"\"))","v":"Trimestre 1\n"},{"$f":"_xlfn.CONCAT(\"Trimestre 1\",CHAR(10),IFERROR(#REF!,\"\"))","v":"Trimestre 1\n"}]
[null,null,null,null,null,null,null,null,null,null,null,null,null,null,null,null,null,null,null,null,null,null,null,null,null,{"$f":"IFERROR(#REF!,\" \")","v":" "},{"$f":"IFERROR(#REF!,\"\")","v":""},{"$f":"IFERROR(#REF!,\"\")","v":""},"","",{"$f":"IFERROR(#REF!,\"\")","v":""},"",{"$f":"IFERROR(#REF!,\"\")","v":""},{"$f":"IFERROR(#REF!,\"\")","v":""},{"$f":"_xlfn.CONCAT(\"Trimestre 1\",CHAR(10),IFERROR(#REF!,\"\"))","v":"Trimestre 1\n"},{"$f":"_xlfn.CONCAT(\"Trimestre 1\",CHAR(10),IFERROR(#REF!,\"\"))","v":"Trimestre 1\n"},{"$f":"_xlfn.CONCAT(\"Trimestre 1\",CHAR(10),IFERROR(#REF!,\"\"))","v":"Trimestre 1\n"},{"$f":"_xlfn.CONCAT(\"Trimestre 1\",CHAR(10),IFERROR(#REF!,\"\"))","v":"Trimestre 1\n"},{"$f":"_xlfn.CONCAT(\"Trimestre 1\",CHAR(10),IFERROR(#REF!,\"\"))","v":"Trimestre 1\n"}]
[null,null,null,null,null,null,null,null,null,null,null,null,null,null,null,null,null,null,null,null,null,null,null,null,null,{"$f":"IFERROR(#REF!,\" \")","v":" "},{"$f":"IFERROR(#REF!,\"\")","v":""},{"$f":"IFERROR(#REF!,\"\")","v":""},"","",{"$f":"IFERROR(#REF!,\"\")","v":""},"",{"$f":"IFERROR(#REF!,\"\")","v":""},{"$f":"IFERROR(#REF!,\"\")","v":""},{"$f":"_xlfn.CONCAT(\"Trimestre 1\",CHAR(10),IFERROR(#REF!,\"\"))","v":"Trimestre 1\n"},{"$f":"_xlfn.CONCAT(\"Trimestre 1\",CHAR(10),IFERROR(#REF!,\"\"))","v":"Trimestre 1\n"},{"$f":"_xlfn.CONCAT(\"Trimestre 1\",CHAR(10),IFERROR(#REF!,\"\"))","v":"Trimestre 1\n"},{"$f":"_xlfn.CONCAT(\"Trimestre 1\",CHAR(10),IFERROR(#REF!,\"\"))","v":"Trimestre 1\n"},{"$f":"_xlfn.CONCAT(\"Trimestre 1\",CHAR(10),IFERROR(#REF!,\"\"))","v":"Trimestre 1\n"}]
[null,null,null,null,null,null,null,null,null,null,null,null,null,null,null,null,null,null,null,null,null,null,null,null,null,{"$f":"IFERROR(#REF!,\" \")","v":" "},{"$f":"IFERROR(#REF!,\"\")","v":""},{"$f":"IFERROR(#REF!,\"\")","v":""},"","",{"$f":"IFERROR(#REF!,\"\")","v":""},"",{"$f":"IFERROR(#REF!,\"\")","v":""},{"$f":"IFERROR(#REF!,\"\")","v":""},{"$f":"_xlfn.CONCAT(\"Trimestre 1\",CHAR(10),IFERROR(#REF!,\"\"))","v":"Trimestre 1\n"},{"$f":"_xlfn.CONCAT(\"Trimestre 1\",CHAR(10),IFERROR(#REF!,\"\"))","v":"Trimestre 1\n"},{"$f":"_xlfn.CONCAT(\"Trimestre 1\",CHAR(10),IFERROR(#REF!,\"\"))","v":"Trimestre 1\n"},{"$f":"_xlfn.CONCAT(\"Trimestre 1\",CHAR(10),IFERROR(#REF!,\"\"))","v":"Trimestre 1\n"},{"$f":"_xlfn.CONCAT(\"Trimestre 1\",CHAR(10),IFERROR(#REF!,\"\"))","v":"Trimestre 1\n"}]
[null,null,"4. Desarrollar en los servidores judiciales y demás grupos de valor relevantes las competencias necesarias para la efectividad de la transformación digital de modo que puedan, entre otros, utilizar con solvencia las herramientas digitales dispuestas para sus respectivas funciones. Además, fortalecer y actualizar los conocimientos del personal a cargo de la gestión de proyectos de tecnología.","Cobertura de la formación impartida por la Escuela Judicial en Tecnologías de la Información y las Comunicaciones TIC para la práctica judicial.","# servidores que no han recibido ningún curso de formación en Tecnología s de la Información y las Comunicaci ones TIC en la vigencia del plan sectorial, discriminad o por funcionarios y empleados, municipio y especialida d /# servidores totales, discriminad o por funcionarios y empleados, municipio y especialida d",null,null,null,null,null,null,null,null,null,null,null,null,null,null,null,null,null,null,null,null,{"$f":"IFERROR(#REF!,\" \")","v":" "},{"$f":"IFERROR(#REF!,\"\")","v":""},{"$f":"IFERROR(#REF!,\"\")","v":""},"","",{"$f":"IFERROR(#REF!,\"\")","v":""},"",{"$f":"IFERROR(#REF!,\"\")","v":""},{"$f":"IFERROR(#REF!,\"\")","v":""},{"$f":"_xlfn.CONCAT(\"Trimestre 1\",CHAR(10),IFERROR(#REF!,\"\"))","v":"Trimestre 1\n"},{"$f":"_xlfn.CONCAT(\"Trimestre 1\",CHAR(10),IFERROR(#REF!,\"\"))","v":"Trimestre 1\n"},{"$f":"_xlfn.CONCAT(\"Trimestre 1\",CHAR(10),IFERROR(#REF!,\"\"))","v":"Trimestre 1\n"},{"$f":"_xlfn.CONCAT(\"Trimestre 1\",CHAR(10),IFERROR(#REF!,\"\"))","v":"Trimestre 1\n"},{"$f":"_xlfn.CONCAT(\"Trimestre 1\",CHAR(10),IFERROR(#REF!,\"\"))","v":"Trimestre 1\n"}]
[null,null,null,null,null,null,null,null,null,null,null,null,null,null,null,null,null,null,null,null,null,null,null,null,null,{"$f":"IFERROR(#REF!,\" \")","v":" "},{"$f":"IFERROR(#REF!,\"\")","v":""},{"$f":"IFERROR(#REF!,\"\")","v":""},"","",{"$f":"IFERROR(#REF!,\"\")","v":""},"",{"$f":"IFERROR(#REF!,\"\")","v":""},{"$f":"IFERROR(#REF!,\"\")","v":""},{"$f":"_xlfn.CONCAT(\"Trimestre 1\",CHAR(10),IFERROR(#REF!,\"\"))","v":"Trimestre 1\n"},{"$f":"_xlfn.CONCAT(\"Trimestre 1\",CHAR(10),IFERROR(#REF!,\"\"))","v":"Trimestre 1\n"},{"$f":"_xlfn.CONCAT(\"Trimestre 1\",CHAR(10),IFERROR(#REF!,\"\"))","v":"Trimestre 1\n"},{"$f":"_xlfn.CONCAT(\"Trimestre 1\",CHAR(10),IFERROR(#REF!,\"\"))","v":"Trimestre 1\n"},{"$f":"_xlfn.CONCAT(\"Trimestre 1\",CHAR(10),IFERROR(#REF!,\"\"))","v":"Trimestre 1\n"}]
[null,null,null,null,null,null,null,null,null,null,null,null,null,null,null,null,null,null,null,null,null,null,null,null,null,{"$f":"IFERROR(#REF!,\" \")","v":" "},{"$f":"IFERROR(#REF!,\"\")","v":""},{"$f":"IFERROR(#REF!,\"\")","v":""},null,null,{"$f":"IFERROR(#REF!,\"\")","v":""},null,{"$f":"IFERROR(#REF!,\"\")","v":""},{"$f":"IFERROR(#REF!,\"\")","v":""},{"$f":"_xlfn.CONCAT(\"Trimestre 1\",CHAR(10),IFERROR(#REF!,\"\"))","v":"Trimestre 1\n"},{"$f":"_xlfn.CONCAT(\"Trimestre 1\",CHAR(10),IFERROR(#REF!,\"\"))","v":"Trimestre 1\n"},{"$f":"_xlfn.CONCAT(\"Trimestre 1\",CHAR(10),IFERROR(#REF!,\"\"))","v":"Trimestre 1\n"},{"$f":"_xlfn.CONCAT(\"Trimestre 1\",CHAR(10),IFERROR(#REF!,\"\"))","v":"Trimestre 1\n"},{"$f":"_xlfn.CONCAT(\"Trimestre 1\",CHAR(10),IFERROR(#REF!,\"\"))","v":"Trimestre 1\n"}]
[null,null,null,null,null,null,null,null,null,null,null,null,null,null,null,null,null,null,null,null,null,null,null,null,null,{"$f":"IFERROR(#REF!,\" \")","v":" "},{"$f":"IFERROR(#REF!,\"\")","v":""},{"$f":"IFERROR(#REF!,\"\")","v":""},null,null,{"$f":"IFERROR(#REF!,\"\")","v":""},null,{"$f":"IFERROR(#REF!,\"\")","v":""},{"$f":"IFERROR(#REF!,\"\")","v":""},{"$f":"_xlfn.CONCAT(\"Trimestre 1\",CHAR(10),IFERROR(#REF!,\"\"))","v":"Trimestre 1\n"},{"$f":"_xlfn.CONCAT(\"Trimestre 1\",CHAR(10),IFERROR(#REF!,\"\"))","v":"Trimestre 1\n"},{"$f":"_xlfn.CONCAT(\"Trimestre 1\",CHAR(10),IFERROR(#REF!,\"\"))","v":"Trimestre 1\n"},{"$f":"_xlfn.CONCAT(\"Trimestre 1\",CHAR(10),IFERROR(#REF!,\"\"))","v":"Trimestre 1\n"},{"$f":"_xlfn.CONCAT(\"Trimestre 1\",CHAR(10),IFERROR(#REF!,\"\"))","v":"Trimestre 1\n"}]
[null,null,null,null,null,null,null,null,null,null,null,null,null,null,null,null,null,null,null,null,null,null,null,null,null,{"$f":"IFERROR(#REF!,\" \")","v":" "},{"$f":"IFERROR(#REF!,\"\")","v":""},{"$f":"IFERROR(#REF!,\"\")","v":""},null,null,{"$f":"IFERROR(#REF!,\"\")","v":""},null,{"$f":"IFERROR(#REF!,\"\")","v":""},{"$f":"IFERROR(#REF!,\"\")","v":""},{"$f":"_xlfn.CONCAT(\"Trimestre 1\",CHAR(10),IFERROR(#REF!,\"\"))","v":"Trimestre 1\n"},{"$f":"_xlfn.CONCAT(\"Trimestre 1\",CHAR(10),IFERROR(#REF!,\"\"))","v":"Trimestre 1\n"},{"$f":"_xlfn.CONCAT(\"Trimestre 1\",CHAR(10),IFERROR(#REF!,\"\"))","v":"Trimestre 1\n"},{"$f":"_xlfn.CONCAT(\"Trimestre 1\",CHAR(10),IFERROR(#REF!,\"\"))","v":"Trimestre 1\n"},{"$f":"_xlfn.CONCAT(\"Trimestre 1\",CHAR(10),IFERROR(#REF!,\"\"))","v":"Trimestre 1\n"}]
[null,null,null,null,null,null,null,null,null,null,null,null,null,null,null,null,null,null,null,null,null,null,null,null,null,{"$f":"IFERROR(#REF!,\" \")","v":" "},{"$f":"IFERROR(#REF!,\"\")","v":""},{"$f":"IFERROR(#REF!,\"\")","v":""},null,null,{"$f":"IFERROR(#REF!,\"\")","v":""},null,{"$f":"IFERROR(#REF!,\"\")","v":""},{"$f":"IFERROR(#REF!,\"\")","v":""},{"$f":"_xlfn.CONCAT(\"Trimestre 1\",CHAR(10),IFERROR(#REF!,\"\"))","v":"Trimestre 1\n"},{"$f":"_xlfn.CONCAT(\"Trimestre 1\",CHAR(10),IFERROR(#REF!,\"\"))","v":"Trimestre 1\n"},{"$f":"_xlfn.CONCAT(\"Trimestre 1\",CHAR(10),IFERROR(#REF!,\"\"))","v":"Trimestre 1\n"},{"$f":"_xlfn.CONCAT(\"Trimestre 1\",CHAR(10),IFERROR(#REF!,\"\"))","v":"Trimestre 1\n"},{"$f":"_xlfn.CONCAT(\"Trimestre 1\",CHAR(10),IFERROR(#REF!,\"\"))","v":"Trimestre 1\n"}]
[null,null,null,null,null,null,null,null,null,null,null,null,null,null,null,null,null,null,null,null,null,null,null,null,null,{"$f":"IFERROR(#REF!,\" \")","v":" "},{"$f":"IFERROR(#REF!,\"\")","v":""},{"$f":"IFERROR(#REF!,\"\")","v":""},null,null,{"$f":"IFERROR(#REF!,\"\")","v":""},null,{"$f":"IFERROR(#REF!,\"\")","v":""},{"$f":"IFERROR(#REF!,\"\")","v":""},{"$f":"_xlfn.CONCAT(\"Trimestre 1\",CHAR(10),IFERROR(#REF!,\"\"))","v":"Trimestre 1\n"},{"$f":"_xlfn.CONCAT(\"Trimestre 1\",CHAR(10),IFERROR(#REF!,\"\"))","v":"Trimestre 1\n"},{"$f":"_xlfn.CONCAT(\"Trimestre 1\",CHAR(10),IFERROR(#REF!,\"\"))","v":"Trimestre 1\n"},{"$f":"_xlfn.CONCAT(\"Trimestre 1\",CHAR(10),IFERROR(#REF!,\"\"))","v":"Trimestre 1\n"},{"$f":"_xlfn.CONCAT(\"Trimestre 1\",CHAR(10),IFERROR(#REF!,\"\"))","v":"Trimestre 1\n"}]
[null,null,null,null,null,null,null,null,null,null,null,null,null,null,null,null,null,null,null,null,null,null,null,null,null,{"$f":"IFERROR(#REF!,\" \")","v":" "},{"$f":"IFERROR(#REF!,\"\")","v":""},{"$f":"IFERROR(#REF!,\"\")","v":""},"","",{"$f":"IFERROR(#REF!,\"\")","v":""},"",{"$f":"IFERROR(#REF!,\"\")","v":""},{"$f":"IFERROR(#REF!,\"\")","v":""},{"$f":"_xlfn.CONCAT(\"Trimestre 1\",CHAR(10),IFERROR(#REF!,\"\"))","v":"Trimestre 1\n"},{"$f":"_xlfn.CONCAT(\"Trimestre 1\",CHAR(10),IFERROR(#REF!,\"\"))","v":"Trimestre 1\n"},{"$f":"_xlfn.CONCAT(\"Trimestre 1\",CHAR(10),IFERROR(#REF!,\"\"))","v":"Trimestre 1\n"},{"$f":"_xlfn.CONCAT(\"Trimestre 1\",CHAR(10),IFERROR(#REF!,\"\"))","v":"Trimestre 1\n"},{"$f":"_xlfn.CONCAT(\"Trimestre 1\",CHAR(10),IFERROR(#REF!,\"\"))","v":"Trimestre 1\n"}]
[null,null,null,null,null,null,null,null,null,null,null,null,null,null,null,null,null,null,null,null,null,null,null,null,null,{"$f":"IFERROR(#REF!,\" \")","v":" "},{"$f":"IFERROR(#REF!,\"\")","v":""},{"$f":"IFERROR(#REF!,\"\")","v":""},"","",{"$f":"IFERROR(#REF!,\"\")","v":""},"",{"$f":"IFERROR(#REF!,\"\")","v":""},{"$f":"IFERROR(#REF!,\"\")","v":""},{"$f":"_xlfn.CONCAT(\"Trimestre 1\",CHAR(10),IFERROR(#REF!,\"\"))","v":"Trimestre 1\n"},{"$f":"_xlfn.CONCAT(\"Trimestre 1\",CHAR(10),IFERROR(#REF!,\"\"))","v":"Trimestre 1\n"},{"$f":"_xlfn.CONCAT(\"Trimestre 1\",CHAR(10),IFERROR(#REF!,\"\"))","v":"Trimestre 1\n"},{"$f":"_xlfn.CONCAT(\"Trimestre 1\",CHAR(10),IFERROR(#REF!,\"\"))","v":"Trimestre 1\n"},{"$f":"_xlfn.CONCAT(\"Trimestre 1\",CHAR(10),IFERROR(#REF!,\"\"))","v":"Trimestre 1\n"}]
[null,null,null,null,null,null,null,null,null,null,null,null,null,null,null,null,null,null,null,null,null,null,null,null,null,{"$f":"IFERROR(#REF!,\" \")","v":" "},{"$f":"IFERROR(#REF!,\"\")","v":""},{"$f":"IFERROR(#REF!,\"\")","v":""},"","",{"$f":"IFERROR(#REF!,\"\")","v":""},"",{"$f":"IFERROR(#REF!,\"\")","v":""},{"$f":"IFERROR(#REF!,\"\")","v":""},{"$f":"_xlfn.CONCAT(\"Trimestre 1\",CHAR(10),IFERROR(#REF!,\"\"))","v":"Trimestre 1\n"},{"$f":"_xlfn.CONCAT(\"Trimestre 1\",CHAR(10),IFERROR(#REF!,\"\"))","v":"Trimestre 1\n"},{"$f":"_xlfn.CONCAT(\"Trimestre 1\",CHAR(10),IFERROR(#REF!,\"\"))","v":"Trimestre 1\n"},{"$f":"_xlfn.CONCAT(\"Trimestre 1\",CHAR(10),IFERROR(#REF!,\"\"))","v":"Trimestre 1\n"},{"$f":"_xlfn.CONCAT(\"Trimestre 1\",CHAR(10),IFERROR(#REF!,\"\"))","v":"Trimestre 1\n"}]
[null,null,"5. Promover el bienestar de todos los servidores judiciales a través de la implementación de un sistema que contemple los diferentes niveles de estrategias y acciones necesarios para mejorar el clima laboral, la salud física y mental y la calidad del tiempo de descanso.","Satisfacción de los servidores judiciales con el clima laboral","(# respuestas con concepto de bueno o excelente / # total de respuestas) *100","5. Generar espacios de trabajo seguros y saludables que contribuyan a minimizar los  incidentes, accidentes y enfermedades laborales derivados de las condiciones y actos  inseguros y fomentar  el autocuidado, los  estilos de vida y el trabajo saludable en los servidores judiciales, contratistas, judicantes y practicantes.",null,null,null,null,null,null,null,null,null,null,null,null,null,null,null,null,null,null,null,{"$f":"IFERROR(#REF!,\" \")","v":" "},{"$f":"IFERROR(#REF!,\"\")","v":""},{"$f":"IFERROR(#REF!,\"\")","v":""},"","",{"$f":"IFERROR(#REF!,\"\")","v":""},"",{"$f":"IFERROR(#REF!,\"\")","v":""},{"$f":"IFERROR(#REF!,\"\")","v":""},{"$f":"_xlfn.CONCAT(\"Trimestre 1\",CHAR(10),IFERROR(#REF!,\"\"))","v":"Trimestre 1\n"},{"$f":"_xlfn.CONCAT(\"Trimestre 1\",CHAR(10),IFERROR(#REF!,\"\"))","v":"Trimestre 1\n"},{"$f":"_xlfn.CONCAT(\"Trimestre 1\",CHAR(10),IFERROR(#REF!,\"\"))","v":"Trimestre 1\n"},{"$f":"_xlfn.CONCAT(\"Trimestre 1\",CHAR(10),IFERROR(#REF!,\"\"))","v":"Trimestre 1\n"},{"$f":"_xlfn.CONCAT(\"Trimestre 1\",CHAR(10),IFERROR(#REF!,\"\"))","v":"Trimestre 1\n"}]
[null,null,null,null,null,null,null,null,null,null,null,null,null,null,null,null,null,null,null,null,null,null,null,null,null,{"$f":"IFERROR(#REF!,\" \")","v":" "},{"$f":"IFERROR(#REF!,\"\")","v":""},{"$f":"IFERROR(#REF!,\"\")","v":""},"","",{"$f":"IFERROR(#REF!,\"\")","v":""},"",{"$f":"IFERROR(#REF!,\"\")","v":""},{"$f":"IFERROR(#REF!,\"\")","v":""},{"$f":"_xlfn.CONCAT(\"Trimestre 1\",CHAR(10),IFERROR(#REF!,\"\"))","v":"Trimestre 1\n"},{"$f":"_xlfn.CONCAT(\"Trimestre 1\",CHAR(10),IFERROR(#REF!,\"\"))","v":"Trimestre 1\n"},{"$f":"_xlfn.CONCAT(\"Trimestre 1\",CHAR(10),IFERROR(#REF!,\"\"))","v":"Trimestre 1\n"},{"$f":"_xlfn.CONCAT(\"Trimestre 1\",CHAR(10),IFERROR(#REF!,\"\"))","v":"Trimestre 1\n"},{"$f":"_xlfn.CONCAT(\"Trimestre 1\",CHAR(10),IFERROR(#REF!,\"\"))","v":"Trimestre 1\n"}]
[null,null,null,null,null,null,null,null,null,null,null,null,null,null,null,null,null,null,null,null,null,null,null,null,null,{"$f":"IFERROR(#REF!,\" \")","v":" "},{"$f":"IFERROR(#REF!,\"\")","v":""},{"$f":"IFERROR(#REF!,\"\")","v":""},null,null,{"$f":"IFERROR(#REF!,\"\")","v":""},null,{"$f":"IFERROR(#REF!,\"\")","v":""},{"$f":"IFERROR(#REF!,\"\")","v":""},{"$f":"_xlfn.CONCAT(\"Trimestre 1\",CHAR(10),IFERROR(#REF!,\"\"))","v":"Trimestre 1\n"},{"$f":"_xlfn.CONCAT(\"Trimestre 1\",CHAR(10),IFERROR(#REF!,\"\"))","v":"Trimestre 1\n"},{"$f":"_xlfn.CONCAT(\"Trimestre 1\",CHAR(10),IFERROR(#REF!,\"\"))","v":"Trimestre 1\n"},{"$f":"_xlfn.CONCAT(\"Trimestre 1\",CHAR(10),IFERROR(#REF!,\"\"))","v":"Trimestre 1\n"},{"$f":"_xlfn.CONCAT(\"Trimestre 1\",CHAR(10),IFERROR(#REF!,\"\"))","v":"Trimestre 1\n"}]
[null,null,null,null,null,null,null,null,null,null,null,null,null,null,null,null,null,null,null,null,null,null,null,null,null,{"$f":"IFERROR(#REF!,\" \")","v":" "},{"$f":"IFERROR(#REF!,\"\")","v":""},{"$f":"IFERROR(#REF!,\"\")","v":""},null,null,{"$f":"IFERROR(#REF!,\"\")","v":""},null,{"$f":"IFERROR(#REF!,\"\")","v":""},{"$f":"IFERROR(#REF!,\"\")","v":""},{"$f":"_xlfn.CONCAT(\"Trimestre 1\",CHAR(10),IFERROR(#REF!,\"\"))","v":"Trimestre 1\n"},{"$f":"_xlfn.CONCAT(\"Trimestre 1\",CHAR(10),IFERROR(#REF!,\"\"))","v":"Trimestre 1\n"},{"$f":"_xlfn.CONCAT(\"Trimestre 1\",CHAR(10),IFERROR(#REF!,\"\"))","v":"Trimestre 1\n"},{"$f":"_xlfn.CONCAT(\"Trimestre 1\",CHAR(10),IFERROR(#REF!,\"\"))","v":"Trimestre 1\n"},{"$f":"_xlfn.CONCAT(\"Trimestre 1\",CHAR(10),IFERROR(#REF!,\"\"))","v":"Trimestre 1\n"}]
[null,null,null,null,null,null,null,null,null,null,null,null,null,null,null,null,null,null,null,null,null,null,null,null,null,{"$f":"IFERROR(#REF!,\" \")","v":" "},{"$f":"IFERROR(#REF!,\"\")","v":""},{"$f":"IFERROR(#REF!,\"\")","v":""},null,null,{"$f":"IFERROR(#REF!,\"\")","v":""},null,{"$f":"IFERROR(#REF!,\"\")","v":""},{"$f":"IFERROR(#REF!,\"\")","v":""},{"$f":"_xlfn.CONCAT(\"Trimestre 1\",CHAR(10),IFERROR(#REF!,\"\"))","v":"Trimestre 1\n"},{"$f":"_xlfn.CONCAT(\"Trimestre 1\",CHAR(10),IFERROR(#REF!,\"\"))","v":"Trimestre 1\n"},{"$f":"_xlfn.CONCAT(\"Trimestre 1\",CHAR(10),IFERROR(#REF!,\"\"))","v":"Trimestre 1\n"},{"$f":"_xlfn.CONCAT(\"Trimestre 1\",CHAR(10),IFERROR(#REF!,\"\"))","v":"Trimestre 1\n"},{"$f":"_xlfn.CONCAT(\"Trimestre 1\",CHAR(10),IFERROR(#REF!,\"\"))","v":"Trimestre 1\n"}]
[null,null,null,null,null,null,null,null,null,null,null,null,null,null,null,null,null,null,null,null,null,null,null,null,null,{"$f":"IFERROR(#REF!,\" \")","v":" "},{"$f":"IFERROR(#REF!,\"\")","v":""},{"$f":"IFERROR(#REF!,\"\")","v":""},null,null,{"$f":"IFERROR(#REF!,\"\")","v":""},null,{"$f":"IFERROR(#REF!,\"\")","v":""},{"$f":"IFERROR(#REF!,\"\")","v":""},{"$f":"_xlfn.CONCAT(\"Trimestre 1\",CHAR(10),IFERROR(#REF!,\"\"))","v":"Trimestre 1\n"},{"$f":"_xlfn.CONCAT(\"Trimestre 1\",CHAR(10),IFERROR(#REF!,\"\"))","v":"Trimestre 1\n"},{"$f":"_xlfn.CONCAT(\"Trimestre 1\",CHAR(10),IFERROR(#REF!,\"\"))","v":"Trimestre 1\n"},{"$f":"_xlfn.CONCAT(\"Trimestre 1\",CHAR(10),IFERROR(#REF!,\"\"))","v":"Trimestre 1\n"},{"$f":"_xlfn.CONCAT(\"Trimestre 1\",CHAR(10),IFERROR(#REF!,\"\"))","v":"Trimestre 1\n"}]
[null,null,null,null,null,null,null,null,null,null,null,null,null,null,null,null,null,null,null,null,null,null,null,null,null,{"$f":"IFERROR(#REF!,\" \")","v":" "},{"$f":"IFERROR(#REF!,\"\")","v":""},{"$f":"IFERROR(#REF!,\"\")","v":""},null,null,{"$f":"IFERROR(#REF!,\"\")","v":""},null,{"$f":"IFERROR(#REF!,\"\")","v":""},{"$f":"IFERROR(#REF!,\"\")","v":""},{"$f":"_xlfn.CONCAT(\"Trimestre 1\",CHAR(10),IFERROR(#REF!,\"\"))","v":"Trimestre 1\n"},{"$f":"_xlfn.CONCAT(\"Trimestre 1\",CHAR(10),IFERROR(#REF!,\"\"))","v":"Trimestre 1\n"},{"$f":"_xlfn.CONCAT(\"Trimestre 1\",CHAR(10),IFERROR(#REF!,\"\"))","v":"Trimestre 1\n"},{"$f":"_xlfn.CONCAT(\"Trimestre 1\",CHAR(10),IFERROR(#REF!,\"\"))","v":"Trimestre 1\n"},{"$f":"_xlfn.CONCAT(\"Trimestre 1\",CHAR(10),IFERROR(#REF!,\"\"))","v":"Trimestre 1\n"}]
[null,null,null,null,null,null,null,null,null,null,null,null,null,null,null,null,null,null,null,null,null,null,null,null,null,{"$f":"IFERROR(#REF!,\" \")","v":" "},{"$f":"IFERROR(#REF!,\"\")","v":""},{"$f":"IFERROR(#REF!,\"\")","v":""},"","",{"$f":"IFERROR(#REF!,\"\")","v":""},"",{"$f":"IFERROR(#REF!,\"\")","v":""},{"$f":"IFERROR(#REF!,\"\")","v":""},{"$f":"_xlfn.CONCAT(\"Trimestre 1\",CHAR(10),IFERROR(#REF!,\"\"))","v":"Trimestre 1\n"},{"$f":"_xlfn.CONCAT(\"Trimestre 1\",CHAR(10),IFERROR(#REF!,\"\"))","v":"Trimestre 1\n"},{"$f":"_xlfn.CONCAT(\"Trimestre 1\",CHAR(10),IFERROR(#REF!,\"\"))","v":"Trimestre 1\n"},{"$f":"_xlfn.CONCAT(\"Trimestre 1\",CHAR(10),IFERROR(#REF!,\"\"))","v":"Trimestre 1\n"},{"$f":"_xlfn.CONCAT(\"Trimestre 1\",CHAR(10),IFERROR(#REF!,\"\"))","v":"Trimestre 1\n"}]
[null,null,null,null,null,null,null,null,null,null,null,null,null,null,null,null,null,null,null,null,null,null,null,null,null,{"$f":"IFERROR(#REF!,\" \")","v":" "},{"$f":"IFERROR(#REF!,\"\")","v":""},{"$f":"IFERROR(#REF!,\"\")","v":""},"","",{"$f":"IFERROR(#REF!,\"\")","v":""},"",{"$f":"IFERROR(#REF!,\"\")","v":""},{"$f":"IFERROR(#REF!,\"\")","v":""},{"$f":"_xlfn.CONCAT(\"Trimestre 1\",CHAR(10),IFERROR(#REF!,\"\"))","v":"Trimestre 1\n"},{"$f":"_xlfn.CONCAT(\"Trimestre 1\",CHAR(10),IFERROR(#REF!,\"\"))","v":"Trimestre 1\n"},{"$f":"_xlfn.CONCAT(\"Trimestre 1\",CHAR(10),IFERROR(#REF!,\"\"))","v":"Trimestre 1\n"},{"$f":"_xlfn.CONCAT(\"Trimestre 1\",CHAR(10),IFERROR(#REF!,\"\"))","v":"Trimestre 1\n"},{"$f":"_xlfn.CONCAT(\"Trimestre 1\",CHAR(10),IFERROR(#REF!,\"\"))","v":"Trimestre 1\n"}]
[null,null,null,null,null,null,null,null,null,null,null,null,null,null,null,null,null,null,null,null,null,null,null,null,null,{"$f":"IFERROR(#REF!,\" \")","v":" "},{"$f":"IFERROR(#REF!,\"\")","v":""},{"$f":"IFERROR(#REF!,\"\")","v":""},"","",{"$f":"IFERROR(#REF!,\"\")","v":""},"",{"$f":"IFERROR(#REF!,\"\")","v":""},{"$f":"IFERROR(#REF!,\"\")","v":""},{"$f":"_xlfn.CONCAT(\"Trimestre 1\",CHAR(10),IFERROR(#REF!,\"\"))","v":"Trimestre 1\n"},{"$f":"_xlfn.CONCAT(\"Trimestre 1\",CHAR(10),IFERROR(#REF!,\"\"))","v":"Trimestre 1\n"},{"$f":"_xlfn.CONCAT(\"Trimestre 1\",CHAR(10),IFERROR(#REF!,\"\"))","v":"Trimestre 1\n"},{"$f":"_xlfn.CONCAT(\"Trimestre 1\",CHAR(10),IFERROR(#REF!,\"\"))","v":"Trimestre 1\n"},{"$f":"_xlfn.CONCAT(\"Trimestre 1\",CHAR(10),IFERROR(#REF!,\"\"))","v":"Trimestre 1\n"}]
["5. Gobernanza, planeación estratégica y capacidad de toma de decisiones","Gobernanza, planeación estratégica y capacidad de toma de decisiones: Fortalecer la gobernanza, la planeación estratégica y la capacidad de toma de decisiones de la Rama Judicial con base en la evidencia empírica y la articulación efectiva con las demás entidades, para que la perspectiva de género y el enfoque diferencial sean transversales en el presente plan. ","1. Implementar un nuevo modelo integrado para la planeación estratégica, el seguimiento y la medición del desempeño institucional.","Modelo integrado para la planeación estratégica, seguimiento y medición del desempeño institucional implementado","% de implementa ción del modelo integrado","2. Asegurar  el cumplimiento de los objetivos institucionales, la normatividad aplicable,  la mejora del SIGCMA y la satisfacción de los usuarios, revisando de  forma continua y sistemática la planificación de la gestión y fortaleciendo la administración de riesgos y sus controles.",null,null,null,null,null,null,null,null,null,null,null,null,null,null,null,null,null,null,null,{"$f":"IFERROR(#REF!,\" \")","v":" "},{"$f":"IFERROR(#REF!,\"\")","v":""},{"$f":"IFERROR(#REF!,\"\")","v":""},"","",{"$f":"IFERROR(#REF!,\"\")","v":""},"",{"$f":"IFERROR(#REF!,\"\")","v":""},{"$f":"IFERROR(#REF!,\"\")","v":""},{"$f":"_xlfn.CONCAT(\"Trimestre 1\",CHAR(10),IFERROR(#REF!,\"\"))","v":"Trimestre 1\n"},{"$f":"_xlfn.CONCAT(\"Trimestre 1\",CHAR(10),IFERROR(#REF!,\"\"))","v":"Trimestre 1\n"},{"$f":"_xlfn.CONCAT(\"Trimestre 1\",CHAR(10),IFERROR(#REF!,\"\"))","v":"Trimestre 1\n"},{"$f":"_xlfn.CONCAT(\"Trimestre 1\",CHAR(10),IFERROR(#REF!,\"\"))","v":"Trimestre 1\n"},{"$f":"_xlfn.CONCAT(\"Trimestre 1\",CHAR(10),IFERROR(#REF!,\"\"))","v":"Trimestre 1\n"}]
[null,null,null,null,null,null,null,null,null,null,null,null,null,null,null,null,null,null,null,null,null,null,null,null,null,{"$f":"IFERROR(#REF!,\" \")","v":" "},{"$f":"IFERROR(#REF!,\"\")","v":""},{"$f":"IFERROR(#REF!,\"\")","v":""},"","",{"$f":"IFERROR(#REF!,\"\")","v":""},"",{"$f":"IFERROR(#REF!,\"\")","v":""},{"$f":"IFERROR(#REF!,\"\")","v":""},{"$f":"_xlfn.CONCAT(\"Trimestre 1\",CHAR(10),IFERROR(#REF!,\"\"))","v":"Trimestre 1\n"},{"$f":"_xlfn.CONCAT(\"Trimestre 1\",CHAR(10),IFERROR(#REF!,\"\"))","v":"Trimestre 1\n"},{"$f":"_xlfn.CONCAT(\"Trimestre 1\",CHAR(10),IFERROR(#REF!,\"\"))","v":"Trimestre 1\n"},{"$f":"_xlfn.CONCAT(\"Trimestre 1\",CHAR(10),IFERROR(#REF!,\"\"))","v":"Trimestre 1\n"},{"$f":"_xlfn.CONCAT(\"Trimestre 1\",CHAR(10),IFERROR(#REF!,\"\"))","v":"Trimestre 1\n"}]
[null,null,null,null,null,null,null,null,null,null,null,null,null,null,null,null,null,null,null,null,null,null,null,null,null,{"$f":"IFERROR(#REF!,\" \")","v":" "},{"$f":"IFERROR(#REF!,\"\")","v":""},{"$f":"IFERROR(#REF!,\"\")","v":""},null,null,{"$f":"IFERROR(#REF!,\"\")","v":""},null,{"$f":"IFERROR(#REF!,\"\")","v":""},{"$f":"IFERROR(#REF!,\"\")","v":""},{"$f":"_xlfn.CONCAT(\"Trimestre 1\",CHAR(10),IFERROR(#REF!,\"\"))","v":"Trimestre 1\n"},{"$f":"_xlfn.CONCAT(\"Trimestre 1\",CHAR(10),IFERROR(#REF!,\"\"))","v":"Trimestre 1\n"},{"$f":"_xlfn.CONCAT(\"Trimestre 1\",CHAR(10),IFERROR(#REF!,\"\"))","v":"Trimestre 1\n"},{"$f":"_xlfn.CONCAT(\"Trimestre 1\",CHAR(10),IFERROR(#REF!,\"\"))","v":"Trimestre 1\n"},{"$f":"_xlfn.CONCAT(\"Trimestre 1\",CHAR(10),IFERROR(#REF!,\"\"))","v":"Trimestre 1\n"}]
[null,null,null,null,null,null,null,null,null,null,null,null,null,null,null,null,null,null,null,null,null,null,null,null,null,{"$f":"IFERROR(#REF!,\" \")","v":" "},{"$f":"IFERROR(#REF!,\"\")","v":""},{"$f":"IFERROR(#REF!,\"\")","v":""},null,null,{"$f":"IFERROR(#REF!,\"\")","v":""},null,{"$f":"IFERROR(#REF!,\"\")","v":""},{"$f":"IFERROR(#REF!,\"\")","v":""},{"$f":"_xlfn.CONCAT(\"Trimestre 1\",CHAR(10),IFERROR(#REF!,\"\"))","v":"Trimestre 1\n"},{"$f":"_xlfn.CONCAT(\"Trimestre 1\",CHAR(10),IFERROR(#REF!,\"\"))","v":"Trimestre 1\n"},{"$f":"_xlfn.CONCAT(\"Trimestre 1\",CHAR(10),IFERROR(#REF!,\"\"))","v":"Trimestre 1\n"},{"$f":"_xlfn.CONCAT(\"Trimestre 1\",CHAR(10),IFERROR(#REF!,\"\"))","v":"Trimestre 1\n"},{"$f":"_xlfn.CONCAT(\"Trimestre 1\",CHAR(10),IFERROR(#REF!,\"\"))","v":"Trimestre 1\n"}]
[null,null,null,null,null,null,null,null,null,null,null,null,null,null,null,null,null,null,null,null,null,null,null,null,null,{"$f":"IFERROR(#REF!,\" \")","v":" "},{"$f":"IFERROR(#REF!,\"\")","v":""},{"$f":"IFERROR(#REF!,\"\")","v":""},null,null,{"$f":"IFERROR(#REF!,\"\")","v":""},null,{"$f":"IFERROR(#REF!,\"\")","v":""},{"$f":"IFERROR(#REF!,\"\")","v":""},{"$f":"_xlfn.CONCAT(\"Trimestre 1\",CHAR(10),IFERROR(#REF!,\"\"))","v":"Trimestre 1\n"},{"$f":"_xlfn.CONCAT(\"Trimestre 1\",CHAR(10),IFERROR(#REF!,\"\"))","v":"Trimestre 1\n"},{"$f":"_xlfn.CONCAT(\"Trimestre 1\",CHAR(10),IFERROR(#REF!,\"\"))","v":"Trimestre 1\n"},{"$f":"_xlfn.CONCAT(\"Trimestre 1\",CHAR(10),IFERROR(#REF!,\"\"))","v":"Trimestre 1\n"},{"$f":"_xlfn.CONCAT(\"Trimestre 1\",CHAR(10),IFERROR(#REF!,\"\"))","v":"Trimestre 1\n"}]
[null,null,null,null,null,null,null,null,null,null,null,null,null,null,null,null,null,null,null,null,null,null,null,null,null,{"$f":"IFERROR(#REF!,\" \")","v":" "},{"$f":"IFERROR(#REF!,\"\")","v":""},{"$f":"IFERROR(#REF!,\"\")","v":""},null,null,{"$f":"IFERROR(#REF!,\"\")","v":""},null,{"$f":"IFERROR(#REF!,\"\")","v":""},{"$f":"IFERROR(#REF!,\"\")","v":""},{"$f":"_xlfn.CONCAT(\"Trimestre 1\",CHAR(10),IFERROR(#REF!,\"\"))","v":"Trimestre 1\n"},{"$f":"_xlfn.CONCAT(\"Trimestre 1\",CHAR(10),IFERROR(#REF!,\"\"))","v":"Trimestre 1\n"},{"$f":"_xlfn.CONCAT(\"Trimestre 1\",CHAR(10),IFERROR(#REF!,\"\"))","v":"Trimestre 1\n"},{"$f":"_xlfn.CONCAT(\"Trimestre 1\",CHAR(10),IFERROR(#REF!,\"\"))","v":"Trimestre 1\n"},{"$f":"_xlfn.CONCAT(\"Trimestre 1\",CHAR(10),IFERROR(#REF!,\"\"))","v":"Trimestre 1\n"}]
[null,null,null,null,null,null,null,null,null,null,null,null,null,null,null,null,null,null,null,null,null,null,null,null,null,{"$f":"IFERROR(#REF!,\" \")","v":" "},{"$f":"IFERROR(#REF!,\"\")","v":""},{"$f":"IFERROR(#REF!,\"\")","v":""},null,null,{"$f":"IFERROR(#REF!,\"\")","v":""},null,{"$f":"IFERROR(#REF!,\"\")","v":""},{"$f":"IFERROR(#REF!,\"\")","v":""},{"$f":"_xlfn.CONCAT(\"Trimestre 1\",CHAR(10),IFERROR(#REF!,\"\"))","v":"Trimestre 1\n"},{"$f":"_xlfn.CONCAT(\"Trimestre 1\",CHAR(10),IFERROR(#REF!,\"\"))","v":"Trimestre 1\n"},{"$f":"_xlfn.CONCAT(\"Trimestre 1\",CHAR(10),IFERROR(#REF!,\"\"))","v":"Trimestre 1\n"},{"$f":"_xlfn.CONCAT(\"Trimestre 1\",CHAR(10),IFERROR(#REF!,\"\"))","v":"Trimestre 1\n"},{"$f":"_xlfn.CONCAT(\"Trimestre 1\",CHAR(10),IFERROR(#REF!,\"\"))","v":"Trimestre 1\n"}]
[null,null,null,null,null,null,null,null,null,null,null,null,null,null,null,null,null,null,null,null,null,null,null,null,null,{"$f":"IFERROR(#REF!,\" \")","v":" "},{"$f":"IFERROR(#REF!,\"\")","v":""},{"$f":"IFERROR(#REF!,\"\")","v":""},"","",{"$f":"IFERROR(#REF!,\"\")","v":""},"",{"$f":"IFERROR(#REF!,\"\")","v":""},{"$f":"IFERROR(#REF!,\"\")","v":""},{"$f":"_xlfn.CONCAT(\"Trimestre 1\",CHAR(10),IFERROR(#REF!,\"\"))","v":"Trimestre 1\n"},{"$f":"_xlfn.CONCAT(\"Trimestre 1\",CHAR(10),IFERROR(#REF!,\"\"))","v":"Trimestre 1\n"},{"$f":"_xlfn.CONCAT(\"Trimestre 1\",CHAR(10),IFERROR(#REF!,\"\"))","v":"Trimestre 1\n"},{"$f":"_xlfn.CONCAT(\"Trimestre 1\",CHAR(10),IFERROR(#REF!,\"\"))","v":"Trimestre 1\n"},{"$f":"_xlfn.CONCAT(\"Trimestre 1\",CHAR(10),IFERROR(#REF!,\"\"))","v":"Trimestre 1\n"}]
[null,null,null,null,null,null,null,null,null,null,null,null,null,null,null,null,null,null,null,null,null,null,null,null,null,{"$f":"IFERROR(#REF!,\" \")","v":" "},{"$f":"IFERROR(#REF!,\"\")","v":""},{"$f":"IFERROR(#REF!,\"\")","v":""},"","",{"$f":"IFERROR(#REF!,\"\")","v":""},"",{"$f":"IFERROR(#REF!,\"\")","v":""},{"$f":"IFERROR(#REF!,\"\")","v":""},{"$f":"_xlfn.CONCAT(\"Trimestre 1\",CHAR(10),IFERROR(#REF!,\"\"))","v":"Trimestre 1\n"},{"$f":"_xlfn.CONCAT(\"Trimestre 1\",CHAR(10),IFERROR(#REF!,\"\"))","v":"Trimestre 1\n"},{"$f":"_xlfn.CONCAT(\"Trimestre 1\",CHAR(10),IFERROR(#REF!,\"\"))","v":"Trimestre 1\n"},{"$f":"_xlfn.CONCAT(\"Trimestre 1\",CHAR(10),IFERROR(#REF!,\"\"))","v":"Trimestre 1\n"},{"$f":"_xlfn.CONCAT(\"Trimestre 1\",CHAR(10),IFERROR(#REF!,\"\"))","v":"Trimestre 1\n"}]
[null,null,null,null,null,null,null,null,null,null,null,null,null,null,null,null,null,null,null,null,null,null,null,null,null,{"$f":"IFERROR(#REF!,\" \")","v":" "},{"$f":"IFERROR(#REF!,\"\")","v":""},{"$f":"IFERROR(#REF!,\"\")","v":""},"","",{"$f":"IFERROR(#REF!,\"\")","v":""},"",{"$f":"IFERROR(#REF!,\"\")","v":""},{"$f":"IFERROR(#REF!,\"\")","v":""},{"$f":"_xlfn.CONCAT(\"Trimestre 1\",CHAR(10),IFERROR(#REF!,\"\"))","v":"Trimestre 1\n"},{"$f":"_xlfn.CONCAT(\"Trimestre 1\",CHAR(10),IFERROR(#REF!,\"\"))","v":"Trimestre 1\n"},{"$f":"_xlfn.CONCAT(\"Trimestre 1\",CHAR(10),IFERROR(#REF!,\"\"))","v":"Trimestre 1\n"},{"$f":"_xlfn.CONCAT(\"Trimestre 1\",CHAR(10),IFERROR(#REF!,\"\"))","v":"Trimestre 1\n"},{"$f":"_xlfn.CONCAT(\"Trimestre 1\",CHAR(10),IFERROR(#REF!,\"\"))","v":"Trimestre 1\n"}]
[null,null,"2. Definir e implementar el modelo optimizado de formulación, seguimiento y evaluación de la política pública judicial.",null,null,null,null,null,null,null,null,null,null,null,null,null,null,null,null,null,null,null,null,null,null,{"$f":"IFERROR(#REF!,\" \")","v":" "},{"$f":"IFERROR(#REF!,\"\")","v":""},{"$f":"IFERROR(#REF!,\"\")","v":""},"","",{"$f":"IFERROR(#REF!,\"\")","v":""},"",{"$f":"IFERROR(#REF!,\"\")","v":""},{"$f":"IFERROR(#REF!,\"\")","v":""},{"$f":"_xlfn.CONCAT(\"Trimestre 1\",CHAR(10),IFERROR(#REF!,\"\"))","v":"Trimestre 1\n"},{"$f":"_xlfn.CONCAT(\"Trimestre 1\",CHAR(10),IFERROR(#REF!,\"\"))","v":"Trimestre 1\n"},{"$f":"_xlfn.CONCAT(\"Trimestre 1\",CHAR(10),IFERROR(#REF!,\"\"))","v":"Trimestre 1\n"},{"$f":"_xlfn.CONCAT(\"Trimestre 1\",CHAR(10),IFERROR(#REF!,\"\"))","v":"Trimestre 1\n"},{"$f":"_xlfn.CONCAT(\"Trimestre 1\",CHAR(10),IFERROR(#REF!,\"\"))","v":"Trimestre 1\n"}]
[null,null,null,null,null,null,null,null,null,null,null,null,null,null,null,null,null,null,null,null,null,null,null,null,null,{"$f":"IFERROR(#REF!,\" \")","v":" "},{"$f":"IFERROR(#REF!,\"\")","v":""},{"$f":"IFERROR(#REF!,\"\")","v":""},"","",{"$f":"IFERROR(#REF!,\"\")","v":""},"",{"$f":"IFERROR(#REF!,\"\")","v":""},{"$f":"IFERROR(#REF!,\"\")","v":""},{"$f":"_xlfn.CONCAT(\"Trimestre 1\",CHAR(10),IFERROR(#REF!,\"\"))","v":"Trimestre 1\n"},{"$f":"_xlfn.CONCAT(\"Trimestre 1\",CHAR(10),IFERROR(#REF!,\"\"))","v":"Trimestre 1\n"},{"$f":"_xlfn.CONCAT(\"Trimestre 1\",CHAR(10),IFERROR(#REF!,\"\"))","v":"Trimestre 1\n"},{"$f":"_xlfn.CONCAT(\"Trimestre 1\",CHAR(10),IFERROR(#REF!,\"\"))","v":"Trimestre 1\n"},{"$f":"_xlfn.CONCAT(\"Trimestre 1\",CHAR(10),IFERROR(#REF!,\"\"))","v":"Trimestre 1\n"}]
[null,null,null,null,null,null,null,null,null,null,null,null,null,null,null,null,null,null,null,null,null,null,null,null,null,{"$f":"IFERROR(#REF!,\" \")","v":" "},{"$f":"IFERROR(#REF!,\"\")","v":""},{"$f":"IFERROR(#REF!,\"\")","v":""},null,null,{"$f":"IFERROR(#REF!,\"\")","v":""},null,{"$f":"IFERROR(#REF!,\"\")","v":""},{"$f":"IFERROR(#REF!,\"\")","v":""},{"$f":"_xlfn.CONCAT(\"Trimestre 1\",CHAR(10),IFERROR(#REF!,\"\"))","v":"Trimestre 1\n"},{"$f":"_xlfn.CONCAT(\"Trimestre 1\",CHAR(10),IFERROR(#REF!,\"\"))","v":"Trimestre 1\n"},{"$f":"_xlfn.CONCAT(\"Trimestre 1\",CHAR(10),IFERROR(#REF!,\"\"))","v":"Trimestre 1\n"},{"$f":"_xlfn.CONCAT(\"Trimestre 1\",CHAR(10),IFERROR(#REF!,\"\"))","v":"Trimestre 1\n"},{"$f":"_xlfn.CONCAT(\"Trimestre 1\",CHAR(10),IFERROR(#REF!,\"\"))","v":"Trimestre 1\n"}]
[null,null,null,null,null,null,null,null,null,null,null,null,null,null,null,null,null,null,null,null,null,null,null,null,null,{"$f":"IFERROR(#REF!,\" \")","v":" "},{"$f":"IFERROR(#REF!,\"\")","v":""},{"$f":"IFERROR(#REF!,\"\")","v":""},null,null,{"$f":"IFERROR(#REF!,\"\")","v":""},null,{"$f":"IFERROR(#REF!,\"\")","v":""},{"$f":"IFERROR(#REF!,\"\")","v":""},{"$f":"_xlfn.CONCAT(\"Trimestre 1\",CHAR(10),IFERROR(#REF!,\"\"))","v":"Trimestre 1\n"},{"$f":"_xlfn.CONCAT(\"Trimestre 1\",CHAR(10),IFERROR(#REF!,\"\"))","v":"Trimestre 1\n"},{"$f":"_xlfn.CONCAT(\"Trimestre 1\",CHAR(10),IFERROR(#REF!,\"\"))","v":"Trimestre 1\n"},{"$f":"_xlfn.CONCAT(\"Trimestre 1\",CHAR(10),IFERROR(#REF!,\"\"))","v":"Trimestre 1\n"},{"$f":"_xlfn.CONCAT(\"Trimestre 1\",CHAR(10),IFERROR(#REF!,\"\"))","v":"Trimestre 1\n"}]
[null,null,null,null,null,null,null,null,null,null,null,null,null,null,null,null,null,null,null,null,null,null,null,null,null,{"$f":"IFERROR(#REF!,\" \")","v":" "},{"$f":"IFERROR(#REF!,\"\")","v":""},{"$f":"IFERROR(#REF!,\"\")","v":""},null,null,{"$f":"IFERROR(#REF!,\"\")","v":""},null,{"$f":"IFERROR(#REF!,\"\")","v":""},{"$f":"IFERROR(#REF!,\"\")","v":""},{"$f":"_xlfn.CONCAT(\"Trimestre 1\",CHAR(10),IFERROR(#REF!,\"\"))","v":"Trimestre 1\n"},{"$f":"_xlfn.CONCAT(\"Trimestre 1\",CHAR(10),IFERROR(#REF!,\"\"))","v":"Trimestre 1\n"},{"$f":"_xlfn.CONCAT(\"Trimestre 1\",CHAR(10),IFERROR(#REF!,\"\"))","v":"Trimestre 1\n"},{"$f":"_xlfn.CONCAT(\"Trimestre 1\",CHAR(10),IFERROR(#REF!,\"\"))","v":"Trimestre 1\n"},{"$f":"_xlfn.CONCAT(\"Trimestre 1\",CHAR(10),IFERROR(#REF!,\"\"))","v":"Trimestre 1\n"}]
[null,null,null,null,null,null,null,null,null,null,null,null,null,null,null,null,null,null,null,null,null,null,null,null,null,{"$f":"IFERROR(#REF!,\" \")","v":" "},{"$f":"IFERROR(#REF!,\"\")","v":""},{"$f":"IFERROR(#REF!,\"\")","v":""},null,null,{"$f":"IFERROR(#REF!,\"\")","v":""},null,{"$f":"IFERROR(#REF!,\"\")","v":""},{"$f":"IFERROR(#REF!,\"\")","v":""},{"$f":"_xlfn.CONCAT(\"Trimestre 1\",CHAR(10),IFERROR(#REF!,\"\"))","v":"Trimestre 1\n"},{"$f":"_xlfn.CONCAT(\"Trimestre 1\",CHAR(10),IFERROR(#REF!,\"\"))","v":"Trimestre 1\n"},{"$f":"_xlfn.CONCAT(\"Trimestre 1\",CHAR(10),IFERROR(#REF!,\"\"))","v":"Trimestre 1\n"},{"$f":"_xlfn.CONCAT(\"Trimestre 1\",CHAR(10),IFERROR(#REF!,\"\"))","v":"Trimestre 1\n"},{"$f":"_xlfn.CONCAT(\"Trimestre 1\",CHAR(10),IFERROR(#REF!,\"\"))","v":"Trimestre 1\n"}]
[null,null,null,null,null,null,null,null,null,null,null,null,null,null,null,null,null,null,null,null,null,null,null,null,null,{"$f":"IFERROR(#REF!,\" \")","v":" "},{"$f":"IFERROR(#REF!,\"\")","v":""},{"$f":"IFERROR(#REF!,\"\")","v":""},null,null,{"$f":"IFERROR(#REF!,\"\")","v":""},null,{"$f":"IFERROR(#REF!,\"\")","v":""},{"$f":"IFERROR(#REF!,\"\")","v":""},{"$f":"_xlfn.CONCAT(\"Trimestre 1\",CHAR(10),IFERROR(#REF!,\"\"))","v":"Trimestre 1\n"},{"$f":"_xlfn.CONCAT(\"Trimestre 1\",CHAR(10),IFERROR(#REF!,\"\"))","v":"Trimestre 1\n"},{"$f":"_xlfn.CONCAT(\"Trimestre 1\",CHAR(10),IFERROR(#REF!,\"\"))","v":"Trimestre 1\n"},{"$f":"_xlfn.CONCAT(\"Trimestre 1\",CHAR(10),IFERROR(#REF!,\"\"))","v":"Trimestre 1\n"},{"$f":"_xlfn.CONCAT(\"Trimestre 1\",CHAR(10),IFERROR(#REF!,\"\"))","v":"Trimestre 1\n"}]
[null,null,null,null,null,null,null,null,null,null,null,null,null,null,null,null,null,null,null,null,null,null,null,null,null,{"$f":"IFERROR(#REF!,\" \")","v":" "},{"$f":"IFERROR(#REF!,\"\")","v":""},{"$f":"IFERROR(#REF!,\"\")","v":""},"","",{"$f":"IFERROR(#REF!,\"\")","v":""},"",{"$f":"IFERROR(#REF!,\"\")","v":""},{"$f":"IFERROR(#REF!,\"\")","v":""},{"$f":"_xlfn.CONCAT(\"Trimestre 1\",CHAR(10),IFERROR(#REF!,\"\"))","v":"Trimestre 1\n"},{"$f":"_xlfn.CONCAT(\"Trimestre 1\",CHAR(10),IFERROR(#REF!,\"\"))","v":"Trimestre 1\n"},{"$f":"_xlfn.CONCAT(\"Trimestre 1\",CHAR(10),IFERROR(#REF!,\"\"))","v":"Trimestre 1\n"},{"$f":"_xlfn.CONCAT(\"Trimestre 1\",CHAR(10),IFERROR(#REF!,\"\"))","v":"Trimestre 1\n"},{"$f":"_xlfn.CONCAT(\"Trimestre 1\",CHAR(10),IFERROR(#REF!,\"\"))","v":"Trimestre 1\n"}]
[null,null,null,null,null,null,null,null,null,null,null,null,null,null,null,null,null,null,null,null,null,null,null,null,null,{"$f":"IFERROR(#REF!,\" \")","v":" "},{"$f":"IFERROR(#REF!,\"\")","v":""},{"$f":"IFERROR(#REF!,\"\")","v":""},"","",{"$f":"IFERROR(#REF!,\"\")","v":""},"",{"$f":"IFERROR(#REF!,\"\")","v":""},{"$f":"IFERROR(#REF!,\"\")","v":""},{"$f":"_xlfn.CONCAT(\"Trimestre 1\",CHAR(10),IFERROR(#REF!,\"\"))","v":"Trimestre 1\n"},{"$f":"_xlfn.CONCAT(\"Trimestre 1\",CHAR(10),IFERROR(#REF!,\"\"))","v":"Trimestre 1\n"},{"$f":"_xlfn.CONCAT(\"Trimestre 1\",CHAR(10),IFERROR(#REF!,\"\"))","v":"Trimestre 1\n"},{"$f":"_xlfn.CONCAT(\"Trimestre 1\",CHAR(10),IFERROR(#REF!,\"\"))","v":"Trimestre 1\n"},{"$f":"_xlfn.CONCAT(\"Trimestre 1\",CHAR(10),IFERROR(#REF!,\"\"))","v":"Trimestre 1\n"}]
[null,null,null,null,null,null,null,null,null,null,null,null,null,null,null,null,null,null,null,null,null,null,null,null,null,{"$f":"IFERROR(#REF!,\" \")","v":" "},{"$f":"IFERROR(#REF!,\"\")","v":""},{"$f":"IFERROR(#REF!,\"\")","v":""},"","",{"$f":"IFERROR(#REF!,\"\")","v":""},"",{"$f":"IFERROR(#REF!,\"\")","v":""},{"$f":"IFERROR(#REF!,\"\")","v":""},{"$f":"_xlfn.CONCAT(\"Trimestre 1\",CHAR(10),IFERROR(#REF!,\"\"))","v":"Trimestre 1\n"},{"$f":"_xlfn.CONCAT(\"Trimestre 1\",CHAR(10),IFERROR(#REF!,\"\"))","v":"Trimestre 1\n"},{"$f":"_xlfn.CONCAT(\"Trimestre 1\",CHAR(10),IFERROR(#REF!,\"\"))","v":"Trimestre 1\n"},{"$f":"_xlfn.CONCAT(\"Trimestre 1\",CHAR(10),IFERROR(#REF!,\"\"))","v":"Trimestre 1\n"},{"$f":"_xlfn.CONCAT(\"Trimestre 1\",CHAR(10),IFERROR(#REF!,\"\"))","v":"Trimestre 1\n"}]

{"sheet":"JURISDICCIONAL","index":10,"n_rows":29,"n_cols":16,"rows_kept":29,"cut":false,"hidden":true,"merged":[[27,0,28,0],[27,1,28,1],[27,3,28,3],[15,0,21,0],[15,1,21,1],[15,3,21,3],[22,0,26,0],[22,1,26,1],[22,3,26,3],[2,14,2,15],[4,0,8,0],[4,1,8,1],[4,3,8,3],[9,0,14,0],[9,1,14,1],[9,3,14,3],[1,2,1,13],[2,0,3,0],[2,1,3,1],[2,2,3,2],[2,3,3,3],[2,4,3,4],[2,5,2,7],[2,8,2,10],[2,11,3,11],[2,12,2,13]]}
[]
[null,null,"CONSEJO SUPERIOR DE LA JUDICATURA \nUNIDADES MISIONALES DEL CONSEJO SUPERIOR DE LA JUDICATURA - \nDIRECCIÓN EJECUTIVA DE ADMINISTRACIÓN JUDICIAL -UNIDADES MISIONALES DE LA DEAJ\nDIRECCIONES SECCIONALES DE ADMINISTRACIÓN JUDICIAL "]
["No. ","OBJETIVOS ESTRATEGICOS PLAN SECTORIAL DE DESARROLLO 2023-2026","OBJETIVOS ESPECIFICOS PLAN SECTORIAL DE DESARROLLO 2023-2026","OBJETIVOS DEL SIGCMA","DESCRIPCIÓN DE LA ACTIVIDAD (INVERSIÓN O DE GESTIÓN) ","MAPA DE PROCESO DEL SIGCMA (RELACIONE  EL PROCESO ESTRATÉGICO, MISIONAL, APOYO y EVALUACIÓN - MEJORA)",null,null,"MEDICIÓN DE LA GESTIÓN ",null,null,"RESPONSABLE POR PROYECTO O ACTIVIDAD","FECHA DEL PROYECTO/ACTIVIDAD",null,"ANÁLISIS DE RESULTADOS"]
[null,null,null,null,null,"NOMBRE DEL PROCESO","CENTRAL","SECCIONAL","ENTREGABLE","INDICADOR","DESCRIBIR EL INDICADOR",null,"INICIO \nDÍA/MES/AÑO","FIN\nDÍA/MES/AÑO","CUMPLIMIENTO DEL OBJETIVO (ACUMULADO DE LOS 4 TRIMESTRES)"," ANÁLISIS RESULTADO\nFINAL - ACUMULADO"]
[1,"Acceso a Infraestructura Física"," 1. Ampliar el acceso a justicia para atender las necesidades jurídicas de los \nciudadanos con un enfoque diferencial, de una manera pronta, reduciendo las \ninequidades y las brechas territoriales de acceso.","\n2. Asegurar  el cumplimiento de los objetivos institucionales, la normatividad aplicable,  la mejora del SIGCMA y la satisfacción de los usuarios, revisando de  forma continua y sistemática la planificación de la gestión y fortaleciendo la administración de riesgos y sus controles. (1,2,3 y 5)\n\n4. Hacer un uso racional de los recursos naturales aplicando los principios y fases de la Economía Circular, para prevenir, mitigar y controlar los impactos ambientales. (4)\n\n"]
[null,null,"2. Mejorar los tiempos de respuesta de la Rama Judicial y reducir el inventario de \nprocesos, identificando los retos internos y promoviendo tanto acciones articuladas\nespecíficas para abordarlos como estrategias coordinadas para enfrentar las \nbarreras que dependen de otras entidades."]
[null,null,"3. Coadyuvar en la garantía de la idoneidad en el ejercicio de la profesión jurídica de acuerdo con lo establecido en la Ley 1905 de 2018"]
[null,null,"4. Avanzar en la disposición de una infraestructura óptima para el acceso a la justicia en la Rama Judicial de modo que se fortalezca la presencia territorial, teniendo en cuenta las posibilidades que ofrece la transformación digital y las necesidades que se derivan de ella, y considerando tanto las necesidades de los usuarios como las de los servidores judiciales."]
[null,null,"5. Impulsar el uso de mecanismos alternativos para la solución de conflictos y la \nampliación de la justicia restaurativa y terapéutica y el robustecimiento de las alternativas al encarcelamiento"]
[2,"Servicios digitales y de tecnología, innovación y análisis de la información","1. Ampliar el acceso a la justicia a través de la consolidación del uso de los servicios \ndigitales que conforman el sistema único integrado de gestión judicial en todos los \ndespachos judiciales y dependencias de apoyo y, específicamente, incluyendo el \ndespliegue e implementación del Expediente Judicial Electrónico en todas las \njurisdicciones y especialidades.","6. Proteger, preservar y administrar los activos de información  implementando acciones  para gestionar de forma adecuada los incidentes  , proteger los datos personales y adoptar mecanismos  de ciberseguridad y aseguramiento de la  continuidad del negocio (1, 2, 3, 4, 5 y 6)"]
[null,null,"2. Integrar y hacer compatibles todos los aplicativos de transición con SIUGJ, para que la migración de los expedientes judiciales a dicha plataforma sea real y no suponga afectaciones en la prestación del servicio de justicia."]
[null,null,"\n3. Fortalecer las capacidades institucionales, adecuar el modelo operativo y de \nservicio, bajo un enfoque de Arquitectura Empresarial y de fortalecimiento del \nacceso a la justicia."]
[null,null,"\n4.Consolidar la cultura y apropiación de la transformación digital en los servidores y \nusuarios de los servicios de la Rama Judicial y reducir brechas de acceso y conocimiento, incluyendo la oferta efectiva de información sobre el uso de las nuevas herramientas virtuales implementadas en las diferentes jurisdicciones, con especial énfasis en las zonas del país donde es evidente la brecha digital."]
[null,null,"\n5.Consolidar la infraestructura y los recursos necesarios para la implementación exitosa de la transformación digital, incluyendo la disposición de internet de calidad en el 100% de las sedes en la Rama Judicial y modernizar los servicios tecnológicos de soporte. "]
[null,null,"\n6.Integrar y optimizar los servicios administrativos de la Rama Judicial bajo un enfoque de transformación digital e innovación incluyendo los componentes financiero, administrativo, talento humano, entre otros"]
[3,"Confianza pública, transparencia y rendición de cuentas","1. Incrementar la cantidad, la calidad y pertinencia de los datos sobre el funcionamiento del servicio de justicia bajo un modelo de gobierno de datos y un liderazgo unificado. \n","1. Gestionar el desarrollo de las competencias, la toma de conciencia , la cultura  organizacional  y el compromiso de los  servidores judiciales, contratistas, practicantes y  judicantes de contribuir a generar valor público en la administración de justicia, en el marco de  cumplimiento de los requisitos  aplicables y el comportamiento ético. (3 y 7)\n\n3. Fomentar la transparencia y la participación generando lineamientos y promoviendo la rendición de cuentas ,la consulta, reporte y planteamiento de inquietudes en relación con las decisiones y aspectos del SIGCMA. (3, 4, 5 y 6)\n\n4. Hacer un uso racional de los recursos naturales aplicando los principios y fases de la Economía Circular, para prevenir, mitigar y controlar los impactos ambientales. (1 y 7)\n"]
[null,null,"2. Consolidar la administración de la información entendida como todas las acciones \norientadas a garantizar el acceso, consulta, uso y conservación de la información \nde justicia de manera ágil, flexible e inteligente, bajo un enfoque de innovación."]
[null,null,"3. Fortalecer el Sistema integrado de Gestión de la Rama, orientado a la implementación y certificación de las normas antisoborno."]
[null,null,"4. Aumentar la confianza, la cercanía y acceso a los servicios de la Rama Judicial a \ntravés, entre otros, de una comunicación clara y asertiva con la ciudadanía."]
[null,null,"5. Prevenir fenómenos asociados con actos de corrupción en la Rama Judicial y \nreducir las experiencias de corrupción de usuarios y servidores judiciales."]
[null,null,"6. Promover la rendición de cuentas y la colaboración real con la ciudadanía como \nfundamento para diseñar acciones de mejoramiento del acceso a la justicia."]
[null,null,"7. Continuar la consolidación del SIGCMA, a través de los procesos de formación en \nmodelos de gestión, logrando la implementación y ampliación de este en los esquemas certificados de manera gradual, teniendo en cuenta las capacidades de los diferentes despachos judiciales y dependencias de la Rama Judicial y articulando el enfoque de Arquitectura Empresarial para el desarrollo del PETD a través de la gestión del conocimiento para la gestión del cambio propendiendo por una cultura de la calidad, la transparencia, la rendición de cuentas, la anticorrupción y el antisoborno"]
[4,"Talento Humano","1. Ampliar la cobertura de la carrera judicial optimizando los procesos de los concursos de méritos y propender por mitigar su litigiosidad.","1. Gestionar el desarrollo de las competencias, la toma de conciencia , la cultura  organizacional  y el compromiso de los  servidores judiciales, contratistas, practicantes y  judicantes de contribuir a generar valor público en la administración de justicia, en el marco de  cumplimiento de los requisitos  aplicables y el comportamiento ético. (1, 2, 3 y 4)\n\n5. Generar espacios de trabajo seguros y saludables que contribuyan a minimizar los  incidentes, accidentes y enfermedades laborales derivados de las condiciones y actos  inseguros y fomentar  el autocuidado, los  estilos de vida y el trabajo saludable en los servidores judiciales, contratistas, judicantes y practicantes. (5)\n"]
[null,null,"2. Impactar la función y servicios que presta la Rama Judicial, a través de una\nformación integral desde una visión de gestión del conocimiento, relacionada con \nlos problemas de la justicia y los problemas de gestión de quienes administran los \nrecursos de la justicia, y potenciando el uso de medios virtuales."]
[null,null,"3. Promover la incorporación de la perspectiva de género y el enfoque diferencial en \nlos fallos judiciales y en la atención a los ciudadanos, la administración de la Rama \nJudicial, la administración de la carrera judicial y la elaboración de listas para altas \nCortes. "]
[null,null,"4. Desarrollar en los servidores judiciales y demás grupos de valor relevantes las \ncompetencias necesarias para la efectividad de la transformación digital de modo \nque puedan, entre otros, utilizar con solvencia las herramientas digitales dispuestas \npara sus respectivas funciones. Además, fortalecer y actualizar los conocimientos \ndel personal a cargo de la gestión de proyectos de tecnología."]
[null,null,"5. Promover el bienestar de todos los servidores judiciales a través de la implementación de un sistema que contemple los diferentes niveles de estrategias y acciones necesarios para mejorar el clima laboral, la salud física y mental y la calidad del tiempo de descanso."]
[5,"Gobernanza, planeación estratégica y capacidad de toma de decisiones","1. Implementar un nuevo modelo integrado para la planeación estratégica, el \nseguimiento y la medición del desempeño institucional.","\n2. Asegurar  el cumplimiento de los objetivos institucionales, la normatividad aplicable,  la mejora del SIGCMA y la satisfacción de los usuarios, revisando de  forma continua y sistemática la planificación de la gestión y fortaleciendo la administración de riesgos y sus controles. (1 y 2)"]
[null,null,"2. Definir e implementar el modelo optimizado de formulación, seguimiento y \nevaluación de la política pública judicial."]