{"text_format":"1","workbook":"xlsx","n_sheets":11,"sheets":["PLAN DE ACCION CONSOLIDACION","INFO_ANÁLISIS DE CONTEXTO","INFO_ESTRATEGIAS","PLAN DE ACCION","GESTION","GESTION_SEG_1_TRIM","GESTION_SEG_2_TRIM","GESTION_SEG_3_TRIM","INVERSION","JURISDICCIONAL","GESTION_SEG_4_TRIM "],"not_rendered":{"charts":0,"images":5,"macros":1,"external_links":2,"defined_names":33,"comments":0,"pivot_tables":0},"unopened":[],"bounds":{"document_bytes":16777216,"sheet_cells":100000,"rows_first":2000,"rows_last":500,"rows_between":2000,"halvings":0,"cell_chars":16384,"cell_head_chars":4096},"cells_cut":0,"cells_raw":0,"read":"row_number_cap","date_system":"1900"}

{"sheet":"PLAN DE ACCION CONSOLIDACION","index":0,"n_rows":29,"n_cols":24,"rows_kept":29,"cut":false,"hidden":true,"merged":[[1,2,1,21],[2,0,3,0],[2,1,3,1],[2,2,3,2],[2,3,3,3],[2,4,3,4],[2,5,2,7],[2,8,2,10],[2,11,2,15],[2,16,2,18],[2,19,3,19],[2,20,2,21],[2,22,2,23],[4,0,8,0],[4,1,8,1],[4,3,8,3],[9,0,14,0],[9,1,14,1],[9,3,14,3],[27,0,28,0],[27,1,28,1],[27,3,28,3],[15,0,21,0],[15,1,21,1],[15,3,21,3],[22,0,26,0],[22,1,26,1],[22,3,26,3]]}
[]
[null,null,"CONSEJO SUPERIOR DE LA JUDICATURA \nUNIDADES MISIONALES DEL CONSEJO SUPERIOR DE LA JUDICATURA - \nDIRECCIÓN EJECUTIVA DE ADMINISTRACIÓN JUDICIAL -UNIDADES MISIONALES DE LA DEAJ\nDIRECCIONES SECCIONALES DE ADMINISTRACIÓN JUDICIAL "]
["No. ","OBJETIVOS ESTRATEGICOS PLAN SECTORIAL DE DESARROLLO 2023-2026","OBJETIVOS ESPECIFICOS PLAN SECTORIAL DE DESARROLLO 2023-2026","OBJETIVOS DEL SIGCMA","DESCRIPCIÓN DE LA ACTIVIDAD (INVERSIÓN O DE GESTIÓN) ","MAPA DE PROCESO DEL SIGCMA (RELACIONE  EL PROCESO ESTRATÉGICO, MISIONAL, APOYO y EVALUACIÓN - MEJORA)",null,null,"MEDICIÓN DE LA GESTIÓN ",null,null,"PROYECTOS DE INVERSIÓN DE ACUERDO CON LOS OBJETIVOS DEL PLAN SECTORIAL DE DESARROLLO",null,null,null,null,"MEDICIÓN (INVERSIÓN INDICADORES POAI- GESTIÓN INDICADORES",null,null,"RESPONSABLE POR PROYECTO O ACTIVIDAD","FECHA DEL PROYECTO/ACTIVIDAD",null,"ANÁLISIS DE RESULTADOS"]
[null,null,null,null,null,"NOMBRE DEL PROCESO","CENTRAL","SECCIONAL","ENTREGABLE","INDICADOR","DESCRIBIR EL INDICADOR","PROGRAMA DE INVERSIÓN","NOMBRE DEL PROYECTO DE INVERSIÓN ","CODIGO BPIN (PROYECTO)","CODIGO PRESUPUESTAL","ACTIVIDAD DE INVERSIÓN (POAI)","ENTREGABLE","INDICADOR","DESCRIBIR EL INDICADOR",null,"INICIO \nDÍA/MES/AÑO","FIN\nDÍA/MES/AÑO","CUMPLIMIENTO DEL OBJETIVO (ACUMULADO DE LOS 4 TRIMESTRES)"," ANÁLISIS RESULTADO\nFINAL - ACUMULADO"]
[1,"Acceso a Infraestructura Física"," 1. Ampliar el acceso a justicia para atender las necesidades jurídicas de los \nciudadanos con un enfoque diferencial, de una manera pronta, reduciendo las \ninequidades y las brechas territoriales de acceso.","\n2. Asegurar  el cumplimiento de los objetivos institucionales, la normatividad aplicable,  la mejora del SIGCMA y la satisfacción de los usuarios, revisando de  forma continua y sistemática la planificación de la gestión y fortaleciendo la administración de riesgos y sus controles. (1,2,3 y 5)\n\n4. Hacer un uso racional de los recursos naturales aplicando los principios y fases de la Economía Circular, para prevenir, mitigar y controlar los impactos ambientales. (4)\n\n"]
[null,null,"2. Mejorar los tiempos de respuesta de la Rama Judicial y reducir el inventario de \nprocesos, identificando los retos internos y promoviendo tanto acciones articuladas\nespecíficas para abordarlos como estrategias coordinadas para enfrentar las \nbarreras que dependen de otras entidades."]
[null,null,"3. Coadyuvar en la garantía de la idoneidad en el ejercicio de la profesión jurídica de acuerdo con lo establecido en la Ley 1905 de 2018"]
[null,null,"4. Avanzar en la disposición de una infraestructura óptima para el acceso a la justicia en la Rama Judicial de modo que se fortalezca la presencia territorial, teniendo en cuenta las posibilidades que ofrece la transformación digital y las necesidades que se derivan de ella, y considerando tanto las necesidades de los usuarios como las de los servidores judiciales."]
[null,null,"5. Impulsar el uso de mecanismos alternativos para la solución de conflictos y la \nampliación de la justicia restaurativa y terapéutica y el robustecimiento de las alternativas al encarcelamiento"]
[2,"Servicios digitales y de tecnología, innovación y análisis de la información","1. Ampliar el acceso a la justicia a través de la consolidación del uso de los servicios \ndigitales que conforman el sistema único integrado de gestión judicial en todos los \ndespachos judiciales y dependencias de apoyo y, específicamente, incluyendo el \ndespliegue e implementación del Expediente Judicial Electrónico en todas las \njurisdicciones y especialidades.","6. Proteger, preservar y administrar los activos de información  implementando acciones  para gestionar de forma adecuada los incidentes  , proteger los datos personales y adoptar mecanismos  de ciberseguridad y aseguramiento de la  continuidad del negocio (1, 2, 3, 4, 5 y 6)"]
[null,null,"2. Integrar y hacer compatibles todos los aplicativos de transición con SIUGJ, para que la migración de los expedientes judiciales a dicha plataforma sea real y no suponga afectaciones en la prestación del servicio de justicia."]
[null,null,"\n3. Fortalecer las capacidades institucionales, adecuar el modelo operativo y de \nservicio, bajo un enfoque de Arquitectura Empresarial y de fortalecimiento del \nacceso a la justicia."]
[null,null,"\n4.Consolidar la cultura y apropiación de la transformación digital en los servidores y \nusuarios de los servicios de la Rama Judicial y reducir brechas de acceso y conocimiento, incluyendo la oferta efectiva de información sobre el uso de las nuevas herramientas virtuales implementadas en las diferentes jurisdicciones, con especial énfasis en las zonas del país donde es evidente la brecha digital."]
[null,null,"\n5.Consolidar la infraestructura y los recursos necesarios para la implementación exitosa de la transformación digital, incluyendo la disposición de internet de calidad en el 100% de las sedes en la Rama Judicial y modernizar los servicios tecnológicos de soporte. "]
[null,null,"\n6.Integrar y optimizar los servicios administrativos de la Rama Judicial bajo un enfoque de transformación digital e innovación incluyendo los componentes financiero, administrativo, talento humano, entre otros"]
[3,"Confianza pública, transparencia y rendición de cuentas","1. Incrementar la cantidad, la calidad y pertinencia de los datos sobre el funcionamiento del servicio de justicia bajo un modelo de gobierno de datos y un liderazgo unificado. \n","1. Gestionar el desarrollo de las competencias, la toma de conciencia , la cultura  organizacional  y el compromiso de los  servidores judiciales, contratistas, practicantes y  judicantes de contribuir a generar valor público en la administración de justicia, en el marco de  cumplimiento de los requisitos  aplicables y el comportamiento ético. (3 y 7)\n\n3. Fomentar la transparencia y la participación generando lineamientos y promoviendo la rendición de cuentas ,la consulta, reporte y planteamiento de inquietudes en relación con las decisiones y aspectos del SIGCMA. (3, 4, 5 y 6)\n\n4. Hacer un uso racional de los recursos naturales aplicando los principios y fases de la Economía Circular, para prevenir, mitigar y controlar los impactos ambientales. (1 y 7)\n"]
[null,null,"2. Consolidar la administración de la información entendida como todas las acciones \norientadas a garantizar el acceso, consulta, uso y conservación de la información \nde justicia de manera ágil, flexible e inteligente, bajo un enfoque de innovación."]
[null,null,"3. Fortalecer el Sistema integrado de Gestión de la Rama, orientado a la implementación y certificación de las normas antisoborno."]
[null,null,"4. Aumentar la confianza, la cercanía y acceso a los servicios de la Rama Judicial a \ntravés, entre otros, de una comunicación clara y asertiva con la ciudadanía."]
[null,null,"5. Prevenir fenómenos asociados con actos de corrupción en la Rama Judicial y \nreducir las experiencias de corrupción de usuarios y servidores judiciales."]
[null,null,"6. Promover la rendición de cuentas y la colaboración real con la ciudadanía como \nfundamento para diseñar acciones de mejoramiento del acceso a la justicia."]
[null,null,"7. Continuar la consolidación del SIGCMA, a través de los procesos de formación en \nmodelos de gestión, logrando la implementación y ampliación de este en los esquemas certificados de manera gradual, teniendo en cuenta las capacidades de los diferentes despachos judiciales y dependencias de la Rama Judicial y articulando el enfoque de Arquitectura Empresarial para el desarrollo del PETD a través de la gestión del conocimiento para la gestión del cambio propendiendo por una cultura de la calidad, la transparencia, la rendición de cuentas, la anticorrupción y el antisoborno"]
[4,"Talento Humano","1. Ampliar la cobertura de la carrera judicial optimizando los procesos de los concursos de méritos y propender por mitigar su litigiosidad.","1. Gestionar el desarrollo de las competencias, la toma de conciencia , la cultura  organizacional  y el compromiso de los  servidores judiciales, contratistas, practicantes y  judicantes de contribuir a generar valor público en la administración de justicia, en el marco de  cumplimiento de los requisitos  aplicables y el comportamiento ético. (1, 2, 3 y 4)\n\n5. Generar espacios de trabajo seguros y saludables que contribuyan a minimizar los  incidentes, accidentes y enfermedades laborales derivados de las condiciones y actos  inseguros y fomentar  el autocuidado, los  estilos de vida y el trabajo saludable en los servidores judiciales, contratistas, judicantes y practicantes. (5)\n"]
[null,null,"2. Impactar la función y servicios que presta la Rama Judicial, a través de una\nformación integral desde una visión de gestión del conocimiento, relacionada con \nlos problemas de la justicia y los problemas de gestión de quienes administran los \nrecursos de la justicia, y potenciando el uso de medios virtuales."]
[null,null,"3. Promover la incorporación de la perspectiva de género y el enfoque diferencial en \nlos fallos judiciales y en la atención a los ciudadanos, la administración de la Rama \nJudicial, la administración de la carrera judicial y la elaboración de listas para altas \nCortes. "]
[null,null,"4. Desarrollar en los servidores judiciales y demás grupos de valor relevantes las \ncompetencias necesarias para la efectividad de la transformación digital de modo \nque puedan, entre otros, utilizar con solvencia las herramientas digitales dispuestas \npara sus respectivas funciones. Además, fortalecer y actualizar los conocimientos \ndel personal a cargo de la gestión de proyectos de tecnología."]
[null,null,"5. Promover el bienestar de todos los servidores judiciales a través de la implementación de un sistema que contemple los diferentes niveles de estrategias y acciones necesarios para mejorar el clima laboral, la salud física y mental y la calidad del tiempo de descanso."]
[5,"Gobernanza, planeación estratégica y capacidad de toma de decisiones","1. Implementar un nuevo modelo integrado para la planeación estratégica, el \nseguimiento y la medición del desempeño institucional.","\n2. Asegurar  el cumplimiento de los objetivos institucionales, la normatividad aplicable,  la mejora del SIGCMA y la satisfacción de los usuarios, revisando de  forma continua y sistemática la planificación de la gestión y fortaleciendo la administración de riesgos y sus controles. (1 y 2)"]
[null,null,"2. Definir e implementar el modelo optimizado de formulación, seguimiento y \nevaluación de la política pública judicial."]

{"sheet":"INFO_ANÁLISIS DE CONTEXTO","index":1,"n_rows":81,"n_cols":10,"rows_kept":81,"cut":false,"hidden":false,"merged":[[51,0,60,0],[31,0,37,0],[38,0,41,0],[42,0,47,0],[48,0,50,0],[0,1,0,3],[29,0,29,4],[1,1,1,2],[3,1,3,4],[5,0,6,0],[5,1,5,2],[5,3,5,4],[6,1,6,2],[6,3,6,4],[27,0,28,0],[8,0,8,4],[10,0,11,0],[12,0,14,0],[15,0,21,0],[22,0,25,0],[64,0,65,0],[66,0,67,0],[68,0,75,0],[61,0,63,0],[76,0,80,0]]}
[null,"ANÁLISIS DE CONTEXTO"]
["CONSEJO SECCIONAL/DIRECCIÓN SECCIONAL DE ADMINISTRACIÓN JUDICIAL Y/O DISTRITO JUDICIAL SEGÚN SEA EL CASO","CONSEJO SECCIONAL DE LA JUDICATURA DEL CHOCÓ - COORDINACIÓN ADMINISTRATIVA DE QUIBDÓ",null,"PROCESO ","Gestion de la Informmacion estadistica-Registro y control de abogados y auxiliares de la Justicia- Administración de la Carrera- Reordenamiento Judicial- Planeacion Estrategica -Comunicación Institucional- Administracion de la Seguridad-Asistencia Legal-mejoramiento de la Infraestructura física-Gestión Tecnológica-Gestión documental- Gestión de la Formación Judicial-Gestión de Seguridad y Salud en el Trabajo - Mejoramiento del SIGCMA- Gestión y Control interno y auditoria "]
[]
["DEPENDENCIA ADMINISTRATIVA O JUDICIAL CERTIFICADA ","ADMIISTRATIVA "]
[]
["OBJETIVO DEL PROCESO","MAPA DE PROCESOS CONSEJO SUPERIOR DE LA JUDICATURA",null,"PROCESOS DEPENDENCIA JUDICIALES CERTIFICADAS"]
[null,"VER OBJETIVOS DE LAS CARACTERIZACIONES",null,"N/A"]
[]
["CONTEXTO EXTERNO "]
["FACTORES TEMÁTICOS","No.","AMENAZAS (Factores específicos) ","No. ","OPORTUNIDADES (Factores específicos) "]
["Político (cambios de gobierno, legislación, políticas públicas, regulación)",1,"Cambios de gerentes públicos",1,"Ley 2213 de 2022, por medio de la cual se establece la vigencia permanente del Decreto Legislativo 806 de 2020 y se adoptan medidas para implementar las tecnologías de la información y las comunicaciones en las actuaciones judiciales, agilizar los procesos judiciales y flexibilizar la atención a los usuarios del servicio de justicia y se dictan otras disposiciones"]
[null,2,"Cambio de Normatividad y Regulaciones Expedidas por el Gobierno Nacional o el Congreso de la Republica que afecten la administración de Justicia."]
["Económicos y Financieros (disponibilidad de capital, liquidez, mercados financieros, desempleo, competencia)",3,"Presupuesto insuficiente asignado para  la vigencia 2023 de la Rama Judicial",2,"Incremento del PIB que potencialice el crecimiento económico del país y viabilice la asignación suficiente de recursos para la Rama Judicial "]
[null,4,"No contar con el PAC oportunamente para la ejecución de proyectos de inversión"]
[null,5,"Numero deficiente de proveedores inscritos en la plataforma de Colombia Compra Eficiente, para suplir las necesidades de adquisición de bienes y servicios "]
["Sociales  y culturales (cultura, religión, demografía, responsabilidad social, orden público)",6,"Interrupción del servicio público de Administrar Justicia a causa del conflicto armado de la región.",3,"Incremento de la credibilidad y confianza en la administración de justicia al implementar y certificar sus Sistemas de Gestión. \n\n"]
[null,7,"Interrupción del servicio público de Administrar Justicia a causa del pandemias y sus variantes.",4,"Visibilizacion de la Administración de Justicia  entre los actores no formales de la justicia (Grupos y minorías Indígenas, género)"]
[null,8,"Interrupción del servicio público de Administrar Justicia por razones de orden público"]
[null,9,"Limitaciones en  la movilidad asociados a factores del orden público "]
[null,10,"Aumento de la demanda de Justicia a causa de la problemática social y/u otros factores"]
[null,11,"Amenazas a servidores judiciales en razón al ejercicio de sus funciones."]
[null,12,"Afectaciones a la infraestructura física de las sedes Judiciales y Administrativas "]
["Tecnológicos (desarrollo digital, avances en tecnología, acceso a sistemas de información externos, gobierno en línea)",13,"Perdida o hackeo de información derivada de ataques cibernéticos",5,"Marco regulatorio del  MINTICs, para la gobernanza, gobernabilidad y transformación digital"]
[null,14,"Indisponibilidad y/o colapso de la infraestructura tecnológica ",6,"Desarrollo de alianzas estratégicas para el fortalecimiento del servicio público de administración de justicia, a través de las TICs"]
[null,15,"Afectación de la prestación del servicio de conectividad ",7,"Generar espacios donde se realicen acuerdo interinstitucionales para poder consultar información que beneficie a la administración de justicia"]
[null,16,"Ausencia de portal único de información del Estado (Ramas del poder, órganos autónomos y demás entes especiales), que garantice la consulta de información en línea de toda la información oficial. Gobierno en Línea)"]
["Legales y reglamentarios (estándares nacionales, internacionales, regulación)",17,"Normas expedidas que afecten el desarrollo de las etapas propias de los procesos",8,"Actualización del marco normativo que afecte de manera directa o indirecta la función pública de administrar justicia."]
["Ambientales (emisiones y residuos, energía, catástrofes naturales, desarrollo sostenible)",18,"Fenómenos naturales (Inundación, quema de bosques, sismo, vendavales, epidemias y plagas)"]
[null,19,"Aumento de los impactos ambientales negativos por pandemias"]
["CONTEXTO INTERNO "]
["FACTORES TEMÁTICOS","No.","DEBILIDADES  (Factores específicos)  ","No. ","FORTALEZAS(Factores específicos)"]
["Estratégicos (direccionamiento estratégico, planeación institucional, liderazgo, trabajo en equipo)",1,"No realización oportuna del plan de acción, matriz de riesgos y demás documentos del SIGCMA, con su seguimiento correspondiente en los periodos establecidos,  conforme a los lineamientos emitidos desde el despacho de la Magistrada Líder del SIGCMA y la Coordinación Nacional del SIGCMA",1,"Contar con el Plan Sectorial de Desarrollo de la Rama Judicial"]
[null,2,"Falta de socialización de estrategias con las dependencias para fomentar el trabajo colaborativo para la implementación del Plan Estratégico de Transformación Digital (PETD) de la Rama Judicial ",2,"Socialización de buenas prácticas de la gestión judicial en el contexto internacional a través de la CICAJ o eventos de Cumbre"]
[null,null,null,3,"Mantenimiento y ampliación de SIGCMA en los esquemas que se encuentra certificados la Rama Judicial"]
[null,null,null,4,"Definición de roles y responsabilidades de los  líderes de proceso para el funcionamiento del SIGCMA"]
[null,null,null,5,"Contar con la Norma Técnica de Calidad Actualizada NTC 6256:2021 y GTC 286 2021"]
[null,null,null,6,"El compromiso de la Alta Dirección y de los líderes de proceso para ampliar, mantener y mejorar el SIGCMA"]
[null,null,null,7,"Encuentro nacional e internacional del SIGCMA"]
["Recursos financieros (presupuesto de funcionamiento, recursos de inversión",3,"Recursos insuficientes para atender el Plan de necesidades formulado",8,"Presupuesto asignado para el desarrollo de proyecto de inversión del SIGCMA"]
[null,null,null,9,"Conocimiento de la reglamentación que establece el procedimiento para el manejo de los recursos presupuestales, financieros y de contratación estatal"]
[null,null,null,10,"Estandarización de procesos y procedimientos para el desarrollo del proceso contractual"]
[null,null,null,11,"Manual de contratación actualizado"]
["Personal (competencia del personal, disponibilidad, suficiencia, seguridad y salud  en el trabajo)",4,"No contar con el recurso humano suficiente y necesario para responder a la demanda de Justicia",12,"Personal integrado por servidores judiciales de alto nivel profesional y capacitado para llevar a cabo las funciones asignadas"]
[null,5,"Servidores Judiciales con comorbilidades y/o enfermedades laborales"]
[null,6,"Extensión en los horarios laborales de trabajo en casa y presencial, que afecta el bienestar físico, mental y emocional en los servidores judiciales y su entorno familiar",13,"Desarrollo y fortalecimiento de competencias de los servidores judiciales en modelos de gestión"]
[null,7,"Carencia  de manuales  de funciones y procedimientos  para los servidores Judiciales ",14,"Mejor prestación del servicio de administración de justicia debido a la implementación de buenas practicas en bioseguridad definidos por la Rama Judicial"]
[null,8,"Debilidad en los procesos de inducción y reinducción de los servidores judiciales",15,"Fortalecimiento de los concursos de méritos para ingreso de la Rama Judicial"]
[null,9,"Debilidad para el fortalecimiento de competencias propias en el desarrollo de las actividades asignadas",16,"El desarrollo de competencia a través de procesos de sensibilización, capacitación y formación en modelo de gestión para el desarrollo de competencias de los servidores judiciales."]
["Proceso (capacidad, diseño, ejecución, proveedores, entradas, salidas, gestión del conocimiento)",10,"Resistencia por parte de algunos servidores judiciales a implementar la gestión de conocimiento para la gestión del cambio en lo relativo al SIGCMA, a modelos de gestión, implementación de PETD, ambiental, seguridad y salud en el trabajo, seguridad de la información, normas antisoborno, normas de bioseguridad, entre otras.  ",17,"Actualización de la plataforma estratégica para responder a los cambios normativos y legales"]
[null,11,"Falta de tiempo para acceder a la formación de  interés, tales como: Sensibilizaciones, cursos, talleres,  capacitaciones, diplomados, entre otros",18,"Aplicabilidad de la Gestión del conocimiento generada por las experiencias de los servidores judiciales documentada en instructivos y guías\n"]
[null,12,"Debilidad en la retroalimentación de la evaluación  realizada a los proveedores y contratistas del producto o servicio entregado",19,"Fortalecimiento en los procesos de contratación por el uso adecuado del SECOP II"]
["Tecnológicos ",13,"Debilidad de la plataforma tecnológica a nivel nacional de  software y hardware en las sedes administrativas y judiciales",20,"Accesibilidad a nuevas herramientas virtuales, que facilitan el acceso a la información, la optimización del tiempo y contribuyen a la disminución de los consumos de papel"]
[null,14,"Falta de apropiación y aplicación del conocimiento y de las buenas prácticas en los avances tecnológicos",21,"Capacitación para el uso de herramientas tecnológicas  "]
[null,15,"Limitación en formación en tecnologías de la información y la comunicación aplicadas al desarrollo de la gestión Judicial estableciendo las diferencias entre: Transformación digital, digitalización, expediente digital y estrategias para la digitalización"]
[null,16,"Fallas de conectividad para la realización de las actividades propias del proceso."]
[null,17,"Falta de cobertura tecnológica en las sedes judiciales "]
[null,18,"Falencias en la articulación con los modelos gobernanza de Tecnologías de la Información (TI) en la entidad"]
[null,19,"Carencia del software de gestión para el manejo integral de la información."]
[null,20,"Falta de  comunicación asertiva entre los diferentes actores para la articulación de proyectos tecnológicos"]
[null,21,"Debilidad en la generación de estrategias articuladas para la digitalización entre los proveedores y las dependencias Judiciales y Administrativas"]
[null,22,"Deficiencia en el  mantenimiento de la pagina web de la Rama Judicial"]
["Documentación (actualización, coherencia, aplicabilidad) ",23,"Los documentos actuales no están alineados al PETD 2021-2025",22,"La estandarización de la plataforma estratégica del SIGCMA y documentos impartidos  desde la Coordinación Nacional del SIGCMA para la mejor prestación del servicio"]
[null,24,"Falta de comunicación y socialización de tablas de retención documental",23,"Micrositio de fácil acceso a los documentos propios del Sistema Integrado de Gestión y Control de la Calidad y el Medio Ambiente."]
[null,25,"Debilidad en  la estandarización de tablas de retención documental"]
["Infraestructura física (suficiencia, comodidad)",26,"Sedes Judiciales arrendadas, en comodato y propias que no cuentan con las condiciones mínimas de seguridad para los servidores judiciales, contratistas y usuarios de la justicia según la normatividad vigente",24,"Cumplimiento del plan de infraestructura de la Rama Judicial"]
[]
["Elementos de trabajo (papel, equipos, herramientas)",27,"Falta de modernización y mantenimiento del mobiliario con que cuenta la Rama Judicial",25,"Uso adecuado de los elementos de trabajo"]
[null,null,null,26,"Actualización permanente de la plataforma tecnológica de la Rama Judicial para el cumplimiento del PETD"]
["Comunicación Interna (canales utilizados y su efectividad, flujo de la información necesaria para el desarrollo de las actividades)",28,"Uso deficiente de las herramientas de comunicación establecidas en el plan de comunicaciones",27,"Elaboración y seguimiento del Plan de Comunicaciones"]
[null,29,"Desaprovechamiento de canales de comunicaciones, para generar mayor información a las partes interesadas",28,"Implementación de estrategias y mecanismos para el fortalecimiento de la atención al usuario"]
[null,null,null,29,"Fortalecimiento de la pagina web institucional y mecanismos de comunicación"]
[null,null,null,30,"Uso adecuado del micrositio asignado al Consejo Seccional de la Judicatura"]
[null,null,null,31,"Uso adecuado de los correos electrónicos"]
[null,null,null,32,"Uso adecuado del aplicativo SIGOBIUS"]
[null,null,null,33,"Fortalecimiento para el tratamiento de PQRS"]
[null,null,null,34,"Uso adecuado de la imagen corporativa y los logos en los cuales se encuentra certificada la Rama Judicial"]
["Ambientales",30,"Desconocimiento del Plan de Gestión Ambiental que aplica para la Rama Judicial Acuerdo PSAA14-10160",35,"Disminución en el uso de papel, toners y demás elementos de oficina al implementar el uso de medios tecnológicos"]
[null,31,"Ausencia de indicadores ambientales establecidos en los programas de gestión del Acuerdo PSAA14-10160",36,"Participación virtual es los espacios  de sensibilización ambiental, como el Día SIGCMA"]
[null,32,"Baja implementación en sistemas ahorradores de agua  y energía en sedes judiciales y administrativas",37,"Mantener la certificación operaciones bioseguras: Sellos de bioseguridad huella de confianza"]
[null,33,"Falta en la separación adecuada de residuos en la fuente ",38,"Formación de Auditores en modelos de gestión en los esquemas en los que se encuentran certificada la Rama Judicial.",null,null,null,null," "]
[null,34,"Desconocimiento por parte de los brigadistas, servidores judiciales y contratistas de las acciones necesarias para actuar ante una emergencia ambiental",39,"Implementación de buenas practicas tendientes a la protección del medio ambiente"]

{"sheet":"INFO_ESTRATEGIAS","index":2,"n_rows":13,"n_cols":6,"rows_kept":13,"cut":false,"hidden":false,"merged":[[1,0,1,5],[2,0,3,0],[2,1,2,4],[0,1,0,4]]}
[null,"ESTRATEGIAS"]
["ESTRATEGIAS  DOFA"]
["ESTRATEGIA/ACCIÓN/ PROYECTO","GESTIONA ",null,null,null,"DOCUMENTADA EN "]
[null,"A","O","D","F"]
["Desarrollar el plan de formación de la Escuela Judicial para el fortalecimiento de competencias de los servidores judiciales ",null,null,8.9,13.16,"Plan de acción "]
["Asistir y participar activamente en los procesos de sensibilización, capacitación y formación en los procesos SIGCMA ",null,null,11,"6,16, 36","Plan de acción "]
["Realizar seguimiento al plan de acción y realizar el reporte oportuno",null,null,1,"6, 12, 23","Plan de acción "]
["Implementar mecanismos para la retroalimentación de las  partes interesadas",16,3.4,"1, 12, 34","27,28,29,34","Plan de acción "]
["Mantener, actualizar y documentar  el Sistema Integrado de Gestión SIGCMA, en el contexto especifico","13,14,15",7,"1,10,13,16,17,19","4,6,7,8,5,10,17,1820,22,23,37","Plan de acción "]
["Solicitar apoyo al CENDOJ para realización de capacitaciones en tablas de retención documental (TRD)",null,null,"24,25,29",28,"Plan de acción "]
["Hacer uso de la información y de las herramientas tecnológicas dispuestas para la prestación del servicios",null,null,"13,14,15,16,28",20.21,"Plan de acción "]
["Motivar a los servidores judiciales en la Implementación del plan de gestión ambiental en cada sede administrativa o judicial",null,null,"30,31,32,33,34","35,36,38,39","Plan de acción "]
["Realizar identificación y cumplimiento de los requisitos legales y reglamentarios",2.17,8,1,"3,9,17","Matriz de riesgos"]

{"sheet":"PLAN DE ACCION","index":3,"n_rows":1047890,"n_cols":11,"rows_kept":4500,"cut":true,"hidden":false,"merged":[[2,1,3,1],[4,1,5,1],[2,0,3,0],[4,0,5,0],[2,2,3,2],[4,2,5,2]],"bounds":{"rows_first":2000,"rows_last":500,"rows_between":2000,"halvings":0},"read":"row_number_cap"}
[]
[]
[]
[]
[]
[]
[]
[]
[]
[]
[]
[]
[]
[]
[]
[]
[]
[]
[]
[]
[]
[]
[]
[]
[]
[]
[]
[]
[]
[]
[]
[]
[]
[]
[]
[]
[]
[]
[]
[]
[]
[]
[]
[]
[]
[]
[]
[]
[]
[]
[]
[]
[]
[]
[]
[]
[]
[]
[]
[]
[]
[]
[]
[]
[]
[]
[]
[]
[]
[]
[]
[]
[]
[]
[]
[]
[]
[]
[]
[]
[]
[]
[]
[]
[]
[]
[]
[]
[]
[]
[]
[]
[]
[]
[]
[]
[]
[]
[]
[]
[]
[]
[]
[]
[]
[]
[]
[]
[]
[]
[]
[]
[]
[]
[]
[]
[]
[]
[]
[]
[]
[]
[]
[]
[]
[]
[]
[]
[]
[]
[]
[]
[]
[]
[]
[]
[]
[]
[]
[]
[]
[]
[]
[]
[]
[]
[]
[]
[]
[]
[]
[]
[]
[]
[]
[]
[]
[]
[]
[]
[]
[]
[]
[]
[]
[]
[]
[]
[]
[]
[]
[]
[]
[]
[]
[]
[]
[]
[]
[]
[]
[]
[]
[]
[]
[]
[]
[]
[]
[]
[]
[]
[]
[]
[]
[]
[]
[]
[]
[]
[]
[]
[]
[]
[]
[]
[]
[]
[]
[]
[]
[]
[]
[]
[]
[]
[]
[]
[]
[]
[]
[]
[]
[]
[]
[]
[]
[]
[]
[]
[]
[]
[]
[]
[]
[]
[]
[]
[]
[]
[]
[]
[]
[]
[]
[]
[]
[]
[]
[]
[]
[]
[]
[]
[]
[]
[]
[]
[]
[]
[]
[]
[]
[]
[]
[]
[]
[]
[]
[]
[]
[]
[]
[]
[]
[]
[]
[]
[]
[]
[]
[]
[]
[]
[]
[]
[]
[]
[]
[]
[]
[]
[]
[]
[]
[]
[]
[]
[]
[]
[]
[]
[]
[]
[]
[]
[]
[]
[]
[]
[]
[]
[]
[]
[]
[]
[]
[]
[]
[]
[]
[]
[]
[]
[]
[]
[]
[]
[]
[]
[]
[]
[]
[]
[]
[]
[]
[]
[]
[]
[]
[]
[]
[]
[]
[]
[]
[]
[]
[]
[]
[]
[]
[]
[]
[]
[]
[]
[]
[]
[]
[]
[]
[]
[]
[]
[]
[]
[]
[]
[]
[]
[]
[]
[]
[]
[]
[]
[]
[]
[]
[]
[]
[]
[]
[]
[]
[]
[]
[]
[]
[]
[]
[]
[]
[]
[]
[]
[]
[]
[]
[]
[]
[]
[]
[]
[]
[]
[]
[]
[]
[]
[]
[]
[]
[]
[]
[]
[]
[]
[]
[]
[]
[]
[]
[]
[]
[]
[]
[]
[]
[]
[]
[]
[]
[]
[]
[]
[]
[]
[]
[]
[]
[]
[]
[]
[]
[]
[]
[]
[]
[]
[]
[]
[]
[]
[]
[]
[]
[]
[]
[]
[]
[]
[]
[]
[]
[]
[]
[]
[]
[]
[]
[]
[]
[]
[]
[]
[]
[]
[]
[]
[]
[]
[]
[]
[]
[]
[]
[]
[]
[]
[]
[]
[]
[]
[]
[]
[]
[]
[]
[]
[]
[]
[]
[]
[]
[]
[]
[]
[]
[]
[]
[]
[]
[]
[]
[]
[]
[]
[]
[]
[]
[]
[]
[]
[]
[]
[]
[]
[]
[]
[]
[]
[]
[]
[]
[]
[]
[]
[]
[]
[]
[]
[]
[]
[]
[]
[]
[]
[]
[]
[]
[]
[]
[]
[]
[]
[]
[]
[]
[]
[]
[]
[]
[]
[]
[]
[]
[]
[]
[]
[]
[]
[]
[]
[]
[]
[]
[]
[]
[]
[]
[]
[]
[]
[]
[]
[]
[]
[]
[]
[]
[]
[]
[]
[]
[]
[]
[]
[]
[]
[]
[]
[]
[]
[]
[]
[]
[]
[]
[]
[]
[]
[]
[]
[]
[]
[]
[]
[]
[]
[]
[]
[]
[]
[]
[]
[]
[]
[]
[]
[]
[]
[]
[]
[]
[]
[]
[]
[]
[]
[]
[]
[]
[]
[]
[]
[]
[]
[]
[]
[]
[]
[]
[]
[]
[]
[]
[]
[]
[]
[]
[]
[]
[]
[]
[]
[]
[]
[]
[]
[]
[]
[]
[]
[]
[]
[]
[]
[]
[]
[]
[]
[]
[]
[]
[]
[]
[]
[]
[]
[]
[]
[]
[]
[]
[]
[]
[]
[]
[]
[]
[]
[]
[]
[]
[]
[]
[]
[]
[]
[]
[]
[]
[]
[]
[]
[]
[]
[]
[]
[]
[]
[]
[]
[]
[]
[]
[]
[]
[]
[]
[]
[]
[]
[]
[]
[]
[]
[]
[]
[]
[]
[]
[]
[]
[]
[]
[]
[]
[]
[]
[]
[]
[]
[]
[]
[]
[]
[]
[]
[]
[]
[]
[]
[]
[]
[]
[]
[]
[]
[]
[]
[]
[]
[]
[]
[]
[]
[]
[]
[]
[]
[]
[]
[]
[]
[]
[]
[]
[]
[]
[]
[]
[]
[]
[]
[]
[]
[]
[]
[]
[]
[]
[]
[]
[]
[]
[]
[]
[]
[]
[]
[]
[]
[]
[]
[]
[]
[]
[]
[]
[]
[]
[]
[]
[]
[]
[]
[]
[]
[]
[]
[]
[]
[]
[]
[]
[]
[]
[]
[]
[]
[]
[]
[]
[]
[]
[]
[]
[]
[]
[]
[]
[]
[]
[]
[]
[]
[]
[]
[]
[]
[]
[]
[]
[]
[]
[]
[]
[]
[]
[]
[]
[]
[]
[]
[]
[]
[]
[]
[]
[]
[]
[]
[]
[]
[]
[]
[]
[]
[]
[]
[]
[]
[]
[]
[]
[]
[]
[]
[]
[]
[]
[]
[]
[]
[]
[]
[]
[]
[]
[]
[]
[]
[]
[]
[]
[]
[]
[]
[]
[]
[]
[]
[]
[]
[]
[]
[]
[]
[]
[]
[]
[]
[]
[]
[]
[]
[]
[]
[]
[]
[]
[]
[]
[]
[]
[]
[]
[]
[]
[]
[]
[]
[]
[]
[]
[]
[]
[]
[]
[]
[]
[]
[]
[]
[]
[]
[]
[]
[]
[]
[]
[]
[]
[]
[]
[]
[]
[]
[]
[]
[]
[]
[]
[]
[]
[]
[]
[]
[]
[]
[]
[]
[]
[]
[]
[]
[]
[]
[]
[]
[]
[]
[]
[]
[]
[]
[]
[]
[]
[]
[]
[]
[]
[]
[]
[]
[]
[]
[]
[]
[]
[]
[]
[]
[]
[]
[]
[]
[]
[]
[]
[]
[]
[]
[]
[]
[]
[]
[]
[]
[]
[]
[]
[]
[]
[]
[]
[]
[]
[]
[]
[]
[]
[]
[]
[]
[]
[]
[]
[]
[]
[]
[]
[]
[]
[]
[]
[]
[]
[]
[]
[]
[]
[]
[]
[]
[]
[]
[]
[]
[]
[]
[]
[]
[]
[]
[]
[]
[]
[]
[]
[]
[]
[]
[]
[]
[]
[]
[]
[]
[]
[]
[]
[]
[]
[]
[]
[]
[]
[]
[]
[]
[]
[]
[]
[]
[]
[]
[]
[]
[]
[]
[]
[]
[]
[]
[]
[]
[]
[]
[]
[]
[]
[]
[]
[]
[]
[]
[]
[]
[]
[]
[]
[]
[]
[]
[]
[]
[]
[]
[]
[]
[]
[]
[]
[]
[]
[]
[]
[]
[]
[]
[]
[]
[]
[]
[]
[]
[]
[]
[]
[]
[]
[]
[]
[]
[]
[]
[]
[]
[]
[]
[]
[]
[]
[]
[]
[]
[]
[]
[]
[]
[]
[]
[]
[]
[]
[]
[]
[]
[]
[]
[]
[]
[]
[]
[]
[]
[]
[]
[]
[]
[]
[]
[]
[]
[]
[]
[]
[]
[]
[]
[]
[]
[]
[]
[]
[]
[]
[]
[]
[]
[]
[]
[]
[]
[]
[]
[]
[]
[]
[]
[]
[]
[]
[]
[]
[]
[]
[]
[]
[]
[]
[]
[]
[]
[]
[]
[]
[]
[]
[]
[]
[]
[]
[]
[]
[]
[]
[]
[]
[]
[]
[]
[]
[]
[]
[]
[]
[]
[]
[]
[]
[]
[]
[]
[]
[]
[]
[]
[]
[]
[]
[]
[]
[]
[]
[]
[]
[]
[]
[]
[]
[]
[]
[]
[]
[]
[]
[]
[]
[]
[]
[]
[]
[]
[]
[]
[]
[]
[]
[]
[]
[]
[]
[]
[]
[]
[]
[]
[]
[]
[]
[]
[]
[]
[]
[]
[]
[]
[]
[]
[]
[]
[]
[]
[]
[]
[]
[]
[]
[]
[]
[]
[]
[]
[]
[]
[]
[]
[]
[]
[]
[]
[]
[]
[]
[]
[]
[]
[]
[]
[]
[]
[]
[]
[]
[]
[]
[]
[]
[]
[]
[]
[]
[]
[]
[]
[]
[]
[]
[]
[]
[]
[]
[]
[]
[]
[]
[]
[]
[]
[]
[]
[]
[]
[]
[]
[]
[]
[]
[]
[]
[]
[]
[]
[]
[]
[]
[]
[]
[]
[]
[]
[]
[]
[]
[]
[]
[]
[]
[]
[]
[]
[]
[]
[]
[]
[]
[]
[]
[]
[]
[]
[]
[]
[]
[]
[]
[]
[]
[]
[]
[]
[]
[]
[]
[]
[]
[]
[]
[]
[]
[]
[]
[]
[]
[]
[]
[]
[]
[]
[]
[]
[]
[]
[]
[]
[]
[]
[]
[]
[]
[]
[]
[]
[]
[]
[]
[]
[]
[]
[]
[]
[]
[]
[]
[]
[]
[]
[]
[]
[]
[]
[]
[]
[]
[]
[]
[]
[]
[]
[]
[]
[]
[]
[]
[]
[]
[]
[]
[]
[]
[]
[]
[]
[]
[]
[]
[]
[]
[]
[]
[]
[]
[]
[]
[]
[]
[]
[]
[]
[]
[]
[]
[]
[]
[]
[]
[]
[]
[]
[]
[]
[]
[]
[]
[]
[]
[]
[]
[]
[]
[]
[]
[]
[]
[]
[]
[]
[]
[]
[]
[]
[]
[]
[]
[]
[]
[]
[]
[]
[]
[]
[]
[]
[]
[]
[]
[]
[]
[]
[]
[]
[]
[]
[]
[]
[]
[]
[]
[]
[]
[]
[]
[]
[]
[]
[]
[]
[]
[]
[]
[]
[]
[]
[]
[]
[]
[]
[]
[]
[]
[]
[]
[]
[]
[]
[]
[]
[]
[]
[]
[]
[]
[]
[]
[]
[]
[]
[]
[]
[]
[]
[]
[]
[]
[]
[]
[]
[]
[]
[]
[]
[]
[]
[]
[]
[]
[]
[]
[]
[]
[]
[]
[]
[]
[]
[]
[]
[]
[]
[]
[]
[]
[]
[]
[]
[]
[]
[]
[]
[]
[]
[]
[]
[]
[]
[]
[]
[]
[]
[]
[]
[]
[]
[]
[]
[]
[]
[]
[]
[]
[]
[]
[]
[]
[]
[]
[]
[]
[]
[]
[]
[]
[]
[]
[]
[]
[]
[]
[]
[]
[]
[]
[]
[]
[]
[]
[]
[]
[]
[]
[]
[]
[]
[]
[]
[]
[]
[]
[]
[]
[]
[]
[]
[]
[]
[]
[]
[]
[]
[]
[]
[]
[]
[]
[]
[]
[]
[]
[]
[]
[]
[]
[]
[]
[]
[]
[]
[]
[]
[]
[]
[]
[]
[]
[]
[]
[]
[]
[]
[]
[]
[]
[]
[]
[]
[]
[]
[]
[]
[]
[]
[]
[]
[]
[]
[]
[]
[]
[]
[]
[]
[]
[]
[]
[]
[]
[]
[]
[]
[]
[]
[]
[]
[]
[]
[]
[]
[]
[]
[]
[]
[]
[]
[]
[]
[]
[]
[]
[]
[]
[]
[]
[]
[]
[]
[]
[]
[]
[]
[]
[]
[]
[]
[]
[]
[]
[]
[]
[]
[]
[]
[]
[]
[]
[]
[]
[]
[]
[]
[]
[]
[]
[]
[]
[]
[]
[]
[]
[]
[]
[]
[]
[]
[]
[]
[]
[]
[]
[]
[]
[]
[]
[]
[]
[]
[]
[]
[]
[]
[]
[]
[]
[]
[]
[]
[]
[]
[]
[]
[]
[]
[]
[]
[]
[]
[]
[]
[]
[]
[]
[]
[]
[]
[]
[]
[]
[]
[]
[]
[]
[]
[]
[]
[]
[]
[]
[]
[]
[]
[]
[]
[]
[]
[]
[]
[]
[]
[]
[]
[]
[]
[]
[]
[]
[]
[]
[]
[]
[]
[]
[]
[]
[]
[]
[]
[]
[]
[]
[]
[]
[]
[]
[]
[]
[]
[]
[]
[]
[]
[]
[]
[]
[]
[]
[]
[]
[]
[]
[]
[]
[]
[]
[]
[]
[]
[]
[]
[]
[]
[]
[]
[]
[]
[]
[]
[]
[]
[]
[]
[]
[]
[]
[]
[]
[]
[]
[]
[]
[]
[]
[]
[]
[]
[]
[]
[]
[]
[]
[]
[]
[]
[]
[]
[]
[]
[]
[]
[]
[]
[]
[]
[]
[]
[]
[]
[]
[]
[]
[]
[]
[]
[]
[]
[]
[]
[]
[]
[]
[]
[]
[]
[]
[]
[]
[]
[]
[]
[]
[]
[]
[]
[]
[]
[]
[]
[]
[]
[]
[]
[]
[]
[]
[]
[]
[]
[]
[]
[]
[]
[]
[]
[]
[]
[]
[]
[]
[]
[]
[]
[]
[]
[]
[]
[]
[]
[]
[]
[]
[]
[]
[]
[]
[]
[]
[]
[]
[]
[]
[]
[]
[]
[]
[]
[]
[]
[]
[]
[]
[]
[]
[]
[]
[]
[]
[]
[]
[]
[]
[]
[]
[]
[]
[]
[]
[]
[]
[]
[]
[]
[]
[]
[]
[]
[]
[]
[]
[]
[]
[]
[]
[]
[]
[]
[]
[]
[]
[]
[]
[]
[]
[]
[]
[]
[]
[]
[]
[]
[]
[]
[]
[]
[]
[]
[]
[]
[]
[]
[]
[]
[]
[]
[]
[]
[]
[]
[]
[]
[]
[]
[]
[]
[]
[]
[]
[]
[]
[]
[]
[]
[]
[]
[]
[]
[]
[]
[]
[]
[]
[]
[]
[]
[]
[]
[]
[]
[]
[]
[]
[]
[]
[]
[]
[]
[]
[]
[]
[]
[]
[]
[]
[]
[]
[]
[]
[]
[]
[]
[]
[]
[]
[]
[]
[]
[]
[]
[]
[]
[]
[]
[]
[]
[]
[]
[]
[]
[]
[]
[]
[]
[]
[]
[]
[]
[]
[]
[]
[]
[]
[]
[]
[]
[]
[]
[]
[]
[]
[]
[]
[]
[]
[]
[]
[]
[]
[]
[]
[]
[]
[]
[]
[]
[]
[]
[]
[]
[]
[]
[]
[]
[]
[]
[]
[]
[]
[]
[]
[]
[]
[]
[]
[]
[]
[]
[]
[]
[]
[]
[]
[]
[]
[]
[]
[]
[]
[]
[]
[]
[]
[]
[]
[]
[]
[]
[]
[]
[]
[]
[]
[]
[]
[]
[]
[]
[]
[]
[]
[]
[]
[]
[]
[]
[]
[]
[]
[]
[]
[]
[]
[]
[]
[]
[]
[]
[]
[]
[]
[]
[]
[]
[]
[]
[]
[]
[]
[]
[]
[]
[]
[]
[]
[]
[]
[]
[]
[]
[]
[]
[]
[]
[]
[]
[]
[]
[]
[]
[]
[]
[]
[]
[]
[]
[]
[]
[]
[]
[]
[]
[]
[]
[]
[]
[]
[]
[]
[]
[]
[]
[]
[]
[]
[]
[]
[]
[]
[]
[]
[]
[]
[]
[]
[]
[]
[]
[]
[]
[]
[]
[]
[]
[]
[]
[]
[]
[]
[]
[]
[]
[]
[]
[]
[]
[]
[]
[]
[]
[]
[]
[]
[]
[]
[]
[]
[]
[]
[]
[]
[]
[]
[]
[]
[]
[]
[]
[]
[]
[]
[]
[]
[]
[]
[]
[]
[]
[]
[]
[]
[]
[]
[]
[]
[]
[]
[]
[]
[]
[]
[]
[]
[]
[]
[]
[]
[]
[]
[]
[]
[]
[]
[]
[]
[]
[]
[]
[]
[]
[]
[]
[]
[]
[]
[]
[]
[]
[]
[]
[]
[]
[]
[]
[]
[]
[]
[]
[]
[]
[]
[]
[]
[]
[]
[]
[]
[]
[]
[]
[]
[]
[]
[]
[]
[]
[]
[]
[]
[]
[]
[]
[]
[]
[]
[]
[]
[]
[]
[]
[]
[]
[]
[]
[]
[]
[]
[]
[]
[]
[]
[]
[]
[]
[]
[]
[]
[]
[]
[]
[]
[]
[]
[]
[]
[]
[]
[]
[]
[]
[]
[]
[]
[]
[]
[]
[]
[]
[]
[]
[]
[]
[]
[]
[]
[]
[]
[]
[]
[]
[]
[]
[]
[]
[]
[]
[]
[]
[]
[]
[]
[]
[]
[]
[]
[]
[]
[]
[]
[]
[]
[]
[]
[]
[]
[]
[]
[]
[]
[]
[]
[]
[]
[]
[]
[]
[]
[]
[]
[]
[]
[]
[]
[]
[]
[]
[]
[]
[]
[]
[]
[]
[]
[]
[]
[]
[]
[]
[]
[]
[]
[]
[]
[]
[]
[]
[]
[]
[]
[]
[]
[]
[]
[]
[]
[]
[]
[]
[]
[]
[]
[]
[]
[]
[]
[]
[]
[]
[]
[]
[]
[]
[]
[]
[]
[]
[]
[]
[]
[]
[]
[]
[]
[]
[]
[]
[]
[]
[]
[]
[]
[]
[]
[]
[]
[]
[]
[]
[]
[]
[]
[]
[]
[]
[]
[]
[]
[]
[]
[]
[]
[]
[]
[]
[]
[]
[]
[]
[]
[]
[]
[]
[]
[]
[]
[]
[]
[]
[]
[]
[]
[]
[]
[]
[]
[]
[]
[]
[]
[]
[]
[]
[]
[]
[]
[]
[]
[]
[]
[]
[]
[]
[]
[]
[]
[]
[]
[]
[]
[]
[]
[]
[]
[]
[]
[]
[]
[]
[]
[]
[]
[]
[]
[]
[]
[]
[]
[]
[]
[]
[]
[]
[]
[]
[]
[]
[]
[]
[]
[]
[]
[]
[]
[]
[]
[]
[]
[]
[]
[]
[]
[]
[]
[]
[]
[]
[]
[]
[]
[]
[]
[]
[]
[]
[]
[]
[]
[]
[]
[]
[]
[]
[]
[]
[]
[]
[]
[]
[]
[]
[]
[]
[]
[]
[]
[]
[]
[]
[]
[]
[]
[]
[]
[]
[]
[]
[]
[]
[]
[]
[]
[]
[]
[]
[]
[]
[]
[]
[]
[]
[]
[]
[]
[]
[]
[]
[]
[]
[]
[]
[]
[]
[]
[]
[]
[]
[]
[]
[]
[]
[]
[]
[]
[]
[]
[]
[]
[]
[]
[]
[]
[]
[]
[]
[]
[]
[]
[]
[]
[]
[]
[]
[]
[]
[]
[]
[]
[]
[]
[]
[]
[]
[]
[]
[]
[]
[]
[]
[]
[]
[]
[]
[]
[]
[]
[]
[]
[]
[]
[]
[]
[]
[]
[]
[]
[]
[]
[]
[]
[]
[]
[]
[]
[]
[]
[]
[]
[]
[]
[]
[]
[]
[]
[]
[]
[]
[]
[]
[]
[]
[]
[]
[]
[]
[]
[]
[]
[]
[]
[]
[]
[]
[]
[]
[]
[]
[]
[]
[]
[]
[]
[]
[]
[]
[]
[]
[]
[]
[]
[]
[]
[]
[]
[]
[]
[]
[]
[]
[]
[]
[]
[]
[]
[]
[]
[]
[]
[]
[]
[]
[]
[]
[]
[]
[]
[]
[]
[]
[]
[]
[]
[]
[]
[]
[]
[]
[]
[]
[]
[]
[]
[]
[]
[]
[]
[]
[]
[]
[]
[]
[]
[]
[]
[]
[]
[]
[]
[]
[]
[]
[]
[]
[]
[]
[]
[]
[]
[]
[]
[]
[]
[]
[]
[]
[]
[]
[]
[]
[]
[]
[]
[]
[]
[]
[]
[]
[]
[]
[]
[]
[]
[]
[]
[]
[]
[]
[]
[]
[]
[]
[]
[]
[]
[]
[]
[]
[]
[]
[]
[]
[]
[]
[]
[]
[]
[]
[]
[]
[]
[]
[]
[]
[]
[]
[]
[]
[]
[]
[]
[]
[]
[]
[]
[]
[]
[]
[]
[]
[]
[]
[]
[]
[]
[]
[]
[]
[]
[]
[]
[]
[]
[]
[]
[]
[]
[]
[]
[]
[]
[]
[]
[]
[]
[]
[]
[]
[]
[]
[]
[]
[]
[]
[]
[]
[]
[]
[]
[]
[]
[]
[]
[]
[]
[]
[]
[]
[]
[]
[]
[]
[]
[]
[]
[]
[]
[]
[]
[]
[]
[]
[]
[]
[]
[]
[]
[]
[]
[]
[]
[]
[]
[]
[]
[]
[]
[]
[]
[]
[]
[]
[]
[]
[]
[]
[]
[]
[]
[]
[]
[]
[]
[]
[]
[]
[]
[]
[]
[]
[]
[]
[]
[]
[]
[]
[]
[]
[]
[]
[]
[]
[]
[]
[]
[]
[]
[]
[]
[]
[]
[]
[]
[]
[]
[]
[]
[]
[]
[]
[]
[]
[]
[]
[]
[]
[]
[]
[]
[]
[]
[]
[]
[]
[]
[]
[]
[]
[]
[]
[]
[]
[]
[]
[]
[]
[]
[]
[]
[]
[]
[]
[]
[]
[]
[]
[]
[]
[]
[]
[]
[]
[]
[]
[]
[]
[]
[]
[]
[]
[]
[]
[]
[]
[]
[]
[]
[]
[]
[]
[]
[]
[]
[]
[]
[]
[]
[]
[]
[]
[]
[]
[]
[]
[]
[]
[]
[]
[]
[]
[]
[]
[]
[]
[]
[]
[]
[]
[]
[]
[]
[]
[]
[]
[]
[]
[]
[]
[]
[]
[]
[]
[]
[]
[]
[]
[]
[]
[]
[]
[]
[]
[]
[]
[]
[]
[]
[]
[]
[]
[]
[]
[]
[]
[]
[]
[]
[]
[]
[]
[]
[]
[]
[]
[]
[]
[]
[]
[]
[]
[]
[]
[]
[]
[]
[]
[]
[]
[]
[]
[]
[]
[]
[]
[]
[]
[]
[]
[]
[]
[]
[]
[]
[]
[]
[]
[]
[]
[]
[]
[]
[]
[]
[]
[]
[]
[]
[]
[]
[]
[]
[]
[]
[]
[]
[]
[]
[]
[]
[]
[]
[]
[]
[]
[]
[]
[]
[]
[]
[]
[]
[]
[]
[]
[]
[]
[]
[]
[]
[]
[]
[]
[]
[]
[]
[]
[]
[]
[]
[]
[]
[]
[]
[]
[]
[]
[]
[]
[]
[]
[]
[]
[]
[]
[]
[]
[]
[]
[]
[]
[]
[]
[]
[]
[]
[]
[]
[]
[]
[]
[]
[]
[]
[]
[]
[]
[]
[]
[]
[]
[]
[]
[]
[]
[]
[]
[]
[]
[]
[]
[]
[]
[]
[]
[]
[]
[]
[]
[]
[]
[]
[]
[]
[]
[]
[]
[]
[]
[]
[]
[]
[]
[]
[]
[]
[]
[]
[]
[]
[]
[]
[]
[]
[]
[]
[]
[]
[]
[]
[]
[]
[]
[]
[]
[]
[]
[]
[]
[]
[]
[]
[]
[]
[]
[]
[]
[]
[]
[]
[]
[]
[]
[]
[]
[]
[]
[]
[]
[]
[]
[]
[]
[]
[]
[]
[]
[]
[]
[]
[]
[]
[]
[]
[]
[]
[]
[]
[]
[]
[]
[]
[]
[]
[]
[]
[]
[]
[]
[]
[]
[]
[]
[]
[]
[]
[]
[]
[]
[]
[]
[]
[]
[]
[]
[]
[]
[]
[]
[]
[]
[]
[]
[]
[]
[]
[]
[]
[]
[]
[]
[]
[]
[]
[]
[]
[]
[]
[]
[]
[]
[]
[]
[]
[]
[]
[]
[]
[]
[]
[]
[]
[]
[]
[]
[]
[]
[]
[]
[]
[]
[]
[]
[]
[]
[]
[]
[]
[]
[]
[]
[]
[]
[]
[]
[]
[]
[]
[]
[]
[]
[]
[]
[]
[]
[]
[]
[]
[]
[]
[]
[]
[]
[]
[]
[]
[]
[]
[]
[]
[]
[]
[]
[]
[]
[]
[]
[]
[]
[]
[]
[]
[]
[]
[]
[]
[]
[]
[]
[]
[]
[]
[]
[]
[]
[]
[]
[]
[]
[]
[]
[]
[]
[]
[]
[]
[]
[]
[]
[]
[]
[]
[]
[]
[]
[]
[]
[]
[]
[]
[]
[]
[]
[]
[]
[]
[]
[]
[]
[]
[]
[]
[]
[]
[]
[]
[]
[]
[]
[]
[]
[]
[]
[]
[]
[]
[]
[]
[]
[]
[]
[]
[]
[]
[]
[]
[]
[]
[]
[]
[]
[]
[]
[]
[]
[]
[]
[]
[]
[]
[]
[]
[]
[]
[]
[]
[]
[]
[]
[]
[]
[]
[]
[]
[]
[]
[]
[]
[]
[]
[]
[]
[]
[]
[]
[]
[]
[]
[]
[]
[]
[]
[]
[]
[]
[]
[]
[]
[]
[]
[]
[]
[]
[]
[]
[]
[]
[]
[]
[]
[]
[]
[]
[]
[]
[]
[]
[]
[]
[]
[]
[]
[]
[]
[]
[]
[]
[]
[]
[]
[]
[]
[]
[]
[]
[]
[]
[]
[]
[]
[]
[]
[]
[]
[]
[]
[]
[]
[]
[]
[]
[]
[]
[]
[]
[]
[]
[]
[]
[]
[]
[]
[]
[]
[]
[]
[]
[]
[]
[]
[]
[]
[]
[]
[]
[]
[]
[]
[]
[]
[]
[]
[]
[]
[]
[]
[]
[]
[]
[]
[]
[]
[]
[]
[]
[]
[]
[]
[]
[]
[]
[]
[]
[]
[]
[]
[]
[]
[]
[]
[]
[]
[]
[]
[]
[]
[]
[]
[]
[]
[]
[]
[]
[]
[]
[]
[]
[]
[]
[]
[]
[]
[]
[]
[]
[]
[]
[]
[]
[]
[]
[]
[]
[]
[]
[]
[]
[]
[]
[]
[]
[]
[]
[]
[]
[]
[]
[]
[]
[]
[]
[]
[]
[]
[]
[]
[]
[]
[]
[]
[]
[]
[]
[]
[]
[]
[]
[]
[]
[]
[]
[]
[]
[]
[]
[]
[]
[]
[]
[]
[]
[]
[]
[]
[]
[]
[]
[]
[]
[]
[]
[]
[]
[]
[]
[]
[]
[]
[]
[]
[]
[]
[]
[]
[]
[]
[]
[]
[]
[]
[]
[]
[]
[]
[]
[]
[]
[]
[]
[]
[]
[]
[]
[]
[]
[]
[]
[]
[]
[]
[]
[]
[]
[]
[]
[]
[]
[]
[]
[]
[]
[]
[]
[]
[]
[]
[]
[]
[]
[]
[]
[]
[]
[]
[]
[]
[]
[]
[]
[]
[]
[]
[]
[]
[]
[]
[]
[]
[]
[]
[]
[]
[]
[]
[]
[]
[]
[]
[]
[]
[]
[]
[]
[]
[]
[]
[]
[]
[]
[]
[]
[]
[]
[]
[]
[]
[]
[]
[]
[]
[]
[]
[]
[]
[]
[]
[]
[]
[]
[]
[]
[]
[]
[]
[]
[]
[]
[]
[]
[]
[]
[]
[]
[]
[]
[]
[]
[]
[]
[]
[]
[]
[]
[]
[]
[]
[]
[]
[]
[]
[]
[]
[]
[]
[]
[]
[]
[]
[]
[]
[]
[]
[]
[]
[]
[]
[]
[]
[]
[]
[]
[]
[]
[]
[]
[]
[]
[]
[]
[]
[]
[]
[]
[]
[]
[]
[]
[]
[]
[]
[]
[]
[]
[]
[]
[]
[]
[]
[]
[]
[]
[]
[]
[]
[]
[]
[]
[]
[]
[]
[]
[]
[]
[]
[]
[]
[]
[]
[]
[]
[]
[]
[]
[]
[]
[]
[]
[]
[]
[]
[]
[]
[]
[]
[]
[]
[]
[]
[]
[]
[]
[]
[]
[]
[]
[]
[]
[]
[]
[]
[]
[]
[]
[]
[]
[]
[]
[]
[]
[]
[]
[]
[]
[]
[]
[]
[]
[]
[]
[]
[]
[]
[]
[]
[]
[]
[]
[]
[]
[]
[]
[]
[]
[]
[]
[]
[]
[]
[]
[]
[]
[]
[]
[]
[]
[]
[]
[]
[]
[]
[]
[]
[]
[]
[]
[]
[]
[]
[]
[]
[]
[]
[]
[]
[]
[]
[]
[]
[]
[]
[]
[]
[]
[]
[]
[]
[]
[]
[]
[]
[]
[]
[]
[]
[]
[]
[]
[]
[]
[]
[]
[]
[]
[]
[]
[]
[]
[]
[]
[]
[]
[]
[]
[]
[]
[]
[]
[]
[]
[]
[]
["Admin - Planeación Estratégica","Estratégicos","Central","Gestión","ANÁLISIS RESULTADO\nTRIMESTRE",null,"Estratégicos","Misionales","Apoyo","Evaluación y Mejora","Transversal_todos_procesos"]
["Admin - Comunicación Institucional","Misionales","Seccional","Producto",null,"Entregable","Admin - Planeación Estratégica","Admin - Reordenamiento Judicial","Admin - Gestión Documental","Admin - Gestión de Control Interno y Auditoría","Transversal_todos_procesos"]
["Admin - Gestión para la Integración de Listas de Altas Cortes","Apoyo",null,null,null,"Meta cuantificable","Admin - Comunicación Institucional","Admin - Modernización de la Gestión Judicial","Admin - Gestión Tecnológica","Admin - Mejoramiento del Sistema Integrado de Gestión y Control de la Calidad y del Medio Ambiente"]
["Admin - Reordenamiento Judicial","Evaluación_y_Mejora",null,null,null,null,"Admin - Gestión para la Integración de Listas de Altas Cortes","Admin - Mejoramiento de la Infraestructura Física","Admin - Gestión de la Información Estadística","Juris - Gestión de Mejoramiento del SIGCMA"]
["Admin - Modernización de la Gestión Judicial","Transversal_todos_procesos",null,null,null,null,"Juris - Gestión de Planeación Estratégica","Admin - Administración de la Carrera Judicial","Admin - Gestión Humana"]
["Admin - Mejoramiento de la Infraestructura Física",null,null,null,null,null,"Juris - Gestión de Comunicación Institucional","Admin - Gestión de la Formación Judicial","Admin - Gestión de Seguridad y Salud en el Trabajo"]
["Admin - Administración de la Carrera Judicial",null,null,null,null,null,null,"Admin - Gestión de la Información Judicial","Admin - Asistencia Legal"]
["Admin - Gestión de la Formación Judicial",null,null,null,null,null,null,"Admin - Registro y Control de Abogados y Auxiliares de la Justicia","Admin - Administración de la Seguridad"]
["Admin - Gestión de la Información Judicial",null,null,null,null,null,null,"Juris - Gestión de Acciones Constitucionales","Admin - Gestión Administrativa"]
["Admin - Registro y Control de Abogados y Auxiliares de la Justicia",null,null,null,null,null,null,"Juris - Gestión Proceso Ordinario","Admin - Compras Públicas"]
["Admin - Gestión Documental",null,null,null,null,null,null,null,"Admin - Gestión Financiera y Presupuestal"]
["Admin - Gestión Tecnológica",null,null,null,null,null,null,null,"Juris - Atención al Usuario"]
["Admin - Gestión de la Información Estadística",null,null,null,null,null,null,null,"Juris - Gestión de Servicios Judiciales"]
["Admin - Gestión Humana",null,null,null,null,null,null,null,"Juris - Gestión de Servicios Administrativos"]
["Admin - Gestión de Seguridad y Salud en el Trabajo"]
["Admin - Asistencia Legal"]
["Admin - Administración de la Seguridad"]
["Admin - Gestión Administrativa"]
["Admin - Compras Públicas"]
["Admin - Gestión Financiera y Presupuestal"]
["Admin - Gestión de Control Interno y Auditoría"]
["Admin - Mejoramiento del Sistema Integrado de Gestión y Control de la Calidad y del Medio Ambiente"]
["Juris - Gestión de Planeación Estratégica"]
["Juris - Gestión de Comunicación Institucional"]
["Juris - Gestión de Acciones Constitucionales"]
["Juris - Gestión Proceso Ordinario"]
["Juris - Atención al Usuario"]
["Juris - Gestión de Servicios Judiciales"]
["Juris - Gestión de Servicios Administrativos"]
["Juris - Gestión de Mejoramiento del SIGCMA"]

{"sheet":"GESTION","index":4,"n_rows":130,"n_cols":20,"rows_kept":130,"cut":false,"hidden":false,"merged":[[125,2,129,2],[120,3,129,3],[120,1,129,1],[120,0,129,0],[95,3,114,3],[115,2,119,2],[115,3,119,3],[95,1,119,1],[120,2,124,2],[60,1,94,1],[60,0,94,0],[95,2,99,2],[100,2,104,2],[105,2,109,2],[95,0,119,0],[75,2,79,2],[80,2,84,2],[85,2,89,2],[110,2,114,2],[75,3,89,3],[90,2,94,2],[90,3,94,3],[60,2,64,2],[60,3,64,3],[65,2,69,2],[70,2,74,2],[70,3,74,3],[65,3,69,3],[50,2,54,2],[55,2,59,2],[30,3,59,3],[30,1,59,1],[30,0,59,0],[5,0,29,0],[30,2,34,2],[35,2,39,2],[40,2,44,2],[45,2,49,2],[20,2,24,2],[20,3,24,3],[25,2,29,2],[25,3,29,3],[5,1,29,1],[5,3,9,3],[10,2,14,2],[10,3,14,3],[15,2,19,2],[15,3,19,3],[5,2,9,2],[1,0,1,18],[1,19,1,28],[2,0,2,3],[3,0,4,1],[3,2,4,2],[3,3,4,3],[3,4,3,6],[3,7,3,17],[2,4,2,17],[2,18,4,18]]}
[]
["CONSEJO SUPERIOR DE LA JUDICATURA \nUNIDADES MISIONALES DEL CONSEJO SUPERIOR DE LA JUDICATURA - \nDIRECCIÓN EJECUTIVA DE ADMINISTRACIÓN JUDICIAL - UNIDADES MISIONALES DE LA DEAJ\nDIRECCIONES SECCIONALES DE ADMINISTRACIÓN JUDICIAL - DEPENDENCIAS JUDICIALES CERTIFICADAS",null,null,null,null,null,null,null,null,null,null,null,null,null,null,null,null,null,null,"GENERADOR DE SEGUIMIENTOS TRIMESTRALES"]
["PLAN SECTORIAL DE DESARROLLO 2023-2026 - OBJETIVOS SIGCMA",null,null,null,"PLAN DE ACCIÓN Y SEGUIMIENTO A LA GESTIÓN INSTITUCIONAL (DE ACUERDO CON LA FUNCIÓN MISIONAL ASIGNADA )",null,null,null,null,null,null,null,null,null,null,null,null,null," ANÁLISIS RESULTADO"]
["OBJETIVO ESTRATÉGICO",null,"OBJETIVO ESPECÍFICO PSD","OBJETIVO ESPECÍFICO SIGCMA","MAPA PROCESO SIGCMA",null,null,"MEDICIÓN DE LA GESTIÓN ANUAL"]
[null,null,null,null,"NOMBRE MACRO PROCESO SIGCMA","PROCESO SIGCMA","NIVEL ","ACTIVIDADES ","INDIQUE SI ES ENTREGABLE O META CUANTIFICABLE","META ANUAL","UNIDAD DE MEDIDA","RESPONSABLE DEL PROCESO ","MEDIO O MECANISMO A TRAVES DEL CUAL SE HACE EL SEGUIMIENTO\n(Producto y/o servicio principal)","INICIO \nDÍA/MES/AÑO","FIN\nDÍA/MES/AÑO","AVANCE DE LA META ","NIVEL CUMPLIMIENTO","DIFICULTADES PARA LOGRAR LA META PROPUESTA"]
["1. Acceso e Infraestructura Física","Acceso e Infraestructura Física: Ampliar, en todo el territorio nacional, el acceso a una justicia efectiva, pronta, equitativa e incluyente, reduciendo el atraso y la congestión, de acuerdo con las necesidades de la demanda de justicia por jurisdicción y especialidad, y mejorando la articulación con la justicia restaurativa y terapéutica, y otros mecanismos de solución de conflictos y consolidando una infraestructura física óptima para el acceso a la justicia.","1. Ampliar el acceso a justicia para atender las necesidades jurídicas de los ciudadanos con un enfoque diferencial, de una manera pronta, reduciendo las inequidades y las brechas territoriales de acceso.","2. Asegurar  el cumplimiento de los objetivos institucionales, la normatividad aplicable,  la mejora del SIGCMA y la satisfacción de los usuarios, revisando de  forma continua y sistemática la planificación de la gestión y fortaleciendo la administración de riesgos y sus controles","Misionales","Admin - Reordenamiento Judicial","Seccional","Proyectar propuestas de reordenamiento y remitir para estudio y consideración del Consejo Superior de la Judicatura ","Entregable",null,null,"Despacho 02 - Magistrada / Auxiliar Judicial I","Propuestas elaborada","2023-01-01","2023-12-31",{"$f":"IFERROR(MAX(GESTION_SEG_1_TRIM!H6,GESTION_SEG_2_TRIM!H6,GESTION_SEG_3_TRIM!H6),\" \")","v":0},{"$f":"IFERROR(P6/J6,\"\")","v":""},{"$f":"IFERROR(_xludf.CONCAT(\"Trimestre 1\",CHAR(10),GESTION_SEG_1_TRIM!J6,CHAR(10),\"Trimestre 2\",CHAR(10),GESTION_SEG_2_TRIM!J6,CHAR(10),\"Trimestre 3\",CHAR(10),GESTION_SEG_3_TRIM!J6),\" \")","v":" "},{"$f":"IFERROR(_xludf.CONCAT(\"Trimestre 1\",CHAR(10),GESTION_SEG_1_TRIM!K6,CHAR(10),\"Trimestre 2\",CHAR(10),GESTION_SEG_2_TRIM!K6,CHAR(10),\"Trimestre 3\",CHAR(10),GESTION_SEG_3_TRIM!K6),\" \")","v":" "}]
[null,null,null,null,null,null,null,null,null,null,null,null,null,null,null,{"$f":"IFERROR(MAX(GESTION_SEG_1_TRIM!H7,GESTION_SEG_2_TRIM!H7,GESTION_SEG_3_TRIM!H7),\" \")","v":0},"",{"$f":"IFERROR(_xludf.CONCAT(\"Trimestre 1\",CHAR(10),GESTION_SEG_1_TRIM!J7,CHAR(10),\"Trimestre 2\",CHAR(10),GESTION_SEG_2_TRIM!J7,CHAR(10),\"Trimestre 3\",CHAR(10),GESTION_SEG_3_TRIM!J7),\" \")","v":" "},{"$f":"IFERROR(_xludf.CONCAT(\"Trimestre 1\",CHAR(10),GESTION_SEG_1_TRIM!K7,CHAR(10),\"Trimestre 2\",CHAR(10),GESTION_SEG_2_TRIM!K7,CHAR(10),\"Trimestre 3\",CHAR(10),GESTION_SEG_3_TRIM!K7),\" \")","v":" "}]
[null,null,null,null,"Misionales","Admin - Reordenamiento Judicial","Seccional","Adoptar medidas las  necesarias, conforme a delegación del Consejo Superior de la Judicatura.","Meta cuantificable",null,null,"Despacho 02 - Magistrada / Auxiliar Judicial I","Cuadro control de reparto y medidas adoptadas","2023-01-01","2023-12-31",{"$f":"IFERROR(MAX(GESTION_SEG_1_TRIM!H8,GESTION_SEG_2_TRIM!H8,GESTION_SEG_3_TRIM!H8),\" \")","v":0},"",{"$f":"IFERROR(_xludf.CONCAT(\"Trimestre 1\",CHAR(10),GESTION_SEG_1_TRIM!J8,CHAR(10),\"Trimestre 2\",CHAR(10),GESTION_SEG_2_TRIM!J8,CHAR(10),\"Trimestre 3\",CHAR(10),GESTION_SEG_3_TRIM!J8),\" \")","v":" "},{"$f":"IFERROR(_xludf.CONCAT(\"Trimestre 1\",CHAR(10),GESTION_SEG_1_TRIM!K8,CHAR(10),\"Trimestre 2\",CHAR(10),GESTION_SEG_2_TRIM!K8,CHAR(10),\"Trimestre 3\",CHAR(10),GESTION_SEG_3_TRIM!K8),\" \")","v":" "}]
[null,null,null,null,null,null,null," ",null,null,null,null,null,null,null,{"$f":"IFERROR(MAX(GESTION_SEG_1_TRIM!H9,GESTION_SEG_2_TRIM!H9,GESTION_SEG_3_TRIM!H9),\" \")","v":0},"",{"$f":"IFERROR(_xludf.CONCAT(\"Trimestre 1\",CHAR(10),GESTION_SEG_1_TRIM!J9,CHAR(10),\"Trimestre 2\",CHAR(10),GESTION_SEG_2_TRIM!J9,CHAR(10),\"Trimestre 3\",CHAR(10),GESTION_SEG_3_TRIM!J9),\" \")","v":" "},{"$f":"IFERROR(_xludf.CONCAT(\"Trimestre 1\",CHAR(10),GESTION_SEG_1_TRIM!K9,CHAR(10),\"Trimestre 2\",CHAR(10),GESTION_SEG_2_TRIM!K9,CHAR(10),\"Trimestre 3\",CHAR(10),GESTION_SEG_3_TRIM!K9),\" \")","v":" "}]
[null,null,null,null,null,null,null,null,null,null,null,null,null,null,null,{"$f":"IFERROR(MAX(GESTION_SEG_1_TRIM!H10,GESTION_SEG_2_TRIM!H10,GESTION_SEG_3_TRIM!H10),\" \")","v":0},"",{"$f":"IFERROR(_xludf.CONCAT(\"Trimestre 1\",CHAR(10),GESTION_SEG_1_TRIM!J10,CHAR(10),\"Trimestre 2\",CHAR(10),GESTION_SEG_2_TRIM!J10,CHAR(10),\"Trimestre 3\",CHAR(10),GESTION_SEG_3_TRIM!J10),\" \")","v":" "},{"$f":"IFERROR(_xludf.CONCAT(\"Trimestre 1\",CHAR(10),GESTION_SEG_1_TRIM!K10,CHAR(10),\"Trimestre 2\",CHAR(10),GESTION_SEG_2_TRIM!K10,CHAR(10),\"Trimestre 3\",CHAR(10),GESTION_SEG_3_TRIM!K10),\" \")","v":" "}]
[null,null,"2. Mejorar los tiempos de respuesta de la Rama Judicial y reducir el inventario de procesos, identificando los retos internos y promoviendo tanto acciones articuladas específicas para abordarlos como estrategias coordinadas para enfrentar las barreras que dependen de otras entidades.","2. Asegurar  el cumplimiento de los objetivos institucionales, la normatividad aplicable,  la mejora del SIGCMA y la satisfacción de los usuarios, revisando de  forma continua y sistemática la planificación de la gestión y fortaleciendo la administración de riesgos y sus controles","Apoyo","Admin - Gestión de la Información Estadística","Seccional","Realizar seguimiento, análisis y evaluacion de la información estadistica, reportada por todos los despachos judiciales\n","Entregable",null,null,"Despacho 01 - Magistrada / Auxiliar Judicial I","Reporte SIERJU / Informe /  novedades","2023-01-01","2023-12-31",{"$f":"IFERROR(MAX(GESTION_SEG_1_TRIM!H11,GESTION_SEG_2_TRIM!H11,GESTION_SEG_3_TRIM!H11),\" \")","v":0},"",{"$f":"IFERROR(_xludf.CONCAT(\"Trimestre 1\",CHAR(10),GESTION_SEG_1_TRIM!J11,CHAR(10),\"Trimestre 2\",CHAR(10),GESTION_SEG_2_TRIM!J11,CHAR(10),\"Trimestre 3\",CHAR(10),GESTION_SEG_3_TRIM!J11),\" \")","v":" "},{"$f":"IFERROR(_xludf.CONCAT(\"Trimestre 1\",CHAR(10),GESTION_SEG_1_TRIM!K11,CHAR(10),\"Trimestre 2\",CHAR(10),GESTION_SEG_2_TRIM!K11,CHAR(10),\"Trimestre 3\",CHAR(10),GESTION_SEG_3_TRIM!K11),\" \")","v":" "}]
[null,null,null,null,"Apoyo","Admin - Asistencia Legal","Seccional","Registrar en el aplicativo EkoGui cada uno de los procesos y conciliaciones extrajudiciales recibidos; la provisión contable y las actuaciones desarrolladas. ","Entregable",null,"Reporte de seguimientos","Profesional Universitario a cargo de Asistencia Legal","Informe del aplicativo Ekogui","2023-01-01","2023-12-31",{"$f":"IFERROR(MAX(GESTION_SEG_1_TRIM!H12,GESTION_SEG_2_TRIM!H12,GESTION_SEG_3_TRIM!H12),\" \")","v":0},"",{"$f":"IFERROR(_xludf.CONCAT(\"Trimestre 1\",CHAR(10),GESTION_SEG_1_TRIM!J12,CHAR(10),\"Trimestre 2\",CHAR(10),GESTION_SEG_2_TRIM!J12,CHAR(10),\"Trimestre 3\",CHAR(10),GESTION_SEG_3_TRIM!J12),\" \")","v":" "},{"$f":"IFERROR(_xludf.CONCAT(\"Trimestre 1\",CHAR(10),GESTION_SEG_1_TRIM!K12,CHAR(10),\"Trimestre 2\",CHAR(10),GESTION_SEG_2_TRIM!K12,CHAR(10),\"Trimestre 3\",CHAR(10),GESTION_SEG_3_TRIM!K12),\" \")","v":" "}]
[null,null,null,null,"Apoyo","Admin - Asistencia Legal","Seccional","Presentar informes de gestión, de procesos (pasivo contingente litigioso, sentencias favorables a la nación vs desfavorables, repeticiones, procesos activos y terminados).","Meta cuantificable",3,"Informe","Profesional Universitario a cargo de Asistencia Legal","Archivo de Excel con la información consignada conforme los paramétros establecidos por la Unidad de Asistencia Legal DEAJ","2023-01-01","2023-12-31",{"$f":"IFERROR(MAX(GESTION_SEG_1_TRIM!H13,GESTION_SEG_2_TRIM!H13,GESTION_SEG_3_TRIM!H13),\" \")","v":2},0.66666666666666663,{"$f":"IFERROR(_xludf.CONCAT(\"Trimestre 1\",CHAR(10),GESTION_SEG_1_TRIM!J13,CHAR(10),\"Trimestre 2\",CHAR(10),GESTION_SEG_2_TRIM!J13,CHAR(10),\"Trimestre 3\",CHAR(10),GESTION_SEG_3_TRIM!J13),\" \")","v":" "},{"$f":"IFERROR(_xludf.CONCAT(\"Trimestre 1\",CHAR(10),GESTION_SEG_1_TRIM!K13,CHAR(10),\"Trimestre 2\",CHAR(10),GESTION_SEG_2_TRIM!K13,CHAR(10),\"Trimestre 3\",CHAR(10),GESTION_SEG_3_TRIM!K13),\" \")","v":" "}]
[null,null,null,null,"Apoyo","Admin - Asistencia Legal","Seccional","Realizar y tramitar todos los requerimientos que llegan al área de asistencia legal como:  contestaciones, alegatos, llamamientos en garantía, asistencia a audiencias, realización de fichas, presentación de recursos etc) ","Entregable",null,null,"Profesional Universitario a cargo de Asistencia Legal","Informe de indicadores de gestión con la información de la atención a los requerimientos recibidos.","2023-01-01","2023-12-31",{"$f":"IFERROR(MAX(GESTION_SEG_1_TRIM!H14,GESTION_SEG_2_TRIM!H14,GESTION_SEG_3_TRIM!H14),\" \")","v":0},"",{"$f":"IFERROR(_xludf.CONCAT(\"Trimestre 1\",CHAR(10),GESTION_SEG_1_TRIM!J14,CHAR(10),\"Trimestre 2\",CHAR(10),GESTION_SEG_2_TRIM!J14,CHAR(10),\"Trimestre 3\",CHAR(10),GESTION_SEG_3_TRIM!J14),\" \")","v":" "},{"$f":"IFERROR(_xludf.CONCAT(\"Trimestre 1\",CHAR(10),GESTION_SEG_1_TRIM!K14,CHAR(10),\"Trimestre 2\",CHAR(10),GESTION_SEG_2_TRIM!K14,CHAR(10),\"Trimestre 3\",CHAR(10),GESTION_SEG_3_TRIM!K14),\" \")","v":" "}]
[null,null,null,null,null,null,null,null,null,null,null,null,null,null,null,{"$f":"IFERROR(MAX(GESTION_SEG_1_TRIM!H15,GESTION_SEG_2_TRIM!H15,GESTION_SEG_3_TRIM!H15),\" \")","v":0},"",{"$f":"IFERROR(_xludf.CONCAT(\"Trimestre 1\",CHAR(10),GESTION_SEG_1_TRIM!J15,CHAR(10),\"Trimestre 2\",CHAR(10),GESTION_SEG_2_TRIM!J15,CHAR(10),\"Trimestre 3\",CHAR(10),GESTION_SEG_3_TRIM!J15),\" \")","v":" "},{"$f":"IFERROR(_xludf.CONCAT(\"Trimestre 1\",CHAR(10),GESTION_SEG_1_TRIM!K15,CHAR(10),\"Trimestre 2\",CHAR(10),GESTION_SEG_2_TRIM!K15,CHAR(10),\"Trimestre 3\",CHAR(10),GESTION_SEG_3_TRIM!K15),\" \")","v":" "}]
[null,null,"3. Coadyuvar en la garantía de la idoneidad en el ejercicio de la profesión jurídica de acuerdo con lo establecido en la Ley 1905 de 2018","2. Asegurar  el cumplimiento de los objetivos institucionales, la normatividad aplicable,  la mejora del SIGCMA y la satisfacción de los usuarios, revisando de  forma continua y sistemática la planificación de la gestión y fortaleciendo la administración de riesgos y sus controles",null,null,null,null,null,null,null,null,null,null,null,{"$f":"IFERROR(MAX(GESTION_SEG_1_TRIM!H16,GESTION_SEG_2_TRIM!H16,GESTION_SEG_3_TRIM!H16),\" \")","v":0},"",{"$f":"IFERROR(_xludf.CONCAT(\"Trimestre 1\",CHAR(10),GESTION_SEG_1_TRIM!J16,CHAR(10),\"Trimestre 2\",CHAR(10),GESTION_SEG_2_TRIM!J16,CHAR(10),\"Trimestre 3\",CHAR(10),GESTION_SEG_3_TRIM!J16),\" \")","v":" "},{"$f":"IFERROR(_xludf.CONCAT(\"Trimestre 1\",CHAR(10),GESTION_SEG_1_TRIM!K16,CHAR(10),\"Trimestre 2\",CHAR(10),GESTION_SEG_2_TRIM!K16,CHAR(10),\"Trimestre 3\",CHAR(10),GESTION_SEG_3_TRIM!K16),\" \")","v":" "}]
[null,null,null,null,null,null,null,null,null,null,null,null,null,null,null,{"$f":"IFERROR(MAX(GESTION_SEG_1_TRIM!H17,GESTION_SEG_2_TRIM!H17,GESTION_SEG_3_TRIM!H17),\" \")","v":0},"",{"$f":"IFERROR(_xludf.CONCAT(\"Trimestre 1\",CHAR(10),GESTION_SEG_1_TRIM!J17,CHAR(10),\"Trimestre 2\",CHAR(10),GESTION_SEG_2_TRIM!J17,CHAR(10),\"Trimestre 3\",CHAR(10),GESTION_SEG_3_TRIM!J17),\" \")","v":" "},{"$f":"IFERROR(_xludf.CONCAT(\"Trimestre 1\",CHAR(10),GESTION_SEG_1_TRIM!K17,CHAR(10),\"Trimestre 2\",CHAR(10),GESTION_SEG_2_TRIM!K17,CHAR(10),\"Trimestre 3\",CHAR(10),GESTION_SEG_3_TRIM!K17),\" \")","v":" "}]
[null,null,null,null,null,null,null,null,null,null,null,null,null,null,null,{"$f":"IFERROR(MAX(GESTION_SEG_1_TRIM!H18,GESTION_SEG_2_TRIM!H18,GESTION_SEG_3_TRIM!H18),\" \")","v":0},"",{"$f":"IFERROR(_xludf.CONCAT(\"Trimestre 1\",CHAR(10),GESTION_SEG_1_TRIM!J18,CHAR(10),\"Trimestre 2\",CHAR(10),GESTION_SEG_2_TRIM!J18,CHAR(10),\"Trimestre 3\",CHAR(10),GESTION_SEG_3_TRIM!J18),\" \")","v":" "},{"$f":"IFERROR(_xludf.CONCAT(\"Trimestre 1\",CHAR(10),GESTION_SEG_1_TRIM!K18,CHAR(10),\"Trimestre 2\",CHAR(10),GESTION_SEG_2_TRIM!K18,CHAR(10),\"Trimestre 3\",CHAR(10),GESTION_SEG_3_TRIM!K18),\" \")","v":" "}]
[null,null,null,null,null,null,null,null,null,null,null,null,null,null,null,{"$f":"IFERROR(MAX(GESTION_SEG_1_TRIM!H19,GESTION_SEG_2_TRIM!H19,GESTION_SEG_3_TRIM!H19),\" \")","v":0},"",{"$f":"IFERROR(_xludf.CONCAT(\"Trimestre 1\",CHAR(10),GESTION_SEG_1_TRIM!J19,CHAR(10),\"Trimestre 2\",CHAR(10),GESTION_SEG_2_TRIM!J19,CHAR(10),\"Trimestre 3\",CHAR(10),GESTION_SEG_3_TRIM!J19),\" \")","v":" "},{"$f":"IFERROR(_xludf.CONCAT(\"Trimestre 1\",CHAR(10),GESTION_SEG_1_TRIM!K19,CHAR(10),\"Trimestre 2\",CHAR(10),GESTION_SEG_2_TRIM!K19,CHAR(10),\"Trimestre 3\",CHAR(10),GESTION_SEG_3_TRIM!K19),\" \")","v":" "}]
[null,null,null,null,null,null,null,null,null,null,null,null,null,null,null,{"$f":"IFERROR(MAX(GESTION_SEG_1_TRIM!H20,GESTION_SEG_2_TRIM!H20,GESTION_SEG_3_TRIM!H20),\" \")","v":0},"",{"$f":"IFERROR(_xludf.CONCAT(\"Trimestre 1\",CHAR(10),GESTION_SEG_1_TRIM!J20,CHAR(10),\"Trimestre 2\",CHAR(10),GESTION_SEG_2_TRIM!J20,CHAR(10),\"Trimestre 3\",CHAR(10),GESTION_SEG_3_TRIM!J20),\" \")","v":" "},{"$f":"IFERROR(_xludf.CONCAT(\"Trimestre 1\",CHAR(10),GESTION_SEG_1_TRIM!K20,CHAR(10),\"Trimestre 2\",CHAR(10),GESTION_SEG_2_TRIM!K20,CHAR(10),\"Trimestre 3\",CHAR(10),GESTION_SEG_3_TRIM!K20),\" \")","v":" "}]
[null,null,"4. Avanzar en la disposición de una infraestructura óptima para el acceso a la justicia en la Rama Judicial de modo que se fortalezca la presencia territorial, teniendo en cuenta las posibilidades que ofrece la transformación digital y las necesidades que se derivan de ella, y considerando tanto las necesidades de los usuarios como las de los servidores judiciales.","4. Hacer un uso racional de los recursos naturales aplicando los principios y fases de la Economía Circular, para prevenir, mitigar y controlar los impactos ambientales","Misionales","Admin - Mejoramiento de la Infraestructura Física","Seccional","Mejorar las condiciones locativas de la infraestructura física del Distrito Judicial de Distrito Judicial de Quibdo y Administrativo del Chocó ","Entregable",null,null,"WILSON CARREÑO MURCIA","Plan Anual de Adquisicion - Requerimientos y/o Visitas sedes Judiciales","2023-01-01","2023-12-31",{"$f":"IFERROR(MAX(GESTION_SEG_1_TRIM!H21,GESTION_SEG_2_TRIM!H21,GESTION_SEG_3_TRIM!H21),\" \")","v":0},"",{"$f":"IFERROR(_xludf.CONCAT(\"Trimestre 1\",CHAR(10),GESTION_SEG_1_TRIM!J21,CHAR(10),\"Trimestre 2\",CHAR(10),GESTION_SEG_2_TRIM!J21,CHAR(10),\"Trimestre 3\",CHAR(10),GESTION_SEG_3_TRIM!J21),\" \")","v":" "},{"$f":"IFERROR(_xludf.CONCAT(\"Trimestre 1\",CHAR(10),GESTION_SEG_1_TRIM!K21,CHAR(10),\"Trimestre 2\",CHAR(10),GESTION_SEG_2_TRIM!K21,CHAR(10),\"Trimestre 3\",CHAR(10),GESTION_SEG_3_TRIM!K21),\" \")","v":" "}]
[null,null,null,null,"Misionales","Admin - Mejoramiento de la Infraestructura Física","Seccional","Realizar seguimiento a  la ejecución y cumplimiento de los contratos de Mejoramiento y  Mantenimiento de la Infraestructura Física del Distrito Judicial de Quibdo y Administrativo del Chocó ","Entregable",null,"informes de supervision ","WILSON CARREÑO MURCIA","Ficha Tecnica de Avance de ejecucion de Contrato - Correo Electronico - SECOP II","2023-01-01","2023-12-31",{"$f":"IFERROR(MAX(GESTION_SEG_1_TRIM!H22,GESTION_SEG_2_TRIM!H22,GESTION_SEG_3_TRIM!H22),\" \")","v":0},"",{"$f":"IFERROR(_xludf.CONCAT(\"Trimestre 1\",CHAR(10),GESTION_SEG_1_TRIM!J22,CHAR(10),\"Trimestre 2\",CHAR(10),GESTION_SEG_2_TRIM!J22,CHAR(10),\"Trimestre 3\",CHAR(10),GESTION_SEG_3_TRIM!J22),\" \")","v":" "},{"$f":"IFERROR(_xludf.CONCAT(\"Trimestre 1\",CHAR(10),GESTION_SEG_1_TRIM!K22,CHAR(10),\"Trimestre 2\",CHAR(10),GESTION_SEG_2_TRIM!K22,CHAR(10),\"Trimestre 3\",CHAR(10),GESTION_SEG_3_TRIM!K22),\" \")","v":" "}]
[null,null,null,null,"Misionales","Admin - Mejoramiento de la Infraestructura Física","Seccional","Gestionar con los entes Territoriales la adquisicion de inmuebles a traves de donacion ","Entregable",null,"oficios ","WILSON CARREÑO MURCIA","Oficios - Correo Electronico","2023-01-01","2023-12-31",{"$f":"IFERROR(MAX(GESTION_SEG_1_TRIM!H23,GESTION_SEG_2_TRIM!H23,GESTION_SEG_3_TRIM!H23),\" \")","v":0},"",{"$f":"IFERROR(_xludf.CONCAT(\"Trimestre 1\",CHAR(10),GESTION_SEG_1_TRIM!J23,CHAR(10),\"Trimestre 2\",CHAR(10),GESTION_SEG_2_TRIM!J23,CHAR(10),\"Trimestre 3\",CHAR(10),GESTION_SEG_3_TRIM!J23),\" \")","v":" "},{"$f":"IFERROR(_xludf.CONCAT(\"Trimestre 1\",CHAR(10),GESTION_SEG_1_TRIM!K23,CHAR(10),\"Trimestre 2\",CHAR(10),GESTION_SEG_2_TRIM!K23,CHAR(10),\"Trimestre 3\",CHAR(10),GESTION_SEG_3_TRIM!K23),\" \")","v":" "}]
[null,null,null,null,"Misionales","Admin - Mejoramiento de la Infraestructura Física","Seccional","Elaborar Plan Anual de Necesidades para Mejoramiento y  Mantenimiento de la Infraestructura propia del sector","Meta cuantificable",1,"Formato","WILSON CARREÑO MURCIA","Formato del Plan Anual de Necesidades diligeniado y remitido","2023-01-01","2023-12-31",{"$f":"IFERROR(MAX(GESTION_SEG_1_TRIM!H24,GESTION_SEG_2_TRIM!H24,GESTION_SEG_3_TRIM!H24),\" \")","v":1},1,{"$f":"IFERROR(_xludf.CONCAT(\"Trimestre 1\",CHAR(10),GESTION_SEG_1_TRIM!J24,CHAR(10),\"Trimestre 2\",CHAR(10),GESTION_SEG_2_TRIM!J24,CHAR(10),\"Trimestre 3\",CHAR(10),GESTION_SEG_3_TRIM!J24),\" \")","v":" "},{"$f":"IFERROR(_xludf.CONCAT(\"Trimestre 1\",CHAR(10),GESTION_SEG_1_TRIM!K24,CHAR(10),\"Trimestre 2\",CHAR(10),GESTION_SEG_2_TRIM!K24,CHAR(10),\"Trimestre 3\",CHAR(10),GESTION_SEG_3_TRIM!K24),\" \")","v":" "}]
[null,null,null,null,"Apoyo","Admin - Administración de la Seguridad","Seccional","Gestionar actividades preventivas y correctivas para el mantenimiento de los vehículos automotores  adscritos a los  despachos judiciales y dependencias administrativa de la Seccional cumpiendo con los esquemas de seguridad.","Entregable",null,"oficios ","WILSON CARREÑO MURCIA","Informe de mantenimiento","2023-01-01","2023-12-31",{"$f":"IFERROR(MAX(GESTION_SEG_1_TRIM!H25,GESTION_SEG_2_TRIM!H25,GESTION_SEG_3_TRIM!H25),\" \")","v":0},"",{"$f":"IFERROR(_xludf.CONCAT(\"Trimestre 1\",CHAR(10),GESTION_SEG_1_TRIM!J25,CHAR(10),\"Trimestre 2\",CHAR(10),GESTION_SEG_2_TRIM!J25,CHAR(10),\"Trimestre 3\",CHAR(10),GESTION_SEG_3_TRIM!J25),\" \")","v":" "},{"$f":"IFERROR(_xludf.CONCAT(\"Trimestre 1\",CHAR(10),GESTION_SEG_1_TRIM!K25,CHAR(10),\"Trimestre 2\",CHAR(10),GESTION_SEG_2_TRIM!K25,CHAR(10),\"Trimestre 3\",CHAR(10),GESTION_SEG_3_TRIM!K25),\" \")","v":" "}]
[null,null,"5. Impulsar el uso de mecanismos alternativos para la solución de conflictos y la ampliación de la justicia restaurativa y terapéutica y el robustecimiento de las alternativas al encarcelamiento","2. Asegurar  el cumplimiento de los objetivos institucionales, la normatividad aplicable,  la mejora del SIGCMA y la satisfacción de los usuarios, revisando de  forma continua y sistemática la planificación de la gestión y fortaleciendo la administración de riesgos y sus controles",null,null,null,null,null,null,null,null,null,null,null,{"$f":"IFERROR(MAX(GESTION_SEG_1_TRIM!H26,GESTION_SEG_2_TRIM!H26,GESTION_SEG_3_TRIM!H26),\" \")","v":0},"",{"$f":"IFERROR(_xludf.CONCAT(\"Trimestre 1\",CHAR(10),GESTION_SEG_1_TRIM!J26,CHAR(10),\"Trimestre 2\",CHAR(10),GESTION_SEG_2_TRIM!J26,CHAR(10),\"Trimestre 3\",CHAR(10),GESTION_SEG_3_TRIM!J26),\" \")","v":" "},{"$f":"IFERROR(_xludf.CONCAT(\"Trimestre 1\",CHAR(10),GESTION_SEG_1_TRIM!K26,CHAR(10),\"Trimestre 2\",CHAR(10),GESTION_SEG_2_TRIM!K26,CHAR(10),\"Trimestre 3\",CHAR(10),GESTION_SEG_3_TRIM!K26),\" \")","v":" "}]
[null,null,null,null,null,null,null,null,null,null,null,null,null,null,null,{"$f":"IFERROR(MAX(GESTION_SEG_1_TRIM!H27,GESTION_SEG_2_TRIM!H27,GESTION_SEG_3_TRIM!H27),\" \")","v":0},"",{"$f":"IFERROR(_xludf.CONCAT(\"Trimestre 1\",CHAR(10),GESTION_SEG_1_TRIM!J27,CHAR(10),\"Trimestre 2\",CHAR(10),GESTION_SEG_2_TRIM!J27,CHAR(10),\"Trimestre 3\",CHAR(10),GESTION_SEG_3_TRIM!J27),\" \")","v":" "},{"$f":"IFERROR(_xludf.CONCAT(\"Trimestre 1\",CHAR(10),GESTION_SEG_1_TRIM!K27,CHAR(10),\"Trimestre 2\",CHAR(10),GESTION_SEG_2_TRIM!K27,CHAR(10),\"Trimestre 3\",CHAR(10),GESTION_SEG_3_TRIM!K27),\" \")","v":" "}]
[null,null,null,null,null,null,null,null,null,null,null,null,null,null,null,{"$f":"IFERROR(MAX(GESTION_SEG_1_TRIM!H28,GESTION_SEG_2_TRIM!H28,GESTION_SEG_3_TRIM!H28),\" \")","v":0},"",{"$f":"IFERROR(_xludf.CONCAT(\"Trimestre 1\",CHAR(10),GESTION_SEG_1_TRIM!J28,CHAR(10),\"Trimestre 2\",CHAR(10),GESTION_SEG_2_TRIM!J28,CHAR(10),\"Trimestre 3\",CHAR(10),GESTION_SEG_3_TRIM!J28),\" \")","v":" "},{"$f":"IFERROR(_xludf.CONCAT(\"Trimestre 1\",CHAR(10),GESTION_SEG_1_TRIM!K28,CHAR(10),\"Trimestre 2\",CHAR(10),GESTION_SEG_2_TRIM!K28,CHAR(10),\"Trimestre 3\",CHAR(10),GESTION_SEG_3_TRIM!K28),\" \")","v":" "}]
[null,null,null,null,null,null,null,null,null,null,null,null,null,null,null,{"$f":"IFERROR(MAX(GESTION_SEG_1_TRIM!H29,GESTION_SEG_2_TRIM!H29,GESTION_SEG_3_TRIM!H29),\" \")","v":0},"",{"$f":"IFERROR(_xludf.CONCAT(\"Trimestre 1\",CHAR(10),GESTION_SEG_1_TRIM!J29,CHAR(10),\"Trimestre 2\",CHAR(10),GESTION_SEG_2_TRIM!J29,CHAR(10),\"Trimestre 3\",CHAR(10),GESTION_SEG_3_TRIM!J29),\" \")","v":" "},{"$f":"IFERROR(_xludf.CONCAT(\"Trimestre 1\",CHAR(10),GESTION_SEG_1_TRIM!K29,CHAR(10),\"Trimestre 2\",CHAR(10),GESTION_SEG_2_TRIM!K29,CHAR(10),\"Trimestre 3\",CHAR(10),GESTION_SEG_3_TRIM!K29),\" \")","v":" "}]
[null,null,null,null,null,null,null,null,null,null,null,null,null,null,null,{"$f":"IFERROR(MAX(GESTION_SEG_1_TRIM!H30,GESTION_SEG_2_TRIM!H30,GESTION_SEG_3_TRIM!H30),\" \")","v":0},"",{"$f":"IFERROR(_xludf.CONCAT(\"Trimestre 1\",CHAR(10),GESTION_SEG_1_TRIM!J30,CHAR(10),\"Trimestre 2\",CHAR(10),GESTION_SEG_2_TRIM!J30,CHAR(10),\"Trimestre 3\",CHAR(10),GESTION_SEG_3_TRIM!J30),\" \")","v":" "},{"$f":"IFERROR(_xludf.CONCAT(\"Trimestre 1\",CHAR(10),GESTION_SEG_1_TRIM!K30,CHAR(10),\"Trimestre 2\",CHAR(10),GESTION_SEG_2_TRIM!K30,CHAR(10),\"Trimestre 3\",CHAR(10),GESTION_SEG_3_TRIM!K30),\" \")","v":" "}]
["2. Servicios digitales y de tecnología, innovación y análisis de la información.","Servicios digitales y de tecnología, innovación y análisis de la información: Consolidar una justicia integrada y soportada en servicios digitales y de tecnología, innovación y análisis de la información, con una cultura digital apropiada, segura y sensible a las realidades del territorio nacional. ","1. Ampliar el acceso a la justicia a través de la consolidación del uso de los servicios digitales que conforman el sistema único integrado de gestión judicial en todos los despachos judiciales y dependencias de apoyo y, específicamente, incluyendo el despliegue e implementación del Expediente Judicial Electrónico en todas las jurisdicciones y especialidades.","6. Proteger, preservar y administrar los activos de información  implementando acciones  para gestionar de forma adecuada los incidentes, proteger los datos personales y adoptar mecanismos  de ciberseguridad y aseguramiento de la  continuidad del negocio.","Estratégicos","Admin - Comunicación Institucional","Seccional","Publicar en el Portal WEB Seccional y en la red social (Twitter ) y mediante los Correos Institucionales, (Actos Administrativos producidos por el Consejo Seccional,. Acuerdo, circulares, Boletines, informacion de interés general, capacitaciones, Avisos, etc...)","Entregable",null,"%","Despacho 01 - Magistrada / Auxiliar Judicial I","Cuadro asuntos de reparto por temas / actas de aprobación / registro pagina web / actos administrativos expedidos","2023-01-01","2023-12-31",{"$f":"IFERROR(MAX(GESTION_SEG_1_TRIM!H31,GESTION_SEG_2_TRIM!H31,GESTION_SEG_3_TRIM!H31),\" \")","v":0},"",{"$f":"IFERROR(_xludf.CONCAT(\"Trimestre 1\",CHAR(10),GESTION_SEG_1_TRIM!J31,CHAR(10),\"Trimestre 2\",CHAR(10),GESTION_SEG_2_TRIM!J31,CHAR(10),\"Trimestre 3\",CHAR(10),GESTION_SEG_3_TRIM!J31),\" \")","v":" "},{"$f":"IFERROR(_xludf.CONCAT(\"Trimestre 1\",CHAR(10),GESTION_SEG_1_TRIM!K31,CHAR(10),\"Trimestre 2\",CHAR(10),GESTION_SEG_2_TRIM!K31,CHAR(10),\"Trimestre 3\",CHAR(10),GESTION_SEG_3_TRIM!K31),\" \")","v":" "}]
[null,null,null,null,"Estratégicos","Admin - Comunicación Institucional","Seccional","Recibir, elaborar y gestionar, en el aplicativo de correspondencia SIGOBIUS, las comunicaciones y oficios","Entregable",null,"%","Despacho 01 y Despacho 02 Magistrada / Auxiliar Judicial I - Escribiente y Profesional U.","Cuadro asuntos de reparto por temas / actas de aprobación / registro pagina web / actos administrativos expedidos","2023-01-01","2023-12-31",{"$f":"IFERROR(MAX(GESTION_SEG_1_TRIM!H32,GESTION_SEG_2_TRIM!H32,GESTION_SEG_3_TRIM!H32),\" \")","v":0},"",{"$f":"IFERROR(_xludf.CONCAT(\"Trimestre 1\",CHAR(10),GESTION_SEG_1_TRIM!J32,CHAR(10),\"Trimestre 2\",CHAR(10),GESTION_SEG_2_TRIM!J32,CHAR(10),\"Trimestre 3\",CHAR(10),GESTION_SEG_3_TRIM!J32),\" \")","v":" "},{"$f":"IFERROR(_xludf.CONCAT(\"Trimestre 1\",CHAR(10),GESTION_SEG_1_TRIM!K32,CHAR(10),\"Trimestre 2\",CHAR(10),GESTION_SEG_2_TRIM!K32,CHAR(10),\"Trimestre 3\",CHAR(10),GESTION_SEG_3_TRIM!K32),\" \")","v":" "}]
[null,null,null,null,"Apoyo","Admin - Gestión Tecnológica","Seccional","Realizar seguimiento al contrato CSJ 2023 - OC101882 PIVOT 1819- CSJ - CHOCÓ se da  apoyo de la  Cobertura total del acceso a internet de todos los despacho judiciales de la Seccional, es decir juzgados, despachos de magistrados, centros de servicios,  secretarias generales, una oficina de apoyo judicial y la oficina de la Coordinación Administrativa de Quibdó.","Entregable",null,null,"Coordinador Grupo Mantenimiento - Soporte Tecnologico Quibdó","Correos institucionales / Oficios / WhatsApp Web","2023-01-01","2023-12-31",{"$f":"IFERROR(MAX(GESTION_SEG_1_TRIM!H33,GESTION_SEG_2_TRIM!H33,GESTION_SEG_3_TRIM!H33),\" \")","v":0},"",{"$f":"IFERROR(_xludf.CONCAT(\"Trimestre 1\",CHAR(10),GESTION_SEG_1_TRIM!J33,CHAR(10),\"Trimestre 2\",CHAR(10),GESTION_SEG_2_TRIM!J33,CHAR(10),\"Trimestre 3\",CHAR(10),GESTION_SEG_3_TRIM!J33),\" \")","v":" "},{"$f":"IFERROR(_xludf.CONCAT(\"Trimestre 1\",CHAR(10),GESTION_SEG_1_TRIM!K33,CHAR(10),\"Trimestre 2\",CHAR(10),GESTION_SEG_2_TRIM!K33,CHAR(10),\"Trimestre 3\",CHAR(10),GESTION_SEG_3_TRIM!K33),\" \")","v":" "}]
[null,null,null,null,"Apoyo","Admin - Gestión Tecnológica","Seccional","Realizar seguimiento y apoyo de primer nivel en la implementación de sistema de información procesal judicial en la Rama Judicial Justicia XXI Web (Tyba), Siglo XXI Cliente Servidor, Samai, SIGOBIUS, Aplicativo Firma Electronica, portal Banco Agrario , Azure, ,Cicero, Lifezise, Oficce 365,  Portal Rama Judicial ( MicroSitio) creaciones de usuarios, traslados de usuarios, Capacitacion Etc.","Entregable",null,null,"Coordinador Grupo Mantenimiento - Soporte Tecnologico Quibdó","Correos institucionales / Oficios / WhatsApp Web","2023-01-01","2023-12-31",{"$f":"IFERROR(MAX(GESTION_SEG_1_TRIM!H34,GESTION_SEG_2_TRIM!H34,GESTION_SEG_3_TRIM!H34),\" \")","v":0},"",{"$f":"IFERROR(_xludf.CONCAT(\"Trimestre 1\",CHAR(10),GESTION_SEG_1_TRIM!J34,CHAR(10),\"Trimestre 2\",CHAR(10),GESTION_SEG_2_TRIM!J34,CHAR(10),\"Trimestre 3\",CHAR(10),GESTION_SEG_3_TRIM!J34),\" \")","v":" "},{"$f":"IFERROR(_xludf.CONCAT(\"Trimestre 1\",CHAR(10),GESTION_SEG_1_TRIM!K34,CHAR(10),\"Trimestre 2\",CHAR(10),GESTION_SEG_2_TRIM!K34,CHAR(10),\"Trimestre 3\",CHAR(10),GESTION_SEG_3_TRIM!K34),\" \")","v":" "}]
[null,null,null,null,"Apoyo","Admin - Gestión Tecnológica","Seccional","Hacer seguimiento a las actividades programadas como mantenimiento preventivo y correctivo y se realiza acompañamiento a la atencion de los incidentes reportados para su atencion tecnica  por  medio del contrato 276 DEL 2022 DE MESA DE AYUDA ETB","Entregable",null,null,"Coordinador Grupo Mantenimiento - Soporte Tecnologico Quibdó","Actas de prestación de servicio","2023-01-01","2023-12-31",{"$f":"IFERROR(MAX(GESTION_SEG_1_TRIM!H35,GESTION_SEG_2_TRIM!H35,GESTION_SEG_3_TRIM!H35),\" \")","v":0},"",{"$f":"IFERROR(_xludf.CONCAT(\"Trimestre 1\",CHAR(10),GESTION_SEG_1_TRIM!J35,CHAR(10),\"Trimestre 2\",CHAR(10),GESTION_SEG_2_TRIM!J35,CHAR(10),\"Trimestre 3\",CHAR(10),GESTION_SEG_3_TRIM!J35),\" \")","v":" "},{"$f":"IFERROR(_xludf.CONCAT(\"Trimestre 1\",CHAR(10),GESTION_SEG_1_TRIM!K35,CHAR(10),\"Trimestre 2\",CHAR(10),GESTION_SEG_2_TRIM!K35,CHAR(10),\"Trimestre 3\",CHAR(10),GESTION_SEG_3_TRIM!K35),\" \")","v":" "}]
[null,null,"2. Integrar y hacer compatibles todos los aplicativos de transición con SIUGJ, para que la migración de los expedientes judiciales a dicha plataforma sea real y no suponga afectaciones en la prestación del servicio de justicia.",null,"Apoyo","Admin - Gestión Tecnológica","Seccional"," Brindar apoyo en las audiencias presenciales y   virtuales y  se ha realizado la actualización de de salas de audiencias  preexistentes - actal son  virtuales / Contrato de Prestación de Servicios  No. 175 de 2020 - LIFEZISE","Entregable",null,null,"Coordinador Grupo Mantenimiento - Soporte Tecnologico Quibdó","Correos institucionales / Oficios / WhatsApp Web","2023-01-01","2023-12-31",{"$f":"IFERROR(MAX(GESTION_SEG_1_TRIM!H36,GESTION_SEG_2_TRIM!H36,GESTION_SEG_3_TRIM!H36),\" \")","v":0},"",{"$f":"IFERROR(_xludf.CONCAT(\"Trimestre 1\",CHAR(10),GESTION_SEG_1_TRIM!J36,CHAR(10),\"Trimestre 2\",CHAR(10),GESTION_SEG_2_TRIM!J36,CHAR(10),\"Trimestre 3\",CHAR(10),GESTION_SEG_3_TRIM!J36),\" \")","v":" "},{"$f":"IFERROR(_xludf.CONCAT(\"Trimestre 1\",CHAR(10),GESTION_SEG_1_TRIM!K36,CHAR(10),\"Trimestre 2\",CHAR(10),GESTION_SEG_2_TRIM!K36,CHAR(10),\"Trimestre 3\",CHAR(10),GESTION_SEG_3_TRIM!K36),\" \")","v":" "}]
[null,null,null,null,null,null,null,null,null,null,null,null,null,null,null,{"$f":"IFERROR(MAX(GESTION_SEG_1_TRIM!H37,GESTION_SEG_2_TRIM!H37,GESTION_SEG_3_TRIM!H37),\" \")","v":0},"",{"$f":"IFERROR(_xludf.CONCAT(\"Trimestre 1\",CHAR(10),GESTION_SEG_1_TRIM!J37,CHAR(10),\"Trimestre 2\",CHAR(10),GESTION_SEG_2_TRIM!J37,CHAR(10),\"Trimestre 3\",CHAR(10),GESTION_SEG_3_TRIM!J37),\" \")","v":" "},{"$f":"IFERROR(_xludf.CONCAT(\"Trimestre 1\",CHAR(10),GESTION_SEG_1_TRIM!K37,CHAR(10),\"Trimestre 2\",CHAR(10),GESTION_SEG_2_TRIM!K37,CHAR(10),\"Trimestre 3\",CHAR(10),GESTION_SEG_3_TRIM!K37),\" \")","v":" "}]
[null,null,null,null,null,null,null,null,null,null,null,null,null,null,null,{"$f":"IFERROR(MAX(GESTION_SEG_1_TRIM!H38,GESTION_SEG_2_TRIM!H38,GESTION_SEG_3_TRIM!H38),\" \")","v":0},{"$f":"IFERROR(P38/J38,\"\")","v":""},{"$f":"IFERROR(_xludf.CONCAT(\"Trimestre 1\",CHAR(10),GESTION_SEG_1_TRIM!J38,CHAR(10),\"Trimestre 2\",CHAR(10),GESTION_SEG_2_TRIM!J38,CHAR(10),\"Trimestre 3\",CHAR(10),GESTION_SEG_3_TRIM!J38),\" \")","v":" "},{"$f":"IFERROR(_xludf.CONCAT(\"Trimestre 1\",CHAR(10),GESTION_SEG_1_TRIM!K38,CHAR(10),\"Trimestre 2\",CHAR(10),GESTION_SEG_2_TRIM!K38,CHAR(10),\"Trimestre 3\",CHAR(10),GESTION_SEG_3_TRIM!K38),\" \")","v":" "}]
[null,null,null,null,null,null,null,null,null,null,null,null,null,null,null,{"$f":"IFERROR(MAX(GESTION_SEG_1_TRIM!H39,GESTION_SEG_2_TRIM!H39,GESTION_SEG_3_TRIM!H39),\" \")","v":0},"",{"$f":"IFERROR(_xludf.CONCAT(\"Trimestre 1\",CHAR(10),GESTION_SEG_1_TRIM!J39,CHAR(10),\"Trimestre 2\",CHAR(10),GESTION_SEG_2_TRIM!J39,CHAR(10),\"Trimestre 3\",CHAR(10),GESTION_SEG_3_TRIM!J39),\" \")","v":" "},{"$f":"IFERROR(_xludf.CONCAT(\"Trimestre 1\",CHAR(10),GESTION_SEG_1_TRIM!K39,CHAR(10),\"Trimestre 2\",CHAR(10),GESTION_SEG_2_TRIM!K39,CHAR(10),\"Trimestre 3\",CHAR(10),GESTION_SEG_3_TRIM!K39),\" \")","v":" "}]
[null,null,null,null,null,null,null,null,null,null,null,null,null,null,null,{"$f":"IFERROR(MAX(GESTION_SEG_1_TRIM!H40,GESTION_SEG_2_TRIM!H40,GESTION_SEG_3_TRIM!H40),\" \")","v":0},"",{"$f":"IFERROR(_xludf.CONCAT(\"Trimestre 1\",CHAR(10),GESTION_SEG_1_TRIM!J40,CHAR(10),\"Trimestre 2\",CHAR(10),GESTION_SEG_2_TRIM!J40,CHAR(10),\"Trimestre 3\",CHAR(10),GESTION_SEG_3_TRIM!J40),\" \")","v":" "},{"$f":"IFERROR(_xludf.CONCAT(\"Trimestre 1\",CHAR(10),GESTION_SEG_1_TRIM!K40,CHAR(10),\"Trimestre 2\",CHAR(10),GESTION_SEG_2_TRIM!K40,CHAR(10),\"Trimestre 3\",CHAR(10),GESTION_SEG_3_TRIM!K40),\" \")","v":" "}]
[null,null,"3. Fortalecer las capacidades institucionales, adecuar el modelo operativo y de servicio, bajo un enfoque de Arquitectura Empresarial y de fortalecimiento del acceso a la justicia.",null,"Apoyo","Admin - Gestión Humana","Seccional","Fortalecer el conocimiento del servidor judicial, en cuanto al funconamiento y organizacion de la entidad, y del sistema Integrado de Gestion de la Calidad","Entregable",null,null,"Lider Proceso Gestion Humana","Registro de convocatoria, de asistencia y memorial de la actividad","2023-01-01","2023-12-31",{"$f":"IFERROR(MAX(GESTION_SEG_1_TRIM!H41,GESTION_SEG_2_TRIM!H41,GESTION_SEG_3_TRIM!H41),\" \")","v":0},"",{"$f":"IFERROR(_xludf.CONCAT(\"Trimestre 1\",CHAR(10),GESTION_SEG_1_TRIM!J41,CHAR(10),\"Trimestre 2\",CHAR(10),GESTION_SEG_2_TRIM!J41,CHAR(10),\"Trimestre 3\",CHAR(10),GESTION_SEG_3_TRIM!J41),\" \")","v":" "},{"$f":"IFERROR(_xludf.CONCAT(\"Trimestre 1\",CHAR(10),GESTION_SEG_1_TRIM!K41,CHAR(10),\"Trimestre 2\",CHAR(10),GESTION_SEG_2_TRIM!K41,CHAR(10),\"Trimestre 3\",CHAR(10),GESTION_SEG_3_TRIM!K41),\" \")","v":" "}]
[null,null,null,null,"Apoyo","Admin - Gestión Humana","Seccional","Implementar programas de bienestar social en asocio con la Caja de compensación Familiar - CONFACHOCO","Entregable",null,null,"Lider Proceso Gestion Humana","Registro de convocatoria, de asistencia y memorial de la actividad","2023-01-01","2023-12-31",{"$f":"IFERROR(MAX(GESTION_SEG_1_TRIM!H42,GESTION_SEG_2_TRIM!H42,GESTION_SEG_3_TRIM!H42),\" \")","v":0},"",{"$f":"IFERROR(_xludf.CONCAT(\"Trimestre 1\",CHAR(10),GESTION_SEG_1_TRIM!J42,CHAR(10),\"Trimestre 2\",CHAR(10),GESTION_SEG_2_TRIM!J42,CHAR(10),\"Trimestre 3\",CHAR(10),GESTION_SEG_3_TRIM!J42),\" \")","v":" "},{"$f":"IFERROR(_xludf.CONCAT(\"Trimestre 1\",CHAR(10),GESTION_SEG_1_TRIM!K42,CHAR(10),\"Trimestre 2\",CHAR(10),GESTION_SEG_2_TRIM!K42,CHAR(10),\"Trimestre 3\",CHAR(10),GESTION_SEG_3_TRIM!K42),\" \")","v":" "}]
[null,null,null,null,"Apoyo","Admin - Gestión Humana","Seccional","Adelantar el diagnostico de competencias a los servidores judiciales del distrito","Entregable",null,null,"Lider Proceso Gestion Humana","Formulario de diagnostico de competencias diligenciado por los servidores","2023-01-01","2023-12-31",{"$f":"IFERROR(MAX(GESTION_SEG_1_TRIM!H43,GESTION_SEG_2_TRIM!H43,GESTION_SEG_3_TRIM!H43),\" \")","v":0},"",{"$f":"IFERROR(_xludf.CONCAT(\"Trimestre 1\",CHAR(10),GESTION_SEG_1_TRIM!J43,CHAR(10),\"Trimestre 2\",CHAR(10),GESTION_SEG_2_TRIM!J43,CHAR(10),\"Trimestre 3\",CHAR(10),GESTION_SEG_3_TRIM!J43),\" \")","v":" "},{"$f":"IFERROR(_xludf.CONCAT(\"Trimestre 1\",CHAR(10),GESTION_SEG_1_TRIM!K43,CHAR(10),\"Trimestre 2\",CHAR(10),GESTION_SEG_2_TRIM!K43,CHAR(10),\"Trimestre 3\",CHAR(10),GESTION_SEG_3_TRIM!K43),\" \")","v":" "}]
[null,null,null,null,"Apoyo","Admin - Gestión Humana","Seccional","Verificacion del cumplimiento de los requisitos de los servidores a vincular","Entregable",null,null,"Lider Proceso Gestion Humana","Formulario de diagnostico de competencias diligenciado por los servidores","2023-01-01","2023-12-31",{"$f":"IFERROR(MAX(GESTION_SEG_1_TRIM!H44,GESTION_SEG_2_TRIM!H44,GESTION_SEG_3_TRIM!H44),\" \")","v":0},"",{"$f":"IFERROR(_xludf.CONCAT(\"Trimestre 1\",CHAR(10),GESTION_SEG_1_TRIM!J44,CHAR(10),\"Trimestre 2\",CHAR(10),GESTION_SEG_2_TRIM!J44,CHAR(10),\"Trimestre 3\",CHAR(10),GESTION_SEG_3_TRIM!J44),\" \")","v":" "},{"$f":"IFERROR(_xludf.CONCAT(\"Trimestre 1\",CHAR(10),GESTION_SEG_1_TRIM!K44,CHAR(10),\"Trimestre 2\",CHAR(10),GESTION_SEG_2_TRIM!K44,CHAR(10),\"Trimestre 3\",CHAR(10),GESTION_SEG_3_TRIM!K44),\" \")","v":" "}]
[null,null,null,null,"Apoyo","Admin - Gestión Humana","Seccional","Tramitar ante la Direccion Seccional de medellin, las quejas por inconsistencia o no pago oportunida de la nominada","Entregable",null,null,"Lider Proceso Gestion Humana","Correo electronico","2023-01-01","2023-12-31",{"$f":"IFERROR(MAX(GESTION_SEG_1_TRIM!H45,GESTION_SEG_2_TRIM!H45,GESTION_SEG_3_TRIM!H45),\" \")","v":0},"",{"$f":"IFERROR(_xludf.CONCAT(\"Trimestre 1\",CHAR(10),GESTION_SEG_1_TRIM!J45,CHAR(10),\"Trimestre 2\",CHAR(10),GESTION_SEG_2_TRIM!J45,CHAR(10),\"Trimestre 3\",CHAR(10),GESTION_SEG_3_TRIM!J45),\" \")","v":" "},{"$f":"IFERROR(_xludf.CONCAT(\"Trimestre 1\",CHAR(10),GESTION_SEG_1_TRIM!K45,CHAR(10),\"Trimestre 2\",CHAR(10),GESTION_SEG_2_TRIM!K45,CHAR(10),\"Trimestre 3\",CHAR(10),GESTION_SEG_3_TRIM!K45),\" \")","v":" "}]
[null,null,"4.Consolidar la cultura y apropiación de la transformación digital en los servidores y usuarios de los servicios de la Rama Judicial y reducir brechas de acceso y conocimiento, incluyendo la oferta efectiva de información sobre el uso de las nuevas herramientas virtuales implementadas en las diferentes jurisdicciones, con especial énfasis en las zonas del país donde es evidente la brecha digital.",null,"Apoyo","Admin - Gestión Humana","Seccional","Seguimiento al ausentimos laboral por incapacidad y accidente de trabajo","Entregable",null,null,"Lider Proceso Gestion Humana","Formato se seguimiento ausentismo","2023-01-01","2023-12-31",{"$f":"IFERROR(MAX(GESTION_SEG_1_TRIM!H46,GESTION_SEG_2_TRIM!H46,GESTION_SEG_3_TRIM!H46),\" \")","v":0},"",{"$f":"IFERROR(_xludf.CONCAT(\"Trimestre 1\",CHAR(10),GESTION_SEG_1_TRIM!J46,CHAR(10),\"Trimestre 2\",CHAR(10),GESTION_SEG_2_TRIM!J46,CHAR(10),\"Trimestre 3\",CHAR(10),GESTION_SEG_3_TRIM!J46),\" \")","v":" "},{"$f":"IFERROR(_xludf.CONCAT(\"Trimestre 1\",CHAR(10),GESTION_SEG_1_TRIM!K46,CHAR(10),\"Trimestre 2\",CHAR(10),GESTION_SEG_2_TRIM!K46,CHAR(10),\"Trimestre 3\",CHAR(10),GESTION_SEG_3_TRIM!K46),\" \")","v":" "}]
[null,null,null,null,null,null,null,null,null,null,null,null,null,null,null,{"$f":"IFERROR(MAX(GESTION_SEG_1_TRIM!H47,GESTION_SEG_2_TRIM!H47,GESTION_SEG_3_TRIM!H47),\" \")","v":0},"",{"$f":"IFERROR(_xludf.CONCAT(\"Trimestre 1\",CHAR(10),GESTION_SEG_1_TRIM!J47,CHAR(10),\"Trimestre 2\",CHAR(10),GESTION_SEG_2_TRIM!J47,CHAR(10),\"Trimestre 3\",CHAR(10),GESTION_SEG_3_TRIM!J47),\" \")","v":" "},{"$f":"IFERROR(_xludf.CONCAT(\"Trimestre 1\",CHAR(10),GESTION_SEG_1_TRIM!K47,CHAR(10),\"Trimestre 2\",CHAR(10),GESTION_SEG_2_TRIM!K47,CHAR(10),\"Trimestre 3\",CHAR(10),GESTION_SEG_3_TRIM!K47),\" \")","v":" "}]
[null,null,null,null,null,null,null,null,null,null,null,null,null,null,null,{"$f":"IFERROR(MAX(GESTION_SEG_1_TRIM!H48,GESTION_SEG_2_TRIM!H48,GESTION_SEG_3_TRIM!H48),\" \")","v":0},"",{"$f":"IFERROR(_xludf.CONCAT(\"Trimestre 1\",CHAR(10),GESTION_SEG_1_TRIM!J48,CHAR(10),\"Trimestre 2\",CHAR(10),GESTION_SEG_2_TRIM!J48,CHAR(10),\"Trimestre 3\",CHAR(10),GESTION_SEG_3_TRIM!J48),\" \")","v":" "},{"$f":"IFERROR(_xludf.CONCAT(\"Trimestre 1\",CHAR(10),GESTION_SEG_1_TRIM!K48,CHAR(10),\"Trimestre 2\",CHAR(10),GESTION_SEG_2_TRIM!K48,CHAR(10),\"Trimestre 3\",CHAR(10),GESTION_SEG_3_TRIM!K48),\" \")","v":" "}]
[null,null,null,null,"Transversal_todos_procesos","Transversal_todos_procesos","Seccional","Incentivar y Verificar el uso de los aplicativos virtuales en los despachos judiciales, dispuestos por el Consejo Superior de la Judicatura","Entregable",null,null,"Despachos 01 y 02","Actas de visita despachos judiciales ","2023-01-01","2023-12-31",{"$f":"IFERROR(MAX(GESTION_SEG_1_TRIM!H49,GESTION_SEG_2_TRIM!H49,GESTION_SEG_3_TRIM!H49),\" \")","v":"00:00:00"},"",{"$f":"IFERROR(_xludf.CONCAT(\"Trimestre 1\",CHAR(10),GESTION_SEG_1_TRIM!J49,CHAR(10),\"Trimestre 2\",CHAR(10),GESTION_SEG_2_TRIM!J49,CHAR(10),\"Trimestre 3\",CHAR(10),GESTION_SEG_3_TRIM!J49),\" \")","v":" "},{"$f":"IFERROR(_xludf.CONCAT(\"Trimestre 1\",CHAR(10),GESTION_SEG_1_TRIM!K49,CHAR(10),\"Trimestre 2\",CHAR(10),GESTION_SEG_2_TRIM!K49,CHAR(10),\"Trimestre 3\",CHAR(10),GESTION_SEG_3_TRIM!K49),\" \")","v":" "}]
[null,null,null,null,"Apoyo","Admin - Gestión Tecnológica","Seccional",null,null,null,null,null,null,null,null,{"$f":"IFERROR(MAX(GESTION_SEG_1_TRIM!H50,GESTION_SEG_2_TRIM!H50,GESTION_SEG_3_TRIM!H50),\" \")","v":0},"",{"$f":"IFERROR(_xludf.CONCAT(\"Trimestre 1\",CHAR(10),GESTION_SEG_1_TRIM!J50,CHAR(10),\"Trimestre 2\",CHAR(10),GESTION_SEG_2_TRIM!J50,CHAR(10),\"Trimestre 3\",CHAR(10),GESTION_SEG_3_TRIM!J50),\" \")","v":" "},{"$f":"IFERROR(_xludf.CONCAT(\"Trimestre 1\",CHAR(10),GESTION_SEG_1_TRIM!K50,CHAR(10),\"Trimestre 2\",CHAR(10),GESTION_SEG_2_TRIM!K50,CHAR(10),\"Trimestre 3\",CHAR(10),GESTION_SEG_3_TRIM!K50),\" \")","v":" "}]
[null,null,"5.Consolidar la infraestructura y los recursos necesarios para la implementación exitosa de la transformación digital, incluyendo la disposición de internet de calidad en el 100% de las sedes en la Rama Judicial y modernizar los servicios tecnológicos de soporte. ",null,null,null,null,null,null,null,null,null,null,null,null,{"$f":"IFERROR(MAX(GESTION_SEG_1_TRIM!H51,GESTION_SEG_2_TRIM!H51,GESTION_SEG_3_TRIM!H51),\" \")","v":0},"",{"$f":"IFERROR(_xludf.CONCAT(\"Trimestre 1\",CHAR(10),GESTION_SEG_1_TRIM!J51,CHAR(10),\"Trimestre 2\",CHAR(10),GESTION_SEG_2_TRIM!J51,CHAR(10),\"Trimestre 3\",CHAR(10),GESTION_SEG_3_TRIM!J51),\" \")","v":" "},{"$f":"IFERROR(_xludf.CONCAT(\"Trimestre 1\",CHAR(10),GESTION_SEG_1_TRIM!K51,CHAR(10),\"Trimestre 2\",CHAR(10),GESTION_SEG_2_TRIM!K51,CHAR(10),\"Trimestre 3\",CHAR(10),GESTION_SEG_3_TRIM!K51),\" \")","v":" "}]
[null,null,null,null,null,null,null,null,null,null,null,null,null,null,null,{"$f":"IFERROR(MAX(GESTION_SEG_1_TRIM!H52,GESTION_SEG_2_TRIM!H52,GESTION_SEG_3_TRIM!H52),\" \")","v":0},"",{"$f":"IFERROR(_xludf.CONCAT(\"Trimestre 1\",CHAR(10),GESTION_SEG_1_TRIM!J52,CHAR(10),\"Trimestre 2\",CHAR(10),GESTION_SEG_2_TRIM!J52,CHAR(10),\"Trimestre 3\",CHAR(10),GESTION_SEG_3_TRIM!J52),\" \")","v":" "},{"$f":"IFERROR(_xludf.CONCAT(\"Trimestre 1\",CHAR(10),GESTION_SEG_1_TRIM!K52,CHAR(10),\"Trimestre 2\",CHAR(10),GESTION_SEG_2_TRIM!K52,CHAR(10),\"Trimestre 3\",CHAR(10),GESTION_SEG_3_TRIM!K52),\" \")","v":" "}]
[null,null,null,null,null,null,null,null,null,null,null,null,null,null,null,{"$f":"IFERROR(MAX(GESTION_SEG_1_TRIM!H53,GESTION_SEG_2_TRIM!H53,GESTION_SEG_3_TRIM!H53),\" \")","v":0},"",{"$f":"IFERROR(_xludf.CONCAT(\"Trimestre 1\",CHAR(10),GESTION_SEG_1_TRIM!J53,CHAR(10),\"Trimestre 2\",CHAR(10),GESTION_SEG_2_TRIM!J53,CHAR(10),\"Trimestre 3\",CHAR(10),GESTION_SEG_3_TRIM!J53),\" \")","v":" "},{"$f":"IFERROR(_xludf.CONCAT(\"Trimestre 1\",CHAR(10),GESTION_SEG_1_TRIM!K53,CHAR(10),\"Trimestre 2\",CHAR(10),GESTION_SEG_2_TRIM!K53,CHAR(10),\"Trimestre 3\",CHAR(10),GESTION_SEG_3_TRIM!K53),\" \")","v":" "}]
[null,null,null,null,null,null,null,null,null,null,null,null,null,null,null,{"$f":"IFERROR(MAX(GESTION_SEG_1_TRIM!H54,GESTION_SEG_2_TRIM!H54,GESTION_SEG_3_TRIM!H54),\" \")","v":0},"",{"$f":"IFERROR(_xludf.CONCAT(\"Trimestre 1\",CHAR(10),GESTION_SEG_1_TRIM!J54,CHAR(10),\"Trimestre 2\",CHAR(10),GESTION_SEG_2_TRIM!J54,CHAR(10),\"Trimestre 3\",CHAR(10),GESTION_SEG_3_TRIM!J54),\" \")","v":" "},{"$f":"IFERROR(_xludf.CONCAT(\"Trimestre 1\",CHAR(10),GESTION_SEG_1_TRIM!K54,CHAR(10),\"Trimestre 2\",CHAR(10),GESTION_SEG_2_TRIM!K54,CHAR(10),\"Trimestre 3\",CHAR(10),GESTION_SEG_3_TRIM!K54),\" \")","v":" "}]
[null,null,null,null,null,null,null,null,null,null,null,null,null,null,null,{"$f":"IFERROR(MAX(GESTION_SEG_1_TRIM!H55,GESTION_SEG_2_TRIM!H55,GESTION_SEG_3_TRIM!H55),\" \")","v":0},"",{"$f":"IFERROR(_xludf.CONCAT(\"Trimestre 1\",CHAR(10),GESTION_SEG_1_TRIM!J55,CHAR(10),\"Trimestre 2\",CHAR(10),GESTION_SEG_2_TRIM!J55,CHAR(10),\"Trimestre 3\",CHAR(10),GESTION_SEG_3_TRIM!J55),\" \")","v":" "},{"$f":"IFERROR(_xludf.CONCAT(\"Trimestre 1\",CHAR(10),GESTION_SEG_1_TRIM!K55,CHAR(10),\"Trimestre 2\",CHAR(10),GESTION_SEG_2_TRIM!K55,CHAR(10),\"Trimestre 3\",CHAR(10),GESTION_SEG_3_TRIM!K55),\" \")","v":" "}]
[null,null,"6.Integrar y optimizar los servicios administrativos de la Rama Judicial bajo un enfoque de transformación digital e innovación incluyendo los componentes financiero, administrativo, talento humano, entre otros",null,null,null,null,null,null,null,null,null,null,null,null,{"$f":"IFERROR(MAX(GESTION_SEG_1_TRIM!H56,GESTION_SEG_2_TRIM!H56,GESTION_SEG_3_TRIM!H56),\" \")","v":0},"",{"$f":"IFERROR(_xludf.CONCAT(\"Trimestre 1\",CHAR(10),GESTION_SEG_1_TRIM!J56,CHAR(10),\"Trimestre 2\",CHAR(10),GESTION_SEG_2_TRIM!J56,CHAR(10),\"Trimestre 3\",CHAR(10),GESTION_SEG_3_TRIM!J56),\" \")","v":" "},{"$f":"IFERROR(_xludf.CONCAT(\"Trimestre 1\",CHAR(10),GESTION_SEG_1_TRIM!K56,CHAR(10),\"Trimestre 2\",CHAR(10),GESTION_SEG_2_TRIM!K56,CHAR(10),\"Trimestre 3\",CHAR(10),GESTION_SEG_3_TRIM!K56),\" \")","v":" "}]
[null,null,null,null,null,null,null,null,null,null,null,null,null,null,null,{"$f":"IFERROR(MAX(GESTION_SEG_1_TRIM!H57,GESTION_SEG_2_TRIM!H57,GESTION_SEG_3_TRIM!H57),\" \")","v":0},"",{"$f":"IFERROR(_xludf.CONCAT(\"Trimestre 1\",CHAR(10),GESTION_SEG_1_TRIM!J57,CHAR(10),\"Trimestre 2\",CHAR(10),GESTION_SEG_2_TRIM!J57,CHAR(10),\"Trimestre 3\",CHAR(10),GESTION_SEG_3_TRIM!J57),\" \")","v":" "},{"$f":"IFERROR(_xludf.CONCAT(\"Trimestre 1\",CHAR(10),GESTION_SEG_1_TRIM!K57,CHAR(10),\"Trimestre 2\",CHAR(10),GESTION_SEG_2_TRIM!K57,CHAR(10),\"Trimestre 3\",CHAR(10),GESTION_SEG_3_TRIM!K57),\" \")","v":" "}]
[null,null,null,null,null,null,null,null,null,null,null,null,null,null,null,{"$f":"IFERROR(MAX(GESTION_SEG_1_TRIM!H58,GESTION_SEG_2_TRIM!H58,GESTION_SEG_3_TRIM!H58),\" \")","v":0},"",{"$f":"IFERROR(_xludf.CONCAT(\"Trimestre 1\",CHAR(10),GESTION_SEG_1_TRIM!J58,CHAR(10),\"Trimestre 2\",CHAR(10),GESTION_SEG_2_TRIM!J58,CHAR(10),\"Trimestre 3\",CHAR(10),GESTION_SEG_3_TRIM!J58),\" \")","v":" "},{"$f":"IFERROR(_xludf.CONCAT(\"Trimestre 1\",CHAR(10),GESTION_SEG_1_TRIM!K58,CHAR(10),\"Trimestre 2\",CHAR(10),GESTION_SEG_2_TRIM!K58,CHAR(10),\"Trimestre 3\",CHAR(10),GESTION_SEG_3_TRIM!K58),\" \")","v":" "}]
[null,null,null,null,null,null,null,null,null,null,null,null,null,null,null,{"$f":"IFERROR(MAX(GESTION_SEG_1_TRIM!H59,GESTION_SEG_2_TRIM!H59,GESTION_SEG_3_TRIM!H59),\" \")","v":0},"",{"$f":"IFERROR(_xludf.CONCAT(\"Trimestre 1\",CHAR(10),GESTION_SEG_1_TRIM!J59,CHAR(10),\"Trimestre 2\",CHAR(10),GESTION_SEG_2_TRIM!J59,CHAR(10),\"Trimestre 3\",CHAR(10),GESTION_SEG_3_TRIM!J59),\" \")","v":" "},{"$f":"IFERROR(_xludf.CONCAT(\"Trimestre 1\",CHAR(10),GESTION_SEG_1_TRIM!K59,CHAR(10),\"Trimestre 2\",CHAR(10),GESTION_SEG_2_TRIM!K59,CHAR(10),\"Trimestre 3\",CHAR(10),GESTION_SEG_3_TRIM!K59),\" \")","v":" "}]
[null,null,null,null,null,null,null,null,null,null,null,null,null,null,null,{"$f":"IFERROR(MAX(GESTION_SEG_1_TRIM!H60,GESTION_SEG_2_TRIM!H60,GESTION_SEG_3_TRIM!H60),\" \")","v":0},"",{"$f":"IFERROR(_xludf.CONCAT(\"Trimestre 1\",CHAR(10),GESTION_SEG_1_TRIM!J60,CHAR(10),\"Trimestre 2\",CHAR(10),GESTION_SEG_2_TRIM!J60,CHAR(10),\"Trimestre 3\",CHAR(10),GESTION_SEG_3_TRIM!J60),\" \")","v":" "},{"$f":"IFERROR(_xludf.CONCAT(\"Trimestre 1\",CHAR(10),GESTION_SEG_1_TRIM!K60,CHAR(10),\"Trimestre 2\",CHAR(10),GESTION_SEG_2_TRIM!K60,CHAR(10),\"Trimestre 3\",CHAR(10),GESTION_SEG_3_TRIM!K60),\" \")","v":" "}]
["3. Confianza pública, transparencia y rendición de cuentas","Confianza pública, transparencia y rendición de cuentas: Aumentar la confianza pública en la justicia a través de la transparencia, la rendición de cuentas y la participación, incluyendo la información de justicia y la producción, gestión y acceso a las fuentes de derecho, el fortalecimiento del sistema de gestión de calidad y medio ambiente (SIGCMA) y el mejoramiento de la calidad y publicidad de la información. ","1. Incrementar la cantidad, la calidad y pertinencia de los datos sobre el funcionamiento del servicio de justicia bajo un modelo de gobierno de datos y un liderazgo unificado. ","4. Hacer un uso racional de los recursos naturales aplicando los principios y fases de la Economía Circular, para prevenir, mitigar y controlar los impactos ambientales.",null,null,null,null,null,null,null,null,null,null,null,{"$f":"IFERROR(MAX(GESTION_SEG_1_TRIM!H61,GESTION_SEG_2_TRIM!H61,GESTION_SEG_3_TRIM!H61),\" \")","v":0},"",{"$f":"IFERROR(_xludf.CONCAT(\"Trimestre 1\",CHAR(10),GESTION_SEG_1_TRIM!J61,CHAR(10),\"Trimestre 2\",CHAR(10),GESTION_SEG_2_TRIM!J61,CHAR(10),\"Trimestre 3\",CHAR(10),GESTION_SEG_3_TRIM!J61),\" \")","v":" "},{"$f":"IFERROR(_xludf.CONCAT(\"Trimestre 1\",CHAR(10),GESTION_SEG_1_TRIM!K61,CHAR(10),\"Trimestre 2\",CHAR(10),GESTION_SEG_2_TRIM!K61,CHAR(10),\"Trimestre 3\",CHAR(10),GESTION_SEG_3_TRIM!K61),\" \")","v":" "}]
[null,null,null,null,"Apoyo","Admin - Gestión de la Información Estadística","Seccional","\nRealizar y remitirel  informe Estadistico a la UDAE\n","Entregable",null,null,null,"Informe","2023-01-01","2023-12-31",{"$f":"IFERROR(MAX(GESTION_SEG_1_TRIM!H62,GESTION_SEG_2_TRIM!H62,GESTION_SEG_3_TRIM!H62),\" \")","v":0},"",{"$f":"IFERROR(_xludf.CONCAT(\"Trimestre 1\",CHAR(10),GESTION_SEG_1_TRIM!J62,CHAR(10),\"Trimestre 2\",CHAR(10),GESTION_SEG_2_TRIM!J62,CHAR(10),\"Trimestre 3\",CHAR(10),GESTION_SEG_3_TRIM!J62),\" \")","v":" "},{"$f":"IFERROR(_xludf.CONCAT(\"Trimestre 1\",CHAR(10),GESTION_SEG_1_TRIM!K62,CHAR(10),\"Trimestre 2\",CHAR(10),GESTION_SEG_2_TRIM!K62,CHAR(10),\"Trimestre 3\",CHAR(10),GESTION_SEG_3_TRIM!K62),\" \")","v":" "}]
[null,null,null,null,"Transversal_todos_procesos","Transversal_todos_procesos","Seccional","Realizar Vigilancia Judicial Administrativa, de oficio o petición de partes","Entregable",null,null,null,"Cuadro control de reparto vigilancia / resoluciones emitidas ","2023-01-01","2023-12-31",{"$f":"IFERROR(MAX(GESTION_SEG_1_TRIM!H63,GESTION_SEG_2_TRIM!H63,GESTION_SEG_3_TRIM!H63),\" \")","v":0},"",{"$f":"IFERROR(_xludf.CONCAT(\"Trimestre 1\",CHAR(10),GESTION_SEG_1_TRIM!J63,CHAR(10),\"Trimestre 2\",CHAR(10),GESTION_SEG_2_TRIM!J63,CHAR(10),\"Trimestre 3\",CHAR(10),GESTION_SEG_3_TRIM!J63),\" \")","v":" "},{"$f":"IFERROR(_xludf.CONCAT(\"Trimestre 1\",CHAR(10),GESTION_SEG_1_TRIM!K63,CHAR(10),\"Trimestre 2\",CHAR(10),GESTION_SEG_2_TRIM!K63,CHAR(10),\"Trimestre 3\",CHAR(10),GESTION_SEG_3_TRIM!K63),\" \")","v":" "}]
[null,null,null,null,"Transversal_todos_procesos","Transversal_todos_procesos","Seccional","Atender las QR&S, recibidas","Entregable",null,null,null,"Cuadro control de reparto derecho de peticiones y oficios emitidos ","2023-01-01","2023-12-31",{"$f":"IFERROR(MAX(GESTION_SEG_1_TRIM!H64,GESTION_SEG_2_TRIM!H64,GESTION_SEG_3_TRIM!H64),\" \")","v":0},"",{"$f":"IFERROR(_xludf.CONCAT(\"Trimestre 1\",CHAR(10),GESTION_SEG_1_TRIM!J64,CHAR(10),\"Trimestre 2\",CHAR(10),GESTION_SEG_2_TRIM!J64,CHAR(10),\"Trimestre 3\",CHAR(10),GESTION_SEG_3_TRIM!J64),\" \")","v":" "},{"$f":"IFERROR(_xludf.CONCAT(\"Trimestre 1\",CHAR(10),GESTION_SEG_1_TRIM!K64,CHAR(10),\"Trimestre 2\",CHAR(10),GESTION_SEG_2_TRIM!K64,CHAR(10),\"Trimestre 3\",CHAR(10),GESTION_SEG_3_TRIM!K64),\" \")","v":" "}]
[null,null,null,null,null,null,null,null,null,null,null,null,null,null,null,{"$f":"IFERROR(MAX(GESTION_SEG_1_TRIM!H65,GESTION_SEG_2_TRIM!H65,GESTION_SEG_3_TRIM!H65),\" \")","v":0},"",{"$f":"IFERROR(_xludf.CONCAT(\"Trimestre 1\",CHAR(10),GESTION_SEG_1_TRIM!J65,CHAR(10),\"Trimestre 2\",CHAR(10),GESTION_SEG_2_TRIM!J65,CHAR(10),\"Trimestre 3\",CHAR(10),GESTION_SEG_3_TRIM!J65),\" \")","v":" "},{"$f":"IFERROR(_xludf.CONCAT(\"Trimestre 1\",CHAR(10),GESTION_SEG_1_TRIM!K65,CHAR(10),\"Trimestre 2\",CHAR(10),GESTION_SEG_2_TRIM!K65,CHAR(10),\"Trimestre 3\",CHAR(10),GESTION_SEG_3_TRIM!K65),\" \")","v":" "}]
[null,null,"2. Consolidar la administración de la información entendida como todas las acciones rientadas a garantizar el acceso, consulta, uso y conservación de la información de justicia de manera ágil, flexible e inteligente, bajo un enfoque de innovación.",null,null,null,null,null,null,null,null,null,null,null,null,{"$f":"IFERROR(MAX(GESTION_SEG_1_TRIM!H66,GESTION_SEG_2_TRIM!H66,GESTION_SEG_3_TRIM!H66),\" \")","v":0},"",{"$f":"IFERROR(_xludf.CONCAT(\"Trimestre 1\",CHAR(10),GESTION_SEG_1_TRIM!J66,CHAR(10),\"Trimestre 2\",CHAR(10),GESTION_SEG_2_TRIM!J66,CHAR(10),\"Trimestre 3\",CHAR(10),GESTION_SEG_3_TRIM!J66),\" \")","v":" "},{"$f":"IFERROR(_xludf.CONCAT(\"Trimestre 1\",CHAR(10),GESTION_SEG_1_TRIM!K66,CHAR(10),\"Trimestre 2\",CHAR(10),GESTION_SEG_2_TRIM!K66,CHAR(10),\"Trimestre 3\",CHAR(10),GESTION_SEG_3_TRIM!K66),\" \")","v":" "}]
[null,null,null,null,null,null,null,null,null,null,null,null,null,null,null,{"$f":"IFERROR(MAX(GESTION_SEG_1_TRIM!H67,GESTION_SEG_2_TRIM!H67,GESTION_SEG_3_TRIM!H67),\" \")","v":0},"",{"$f":"IFERROR(_xludf.CONCAT(\"Trimestre 1\",CHAR(10),GESTION_SEG_1_TRIM!J67,CHAR(10),\"Trimestre 2\",CHAR(10),GESTION_SEG_2_TRIM!J67,CHAR(10),\"Trimestre 3\",CHAR(10),GESTION_SEG_3_TRIM!J67),\" \")","v":" "},{"$f":"IFERROR(_xludf.CONCAT(\"Trimestre 1\",CHAR(10),GESTION_SEG_1_TRIM!K67,CHAR(10),\"Trimestre 2\",CHAR(10),GESTION_SEG_2_TRIM!K67,CHAR(10),\"Trimestre 3\",CHAR(10),GESTION_SEG_3_TRIM!K67),\" \")","v":" "}]
[null,null,null,null,null,null,null,null,null,null,null,null,null,null,null,{"$f":"IFERROR(MAX(GESTION_SEG_1_TRIM!H68,GESTION_SEG_2_TRIM!H68,GESTION_SEG_3_TRIM!H68),\" \")","v":0},"",{"$f":"IFERROR(_xludf.CONCAT(\"Trimestre 1\",CHAR(10),GESTION_SEG_1_TRIM!J68,CHAR(10),\"Trimestre 2\",CHAR(10),GESTION_SEG_2_TRIM!J68,CHAR(10),\"Trimestre 3\",CHAR(10),GESTION_SEG_3_TRIM!J68),\" \")","v":" "},{"$f":"IFERROR(_xludf.CONCAT(\"Trimestre 1\",CHAR(10),GESTION_SEG_1_TRIM!K68,CHAR(10),\"Trimestre 2\",CHAR(10),GESTION_SEG_2_TRIM!K68,CHAR(10),\"Trimestre 3\",CHAR(10),GESTION_SEG_3_TRIM!K68),\" \")","v":" "}]
[null,null,null,null,null,null,null,null,null,null,null,null,null,null,null,{"$f":"IFERROR(MAX(GESTION_SEG_1_TRIM!H69,GESTION_SEG_2_TRIM!H69,GESTION_SEG_3_TRIM!H69),\" \")","v":0},"",{"$f":"IFERROR(_xludf.CONCAT(\"Trimestre 1\",CHAR(10),GESTION_SEG_1_TRIM!J69,CHAR(10),\"Trimestre 2\",CHAR(10),GESTION_SEG_2_TRIM!J69,CHAR(10),\"Trimestre 3\",CHAR(10),GESTION_SEG_3_TRIM!J69),\" \")","v":" "},{"$f":"IFERROR(_xludf.CONCAT(\"Trimestre 1\",CHAR(10),GESTION_SEG_1_TRIM!K69,CHAR(10),\"Trimestre 2\",CHAR(10),GESTION_SEG_2_TRIM!K69,CHAR(10),\"Trimestre 3\",CHAR(10),GESTION_SEG_3_TRIM!K69),\" \")","v":" "}]
[null,null,null,null,null,null,null,null,null,null,null,null,null,null,null,{"$f":"IFERROR(MAX(GESTION_SEG_1_TRIM!H70,GESTION_SEG_2_TRIM!H70,GESTION_SEG_3_TRIM!H70),\" \")","v":0},{"$f":"IFERROR(P70/J70,\"\")","v":""},{"$f":"IFERROR(_xludf.CONCAT(\"Trimestre 1\",CHAR(10),GESTION_SEG_1_TRIM!J70,CHAR(10),\"Trimestre 2\",CHAR(10),GESTION_SEG_2_TRIM!J70,CHAR(10),\"Trimestre 3\",CHAR(10),GESTION_SEG_3_TRIM!J70),\" \")","v":" "},{"$f":"IFERROR(_xludf.CONCAT(\"Trimestre 1\",CHAR(10),GESTION_SEG_1_TRIM!K70,CHAR(10),\"Trimestre 2\",CHAR(10),GESTION_SEG_2_TRIM!K70,CHAR(10),\"Trimestre 3\",CHAR(10),GESTION_SEG_3_TRIM!K70),\" \")","v":" "}]
[null,null,"3. Fortalecer el Sistema integrado de Gestión de la Rama, orientado a la implementación y certificación de las normas antisoborno.","1. Gestionar el desarrollo de las competencias, la toma de conciencia , la cultura  organizacional  y el compromiso de los  servidores judiciales, contratistas, practicantes y  judicantes de contribuir a generar valor público en la administración de justicia, en el marco de  cumplimiento de los requisitos  aplicables y el comportamiento ético.\n3. Fomentar la transparencia y la participación generando lineamientos y promoviendo la rendición de cuentas ,la consulta, reporte y planteamiento de inquietudes en relación con las decisiones y aspectos del SIGCMA.",null,null,null,null,null,null,null,null,null,null,null,{"$f":"IFERROR(MAX(GESTION_SEG_1_TRIM!H71,GESTION_SEG_2_TRIM!H71,GESTION_SEG_3_TRIM!H71),\" \")","v":0},"",{"$f":"IFERROR(_xludf.CONCAT(\"Trimestre 1\",CHAR(10),GESTION_SEG_1_TRIM!J71,CHAR(10),\"Trimestre 2\",CHAR(10),GESTION_SEG_2_TRIM!J71,CHAR(10),\"Trimestre 3\",CHAR(10),GESTION_SEG_3_TRIM!J71),\" \")","v":" "},{"$f":"IFERROR(_xludf.CONCAT(\"Trimestre 1\",CHAR(10),GESTION_SEG_1_TRIM!K71,CHAR(10),\"Trimestre 2\",CHAR(10),GESTION_SEG_2_TRIM!K71,CHAR(10),\"Trimestre 3\",CHAR(10),GESTION_SEG_3_TRIM!K71),\" \")","v":" "}]
[null,null,null,null,null,null,null,null,null,null,null,null,null,null,null,{"$f":"IFERROR(MAX(GESTION_SEG_1_TRIM!H72,GESTION_SEG_2_TRIM!H72,GESTION_SEG_3_TRIM!H72),\" \")","v":0},"",{"$f":"IFERROR(_xludf.CONCAT(\"Trimestre 1\",CHAR(10),GESTION_SEG_1_TRIM!J72,CHAR(10),\"Trimestre 2\",CHAR(10),GESTION_SEG_2_TRIM!J72,CHAR(10),\"Trimestre 3\",CHAR(10),GESTION_SEG_3_TRIM!J72),\" \")","v":" "},{"$f":"IFERROR(_xludf.CONCAT(\"Trimestre 1\",CHAR(10),GESTION_SEG_1_TRIM!K72,CHAR(10),\"Trimestre 2\",CHAR(10),GESTION_SEG_2_TRIM!K72,CHAR(10),\"Trimestre 3\",CHAR(10),GESTION_SEG_3_TRIM!K72),\" \")","v":" "}]
[null,null,null,null,null,null,null,null,null,null,null,null,null,null,null,{"$f":"IFERROR(MAX(GESTION_SEG_1_TRIM!H73,GESTION_SEG_2_TRIM!H73,GESTION_SEG_3_TRIM!H73),\" \")","v":0},"",{"$f":"IFERROR(_xludf.CONCAT(\"Trimestre 1\",CHAR(10),GESTION_SEG_1_TRIM!J73,CHAR(10),\"Trimestre 2\",CHAR(10),GESTION_SEG_2_TRIM!J73,CHAR(10),\"Trimestre 3\",CHAR(10),GESTION_SEG_3_TRIM!J73),\" \")","v":" "},{"$f":"IFERROR(_xludf.CONCAT(\"Trimestre 1\",CHAR(10),GESTION_SEG_1_TRIM!K73,CHAR(10),\"Trimestre 2\",CHAR(10),GESTION_SEG_2_TRIM!K73,CHAR(10),\"Trimestre 3\",CHAR(10),GESTION_SEG_3_TRIM!K73),\" \")","v":" "}]
[null,null,null,null,null,null,null,null,null,null,null,null,null,null,null,{"$f":"IFERROR(MAX(GESTION_SEG_1_TRIM!H74,GESTION_SEG_2_TRIM!H74,GESTION_SEG_3_TRIM!H74),\" \")","v":0},"",{"$f":"IFERROR(_xludf.CONCAT(\"Trimestre 1\",CHAR(10),GESTION_SEG_1_TRIM!J74,CHAR(10),\"Trimestre 2\",CHAR(10),GESTION_SEG_2_TRIM!J74,CHAR(10),\"Trimestre 3\",CHAR(10),GESTION_SEG_3_TRIM!J74),\" \")","v":" "},{"$f":"IFERROR(_xludf.CONCAT(\"Trimestre 1\",CHAR(10),GESTION_SEG_1_TRIM!K74,CHAR(10),\"Trimestre 2\",CHAR(10),GESTION_SEG_2_TRIM!K74,CHAR(10),\"Trimestre 3\",CHAR(10),GESTION_SEG_3_TRIM!K74),\" \")","v":" "}]
[null,null,null,null,null,null,null,null,null,null,null,null,null,null,null,{"$f":"IFERROR(MAX(GESTION_SEG_1_TRIM!H75,GESTION_SEG_2_TRIM!H75,GESTION_SEG_3_TRIM!H75),\" \")","v":0},"",{"$f":"IFERROR(_xludf.CONCAT(\"Trimestre 1\",CHAR(10),GESTION_SEG_1_TRIM!J75,CHAR(10),\"Trimestre 2\",CHAR(10),GESTION_SEG_2_TRIM!J75,CHAR(10),\"Trimestre 3\",CHAR(10),GESTION_SEG_3_TRIM!J75),\" \")","v":" "},{"$f":"IFERROR(_xludf.CONCAT(\"Trimestre 1\",CHAR(10),GESTION_SEG_1_TRIM!K75,CHAR(10),\"Trimestre 2\",CHAR(10),GESTION_SEG_2_TRIM!K75,CHAR(10),\"Trimestre 3\",CHAR(10),GESTION_SEG_3_TRIM!K75),\" \")","v":" "}]
[null,null,"4. Aumentar la confianza, la cercanía y acceso a los servicios de la Rama Judicial a través, entre otros, de una comunicación clara y asertiva con la ciudadanía.","3. Fomentar la transparencia y la participación generando lineamientos y promoviendo la rendición de cuentas ,la consulta, reporte y planteamiento de inquietudes en relación con las decisiones y aspectos del SIGCMA.","Estratégicos","Admin - Planeación Estratégica","Seccional","Consolidar y hacer seguimiento en reuniones trimestrales, al plan de accion de los Procesos del SIGCMA","Entregable",null,"Reporte de seguimientos","Despacho 01 - Magistrada / Auxiliar Judicial I","Reportes de seguimiento trimestrales del Plan de Acción","2023-01-01","2023-12-31",{"$f":"IFERROR(MAX(GESTION_SEG_1_TRIM!H76,GESTION_SEG_2_TRIM!H76,GESTION_SEG_3_TRIM!H76),\" \")","v":0},"",{"$f":"IFERROR(_xludf.CONCAT(\"Trimestre 1\",CHAR(10),GESTION_SEG_1_TRIM!J76,CHAR(10),\"Trimestre 2\",CHAR(10),GESTION_SEG_2_TRIM!J76,CHAR(10),\"Trimestre 3\",CHAR(10),GESTION_SEG_3_TRIM!J76),\" \")","v":" "},{"$f":"IFERROR(_xludf.CONCAT(\"Trimestre 1\",CHAR(10),GESTION_SEG_1_TRIM!K76,CHAR(10),\"Trimestre 2\",CHAR(10),GESTION_SEG_2_TRIM!K76,CHAR(10),\"Trimestre 3\",CHAR(10),GESTION_SEG_3_TRIM!K76),\" \")","v":" "}]
[null,null,null,null,"Transversal_todos_procesos","Transversal_todos_procesos","Seccional","Elaborar semestralmente el Boletín SIGCMA","Entregable",null,"Boletín semestral","Despacho 01 - Magistrada / Auxiliar Judicial I","Publicación Boletín - Enero a Junio / Julio a Diciembre","2023-01-01","2023-12-31",{"$f":"IFERROR(MAX(GESTION_SEG_1_TRIM!H77,GESTION_SEG_2_TRIM!H77,GESTION_SEG_3_TRIM!H77),\" \")","v":0},"",{"$f":"IFERROR(_xludf.CONCAT(\"Trimestre 1\",CHAR(10),GESTION_SEG_1_TRIM!J77,CHAR(10),\"Trimestre 2\",CHAR(10),GESTION_SEG_2_TRIM!J77,CHAR(10),\"Trimestre 3\",CHAR(10),GESTION_SEG_3_TRIM!J77),\" \")","v":" "},{"$f":"IFERROR(_xludf.CONCAT(\"Trimestre 1\",CHAR(10),GESTION_SEG_1_TRIM!K77,CHAR(10),\"Trimestre 2\",CHAR(10),GESTION_SEG_2_TRIM!K77,CHAR(10),\"Trimestre 3\",CHAR(10),GESTION_SEG_3_TRIM!K77),\" \")","v":" "}]
[null,null,null,null,"Transversal_todos_procesos","Transversal_todos_procesos","Seccional","Elaborar trimestralmente boletín con perspectiva de género","Entregable",null,"Boletín trimestral","Despacho 02 -  Magistrada / Auxiliar Judicial I","Publicación Boletín trimestral ","2023-01-01","2023-12-31",{"$f":"IFERROR(MAX(GESTION_SEG_1_TRIM!H78,GESTION_SEG_2_TRIM!H78,GESTION_SEG_3_TRIM!H78),\" \")","v":0},"",{"$f":"IFERROR(_xludf.CONCAT(\"Trimestre 1\",CHAR(10),GESTION_SEG_1_TRIM!J78,CHAR(10),\"Trimestre 2\",CHAR(10),GESTION_SEG_2_TRIM!J78,CHAR(10),\"Trimestre 3\",CHAR(10),GESTION_SEG_3_TRIM!J78),\" \")","v":" "},{"$f":"IFERROR(_xludf.CONCAT(\"Trimestre 1\",CHAR(10),GESTION_SEG_1_TRIM!K78,CHAR(10),\"Trimestre 2\",CHAR(10),GESTION_SEG_2_TRIM!K78,CHAR(10),\"Trimestre 3\",CHAR(10),GESTION_SEG_3_TRIM!K78),\" \")","v":" "}]
[null,null,null,null,null,null,null,null,null,null,null,null,"Publicación Boletín trimestral ","2023-01-01","2023-12-31",{"$f":"IFERROR(MAX(GESTION_SEG_1_TRIM!H79,GESTION_SEG_2_TRIM!H79,GESTION_SEG_3_TRIM!H79),\" \")","v":0},"",{"$f":"IFERROR(_xludf.CONCAT(\"Trimestre 1\",CHAR(10),GESTION_SEG_1_TRIM!J79,CHAR(10),\"Trimestre 2\",CHAR(10),GESTION_SEG_2_TRIM!J79,CHAR(10),\"Trimestre 3\",CHAR(10),GESTION_SEG_3_TRIM!J79),\" \")","v":" "},{"$f":"IFERROR(_xludf.CONCAT(\"Trimestre 1\",CHAR(10),GESTION_SEG_1_TRIM!K79,CHAR(10),\"Trimestre 2\",CHAR(10),GESTION_SEG_2_TRIM!K79,CHAR(10),\"Trimestre 3\",CHAR(10),GESTION_SEG_3_TRIM!K79),\" \")","v":" "}]
[null,null,null,null,null,null,null,null,null,null,null,null,null,null,null,{"$f":"IFERROR(MAX(GESTION_SEG_1_TRIM!H80,GESTION_SEG_2_TRIM!H80,GESTION_SEG_3_TRIM!H80),\" \")","v":0},"",{"$f":"IFERROR(_xludf.CONCAT(\"Trimestre 1\",CHAR(10),GESTION_SEG_1_TRIM!J80,CHAR(10),\"Trimestre 2\",CHAR(10),GESTION_SEG_2_TRIM!J80,CHAR(10),\"Trimestre 3\",CHAR(10),GESTION_SEG_3_TRIM!J80),\" \")","v":" "},{"$f":"IFERROR(_xludf.CONCAT(\"Trimestre 1\",CHAR(10),GESTION_SEG_1_TRIM!K80,CHAR(10),\"Trimestre 2\",CHAR(10),GESTION_SEG_2_TRIM!K80,CHAR(10),\"Trimestre 3\",CHAR(10),GESTION_SEG_3_TRIM!K80),\" \")","v":" "}]
[null,null,"5. Prevenir fenómenos asociados con actos de corrupción en la Rama Judicial y reducir las experiencias de corrupción de usuarios y servidores judiciales.",null,null,null,null,null,null,null,null,null,null,null,null,{"$f":"IFERROR(MAX(GESTION_SEG_1_TRIM!H81,GESTION_SEG_2_TRIM!H81,GESTION_SEG_3_TRIM!H81),\" \")","v":0},"",{"$f":"IFERROR(_xludf.CONCAT(\"Trimestre 1\",CHAR(10),GESTION_SEG_1_TRIM!J81,CHAR(10),\"Trimestre 2\",CHAR(10),GESTION_SEG_2_TRIM!J81,CHAR(10),\"Trimestre 3\",CHAR(10),GESTION_SEG_3_TRIM!J81),\" \")","v":" "},{"$f":"IFERROR(_xludf.CONCAT(\"Trimestre 1\",CHAR(10),GESTION_SEG_1_TRIM!K81,CHAR(10),\"Trimestre 2\",CHAR(10),GESTION_SEG_2_TRIM!K81,CHAR(10),\"Trimestre 3\",CHAR(10),GESTION_SEG_3_TRIM!K81),\" \")","v":" "}]
[null,null,null,null,null,null,null,null,null,null,null,null,null,null,null,{"$f":"IFERROR(MAX(GESTION_SEG_1_TRIM!H82,GESTION_SEG_2_TRIM!H82,GESTION_SEG_3_TRIM!H82),\" \")","v":0},"",{"$f":"IFERROR(_xludf.CONCAT(\"Trimestre 1\",CHAR(10),GESTION_SEG_1_TRIM!J82,CHAR(10),\"Trimestre 2\",CHAR(10),GESTION_SEG_2_TRIM!J82,CHAR(10),\"Trimestre 3\",CHAR(10),GESTION_SEG_3_TRIM!J82),\" \")","v":" "},{"$f":"IFERROR(_xludf.CONCAT(\"Trimestre 1\",CHAR(10),GESTION_SEG_1_TRIM!K82,CHAR(10),\"Trimestre 2\",CHAR(10),GESTION_SEG_2_TRIM!K82,CHAR(10),\"Trimestre 3\",CHAR(10),GESTION_SEG_3_TRIM!K82),\" \")","v":" "}]
[null,null,null,null,null,null,null,null,null,null,null,null,null,null,null,{"$f":"IFERROR(MAX(GESTION_SEG_1_TRIM!H83,GESTION_SEG_2_TRIM!H83,GESTION_SEG_3_TRIM!H83),\" \")","v":0},"",{"$f":"IFERROR(_xludf.CONCAT(\"Trimestre 1\",CHAR(10),GESTION_SEG_1_TRIM!J83,CHAR(10),\"Trimestre 2\",CHAR(10),GESTION_SEG_2_TRIM!J83,CHAR(10),\"Trimestre 3\",CHAR(10),GESTION_SEG_3_TRIM!J83),\" \")","v":" "},{"$f":"IFERROR(_xludf.CONCAT(\"Trimestre 1\",CHAR(10),GESTION_SEG_1_TRIM!K83,CHAR(10),\"Trimestre 2\",CHAR(10),GESTION_SEG_2_TRIM!K83,CHAR(10),\"Trimestre 3\",CHAR(10),GESTION_SEG_3_TRIM!K83),\" \")","v":" "}]
[null,null,null,null,null,null,null,null,null,null,null,null,null,null,null,{"$f":"IFERROR(MAX(GESTION_SEG_1_TRIM!H84,GESTION_SEG_2_TRIM!H84,GESTION_SEG_3_TRIM!H84),\" \")","v":0},"",{"$f":"IFERROR(_xludf.CONCAT(\"Trimestre 1\",CHAR(10),GESTION_SEG_1_TRIM!J84,CHAR(10),\"Trimestre 2\",CHAR(10),GESTION_SEG_2_TRIM!J84,CHAR(10),\"Trimestre 3\",CHAR(10),GESTION_SEG_3_TRIM!J84),\" \")","v":" "},{"$f":"IFERROR(_xludf.CONCAT(\"Trimestre 1\",CHAR(10),GESTION_SEG_1_TRIM!K84,CHAR(10),\"Trimestre 2\",CHAR(10),GESTION_SEG_2_TRIM!K84,CHAR(10),\"Trimestre 3\",CHAR(10),GESTION_SEG_3_TRIM!K84),\" \")","v":" "}]
[null,null,null,null,null,null,null,null,null,null,null,null,null,null,null,{"$f":"IFERROR(MAX(GESTION_SEG_1_TRIM!H85,GESTION_SEG_2_TRIM!H85,GESTION_SEG_3_TRIM!H85),\" \")","v":0},"",{"$f":"IFERROR(_xludf.CONCAT(\"Trimestre 1\",CHAR(10),GESTION_SEG_1_TRIM!J85,CHAR(10),\"Trimestre 2\",CHAR(10),GESTION_SEG_2_TRIM!J85,CHAR(10),\"Trimestre 3\",CHAR(10),GESTION_SEG_3_TRIM!J85),\" \")","v":" "},{"$f":"IFERROR(_xludf.CONCAT(\"Trimestre 1\",CHAR(10),GESTION_SEG_1_TRIM!K85,CHAR(10),\"Trimestre 2\",CHAR(10),GESTION_SEG_2_TRIM!K85,CHAR(10),\"Trimestre 3\",CHAR(10),GESTION_SEG_3_TRIM!K85),\" \")","v":" "}]
[null,null,"6. Promover la rendición de cuentas y la colaboración real con la ciudadanía como fundamento para diseñar acciones de mejoramiento del acceso a la justicia.",null,"Transversal_todos_procesos","Transversal_todos_procesos","Seccional","Desarrollar las actividades  para la oportuna elaboración del informe anual de gestión y audiencia pública de rendición de cuentas del Consejo Seccional de la Judicatura del Chocó y la Coordinación Administrativa de Quibdó","Entregable",null,null,"Despacho 01 - Magistrada / Auxiliar Judicial I","Micrositio Página Web / Grabación rendición de cuentas","2023-01-01","2023-04-30",{"$f":"IFERROR(MAX(GESTION_SEG_1_TRIM!H86,GESTION_SEG_2_TRIM!H86,GESTION_SEG_3_TRIM!H86),\" \")","v":0},"",{"$f":"IFERROR(_xludf.CONCAT(\"Trimestre 1\",CHAR(10),GESTION_SEG_1_TRIM!J86,CHAR(10),\"Trimestre 2\",CHAR(10),GESTION_SEG_2_TRIM!J86,CHAR(10),\"Trimestre 3\",CHAR(10),GESTION_SEG_3_TRIM!J86),\" \")","v":" "},{"$f":"IFERROR(_xludf.CONCAT(\"Trimestre 1\",CHAR(10),GESTION_SEG_1_TRIM!K86,CHAR(10),\"Trimestre 2\",CHAR(10),GESTION_SEG_2_TRIM!K86,CHAR(10),\"Trimestre 3\",CHAR(10),GESTION_SEG_3_TRIM!K86),\" \")","v":" "}]
[null,null,null,null,"Misionales","Admin - Registro y Control de Abogados y Auxiliares de la Justicia","Seccional","Actualizar la lista de Auxiliares de la Justicia del Distrito Judicial de Quibdó y Administrativo del Chocó con las novedades que se presenten                                             ","Entregable",null,"Cc","Jefe oficina de Apoyo Judicial","Publicación lista Micrositio página Web/Correo institucional masivo","2023-01-01","2023-12-31",{"$f":"IFERROR(MAX(GESTION_SEG_1_TRIM!H87,GESTION_SEG_2_TRIM!H87,GESTION_SEG_3_TRIM!H87),\" \")","v":0},"",{"$f":"IFERROR(_xludf.CONCAT(\"Trimestre 1\",CHAR(10),GESTION_SEG_1_TRIM!J87,CHAR(10),\"Trimestre 2\",CHAR(10),GESTION_SEG_2_TRIM!J87,CHAR(10),\"Trimestre 3\",CHAR(10),GESTION_SEG_3_TRIM!J87),\" \")","v":" "},{"$f":"IFERROR(_xludf.CONCAT(\"Trimestre 1\",CHAR(10),GESTION_SEG_1_TRIM!K87,CHAR(10),\"Trimestre 2\",CHAR(10),GESTION_SEG_2_TRIM!K87,CHAR(10),\"Trimestre 3\",CHAR(10),GESTION_SEG_3_TRIM!K87),\" \")","v":" "}]
[null,null,null,null,"Misionales","Admin - Registro y Control de Abogados y Auxiliares de la Justicia","Seccional","Atender los requerimientos presentados por los usuarios internos y externos del servicio de justicia en relación con la lista de auxiliares de la justicia.","Entregable",null,null,"Jefe oficina de Apoyo Judicial","Respuestas a los requerimientos","2023-01-01","2023-12-31",{"$f":"IFERROR(MAX(GESTION_SEG_1_TRIM!H88,GESTION_SEG_2_TRIM!H88,GESTION_SEG_3_TRIM!H88),\" \")","v":0},"",{"$f":"IFERROR(_xludf.CONCAT(\"Trimestre 1\",CHAR(10),GESTION_SEG_1_TRIM!J88,CHAR(10),\"Trimestre 2\",CHAR(10),GESTION_SEG_2_TRIM!J88,CHAR(10),\"Trimestre 3\",CHAR(10),GESTION_SEG_3_TRIM!J88),\" \")","v":" "},{"$f":"IFERROR(_xludf.CONCAT(\"Trimestre 1\",CHAR(10),GESTION_SEG_1_TRIM!K88,CHAR(10),\"Trimestre 2\",CHAR(10),GESTION_SEG_2_TRIM!K88,CHAR(10),\"Trimestre 3\",CHAR(10),GESTION_SEG_3_TRIM!K88),\" \")","v":" "}]
[null,null,null,null,"Apoyo","Admin - Gestión Documental","Seccional","Implementar el programa de gestión documental. Recibir las transferencias documentales de los despachos judiciales de la sede Quibdó    Responder las solicitudes de desarchive presentadas por usuarios internos y externos de la Rama Judicial","Entregable",null,"Transferencias recibidas     Solicitudes atendidas","Jefe Oficina de Apoyo Judicial","Actas de transferencias documentales/Oficios y Circulares","2023-01-01","2023-12-31",{"$f":"IFERROR(MAX(GESTION_SEG_1_TRIM!H89,GESTION_SEG_2_TRIM!H89,GESTION_SEG_3_TRIM!H89),\" \")","v":0},"",{"$f":"IFERROR(_xludf.CONCAT(\"Trimestre 1\",CHAR(10),GESTION_SEG_1_TRIM!J89,CHAR(10),\"Trimestre 2\",CHAR(10),GESTION_SEG_2_TRIM!J89,CHAR(10),\"Trimestre 3\",CHAR(10),GESTION_SEG_3_TRIM!J89),\" \")","v":" "},{"$f":"IFERROR(_xludf.CONCAT(\"Trimestre 1\",CHAR(10),GESTION_SEG_1_TRIM!K89,CHAR(10),\"Trimestre 2\",CHAR(10),GESTION_SEG_2_TRIM!K89,CHAR(10),\"Trimestre 3\",CHAR(10),GESTION_SEG_3_TRIM!K89),\" \")","v":" "}]
[null,null,null,null,null,null,null,null,null,null,null,null,null,null,null,{"$f":"IFERROR(MAX(GESTION_SEG_1_TRIM!H90,GESTION_SEG_2_TRIM!H90,GESTION_SEG_3_TRIM!H90),\" \")","v":0},"",{"$f":"IFERROR(_xludf.CONCAT(\"Trimestre 1\",CHAR(10),GESTION_SEG_1_TRIM!J90,CHAR(10),\"Trimestre 2\",CHAR(10),GESTION_SEG_2_TRIM!J90,CHAR(10),\"Trimestre 3\",CHAR(10),GESTION_SEG_3_TRIM!J90),\" \")","v":" "},{"$f":"IFERROR(_xludf.CONCAT(\"Trimestre 1\",CHAR(10),GESTION_SEG_1_TRIM!K90,CHAR(10),\"Trimestre 2\",CHAR(10),GESTION_SEG_2_TRIM!K90,CHAR(10),\"Trimestre 3\",CHAR(10),GESTION_SEG_3_TRIM!K90),\" \")","v":" "}]
[null,null,"7. Continuar la consolidación del SIGCMA, a través de los procesos de formación en modelos de gestión, logrando la implementación y ampliación de este en los esquemas certificados de manera gradual, teniendo en cuenta las capacidades de los diferentes despachos judiciales y dependencias de la Rama Judicial y articulando el enfoque de Arquitectura Empresarial para el desarrollo del PETD a través de la gestión del conocimiento para la gestión del cambio propendiendo por una cultura de la calidad, la transparencia, la rendición de cuentas, la anticorrupción y el antisoborno","1. Gestionar el desarrollo de las competencias, la toma de conciencia , la cultura  organizacional  y el compromiso de los  servidores judiciales, contratistas, practicantes y  judicantes de contribuir a generar valor público en la administración de justicia, en el marco de  cumplimiento de los requisitos  aplicables y el comportamiento ético.\n4. Hacer un uso racional de los recursos naturales aplicando los principios y fases de la Economía Circular, para prevenir, mitigar y controlar los impactos ambientales.",null,null,null,null,null,null,null,null,null,null,null,{"$f":"IFERROR(MAX(GESTION_SEG_1_TRIM!H91,GESTION_SEG_2_TRIM!H91,GESTION_SEG_3_TRIM!H91),\" \")","v":0},"",{"$f":"IFERROR(_xludf.CONCAT(\"Trimestre 1\",CHAR(10),GESTION_SEG_1_TRIM!J91,CHAR(10),\"Trimestre 2\",CHAR(10),GESTION_SEG_2_TRIM!J91,CHAR(10),\"Trimestre 3\",CHAR(10),GESTION_SEG_3_TRIM!J91),\" \")","v":" "},{"$f":"IFERROR(_xludf.CONCAT(\"Trimestre 1\",CHAR(10),GESTION_SEG_1_TRIM!K91,CHAR(10),\"Trimestre 2\",CHAR(10),GESTION_SEG_2_TRIM!K91,CHAR(10),\"Trimestre 3\",CHAR(10),GESTION_SEG_3_TRIM!K91),\" \")","v":" "}]
[null,null,null,null,"Estratégicos","Admin - Planeación Estratégica","Seccional","Fomentar mediante circular la Planeación estrategica de los despachos judiciales del Distrito Judicial de Quibdó","Entregable",null,null,"Líder SIGCMA / Profesional Enlace SIGCMA","Expedición de la Circular","2023-01-01","2023-03-31",{"$f":"IFERROR(MAX(GESTION_SEG_1_TRIM!H92,GESTION_SEG_2_TRIM!H92,GESTION_SEG_3_TRIM!H92),\" \")","v":0},"",{"$f":"IFERROR(_xludf.CONCAT(\"Trimestre 1\",CHAR(10),GESTION_SEG_1_TRIM!J92,CHAR(10),\"Trimestre 2\",CHAR(10),GESTION_SEG_2_TRIM!J92,CHAR(10),\"Trimestre 3\",CHAR(10),GESTION_SEG_3_TRIM!J92),\" \")","v":" "},{"$f":"IFERROR(_xludf.CONCAT(\"Trimestre 1\",CHAR(10),GESTION_SEG_1_TRIM!K92,CHAR(10),\"Trimestre 2\",CHAR(10),GESTION_SEG_2_TRIM!K92,CHAR(10),\"Trimestre 3\",CHAR(10),GESTION_SEG_3_TRIM!K92),\" \")","v":" "}]
[null,null,null,null,null,null,null,null,null,null,null,null,null,null,null,{"$f":"IFERROR(MAX(GESTION_SEG_1_TRIM!H93,GESTION_SEG_2_TRIM!H93,GESTION_SEG_3_TRIM!H93),\" \")","v":0},"",{"$f":"IFERROR(_xludf.CONCAT(\"Trimestre 1\",CHAR(10),GESTION_SEG_1_TRIM!J93,CHAR(10),\"Trimestre 2\",CHAR(10),GESTION_SEG_2_TRIM!J93,CHAR(10),\"Trimestre 3\",CHAR(10),GESTION_SEG_3_TRIM!J93),\" \")","v":" "},{"$f":"IFERROR(_xludf.CONCAT(\"Trimestre 1\",CHAR(10),GESTION_SEG_1_TRIM!K93,CHAR(10),\"Trimestre 2\",CHAR(10),GESTION_SEG_2_TRIM!K93,CHAR(10),\"Trimestre 3\",CHAR(10),GESTION_SEG_3_TRIM!K93),\" \")","v":" "}]
[null,null,null,null,null,null,null,null,null,null,null,null,null,null,null,{"$f":"IFERROR(MAX(GESTION_SEG_1_TRIM!H94,GESTION_SEG_2_TRIM!H94,GESTION_SEG_3_TRIM!H94),\" \")","v":0},"",{"$f":"IFERROR(_xludf.CONCAT(\"Trimestre 1\",CHAR(10),GESTION_SEG_1_TRIM!J94,CHAR(10),\"Trimestre 2\",CHAR(10),GESTION_SEG_2_TRIM!J94,CHAR(10),\"Trimestre 3\",CHAR(10),GESTION_SEG_3_TRIM!J94),\" \")","v":" "},{"$f":"IFERROR(_xludf.CONCAT(\"Trimestre 1\",CHAR(10),GESTION_SEG_1_TRIM!K94,CHAR(10),\"Trimestre 2\",CHAR(10),GESTION_SEG_2_TRIM!K94,CHAR(10),\"Trimestre 3\",CHAR(10),GESTION_SEG_3_TRIM!K94),\" \")","v":" "}]
[null,null,null,null,null,null,null,null,null,null,null,null,null,null,null,{"$f":"IFERROR(MAX(GESTION_SEG_1_TRIM!H95,GESTION_SEG_2_TRIM!H95,GESTION_SEG_3_TRIM!H95),\" \")","v":0},"",{"$f":"IFERROR(_xludf.CONCAT(\"Trimestre 1\",CHAR(10),GESTION_SEG_1_TRIM!J95,CHAR(10),\"Trimestre 2\",CHAR(10),GESTION_SEG_2_TRIM!J95,CHAR(10),\"Trimestre 3\",CHAR(10),GESTION_SEG_3_TRIM!J95),\" \")","v":" "},{"$f":"IFERROR(_xludf.CONCAT(\"Trimestre 1\",CHAR(10),GESTION_SEG_1_TRIM!K95,CHAR(10),\"Trimestre 2\",CHAR(10),GESTION_SEG_2_TRIM!K95,CHAR(10),\"Trimestre 3\",CHAR(10),GESTION_SEG_3_TRIM!K95),\" \")","v":" "}]
["4. Talento Humano","Talento Humano: Fortalecer el talento humano en la Rama Judicial para que sea eficiente, capacitado y realice su labor en ambientes saludables y seguros. Ampliar la cobertura de la carrera judicial y mejorar la oferta de formación, que esté disponible para todos los servidores judiciales e impacte positivamente el servicio de justicia y responda a las necesidades reales del ejercicio de la función judicial.","1. Ampliar la cobertura de la carrera judicial optimizando los procesos de los concursos de méritos y propender por mitigar su litigiosidad.","1. Gestionar el desarrollo de las competencias, la toma de conciencia , la cultura  organizacional  y el compromiso de los  servidores judiciales, contratistas, practicantes y  judicantes de contribuir a generar valor público en la administración de justicia, en el marco de  cumplimiento de los requisitos  aplicables y el comportamiento ético.","Misionales","Admin - Administración de la Carrera Judicial","Seccional","Desarrollar labor pedagógica y de control para obtener oportunamente de los tribunales y jueces de instancia  el insumo para  consolidar el factor  calidad.","Entregable",null,null,"Despacho 02 / Auxiliar Judicial I","Circular","2023-01-01","2023-08-31",{"$f":"IFERROR(MAX(GESTION_SEG_1_TRIM!H96,GESTION_SEG_2_TRIM!H96,GESTION_SEG_3_TRIM!H96),\" \")","v":0},"",{"$f":"IFERROR(_xludf.CONCAT(\"Trimestre 1\",CHAR(10),GESTION_SEG_1_TRIM!J96,CHAR(10),\"Trimestre 2\",CHAR(10),GESTION_SEG_2_TRIM!J96,CHAR(10),\"Trimestre 3\",CHAR(10),GESTION_SEG_3_TRIM!J96),\" \")","v":" "},{"$f":"IFERROR(_xludf.CONCAT(\"Trimestre 1\",CHAR(10),GESTION_SEG_1_TRIM!K96,CHAR(10),\"Trimestre 2\",CHAR(10),GESTION_SEG_2_TRIM!K96,CHAR(10),\"Trimestre 3\",CHAR(10),GESTION_SEG_3_TRIM!K96),\" \")","v":" "}]
[null,null,null,null,"Misionales","Admin - Administración de la Carrera Judicial","Seccional","Administrar la información de las calificaciones de servicios de los servidores judiciales del Distrito","Entregable",null,null,"Despacho 02 / Auxiliar Judicial I","Cuadro control de calificaciones reportadas","2023-01-01","2023-12-31",{"$f":"IFERROR(MAX(GESTION_SEG_1_TRIM!H97,GESTION_SEG_2_TRIM!H97,GESTION_SEG_3_TRIM!H97),\" \")","v":0},"",{"$f":"IFERROR(_xludf.CONCAT(\"Trimestre 1\",CHAR(10),GESTION_SEG_1_TRIM!J97,CHAR(10),\"Trimestre 2\",CHAR(10),GESTION_SEG_2_TRIM!J97,CHAR(10),\"Trimestre 3\",CHAR(10),GESTION_SEG_3_TRIM!J97),\" \")","v":" "},{"$f":"IFERROR(_xludf.CONCAT(\"Trimestre 1\",CHAR(10),GESTION_SEG_1_TRIM!K97,CHAR(10),\"Trimestre 2\",CHAR(10),GESTION_SEG_2_TRIM!K97,CHAR(10),\"Trimestre 3\",CHAR(10),GESTION_SEG_3_TRIM!K97),\" \")","v":" "}]
[null,null,null,null,"Misionales","Admin - Administración de la Carrera Judicial","Seccional","Efectuar visita a los despachos de jueces con el objetivo de realizar la evaluaciónm de Factor Organización del Trabajo  (física o electrónica)","Entregable",null,null,"Despacho 02 / Auxiliar Judicial I","Formtos de Visitas","2023-01-01","2023-12-31",{"$f":"IFERROR(MAX(GESTION_SEG_1_TRIM!H98,GESTION_SEG_2_TRIM!H98,GESTION_SEG_3_TRIM!H98),\" \")","v":0},"",{"$f":"IFERROR(_xludf.CONCAT(\"Trimestre 1\",CHAR(10),GESTION_SEG_1_TRIM!J98,CHAR(10),\"Trimestre 2\",CHAR(10),GESTION_SEG_2_TRIM!J98,CHAR(10),\"Trimestre 3\",CHAR(10),GESTION_SEG_3_TRIM!J98),\" \")","v":" "},{"$f":"IFERROR(_xludf.CONCAT(\"Trimestre 1\",CHAR(10),GESTION_SEG_1_TRIM!K98,CHAR(10),\"Trimestre 2\",CHAR(10),GESTION_SEG_2_TRIM!K98,CHAR(10),\"Trimestre 3\",CHAR(10),GESTION_SEG_3_TRIM!K98),\" \")","v":" "}]
[null,null,null,null,"Misionales","Admin - Administración de la Carrera Judicial","Seccional","Realizar supervisión del reporte oportuno de vacantes para la correcta publicación, durante los primeros 5 días del mes de las vacantes","Entregable",null,null,"Despacho 02 / Auxiliar Judicial I","Circular, Formato y excel consolidado","2023-01-01","2023-12-31",{"$f":"IFERROR(MAX(GESTION_SEG_1_TRIM!H99,GESTION_SEG_2_TRIM!H99,GESTION_SEG_3_TRIM!H99),\" \")","v":0},"",{"$f":"IFERROR(_xludf.CONCAT(\"Trimestre 1\",CHAR(10),GESTION_SEG_1_TRIM!J99,CHAR(10),\"Trimestre 2\",CHAR(10),GESTION_SEG_2_TRIM!J99,CHAR(10),\"Trimestre 3\",CHAR(10),GESTION_SEG_3_TRIM!J99),\" \")","v":" "},{"$f":"IFERROR(_xludf.CONCAT(\"Trimestre 1\",CHAR(10),GESTION_SEG_1_TRIM!K99,CHAR(10),\"Trimestre 2\",CHAR(10),GESTION_SEG_2_TRIM!K99,CHAR(10),\"Trimestre 3\",CHAR(10),GESTION_SEG_3_TRIM!K99),\" \")","v":" "}]
[null,null,null,null,"Misionales","Admin - Administración de la Carrera Judicial","Seccional","Consolidar la Calificación Integral de Servicios de Jueces y remitir a la Unidad de Administración de Carrera Judicial (Acuerdo PSAA16-10618)","Entregable",null,null,"Despacho 02 / Auxiliar Judicial I","Formato","2023-01-01","2023-10-31",{"$f":"IFERROR(MAX(GESTION_SEG_1_TRIM!H100,GESTION_SEG_2_TRIM!H100,GESTION_SEG_3_TRIM!H100),\" \")","v":0},"",{"$f":"IFERROR(_xludf.CONCAT(\"Trimestre 1\",CHAR(10),GESTION_SEG_1_TRIM!J100,CHAR(10),\"Trimestre 2\",CHAR(10),GESTION_SEG_2_TRIM!J100,CHAR(10),\"Trimestre 3\",CHAR(10),GESTION_SEG_3_TRIM!J100),\" \")","v":" "},{"$f":"IFERROR(_xludf.CONCAT(\"Trimestre 1\",CHAR(10),GESTION_SEG_1_TRIM!K100,CHAR(10),\"Trimestre 2\",CHAR(10),GESTION_SEG_2_TRIM!K100,CHAR(10),\"Trimestre 3\",CHAR(10),GESTION_SEG_3_TRIM!K100),\" \")","v":" "}]
[null,null,"2. Impactar la función y servicios que presta la Rama Judicial, a través de una formación integral desde una visión de gestión del conocimiento, relacionada con los problemas de la justicia y los problemas de gestión de quienes administran los recursos de la justicia, y potenciando el uso de medios virtuales.",null,"Misionales","Admin - Administración de la Carrera Judicial","Seccional","    Estudiar y emitir concepto sobre las solicitudes de traslado que sean de competencia de este Consejo Seccional que presenten Jueces y Empleados","Entregable",null,null,"Despacho 02 / Auxiliar Judicial I","Concepto - Oficio","2023-01-01","2023-12-31",{"$f":"IFERROR(MAX(GESTION_SEG_1_TRIM!H101,GESTION_SEG_2_TRIM!H101,GESTION_SEG_3_TRIM!H101),\" \")","v":0},"",{"$f":"IFERROR(_xludf.CONCAT(\"Trimestre 1\",CHAR(10),GESTION_SEG_1_TRIM!J101,CHAR(10),\"Trimestre 2\",CHAR(10),GESTION_SEG_2_TRIM!J101,CHAR(10),\"Trimestre 3\",CHAR(10),GESTION_SEG_3_TRIM!J101),\" \")","v":" "},{"$f":"IFERROR(_xludf.CONCAT(\"Trimestre 1\",CHAR(10),GESTION_SEG_1_TRIM!K101,CHAR(10),\"Trimestre 2\",CHAR(10),GESTION_SEG_2_TRIM!K101,CHAR(10),\"Trimestre 3\",CHAR(10),GESTION_SEG_3_TRIM!K101),\" \")","v":" "}]
[null,null,null,null,"Misionales","Admin - Administración de la Carrera Judicial","Seccional"," Remitir al final de cada mes a la Unidad de Carrera Judicial las vacantes de jueces e informar  sobre el agotamiento de las listas de candidatos","Entregable",null,null,"Despacho 02 / Auxiliar Judicial I","Oficio","2023-01-01","2023-12-31",{"$f":"IFERROR(MAX(GESTION_SEG_1_TRIM!H102,GESTION_SEG_2_TRIM!H102,GESTION_SEG_3_TRIM!H102),\" \")","v":0},{"$f":"IFERROR(P102/J102,\"\")","v":""},{"$f":"IFERROR(_xludf.CONCAT(\"Trimestre 1\",CHAR(10),GESTION_SEG_1_TRIM!J102,CHAR(10),\"Trimestre 2\",CHAR(10),GESTION_SEG_2_TRIM!J102,CHAR(10),\"Trimestre 3\",CHAR(10),GESTION_SEG_3_TRIM!J102),\" \")","v":" "},{"$f":"IFERROR(_xludf.CONCAT(\"Trimestre 1\",CHAR(10),GESTION_SEG_1_TRIM!K102,CHAR(10),\"Trimestre 2\",CHAR(10),GESTION_SEG_2_TRIM!K102,CHAR(10),\"Trimestre 3\",CHAR(10),GESTION_SEG_3_TRIM!K102),\" \")","v":" "}]
[null,null,null,null,"Misionales","Admin - Administración de la Carrera Judicial","Seccional","Efectuar visita a los despachos de magistrados, conforme la delegación del Consejo Superior de la Judicatura, con el objetivo de verificar el Factor Organización del Trabajo  (física o electrónica).","Entregable",null,null,null,null,null,null,{"$f":"IFERROR(MAX(GESTION_SEG_1_TRIM!H103,GESTION_SEG_2_TRIM!H103,GESTION_SEG_3_TRIM!H103),\" \")","v":0},"",{"$f":"IFERROR(_xludf.CONCAT(\"Trimestre 1\",CHAR(10),GESTION_SEG_1_TRIM!J103,CHAR(10),\"Trimestre 2\",CHAR(10),GESTION_SEG_2_TRIM!J103,CHAR(10),\"Trimestre 3\",CHAR(10),GESTION_SEG_3_TRIM!J103),\" \")","v":" "},{"$f":"IFERROR(_xludf.CONCAT(\"Trimestre 1\",CHAR(10),GESTION_SEG_1_TRIM!K103,CHAR(10),\"Trimestre 2\",CHAR(10),GESTION_SEG_2_TRIM!K103,CHAR(10),\"Trimestre 3\",CHAR(10),GESTION_SEG_3_TRIM!K103),\" \")","v":" "}]
[null,null,null,null,null,null,null,null,null,null,null,null,null,null,null,{"$f":"IFERROR(MAX(GESTION_SEG_1_TRIM!H104,GESTION_SEG_2_TRIM!H104,GESTION_SEG_3_TRIM!H104),\" \")","v":0},"",{"$f":"IFERROR(_xludf.CONCAT(\"Trimestre 1\",CHAR(10),GESTION_SEG_1_TRIM!J104,CHAR(10),\"Trimestre 2\",CHAR(10),GESTION_SEG_2_TRIM!J104,CHAR(10),\"Trimestre 3\",CHAR(10),GESTION_SEG_3_TRIM!J104),\" \")","v":" "},{"$f":"IFERROR(_xludf.CONCAT(\"Trimestre 1\",CHAR(10),GESTION_SEG_1_TRIM!K104,CHAR(10),\"Trimestre 2\",CHAR(10),GESTION_SEG_2_TRIM!K104,CHAR(10),\"Trimestre 3\",CHAR(10),GESTION_SEG_3_TRIM!K104),\" \")","v":" "}]
[null,null,null,null,null,null,null,null,null,null,null,null,null,null,null,{"$f":"IFERROR(MAX(GESTION_SEG_1_TRIM!H105,GESTION_SEG_2_TRIM!H105,GESTION_SEG_3_TRIM!H105),\" \")","v":0},"",{"$f":"IFERROR(_xludf.CONCAT(\"Trimestre 1\",CHAR(10),GESTION_SEG_1_TRIM!J105,CHAR(10),\"Trimestre 2\",CHAR(10),GESTION_SEG_2_TRIM!J105,CHAR(10),\"Trimestre 3\",CHAR(10),GESTION_SEG_3_TRIM!J105),\" \")","v":" "},{"$f":"IFERROR(_xludf.CONCAT(\"Trimestre 1\",CHAR(10),GESTION_SEG_1_TRIM!K105,CHAR(10),\"Trimestre 2\",CHAR(10),GESTION_SEG_2_TRIM!K105,CHAR(10),\"Trimestre 3\",CHAR(10),GESTION_SEG_3_TRIM!K105),\" \")","v":" "}]
[null,null,"3. Promover la incorporación de la perspectiva de género y el enfoque diferencial en los fallos judiciales y en la atención a los ciudadanos, la administración de la Rama Judicial, la administración de la carrera judicial y la elaboración de listas para altas Cortes. ",null,null,null,null,null,null,null,null,null,null,null,null,{"$f":"IFERROR(MAX(GESTION_SEG_1_TRIM!H106,GESTION_SEG_2_TRIM!H106,GESTION_SEG_3_TRIM!H106),\" \")","v":0},"",{"$f":"IFERROR(_xludf.CONCAT(\"Trimestre 1\",CHAR(10),GESTION_SEG_1_TRIM!J106,CHAR(10),\"Trimestre 2\",CHAR(10),GESTION_SEG_2_TRIM!J106,CHAR(10),\"Trimestre 3\",CHAR(10),GESTION_SEG_3_TRIM!J106),\" \")","v":" "},{"$f":"IFERROR(_xludf.CONCAT(\"Trimestre 1\",CHAR(10),GESTION_SEG_1_TRIM!K106,CHAR(10),\"Trimestre 2\",CHAR(10),GESTION_SEG_2_TRIM!K106,CHAR(10),\"Trimestre 3\",CHAR(10),GESTION_SEG_3_TRIM!K106),\" \")","v":" "}]
[null,null,null,null,null,null,null,null,null,null,null,null,null,null,null,{"$f":"IFERROR(MAX(GESTION_SEG_1_TRIM!H107,GESTION_SEG_2_TRIM!H107,GESTION_SEG_3_TRIM!H107),\" \")","v":0},"",{"$f":"IFERROR(_xludf.CONCAT(\"Trimestre 1\",CHAR(10),GESTION_SEG_1_TRIM!J107,CHAR(10),\"Trimestre 2\",CHAR(10),GESTION_SEG_2_TRIM!J107,CHAR(10),\"Trimestre 3\",CHAR(10),GESTION_SEG_3_TRIM!J107),\" \")","v":" "},{"$f":"IFERROR(_xludf.CONCAT(\"Trimestre 1\",CHAR(10),GESTION_SEG_1_TRIM!K107,CHAR(10),\"Trimestre 2\",CHAR(10),GESTION_SEG_2_TRIM!K107,CHAR(10),\"Trimestre 3\",CHAR(10),GESTION_SEG_3_TRIM!K107),\" \")","v":" "}]
[null,null,null,null,null,null,null,null,null,null,null,null,null,null,null,{"$f":"IFERROR(MAX(GESTION_SEG_1_TRIM!H108,GESTION_SEG_2_TRIM!H108,GESTION_SEG_3_TRIM!H108),\" \")","v":0},"",{"$f":"IFERROR(_xludf.CONCAT(\"Trimestre 1\",CHAR(10),GESTION_SEG_1_TRIM!J108,CHAR(10),\"Trimestre 2\",CHAR(10),GESTION_SEG_2_TRIM!J108,CHAR(10),\"Trimestre 3\",CHAR(10),GESTION_SEG_3_TRIM!J108),\" \")","v":" "},{"$f":"IFERROR(_xludf.CONCAT(\"Trimestre 1\",CHAR(10),GESTION_SEG_1_TRIM!K108,CHAR(10),\"Trimestre 2\",CHAR(10),GESTION_SEG_2_TRIM!K108,CHAR(10),\"Trimestre 3\",CHAR(10),GESTION_SEG_3_TRIM!K108),\" \")","v":" "}]
[null,null,null,null,null,null,null,null,null,null,null,null,null,null,null,{"$f":"IFERROR(MAX(GESTION_SEG_1_TRIM!H109,GESTION_SEG_2_TRIM!H109,GESTION_SEG_3_TRIM!H109),\" \")","v":0},"",{"$f":"IFERROR(_xludf.CONCAT(\"Trimestre 1\",CHAR(10),GESTION_SEG_1_TRIM!J109,CHAR(10),\"Trimestre 2\",CHAR(10),GESTION_SEG_2_TRIM!J109,CHAR(10),\"Trimestre 3\",CHAR(10),GESTION_SEG_3_TRIM!J109),\" \")","v":" "},{"$f":"IFERROR(_xludf.CONCAT(\"Trimestre 1\",CHAR(10),GESTION_SEG_1_TRIM!K109,CHAR(10),\"Trimestre 2\",CHAR(10),GESTION_SEG_2_TRIM!K109,CHAR(10),\"Trimestre 3\",CHAR(10),GESTION_SEG_3_TRIM!K109),\" \")","v":" "}]
[null,null,null,null,null,null,null,null,null,null,null,null,null,null,null,{"$f":"IFERROR(MAX(GESTION_SEG_1_TRIM!H110,GESTION_SEG_2_TRIM!H110,GESTION_SEG_3_TRIM!H110),\" \")","v":0},"",{"$f":"IFERROR(_xludf.CONCAT(\"Trimestre 1\",CHAR(10),GESTION_SEG_1_TRIM!J110,CHAR(10),\"Trimestre 2\",CHAR(10),GESTION_SEG_2_TRIM!J110,CHAR(10),\"Trimestre 3\",CHAR(10),GESTION_SEG_3_TRIM!J110),\" \")","v":" "},{"$f":"IFERROR(_xludf.CONCAT(\"Trimestre 1\",CHAR(10),GESTION_SEG_1_TRIM!K110,CHAR(10),\"Trimestre 2\",CHAR(10),GESTION_SEG_2_TRIM!K110,CHAR(10),\"Trimestre 3\",CHAR(10),GESTION_SEG_3_TRIM!K110),\" \")","v":" "}]
[null,null,"4. Desarrollar en los servidores judiciales y demás grupos de valor relevantes las competencias necesarias para la efectividad de la transformación digital de modo que puedan, entre otros, utilizar con solvencia las herramientas digitales dispuestas para sus respectivas funciones. Además, fortalecer y actualizar los conocimientos del personal a cargo de la gestión de proyectos de tecnología.",null,"Misionales","Admin - Gestión de la Formación Judicial","Seccional"," Recepcionar de las necesidades de Formación en el Grupo Seccional de Apoyo","Entregable",null,null,"Despacho 01 / Auxiliar Judicial I","Actas de reunión ","2023-01-01","2023-12-31",{"$f":"IFERROR(MAX(GESTION_SEG_1_TRIM!H111,GESTION_SEG_2_TRIM!H111,GESTION_SEG_3_TRIM!H111),\" \")","v":0},"",{"$f":"IFERROR(_xludf.CONCAT(\"Trimestre 1\",CHAR(10),GESTION_SEG_1_TRIM!J111,CHAR(10),\"Trimestre 2\",CHAR(10),GESTION_SEG_2_TRIM!J111,CHAR(10),\"Trimestre 3\",CHAR(10),GESTION_SEG_3_TRIM!J111),\" \")","v":" "},{"$f":"IFERROR(_xludf.CONCAT(\"Trimestre 1\",CHAR(10),GESTION_SEG_1_TRIM!K111,CHAR(10),\"Trimestre 2\",CHAR(10),GESTION_SEG_2_TRIM!K111,CHAR(10),\"Trimestre 3\",CHAR(10),GESTION_SEG_3_TRIM!K111),\" \")","v":" "}]
[null,null,null,null,"Misionales","Admin - Gestión de la Formación Judicial","Seccional","Recibir y divulgar las capacitaciones programadas por la Escuela Judicial Rodrigo Lara Bonilla","Entregable",null,null,"Despacho 01 / Escribiente Nominado","Circular","2023-01-01","2023-12-31",{"$f":"IFERROR(MAX(GESTION_SEG_1_TRIM!H112,GESTION_SEG_2_TRIM!H112,GESTION_SEG_3_TRIM!H112),\" \")","v":0},"",{"$f":"IFERROR(_xludf.CONCAT(\"Trimestre 1\",CHAR(10),GESTION_SEG_1_TRIM!J112,CHAR(10),\"Trimestre 2\",CHAR(10),GESTION_SEG_2_TRIM!J112,CHAR(10),\"Trimestre 3\",CHAR(10),GESTION_SEG_3_TRIM!J112),\" \")","v":" "},{"$f":"IFERROR(_xludf.CONCAT(\"Trimestre 1\",CHAR(10),GESTION_SEG_1_TRIM!K112,CHAR(10),\"Trimestre 2\",CHAR(10),GESTION_SEG_2_TRIM!K112,CHAR(10),\"Trimestre 3\",CHAR(10),GESTION_SEG_3_TRIM!K112),\" \")","v":" "}]
[null,null,null,null,"Misionales","Admin - Gestión de la Formación Judicial","Seccional","Gestionar espacios para capacitaciones que se realicen en la seccional (usuario interno y externo) (Comité Seccional de Género / Comité Justicia Restaurativa / Mesa Interjurisdicional Indígena)","Entregable",null,null,"Despacho 01 y Despacho 02","Listado de asistencia / fotos / Vídeos","2023-01-01","2023-12-31",{"$f":"IFERROR(MAX(GESTION_SEG_1_TRIM!H113,GESTION_SEG_2_TRIM!H113,GESTION_SEG_3_TRIM!H113),\" \")","v":0},"",{"$f":"IFERROR(_xludf.CONCAT(\"Trimestre 1\",CHAR(10),GESTION_SEG_1_TRIM!J113,CHAR(10),\"Trimestre 2\",CHAR(10),GESTION_SEG_2_TRIM!J113,CHAR(10),\"Trimestre 3\",CHAR(10),GESTION_SEG_3_TRIM!J113),\" \")","v":" "},{"$f":"IFERROR(_xludf.CONCAT(\"Trimestre 1\",CHAR(10),GESTION_SEG_1_TRIM!K113,CHAR(10),\"Trimestre 2\",CHAR(10),GESTION_SEG_2_TRIM!K113,CHAR(10),\"Trimestre 3\",CHAR(10),GESTION_SEG_3_TRIM!K113),\" \")","v":" "}]
[null,null,null,null,"Apoyo","Admin - Gestión de Seguridad y Salud en el Trabajo","Seccional","Planear y ejecutar el plan de trabajo de SG-SST Seccional vigencia 2023 con apoyo de los aliados estrategicos","Meta cuantificable",152,"Numero de actividades ","Coordinador SG.SST","Informe ","2023-01-01","2023-12-31",{"$f":"IFERROR(MAX(GESTION_SEG_1_TRIM!H114,GESTION_SEG_2_TRIM!H114,GESTION_SEG_3_TRIM!H114),\" \")","v":136},0.89473684210526316,{"$f":"IFERROR(_xludf.CONCAT(\"Trimestre 1\",CHAR(10),GESTION_SEG_1_TRIM!J114,CHAR(10),\"Trimestre 2\",CHAR(10),GESTION_SEG_2_TRIM!J114,CHAR(10),\"Trimestre 3\",CHAR(10),GESTION_SEG_3_TRIM!J114),\" \")","v":" "},{"$f":"IFERROR(_xludf.CONCAT(\"Trimestre 1\",CHAR(10),GESTION_SEG_1_TRIM!K114,CHAR(10),\"Trimestre 2\",CHAR(10),GESTION_SEG_2_TRIM!K114,CHAR(10),\"Trimestre 3\",CHAR(10),GESTION_SEG_3_TRIM!K114),\" \")","v":" "}]
[null,null,null,null,"Apoyo","Admin - Gestión de Seguridad y Salud en el Trabajo","Seccional","Proyectar, programar y ejecutar actividades  en pro de la seguridad y salud en el trabajo de la población judicial de acuerdo al presupuesto asignado","Meta cuantificable",201674200,"Presupuesto ","Coordinador SG.SST","Informe ","2023-01-01","2023-12-31",{"$f":"IFERROR(MAX(GESTION_SEG_1_TRIM!H115,GESTION_SEG_2_TRIM!H115,GESTION_SEG_3_TRIM!H115),\" \")","v":201674200},1,{"$f":"IFERROR(_xludf.CONCAT(\"Trimestre 1\",CHAR(10),GESTION_SEG_1_TRIM!J115,CHAR(10),\"Trimestre 2\",CHAR(10),GESTION_SEG_2_TRIM!J115,CHAR(10),\"Trimestre 3\",CHAR(10),GESTION_SEG_3_TRIM!J115),\" \")","v":" "},{"$f":"IFERROR(_xludf.CONCAT(\"Trimestre 1\",CHAR(10),GESTION_SEG_1_TRIM!K115,CHAR(10),\"Trimestre 2\",CHAR(10),GESTION_SEG_2_TRIM!K115,CHAR(10),\"Trimestre 3\",CHAR(10),GESTION_SEG_3_TRIM!K115),\" \")","v":" "}]
[null,null,"5. Promover el bienestar de todos los servidores judiciales a través de la implementación de un sistema que contemple los diferentes niveles de estrategias y acciones necesarios para mejorar el clima laboral, la salud física y mental y la calidad del tiempo de descanso.","5. Generar espacios de trabajo seguros y saludables que contribuyan a minimizar los  incidentes, accidentes y enfermedades laborales derivados de las condiciones y actos  inseguros y fomentar  el autocuidado, los  estilos de vida y el trabajo saludable en los servidores judiciales, contratistas, judicantes y practicantes","Apoyo","Admin - Gestión de Seguridad y Salud en el Trabajo","Seccional","Ejecutar inspecciones técnicas de seguridad integral, matrices de identificación de peligros y planes de emergencias a las sedes judiciales","Meta cuantificable",35,"Numero de actividades ","Coordinador SG.SST","Actas, documentos, informes","2023-01-01","2023-12-31",{"$f":"IFERROR(MAX(GESTION_SEG_1_TRIM!H116,GESTION_SEG_2_TRIM!H116,GESTION_SEG_3_TRIM!H116),\" \")","v":23},0.65714285714285714,{"$f":"IFERROR(_xludf.CONCAT(\"Trimestre 1\",CHAR(10),GESTION_SEG_1_TRIM!J116,CHAR(10),\"Trimestre 2\",CHAR(10),GESTION_SEG_2_TRIM!J116,CHAR(10),\"Trimestre 3\",CHAR(10),GESTION_SEG_3_TRIM!J116),\" \")","v":" "},{"$f":"IFERROR(_xludf.CONCAT(\"Trimestre 1\",CHAR(10),GESTION_SEG_1_TRIM!K116,CHAR(10),\"Trimestre 2\",CHAR(10),GESTION_SEG_2_TRIM!K116,CHAR(10),\"Trimestre 3\",CHAR(10),GESTION_SEG_3_TRIM!K116),\" \")","v":" "}]
[null,null,null,null,"Apoyo","Admin - Gestión de Seguridad y Salud en el Trabajo","Seccional","Implementar mecanismos para la retroalimentación de las  partes interesadas","Entregable",null,null,"Coordinador SG.SST","Documento ","2023-01-01","2023-12-31",{"$f":"IFERROR(MAX(GESTION_SEG_1_TRIM!H117,GESTION_SEG_2_TRIM!H117,GESTION_SEG_3_TRIM!H117),\" \")","v":0},"",{"$f":"IFERROR(_xludf.CONCAT(\"Trimestre 1\",CHAR(10),GESTION_SEG_1_TRIM!J117,CHAR(10),\"Trimestre 2\",CHAR(10),GESTION_SEG_2_TRIM!J117,CHAR(10),\"Trimestre 3\",CHAR(10),GESTION_SEG_3_TRIM!J117),\" \")","v":" "},{"$f":"IFERROR(_xludf.CONCAT(\"Trimestre 1\",CHAR(10),GESTION_SEG_1_TRIM!K117,CHAR(10),\"Trimestre 2\",CHAR(10),GESTION_SEG_2_TRIM!K117,CHAR(10),\"Trimestre 3\",CHAR(10),GESTION_SEG_3_TRIM!K117),\" \")","v":" "}]
[null,null,null,null,"Apoyo","Admin - Gestión de Seguridad y Salud en el Trabajo","Seccional","Solicitar apoyo al CENDOJ para realización de capacitaciones en tablas de retención documental (TRD)","Entregable",null,null,"Director de la Coordiancion Administrativa","Actas, correos","2023-01-01","2023-12-31",{"$f":"IFERROR(MAX(GESTION_SEG_1_TRIM!H118,GESTION_SEG_2_TRIM!H118,GESTION_SEG_3_TRIM!H118),\" \")","v":0},"",{"$f":"IFERROR(_xludf.CONCAT(\"Trimestre 1\",CHAR(10),GESTION_SEG_1_TRIM!J118,CHAR(10),\"Trimestre 2\",CHAR(10),GESTION_SEG_2_TRIM!J118,CHAR(10),\"Trimestre 3\",CHAR(10),GESTION_SEG_3_TRIM!J118),\" \")","v":" "},{"$f":"IFERROR(_xludf.CONCAT(\"Trimestre 1\",CHAR(10),GESTION_SEG_1_TRIM!K118,CHAR(10),\"Trimestre 2\",CHAR(10),GESTION_SEG_2_TRIM!K118,CHAR(10),\"Trimestre 3\",CHAR(10),GESTION_SEG_3_TRIM!K118),\" \")","v":" "}]
[null,null,null,null,"Apoyo","Admin - Gestión de Seguridad y Salud en el Trabajo","Seccional","Hacer uso de la información y de las herramientas tecnológicas dispuestas para la prestación del servicios","Entregable",null,null,"Coordinador SG.SST","Medio de comunicación (Correos, intranet)","2023-01-01","2023-12-31",{"$f":"IFERROR(MAX(GESTION_SEG_1_TRIM!H119,GESTION_SEG_2_TRIM!H119,GESTION_SEG_3_TRIM!H119),\" \")","v":0},"",{"$f":"IFERROR(_xludf.CONCAT(\"Trimestre 1\",CHAR(10),GESTION_SEG_1_TRIM!J119,CHAR(10),\"Trimestre 2\",CHAR(10),GESTION_SEG_2_TRIM!J119,CHAR(10),\"Trimestre 3\",CHAR(10),GESTION_SEG_3_TRIM!J119),\" \")","v":" "},{"$f":"IFERROR(_xludf.CONCAT(\"Trimestre 1\",CHAR(10),GESTION_SEG_1_TRIM!K119,CHAR(10),\"Trimestre 2\",CHAR(10),GESTION_SEG_2_TRIM!K119,CHAR(10),\"Trimestre 3\",CHAR(10),GESTION_SEG_3_TRIM!K119),\" \")","v":" "}]
[null,null,null,null,"Apoyo","Admin - Gestión de Seguridad y Salud en el Trabajo","Seccional","Participar en reuniones según programación por parte el SIGCMA para la presentación y aprobación de documentos del proceso de SG-SST","Entregable",null,null,"Coordinador SG.SST","Actas, documentos","2023-01-01","2023-12-31",{"$f":"IFERROR(MAX(GESTION_SEG_1_TRIM!H120,GESTION_SEG_2_TRIM!H120,GESTION_SEG_3_TRIM!H120),\" \")","v":0},"",{"$f":"IFERROR(_xludf.CONCAT(\"Trimestre 1\",CHAR(10),GESTION_SEG_1_TRIM!J120,CHAR(10),\"Trimestre 2\",CHAR(10),GESTION_SEG_2_TRIM!J120,CHAR(10),\"Trimestre 3\",CHAR(10),GESTION_SEG_3_TRIM!J120),\" \")","v":" "},{"$f":"IFERROR(_xludf.CONCAT(\"Trimestre 1\",CHAR(10),GESTION_SEG_1_TRIM!K120,CHAR(10),\"Trimestre 2\",CHAR(10),GESTION_SEG_2_TRIM!K120,CHAR(10),\"Trimestre 3\",CHAR(10),GESTION_SEG_3_TRIM!K120),\" \")","v":" "}]
["5. Gobernanza, planeación estratégica y capacidad de toma de decisiones","Gobernanza, planeación estratégica y capacidad de toma de decisiones: Fortalecer la gobernanza, la planeación estratégica y la capacidad de toma de decisiones de la Rama Judicial con base en la evidencia empírica y la articulación efectiva con las demás entidades, para que la perspectiva de género y el enfoque diferencial sean transversales en el presente plan. ","1. Implementar un nuevo modelo integrado para la planeación estratégica, el seguimiento y la medición del desempeño institucional.","2. Asegurar  el cumplimiento de los objetivos institucionales, la normatividad aplicable,  la mejora del SIGCMA y la satisfacción de los usuarios, revisando de  forma continua y sistemática la planificación de la gestión y fortaleciendo la administración de riesgos y sus controles.",null,null,null,null,null,null,null,null,null,null,null,{"$f":"IFERROR(MAX(GESTION_SEG_1_TRIM!H121,GESTION_SEG_2_TRIM!H121,GESTION_SEG_3_TRIM!H121),\" \")","v":0},"",{"$f":"IFERROR(_xludf.CONCAT(\"Trimestre 1\",CHAR(10),GESTION_SEG_1_TRIM!J121,CHAR(10),\"Trimestre 2\",CHAR(10),GESTION_SEG_2_TRIM!J121,CHAR(10),\"Trimestre 3\",CHAR(10),GESTION_SEG_3_TRIM!J121),\" \")","v":" "},{"$f":"IFERROR(_xludf.CONCAT(\"Trimestre 1\",CHAR(10),GESTION_SEG_1_TRIM!K121,CHAR(10),\"Trimestre 2\",CHAR(10),GESTION_SEG_2_TRIM!K121,CHAR(10),\"Trimestre 3\",CHAR(10),GESTION_SEG_3_TRIM!K121),\" \")","v":" "}]
[null,null,null,null,"Evaluación_y_Mejora","Admin - Mejoramiento del Sistema Integrado de Gestión y Control de la Calidad y del Medio Ambiente","Seccional","Elaborar el Informe de la Alta Dirección ","Entregable",null,null,"Despacho 01 y Despacho 02 Magistrada / Auxiliar Judicial I - Escribiente y Profesional U.","Informe","2023-01-01","2023-06-30",{"$f":"IFERROR(MAX(GESTION_SEG_1_TRIM!H122,GESTION_SEG_2_TRIM!H122,GESTION_SEG_3_TRIM!H122),\" \")","v":0},"",{"$f":"IFERROR(_xludf.CONCAT(\"Trimestre 1\",CHAR(10),GESTION_SEG_1_TRIM!J122,CHAR(10),\"Trimestre 2\",CHAR(10),GESTION_SEG_2_TRIM!J122,CHAR(10),\"Trimestre 3\",CHAR(10),GESTION_SEG_3_TRIM!J122),\" \")","v":" "},{"$f":"IFERROR(_xludf.CONCAT(\"Trimestre 1\",CHAR(10),GESTION_SEG_1_TRIM!K122,CHAR(10),\"Trimestre 2\",CHAR(10),GESTION_SEG_2_TRIM!K122,CHAR(10),\"Trimestre 3\",CHAR(10),GESTION_SEG_3_TRIM!K122),\" \")","v":" "}]
[null,null,null,null,"Evaluación_y_Mejora","Admin - Gestión de Control Interno y Auditoría","Seccional","Participar en las reuniones de Control Interno Seccional ","Entregable",null,null,"Despacho 01 y Despacho 02 Magistrada","actas de reunión ","2023-01-01","2023-12-31",{"$f":"IFERROR(MAX(GESTION_SEG_1_TRIM!H123,GESTION_SEG_2_TRIM!H123,GESTION_SEG_3_TRIM!H123),\" \")","v":0},"",{"$f":"IFERROR(_xludf.CONCAT(\"Trimestre 1\",CHAR(10),GESTION_SEG_1_TRIM!J123,CHAR(10),\"Trimestre 2\",CHAR(10),GESTION_SEG_2_TRIM!J123,CHAR(10),\"Trimestre 3\",CHAR(10),GESTION_SEG_3_TRIM!J123),\" \")","v":" "},{"$f":"IFERROR(_xludf.CONCAT(\"Trimestre 1\",CHAR(10),GESTION_SEG_1_TRIM!K123,CHAR(10),\"Trimestre 2\",CHAR(10),GESTION_SEG_2_TRIM!K123,CHAR(10),\"Trimestre 3\",CHAR(10),GESTION_SEG_3_TRIM!K123),\" \")","v":" "}]
[null,null,null,null,null,null,null,null,null,null,null,null,null,null,null,{"$f":"IFERROR(MAX(GESTION_SEG_1_TRIM!H124,GESTION_SEG_2_TRIM!H124,GESTION_SEG_3_TRIM!H124),\" \")","v":0},"",{"$f":"IFERROR(_xludf.CONCAT(\"Trimestre 1\",CHAR(10),GESTION_SEG_1_TRIM!J124,CHAR(10),\"Trimestre 2\",CHAR(10),GESTION_SEG_2_TRIM!J124,CHAR(10),\"Trimestre 3\",CHAR(10),GESTION_SEG_3_TRIM!J124),\" \")","v":" "},{"$f":"IFERROR(_xludf.CONCAT(\"Trimestre 1\",CHAR(10),GESTION_SEG_1_TRIM!K124,CHAR(10),\"Trimestre 2\",CHAR(10),GESTION_SEG_2_TRIM!K124,CHAR(10),\"Trimestre 3\",CHAR(10),GESTION_SEG_3_TRIM!K124),\" \")","v":" "}]
[null,null,null,null,null,null,null,null,null,null,null,null,null,null,null,{"$f":"IFERROR(MAX(GESTION_SEG_1_TRIM!H125,GESTION_SEG_2_TRIM!H125,GESTION_SEG_3_TRIM!H125),\" \")","v":0},"",{"$f":"IFERROR(_xludf.CONCAT(\"Trimestre 1\",CHAR(10),GESTION_SEG_1_TRIM!J125,CHAR(10),\"Trimestre 2\",CHAR(10),GESTION_SEG_2_TRIM!J125,CHAR(10),\"Trimestre 3\",CHAR(10),GESTION_SEG_3_TRIM!J125),\" \")","v":" "},{"$f":"IFERROR(_xludf.CONCAT(\"Trimestre 1\",CHAR(10),GESTION_SEG_1_TRIM!K125,CHAR(10),\"Trimestre 2\",CHAR(10),GESTION_SEG_2_TRIM!K125,CHAR(10),\"Trimestre 3\",CHAR(10),GESTION_SEG_3_TRIM!K125),\" \")","v":" "}]
[null,null,"2. Definir e implementar el modelo optimizado de formulación, seguimiento y evaluación de la política pública judicial.",null,null,null,null,null,null,null,null,null,null,null,null,{"$f":"IFERROR(MAX(GESTION_SEG_1_TRIM!H126,GESTION_SEG_2_TRIM!H126,GESTION_SEG_3_TRIM!H126),\" \")","v":0},"",{"$f":"IFERROR(_xludf.CONCAT(\"Trimestre 1\",CHAR(10),GESTION_SEG_1_TRIM!J126,CHAR(10),\"Trimestre 2\",CHAR(10),GESTION_SEG_2_TRIM!J126,CHAR(10),\"Trimestre 3\",CHAR(10),GESTION_SEG_3_TRIM!J126),\" \")","v":" "},{"$f":"IFERROR(_xludf.CONCAT(\"Trimestre 1\",CHAR(10),GESTION_SEG_1_TRIM!K126,CHAR(10),\"Trimestre 2\",CHAR(10),GESTION_SEG_2_TRIM!K126,CHAR(10),\"Trimestre 3\",CHAR(10),GESTION_SEG_3_TRIM!K126),\" \")","v":" "}]
[null,null,null,null,null,null,null,null,null,null,null,null,null,null,null,{"$f":"IFERROR(MAX(GESTION_SEG_1_TRIM!H127,GESTION_SEG_2_TRIM!H127,GESTION_SEG_3_TRIM!H127),\" \")","v":0},"",{"$f":"IFERROR(_xludf.CONCAT(\"Trimestre 1\",CHAR(10),GESTION_SEG_1_TRIM!J127,CHAR(10),\"Trimestre 2\",CHAR(10),GESTION_SEG_2_TRIM!J127,CHAR(10),\"Trimestre 3\",CHAR(10),GESTION_SEG_3_TRIM!J127),\" \")","v":" "},{"$f":"IFERROR(_xludf.CONCAT(\"Trimestre 1\",CHAR(10),GESTION_SEG_1_TRIM!K127,CHAR(10),\"Trimestre 2\",CHAR(10),GESTION_SEG_2_TRIM!K127,CHAR(10),\"Trimestre 3\",CHAR(10),GESTION_SEG_3_TRIM!K127),\" \")","v":" "}]
[null,null,null,null,null,null,null,null,null,null,null,null,null,null,null,{"$f":"IFERROR(MAX(GESTION_SEG_1_TRIM!H128,GESTION_SEG_2_TRIM!H128,GESTION_SEG_3_TRIM!H128),\" \")","v":0},"",{"$f":"IFERROR(_xludf.CONCAT(\"Trimestre 1\",CHAR(10),GESTION_SEG_1_TRIM!J128,CHAR(10),\"Trimestre 2\",CHAR(10),GESTION_SEG_2_TRIM!J128,CHAR(10),\"Trimestre 3\",CHAR(10),GESTION_SEG_3_TRIM!J128),\" \")","v":" "},{"$f":"IFERROR(_xludf.CONCAT(\"Trimestre 1\",CHAR(10),GESTION_SEG_1_TRIM!K128,CHAR(10),\"Trimestre 2\",CHAR(10),GESTION_SEG_2_TRIM!K128,CHAR(10),\"Trimestre 3\",CHAR(10),GESTION_SEG_3_TRIM!K128),\" \")","v":" "}]
[null,null,null,null,null,null,null,null,null,null,null,null,null,null,null,{"$f":"IFERROR(MAX(GESTION_SEG_1_TRIM!H129,GESTION_SEG_2_TRIM!H129,GESTION_SEG_3_TRIM!H129),\" \")","v":0},"",{"$f":"IFERROR(_xludf.CONCAT(\"Trimestre 1\",CHAR(10),GESTION_SEG_1_TRIM!J129,CHAR(10),\"Trimestre 2\",CHAR(10),GESTION_SEG_2_TRIM!J129,CHAR(10),\"Trimestre 3\",CHAR(10),GESTION_SEG_3_TRIM!J129),\" \")","v":" "},{"$f":"IFERROR(_xludf.CONCAT(\"Trimestre 1\",CHAR(10),GESTION_SEG_1_TRIM!K129,CHAR(10),\"Trimestre 2\",CHAR(10),GESTION_SEG_2_TRIM!K129,CHAR(10),\"Trimestre 3\",CHAR(10),GESTION_SEG_3_TRIM!K129),\" \")","v":" "}]
[null,null,null,null,null,null,null,null,null,null,null,null,null,null,null,{"$f":"IFERROR(MAX(GESTION_SEG_1_TRIM!H130,GESTION_SEG_2_TRIM!H130,GESTION_SEG_3_TRIM!H130),\" \")","v":0},"",{"$f":"IFERROR(_xludf.CONCAT(\"Trimestre 1\",CHAR(10),GESTION_SEG_1_TRIM!J130,CHAR(10),\"Trimestre 2\",CHAR(10),GESTION_SEG_2_TRIM!J130,CHAR(10),\"Trimestre 3\",CHAR(10),GESTION_SEG_3_TRIM!J130),\" \")","v":" "},{"$f":"IFERROR(_xludf.CONCAT(\"Trimestre 1\",CHAR(10),GESTION_SEG_1_TRIM!K130,CHAR(10),\"Trimestre 2\",CHAR(10),GESTION_SEG_2_TRIM!K130,CHAR(10),\"Trimestre 3\",CHAR(10),GESTION_SEG_3_TRIM!K130),\" \")","v":" "}]

{"sheet":"GESTION_SEG_1_TRIM","index":5,"n_rows":130,"n_cols":11,"rows_kept":130,"cut":false,"hidden":false,"merged":[[15,2,19,2],[15,3,19,3],[20,2,24,2],[20,3,24,3],[1,0,1,10],[2,0,2,3],[2,4,2,9],[2,10,4,10],[3,0,4,1],[3,2,4,2],[3,3,4,3],[3,4,3,9],[25,2,29,2],[25,3,29,3],[30,0,59,0],[30,1,59,1],[30,2,34,2],[30,3,59,3],[35,2,39,2],[40,2,44,2],[45,2,49,2],[50,2,54,2],[5,0,29,0],[5,1,29,1],[5,2,9,2],[5,3,9,3],[10,2,14,2],[10,3,14,3],[55,2,59,2],[60,0,94,0],[60,1,94,1],[60,2,64,2],[60,3,64,3],[65,2,69,2],[65,3,69,3],[70,2,74,2],[70,3,74,3],[75,2,79,2],[75,3,89,3],[80,2,84,2],[85,2,89,2],[90,2,94,2],[90,3,94,3],[105,2,109,2],[110,2,114,2],[115,2,119,2],[115,3,119,3],[120,0,129,0],[120,1,129,1],[120,2,124,2],[120,3,129,3],[125,2,129,2],[95,0,119,0],[95,1,119,1],[95,2,99,2],[95,3,114,3],[100,2,104,2]]}
[]
["CONSEJO SUPERIOR DE LA JUDICATURA \nUNIDADES MISIONALES DEL CONSEJO SUPERIOR DE LA JUDICATURA - \nDIRECCIÓN EJECUTIVA DE ADMINISTRACIÓN JUDICIAL - UNIDADES MISIONALES DE LA DEAJ\nDIRECCIONES SECCIONALES DE ADMINISTRACIÓN JUDICIAL - DEPENDENCIAS JUDICIALES CERTIFICADAS"]
["PLAN SECTORIAL DE DESARROLLO 2023-2026 - OBJETIVOS SIGCMA",null,null,null,null,null,null,null,null,null," ANÁLISIS RESULTADO"]
["OBJETIVO ESTRATÉGICO",null,"OBJETIVO ESPECÍFICO PSD","OBJETIVO ESPECÍFICO SIGCMA","MEDICIÓN DE LA GESTIÓN ANUAL"]
[null,null,null,null,"ACTIVIDADES ","INDIQUE SI ES ENTREGABLE O META CUANTIFICABLE","META ANUAL","AVANCE DE LA META ","NIVEL CUMPLIMIENTO","DIFICULTADES PARA LOGRAR LA META PROPUESTA"]
["1. Acceso e Infraestructura Física","Acceso e Infraestructura Física: Ampliar, en todo el territorio nacional, el acceso a una justicia efectiva, pronta, equitativa e incluyente, reduciendo el atraso y la congestión, de acuerdo con las necesidades de la demanda de justicia por jurisdicción y especialidad, y mejorando la articulación con la justicia restaurativa y terapéutica, y otros mecanismos de solución de conflictos y consolidando una infraestructura física óptima para el acceso a la justicia.","1. Ampliar el acceso a justicia para atender las necesidades jurídicas de los ciudadanos con un enfoque diferencial, de una manera pronta, reduciendo las inequidades y las brechas territoriales de acceso.","2. Asegurar  el cumplimiento de los objetivos institucionales, la normatividad aplicable,  la mejora del SIGCMA y la satisfacción de los usuarios, revisando de  forma continua y sistemática la planificación de la gestión y fortaleciendo la administración de riesgos y sus controles",{"$f":"IFERROR(GESTION!H6,\" \")","v":"Proyectar propuestas de reordenamiento y remitir para estudio y consideración del Consejo Superior de la Judicatura "},{"$f":"IFERROR(GESTION!I6,\" \")","v":"Entregable"},{"$f":"IFERROR(GESTION!J6,\" \")","v":0},null,{"$f":"IFERROR(H6/G6,\"\")","v":""},"No se presentaron dificultades para la elaboración de propuestas de reordenamiento","Se elaboró una (01) propuesta de reordenamiento  (oficio No. CSJCHOP23-93 del 22/02/2023, se presentó propuesta de reordenamiento con la finalidad de que el CSJ estudiara la posibilidad de crear la Dirección Ejecutiva de Administración Judicial.) "]
[null,null,null,null,{"$f":"IFERROR(GESTION!H7,\" \")","v":0},{"$f":"IFERROR(GESTION!I7,\" \")","v":0},{"$f":"IFERROR(GESTION!J7,\" \")","v":0},null,""]
[null,null,null,null,{"$f":"IFERROR(GESTION!H8,\" \")","v":"Adoptar medidas las  necesarias, conforme a delegación del Consejo Superior de la Judicatura."},{"$f":"IFERROR(GESTION!I8,\" \")","v":"Meta cuantificable"},{"$f":"IFERROR(GESTION!J8,\" \")","v":0},null,"","No se presentaron dificultades","Se recibieron 11 solicitudes, la cuales fueron tramitadas"]
[null,null,null,null,{"$f":"IFERROR(GESTION!H9,\" \")","v":" "},{"$f":"IFERROR(GESTION!I9,\" \")","v":0},{"$f":"IFERROR(GESTION!J9,\" \")","v":0},null,""]
[null,null,null,null,{"$f":"IFERROR(GESTION!H10,\" \")","v":0},{"$f":"IFERROR(GESTION!I10,\" \")","v":0},{"$f":"IFERROR(GESTION!J10,\" \")","v":0},null,""]
[null,null,"2. Mejorar los tiempos de respuesta de la Rama Judicial y reducir el inventario de procesos, identificando los retos internos y promoviendo tanto acciones articuladas específicas para abordarlos como estrategias coordinadas para enfrentar las barreras que dependen de otras entidades.","2. Asegurar  el cumplimiento de los objetivos institucionales, la normatividad aplicable,  la mejora del SIGCMA y la satisfacción de los usuarios, revisando de  forma continua y sistemática la planificación de la gestión y fortaleciendo la administración de riesgos y sus controles",{"$f":"IFERROR(GESTION!H11,\" \")","v":"Realizar seguimiento, análisis y evaluacion de la información estadistica, reportada por todos los despachos judiciales\n"},{"$f":"IFERROR(GESTION!I11,\" \")","v":"Entregable"},{"$f":"IFERROR(GESTION!J11,\" \")","v":0},null,""]
[null,null,null,null,{"$f":"IFERROR(GESTION!H12,\" \")","v":"Registrar en el aplicativo EkoGui cada uno de los procesos y conciliaciones extrajudiciales recibidos; la provisión contable y las actuaciones desarrolladas. "},{"$f":"IFERROR(GESTION!I12,\" \")","v":"Entregable"},{"$f":"IFERROR(GESTION!J12,\" \")","v":0},null,"","Se realizaron acciones tendientes a subsanar inconsistencias en el aplicativo en los valores de las pretensiones de varios procesos, que no correspondían a la realidad. sin embargo, se logró adecuar la información.","Al corte del primere trimestre no se ha presentado informe, ya que conforme al Memorando DEAJALM23-233 se estableció una modificación en la periodicidad de los informes, por lo tanto ya se presentarán cada 4 meses.  Se realizó la actualización de 44 procesos en el aplicativo eKogui, la radicación de tres fichas para comité de conciliación. Se evaron 5 solicitudes a soporte Ekogui para la corrección de infomración."]
[null,null,null,null,{"$f":"IFERROR(GESTION!H13,\" \")","v":"Presentar informes de gestión, de procesos (pasivo contingente litigioso, sentencias favorables a la nación vs desfavorables, repeticiones, procesos activos y terminados)."},{"$f":"IFERROR(GESTION!I13,\" \")","v":"Meta cuantificable"},{"$f":"IFERROR(GESTION!J13,\" \")","v":3},1,0.33333333333333331,null,"Se presentaron los informes correspondientes, reportando para la fecha de corte 255 procesos activos en el pasivo, 10 sentencias favorables a la entidad, 4 sentencias desfavorables, dos procesos de repetición actios y la terminación de 36 procesos. El nivel de cumplimiento es 1. ya que la meta son 4 informes al año."]
[null,null,null,null,{"$f":"IFERROR(GESTION!H14,\" \")","v":"Realizar y tramitar todos los requerimientos que llegan al área de asistencia legal como:  contestaciones, alegatos, llamamientos en garantía, asistencia a audiencias, realización de fichas, presentación de recursos etc) "},{"$f":"IFERROR(GESTION!I14,\" \")","v":"Entregable"},{"$f":"IFERROR(GESTION!J14,\" \")","v":0},null,"",null,"Se atendieron 111 requerimientos"]
[null,null,null,null,{"$f":"IFERROR(GESTION!H15,\" \")","v":0},{"$f":"IFERROR(GESTION!I15,\" \")","v":0},{"$f":"IFERROR(GESTION!J15,\" \")","v":0},null,""]
[null,null,"3. Coadyuvar en la garantía de la idoneidad en el ejercicio de la profesión jurídica de acuerdo con lo establecido en la Ley 1905 de 2018","2. Asegurar  el cumplimiento de los objetivos institucionales, la normatividad aplicable,  la mejora del SIGCMA y la satisfacción de los usuarios, revisando de  forma continua y sistemática la planificación de la gestión y fortaleciendo la administración de riesgos y sus controles",{"$f":"IFERROR(GESTION!H16,\" \")","v":0},{"$f":"IFERROR(GESTION!I16,\" \")","v":0},{"$f":"IFERROR(GESTION!J16,\" \")","v":0},null,""]
[null,null,null,null,{"$f":"IFERROR(GESTION!H17,\" \")","v":0},{"$f":"IFERROR(GESTION!I17,\" \")","v":0},{"$f":"IFERROR(GESTION!J17,\" \")","v":0},null,""]
[null,null,null,null,{"$f":"IFERROR(GESTION!H18,\" \")","v":0},{"$f":"IFERROR(GESTION!I18,\" \")","v":0},{"$f":"IFERROR(GESTION!J18,\" \")","v":0},null,""]
[null,null,null,null,{"$f":"IFERROR(GESTION!H19,\" \")","v":0},{"$f":"IFERROR(GESTION!I19,\" \")","v":0},{"$f":"IFERROR(GESTION!J19,\" \")","v":0},null,""]
[null,null,null,null,{"$f":"IFERROR(GESTION!H20,\" \")","v":0},{"$f":"IFERROR(GESTION!I20,\" \")","v":0},{"$f":"IFERROR(GESTION!J20,\" \")","v":0},null,""]
[null,null,"4. Avanzar en la disposición de una infraestructura óptima para el acceso a la justicia en la Rama Judicial de modo que se fortalezca la presencia territorial, teniendo en cuenta las posibilidades que ofrece la transformación digital y las necesidades que se derivan de ella, y considerando tanto las necesidades de los usuarios como las de los servidores judiciales.","4. Hacer un uso racional de los recursos naturales aplicando los principios y fases de la Economía Circular, para prevenir, mitigar y controlar los impactos ambientales",{"$f":"IFERROR(GESTION!H21,\" \")","v":"Mejorar las condiciones locativas de la infraestructura física del Distrito Judicial de Distrito Judicial de Quibdo y Administrativo del Chocó "},{"$f":"IFERROR(GESTION!I21,\" \")","v":"Entregable"},{"$f":"IFERROR(GESTION!J21,\" \")","v":0},null,"",null,"Los procesos de mejora de infraestructura no fueron programados para su ejecucion durante el primer trismestre del año 2023. "]
[null,null,null,null,{"$f":"IFERROR(GESTION!H22,\" \")","v":"Realizar seguimiento a  la ejecución y cumplimiento de los contratos de Mejoramiento y  Mantenimiento de la Infraestructura Física del Distrito Judicial de Quibdo y Administrativo del Chocó "},{"$f":"IFERROR(GESTION!I22,\" \")","v":"Entregable"},{"$f":"IFERROR(GESTION!J22,\" \")","v":0},null,"",null,"se verifico cumplimiento de la ejecucion de las obra SAMC05-2023 en Itsmina Y SAMC06-2023  en Quibdó, las cuales se venian ejecutando desde la vigencia 2022"]
[null,null,null,null,{"$f":"IFERROR(GESTION!H23,\" \")","v":"Gestionar con los entes Territoriales la adquisicion de inmuebles a traves de donacion "},{"$f":"IFERROR(GESTION!I23,\" \")","v":"Entregable"},{"$f":"IFERROR(GESTION!J23,\" \")","v":0},null,"",null,"A primer trismistre se realizaron reuniones de verificacion de requisitos tecnicos con la Alcaldía de Quibdo, en virtud del ofrecimiento de donacion de un lote de terrero para la construccion de una sede judicial."]
[null,null,null,null,{"$f":"IFERROR(GESTION!H24,\" \")","v":"Elaborar Plan Anual de Necesidades para Mejoramiento y  Mantenimiento de la Infraestructura propia del sector"},{"$f":"IFERROR(GESTION!I24,\" \")","v":"Meta cuantificable"},{"$f":"IFERROR(GESTION!J24,\" \")","v":1},1,1,null,"Se elaboró conforme a las necesidades de la Seccional Chocó. "]
[null,null,null,null,{"$f":"IFERROR(GESTION!H25,\" \")","v":"Gestionar actividades preventivas y correctivas para el mantenimiento de los vehículos automotores  adscritos a los  despachos judiciales y dependencias administrativa de la Seccional cumpiendo con los esquemas de seguridad."},{"$f":"IFERROR(GESTION!I25,\" \")","v":"Entregable"},{"$f":"IFERROR(GESTION!J25,\" \")","v":0},null,"",null,"Se han remitido los automoviles a los talleres autorizados por la Seccional Antioquia - Chocó y ademas se han realizado talleres de seguridad vial para los conductores de la Seccional. "]
[null,null,"5. Impulsar el uso de mecanismos alternativos para la solución de conflictos y la ampliación de la justicia restaurativa y terapéutica y el robustecimiento de las alternativas al encarcelamiento","2. Asegurar  el cumplimiento de los objetivos institucionales, la normatividad aplicable,  la mejora del SIGCMA y la satisfacción de los usuarios, revisando de  forma continua y sistemática la planificación de la gestión y fortaleciendo la administración de riesgos y sus controles",{"$f":"IFERROR(GESTION!H26,\" \")","v":0},{"$f":"IFERROR(GESTION!I26,\" \")","v":0},{"$f":"IFERROR(GESTION!J26,\" \")","v":0},null,""]
[null,null,null,null,{"$f":"IFERROR(GESTION!H27,\" \")","v":0},{"$f":"IFERROR(GESTION!I27,\" \")","v":0},{"$f":"IFERROR(GESTION!J27,\" \")","v":0},null,""]
[null,null,null,null,{"$f":"IFERROR(GESTION!H28,\" \")","v":0},{"$f":"IFERROR(GESTION!I28,\" \")","v":0},{"$f":"IFERROR(GESTION!J28,\" \")","v":0},null,""]
[null,null,null,null,{"$f":"IFERROR(GESTION!H29,\" \")","v":0},{"$f":"IFERROR(GESTION!I29,\" \")","v":0},{"$f":"IFERROR(GESTION!J29,\" \")","v":0},null,""]
[null,null,null,null,{"$f":"IFERROR(GESTION!H30,\" \")","v":0},{"$f":"IFERROR(GESTION!I30,\" \")","v":0},{"$f":"IFERROR(GESTION!J30,\" \")","v":0},null,""]
["2. Servicios digitales y de tecnología, innovación y análisis de la información.","Servicios digitales y de tecnología, innovación y análisis de la información: Consolidar una justicia integrada y soportada en servicios digitales y de tecnología, innovación y análisis de la información, con una cultura digital apropiada, segura y sensible a las realidades del territorio nacional. ","1. Ampliar el acceso a la justicia a través de la consolidación del uso de los servicios digitales que conforman el sistema único integrado de gestión judicial en todos los despachos judiciales y dependencias de apoyo y, específicamente, incluyendo el despliegue e implementación del Expediente Judicial Electrónico en todas las jurisdicciones y especialidades.","6. Proteger, preservar y administrar los activos de información  implementando acciones  para gestionar de forma adecuada los incidentes, proteger los datos personales y adoptar mecanismos  de ciberseguridad y aseguramiento de la  continuidad del negocio.",{"$f":"IFERROR(GESTION!H31,\" \")","v":"Publicar en el Portal WEB Seccional y en la red social (Twitter ) y mediante los Correos Institucionales, (Actos Administrativos producidos por el Consejo Seccional,. Acuerdo, circulares, Boletines, informacion de interés general, capacitaciones, Avisos, etc...)"},{"$f":"IFERROR(GESTION!I31,\" \")","v":"Entregable"},{"$f":"IFERROR(GESTION!J31,\" \")","v":0},null,"",null,"Se publicaron en el micrositio las circulares, resoluciones y acuerdos; Se publicó la información de Rendición de Cuentas; se publicaron  los dos boletines de la Comisión Seccional de Género."]
[null,null,null,null,{"$f":"IFERROR(GESTION!H32,\" \")","v":"Recibir, elaborar y gestionar, en el aplicativo de correspondencia SIGOBIUS, las comunicaciones y oficios"},{"$f":"IFERROR(GESTION!I32,\" \")","v":"Entregable"},{"$f":"IFERROR(GESTION!J32,\" \")","v":0},null,"",null,"Se le ha dado trámite a toda la correspondencia a través del aplicativo SIGOBIUS"]
[null,null,null,null,{"$f":"IFERROR(GESTION!H33,\" \")","v":"Realizar seguimiento al contrato CSJ 2023 - OC101882 PIVOT 1819- CSJ - CHOCÓ se da  apoyo de la  Cobertura total del acceso a internet de todos los despacho judiciales de la Seccional, es decir juzgados, despachos de magistrados, centros de servicios,  secretarias generales, una oficina de apoyo judicial y la oficina de la Coordinación Administrativa de Quibdó."},{"$f":"IFERROR(GESTION!I33,\" \")","v":"Entregable"},{"$f":"IFERROR(GESTION!J33,\" \")","v":0},null,"","Se dio el apoyo,  sin en bargo se presentaron dificultades por momentos  por parte del operador externo Cirion y Andired.","Pese a las variedades y constantes dificultades de indisponibilidd que se presentan y se reportan en los diferentes en laces de conectividad del Chocó, se realizaron las gestiones de apoyo y se logra mantener el servicio disponible en los Juzgados. "]
[null,null,null,null,{"$f":"IFERROR(GESTION!H34,\" \")","v":"Realizar seguimiento y apoyo de primer nivel en la implementación de sistema de información procesal judicial en la Rama Judicial Justicia XXI Web (Tyba), Siglo XXI Cliente Servidor, Samai, SIGOBIUS, Aplicativo Firma Electronica, portal Banco Agrario , Azure, ,Cicero, Lifezise, Oficce 365,  Portal Rama Judicial ( MicroSitio) creaciones de usuarios, traslados de usuarios, Capacitacion Etc."},{"$f":"IFERROR(GESTION!I34,\" \")","v":"Entregable"},{"$f":"IFERROR(GESTION!J34,\" \")","v":0},null,"","Se brinda el apoyo y gestion,  sin en bargo se presentaron en ocasiones dificultades en algunos de los aplicativos, indisponibilidades que su solucion es por  lo general competencia del nivel central.","Pese a las variedades y constantes dificultades de indisponibilidd que se presentaron y se reportaron al area de sistenmas en los diferentes aplicativos el valance es positivo en  Chocó, se realizaron las gestiones de apoyo y se logra mantener el servicio operativo y disponible en los Juzgados."]
[null,null,null,null,{"$f":"IFERROR(GESTION!H35,\" \")","v":"Hacer seguimiento a las actividades programadas como mantenimiento preventivo y correctivo y se realiza acompañamiento a la atencion de los incidentes reportados para su atencion tecnica  por  medio del contrato 276 DEL 2022 DE MESA DE AYUDA ETB"},{"$f":"IFERROR(GESTION!I35,\" \")","v":"Entregable"},{"$f":"IFERROR(GESTION!J35,\" \")","v":0},null,"","Se brinda el apoyo y gestion,  no ha  presentado difilculta en el desarrollo de la  actividad. ","Se le hace seguimiento y acompñamiento a la actividad y se observa que va en un 30 % realizada. "]
[null,null,"2. Integrar y hacer compatibles todos los aplicativos de transición con SIUGJ, para que la migración de los expedientes judiciales a dicha plataforma sea real y no suponga afectaciones en la prestación del servicio de justicia.",null,{"$f":"IFERROR(GESTION!H36,\" \")","v":" Brindar apoyo en las audiencias presenciales y   virtuales y  se ha realizado la actualización de de salas de audiencias  preexistentes - actal son  virtuales / Contrato de Prestación de Servicios  No. 175 de 2020 - LIFEZISE"},{"$f":"IFERROR(GESTION!I36,\" \")","v":"Entregable"},{"$f":"IFERROR(GESTION!J36,\" \")","v":0},null,"","Se brinda el apoyo y gestion,  sin en bargo se presentaron en ocasiones dificultades en algunos de los aplicativos como LIFEZISE, indisponibilidades que su solucion es por  lo general competencia del nivel central.","Apesar de las diferentes y constantes dificultades de indisponibilidd del aplicativo LIFEZISE o solicitudes de apoyo que se presentan en todo lo que tiene que ver con  AUDIENCIAS en  Chocó, se realizaron las gestiones de apoyo y se logra mantener el servicio disponible en los Juzgados."]
[null,null,null,null,{"$f":"IFERROR(GESTION!H37,\" \")","v":0},{"$f":"IFERROR(GESTION!I37,\" \")","v":0},{"$f":"IFERROR(GESTION!J37,\" \")","v":0},null,""]
[null,null,null,null,{"$f":"IFERROR(GESTION!H38,\" \")","v":0},{"$f":"IFERROR(GESTION!I38,\" \")","v":0},{"$f":"IFERROR(GESTION!J38,\" \")","v":0},null,{"$f":"IFERROR(H38/G38,\"\")","v":""}]
[null,null,null,null,{"$f":"IFERROR(GESTION!H39,\" \")","v":0},{"$f":"IFERROR(GESTION!I39,\" \")","v":0},{"$f":"IFERROR(GESTION!J39,\" \")","v":0},null,""]
[null,null,null,null,{"$f":"IFERROR(GESTION!H40,\" \")","v":0},{"$f":"IFERROR(GESTION!I40,\" \")","v":0},{"$f":"IFERROR(GESTION!J40,\" \")","v":0},null,""]
[null,null,"3. Fortalecer las capacidades institucionales, adecuar el modelo operativo y de servicio, bajo un enfoque de Arquitectura Empresarial y de fortalecimiento del acceso a la justicia.",null,{"$f":"IFERROR(GESTION!H41,\" \")","v":"Fortalecer el conocimiento del servidor judicial, en cuanto al funconamiento y organizacion de la entidad, y del sistema Integrado de Gestion de la Calidad"},{"$f":"IFERROR(GESTION!I41,\" \")","v":"Entregable"},{"$f":"IFERROR(GESTION!J41,\" \")","v":0},null,"",null,"Durante este trimestrre se adelanto la planeacion para el desarrtollo de la induccion y reinduccion - programada para el mes de junio de 2023"]
[null,null,null,null,{"$f":"IFERROR(GESTION!H42,\" \")","v":"Implementar programas de bienestar social en asocio con la Caja de compensación Familiar - CONFACHOCO"},{"$f":"IFERROR(GESTION!I42,\" \")","v":"Entregable"},{"$f":"IFERROR(GESTION!J42,\" \")","v":0},null,"",null,"Se adelanto la planeacion de las actividades a realizar (juegos nacionales, actividades para los hijos de los servidores para los distintos distrito judiciales)"]
[null,null,null,null,{"$f":"IFERROR(GESTION!H43,\" \")","v":"Adelantar el diagnostico de competencias a los servidores judiciales del distrito"},{"$f":"IFERROR(GESTION!I43,\" \")","v":"Entregable"},{"$f":"IFERROR(GESTION!J43,\" \")","v":0},null,"",null,"Esta programada para el mes de mayo de 2023"]
[null,null,null,null,{"$f":"IFERROR(GESTION!H44,\" \")","v":"Verificacion del cumplimiento de los requisitos de los servidores a vincular"},{"$f":"IFERROR(GESTION!I44,\" \")","v":"Entregable"},{"$f":"IFERROR(GESTION!J44,\" \")","v":0},null,"",null,"En este trismestre se verificaron los requisitos de xx servdiores - todos cumplieron el requisito minimo para desempeñar las funciones del cargo. "]
[null,null,null,null,{"$f":"IFERROR(GESTION!H45,\" \")","v":"Tramitar ante la Direccion Seccional de medellin, las quejas por inconsistencia o no pago oportunida de la nominada"},{"$f":"IFERROR(GESTION!I45,\" \")","v":"Entregable"},{"$f":"IFERROR(GESTION!J45,\" \")","v":0},null,"",null,"Durante este trimestre fueron radicadas xxx quejas de nominadas, y todas fueron remitidas ante la direccion seccional"]
[null,null,"4.Consolidar la cultura y apropiación de la transformación digital en los servidores y usuarios de los servicios de la Rama Judicial y reducir brechas de acceso y conocimiento, incluyendo la oferta efectiva de información sobre el uso de las nuevas herramientas virtuales implementadas en las diferentes jurisdicciones, con especial énfasis en las zonas del país donde es evidente la brecha digital.",null,{"$f":"IFERROR(GESTION!H46,\" \")","v":"Seguimiento al ausentimos laboral por incapacidad y accidente de trabajo"},{"$f":"IFERROR(GESTION!I46,\" \")","v":"Entregable"},{"$f":"IFERROR(GESTION!J46,\" \")","v":0},null,"",null,"el ausentismo fue bajo, se presentaron xx de los cuales xx fueron por incapcidad comun o xx por accidentes laborales. "]
[null,null,null,null,{"$f":"IFERROR(GESTION!H47,\" \")","v":0},{"$f":"IFERROR(GESTION!I47,\" \")","v":0},{"$f":"IFERROR(GESTION!J47,\" \")","v":0},null,""]
[null,null,null,null,{"$f":"IFERROR(GESTION!H48,\" \")","v":0},{"$f":"IFERROR(GESTION!I48,\" \")","v":0},{"$f":"IFERROR(GESTION!J48,\" \")","v":0},null,""]
[null,null,null,null,{"$f":"IFERROR(GESTION!H49,\" \")","v":"Incentivar y Verificar el uso de los aplicativos virtuales en los despachos judiciales, dispuestos por el Consejo Superior de la Judicatura"},{"$f":"IFERROR(GESTION!I49,\" \")","v":"Entregable"},{"$f":"IFERROR(GESTION!J49,\" \")","v":0},null,"",null,"Durante las desarrolladas durante el primer trimestre el Despacho 01 y el Despacho 02 realizaron la verificación del uso correcto de las TICS"]
[null,null,null,null,{"$f":"IFERROR(GESTION!H50,\" \")","v":0},{"$f":"IFERROR(GESTION!I50,\" \")","v":0},{"$f":"IFERROR(GESTION!J50,\" \")","v":0},null,""]
[null,null,"5.Consolidar la infraestructura y los recursos necesarios para la implementación exitosa de la transformación digital, incluyendo la disposición de internet de calidad en el 100% de las sedes en la Rama Judicial y modernizar los servicios tecnológicos de soporte. ",null,{"$f":"IFERROR(GESTION!H51,\" \")","v":0},{"$f":"IFERROR(GESTION!I51,\" \")","v":0},{"$f":"IFERROR(GESTION!J51,\" \")","v":0},null,""]
[null,null,null,null,{"$f":"IFERROR(GESTION!H52,\" \")","v":0},{"$f":"IFERROR(GESTION!I52,\" \")","v":0},{"$f":"IFERROR(GESTION!J52,\" \")","v":0},null,""]
[null,null,null,null,{"$f":"IFERROR(GESTION!H53,\" \")","v":0},{"$f":"IFERROR(GESTION!I53,\" \")","v":0},{"$f":"IFERROR(GESTION!J53,\" \")","v":0},null,""]
[null,null,null,null,{"$f":"IFERROR(GESTION!H54,\" \")","v":0},{"$f":"IFERROR(GESTION!I54,\" \")","v":0},{"$f":"IFERROR(GESTION!J54,\" \")","v":0},null,""]
[null,null,null,null,{"$f":"IFERROR(GESTION!H55,\" \")","v":0},{"$f":"IFERROR(GESTION!I55,\" \")","v":0},{"$f":"IFERROR(GESTION!J55,\" \")","v":0},null,""]
[null,null,"6.Integrar y optimizar los servicios administrativos de la Rama Judicial bajo un enfoque de transformación digital e innovación incluyendo los componentes financiero, administrativo, talento humano, entre otros",null,{"$f":"IFERROR(GESTION!H56,\" \")","v":0},{"$f":"IFERROR(GESTION!I56,\" \")","v":0},{"$f":"IFERROR(GESTION!J56,\" \")","v":0},null,""]
[null,null,null,null,{"$f":"IFERROR(GESTION!H57,\" \")","v":0},{"$f":"IFERROR(GESTION!I57,\" \")","v":0},{"$f":"IFERROR(GESTION!J57,\" \")","v":0},null,""]
[null,null,null,null,{"$f":"IFERROR(GESTION!H58,\" \")","v":0},{"$f":"IFERROR(GESTION!I58,\" \")","v":0},{"$f":"IFERROR(GESTION!J58,\" \")","v":0},null,""]
[null,null,null,null,{"$f":"IFERROR(GESTION!H59,\" \")","v":0},{"$f":"IFERROR(GESTION!I59,\" \")","v":0},{"$f":"IFERROR(GESTION!J59,\" \")","v":0},null,""]
[null,null,null,null,{"$f":"IFERROR(GESTION!H60,\" \")","v":0},{"$f":"IFERROR(GESTION!I60,\" \")","v":0},{"$f":"IFERROR(GESTION!J60,\" \")","v":0},null,""]
["3. Confianza pública, transparencia y rendición de cuentas","Confianza pública, transparencia y rendición de cuentas: Aumentar la confianza pública en la justicia a través de la transparencia, la rendición de cuentas y la participación, incluyendo la información de justicia y la producción, gestión y acceso a las fuentes de derecho, el fortalecimiento del sistema de gestión de calidad y medio ambiente (SIGCMA) y el mejoramiento de la calidad y publicidad de la información. ","1. Incrementar la cantidad, la calidad y pertinencia de los datos sobre el funcionamiento del servicio de justicia bajo un modelo de gobierno de datos y un liderazgo unificado. ","4. Hacer un uso racional de los recursos naturales aplicando los principios y fases de la Economía Circular, para prevenir, mitigar y controlar los impactos ambientales.",{"$f":"IFERROR(GESTION!H61,\" \")","v":0},{"$f":"IFERROR(GESTION!I61,\" \")","v":0},{"$f":"IFERROR(GESTION!J61,\" \")","v":0},null,""]
[null,null,null,null,{"$f":"IFERROR(GESTION!H62,\" \")","v":"\nRealizar y remitirel  informe Estadistico a la UDAE\n"},{"$f":"IFERROR(GESTION!I62,\" \")","v":"Entregable"},{"$f":"IFERROR(GESTION!J62,\" \")","v":0},null,"",null,"Se realizó el informe correspondiente al periodo. Despacho 01"]
[null,null,null,null,{"$f":"IFERROR(GESTION!H63,\" \")","v":"Realizar Vigilancia Judicial Administrativa, de oficio o petición de partes"},{"$f":"IFERROR(GESTION!I63,\" \")","v":"Entregable"},{"$f":"IFERROR(GESTION!J63,\" \")","v":0},null,"",null,"Durante el primer trimestre ingresaron 27 solicitudes de vigilancia judicial administrativa."]
[null,null,null,null,{"$f":"IFERROR(GESTION!H64,\" \")","v":"Atender las QR&S, recibidas"},{"$f":"IFERROR(GESTION!I64,\" \")","v":"Entregable"},{"$f":"IFERROR(GESTION!J64,\" \")","v":0},null,"",null,"Durante el primer trimestre se recibieron y tramitaron 11 derechos de petición"]
[null,null,null,null,{"$f":"IFERROR(GESTION!H65,\" \")","v":0},{"$f":"IFERROR(GESTION!I65,\" \")","v":0},{"$f":"IFERROR(GESTION!J65,\" \")","v":0},null,""]
[null,null,"2. Consolidar la administración de la información entendida como todas las acciones rientadas a garantizar el acceso, consulta, uso y conservación de la información de justicia de manera ágil, flexible e inteligente, bajo un enfoque de innovación.",null,{"$f":"IFERROR(GESTION!H66,\" \")","v":0},{"$f":"IFERROR(GESTION!I66,\" \")","v":0},{"$f":"IFERROR(GESTION!J66,\" \")","v":0},null,""]
[null,null,null,null,{"$f":"IFERROR(GESTION!H67,\" \")","v":0},{"$f":"IFERROR(GESTION!I67,\" \")","v":0},{"$f":"IFERROR(GESTION!J67,\" \")","v":0},null,""]
[null,null,null,null,{"$f":"IFERROR(GESTION!H68,\" \")","v":0},{"$f":"IFERROR(GESTION!I68,\" \")","v":0},{"$f":"IFERROR(GESTION!J68,\" \")","v":0},null,""]
[null,null,null,null,{"$f":"IFERROR(GESTION!H69,\" \")","v":0},{"$f":"IFERROR(GESTION!I69,\" \")","v":0},{"$f":"IFERROR(GESTION!J69,\" \")","v":0},null,""]
[null,null,null,null,{"$f":"IFERROR(GESTION!H70,\" \")","v":0},{"$f":"IFERROR(GESTION!I70,\" \")","v":0},{"$f":"IFERROR(GESTION!J70,\" \")","v":0},null,{"$f":"IFERROR(H70/G70,\"\")","v":""}]
[null,null,"3. Fortalecer el Sistema integrado de Gestión de la Rama, orientado a la implementación y certificación de las normas antisoborno.","1. Gestionar el desarrollo de las competencias, la toma de conciencia , la cultura  organizacional  y el compromiso de los  servidores judiciales, contratistas, practicantes y  judicantes de contribuir a generar valor público en la administración de justicia, en el marco de  cumplimiento de los requisitos  aplicables y el comportamiento ético.\n3. Fomentar la transparencia y la participación generando lineamientos y promoviendo la rendición de cuentas ,la consulta, reporte y planteamiento de inquietudes en relación con las decisiones y aspectos del SIGCMA.",{"$f":"IFERROR(GESTION!H71,\" \")","v":0},{"$f":"IFERROR(GESTION!I71,\" \")","v":0},{"$f":"IFERROR(GESTION!J71,\" \")","v":0},null,""]
[null,null,null,null,{"$f":"IFERROR(GESTION!H72,\" \")","v":0},{"$f":"IFERROR(GESTION!I72,\" \")","v":0},{"$f":"IFERROR(GESTION!J72,\" \")","v":0},null,""]
[null,null,null,null,{"$f":"IFERROR(GESTION!H73,\" \")","v":0},{"$f":"IFERROR(GESTION!I73,\" \")","v":0},{"$f":"IFERROR(GESTION!J73,\" \")","v":0},null,""]
[null,null,null,null,{"$f":"IFERROR(GESTION!H74,\" \")","v":0},{"$f":"IFERROR(GESTION!I74,\" \")","v":0},{"$f":"IFERROR(GESTION!J74,\" \")","v":0},null,""]
[null,null,null,null,{"$f":"IFERROR(GESTION!H75,\" \")","v":0},{"$f":"IFERROR(GESTION!I75,\" \")","v":0},{"$f":"IFERROR(GESTION!J75,\" \")","v":0},null,""]
[null,null,"4. Aumentar la confianza, la cercanía y acceso a los servicios de la Rama Judicial a través, entre otros, de una comunicación clara y asertiva con la ciudadanía.","3. Fomentar la transparencia y la participación generando lineamientos y promoviendo la rendición de cuentas ,la consulta, reporte y planteamiento de inquietudes en relación con las decisiones y aspectos del SIGCMA.",{"$f":"IFERROR(GESTION!H76,\" \")","v":"Consolidar y hacer seguimiento en reuniones trimestrales, al plan de accion de los Procesos del SIGCMA"},{"$f":"IFERROR(GESTION!I76,\" \")","v":"Entregable"},{"$f":"IFERROR(GESTION!J76,\" \")","v":0},null,"",null,"Se realizó la reunión de aprobación del Plan de Acción 2023. Se realizó una reunion de seguimiento el 15 de febrero de 2023."]
[null,null,null,null,{"$f":"IFERROR(GESTION!H77,\" \")","v":"Elaborar semestralmente el Boletín SIGCMA"},{"$f":"IFERROR(GESTION!I77,\" \")","v":"Entregable"},{"$f":"IFERROR(GESTION!J77,\" \")","v":0},null,"",null,"Esta actividad está programada para realizarse en el segudno trimestre- Se hizo la publicación del boletin semestral"]
[null,null,null,null,{"$f":"IFERROR(GESTION!H78,\" \")","v":"Elaborar trimestralmente boletín con perspectiva de género"},{"$f":"IFERROR(GESTION!I78,\" \")","v":"Entregable"},{"$f":"IFERROR(GESTION!J78,\" \")","v":0},null,"",null,"Se le brindó apoyo al Comité Seccional de Género, se elaboró y publicó en el micrositio."]
[null,null,null,null,{"$f":"IFERROR(GESTION!H79,\" \")","v":0},{"$f":"IFERROR(GESTION!I79,\" \")","v":0},{"$f":"IFERROR(GESTION!J79,\" \")","v":0},null,""]
[null,null,null,null,{"$f":"IFERROR(GESTION!H80,\" \")","v":0},{"$f":"IFERROR(GESTION!I80,\" \")","v":0},{"$f":"IFERROR(GESTION!J80,\" \")","v":0},null,""]
[null,null,"5. Prevenir fenómenos asociados con actos de corrupción en la Rama Judicial y reducir las experiencias de corrupción de usuarios y servidores judiciales.",null,{"$f":"IFERROR(GESTION!H81,\" \")","v":0},{"$f":"IFERROR(GESTION!I81,\" \")","v":0},{"$f":"IFERROR(GESTION!J81,\" \")","v":0},null,""]
[null,null,null,null,{"$f":"IFERROR(GESTION!H82,\" \")","v":0},{"$f":"IFERROR(GESTION!I82,\" \")","v":0},{"$f":"IFERROR(GESTION!J82,\" \")","v":0},null,""]
[null,null,null,null,{"$f":"IFERROR(GESTION!H83,\" \")","v":0},{"$f":"IFERROR(GESTION!I83,\" \")","v":0},{"$f":"IFERROR(GESTION!J83,\" \")","v":0},null,""]
[null,null,null,null,{"$f":"IFERROR(GESTION!H84,\" \")","v":0},{"$f":"IFERROR(GESTION!I84,\" \")","v":0},{"$f":"IFERROR(GESTION!J84,\" \")","v":0},null,""]
[null,null,null,null,{"$f":"IFERROR(GESTION!H85,\" \")","v":0},{"$f":"IFERROR(GESTION!I85,\" \")","v":0},{"$f":"IFERROR(GESTION!J85,\" \")","v":0},null,""]
[null,null,"6. Promover la rendición de cuentas y la colaboración real con la ciudadanía como fundamento para diseñar acciones de mejoramiento del acceso a la justicia.",null,{"$f":"IFERROR(GESTION!H86,\" \")","v":"Desarrollar las actividades  para la oportuna elaboración del informe anual de gestión y audiencia pública de rendición de cuentas del Consejo Seccional de la Judicatura del Chocó y la Coordinación Administrativa de Quibdó"},{"$f":"IFERROR(GESTION!I86,\" \")","v":"Entregable"},{"$f":"IFERROR(GESTION!J86,\" \")","v":0},null,"",null,"Se adelantaron todas las gestiones tendientes a desarrollar el proceso de rendición de cuentas."]
[null,null,null,null,{"$f":"IFERROR(GESTION!H87,\" \")","v":"Actualizar la lista de Auxiliares de la Justicia del Distrito Judicial de Quibdó y Administrativo del Chocó con las novedades que se presenten                                             "},{"$f":"IFERROR(GESTION!I87,\" \")","v":"Entregable"},{"$f":"IFERROR(GESTION!J87,\" \")","v":0},null,""]
[null,null,null,null,{"$f":"IFERROR(GESTION!H88,\" \")","v":"Atender los requerimientos presentados por los usuarios internos y externos del servicio de justicia en relación con la lista de auxiliares de la justicia."},{"$f":"IFERROR(GESTION!I88,\" \")","v":"Entregable"},{"$f":"IFERROR(GESTION!J88,\" \")","v":0},null,"","No se presentaron dificultades en la elaboración y actualización de la lista de Auxiliares de la Justcia","Se le dio trámite a 9 requerimientos recibidos en relacion con la lista de Auxiliares de la Justicia, presentados por usuarios internos y externos del servicio de justicia"]
[null,null,null,null,{"$f":"IFERROR(GESTION!H89,\" \")","v":"Implementar el programa de gestión documental. Recibir las transferencias documentales de los despachos judiciales de la sede Quibdó    Responder las solicitudes de desarchive presentadas por usuarios internos y externos de la Rama Judicial"},{"$f":"IFERROR(GESTION!I89,\" \")","v":"Entregable"},{"$f":"IFERROR(GESTION!J89,\" \")","v":0},null,"","No se cuenta con las herramientas de trabajo y el personal suficiente para cumplir a cabalidad con la meta trazada","Pese a las dificultades presentadas se logró reorganizar 200 cajas contentivas de procesos formalmente archivados y se atendieron satisfactoriamente 64 solicitudes de desrachivo. "]
[null,null,null,null,{"$f":"IFERROR(GESTION!H90,\" \")","v":0},{"$f":"IFERROR(GESTION!I90,\" \")","v":0},{"$f":"IFERROR(GESTION!J90,\" \")","v":0},null,"",null,"No se recibieron transferencias documentales de los despachos judiciales."]
[null,null,"7. Continuar la consolidación del SIGCMA, a través de los procesos de formación en modelos de gestión, logrando la implementación y ampliación de este en los esquemas certificados de manera gradual, teniendo en cuenta las capacidades de los diferentes despachos judiciales y dependencias de la Rama Judicial y articulando el enfoque de Arquitectura Empresarial para el desarrollo del PETD a través de la gestión del conocimiento para la gestión del cambio propendiendo por una cultura de la calidad, la transparencia, la rendición de cuentas, la anticorrupción y el antisoborno","1. Gestionar el desarrollo de las competencias, la toma de conciencia , la cultura  organizacional  y el compromiso de los  servidores judiciales, contratistas, practicantes y  judicantes de contribuir a generar valor público en la administración de justicia, en el marco de  cumplimiento de los requisitos  aplicables y el comportamiento ético.\n4. Hacer un uso racional de los recursos naturales aplicando los principios y fases de la Economía Circular, para prevenir, mitigar y controlar los impactos ambientales.",{"$f":"IFERROR(GESTION!H91,\" \")","v":0},{"$f":"IFERROR(GESTION!I91,\" \")","v":0},{"$f":"IFERROR(GESTION!J91,\" \")","v":0},null,""]
[null,null,null,null,{"$f":"IFERROR(GESTION!H92,\" \")","v":"Fomentar mediante circular la Planeación estrategica de los despachos judiciales del Distrito Judicial de Quibdó"},{"$f":"IFERROR(GESTION!I92,\" \")","v":"Entregable"},{"$f":"IFERROR(GESTION!J92,\" \")","v":0},null,"",null,"Se elaboró la Circular CSJCHC23-33 - permisos residencia, la Circular CSJCHC23-34 - “Recomendaciones de buenas prácticas judiciales y administrativas en los Despachos - 2023” ,  la Circular CSJCHC23-35 - “Reporte de Calificación de Servicios de Empleados en propiedad, periodo 2022” , CSJCHC23-36 - Reporte oportuno de vacantes definitivas, CSJCHC23-44  Insumos visitas organización del despacho 2022 y CSJCHO23-79 “Visita Organización del Trabajo, periodo 2021-2022”."]
[null,null,null,null,{"$f":"IFERROR(GESTION!H93,\" \")","v":0},{"$f":"IFERROR(GESTION!I93,\" \")","v":0},{"$f":"IFERROR(GESTION!J93,\" \")","v":0},null,""]
[null,null,null,null,{"$f":"IFERROR(GESTION!H94,\" \")","v":0},{"$f":"IFERROR(GESTION!I94,\" \")","v":0},{"$f":"IFERROR(GESTION!J94,\" \")","v":0},null,""]
[null,null,null,null,{"$f":"IFERROR(GESTION!H95,\" \")","v":0},{"$f":"IFERROR(GESTION!I95,\" \")","v":0},{"$f":"IFERROR(GESTION!J95,\" \")","v":0},null,""]
["4. Talento Humano","Talento Humano: Fortalecer el talento humano en la Rama Judicial para que sea eficiente, capacitado y realice su labor en ambientes saludables y seguros. Ampliar la cobertura de la carrera judicial y mejorar la oferta de formación, que esté disponible para todos los servidores judiciales e impacte positivamente el servicio de justicia y responda a las necesidades reales del ejercicio de la función judicial.","1. Ampliar la cobertura de la carrera judicial optimizando los procesos de los concursos de méritos y propender por mitigar su litigiosidad.","1. Gestionar el desarrollo de las competencias, la toma de conciencia , la cultura  organizacional  y el compromiso de los  servidores judiciales, contratistas, practicantes y  judicantes de contribuir a generar valor público en la administración de justicia, en el marco de  cumplimiento de los requisitos  aplicables y el comportamiento ético.",{"$f":"IFERROR(GESTION!H96,\" \")","v":"Desarrollar labor pedagógica y de control para obtener oportunamente de los tribunales y jueces de instancia  el insumo para  consolidar el factor  calidad."},{"$f":"IFERROR(GESTION!I96,\" \")","v":"Entregable"},{"$f":"IFERROR(GESTION!J96,\" \")","v":0},null,"",null,"Se elaboró la Circular CSJCHC23-32 - Remisión de la calificación del factor calidad, periodo 2022 y la Circular CSJCHC23-31 - Remisión insumo calificación año 2022 – reporte de días hábiles no laborados y reporte de audiencias realizadas / programadas."]
[null,null,null,null,{"$f":"IFERROR(GESTION!H97,\" \")","v":"Administrar la información de las calificaciones de servicios de los servidores judiciales del Distrito"},{"$f":"IFERROR(GESTION!I97,\" \")","v":"Entregable"},{"$f":"IFERROR(GESTION!J97,\" \")","v":0},null,"",null,"A la fecha se recopilaron las calificaciones de servicios de 10 empleados."]
[null,null,null,null,{"$f":"IFERROR(GESTION!H98,\" \")","v":"Efectuar visita a los despachos de jueces con el objetivo de realizar la evaluaciónm de Factor Organización del Trabajo  (física o electrónica)"},{"$f":"IFERROR(GESTION!I98,\" \")","v":"Entregable"},{"$f":"IFERROR(GESTION!J98,\" \")","v":0},null,"",null,"A partir del mes de febrero los Despachos 01 y 02 iniciaron con el cronograma de visitas aprobado en el mes de enero."]
[null,null,null,null,{"$f":"IFERROR(GESTION!H99,\" \")","v":"Realizar supervisión del reporte oportuno de vacantes para la correcta publicación, durante los primeros 5 días del mes de las vacantes"},{"$f":"IFERROR(GESTION!I99,\" \")","v":"Entregable"},{"$f":"IFERROR(GESTION!J99,\" \")","v":0},null,"",null,"Se elaboró la Circular  CSJCHC23-36 Reporte oportuno de vacantes definitivas."]
[null,null,null,null,{"$f":"IFERROR(GESTION!H100,\" \")","v":"Consolidar la Calificación Integral de Servicios de Jueces y remitir a la Unidad de Administración de Carrera Judicial (Acuerdo PSAA16-10618)"},{"$f":"IFERROR(GESTION!I100,\" \")","v":"Entregable"},{"$f":"IFERROR(GESTION!J100,\" \")","v":0},null,"",null,"Esta actividad tiene como fecha límite el 31 de agosto de la presente vigencia. Sin embargo, se han adelantado las visitas para la calificación del factor calidad y se ha consolidado el factor calidad ."]
[null,null,"2. Impactar la función y servicios que presta la Rama Judicial, a través de una formación integral desde una visión de gestión del conocimiento, relacionada con los problemas de la justicia y los problemas de gestión de quienes administran los recursos de la justicia, y potenciando el uso de medios virtuales.",null,{"$f":"IFERROR(GESTION!H101,\" \")","v":"    Estudiar y emitir concepto sobre las solicitudes de traslado que sean de competencia de este Consejo Seccional que presenten Jueces y Empleados"},{"$f":"IFERROR(GESTION!I101,\" \")","v":"Entregable"},{"$f":"IFERROR(GESTION!J101,\" \")","v":0},null,"",null,"Se recibió una solcitud la cual fue atendida con el Oficio CSJCHOP23-74"]
[null,null,null,null,{"$f":"IFERROR(GESTION!H102,\" \")","v":" Remitir al final de cada mes a la Unidad de Carrera Judicial las vacantes de jueces e informar  sobre el agotamiento de las listas de candidatos"},{"$f":"IFERROR(GESTION!I102,\" \")","v":"Entregable"},{"$f":"IFERROR(GESTION!J102,\" \")","v":0},null,{"$f":"IFERROR(H102/G102,\"\")","v":""},null,"Se remitieron los tres informes correspondietes."]
[null,null,null,null,{"$f":"IFERROR(GESTION!H103,\" \")","v":"Efectuar visita a los despachos de magistrados, conforme la delegación del Consejo Superior de la Judicatura, con el objetivo de verificar el Factor Organización del Trabajo  (física o electrónica)."},{"$f":"IFERROR(GESTION!I103,\" \")","v":"Entregable"},{"$f":"IFERROR(GESTION!J103,\" \")","v":0},null,"",null,"Se realizaron las visitas correspondientes al cronograma del primer trimestre."]
[null,null,null,null,{"$f":"IFERROR(GESTION!H104,\" \")","v":0},{"$f":"IFERROR(GESTION!I104,\" \")","v":0},{"$f":"IFERROR(GESTION!J104,\" \")","v":0},null,""]
[null,null,null,null,{"$f":"IFERROR(GESTION!H105,\" \")","v":0},{"$f":"IFERROR(GESTION!I105,\" \")","v":0},{"$f":"IFERROR(GESTION!J105,\" \")","v":0},null,""]
[null,null,"3. Promover la incorporación de la perspectiva de género y el enfoque diferencial en los fallos judiciales y en la atención a los ciudadanos, la administración de la Rama Judicial, la administración de la carrera judicial y la elaboración de listas para altas Cortes. ",null,{"$f":"IFERROR(GESTION!H106,\" \")","v":0},{"$f":"IFERROR(GESTION!I106,\" \")","v":0},{"$f":"IFERROR(GESTION!J106,\" \")","v":0},null,""]
[null,null,null,null,{"$f":"IFERROR(GESTION!H107,\" \")","v":0},{"$f":"IFERROR(GESTION!I107,\" \")","v":0},{"$f":"IFERROR(GESTION!J107,\" \")","v":0},null,""]
[null,null,null,null,{"$f":"IFERROR(GESTION!H108,\" \")","v":0},{"$f":"IFERROR(GESTION!I108,\" \")","v":0},{"$f":"IFERROR(GESTION!J108,\" \")","v":0},null,""]
[null,null,null,null,{"$f":"IFERROR(GESTION!H109,\" \")","v":0},{"$f":"IFERROR(GESTION!I109,\" \")","v":0},{"$f":"IFERROR(GESTION!J109,\" \")","v":0},null,""]
[null,null,null,null,{"$f":"IFERROR(GESTION!H110,\" \")","v":0},{"$f":"IFERROR(GESTION!I110,\" \")","v":0},{"$f":"IFERROR(GESTION!J110,\" \")","v":0},null,""]
[null,null,"4. Desarrollar en los servidores judiciales y demás grupos de valor relevantes las competencias necesarias para la efectividad de la transformación digital de modo que puedan, entre otros, utilizar con solvencia las herramientas digitales dispuestas para sus respectivas funciones. Además, fortalecer y actualizar los conocimientos del personal a cargo de la gestión de proyectos de tecnología.",null,{"$f":"IFERROR(GESTION!H111,\" \")","v":" Recepcionar de las necesidades de Formación en el Grupo Seccional de Apoyo"},{"$f":"IFERROR(GESTION!I111,\" \")","v":"Entregable"},{"$f":"IFERROR(GESTION!J111,\" \")","v":0},null,"",null,"No se han manifestado necesidades de capacitación en el desarrollo de las sesiones del Grupo Seccional de Apoyo"]
[null,null,null,null,{"$f":"IFERROR(GESTION!H112,\" \")","v":"Recibir y divulgar las capacitaciones programadas por la Escuela Judicial Rodrigo Lara Bonilla"},{"$f":"IFERROR(GESTION!I112,\" \")","v":"Entregable"},{"$f":"IFERROR(GESTION!J112,\" \")","v":0},null,"",null,"Conforme se recibe la oferta académica se divulga a través de circular."]
[null,null,null,null,{"$f":"IFERROR(GESTION!H113,\" \")","v":"Gestionar espacios para capacitaciones que se realicen en la seccional (usuario interno y externo) (Comité Seccional de Género / Comité Justicia Restaurativa / Mesa Interjurisdicional Indígena)"},{"$f":"IFERROR(GESTION!I113,\" \")","v":"Entregable"},{"$f":"IFERROR(GESTION!J113,\" \")","v":0},null,"",null,"Fueron programadas para el segundo trimestre"]
[null,null,null,null,{"$f":"IFERROR(GESTION!H114,\" \")","v":"Planear y ejecutar el plan de trabajo de SG-SST Seccional vigencia 2023 con apoyo de los aliados estrategicos"},{"$f":"IFERROR(GESTION!I114,\" \")","v":"Meta cuantificable"},{"$f":"IFERROR(GESTION!J114,\" \")","v":152},18,0.11842105263157894,"Entrega tardía del Plan de Trabajo (28 de febrero de 2023) por parte del Nivel Nacional y contratacion tardia del equipo ARL","En el primer trimestre del año 2023 se avanzó en un 12 % de cumplimiento de las actividades establecidas en el plan de trabajo de un 100% de actividades proyectadas."]
[null,null,null,null,{"$f":"IFERROR(GESTION!H115,\" \")","v":"Proyectar, programar y ejecutar actividades  en pro de la seguridad y salud en el trabajo de la población judicial de acuerdo al presupuesto asignado"},{"$f":"IFERROR(GESTION!I115,\" \")","v":"Meta cuantificable"},{"$f":"IFERROR(GESTION!J115,\" \")","v":201674200},51800000,0.25684990940834274,"Se está elaborando los estudios de mercado y estudios previos ","En el primer trimestre del año 2023 se avanzó en un 26% de avance en la ejecución de presupuesto de los proyectos de inversión de un 100% proyectado. Solo se pudo dar inicio a la contratacion de las Profesionales de Seguridad y Salud en el Trabajo"]
[null,null,"5. Promover el bienestar de todos los servidores judiciales a través de la implementación de un sistema que contemple los diferentes niveles de estrategias y acciones necesarios para mejorar el clima laboral, la salud física y mental y la calidad del tiempo de descanso.","5. Generar espacios de trabajo seguros y saludables que contribuyan a minimizar los  incidentes, accidentes y enfermedades laborales derivados de las condiciones y actos  inseguros y fomentar  el autocuidado, los  estilos de vida y el trabajo saludable en los servidores judiciales, contratistas, judicantes y practicantes",{"$f":"IFERROR(GESTION!H116,\" \")","v":"Ejecutar inspecciones técnicas de seguridad integral, matrices de identificación de peligros y planes de emergencias a las sedes judiciales"},{"$f":"IFERROR(GESTION!I116,\" \")","v":"Meta cuantificable"},{"$f":"IFERROR(GESTION!J116,\" \")","v":35},7,0.2,"Entrega tardía del Plan de Trabajo (28 de febrero de 2023) por parte del Nivel Nacional","En el primer trimestre del año 2023 se ha avenzado en un 20% de matrices de peligros,  Planes de emergencia e ispecciones de seguridad."]
[null,null,null,null,{"$f":"IFERROR(GESTION!H117,\" \")","v":"Implementar mecanismos para la retroalimentación de las  partes interesadas"},{"$f":"IFERROR(GESTION!I117,\" \")","v":"Entregable"},{"$f":"IFERROR(GESTION!J117,\" \")","v":0},null,"","Se tiene programada la actividad para el segundo trimestre","Se tiene programada la actividad para el segundo trimestre"]
[null,null,null,null,{"$f":"IFERROR(GESTION!H118,\" \")","v":"Solicitar apoyo al CENDOJ para realización de capacitaciones en tablas de retención documental (TRD)"},{"$f":"IFERROR(GESTION!I118,\" \")","v":"Entregable"},{"$f":"IFERROR(GESTION!J118,\" \")","v":0},null,"","Se tiene programada la actividad para el segundo trimestre","Se tiene programada la actividad para el segundo trimestre"]
[null,null,null,null,{"$f":"IFERROR(GESTION!H119,\" \")","v":"Hacer uso de la información y de las herramientas tecnológicas dispuestas para la prestación del servicios"},{"$f":"IFERROR(GESTION!I119,\" \")","v":"Entregable"},{"$f":"IFERROR(GESTION!J119,\" \")","v":0},null,"","Ocasionalmente ha habido lentitud por la banda del internet que dificulta el uso de las herramientas tecnologicas","Se están utilizando los medios de comunicación como correos, intranet."]
[null,null,null,null,{"$f":"IFERROR(GESTION!H120,\" \")","v":"Participar en reuniones según programación por parte el SIGCMA para la presentación y aprobación de documentos del proceso de SG-SST"},{"$f":"IFERROR(GESTION!I120,\" \")","v":"Entregable"},{"$f":"IFERROR(GESTION!J120,\" \")","v":0},null,"",null,"Se realizó la reunión de aprobación del Plan de Acción 2023. Se realizaron una reunion de seguimiento el 15 de febrero de 2023."]
["5. Gobernanza, planeación estratégica y capacidad de toma de decisiones","Gobernanza, planeación estratégica y capacidad de toma de decisiones: Fortalecer la gobernanza, la planeación estratégica y la capacidad de toma de decisiones de la Rama Judicial con base en la evidencia empírica y la articulación efectiva con las demás entidades, para que la perspectiva de género y el enfoque diferencial sean transversales en el presente plan. ","1. Implementar un nuevo modelo integrado para la planeación estratégica, el seguimiento y la medición del desempeño institucional.","2. Asegurar  el cumplimiento de los objetivos institucionales, la normatividad aplicable,  la mejora del SIGCMA y la satisfacción de los usuarios, revisando de  forma continua y sistemática la planificación de la gestión y fortaleciendo la administración de riesgos y sus controles.",{"$f":"IFERROR(GESTION!H121,\" \")","v":0},{"$f":"IFERROR(GESTION!I121,\" \")","v":0},{"$f":"IFERROR(GESTION!J121,\" \")","v":0},null,""]
[null,null,null,null,{"$f":"IFERROR(GESTION!H122,\" \")","v":"Elaborar el Informe de la Alta Dirección "},{"$f":"IFERROR(GESTION!I122,\" \")","v":"Entregable"},{"$f":"IFERROR(GESTION!J122,\" \")","v":0},null,"",null,"Se elaboro en mayo"]
[null,null,null,null,{"$f":"IFERROR(GESTION!H123,\" \")","v":"Participar en las reuniones de Control Interno Seccional "},{"$f":"IFERROR(GESTION!I123,\" \")","v":"Entregable"},{"$f":"IFERROR(GESTION!J123,\" \")","v":0},null,"",null,"Se realizaron dos reuniones de Control Interno, el 17 y  21 de febrero de 2023."]
[null,null,null,null,{"$f":"IFERROR(GESTION!H124,\" \")","v":0},{"$f":"IFERROR(GESTION!I124,\" \")","v":0},{"$f":"IFERROR(GESTION!J124,\" \")","v":0},null,""]
[null,null,null,null,{"$f":"IFERROR(GESTION!H125,\" \")","v":0},{"$f":"IFERROR(GESTION!I125,\" \")","v":0},{"$f":"IFERROR(GESTION!J125,\" \")","v":0},null,""]
[null,null,"2. Definir e implementar el modelo optimizado de formulación, seguimiento y evaluación de la política pública judicial.",null,{"$f":"IFERROR(GESTION!H126,\" \")","v":0},{"$f":"IFERROR(GESTION!I126,\" \")","v":0},{"$f":"IFERROR(GESTION!J126,\" \")","v":0},null,""]
[null,null,null,null,{"$f":"IFERROR(GESTION!H127,\" \")","v":0},{"$f":"IFERROR(GESTION!I127,\" \")","v":0},{"$f":"IFERROR(GESTION!J127,\" \")","v":0},null,""]
[null,null,null,null,{"$f":"IFERROR(GESTION!H128,\" \")","v":0},{"$f":"IFERROR(GESTION!I128,\" \")","v":0},{"$f":"IFERROR(GESTION!J128,\" \")","v":0},null,""]
[null,null,null,null,{"$f":"IFERROR(GESTION!H129,\" \")","v":0},{"$f":"IFERROR(GESTION!I129,\" \")","v":0},{"$f":"IFERROR(GESTION!J129,\" \")","v":0},null,""]
[null,null,null,null,{"$f":"IFERROR(GESTION!H130,\" \")","v":0},{"$f":"IFERROR(GESTION!I130,\" \")","v":0},{"$f":"IFERROR(GESTION!J130,\" \")","v":0},null,""]

{"sheet":"GESTION_SEG_2_TRIM","index":6,"n_rows":130,"n_cols":11,"rows_kept":130,"cut":false,"hidden":false,"merged":[[105,2,109,2],[110,2,114,2],[115,2,119,2],[115,3,119,3],[120,0,129,0],[120,1,129,1],[120,2,124,2],[120,3,129,3],[125,2,129,2],[95,0,119,0],[95,1,119,1],[95,2,99,2],[95,3,114,3],[100,2,104,2],[55,2,59,2],[60,0,94,0],[60,1,94,1],[60,2,64,2],[60,3,64,3],[65,2,69,2],[65,3,69,3],[70,2,74,2],[70,3,74,3],[75,2,79,2],[75,3,89,3],[80,2,84,2],[85,2,89,2],[90,2,94,2],[90,3,94,3],[25,2,29,2],[25,3,29,3],[30,0,59,0],[30,1,59,1],[30,2,34,2],[30,3,59,3],[35,2,39,2],[40,2,44,2],[45,2,49,2],[50,2,54,2],[5,0,29,0],[5,1,29,1],[5,2,9,2],[5,3,9,3],[10,2,14,2],[10,3,14,3],[15,2,19,2],[15,3,19,3],[20,2,24,2],[20,3,24,3],[1,0,1,10],[2,0,2,3],[2,4,2,9],[2,10,4,10],[3,0,4,1],[3,2,4,2],[3,3,4,3],[3,4,3,9]]}
[]
["CONSEJO SUPERIOR DE LA JUDICATURA \nUNIDADES MISIONALES DEL CONSEJO SUPERIOR DE LA JUDICATURA - \nDIRECCIÓN EJECUTIVA DE ADMINISTRACIÓN JUDICIAL - UNIDADES MISIONALES DE LA DEAJ\nDIRECCIONES SECCIONALES DE ADMINISTRACIÓN JUDICIAL - DEPENDENCIAS JUDICIALES CERTIFICADAS"]
["PLAN SECTORIAL DE DESARROLLO 2023-2026 - OBJETIVOS SIGCMA",null,null,null,null,null,null,null,null,null," ANÁLISIS RESULTADO"]
["OBJETIVO ESTRATÉGICO",null,"OBJETIVO ESPECÍFICO PSD","OBJETIVO ESPECÍFICO SIGCMA","MEDICIÓN DE LA GESTIÓN ANUAL"]
[null,null,null,null,"ACTIVIDADES ","INDIQUE SI ES ENTREGABLE O META CUANTIFICABLE","META ANUAL","AVANCE DE LA META ","NIVEL CUMPLIMIENTO","DIFICULTADES PARA LOGRAR LA META PROPUESTA"]
["1. Acceso e Infraestructura Física","Acceso e Infraestructura Física: Ampliar, en todo el territorio nacional, el acceso a una justicia efectiva, pronta, equitativa e incluyente, reduciendo el atraso y la congestión, de acuerdo con las necesidades de la demanda de justicia por jurisdicción y especialidad, y mejorando la articulación con la justicia restaurativa y terapéutica, y otros mecanismos de solución de conflictos y consolidando una infraestructura física óptima para el acceso a la justicia.","1. Ampliar el acceso a justicia para atender las necesidades jurídicas de los ciudadanos con un enfoque diferencial, de una manera pronta, reduciendo las inequidades y las brechas territoriales de acceso.","2. Asegurar  el cumplimiento de los objetivos institucionales, la normatividad aplicable,  la mejora del SIGCMA y la satisfacción de los usuarios, revisando de  forma continua y sistemática la planificación de la gestión y fortaleciendo la administración de riesgos y sus controles",{"$f":"IFERROR(GESTION!H6,\" \")","v":"Proyectar propuestas de reordenamiento y remitir para estudio y consideración del Consejo Superior de la Judicatura "},{"$f":"IFERROR(GESTION!I6,\" \")","v":"Entregable"},{"$f":"IFERROR(GESTION!J6,\" \")","v":0},null,{"$f":"IFERROR(H6/G6,\"\")","v":""},null,"Este trimestre no se elaborarón propuestad de reordenamiento"]
[null,null,null,null,{"$f":"IFERROR(GESTION!H7,\" \")","v":0},{"$f":"IFERROR(GESTION!I7,\" \")","v":0},{"$f":"IFERROR(GESTION!J7,\" \")","v":0},null,"",null," "]
[null,null,null,null,{"$f":"IFERROR(GESTION!H8,\" \")","v":"Adoptar medidas las  necesarias, conforme a delegación del Consejo Superior de la Judicatura."},{"$f":"IFERROR(GESTION!I8,\" \")","v":"Meta cuantificable"},{"$f":"IFERROR(GESTION!J8,\" \")","v":0},null,"",null,"se elaboraron 31 acuerdos de delegación de funciones"]
[null,null,null,null,{"$f":"IFERROR(GESTION!H9,\" \")","v":" "},{"$f":"IFERROR(GESTION!I9,\" \")","v":0},{"$f":"IFERROR(GESTION!J9,\" \")","v":0},null,"",null," "]
[null,null,null,null,{"$f":"IFERROR(GESTION!H10,\" \")","v":0},{"$f":"IFERROR(GESTION!I10,\" \")","v":0},{"$f":"IFERROR(GESTION!J10,\" \")","v":0},null,"",null," "]
[null,null,"2. Mejorar los tiempos de respuesta de la Rama Judicial y reducir el inventario de procesos, identificando los retos internos y promoviendo tanto acciones articuladas específicas para abordarlos como estrategias coordinadas para enfrentar las barreras que dependen de otras entidades.","2. Asegurar  el cumplimiento de los objetivos institucionales, la normatividad aplicable,  la mejora del SIGCMA y la satisfacción de los usuarios, revisando de  forma continua y sistemática la planificación de la gestión y fortaleciendo la administración de riesgos y sus controles",{"$f":"IFERROR(GESTION!H11,\" \")","v":"Realizar seguimiento, análisis y evaluacion de la información estadistica, reportada por todos los despachos judiciales\n"},{"$f":"IFERROR(GESTION!I11,\" \")","v":"Entregable"},{"$f":"IFERROR(GESTION!J11,\" \")","v":0},null,"",null,"fueron atendidas todas las novedades del SIERJU. "]
[null,null,null,null,{"$f":"IFERROR(GESTION!H12,\" \")","v":"Registrar en el aplicativo EkoGui cada uno de los procesos y conciliaciones extrajudiciales recibidos; la provisión contable y las actuaciones desarrolladas. "},{"$f":"IFERROR(GESTION!I12,\" \")","v":"Entregable"},{"$f":"IFERROR(GESTION!J12,\" \")","v":0},null,"",null,"Al corte del segundo trimestre se presentó el informe cuatrimestral del pasivo contingente litigioso,  conforme al Memorando DEAJALM23-233 se estableció una modificación en la periodicidad de los informes, por lo tanto ya se presentarán cada 4 meses.  Se realizó la actualización de 286 procesos en el aplicativo eKogui, la radicación de dos fichas para comité de conciliación. "]
[null,null,null,null,{"$f":"IFERROR(GESTION!H13,\" \")","v":"Presentar informes de gestión, de procesos (pasivo contingente litigioso, sentencias favorables a la nación vs desfavorables, repeticiones, procesos activos y terminados)."},{"$f":"IFERROR(GESTION!I13,\" \")","v":"Meta cuantificable"},{"$f":"IFERROR(GESTION!J13,\" \")","v":3},2,0.66666666666666663,null,"Se presentaron los informes correspondientes, reportando para la fecha de corte 254 procesos activos en el pasivo (se recibieron 6 procesos nuevos y se terminaron 07)  , 3 sentencias favorables a la entidad, 6 sentencias desfavorables, 1 procesos de repetición activos y la terminación de 3  procesos. El nivel de cumplimiento es 2. ya que la meta son 4 informes al año."]
[null,null,null,null,{"$f":"IFERROR(GESTION!H14,\" \")","v":"Realizar y tramitar todos los requerimientos que llegan al área de asistencia legal como:  contestaciones, alegatos, llamamientos en garantía, asistencia a audiencias, realización de fichas, presentación de recursos etc) "},{"$f":"IFERROR(GESTION!I14,\" \")","v":"Entregable"},{"$f":"IFERROR(GESTION!J14,\" \")","v":0},null,"",null,"Se atendieron 381 requerimientos"]
[null,null,null,null,{"$f":"IFERROR(GESTION!H15,\" \")","v":0},{"$f":"IFERROR(GESTION!I15,\" \")","v":0},{"$f":"IFERROR(GESTION!J15,\" \")","v":0},null,"",null," "]
[null,null,"3. Coadyuvar en la garantía de la idoneidad en el ejercicio de la profesión jurídica de acuerdo con lo establecido en la Ley 1905 de 2018","2. Asegurar  el cumplimiento de los objetivos institucionales, la normatividad aplicable,  la mejora del SIGCMA y la satisfacción de los usuarios, revisando de  forma continua y sistemática la planificación de la gestión y fortaleciendo la administración de riesgos y sus controles",{"$f":"IFERROR(GESTION!H16,\" \")","v":0},{"$f":"IFERROR(GESTION!I16,\" \")","v":0},{"$f":"IFERROR(GESTION!J16,\" \")","v":0},null,"",null," "]
[null,null,null,null,{"$f":"IFERROR(GESTION!H17,\" \")","v":0},{"$f":"IFERROR(GESTION!I17,\" \")","v":0},{"$f":"IFERROR(GESTION!J17,\" \")","v":0},null,"",null," "]
[null,null,null,null,{"$f":"IFERROR(GESTION!H18,\" \")","v":0},{"$f":"IFERROR(GESTION!I18,\" \")","v":0},{"$f":"IFERROR(GESTION!J18,\" \")","v":0},null,"",null," "]
[null,null,null,null,{"$f":"IFERROR(GESTION!H19,\" \")","v":0},{"$f":"IFERROR(GESTION!I19,\" \")","v":0},{"$f":"IFERROR(GESTION!J19,\" \")","v":0},null,"",null," "]
[null,null,null,null,{"$f":"IFERROR(GESTION!H20,\" \")","v":0},{"$f":"IFERROR(GESTION!I20,\" \")","v":0},{"$f":"IFERROR(GESTION!J20,\" \")","v":0},null,"",null," "]
[null,null,"4. Avanzar en la disposición de una infraestructura óptima para el acceso a la justicia en la Rama Judicial de modo que se fortalezca la presencia territorial, teniendo en cuenta las posibilidades que ofrece la transformación digital y las necesidades que se derivan de ella, y considerando tanto las necesidades de los usuarios como las de los servidores judiciales.","4. Hacer un uso racional de los recursos naturales aplicando los principios y fases de la Economía Circular, para prevenir, mitigar y controlar los impactos ambientales",{"$f":"IFERROR(GESTION!H21,\" \")","v":"Mejorar las condiciones locativas de la infraestructura física del Distrito Judicial de Distrito Judicial de Quibdo y Administrativo del Chocó "},{"$f":"IFERROR(GESTION!I21,\" \")","v":"Entregable"},{"$f":"IFERROR(GESTION!J21,\" \")","v":0},null,"",null,"Las obras de infraestructura se encuentran en etapa precontractual a espera de la ejecucion de la consultoria de los procesos de Planta Fotovoltaica y Redes Hidrosanitarias. "]
[null,null,null,null,{"$f":"IFERROR(GESTION!H22,\" \")","v":"Realizar seguimiento a  la ejecución y cumplimiento de los contratos de Mejoramiento y  Mantenimiento de la Infraestructura Física del Distrito Judicial de Quibdo y Administrativo del Chocó "},{"$f":"IFERROR(GESTION!I22,\" \")","v":"Entregable"},{"$f":"IFERROR(GESTION!J22,\" \")","v":0},null,"",null,"Esta planeada la ejecucion de estos procesos para el segundo semestre de acuerdo a los analisis entregados de la consultoria."]
[null,null,null,null,{"$f":"IFERROR(GESTION!H23,\" \")","v":"Gestionar con los entes Territoriales la adquisicion de inmuebles a traves de donacion "},{"$f":"IFERROR(GESTION!I23,\" \")","v":"Entregable"},{"$f":"IFERROR(GESTION!J23,\" \")","v":0},null,"",null,"A segundo trismistre se realizó la verificacion de requisitos técnicos y recepción de documentación para la adqusicion de los inmubles objeto de donación por parte del señor Marcos Tobias Cuesta Moreno y la Alcaldia de Quibdó, para la construccion de una sede judicial"]
[null,null,null,null,{"$f":"IFERROR(GESTION!H24,\" \")","v":"Elaborar Plan Anual de Necesidades para Mejoramiento y  Mantenimiento de la Infraestructura propia del sector"},{"$f":"IFERROR(GESTION!I24,\" \")","v":"Meta cuantificable"},{"$f":"IFERROR(GESTION!J24,\" \")","v":1},null,0,null,"El plan de necesidades se presenta en el ultimo trimestre el año. "]
[null,null,null,null,{"$f":"IFERROR(GESTION!H25,\" \")","v":"Gestionar actividades preventivas y correctivas para el mantenimiento de los vehículos automotores  adscritos a los  despachos judiciales y dependencias administrativa de la Seccional cumpiendo con los esquemas de seguridad."},{"$f":"IFERROR(GESTION!I25,\" \")","v":"Entregable"},{"$f":"IFERROR(GESTION!J25,\" \")","v":0},null,"",null,"Se han remitido los automoviles a los talleres autorizados por la Seccional Antioquia - Chocó y ademas se han realizado talleres de seguridad vial para los conductores de la Seccional. "]
[null,null,"5. Impulsar el uso de mecanismos alternativos para la solución de conflictos y la ampliación de la justicia restaurativa y terapéutica y el robustecimiento de las alternativas al encarcelamiento","2. Asegurar  el cumplimiento de los objetivos institucionales, la normatividad aplicable,  la mejora del SIGCMA y la satisfacción de los usuarios, revisando de  forma continua y sistemática la planificación de la gestión y fortaleciendo la administración de riesgos y sus controles",{"$f":"IFERROR(GESTION!H26,\" \")","v":0},{"$f":"IFERROR(GESTION!I26,\" \")","v":0},{"$f":"IFERROR(GESTION!J26,\" \")","v":0},null,"",null," "]
[null,null,null,null,{"$f":"IFERROR(GESTION!H27,\" \")","v":0},{"$f":"IFERROR(GESTION!I27,\" \")","v":0},{"$f":"IFERROR(GESTION!J27,\" \")","v":0},null,"",null," "]
[null,null,null,null,{"$f":"IFERROR(GESTION!H28,\" \")","v":0},{"$f":"IFERROR(GESTION!I28,\" \")","v":0},{"$f":"IFERROR(GESTION!J28,\" \")","v":0},null,"",null," "]
[null,null,null,null,{"$f":"IFERROR(GESTION!H29,\" \")","v":0},{"$f":"IFERROR(GESTION!I29,\" \")","v":0},{"$f":"IFERROR(GESTION!J29,\" \")","v":0},null,"",null," "]
[null,null,null,null,{"$f":"IFERROR(GESTION!H30,\" \")","v":0},{"$f":"IFERROR(GESTION!I30,\" \")","v":0},{"$f":"IFERROR(GESTION!J30,\" \")","v":0},null,"",null," "]
["2. Servicios digitales y de tecnología, innovación y análisis de la información.","Servicios digitales y de tecnología, innovación y análisis de la información: Consolidar una justicia integrada y soportada en servicios digitales y de tecnología, innovación y análisis de la información, con una cultura digital apropiada, segura y sensible a las realidades del territorio nacional. ","1. Ampliar el acceso a la justicia a través de la consolidación del uso de los servicios digitales que conforman el sistema único integrado de gestión judicial en todos los despachos judiciales y dependencias de apoyo y, específicamente, incluyendo el despliegue e implementación del Expediente Judicial Electrónico en todas las jurisdicciones y especialidades.","6. Proteger, preservar y administrar los activos de información  implementando acciones  para gestionar de forma adecuada los incidentes, proteger los datos personales y adoptar mecanismos  de ciberseguridad y aseguramiento de la  continuidad del negocio.",{"$f":"IFERROR(GESTION!H31,\" \")","v":"Publicar en el Portal WEB Seccional y en la red social (Twitter ) y mediante los Correos Institucionales, (Actos Administrativos producidos por el Consejo Seccional,. Acuerdo, circulares, Boletines, informacion de interés general, capacitaciones, Avisos, etc...)"},{"$f":"IFERROR(GESTION!I31,\" \")","v":"Entregable"},{"$f":"IFERROR(GESTION!J31,\" \")","v":0},null,"",null,"en este trimestre fueron publicadas las circulares, acuerdos y boletnes elaborados por la seccional. "]
[null,null,null,null,{"$f":"IFERROR(GESTION!H32,\" \")","v":"Recibir, elaborar y gestionar, en el aplicativo de correspondencia SIGOBIUS, las comunicaciones y oficios"},{"$f":"IFERROR(GESTION!I32,\" \")","v":"Entregable"},{"$f":"IFERROR(GESTION!J32,\" \")","v":0},null,"",null,"fueron trámitadas por intermedio del aplicativo"]
[null,null,null,null,{"$f":"IFERROR(GESTION!H33,\" \")","v":"Realizar seguimiento al contrato CSJ 2023 - OC101882 PIVOT 1819- CSJ - CHOCÓ se da  apoyo de la  Cobertura total del acceso a internet de todos los despacho judiciales de la Seccional, es decir juzgados, despachos de magistrados, centros de servicios,  secretarias generales, una oficina de apoyo judicial y la oficina de la Coordinación Administrativa de Quibdó."},{"$f":"IFERROR(GESTION!I33,\" \")","v":"Entregable"},{"$f":"IFERROR(GESTION!J33,\" \")","v":0},null,"","Se dio el apoyo,  sin en bargo se presentaron dificultades por momentos  por parte del operador externo Cirion y Andired.","Pese a las variedades y constantes dificultades de indisponibilidd que se presentan y se reportan en los diferentes en laces de conectividad del Chocó, se realizaron las gestiones de apoyo y se logra mantener el servicio disponible en los Juzgados. "]
[null,null,null,null,{"$f":"IFERROR(GESTION!H34,\" \")","v":"Realizar seguimiento y apoyo de primer nivel en la implementación de sistema de información procesal judicial en la Rama Judicial Justicia XXI Web (Tyba), Siglo XXI Cliente Servidor, Samai, SIGOBIUS, Aplicativo Firma Electronica, portal Banco Agrario , Azure, ,Cicero, Lifezise, Oficce 365,  Portal Rama Judicial ( MicroSitio) creaciones de usuarios, traslados de usuarios, Capacitacion Etc."},{"$f":"IFERROR(GESTION!I34,\" \")","v":"Entregable"},{"$f":"IFERROR(GESTION!J34,\" \")","v":0},null,"","Se brinda el apoyo y gestion,  sin en bargo se presentaron en ocasiones dificultades en algunos de los aplicativos, indisponibilidades que su solucion es por  lo general competencia del nivel central."," Pese a las variedades y constantes dificultades de indisponibilidd que se presentaron y se reportaron al area de sistenmas en los diferentes aplicativos el valance es positivo en  Chocó, se realizaron las gestiones de apoyo y se logra mantener el servicio operativo y disponible en los Juzgados."]
[null,null,null,null,{"$f":"IFERROR(GESTION!H35,\" \")","v":"Hacer seguimiento a las actividades programadas como mantenimiento preventivo y correctivo y se realiza acompañamiento a la atencion de los incidentes reportados para su atencion tecnica  por  medio del contrato 276 DEL 2022 DE MESA DE AYUDA ETB"},{"$f":"IFERROR(GESTION!I35,\" \")","v":"Entregable"},{"$f":"IFERROR(GESTION!J35,\" \")","v":0},null,"","Se brinda el apoyo y gestion,  no ha  presentado difilculta en el desarrollo de la  actividad. "," Se le hace seguimiento y acompñamiento a la actividad y se observa que va en un 80 % realizada. "]
[null,null,"2. Integrar y hacer compatibles todos los aplicativos de transición con SIUGJ, para que la migración de los expedientes judiciales a dicha plataforma sea real y no suponga afectaciones en la prestación del servicio de justicia.",null,{"$f":"IFERROR(GESTION!H36,\" \")","v":" Brindar apoyo en las audiencias presenciales y   virtuales y  se ha realizado la actualización de de salas de audiencias  preexistentes - actal son  virtuales / Contrato de Prestación de Servicios  No. 175 de 2020 - LIFEZISE"},{"$f":"IFERROR(GESTION!I36,\" \")","v":"Entregable"},{"$f":"IFERROR(GESTION!J36,\" \")","v":0},null,"","Se brinda el apoyo y gestion,  sin en bargo se presentaron en ocasiones dificultades en algunos de los aplicativos como LIFEZISE, indisponibilidades que su solucion es por  lo general competencia del nivel central.","Apesar de las diferentes y constantes dificultades de indisponibilidd del aplicativo LIFEZISE o solicitudes de apoyo que se presentan en todo lo que tiene que ver con  AUDIENCIAS en  Chocó, se realizaron las gestiones de apoyo y se logra mantener el servicio disponible en los Juzgados."]
[null,null,null,null,{"$f":"IFERROR(GESTION!H37,\" \")","v":0},{"$f":"IFERROR(GESTION!I37,\" \")","v":0},{"$f":"IFERROR(GESTION!J37,\" \")","v":0},null,"",null," "]
[null,null,null,null,{"$f":"IFERROR(GESTION!H38,\" \")","v":0},{"$f":"IFERROR(GESTION!I38,\" \")","v":0},{"$f":"IFERROR(GESTION!J38,\" \")","v":0},null,{"$f":"IFERROR(H38/G38,\"\")","v":""},null," "]
[null,null,null,null,{"$f":"IFERROR(GESTION!H39,\" \")","v":0},{"$f":"IFERROR(GESTION!I39,\" \")","v":0},{"$f":"IFERROR(GESTION!J39,\" \")","v":0},null,"",null," "]
[null,null,null,null,{"$f":"IFERROR(GESTION!H40,\" \")","v":0},{"$f":"IFERROR(GESTION!I40,\" \")","v":0},{"$f":"IFERROR(GESTION!J40,\" \")","v":0},null,"",null," "]
[null,null,"3. Fortalecer las capacidades institucionales, adecuar el modelo operativo y de servicio, bajo un enfoque de Arquitectura Empresarial y de fortalecimiento del acceso a la justicia.",null,{"$f":"IFERROR(GESTION!H41,\" \")","v":"Fortalecer el conocimiento del servidor judicial, en cuanto al funconamiento y organizacion de la entidad, y del sistema Integrado de Gestion de la Calidad"},{"$f":"IFERROR(GESTION!I41,\" \")","v":"Entregable"},{"$f":"IFERROR(GESTION!J41,\" \")","v":0},null,"",null,"El en emes de junio de 2023, con el apoyo de la ARL, la Oficina de Coordinacion Administrativa y el Consejo Seccional, se dearrollo la actividad, en la que participaron servicores judiciales de los diferentes distritos."]
[null,null,null,null,{"$f":"IFERROR(GESTION!H42,\" \")","v":"Implementar programas de bienestar social en asocio con la Caja de compensación Familiar - CONFACHOCO"},{"$f":"IFERROR(GESTION!I42,\" \")","v":"Entregable"},{"$f":"IFERROR(GESTION!J42,\" \")","v":0},null,"",null,"Se elaboro el contrato y se inicio su ejecucion - se adelantaron los juegos nacionesla (luegar - participantes)"]
[null,null,null,null,{"$f":"IFERROR(GESTION!H43,\" \")","v":"Adelantar el diagnostico de competencias a los servidores judiciales del distrito"},{"$f":"IFERROR(GESTION!I43,\" \")","v":"Entregable"},{"$f":"IFERROR(GESTION!J43,\" \")","v":0},null,"",null,"Durante el mes de mayo de 2023, se adelanto el diagnostico de competencias de los servidores judiciales vinculados a la fecha. "]
[null,null,null,null,{"$f":"IFERROR(GESTION!H44,\" \")","v":"Verificacion del cumplimiento de los requisitos de los servidores a vincular"},{"$f":"IFERROR(GESTION!I44,\" \")","v":"Entregable"},{"$f":"IFERROR(GESTION!J44,\" \")","v":0},null,"",null,"En este trismestre se verificaron los requisitos de xx servdiores - todos cumplieron el requisito minimo para desempeñar las funciones del cargo. "]
[null,null,null,null,{"$f":"IFERROR(GESTION!H45,\" \")","v":"Tramitar ante la Direccion Seccional de medellin, las quejas por inconsistencia o no pago oportunida de la nominada"},{"$f":"IFERROR(GESTION!I45,\" \")","v":"Entregable"},{"$f":"IFERROR(GESTION!J45,\" \")","v":0},null,"",null,"Durante este trimestre fueron radicadas xxx quejas de nominadas, y todas fueron remitidas ante la direccion seccional"]
[null,null,"4.Consolidar la cultura y apropiación de la transformación digital en los servidores y usuarios de los servicios de la Rama Judicial y reducir brechas de acceso y conocimiento, incluyendo la oferta efectiva de información sobre el uso de las nuevas herramientas virtuales implementadas en las diferentes jurisdicciones, con especial énfasis en las zonas del país donde es evidente la brecha digital.",null,{"$f":"IFERROR(GESTION!H46,\" \")","v":"Seguimiento al ausentimos laboral por incapacidad y accidente de trabajo"},{"$f":"IFERROR(GESTION!I46,\" \")","v":"Entregable"},{"$f":"IFERROR(GESTION!J46,\" \")","v":0},null,"",null,"el ausentismo fue bajo, se presentaron xx de los cuales xx fueron por incapcidad comun o xx por accidentes laborales. "]
[null,null,null,null,{"$f":"IFERROR(GESTION!H47,\" \")","v":0},{"$f":"IFERROR(GESTION!I47,\" \")","v":0},{"$f":"IFERROR(GESTION!J47,\" \")","v":0},null,"",null," "]
[null,null,null,null,{"$f":"IFERROR(GESTION!H48,\" \")","v":0},{"$f":"IFERROR(GESTION!I48,\" \")","v":0},{"$f":"IFERROR(GESTION!J48,\" \")","v":0},null,"",null," "]
[null,null,null,null,{"$f":"IFERROR(GESTION!H49,\" \")","v":"Incentivar y Verificar el uso de los aplicativos virtuales en los despachos judiciales, dispuestos por el Consejo Superior de la Judicatura"},{"$f":"IFERROR(GESTION!I49,\" \")","v":"Entregable"},{"$f":"IFERROR(GESTION!J49,\" \")","v":0},null,"",null,"el seguimiento se realiza en desarrollo de las visitas administrativas"]
[null,null,null,null,{"$f":"IFERROR(GESTION!H50,\" \")","v":0},{"$f":"IFERROR(GESTION!I50,\" \")","v":0},{"$f":"IFERROR(GESTION!J50,\" \")","v":0},null,"",null," "]
[null,null,"5.Consolidar la infraestructura y los recursos necesarios para la implementación exitosa de la transformación digital, incluyendo la disposición de internet de calidad en el 100% de las sedes en la Rama Judicial y modernizar los servicios tecnológicos de soporte. ",null,{"$f":"IFERROR(GESTION!H51,\" \")","v":0},{"$f":"IFERROR(GESTION!I51,\" \")","v":0},{"$f":"IFERROR(GESTION!J51,\" \")","v":0},null,"",null," "]
[null,null,null,null,{"$f":"IFERROR(GESTION!H52,\" \")","v":0},{"$f":"IFERROR(GESTION!I52,\" \")","v":0},{"$f":"IFERROR(GESTION!J52,\" \")","v":0},null,"",null," "]
[null,null,null,null,{"$f":"IFERROR(GESTION!H53,\" \")","v":0},{"$f":"IFERROR(GESTION!I53,\" \")","v":0},{"$f":"IFERROR(GESTION!J53,\" \")","v":0},null,"",null," "]
[null,null,null,null,{"$f":"IFERROR(GESTION!H54,\" \")","v":0},{"$f":"IFERROR(GESTION!I54,\" \")","v":0},{"$f":"IFERROR(GESTION!J54,\" \")","v":0},null,"",null," "]
[null,null,null,null,{"$f":"IFERROR(GESTION!H55,\" \")","v":0},{"$f":"IFERROR(GESTION!I55,\" \")","v":0},{"$f":"IFERROR(GESTION!J55,\" \")","v":0},null,"",null," "]
[null,null,"6.Integrar y optimizar los servicios administrativos de la Rama Judicial bajo un enfoque de transformación digital e innovación incluyendo los componentes financiero, administrativo, talento humano, entre otros",null,{"$f":"IFERROR(GESTION!H56,\" \")","v":0},{"$f":"IFERROR(GESTION!I56,\" \")","v":0},{"$f":"IFERROR(GESTION!J56,\" \")","v":0},null,"",null," "]
[null,null,null,null,{"$f":"IFERROR(GESTION!H57,\" \")","v":0},{"$f":"IFERROR(GESTION!I57,\" \")","v":0},{"$f":"IFERROR(GESTION!J57,\" \")","v":0},null,"",null," "]
[null,null,null,null,{"$f":"IFERROR(GESTION!H58,\" \")","v":0},{"$f":"IFERROR(GESTION!I58,\" \")","v":0},{"$f":"IFERROR(GESTION!J58,\" \")","v":0},null,"",null," "]
[null,null,null,null,{"$f":"IFERROR(GESTION!H59,\" \")","v":0},{"$f":"IFERROR(GESTION!I59,\" \")","v":0},{"$f":"IFERROR(GESTION!J59,\" \")","v":0},null,"",null," "]
[null,null,null,null,{"$f":"IFERROR(GESTION!H60,\" \")","v":0},{"$f":"IFERROR(GESTION!I60,\" \")","v":0},{"$f":"IFERROR(GESTION!J60,\" \")","v":0},null,"",null," "]
["3. Confianza pública, transparencia y rendición de cuentas","Confianza pública, transparencia y rendición de cuentas: Aumentar la confianza pública en la justicia a través de la transparencia, la rendición de cuentas y la participación, incluyendo la información de justicia y la producción, gestión y acceso a las fuentes de derecho, el fortalecimiento del sistema de gestión de calidad y medio ambiente (SIGCMA) y el mejoramiento de la calidad y publicidad de la información. ","1. Incrementar la cantidad, la calidad y pertinencia de los datos sobre el funcionamiento del servicio de justicia bajo un modelo de gobierno de datos y un liderazgo unificado. ","4. Hacer un uso racional de los recursos naturales aplicando los principios y fases de la Economía Circular, para prevenir, mitigar y controlar los impactos ambientales.",{"$f":"IFERROR(GESTION!H61,\" \")","v":0},{"$f":"IFERROR(GESTION!I61,\" \")","v":0},{"$f":"IFERROR(GESTION!J61,\" \")","v":0},null,"",null," "]
[null,null,null,null,{"$f":"IFERROR(GESTION!H62,\" \")","v":"\nRealizar y remitirel  informe Estadistico a la UDAE\n"},{"$f":"IFERROR(GESTION!I62,\" \")","v":"Entregable"},{"$f":"IFERROR(GESTION!J62,\" \")","v":0},null,"",null,"se realizo en el primer trimestre de 2023"]
[null,null,null,null,{"$f":"IFERROR(GESTION!H63,\" \")","v":"Realizar Vigilancia Judicial Administrativa, de oficio o petición de partes"},{"$f":"IFERROR(GESTION!I63,\" \")","v":"Entregable"},{"$f":"IFERROR(GESTION!J63,\" \")","v":0},null,"",null,"se recibieron 43 solicitudes de vigilancias, mismas que fueron trámitadas oportunamente."]
[null,null,null,null,{"$f":"IFERROR(GESTION!H64,\" \")","v":"Atender las QR&S, recibidas"},{"$f":"IFERROR(GESTION!I64,\" \")","v":"Entregable"},{"$f":"IFERROR(GESTION!J64,\" \")","v":0},null,"",null,"fueron recibidas y tramitados 6 derechos de peticiones"]
[null,null,null,null,{"$f":"IFERROR(GESTION!H65,\" \")","v":0},{"$f":"IFERROR(GESTION!I65,\" \")","v":0},{"$f":"IFERROR(GESTION!J65,\" \")","v":0},null,"",null," "]
[null,null,"2. Consolidar la administración de la información entendida como todas las acciones rientadas a garantizar el acceso, consulta, uso y conservación de la información de justicia de manera ágil, flexible e inteligente, bajo un enfoque de innovación.",null,{"$f":"IFERROR(GESTION!H66,\" \")","v":0},{"$f":"IFERROR(GESTION!I66,\" \")","v":0},{"$f":"IFERROR(GESTION!J66,\" \")","v":0},null,"",null," "]
[null,null,null,null,{"$f":"IFERROR(GESTION!H67,\" \")","v":0},{"$f":"IFERROR(GESTION!I67,\" \")","v":0},{"$f":"IFERROR(GESTION!J67,\" \")","v":0},null,"",null," "]
[null,null,null,null,{"$f":"IFERROR(GESTION!H68,\" \")","v":0},{"$f":"IFERROR(GESTION!I68,\" \")","v":0},{"$f":"IFERROR(GESTION!J68,\" \")","v":0},null,"",null," "]
[null,null,null,null,{"$f":"IFERROR(GESTION!H69,\" \")","v":0},{"$f":"IFERROR(GESTION!I69,\" \")","v":0},{"$f":"IFERROR(GESTION!J69,\" \")","v":0},null,"",null," "]
[null,null,null,null,{"$f":"IFERROR(GESTION!H70,\" \")","v":0},{"$f":"IFERROR(GESTION!I70,\" \")","v":0},{"$f":"IFERROR(GESTION!J70,\" \")","v":0},null,{"$f":"IFERROR(H70/G70,\"\")","v":""},null," "]
[null,null,"3. Fortalecer el Sistema integrado de Gestión de la Rama, orientado a la implementación y certificación de las normas antisoborno.","1. Gestionar el desarrollo de las competencias, la toma de conciencia , la cultura  organizacional  y el compromiso de los  servidores judiciales, contratistas, practicantes y  judicantes de contribuir a generar valor público en la administración de justicia, en el marco de  cumplimiento de los requisitos  aplicables y el comportamiento ético.\n3. Fomentar la transparencia y la participación generando lineamientos y promoviendo la rendición de cuentas ,la consulta, reporte y planteamiento de inquietudes en relación con las decisiones y aspectos del SIGCMA.",{"$f":"IFERROR(GESTION!H71,\" \")","v":0},{"$f":"IFERROR(GESTION!I71,\" \")","v":0},{"$f":"IFERROR(GESTION!J71,\" \")","v":0},null,"",null," "]
[null,null,null,null,{"$f":"IFERROR(GESTION!H72,\" \")","v":0},{"$f":"IFERROR(GESTION!I72,\" \")","v":0},{"$f":"IFERROR(GESTION!J72,\" \")","v":0},null,"",null," "]
[null,null,null,null,{"$f":"IFERROR(GESTION!H73,\" \")","v":0},{"$f":"IFERROR(GESTION!I73,\" \")","v":0},{"$f":"IFERROR(GESTION!J73,\" \")","v":0},null,"",null," "]
[null,null,null,null,{"$f":"IFERROR(GESTION!H74,\" \")","v":0},{"$f":"IFERROR(GESTION!I74,\" \")","v":0},{"$f":"IFERROR(GESTION!J74,\" \")","v":0},null,"",null," "]
[null,null,null,null,{"$f":"IFERROR(GESTION!H75,\" \")","v":0},{"$f":"IFERROR(GESTION!I75,\" \")","v":0},{"$f":"IFERROR(GESTION!J75,\" \")","v":0},null,"",null," "]
[null,null,"4. Aumentar la confianza, la cercanía y acceso a los servicios de la Rama Judicial a través, entre otros, de una comunicación clara y asertiva con la ciudadanía.","3. Fomentar la transparencia y la participación generando lineamientos y promoviendo la rendición de cuentas ,la consulta, reporte y planteamiento de inquietudes en relación con las decisiones y aspectos del SIGCMA.",{"$f":"IFERROR(GESTION!H76,\" \")","v":"Consolidar y hacer seguimiento en reuniones trimestrales, al plan de accion de los Procesos del SIGCMA"},{"$f":"IFERROR(GESTION!I76,\" \")","v":"Entregable"},{"$f":"IFERROR(GESTION!J76,\" \")","v":0},null,"",null,"se realizó reunión el 24/04/2023"]
[null,null,null,null,{"$f":"IFERROR(GESTION!H77,\" \")","v":"Elaborar semestralmente el Boletín SIGCMA"},{"$f":"IFERROR(GESTION!I77,\" \")","v":"Entregable"},{"$f":"IFERROR(GESTION!J77,\" \")","v":0},null,"",null,"se elaboro boletín SIGCMA "]
[null,null,null,null,{"$f":"IFERROR(GESTION!H78,\" \")","v":"Elaborar trimestralmente boletín con perspectiva de género"},{"$f":"IFERROR(GESTION!I78,\" \")","v":"Entregable"},{"$f":"IFERROR(GESTION!J78,\" \")","v":0},null,"",null,"Se elaboró Boletín No. II de Género"]
[null,null,null,null,{"$f":"IFERROR(GESTION!H79,\" \")","v":0},{"$f":"IFERROR(GESTION!I79,\" \")","v":0},{"$f":"IFERROR(GESTION!J79,\" \")","v":0},null,""]
[null,null,null,null,{"$f":"IFERROR(GESTION!H80,\" \")","v":0},{"$f":"IFERROR(GESTION!I80,\" \")","v":0},{"$f":"IFERROR(GESTION!J80,\" \")","v":0},null,"",null," "]
[null,null,"5. Prevenir fenómenos asociados con actos de corrupción en la Rama Judicial y reducir las experiencias de corrupción de usuarios y servidores judiciales.",null,{"$f":"IFERROR(GESTION!H81,\" \")","v":0},{"$f":"IFERROR(GESTION!I81,\" \")","v":0},{"$f":"IFERROR(GESTION!J81,\" \")","v":0},null,"",null," "]
[null,null,null,null,{"$f":"IFERROR(GESTION!H82,\" \")","v":0},{"$f":"IFERROR(GESTION!I82,\" \")","v":0},{"$f":"IFERROR(GESTION!J82,\" \")","v":0},null,"",null," "]
[null,null,null,null,{"$f":"IFERROR(GESTION!H83,\" \")","v":0},{"$f":"IFERROR(GESTION!I83,\" \")","v":0},{"$f":"IFERROR(GESTION!J83,\" \")","v":0},null,"",null," "]
[null,null,null,null,{"$f":"IFERROR(GESTION!H84,\" \")","v":0},{"$f":"IFERROR(GESTION!I84,\" \")","v":0},{"$f":"IFERROR(GESTION!J84,\" \")","v":0},null,"",null," "]
[null,null,null,null,{"$f":"IFERROR(GESTION!H85,\" \")","v":0},{"$f":"IFERROR(GESTION!I85,\" \")","v":0},{"$f":"IFERROR(GESTION!J85,\" \")","v":0},null,"",null," "]
[null,null,"6. Promover la rendición de cuentas y la colaboración real con la ciudadanía como fundamento para diseñar acciones de mejoramiento del acceso a la justicia.",null,{"$f":"IFERROR(GESTION!H86,\" \")","v":"Desarrollar las actividades  para la oportuna elaboración del informe anual de gestión y audiencia pública de rendición de cuentas del Consejo Seccional de la Judicatura del Chocó y la Coordinación Administrativa de Quibdó"},{"$f":"IFERROR(GESTION!I86,\" \")","v":"Entregable"},{"$f":"IFERROR(GESTION!J86,\" \")","v":0},null,"",null,"esta actividad se realizó en el primer trimestre"]
[null,null,null,null,{"$f":"IFERROR(GESTION!H87,\" \")","v":"Actualizar la lista de Auxiliares de la Justicia del Distrito Judicial de Quibdó y Administrativo del Chocó con las novedades que se presenten                                             "},{"$f":"IFERROR(GESTION!I87,\" \")","v":"Entregable"},{"$f":"IFERROR(GESTION!J87,\" \")","v":0},null,"","No se presentaron dificultades para la publicación y entrada en vigencia de la nueva lista de Auxiliares de la Justicia"," Mediante la Circular OAJ-CAQ-011 del 1 de abril de 2023, se publicó la lista de Auxiliares de la Justcia que regirá durante el periodo 1 de abril de 2023 a 31 de marzo de 2025"]
[null,null,null,null,{"$f":"IFERROR(GESTION!H88,\" \")","v":"Atender los requerimientos presentados por los usuarios internos y externos del servicio de justicia en relación con la lista de auxiliares de la justicia."},{"$f":"IFERROR(GESTION!I88,\" \")","v":"Entregable"},{"$f":"IFERROR(GESTION!J88,\" \")","v":0},null,"","No se presentaron dificultades para suministrar las respuestas a los requerimientos relacionados con la lista de Auxiliaresd ela Justicia","Se atendieron satisfactoriamente 5 requerimientos relacionados con la lista de Auxiliares de la Justicia"]
[null,null,null,null,{"$f":"IFERROR(GESTION!H89,\" \")","v":"Implementar el programa de gestión documental. Recibir las transferencias documentales de los despachos judiciales de la sede Quibdó    Responder las solicitudes de desarchive presentadas por usuarios internos y externos de la Rama Judicial"},{"$f":"IFERROR(GESTION!I89,\" \")","v":"Entregable"},{"$f":"IFERROR(GESTION!J89,\" \")","v":0},null,"","Se presentaron dificultades en la planta física del archivo central, que hiceron un poco traumático el proceso de busqueda y desarchivo en forma hágil de algunos expedientes","Se atendieron satisfactoriamente 91 solicitudes presentadas por usuarios internos y externos del servicio de justicia, relacionadas con procesos que se encuentran bajo la custodia del Archivo central.                                                    Se brindó capacitación a cargo de profesionales del CENDOJ en el tema de Tablas de Retención documental, a los funcionarios y servidores de los despachos judiciales y dependencias administrativas del Distrito Judicial de Quibdó y Administrativo del Chocó."]
[null,null,null,null,{"$f":"IFERROR(GESTION!H90,\" \")","v":0},{"$f":"IFERROR(GESTION!I90,\" \")","v":0},{"$f":"IFERROR(GESTION!J90,\" \")","v":0},null,"",null,"Se reorganizaron 400 cajas contentivas de transferencias documentales"]
[null,null,"7. Continuar la consolidación del SIGCMA, a través de los procesos de formación en modelos de gestión, logrando la implementación y ampliación de este en los esquemas certificados de manera gradual, teniendo en cuenta las capacidades de los diferentes despachos judiciales y dependencias de la Rama Judicial y articulando el enfoque de Arquitectura Empresarial para el desarrollo del PETD a través de la gestión del conocimiento para la gestión del cambio propendiendo por una cultura de la calidad, la transparencia, la rendición de cuentas, la anticorrupción y el antisoborno","1. Gestionar el desarrollo de las competencias, la toma de conciencia , la cultura  organizacional  y el compromiso de los  servidores judiciales, contratistas, practicantes y  judicantes de contribuir a generar valor público en la administración de justicia, en el marco de  cumplimiento de los requisitos  aplicables y el comportamiento ético.\n4. Hacer un uso racional de los recursos naturales aplicando los principios y fases de la Economía Circular, para prevenir, mitigar y controlar los impactos ambientales.",{"$f":"IFERROR(GESTION!H91,\" \")","v":0},{"$f":"IFERROR(GESTION!I91,\" \")","v":0},{"$f":"IFERROR(GESTION!J91,\" \")","v":0},null,"",null," "]
[null,null,null,null,{"$f":"IFERROR(GESTION!H92,\" \")","v":"Fomentar mediante circular la Planeación estrategica de los despachos judiciales del Distrito Judicial de Quibdó"},{"$f":"IFERROR(GESTION!I92,\" \")","v":"Entregable"},{"$f":"IFERROR(GESTION!J92,\" \")","v":0},null,"",null,"Se elaboro circular en el primer trimestre, empero durante las visitas se realiza seguimiento"]
[null,null,null,null,{"$f":"IFERROR(GESTION!H93,\" \")","v":0},{"$f":"IFERROR(GESTION!I93,\" \")","v":0},{"$f":"IFERROR(GESTION!J93,\" \")","v":0},null,"",null," "]
[null,null,null,null,{"$f":"IFERROR(GESTION!H94,\" \")","v":0},{"$f":"IFERROR(GESTION!I94,\" \")","v":0},{"$f":"IFERROR(GESTION!J94,\" \")","v":0},null,"",null," "]
[null,null,null,null,{"$f":"IFERROR(GESTION!H95,\" \")","v":0},{"$f":"IFERROR(GESTION!I95,\" \")","v":0},{"$f":"IFERROR(GESTION!J95,\" \")","v":0},null,"",null," "]
["4. Talento Humano","Talento Humano: Fortalecer el talento humano en la Rama Judicial para que sea eficiente, capacitado y realice su labor en ambientes saludables y seguros. Ampliar la cobertura de la carrera judicial y mejorar la oferta de formación, que esté disponible para todos los servidores judiciales e impacte positivamente el servicio de justicia y responda a las necesidades reales del ejercicio de la función judicial.","1. Ampliar la cobertura de la carrera judicial optimizando los procesos de los concursos de méritos y propender por mitigar su litigiosidad.","1. Gestionar el desarrollo de las competencias, la toma de conciencia , la cultura  organizacional  y el compromiso de los  servidores judiciales, contratistas, practicantes y  judicantes de contribuir a generar valor público en la administración de justicia, en el marco de  cumplimiento de los requisitos  aplicables y el comportamiento ético.",{"$f":"IFERROR(GESTION!H96,\" \")","v":"Desarrollar labor pedagógica y de control para obtener oportunamente de los tribunales y jueces de instancia  el insumo para  consolidar el factor  calidad."},{"$f":"IFERROR(GESTION!I96,\" \")","v":"Entregable"},{"$f":"IFERROR(GESTION!J96,\" \")","v":0},null,"",null,"Se elaboro circular en el primer trimestre, empero durante las visitas se realiza seguimiento"]
[null,null,null,null,{"$f":"IFERROR(GESTION!H97,\" \")","v":"Administrar la información de las calificaciones de servicios de los servidores judiciales del Distrito"},{"$f":"IFERROR(GESTION!I97,\" \")","v":"Entregable"},{"$f":"IFERROR(GESTION!J97,\" \")","v":0},null,"",null,"en esta oportunidad, se atendieron 3 peticiones relacionadas con calificacion de servicios"]
[null,null,null,null,{"$f":"IFERROR(GESTION!H98,\" \")","v":"Efectuar visita a los despachos de jueces con el objetivo de realizar la evaluaciónm de Factor Organización del Trabajo  (física o electrónica)"},{"$f":"IFERROR(GESTION!I98,\" \")","v":"Entregable"},{"$f":"IFERROR(GESTION!J98,\" \")","v":0},null,"",null,"se adelantaron conforme agenda de las magistradas"]
[null,null,null,null,{"$f":"IFERROR(GESTION!H99,\" \")","v":"Realizar supervisión del reporte oportuno de vacantes para la correcta publicación, durante los primeros 5 días del mes de las vacantes"},{"$f":"IFERROR(GESTION!I99,\" \")","v":"Entregable"},{"$f":"IFERROR(GESTION!J99,\" \")","v":0},null,"",null,"se realiza seguimiento en las sesiones de ordinarias"]
[null,null,null,null,{"$f":"IFERROR(GESTION!H100,\" \")","v":"Consolidar la Calificación Integral de Servicios de Jueces y remitir a la Unidad de Administración de Carrera Judicial (Acuerdo PSAA16-10618)"},{"$f":"IFERROR(GESTION!I100,\" \")","v":"Entregable"},{"$f":"IFERROR(GESTION!J100,\" \")","v":0},null,"",null,"Esta actividad tiene como fecha límite el 31 de agosto de la presente vigencia. Sin embargo, se han adelantado las visitas para la calificación del factor calidad y se ha consolidado el factor calidad ."]
[null,null,"2. Impactar la función y servicios que presta la Rama Judicial, a través de una formación integral desde una visión de gestión del conocimiento, relacionada con los problemas de la justicia y los problemas de gestión de quienes administran los recursos de la justicia, y potenciando el uso de medios virtuales.",null,{"$f":"IFERROR(GESTION!H101,\" \")","v":"    Estudiar y emitir concepto sobre las solicitudes de traslado que sean de competencia de este Consejo Seccional que presenten Jueces y Empleados"},{"$f":"IFERROR(GESTION!I101,\" \")","v":"Entregable"},{"$f":"IFERROR(GESTION!J101,\" \")","v":0},null,"",null,"no se presentaron solicitudes de traslado"]
[null,null,null,null,{"$f":"IFERROR(GESTION!H102,\" \")","v":" Remitir al final de cada mes a la Unidad de Carrera Judicial las vacantes de jueces e informar  sobre el agotamiento de las listas de candidatos"},{"$f":"IFERROR(GESTION!I102,\" \")","v":"Entregable"},{"$f":"IFERROR(GESTION!J102,\" \")","v":0},null,{"$f":"IFERROR(H102/G102,\"\")","v":""},null,"Se remitieron los tres informes correspondietes."]
[null,null,null,null,{"$f":"IFERROR(GESTION!H103,\" \")","v":"Efectuar visita a los despachos de magistrados, conforme la delegación del Consejo Superior de la Judicatura, con el objetivo de verificar el Factor Organización del Trabajo  (física o electrónica)."},{"$f":"IFERROR(GESTION!I103,\" \")","v":"Entregable"},{"$f":"IFERROR(GESTION!J103,\" \")","v":0},null,"",null,"Se realizaron las visitas correspondientes al cronograma del primer trimestre."]
[null,null,null,null,{"$f":"IFERROR(GESTION!H104,\" \")","v":0},{"$f":"IFERROR(GESTION!I104,\" \")","v":0},{"$f":"IFERROR(GESTION!J104,\" \")","v":0},null,"",null," "]
[null,null,null,null,{"$f":"IFERROR(GESTION!H105,\" \")","v":0},{"$f":"IFERROR(GESTION!I105,\" \")","v":0},{"$f":"IFERROR(GESTION!J105,\" \")","v":0},null,"",null," "]
[null,null,"3. Promover la incorporación de la perspectiva de género y el enfoque diferencial en los fallos judiciales y en la atención a los ciudadanos, la administración de la Rama Judicial, la administración de la carrera judicial y la elaboración de listas para altas Cortes. ",null,{"$f":"IFERROR(GESTION!H106,\" \")","v":0},{"$f":"IFERROR(GESTION!I106,\" \")","v":0},{"$f":"IFERROR(GESTION!J106,\" \")","v":0},null,"",null," "]
[null,null,null,null,{"$f":"IFERROR(GESTION!H107,\" \")","v":0},{"$f":"IFERROR(GESTION!I107,\" \")","v":0},{"$f":"IFERROR(GESTION!J107,\" \")","v":0},null,"",null," "]
[null,null,null,null,{"$f":"IFERROR(GESTION!H108,\" \")","v":0},{"$f":"IFERROR(GESTION!I108,\" \")","v":0},{"$f":"IFERROR(GESTION!J108,\" \")","v":0},null,"",null," "]
[null,null,null,null,{"$f":"IFERROR(GESTION!H109,\" \")","v":0},{"$f":"IFERROR(GESTION!I109,\" \")","v":0},{"$f":"IFERROR(GESTION!J109,\" \")","v":0},null,"",null," "]
[null,null,null,null,{"$f":"IFERROR(GESTION!H110,\" \")","v":0},{"$f":"IFERROR(GESTION!I110,\" \")","v":0},{"$f":"IFERROR(GESTION!J110,\" \")","v":0},null,"",null," "]
[null,null,"4. Desarrollar en los servidores judiciales y demás grupos de valor relevantes las competencias necesarias para la efectividad de la transformación digital de modo que puedan, entre otros, utilizar con solvencia las herramientas digitales dispuestas para sus respectivas funciones. Además, fortalecer y actualizar los conocimientos del personal a cargo de la gestión de proyectos de tecnología.",null,{"$f":"IFERROR(GESTION!H111,\" \")","v":" Recepcionar de las necesidades de Formación en el Grupo Seccional de Apoyo"},{"$f":"IFERROR(GESTION!I111,\" \")","v":"Entregable"},{"$f":"IFERROR(GESTION!J111,\" \")","v":0},null,"",null,"No se han manifestado necesidades de capacitación en el desarrollo de las sesiones del Grupo Seccional de Apoyo"]
[null,null,null,null,{"$f":"IFERROR(GESTION!H112,\" \")","v":"Recibir y divulgar las capacitaciones programadas por la Escuela Judicial Rodrigo Lara Bonilla"},{"$f":"IFERROR(GESTION!I112,\" \")","v":"Entregable"},{"$f":"IFERROR(GESTION!J112,\" \")","v":0},null,"",null,"Conforme se recibe la oferta académica se divulga a través de circular."]
[null,null,null,null,{"$f":"IFERROR(GESTION!H113,\" \")","v":"Gestionar espacios para capacitaciones que se realicen en la seccional (usuario interno y externo) (Comité Seccional de Género / Comité Justicia Restaurativa / Mesa Interjurisdicional Indígena)"},{"$f":"IFERROR(GESTION!I113,\" \")","v":"Entregable"},{"$f":"IFERROR(GESTION!J113,\" \")","v":0},null,"",null,"Fueron programadas para el segundo trimestre"]
[null,null,null,null,{"$f":"IFERROR(GESTION!H114,\" \")","v":"Planear y ejecutar el plan de trabajo de SG-SST Seccional vigencia 2023 con apoyo de los aliados estrategicos"},{"$f":"IFERROR(GESTION!I114,\" \")","v":"Meta cuantificable"},{"$f":"IFERROR(GESTION!J114,\" \")","v":152},62,0.40789473684210525,"Se desarrollo las diferentes actividades del plan y se logro una muy buena cobertura por parte de los servidores judiciales.","En el segundo trimestre del año 2023 se avanzó en un 51 % de cumplimiento de las actividades establecidas en el plan de trabajo de un 100% de actividades proyectadas.y 62 % en la cobertura."]
[null,null,null,null,{"$f":"IFERROR(GESTION!H115,\" \")","v":"Proyectar, programar y ejecutar actividades  en pro de la seguridad y salud en el trabajo de la población judicial de acuerdo al presupuesto asignado"},{"$f":"IFERROR(GESTION!I115,\" \")","v":"Meta cuantificable"},{"$f":"IFERROR(GESTION!J115,\" \")","v":201674200},131800000,0.6535293061779841,"Se elaboro el contrato de buenestar y se esta ejecutando ","En el segundo semestre del año 2023 se avanzó en un 65% de avance en la ejecución de presupuesto de los proyectos de inversión de un 100% proyectado. Teniendo en cuenta que ya se realizo el contrato de bienestar que es el contrato que mayor presupuesto tiene a ejecutar."]
[null,null,"5. Promover el bienestar de todos los servidores judiciales a través de la implementación de un sistema que contemple los diferentes niveles de estrategias y acciones necesarios para mejorar el clima laboral, la salud física y mental y la calidad del tiempo de descanso.","5. Generar espacios de trabajo seguros y saludables que contribuyan a minimizar los  incidentes, accidentes y enfermedades laborales derivados de las condiciones y actos  inseguros y fomentar  el autocuidado, los  estilos de vida y el trabajo saludable en los servidores judiciales, contratistas, judicantes y practicantes",{"$f":"IFERROR(GESTION!H116,\" \")","v":"Ejecutar inspecciones técnicas de seguridad integral, matrices de identificación de peligros y planes de emergencias a las sedes judiciales"},{"$f":"IFERROR(GESTION!I116,\" \")","v":"Meta cuantificable"},{"$f":"IFERROR(GESTION!J116,\" \")","v":35},23,0.65714285714285714,"Se logro realizar un 66%  porciento de las matrices.","En el segundo semestre del año 2023 se ha avenzado en un 66% de matrices de peligros,  Planes de emergencia e ispecciones de seguridad."]
[null,null,null,null,{"$f":"IFERROR(GESTION!H117,\" \")","v":"Implementar mecanismos para la retroalimentación de las  partes interesadas"},{"$f":"IFERROR(GESTION!I117,\" \")","v":"Entregable"},{"$f":"IFERROR(GESTION!J117,\" \")","v":0},null,"","Se desarrollo la induccion y Reinduccion  a los servidores Judiciales.","Serealizo la actividad de induccion y Reinduccion."]
[null,null,null,null,{"$f":"IFERROR(GESTION!H118,\" \")","v":"Solicitar apoyo al CENDOJ para realización de capacitaciones en tablas de retención documental (TRD)"},{"$f":"IFERROR(GESTION!I118,\" \")","v":"Entregable"},{"$f":"IFERROR(GESTION!J118,\" \")","v":0},null,"",null," "]
[null,null,null,null,{"$f":"IFERROR(GESTION!H119,\" \")","v":"Hacer uso de la información y de las herramientas tecnológicas dispuestas para la prestación del servicios"},{"$f":"IFERROR(GESTION!I119,\" \")","v":"Entregable"},{"$f":"IFERROR(GESTION!J119,\" \")","v":0},null,"",null," "]
[null,null,null,null,{"$f":"IFERROR(GESTION!H120,\" \")","v":"Participar en reuniones según programación por parte el SIGCMA para la presentación y aprobación de documentos del proceso de SG-SST"},{"$f":"IFERROR(GESTION!I120,\" \")","v":"Entregable"},{"$f":"IFERROR(GESTION!J120,\" \")","v":0},null,"",null,"se realizó una reunión de seguimiento 24/04/2023"]
["5. Gobernanza, planeación estratégica y capacidad de toma de decisiones","Gobernanza, planeación estratégica y capacidad de toma de decisiones: Fortalecer la gobernanza, la planeación estratégica y la capacidad de toma de decisiones de la Rama Judicial con base en la evidencia empírica y la articulación efectiva con las demás entidades, para que la perspectiva de género y el enfoque diferencial sean transversales en el presente plan. ","1. Implementar un nuevo modelo integrado para la planeación estratégica, el seguimiento y la medición del desempeño institucional.","2. Asegurar  el cumplimiento de los objetivos institucionales, la normatividad aplicable,  la mejora del SIGCMA y la satisfacción de los usuarios, revisando de  forma continua y sistemática la planificación de la gestión y fortaleciendo la administración de riesgos y sus controles.",{"$f":"IFERROR(GESTION!H121,\" \")","v":0},{"$f":"IFERROR(GESTION!I121,\" \")","v":0},{"$f":"IFERROR(GESTION!J121,\" \")","v":0},null,"",null," "]
[null,null,null,null,{"$f":"IFERROR(GESTION!H122,\" \")","v":"Elaborar el Informe de la Alta Dirección "},{"$f":"IFERROR(GESTION!I122,\" \")","v":"Entregable"},{"$f":"IFERROR(GESTION!J122,\" \")","v":0},null,"",null,"Se elaboró el 27/05/2023"]
[null,null,null,null,{"$f":"IFERROR(GESTION!H123,\" \")","v":"Participar en las reuniones de Control Interno Seccional "},{"$f":"IFERROR(GESTION!I123,\" \")","v":"Entregable"},{"$f":"IFERROR(GESTION!J123,\" \")","v":0},null,"",null,"No fue convocada sesión por parte de la Oficina de Control Interno de la DEJAC Antioquía. "]
[null,null,null,null,{"$f":"IFERROR(GESTION!H124,\" \")","v":0},{"$f":"IFERROR(GESTION!I124,\" \")","v":0},{"$f":"IFERROR(GESTION!J124,\" \")","v":0},null,"",null," "]
[null,null,null,null,{"$f":"IFERROR(GESTION!H125,\" \")","v":0},{"$f":"IFERROR(GESTION!I125,\" \")","v":0},{"$f":"IFERROR(GESTION!J125,\" \")","v":0},null,"",null," "]
[null,null,"2. Definir e implementar el modelo optimizado de formulación, seguimiento y evaluación de la política pública judicial.",null,{"$f":"IFERROR(GESTION!H126,\" \")","v":0},{"$f":"IFERROR(GESTION!I126,\" \")","v":0},{"$f":"IFERROR(GESTION!J126,\" \")","v":0},null,"",null," "]
[null,null,null,null,{"$f":"IFERROR(GESTION!H127,\" \")","v":0},{"$f":"IFERROR(GESTION!I127,\" \")","v":0},{"$f":"IFERROR(GESTION!J127,\" \")","v":0},null,"",null," "]
[null,null,null,null,{"$f":"IFERROR(GESTION!H128,\" \")","v":0},{"$f":"IFERROR(GESTION!I128,\" \")","v":0},{"$f":"IFERROR(GESTION!J128,\" \")","v":0},null,"",null," "]
[null,null,null,null,{"$f":"IFERROR(GESTION!H129,\" \")","v":0},{"$f":"IFERROR(GESTION!I129,\" \")","v":0},{"$f":"IFERROR(GESTION!J129,\" \")","v":0},null,"",null," "]
[null,null,null,null,{"$f":"IFERROR(GESTION!H130,\" \")","v":0},{"$f":"IFERROR(GESTION!I130,\" \")","v":0},{"$f":"IFERROR(GESTION!J130,\" \")","v":0},null,"",null," "]

{"sheet":"GESTION_SEG_3_TRIM","index":7,"n_rows":130,"n_cols":11,"rows_kept":130,"cut":false,"hidden":false,"merged":[[105,2,109,2],[110,2,114,2],[115,2,119,2],[115,3,119,3],[120,0,129,0],[120,1,129,1],[120,2,124,2],[120,3,129,3],[125,2,129,2],[95,0,119,0],[95,1,119,1],[95,2,99,2],[95,3,114,3],[100,2,104,2],[55,2,59,2],[60,0,94,0],[60,1,94,1],[60,2,64,2],[60,3,64,3],[65,2,69,2],[65,3,69,3],[70,2,74,2],[70,3,74,3],[75,2,79,2],[75,3,89,3],[80,2,84,2],[85,2,89,2],[90,2,94,2],[90,3,94,3],[25,2,29,2],[25,3,29,3],[30,0,59,0],[30,1,59,1],[30,2,34,2],[30,3,59,3],[35,2,39,2],[40,2,44,2],[45,2,49,2],[50,2,54,2],[5,0,29,0],[5,1,29,1],[5,2,9,2],[5,3,9,3],[10,2,14,2],[10,3,14,3],[15,2,19,2],[15,3,19,3],[20,2,24,2],[20,3,24,3],[1,0,1,10],[2,0,2,3],[2,4,2,9],[2,10,4,10],[3,0,4,1],[3,2,4,2],[3,3,4,3],[3,4,3,9]]}
[]
["CONSEJO SUPERIOR DE LA JUDICATURA \nUNIDADES MISIONALES DEL CONSEJO SUPERIOR DE LA JUDICATURA - \nDIRECCIÓN EJECUTIVA DE ADMINISTRACIÓN JUDICIAL - UNIDADES MISIONALES DE LA DEAJ\nDIRECCIONES SECCIONALES DE ADMINISTRACIÓN JUDICIAL - DEPENDENCIAS JUDICIALES CERTIFICADAS"]
["PLAN SECTORIAL DE DESARROLLO 2023-2026 - OBJETIVOS SIGCMA",null,null,null,null,null,null,null,null,null," ANÁLISIS RESULTADO"]
["OBJETIVO ESTRATÉGICO",null,"OBJETIVO ESPECÍFICO PSD","OBJETIVO ESPECÍFICO SIGCMA","MEDICIÓN DE LA GESTIÓN ANUAL"]
[null,null,null,null,"ACTIVIDADES ","INDIQUE SI ES ENTREGABLE O META CUANTIFICABLE","META ANUAL","AVANCE DE LA META ","NIVEL CUMPLIMIENTO","DIFICULTADES PARA LOGRAR LA META PROPUESTA"]
["1. Acceso e Infraestructura Física","Acceso e Infraestructura Física: Ampliar, en todo el territorio nacional, el acceso a una justicia efectiva, pronta, equitativa e incluyente, reduciendo el atraso y la congestión, de acuerdo con las necesidades de la demanda de justicia por jurisdicción y especialidad, y mejorando la articulación con la justicia restaurativa y terapéutica, y otros mecanismos de solución de conflictos y consolidando una infraestructura física óptima para el acceso a la justicia.","1. Ampliar el acceso a justicia para atender las necesidades jurídicas de los ciudadanos con un enfoque diferencial, de una manera pronta, reduciendo las inequidades y las brechas territoriales de acceso.","2. Asegurar  el cumplimiento de los objetivos institucionales, la normatividad aplicable,  la mejora del SIGCMA y la satisfacción de los usuarios, revisando de  forma continua y sistemática la planificación de la gestión y fortaleciendo la administración de riesgos y sus controles",{"$f":"IFERROR(GESTION!H6,\" \")","v":"Proyectar propuestas de reordenamiento y remitir para estudio y consideración del Consejo Superior de la Judicatura "},{"$f":"IFERROR(GESTION!I6,\" \")","v":"Entregable"},{"$f":"IFERROR(GESTION!J6,\" \")","v":0},null,{"$f":"IFERROR(H6/G6,\"\")","v":""},null,"Este trimestre no se elaborarón propuestad de reordenamiento"]
[null,null,null,null,{"$f":"IFERROR(GESTION!H7,\" \")","v":0},{"$f":"IFERROR(GESTION!I7,\" \")","v":0},{"$f":"IFERROR(GESTION!J7,\" \")","v":0},null,{"$f":"IFERROR(H7/G7,\"\")","v":""}]
[null,null,null,null,{"$f":"IFERROR(GESTION!H8,\" \")","v":"Adoptar medidas las  necesarias, conforme a delegación del Consejo Superior de la Judicatura."},{"$f":"IFERROR(GESTION!I8,\" \")","v":"Meta cuantificable"},{"$f":"IFERROR(GESTION!J8,\" \")","v":0},null,{"$f":"IFERROR(H8/G8,\"\")","v":""},null,"Se elaboraron 16 acuerdos de delegación de funciones"]
[null,null,null,null,{"$f":"IFERROR(GESTION!H9,\" \")","v":" "},{"$f":"IFERROR(GESTION!I9,\" \")","v":0},{"$f":"IFERROR(GESTION!J9,\" \")","v":0},null,{"$f":"IFERROR(H9/G9,\"\")","v":""}]
[null,null,null,null,{"$f":"IFERROR(GESTION!H10,\" \")","v":0},{"$f":"IFERROR(GESTION!I10,\" \")","v":0},{"$f":"IFERROR(GESTION!J10,\" \")","v":0},null,{"$f":"IFERROR(H10/G10,\"\")","v":""}]
[null,null,"2. Mejorar los tiempos de respuesta de la Rama Judicial y reducir el inventario de procesos, identificando los retos internos y promoviendo tanto acciones articuladas específicas para abordarlos como estrategias coordinadas para enfrentar las barreras que dependen de otras entidades.","2. Asegurar  el cumplimiento de los objetivos institucionales, la normatividad aplicable,  la mejora del SIGCMA y la satisfacción de los usuarios, revisando de  forma continua y sistemática la planificación de la gestión y fortaleciendo la administración de riesgos y sus controles",{"$f":"IFERROR(GESTION!H11,\" \")","v":"Realizar seguimiento, análisis y evaluacion de la información estadistica, reportada por todos los despachos judiciales\n"},{"$f":"IFERROR(GESTION!I11,\" \")","v":"Entregable"},{"$f":"IFERROR(GESTION!J11,\" \")","v":0},null,{"$f":"IFERROR(H11/G11,\"\")","v":""},null,"fueron atendidas todas las novedades del SIERJU. "]
[null,null,null,null,{"$f":"IFERROR(GESTION!H12,\" \")","v":"Registrar en el aplicativo EkoGui cada uno de los procesos y conciliaciones extrajudiciales recibidos; la provisión contable y las actuaciones desarrolladas. "},{"$f":"IFERROR(GESTION!I12,\" \")","v":"Entregable"},{"$f":"IFERROR(GESTION!J12,\" \")","v":0},null,{"$f":"IFERROR(H12/G12,\"\")","v":""},null,"Al corte del segundo trimestre se presentó el  segundo informe cuatrimestral con corte a 30 de agosto del pasivo contingente litigioso,  conforme al Memorando DEAJALM23-233 se estableció una modificación en la periodicidad de los informes, por lo tanto ya se presentarán cada 4 meses.  Se realizó la actualización de 137 actuaciones en el aplicativo eKogui, la radicación de 7 fichas para comité de conciliación. "]
[null,null,null,null,{"$f":"IFERROR(GESTION!H13,\" \")","v":"Presentar informes de gestión, de procesos (pasivo contingente litigioso, sentencias favorables a la nación vs desfavorables, repeticiones, procesos activos y terminados)."},{"$f":"IFERROR(GESTION!I13,\" \")","v":"Meta cuantificable"},{"$f":"IFERROR(GESTION!J13,\" \")","v":3},2,{"$f":"IFERROR(H13/G13,\"\")","v":0.66666666666666663},null,"Se presentaron los informes correspondientes, reportando para la fecha de corte 253 procesos activos en el pasivo (se recibieron 7 procesos nuevos y se terminaron 10)  , 12 sentencias favorables a la entidad, 5 sentencias desfavorables, 1 procesos de repetición activos. El nivel de cumplimiento es 3. ya que la meta son 4 informes al año."]
[null,null,null,null,{"$f":"IFERROR(GESTION!H14,\" \")","v":"Realizar y tramitar todos los requerimientos que llegan al área de asistencia legal como:  contestaciones, alegatos, llamamientos en garantía, asistencia a audiencias, realización de fichas, presentación de recursos etc) "},{"$f":"IFERROR(GESTION!I14,\" \")","v":"Entregable"},{"$f":"IFERROR(GESTION!J14,\" \")","v":0},null,{"$f":"IFERROR(H14/G14,\"\")","v":""},null,"Se atendieron 137 requerimientos"]
[null,null,null,null,{"$f":"IFERROR(GESTION!H15,\" \")","v":0},{"$f":"IFERROR(GESTION!I15,\" \")","v":0},{"$f":"IFERROR(GESTION!J15,\" \")","v":0},null,{"$f":"IFERROR(H15/G15,\"\")","v":""}]
[null,null,"3. Coadyuvar en la garantía de la idoneidad en el ejercicio de la profesión jurídica de acuerdo con lo establecido en la Ley 1905 de 2018","2. Asegurar  el cumplimiento de los objetivos institucionales, la normatividad aplicable,  la mejora del SIGCMA y la satisfacción de los usuarios, revisando de  forma continua y sistemática la planificación de la gestión y fortaleciendo la administración de riesgos y sus controles",{"$f":"IFERROR(GESTION!H16,\" \")","v":0},{"$f":"IFERROR(GESTION!I16,\" \")","v":0},{"$f":"IFERROR(GESTION!J16,\" \")","v":0},null,{"$f":"IFERROR(H16/G16,\"\")","v":""}]
[null,null,null,null,{"$f":"IFERROR(GESTION!H17,\" \")","v":0},{"$f":"IFERROR(GESTION!I17,\" \")","v":0},{"$f":"IFERROR(GESTION!J17,\" \")","v":0},null,{"$f":"IFERROR(H17/G17,\"\")","v":""}]
[null,null,null,null,{"$f":"IFERROR(GESTION!H18,\" \")","v":0},{"$f":"IFERROR(GESTION!I18,\" \")","v":0},{"$f":"IFERROR(GESTION!J18,\" \")","v":0},null,{"$f":"IFERROR(H18/G18,\"\")","v":""}]
[null,null,null,null,{"$f":"IFERROR(GESTION!H19,\" \")","v":0},{"$f":"IFERROR(GESTION!I19,\" \")","v":0},{"$f":"IFERROR(GESTION!J19,\" \")","v":0},null,{"$f":"IFERROR(H19/G19,\"\")","v":""}]
[null,null,null,null,{"$f":"IFERROR(GESTION!H20,\" \")","v":0},{"$f":"IFERROR(GESTION!I20,\" \")","v":0},{"$f":"IFERROR(GESTION!J20,\" \")","v":0},null,{"$f":"IFERROR(H20/G20,\"\")","v":""}]
[null,null,"4. Avanzar en la disposición de una infraestructura óptima para el acceso a la justicia en la Rama Judicial de modo que se fortalezca la presencia territorial, teniendo en cuenta las posibilidades que ofrece la transformación digital y las necesidades que se derivan de ella, y considerando tanto las necesidades de los usuarios como las de los servidores judiciales.","4. Hacer un uso racional de los recursos naturales aplicando los principios y fases de la Economía Circular, para prevenir, mitigar y controlar los impactos ambientales",{"$f":"IFERROR(GESTION!H21,\" \")","v":"Mejorar las condiciones locativas de la infraestructura física del Distrito Judicial de Distrito Judicial de Quibdo y Administrativo del Chocó "},{"$f":"IFERROR(GESTION!I21,\" \")","v":"Entregable"},{"$f":"IFERROR(GESTION!J21,\" \")","v":0},null,{"$f":"IFERROR(H21/G21,\"\")","v":""},null,"Las obras de infraestructura se encuentran en etapa precontractual a espera de la ejecucion de la consultoria de los procesos de Planta Fotovoltaica y Redes Hidrosanitarias. "]
[null,null,null,null,{"$f":"IFERROR(GESTION!H22,\" \")","v":"Realizar seguimiento a  la ejecución y cumplimiento de los contratos de Mejoramiento y  Mantenimiento de la Infraestructura Física del Distrito Judicial de Quibdo y Administrativo del Chocó "},{"$f":"IFERROR(GESTION!I22,\" \")","v":"Entregable"},{"$f":"IFERROR(GESTION!J22,\" \")","v":0},null,{"$f":"IFERROR(H22/G22,\"\")","v":""},null,"Esta planeada la ejecucion de estos procesos de acuerdo a los analisis entregados de la consultoria, proceso que aun esta en ejecucion."]
[null,null,null,null,{"$f":"IFERROR(GESTION!H23,\" \")","v":"Gestionar con los entes Territoriales la adquisicion de inmuebles a traves de donacion "},{"$f":"IFERROR(GESTION!I23,\" \")","v":"Entregable"},{"$f":"IFERROR(GESTION!J23,\" \")","v":0},null,{"$f":"IFERROR(H23/G23,\"\")","v":""},null,"A Tercer trismistre se avanza en la formalización de la escritura correpondiente al lote donado por la Alcaldía de Quibdó"]
[null,null,null,null,{"$f":"IFERROR(GESTION!H24,\" \")","v":"Elaborar Plan Anual de Necesidades para Mejoramiento y  Mantenimiento de la Infraestructura propia del sector"},{"$f":"IFERROR(GESTION!I24,\" \")","v":"Meta cuantificable"},{"$f":"IFERROR(GESTION!J24,\" \")","v":1},null,{"$f":"IFERROR(H24/G24,\"\")","v":0},null,"El plan de necesidades se presenta en el ultimo trimestre el año. "]
[null,null,null,null,{"$f":"IFERROR(GESTION!H25,\" \")","v":"Gestionar actividades preventivas y correctivas para el mantenimiento de los vehículos automotores  adscritos a los  despachos judiciales y dependencias administrativa de la Seccional cumpiendo con los esquemas de seguridad."},{"$f":"IFERROR(GESTION!I25,\" \")","v":"Entregable"},{"$f":"IFERROR(GESTION!J25,\" \")","v":0},null,{"$f":"IFERROR(H25/G25,\"\")","v":""},null,"Se han remitido los automoviles a los talleres autorizados por la Seccional Antioquia - Chocó y ademas se han realizado talleres de seguridad vial para los conductores de la Seccional. "]
[null,null,"5. Impulsar el uso de mecanismos alternativos para la solución de conflictos y la ampliación de la justicia restaurativa y terapéutica y el robustecimiento de las alternativas al encarcelamiento","2. Asegurar  el cumplimiento de los objetivos institucionales, la normatividad aplicable,  la mejora del SIGCMA y la satisfacción de los usuarios, revisando de  forma continua y sistemática la planificación de la gestión y fortaleciendo la administración de riesgos y sus controles",{"$f":"IFERROR(GESTION!H26,\" \")","v":0},{"$f":"IFERROR(GESTION!I26,\" \")","v":0},{"$f":"IFERROR(GESTION!J26,\" \")","v":0},null,{"$f":"IFERROR(H26/G26,\"\")","v":""}]
[null,null,null,null,{"$f":"IFERROR(GESTION!H27,\" \")","v":0},{"$f":"IFERROR(GESTION!I27,\" \")","v":0},{"$f":"IFERROR(GESTION!J27,\" \")","v":0},null,{"$f":"IFERROR(H27/G27,\"\")","v":""}]
[null,null,null,null,{"$f":"IFERROR(GESTION!H28,\" \")","v":0},{"$f":"IFERROR(GESTION!I28,\" \")","v":0},{"$f":"IFERROR(GESTION!J28,\" \")","v":0},null,{"$f":"IFERROR(H28/G28,\"\")","v":""}]
[null,null,null,null,{"$f":"IFERROR(GESTION!H29,\" \")","v":0},{"$f":"IFERROR(GESTION!I29,\" \")","v":0},{"$f":"IFERROR(GESTION!J29,\" \")","v":0},null,{"$f":"IFERROR(H29/G29,\"\")","v":""}]
[null,null,null,null,{"$f":"IFERROR(GESTION!H30,\" \")","v":0},{"$f":"IFERROR(GESTION!I30,\" \")","v":0},{"$f":"IFERROR(GESTION!J30,\" \")","v":0},null,{"$f":"IFERROR(H30/G30,\"\")","v":""}]
["2. Servicios digitales y de tecnología, innovación y análisis de la información.","Servicios digitales y de tecnología, innovación y análisis de la información: Consolidar una justicia integrada y soportada en servicios digitales y de tecnología, innovación y análisis de la información, con una cultura digital apropiada, segura y sensible a las realidades del territorio nacional. ","1. Ampliar el acceso a la justicia a través de la consolidación del uso de los servicios digitales que conforman el sistema único integrado de gestión judicial en todos los despachos judiciales y dependencias de apoyo y, específicamente, incluyendo el despliegue e implementación del Expediente Judicial Electrónico en todas las jurisdicciones y especialidades.","6. Proteger, preservar y administrar los activos de información  implementando acciones  para gestionar de forma adecuada los incidentes, proteger los datos personales y adoptar mecanismos  de ciberseguridad y aseguramiento de la  continuidad del negocio.",{"$f":"IFERROR(GESTION!H31,\" \")","v":"Publicar en el Portal WEB Seccional y en la red social (Twitter ) y mediante los Correos Institucionales, (Actos Administrativos producidos por el Consejo Seccional,. Acuerdo, circulares, Boletines, informacion de interés general, capacitaciones, Avisos, etc...)"},{"$f":"IFERROR(GESTION!I31,\" \")","v":"Entregable"},{"$f":"IFERROR(GESTION!J31,\" \")","v":0},null,{"$f":"IFERROR(H31/G31,\"\")","v":""},null,"en este tercer trimestre fueron publicadas las circulares, acuerdos y boletnes elaborados por la seccional. "]
[null,null,null,null,{"$f":"IFERROR(GESTION!H32,\" \")","v":"Recibir, elaborar y gestionar, en el aplicativo de correspondencia SIGOBIUS, las comunicaciones y oficios"},{"$f":"IFERROR(GESTION!I32,\" \")","v":"Entregable"},{"$f":"IFERROR(GESTION!J32,\" \")","v":0},null,{"$f":"IFERROR(H32/G32,\"\")","v":""},"Durante los días 12 al 20 de septiembre pruducto del hackeo del cual fue victima la Rama Judicial, no se pudieron registrar ni elaborar correspondencia por el aplicativo","fueron trámitadas por intermedio del aplicativo y la corresponencia recibida durante los días del hackeo, fue registrada desde el nivel central a través de los reportes que se hicieron en la planilla de contingencia"]
[null,null,null,null,{"$f":"IFERROR(GESTION!H33,\" \")","v":"Realizar seguimiento al contrato CSJ 2023 - OC101882 PIVOT 1819- CSJ - CHOCÓ se da  apoyo de la  Cobertura total del acceso a internet de todos los despacho judiciales de la Seccional, es decir juzgados, despachos de magistrados, centros de servicios,  secretarias generales, una oficina de apoyo judicial y la oficina de la Coordinación Administrativa de Quibdó."},{"$f":"IFERROR(GESTION!I33,\" \")","v":"Entregable"},{"$f":"IFERROR(GESTION!J33,\" \")","v":0},null,{"$f":"IFERROR(H33/G33,\"\")","v":""},"Se dio el apoyo,  sin en bargo se presentaron dificultades por momentos  por parte del operador externo Cirion y Andired.","Pese a las variedades y constantes dificultades de indisponibilidd que se presentan y se reportan en los diferentes en laces de conectividad del Chocó, se realizaron las gestiones de apoyo y se logra mantener el servicio disponible en los Juzgados. "]
[null,null,null,null,{"$f":"IFERROR(GESTION!H34,\" \")","v":"Realizar seguimiento y apoyo de primer nivel en la implementación de sistema de información procesal judicial en la Rama Judicial Justicia XXI Web (Tyba), Siglo XXI Cliente Servidor, Samai, SIGOBIUS, Aplicativo Firma Electronica, portal Banco Agrario , Azure, ,Cicero, Lifezise, Oficce 365,  Portal Rama Judicial ( MicroSitio) creaciones de usuarios, traslados de usuarios, Capacitacion Etc."},{"$f":"IFERROR(GESTION!I34,\" \")","v":"Entregable"},{"$f":"IFERROR(GESTION!J34,\" \")","v":0},null,{"$f":"IFERROR(H34/G34,\"\")","v":""},"Se brinda el apoyo y gestion,  sin en bargo se presentaron en ocasiones dificultades en algunos de los aplicativos, indisponibilidades que su solucion es por  lo general competencia del nivel central."," En el tercer trimestr, pese a las variedades y constantes dificultades de indisponibilidd que se presentaron y se reportaron al area de sistenmas en los diferentes aplicativos el valance es positivo en  Chocó, se realizaron las gestiones de apoyo y se logra mantener el servicio operativo y disponible en los Juzgados."]
[null,null,null,null,{"$f":"IFERROR(GESTION!H35,\" \")","v":"Hacer seguimiento a las actividades programadas como mantenimiento preventivo y correctivo y se realiza acompañamiento a la atencion de los incidentes reportados para su atencion tecnica  por  medio del contrato 276 DEL 2022 DE MESA DE AYUDA ETB"},{"$f":"IFERROR(GESTION!I35,\" \")","v":"Entregable"},{"$f":"IFERROR(GESTION!J35,\" \")","v":0},null,{"$f":"IFERROR(H35/G35,\"\")","v":""},"Se brinda el apoyo y gestion,  no ha  presentado difilculta en el desarrollo de la  actividad. "," Se le hace seguimiento y acompñamiento a la actividad y se observa que va en un 90 % realizada. "]
[null,null,"2. Integrar y hacer compatibles todos los aplicativos de transición con SIUGJ, para que la migración de los expedientes judiciales a dicha plataforma sea real y no suponga afectaciones en la prestación del servicio de justicia.",null,{"$f":"IFERROR(GESTION!H36,\" \")","v":" Brindar apoyo en las audiencias presenciales y   virtuales y  se ha realizado la actualización de de salas de audiencias  preexistentes - actal son  virtuales / Contrato de Prestación de Servicios  No. 175 de 2020 - LIFEZISE"},{"$f":"IFERROR(GESTION!I36,\" \")","v":"Entregable"},{"$f":"IFERROR(GESTION!J36,\" \")","v":0},null,{"$f":"IFERROR(H36/G36,\"\")","v":""},"Se brinda el apoyo y gestion,  sin en bargo se presentaron en ocasiones dificultades en algunos de los aplicativos como LIFEZISE, indisponibilidades que su solucion es por  lo general competencia del nivel central.","Apesar de las diferentes y constantes dificultades de indisponibilidd del aplicativo LIFEZISE o solicitudes de apoyo que se presentan en todo lo que tiene que ver con  AUDIENCIAS en  Chocó, se realizaron las gestiones de apoyo y se logra mantener el servicio disponible en los Juzgados."]
[null,null,null,null,{"$f":"IFERROR(GESTION!H37,\" \")","v":0},{"$f":"IFERROR(GESTION!I37,\" \")","v":0},{"$f":"IFERROR(GESTION!J37,\" \")","v":0},null,{"$f":"IFERROR(H37/G37,\"\")","v":""}]
[null,null,null,null,{"$f":"IFERROR(GESTION!H38,\" \")","v":0},{"$f":"IFERROR(GESTION!I38,\" \")","v":0},{"$f":"IFERROR(GESTION!J38,\" \")","v":0},null,{"$f":"IFERROR(H38/G38,\"\")","v":""}]
[null,null,null,null,{"$f":"IFERROR(GESTION!H39,\" \")","v":0},{"$f":"IFERROR(GESTION!I39,\" \")","v":0},{"$f":"IFERROR(GESTION!J39,\" \")","v":0},null,{"$f":"IFERROR(H39/G39,\"\")","v":""}]
[null,null,null,null,{"$f":"IFERROR(GESTION!H40,\" \")","v":0},{"$f":"IFERROR(GESTION!I40,\" \")","v":0},{"$f":"IFERROR(GESTION!J40,\" \")","v":0},null,{"$f":"IFERROR(H40/G40,\"\")","v":""}]
[null,null,"3. Fortalecer las capacidades institucionales, adecuar el modelo operativo y de servicio, bajo un enfoque de Arquitectura Empresarial y de fortalecimiento del acceso a la justicia.",null,{"$f":"IFERROR(GESTION!H41,\" \")","v":"Fortalecer el conocimiento del servidor judicial, en cuanto al funconamiento y organizacion de la entidad, y del sistema Integrado de Gestion de la Calidad"},{"$f":"IFERROR(GESTION!I41,\" \")","v":"Entregable"},{"$f":"IFERROR(GESTION!J41,\" \")","v":0},null,{"$f":"IFERROR(H41/G41,\"\")","v":""}]
[null,null,null,null,{"$f":"IFERROR(GESTION!H42,\" \")","v":"Implementar programas de bienestar social en asocio con la Caja de compensación Familiar - CONFACHOCO"},{"$f":"IFERROR(GESTION!I42,\" \")","v":"Entregable"},{"$f":"IFERROR(GESTION!J42,\" \")","v":0},null,{"$f":"IFERROR(H42/G42,\"\")","v":""},"No hay dificultades en elmomento","Se sigue realizando la ejecucion del contrato de bienestar con la Caja de Compensaccion Familiar COMFACHOCO, su ejecucion va en un cumplimiento del 86%"]
[null,null,null,null,{"$f":"IFERROR(GESTION!H43,\" \")","v":"Adelantar el diagnostico de competencias a los servidores judiciales del distrito"},{"$f":"IFERROR(GESTION!I43,\" \")","v":"Entregable"},{"$f":"IFERROR(GESTION!J43,\" \")","v":0},null,{"$f":"IFERROR(H43/G43,\"\")","v":""},"La dificultad que s e presenta es con los servidores de los Municipios porque no participan en la realizacion del diagnostico en un buen porcentaje","Se realizo en el mes de mayo de 2023, el diagnostico decompetencias y se cumplio la meta dispuesta para este año."]
[null,null,null,null,{"$f":"IFERROR(GESTION!H44,\" \")","v":"Verificacion del cumplimiento de los requisitos de los servidores a vincular"},{"$f":"IFERROR(GESTION!I44,\" \")","v":"Entregable"},{"$f":"IFERROR(GESTION!J44,\" \")","v":0},null,{"$f":"IFERROR(H44/G44,\"\")","v":""},"La dificultad es con la tardansa en el envio de las novedades, para verificar los requisitos.","En este trismestre se verificaron los requisitos de 3 servdiores - todos cumplieron el requisito minimo para desempeñar las funciones del cargo. "]
[null,null,null,null,{"$f":"IFERROR(GESTION!H45,\" \")","v":"Tramitar ante la Direccion Seccional de medellin, las quejas por inconsistencia o no pago oportunida de la nominada"},{"$f":"IFERROR(GESTION!I45,\" \")","v":"Entregable"},{"$f":"IFERROR(GESTION!J45,\" \")","v":0},null,{"$f":"IFERROR(H45/G45,\"\")","v":""},"La dificultad se  ha presentado en la remision de las incosistencia despues del termino para corregirlas.","Las quejas o inconsistencias se han tramitado y se ha corregido oportunamente a los servidores que asi las reportaron."]
[null,null,"4.Consolidar la cultura y apropiación de la transformación digital en los servidores y usuarios de los servicios de la Rama Judicial y reducir brechas de acceso y conocimiento, incluyendo la oferta efectiva de información sobre el uso de las nuevas herramientas virtuales implementadas en las diferentes jurisdicciones, con especial énfasis en las zonas del país donde es evidente la brecha digital.",null,{"$f":"IFERROR(GESTION!H46,\" \")","v":"Seguimiento al ausentimos laboral por incapacidad y accidente de trabajo"},{"$f":"IFERROR(GESTION!I46,\" \")","v":"Entregable"},{"$f":"IFERROR(GESTION!J46,\" \")","v":0},null,{"$f":"IFERROR(H46/G46,\"\")","v":""},null,"Se ha venido realizando el seguimiento mensual y  el ausentismo ha sido bajo en consideracion a otros años."]
[null,null,null,null,{"$f":"IFERROR(GESTION!H47,\" \")","v":0},{"$f":"IFERROR(GESTION!I47,\" \")","v":0},{"$f":"IFERROR(GESTION!J47,\" \")","v":0},null,{"$f":"IFERROR(H47/G47,\"\")","v":""}]
[null,null,null,null,{"$f":"IFERROR(GESTION!H48,\" \")","v":0},{"$f":"IFERROR(GESTION!I48,\" \")","v":0},{"$f":"IFERROR(GESTION!J48,\" \")","v":0},null,{"$f":"IFERROR(H48/G48,\"\")","v":""}]
[null,null,null,null,{"$f":"IFERROR(GESTION!H49,\" \")","v":"Incentivar y Verificar el uso de los aplicativos virtuales en los despachos judiciales, dispuestos por el Consejo Superior de la Judicatura"},{"$f":"IFERROR(GESTION!I49,\" \")","v":"Entregable"},{"$f":"IFERROR(GESTION!J49,\" \")","v":0},null,{"$f":"IFERROR(H49/G49,\"\")","v":""},"Que los servidores se apropien de las herramientas tecnologicas.","el seguimiento se realiza en desarrollo de las visitas administrativas"]
[null,null,null,null,{"$f":"IFERROR(GESTION!H50,\" \")","v":0},{"$f":"IFERROR(GESTION!I50,\" \")","v":0},{"$f":"IFERROR(GESTION!J50,\" \")","v":0},null,{"$f":"IFERROR(H50/G50,\"\")","v":""}]
[null,null,"5.Consolidar la infraestructura y los recursos necesarios para la implementación exitosa de la transformación digital, incluyendo la disposición de internet de calidad en el 100% de las sedes en la Rama Judicial y modernizar los servicios tecnológicos de soporte. ",null,{"$f":"IFERROR(GESTION!H51,\" \")","v":0},{"$f":"IFERROR(GESTION!I51,\" \")","v":0},{"$f":"IFERROR(GESTION!J51,\" \")","v":0},null,{"$f":"IFERROR(H51/G51,\"\")","v":""}]
[null,null,null,null,{"$f":"IFERROR(GESTION!H52,\" \")","v":0},{"$f":"IFERROR(GESTION!I52,\" \")","v":0},{"$f":"IFERROR(GESTION!J52,\" \")","v":0},null,{"$f":"IFERROR(H52/G52,\"\")","v":""}]
[null,null,null,null,{"$f":"IFERROR(GESTION!H53,\" \")","v":0},{"$f":"IFERROR(GESTION!I53,\" \")","v":0},{"$f":"IFERROR(GESTION!J53,\" \")","v":0},null,{"$f":"IFERROR(H53/G53,\"\")","v":""}]
[null,null,null,null,{"$f":"IFERROR(GESTION!H54,\" \")","v":0},{"$f":"IFERROR(GESTION!I54,\" \")","v":0},{"$f":"IFERROR(GESTION!J54,\" \")","v":0},null,{"$f":"IFERROR(H54/G54,\"\")","v":""}]
[null,null,null,null,{"$f":"IFERROR(GESTION!H55,\" \")","v":0},{"$f":"IFERROR(GESTION!I55,\" \")","v":0},{"$f":"IFERROR(GESTION!J55,\" \")","v":0},null,{"$f":"IFERROR(H55/G55,\"\")","v":""}]
[null,null,"6.Integrar y optimizar los servicios administrativos de la Rama Judicial bajo un enfoque de transformación digital e innovación incluyendo los componentes financiero, administrativo, talento humano, entre otros",null,{"$f":"IFERROR(GESTION!H56,\" \")","v":0},{"$f":"IFERROR(GESTION!I56,\" \")","v":0},{"$f":"IFERROR(GESTION!J56,\" \")","v":0},null,{"$f":"IFERROR(H56/G56,\"\")","v":""}]
[null,null,null,null,{"$f":"IFERROR(GESTION!H57,\" \")","v":0},{"$f":"IFERROR(GESTION!I57,\" \")","v":0},{"$f":"IFERROR(GESTION!J57,\" \")","v":0},null,{"$f":"IFERROR(H57/G57,\"\")","v":""}]
[null,null,null,null,{"$f":"IFERROR(GESTION!H58,\" \")","v":0},{"$f":"IFERROR(GESTION!I58,\" \")","v":0},{"$f":"IFERROR(GESTION!J58,\" \")","v":0},null,{"$f":"IFERROR(H58/G58,\"\")","v":""}]
[null,null,null,null,{"$f":"IFERROR(GESTION!H59,\" \")","v":0},{"$f":"IFERROR(GESTION!I59,\" \")","v":0},{"$f":"IFERROR(GESTION!J59,\" \")","v":0},null,{"$f":"IFERROR(H59/G59,\"\")","v":""}]
[null,null,null,null,{"$f":"IFERROR(GESTION!H60,\" \")","v":0},{"$f":"IFERROR(GESTION!I60,\" \")","v":0},{"$f":"IFERROR(GESTION!J60,\" \")","v":0},null,{"$f":"IFERROR(H60/G60,\"\")","v":""}]
["3. Confianza pública, transparencia y rendición de cuentas","Confianza pública, transparencia y rendición de cuentas: Aumentar la confianza pública en la justicia a través de la transparencia, la rendición de cuentas y la participación, incluyendo la información de justicia y la producción, gestión y acceso a las fuentes de derecho, el fortalecimiento del sistema de gestión de calidad y medio ambiente (SIGCMA) y el mejoramiento de la calidad y publicidad de la información. ","1. Incrementar la cantidad, la calidad y pertinencia de los datos sobre el funcionamiento del servicio de justicia bajo un modelo de gobierno de datos y un liderazgo unificado. ","4. Hacer un uso racional de los recursos naturales aplicando los principios y fases de la Economía Circular, para prevenir, mitigar y controlar los impactos ambientales.",{"$f":"IFERROR(GESTION!H61,\" \")","v":0},{"$f":"IFERROR(GESTION!I61,\" \")","v":0},{"$f":"IFERROR(GESTION!J61,\" \")","v":0},null,{"$f":"IFERROR(H61/G61,\"\")","v":""}]
[null,null,null,null,{"$f":"IFERROR(GESTION!H62,\" \")","v":"\nRealizar y remitirel  informe Estadistico a la UDAE\n"},{"$f":"IFERROR(GESTION!I62,\" \")","v":"Entregable"},{"$f":"IFERROR(GESTION!J62,\" \")","v":0},null,{"$f":"IFERROR(H62/G62,\"\")","v":""},null,"se realizo en el primer trimestre de 2023"]
[null,null,null,null,{"$f":"IFERROR(GESTION!H63,\" \")","v":"Realizar Vigilancia Judicial Administrativa, de oficio o petición de partes"},{"$f":"IFERROR(GESTION!I63,\" \")","v":"Entregable"},{"$f":"IFERROR(GESTION!J63,\" \")","v":0},null,{"$f":"IFERROR(H63/G63,\"\")","v":""},null,"En el tercer trimestre, se recibieron 28 solicitudes de vigilancia judicial"]
[null,null,null,null,{"$f":"IFERROR(GESTION!H64,\" \")","v":"Atender las QR&S, recibidas"},{"$f":"IFERROR(GESTION!I64,\" \")","v":"Entregable"},{"$f":"IFERROR(GESTION!J64,\" \")","v":0},null,{"$f":"IFERROR(H64/G64,\"\")","v":""},null,"durante el tercer trimestre se recibieron 7 derechos de petición los cuales fueron tramitados"]
[null,null,null,null,{"$f":"IFERROR(GESTION!H65,\" \")","v":0},{"$f":"IFERROR(GESTION!I65,\" \")","v":0},{"$f":"IFERROR(GESTION!J65,\" \")","v":0},null,{"$f":"IFERROR(H65/G65,\"\")","v":""}]
[null,null,"2. Consolidar la administración de la información entendida como todas las acciones rientadas a garantizar el acceso, consulta, uso y conservación de la información de justicia de manera ágil, flexible e inteligente, bajo un enfoque de innovación.",null,{"$f":"IFERROR(GESTION!H66,\" \")","v":0},{"$f":"IFERROR(GESTION!I66,\" \")","v":0},{"$f":"IFERROR(GESTION!J66,\" \")","v":0},null,{"$f":"IFERROR(H66/G66,\"\")","v":""}]
[null,null,null,null,{"$f":"IFERROR(GESTION!H67,\" \")","v":0},{"$f":"IFERROR(GESTION!I67,\" \")","v":0},{"$f":"IFERROR(GESTION!J67,\" \")","v":0},null,{"$f":"IFERROR(H67/G67,\"\")","v":""}]
[null,null,null,null,{"$f":"IFERROR(GESTION!H68,\" \")","v":0},{"$f":"IFERROR(GESTION!I68,\" \")","v":0},{"$f":"IFERROR(GESTION!J68,\" \")","v":0},null,{"$f":"IFERROR(H68/G68,\"\")","v":""}]
[null,null,null,null,{"$f":"IFERROR(GESTION!H69,\" \")","v":0},{"$f":"IFERROR(GESTION!I69,\" \")","v":0},{"$f":"IFERROR(GESTION!J69,\" \")","v":0},null,{"$f":"IFERROR(H69/G69,\"\")","v":""}]
[null,null,null,null,{"$f":"IFERROR(GESTION!H70,\" \")","v":0},{"$f":"IFERROR(GESTION!I70,\" \")","v":0},{"$f":"IFERROR(GESTION!J70,\" \")","v":0},null,{"$f":"IFERROR(H70/G70,\"\")","v":""}]
[null,null,"3. Fortalecer el Sistema integrado de Gestión de la Rama, orientado a la implementación y certificación de las normas antisoborno.","1. Gestionar el desarrollo de las competencias, la toma de conciencia , la cultura  organizacional  y el compromiso de los  servidores judiciales, contratistas, practicantes y  judicantes de contribuir a generar valor público en la administración de justicia, en el marco de  cumplimiento de los requisitos  aplicables y el comportamiento ético.\n3. Fomentar la transparencia y la participación generando lineamientos y promoviendo la rendición de cuentas ,la consulta, reporte y planteamiento de inquietudes en relación con las decisiones y aspectos del SIGCMA.",{"$f":"IFERROR(GESTION!H71,\" \")","v":0},{"$f":"IFERROR(GESTION!I71,\" \")","v":0},{"$f":"IFERROR(GESTION!J71,\" \")","v":0},null,{"$f":"IFERROR(H71/G71,\"\")","v":""}]
[null,null,null,null,{"$f":"IFERROR(GESTION!H72,\" \")","v":0},{"$f":"IFERROR(GESTION!I72,\" \")","v":0},{"$f":"IFERROR(GESTION!J72,\" \")","v":0},null,{"$f":"IFERROR(H72/G72,\"\")","v":""}]
[null,null,null,null,{"$f":"IFERROR(GESTION!H73,\" \")","v":0},{"$f":"IFERROR(GESTION!I73,\" \")","v":0},{"$f":"IFERROR(GESTION!J73,\" \")","v":0},null,{"$f":"IFERROR(H73/G73,\"\")","v":""}]
[null,null,null,null,{"$f":"IFERROR(GESTION!H74,\" \")","v":0},{"$f":"IFERROR(GESTION!I74,\" \")","v":0},{"$f":"IFERROR(GESTION!J74,\" \")","v":0},null,{"$f":"IFERROR(H74/G74,\"\")","v":""}]
[null,null,null,null,{"$f":"IFERROR(GESTION!H75,\" \")","v":0},{"$f":"IFERROR(GESTION!I75,\" \")","v":0},{"$f":"IFERROR(GESTION!J75,\" \")","v":0},null,{"$f":"IFERROR(H75/G75,\"\")","v":""}]
[null,null,"4. Aumentar la confianza, la cercanía y acceso a los servicios de la Rama Judicial a través, entre otros, de una comunicación clara y asertiva con la ciudadanía.","3. Fomentar la transparencia y la participación generando lineamientos y promoviendo la rendición de cuentas ,la consulta, reporte y planteamiento de inquietudes en relación con las decisiones y aspectos del SIGCMA.",{"$f":"IFERROR(GESTION!H76,\" \")","v":"Consolidar y hacer seguimiento en reuniones trimestrales, al plan de accion de los Procesos del SIGCMA"},{"$f":"IFERROR(GESTION!I76,\" \")","v":"Entregable"},{"$f":"IFERROR(GESTION!J76,\" \")","v":0},null,{"$f":"IFERROR(H76/G76,\"\")","v":""},null,"se realizaron reuniones en las siguentes fechas:  27/07/2023; 08/08/2023 y 18/08/2023"]
[null,null,null,null,{"$f":"IFERROR(GESTION!H77,\" \")","v":"Elaborar semestralmente el Boletín SIGCMA"},{"$f":"IFERROR(GESTION!I77,\" \")","v":"Entregable"},{"$f":"IFERROR(GESTION!J77,\" \")","v":0},null,{"$f":"IFERROR(H77/G77,\"\")","v":""},null,"se elaboro boletín SIGCMA "]
[null,null,null,null,{"$f":"IFERROR(GESTION!H78,\" \")","v":"Elaborar trimestralmente boletín con perspectiva de género"},{"$f":"IFERROR(GESTION!I78,\" \")","v":"Entregable"},{"$f":"IFERROR(GESTION!J78,\" \")","v":0},null,{"$f":"IFERROR(H78/G78,\"\")","v":""},null,"Se elaboró Boletín No. II de Género"]
[null,null,null,null,{"$f":"IFERROR(GESTION!H79,\" \")","v":0},{"$f":"IFERROR(GESTION!I79,\" \")","v":0},{"$f":"IFERROR(GESTION!J79,\" \")","v":0},null,{"$f":"IFERROR(H79/G79,\"\")","v":""}]
[null,null,null,null,{"$f":"IFERROR(GESTION!H80,\" \")","v":0},{"$f":"IFERROR(GESTION!I80,\" \")","v":0},{"$f":"IFERROR(GESTION!J80,\" \")","v":0},null,{"$f":"IFERROR(H80/G80,\"\")","v":""}]
[null,null,"5. Prevenir fenómenos asociados con actos de corrupción en la Rama Judicial y reducir las experiencias de corrupción de usuarios y servidores judiciales.",null,{"$f":"IFERROR(GESTION!H81,\" \")","v":0},{"$f":"IFERROR(GESTION!I81,\" \")","v":0},{"$f":"IFERROR(GESTION!J81,\" \")","v":0},null,{"$f":"IFERROR(H81/G81,\"\")","v":""}]
[null,null,null,null,{"$f":"IFERROR(GESTION!H82,\" \")","v":0},{"$f":"IFERROR(GESTION!I82,\" \")","v":0},{"$f":"IFERROR(GESTION!J82,\" \")","v":0},null,{"$f":"IFERROR(H82/G82,\"\")","v":""}]
[null,null,null,null,{"$f":"IFERROR(GESTION!H83,\" \")","v":0},{"$f":"IFERROR(GESTION!I83,\" \")","v":0},{"$f":"IFERROR(GESTION!J83,\" \")","v":0},null,{"$f":"IFERROR(H83/G83,\"\")","v":""}]
[null,null,null,null,{"$f":"IFERROR(GESTION!H84,\" \")","v":0},{"$f":"IFERROR(GESTION!I84,\" \")","v":0},{"$f":"IFERROR(GESTION!J84,\" \")","v":0},null,{"$f":"IFERROR(H84/G84,\"\")","v":""}]
[null,null,null,null,{"$f":"IFERROR(GESTION!H85,\" \")","v":0},{"$f":"IFERROR(GESTION!I85,\" \")","v":0},{"$f":"IFERROR(GESTION!J85,\" \")","v":0},null,{"$f":"IFERROR(H85/G85,\"\")","v":""}]
[null,null,"6. Promover la rendición de cuentas y la colaboración real con la ciudadanía como fundamento para diseñar acciones de mejoramiento del acceso a la justicia.",null,{"$f":"IFERROR(GESTION!H86,\" \")","v":"Desarrollar las actividades  para la oportuna elaboración del informe anual de gestión y audiencia pública de rendición de cuentas del Consejo Seccional de la Judicatura del Chocó y la Coordinación Administrativa de Quibdó"},{"$f":"IFERROR(GESTION!I86,\" \")","v":"Entregable"},{"$f":"IFERROR(GESTION!J86,\" \")","v":0},null,{"$f":"IFERROR(H86/G86,\"\")","v":""},null,"esta actividad se realizó en el primer trimestre"]
[null,null,null,null,{"$f":"IFERROR(GESTION!H87,\" \")","v":"Actualizar la lista de Auxiliares de la Justicia del Distrito Judicial de Quibdó y Administrativo del Chocó con las novedades que se presenten                                             "},{"$f":"IFERROR(GESTION!I87,\" \")","v":"Entregable"},{"$f":"IFERROR(GESTION!J87,\" \")","v":0},null,{"$f":"IFERROR(H87/G87,\"\")","v":""},null,"No se presentaron novedades relacionadas con las personas naturales o juridas que conforman la lista de Auxiliares de la Justicia"]
[null,null,null,null,{"$f":"IFERROR(GESTION!H88,\" \")","v":"Atender los requerimientos presentados por los usuarios internos y externos del servicio de justicia en relación con la lista de auxiliares de la justicia."},{"$f":"IFERROR(GESTION!I88,\" \")","v":"Entregable"},{"$f":"IFERROR(GESTION!J88,\" \")","v":0},null,{"$f":"IFERROR(H88/G88,\"\")","v":""},null,"En el presente trimestre se recibieron 4 solicitudes de información relacionadas con la lista de auxiliares de la justicia y se tramitaron todas"]
[null,null,null,null,{"$f":"IFERROR(GESTION!H89,\" \")","v":"Implementar el programa de gestión documental. Recibir las transferencias documentales de los despachos judiciales de la sede Quibdó    Responder las solicitudes de desarchive presentadas por usuarios internos y externos de la Rama Judicial"},{"$f":"IFERROR(GESTION!I89,\" \")","v":"Entregable"},{"$f":"IFERROR(GESTION!J89,\" \")","v":0},null,{"$f":"IFERROR(H89/G89,\"\")","v":""},"Se presentaron dificultades en la planta física del archivo central, que hiceron  traumático el proceso de busqueda y desarchivo efectivo de algunos expedientes, al punto que nos vimos inmersos en vigilancias administrativas, resueltas de manera desfavorable","Se atendieron satisfactoriamente 78 solicitudes de desarchivo de expedientes que se encuentran bajo la custodia del Archivo central, presentadas por los despachos judiciales y usuarios externos del servicio de justicia.                                                   "]
[null,null,null,null,{"$f":"IFERROR(GESTION!H90,\" \")","v":0},{"$f":"IFERROR(GESTION!I90,\" \")","v":0},{"$f":"IFERROR(GESTION!J90,\" \")","v":0},null,{"$f":"IFERROR(H90/G90,\"\")","v":""},null,"Se reorganizaron 450 cajas contentivas de transferencias documentales de los despachos judiciales de Quibdó"]
[null,null,"7. Continuar la consolidación del SIGCMA, a través de los procesos de formación en modelos de gestión, logrando la implementación y ampliación de este en los esquemas certificados de manera gradual, teniendo en cuenta las capacidades de los diferentes despachos judiciales y dependencias de la Rama Judicial y articulando el enfoque de Arquitectura Empresarial para el desarrollo del PETD a través de la gestión del conocimiento para la gestión del cambio propendiendo por una cultura de la calidad, la transparencia, la rendición de cuentas, la anticorrupción y el antisoborno","1. Gestionar el desarrollo de las competencias, la toma de conciencia , la cultura  organizacional  y el compromiso de los  servidores judiciales, contratistas, practicantes y  judicantes de contribuir a generar valor público en la administración de justicia, en el marco de  cumplimiento de los requisitos  aplicables y el comportamiento ético.\n4. Hacer un uso racional de los recursos naturales aplicando los principios y fases de la Economía Circular, para prevenir, mitigar y controlar los impactos ambientales.",{"$f":"IFERROR(GESTION!H91,\" \")","v":0},{"$f":"IFERROR(GESTION!I91,\" \")","v":0},{"$f":"IFERROR(GESTION!J91,\" \")","v":0},null,{"$f":"IFERROR(H91/G91,\"\")","v":""}]
[null,null,null,null,{"$f":"IFERROR(GESTION!H92,\" \")","v":"Fomentar mediante circular la Planeación estrategica de los despachos judiciales del Distrito Judicial de Quibdó"},{"$f":"IFERROR(GESTION!I92,\" \")","v":"Entregable"},{"$f":"IFERROR(GESTION!J92,\" \")","v":0},null,{"$f":"IFERROR(H92/G92,\"\")","v":""},null,"Se elaboro circular en el primer trimestre, empero durante las visitas se realiza seguimiento"]
[null,null,null,null,{"$f":"IFERROR(GESTION!H93,\" \")","v":0},{"$f":"IFERROR(GESTION!I93,\" \")","v":0},{"$f":"IFERROR(GESTION!J93,\" \")","v":0},null,{"$f":"IFERROR(H93/G93,\"\")","v":""}]
[null,null,null,null,{"$f":"IFERROR(GESTION!H94,\" \")","v":0},{"$f":"IFERROR(GESTION!I94,\" \")","v":0},{"$f":"IFERROR(GESTION!J94,\" \")","v":0},null,{"$f":"IFERROR(H94/G94,\"\")","v":""}]
[null,null,null,null,{"$f":"IFERROR(GESTION!H95,\" \")","v":0},{"$f":"IFERROR(GESTION!I95,\" \")","v":0},{"$f":"IFERROR(GESTION!J95,\" \")","v":0},null,{"$f":"IFERROR(H95/G95,\"\")","v":""}]
["4. Talento Humano","Talento Humano: Fortalecer el talento humano en la Rama Judicial para que sea eficiente, capacitado y realice su labor en ambientes saludables y seguros. Ampliar la cobertura de la carrera judicial y mejorar la oferta de formación, que esté disponible para todos los servidores judiciales e impacte positivamente el servicio de justicia y responda a las necesidades reales del ejercicio de la función judicial.","1. Ampliar la cobertura de la carrera judicial optimizando los procesos de los concursos de méritos y propender por mitigar su litigiosidad.","1. Gestionar el desarrollo de las competencias, la toma de conciencia , la cultura  organizacional  y el compromiso de los  servidores judiciales, contratistas, practicantes y  judicantes de contribuir a generar valor público en la administración de justicia, en el marco de  cumplimiento de los requisitos  aplicables y el comportamiento ético.",{"$f":"IFERROR(GESTION!H96,\" \")","v":"Desarrollar labor pedagógica y de control para obtener oportunamente de los tribunales y jueces de instancia  el insumo para  consolidar el factor  calidad."},{"$f":"IFERROR(GESTION!I96,\" \")","v":"Entregable"},{"$f":"IFERROR(GESTION!J96,\" \")","v":0},null,{"$f":"IFERROR(H96/G96,\"\")","v":""},null,"Se elaboro circular en el primer trimestre, empero durante las visitas se realiza seguimiento"]
[null,null,null,null,{"$f":"IFERROR(GESTION!H97,\" \")","v":"Administrar la información de las calificaciones de servicios de los servidores judiciales del Distrito"},{"$f":"IFERROR(GESTION!I97,\" \")","v":"Entregable"},{"$f":"IFERROR(GESTION!J97,\" \")","v":0},null,{"$f":"IFERROR(H97/G97,\"\")","v":""},null,"en este trimestre se atendieron 1 petición relacionadas con calificacion de servicios"]
[null,null,null,null,{"$f":"IFERROR(GESTION!H98,\" \")","v":"Efectuar visita a los despachos de jueces con el objetivo de realizar la evaluaciónm de Factor Organización del Trabajo  (física o electrónica)"},{"$f":"IFERROR(GESTION!I98,\" \")","v":"Entregable"},{"$f":"IFERROR(GESTION!J98,\" \")","v":0},null,{"$f":"IFERROR(H98/G98,\"\")","v":""},null,"se adelantaron conforme agenda de las magistradas"]
[null,null,null,null,{"$f":"IFERROR(GESTION!H99,\" \")","v":"Realizar supervisión del reporte oportuno de vacantes para la correcta publicación, durante los primeros 5 días del mes de las vacantes"},{"$f":"IFERROR(GESTION!I99,\" \")","v":"Entregable"},{"$f":"IFERROR(GESTION!J99,\" \")","v":0},null,{"$f":"IFERROR(H99/G99,\"\")","v":""},null,"se realiza seguimiento en las sesiones de ordinarias"]
[null,null,null,null,{"$f":"IFERROR(GESTION!H100,\" \")","v":"Consolidar la Calificación Integral de Servicios de Jueces y remitir a la Unidad de Administración de Carrera Judicial (Acuerdo PSAA16-10618)"},{"$f":"IFERROR(GESTION!I100,\" \")","v":"Entregable"},{"$f":"IFERROR(GESTION!J100,\" \")","v":0},null,{"$f":"IFERROR(H100/G100,\"\")","v":""},null,"Esta actividad tienia como fecha límite el 31 de agosto, el cual fue amplaido hasta diciembre de la presente vigencia. Sin embargo, se han adelantado las visitas para la calificación del factor calidad y se ha consolidado el factor calidad ."]
[null,null,"2. Impactar la función y servicios que presta la Rama Judicial, a través de una formación integral desde una visión de gestión del conocimiento, relacionada con los problemas de la justicia y los problemas de gestión de quienes administran los recursos de la justicia, y potenciando el uso de medios virtuales.",null,{"$f":"IFERROR(GESTION!H101,\" \")","v":"    Estudiar y emitir concepto sobre las solicitudes de traslado que sean de competencia de este Consejo Seccional que presenten Jueces y Empleados"},{"$f":"IFERROR(GESTION!I101,\" \")","v":"Entregable"},{"$f":"IFERROR(GESTION!J101,\" \")","v":0},null,{"$f":"IFERROR(H101/G101,\"\")","v":""},null,"durante este trimestre se fueron recibidas 10 solicitudes de tralados, las cuales fueron tramitadas"]
[null,null,null,null,{"$f":"IFERROR(GESTION!H102,\" \")","v":" Remitir al final de cada mes a la Unidad de Carrera Judicial las vacantes de jueces e informar  sobre el agotamiento de las listas de candidatos"},{"$f":"IFERROR(GESTION!I102,\" \")","v":"Entregable"},{"$f":"IFERROR(GESTION!J102,\" \")","v":0},null,{"$f":"IFERROR(H102/G102,\"\")","v":""},null,"Se remitieron los tres informes correspondietes."]
[null,null,null,null,{"$f":"IFERROR(GESTION!H103,\" \")","v":"Efectuar visita a los despachos de magistrados, conforme la delegación del Consejo Superior de la Judicatura, con el objetivo de verificar el Factor Organización del Trabajo  (física o electrónica)."},{"$f":"IFERROR(GESTION!I103,\" \")","v":"Entregable"},{"$f":"IFERROR(GESTION!J103,\" \")","v":0},null,{"$f":"IFERROR(H103/G103,\"\")","v":""},null,"Se realizaron las visitas de acuerdo al cronograma del establecido por las Magistradas."]
[null,null,null,null,{"$f":"IFERROR(GESTION!H104,\" \")","v":0},{"$f":"IFERROR(GESTION!I104,\" \")","v":0},{"$f":"IFERROR(GESTION!J104,\" \")","v":0},null,{"$f":"IFERROR(H104/G104,\"\")","v":""}]
[null,null,null,null,{"$f":"IFERROR(GESTION!H105,\" \")","v":0},{"$f":"IFERROR(GESTION!I105,\" \")","v":0},{"$f":"IFERROR(GESTION!J105,\" \")","v":0},null,{"$f":"IFERROR(H105/G105,\"\")","v":""}]
[null,null,"3. Promover la incorporación de la perspectiva de género y el enfoque diferencial en los fallos judiciales y en la atención a los ciudadanos, la administración de la Rama Judicial, la administración de la carrera judicial y la elaboración de listas para altas Cortes. ",null,{"$f":"IFERROR(GESTION!H106,\" \")","v":0},{"$f":"IFERROR(GESTION!I106,\" \")","v":0},{"$f":"IFERROR(GESTION!J106,\" \")","v":0},null,{"$f":"IFERROR(H106/G106,\"\")","v":""}]
[null,null,null,null,{"$f":"IFERROR(GESTION!H107,\" \")","v":0},{"$f":"IFERROR(GESTION!I107,\" \")","v":0},{"$f":"IFERROR(GESTION!J107,\" \")","v":0},null,{"$f":"IFERROR(H107/G107,\"\")","v":""}]
[null,null,null,null,{"$f":"IFERROR(GESTION!H108,\" \")","v":0},{"$f":"IFERROR(GESTION!I108,\" \")","v":0},{"$f":"IFERROR(GESTION!J108,\" \")","v":0},null,{"$f":"IFERROR(H108/G108,\"\")","v":""}]
[null,null,null,null,{"$f":"IFERROR(GESTION!H109,\" \")","v":0},{"$f":"IFERROR(GESTION!I109,\" \")","v":0},{"$f":"IFERROR(GESTION!J109,\" \")","v":0},null,{"$f":"IFERROR(H109/G109,\"\")","v":""}]
[null,null,null,null,{"$f":"IFERROR(GESTION!H110,\" \")","v":0},{"$f":"IFERROR(GESTION!I110,\" \")","v":0},{"$f":"IFERROR(GESTION!J110,\" \")","v":0},null,{"$f":"IFERROR(H110/G110,\"\")","v":""}]
[null,null,"4. Desarrollar en los servidores judiciales y demás grupos de valor relevantes las competencias necesarias para la efectividad de la transformación digital de modo que puedan, entre otros, utilizar con solvencia las herramientas digitales dispuestas para sus respectivas funciones. Además, fortalecer y actualizar los conocimientos del personal a cargo de la gestión de proyectos de tecnología.",null,{"$f":"IFERROR(GESTION!H111,\" \")","v":" Recepcionar de las necesidades de Formación en el Grupo Seccional de Apoyo"},{"$f":"IFERROR(GESTION!I111,\" \")","v":"Entregable"},{"$f":"IFERROR(GESTION!J111,\" \")","v":0},null,{"$f":"IFERROR(H111/G111,\"\")","v":""},null,"No se han manifestado necesidades de capacitación en el desarrollo de las sesiones del Grupo Seccional de Apoyo"]
[null,null,null,null,{"$f":"IFERROR(GESTION!H112,\" \")","v":"Recibir y divulgar las capacitaciones programadas por la Escuela Judicial Rodrigo Lara Bonilla"},{"$f":"IFERROR(GESTION!I112,\" \")","v":"Entregable"},{"$f":"IFERROR(GESTION!J112,\" \")","v":0},null,{"$f":"IFERROR(H112/G112,\"\")","v":""},null,"Conforme se recibe la oferta académica se divulga a través de circular."]
[null,null,null,null,{"$f":"IFERROR(GESTION!H113,\" \")","v":"Gestionar espacios para capacitaciones que se realicen en la seccional (usuario interno y externo) (Comité Seccional de Género / Comité Justicia Restaurativa / Mesa Interjurisdicional Indígena)"},{"$f":"IFERROR(GESTION!I113,\" \")","v":"Entregable"},{"$f":"IFERROR(GESTION!J113,\" \")","v":0},null,{"$f":"IFERROR(H113/G113,\"\")","v":""},null,"se ha participado en las actividades de Rendición de Cuentas y por parte de despacho 02, se coordino participación en el encuentro regional de Género realizado el pasado 15 y 16 de septiembre, el cual conto con la ponencia de las doctoras Indra Prado y Albertina Moreno"]
[null,null,null,null,{"$f":"IFERROR(GESTION!H114,\" \")","v":"Planear y ejecutar el plan de trabajo de SG-SST Seccional vigencia 2023 con apoyo de los aliados estrategicos"},{"$f":"IFERROR(GESTION!I114,\" \")","v":"Meta cuantificable"},{"$f":"IFERROR(GESTION!J114,\" \")","v":152},136,{"$f":"IFERROR(H114/G114,\"\")","v":0.89473684210526316},"No poder contar con los asesores a tiempo y en las areas que se requieren para la realizacion de las actividades.","Se ha desarrollado las actividades dispuestas en el plan dispuesto para el Chocó y en los indicadores se va en cumplimiento en eun 89%"]
[null,null,null,null,{"$f":"IFERROR(GESTION!H115,\" \")","v":"Proyectar, programar y ejecutar actividades  en pro de la seguridad y salud en el trabajo de la población judicial de acuerdo al presupuesto asignado"},{"$f":"IFERROR(GESTION!I115,\" \")","v":"Meta cuantificable"},{"$f":"IFERROR(GESTION!J115,\" \")","v":201674200},201674200,{"$f":"IFERROR(H115/G115,\"\")","v":1},"Disponer de un mayor presupuesto pata las actividades.","Se contrato las actividades de bienestar y seguridad y salud en el trabajo por todo el presu´puesto asignado y su cumplimiento va en un 91%"]
[null,null,"5. Promover el bienestar de todos los servidores judiciales a través de la implementación de un sistema que contemple los diferentes niveles de estrategias y acciones necesarios para mejorar el clima laboral, la salud física y mental y la calidad del tiempo de descanso.","5. Generar espacios de trabajo seguros y saludables que contribuyan a minimizar los  incidentes, accidentes y enfermedades laborales derivados de las condiciones y actos  inseguros y fomentar  el autocuidado, los  estilos de vida y el trabajo saludable en los servidores judiciales, contratistas, judicantes y practicantes",{"$f":"IFERROR(GESTION!H116,\" \")","v":"Ejecutar inspecciones técnicas de seguridad integral, matrices de identificación de peligros y planes de emergencias a las sedes judiciales"},{"$f":"IFERROR(GESTION!I116,\" \")","v":"Meta cuantificable"},{"$f":"IFERROR(GESTION!J116,\" \")","v":35},23,{"$f":"IFERROR(H116/G116,\"\")","v":0.65714285714285714},"La dificultad  s eha presentado con el acceso a las sedes de los Munic","Se tiene prevista el cumplimiento del 100% de la meta propuesta para el mes de noviembre de 2023."]
[null,null,null,null,{"$f":"IFERROR(GESTION!H117,\" \")","v":"Implementar mecanismos para la retroalimentación de las  partes interesadas"},{"$f":"IFERROR(GESTION!I117,\" \")","v":"Entregable"},{"$f":"IFERROR(GESTION!J117,\" \")","v":0},null,{"$f":"IFERROR(H117/G117,\"\")","v":""},null,"esta actividad de tiene programada para el 4 trimestre"]
[null,null,null,null,{"$f":"IFERROR(GESTION!H118,\" \")","v":"Solicitar apoyo al CENDOJ para realización de capacitaciones en tablas de retención documental (TRD)"},{"$f":"IFERROR(GESTION!I118,\" \")","v":"Entregable"},{"$f":"IFERROR(GESTION!J118,\" \")","v":0},null,{"$f":"IFERROR(H118/G118,\"\")","v":""}]
[null,null,null,null,{"$f":"IFERROR(GESTION!H119,\" \")","v":"Hacer uso de la información y de las herramientas tecnológicas dispuestas para la prestación del servicios"},{"$f":"IFERROR(GESTION!I119,\" \")","v":"Entregable"},{"$f":"IFERROR(GESTION!J119,\" \")","v":0},null,{"$f":"IFERROR(H119/G119,\"\")","v":""}]
[null,null,null,null,{"$f":"IFERROR(GESTION!H120,\" \")","v":"Participar en reuniones según programación por parte el SIGCMA para la presentación y aprobación de documentos del proceso de SG-SST"},{"$f":"IFERROR(GESTION!I120,\" \")","v":"Entregable"},{"$f":"IFERROR(GESTION!J120,\" \")","v":0},null,{"$f":"IFERROR(H120/G120,\"\")","v":""},null,"se realizaron reuniones en las siguentes fechas:  27/07/2023; 08/08/2023 y 18/08/2023"]
["5. Gobernanza, planeación estratégica y capacidad de toma de decisiones","Gobernanza, planeación estratégica y capacidad de toma de decisiones: Fortalecer la gobernanza, la planeación estratégica y la capacidad de toma de decisiones de la Rama Judicial con base en la evidencia empírica y la articulación efectiva con las demás entidades, para que la perspectiva de género y el enfoque diferencial sean transversales en el presente plan. ","1. Implementar un nuevo modelo integrado para la planeación estratégica, el seguimiento y la medición del desempeño institucional.","2. Asegurar  el cumplimiento de los objetivos institucionales, la normatividad aplicable,  la mejora del SIGCMA y la satisfacción de los usuarios, revisando de  forma continua y sistemática la planificación de la gestión y fortaleciendo la administración de riesgos y sus controles.",{"$f":"IFERROR(GESTION!H121,\" \")","v":0},{"$f":"IFERROR(GESTION!I121,\" \")","v":0},{"$f":"IFERROR(GESTION!J121,\" \")","v":0},null,{"$f":"IFERROR(H121/G121,\"\")","v":""}]
[null,null,null,null,{"$f":"IFERROR(GESTION!H122,\" \")","v":"Elaborar el Informe de la Alta Dirección "},{"$f":"IFERROR(GESTION!I122,\" \")","v":"Entregable"},{"$f":"IFERROR(GESTION!J122,\" \")","v":0},null,{"$f":"IFERROR(H122/G122,\"\")","v":""},null,"Se elaboró el 27/05/2023"]
[null,null,null,null,{"$f":"IFERROR(GESTION!H123,\" \")","v":"Participar en las reuniones de Control Interno Seccional "},{"$f":"IFERROR(GESTION!I123,\" \")","v":"Entregable"},{"$f":"IFERROR(GESTION!J123,\" \")","v":0},null,{"$f":"IFERROR(H123/G123,\"\")","v":""},null,"No fue convocada sesión por parte de la Oficina de Control Interno de la DEJAC Antioquía. "]
[null,null,null,null,{"$f":"IFERROR(GESTION!H124,\" \")","v":0},{"$f":"IFERROR(GESTION!I124,\" \")","v":0},{"$f":"IFERROR(GESTION!J124,\" \")","v":0},null,{"$f":"IFERROR(H124/G124,\"\")","v":""}]
[null,null,null,null,{"$f":"IFERROR(GESTION!H125,\" \")","v":0},{"$f":"IFERROR(GESTION!I125,\" \")","v":0},{"$f":"IFERROR(GESTION!J125,\" \")","v":0},null,{"$f":"IFERROR(H125/G125,\"\")","v":""}]
[null,null,"2. Definir e implementar el modelo optimizado de formulación, seguimiento y evaluación de la política pública judicial.",null,{"$f":"IFERROR(GESTION!H126,\" \")","v":0},{"$f":"IFERROR(GESTION!I126,\" \")","v":0},{"$f":"IFERROR(GESTION!J126,\" \")","v":0},null,{"$f":"IFERROR(H126/G126,\"\")","v":""}]
[null,null,null,null,{"$f":"IFERROR(GESTION!H127,\" \")","v":0},{"$f":"IFERROR(GESTION!I127,\" \")","v":0},{"$f":"IFERROR(GESTION!J127,\" \")","v":0},null,{"$f":"IFERROR(H127/G127,\"\")","v":""}]
[null,null,null,null,{"$f":"IFERROR(GESTION!H128,\" \")","v":0},{"$f":"IFERROR(GESTION!I128,\" \")","v":0},{"$f":"IFERROR(GESTION!J128,\" \")","v":0},null,{"$f":"IFERROR(H128/G128,\"\")","v":""}]
[null,null,null,null,{"$f":"IFERROR(GESTION!H129,\" \")","v":0},{"$f":"IFERROR(GESTION!I129,\" \")","v":0},{"$f":"IFERROR(GESTION!J129,\" \")","v":0},null,{"$f":"IFERROR(H129/G129,\"\")","v":""}]
[null,null,null,null,{"$f":"IFERROR(GESTION!H130,\" \")","v":0},{"$f":"IFERROR(GESTION!I130,\" \")","v":0},{"$f":"IFERROR(GESTION!J130,\" \")","v":0},null,{"$f":"IFERROR(H130/G130,\"\")","v":""}]

{"sheet":"INVERSION","index":8,"n_rows":130,"n_cols":40,"rows_kept":130,"cut":false,"hidden":true,"merged":[[1,39,1,48],[1,0,1,17],[1,18,1,38],[2,25,2,37],[2,38,4,38],[3,0,4,1],[3,2,4,2],[3,5,4,5],[3,6,3,11],[3,12,3,22],[3,23,3,24],[2,0,2,5],[2,6,2,24],[3,32,3,37],[3,25,3,31],[3,3,4,3],[25,2,29,2],[25,3,29,3],[25,4,29,4],[40,3,44,3],[40,4,44,4],[45,2,49,2],[45,3,49,3],[45,4,49,4],[50,2,54,2],[50,3,54,3],[50,4,54,4],[10,4,14,4],[10,5,14,5],[3,4,4,4],[5,2,9,2],[5,3,9,3],[5,4,9,4],[15,2,19,2],[15,3,19,3],[15,4,19,4],[30,0,59,0],[30,1,59,1],[25,5,29,5],[5,0,29,0],[5,1,29,1],[55,2,59,2],[55,3,59,3],[55,4,59,4],[30,5,59,5],[30,2,34,2],[30,3,34,3],[30,4,34,4],[35,2,39,2],[35,3,39,3],[35,4,39,4],[40,2,44,2],[15,5,19,5],[20,2,24,2],[20,3,24,3],[20,4,24,4],[20,5,24,5],[5,5,9,5],[10,2,14,2],[10,3,14,3],[70,5,74,5],[60,1,94,1],[75,5,89,5],[65,2,69,2],[65,3,69,3],[65,4,69,4],[65,5,69,5],[60,2,64,2],[60,3,64,3],[60,4,64,4],[60,5,64,5],[80,2,84,2],[80,3,84,3],[80,4,84,4],[75,2,79,2],[75,3,79,3],[75,4,79,4],[90,2,94,2],[90,3,94,3],[90,4,94,4],[90,5,94,5],[85,4,89,4],[85,2,89,2],[85,3,89,3],[60,0,94,0],[95,2,99,2],[95,3,99,3],[95,4,99,4],[100,2,104,2],[100,3,104,3],[100,4,104,4],[70,2,74,2],[70,3,74,3],[70,4,74,4],[95,5,114,5],[115,5,119,5],[95,1,119,1],[95,0,119,0],[120,5,129,5],[125,2,129,2],[125,3,129,3],[125,4,129,4],[120,1,129,1],[120,0,129,0],[115,2,119,2],[115,3,119,3],[115,4,119,4],[120,2,124,2],[120,3,124,3],[120,4,124,4],[110,2,114,2],[110,3,114,3],[110,4,114,4],[105,2,109,2],[105,3,109,3],[105,4,109,4]]}
[]
["CONSEJO SUPERIOR DE LA JUDICATURA \nUNIDADES MISIONALES DEL CONSEJO SUPERIOR DE LA JUDICATURA \nDIRECCIÓN EJECUTIVA DE ADMINISTRACIÓN JUDICIAL (DEAJ) - UNIDADES MISIONALES DE LA DEAJ\nDIRECCIONES SECCIONALES DE ADMINISTRACIÓN JUDICIAL ",null,null,null,null,null,null,null,null,null,null,null,null,null,null,null,null,null,null,null,null,null,null,null,null,null,null,null,null,null,null,null,null,null,null,null,null,null,null,"GENERADOR DE SEGUIMIENTOS TRIMESTALES"]
["PLAN SECTORIAL DE DESARROLLO 2023-2026 - OBJETIVOS SIGCMA",null,null,null,null,null,"PLAN DE ACCIÓN Y SEGUIMIENTO A LA INVERSIÓN INSTITUCIONAL ",null,null,null,null,null,null,null,null,null,null,null,null,null,null,null,null,null,null,"AVANCE PLAN DE ACCIÓN ANUAL",null,null,null,null,null,null,null,null,null,null,null,null," ANÁLISIS RESULTADO\nFINAL - ACUMULADO"]
["OBJETIVO ESTRATÉGICO",null,"OBJETIVO ESPECÍFICO PSD","NOMBRE DEL INDICADOR PSD","DEFINICIÓN DEL INDICADOR","OBJETIVO ESPECÍFICO SIGCMA","IDENTIFICACIÓN PROYECTO DE INVERSIÓN",null,null,null,null,null,"PARÁMETROS DE MEDICIÓN ",null,null,null,null,null,null,null,null,null,null,"INFORMACIÓN FINANCIERA",null,"SEGUIMIENTO - CUMPLIMIENTO ANUAL ",null,null,null,null,null,null,"INFORMACIÓN COMPLEMENTARIA FINAL"]
[null,null,null,null,null,null,"PROGRAMA DE INVERSIÓN","SUBPROGRAMA DE INVERSIÓN","RUBRO PRESUPUESTAL","CÓDIGO BPIN","NOMBRE DE PROYECTO","OBJETIVO ESPECÍFICO FORMULADO DEL PROYECTO BPIN","NOMBRE ACTIVIDAD DE INVERSIÓN (POAI)","JUSTIFICACIÓN DE LA ACTIVIDAD","DESCRIBA EL ENTREGABLE \n(Producto y/o servicio principal)","META ANUALIDAD","UNIDAD DE MEDIDA","TIPO DE INDICADOR (GESTIÓN O PRODUCTO)","FECHA DE INICIO DE LA ACTIVIDAD\nDÍA/MES/AÑO","FECHA TERMINACIÓN ACTIVIDAD\nDÍA/MES/AÑO \n(Sí supera anualidad, favor dejar 31/12/20xx)","NÚMERO DE BENEFICIARIOS INTERNOS (Servidores Judiciales)","NÚMERO DE BENEFICIARIOS EXTERNOS (Usuarios)"," DEPENDENCIA RESPONSABLE ","ACTO ADMINISTRATIVO (INDICAR EL ACUERDO INICIAL Y MODIFICACIONES)","RECURSOS ASIGNADOS ($)","DETALLE DE LAS ACTIVIDADES REALIZADAS PARA EL LOGRO DE LA INVERSIÓN (Periodo de reporte acumulado) ","COMPROMISO PRESUPUESTAL (VALOR DEL CONTRATO)","AVANCE DE LA META","% AVANCE ANUAL DE LA ACTIVIDAD"," % AVANCE PRESUPUESTAL ANUAL","AVANCE  DE LA ACTIVIDAD - % EN TIEMPO ANUAL","REZAGO","NÚMERO DE BENEFICIADOS INTERNOS","NÚMERO DE BENEFICIADOS EXTERNOS","DIFICULTADES PARA LOGRAR LA META PROPUESTA","EL PRODUCTO FINAL OBTENIDO ¿CÓMO IMPACTÓ SOBRE EL OBJETIVO ESTRATÉGICO?","RECOMENDACIONES PARA LOGRAR LA META","OBSERVACIONES"]
["1. Acceso e Infraestructura Física","Acceso e Infraestructura Física: Ampliar, en todo el territorio nacional, el acceso a una justicia efectiva, pronta, equitativa e incluyente, reduciendo el atraso y la congestión, de acuerdo con las necesidades de la demanda de justicia por jurisdicción y especialidad, y mejorando la articulación con la justicia restaurativa y terapéutica, y otros mecanismos de solución de conflictos y consolidando una infraestructura física óptima para el acceso a la justicia.","1. Ampliar el acceso a justicia para atender las necesidades jurídicas de los ciudadanos con un enfoque diferencial, de una manera pronta, reduciendo las inequidades y las brechas territoriales de acceso.","Estrategias implementadas por la Rama Judicial para ampliar el acceso a la justicia considerando el enfoque diferencial y territorial\n\nÍndice de dispersión en la calificación del factor calidad","# de estrategias establecida s en la meta implementa das durante la vigencia del plan\n\nDispersión en la calificación del factor de calidad por jurisdicción y nivel de competencia.","2. Asegurar  el cumplimiento de los objetivos institucionales, la normatividad aplicable,  la mejora del SIGCMA y la satisfacción de los usuarios, revisando de  forma continua y sistemática la planificación de la gestión y fortaleciendo la administración de riesgos y sus controles",null,null,null,null,null,null,null,null,null,null,null,null,null,null,null,null,null,null,null,{"$f":"IFERROR(#REF!,\" \")","v":" "},{"$f":"IFERROR(#REF!,\"\")","v":""},{"$f":"IFERROR(#REF!,\"\")","v":""},{"$f":"IFERROR(AB6/P6,\"\")","v":""},{"$f":"IFERROR(AA6/Y6,\"\")","v":""},{"$f":"IFERROR(#REF!,\"\")","v":""},{"$f":"IFERROR(P6-AB6,\"\")","v":""},{"$f":"IFERROR(#REF!,\"\")","v":""},{"$f":"IFERROR(#REF!,\"\")","v":""},{"$f":"_xlfn.CONCAT(\"Trimestre 1\",CHAR(10),IFERROR(#REF!,\"\"))","v":"Trimestre 1\n"},{"$f":"_xlfn.CONCAT(\"Trimestre 1\",CHAR(10),IFERROR(#REF!,\"\"))","v":"Trimestre 1\n"},{"$f":"_xlfn.CONCAT(\"Trimestre 1\",CHAR(10),IFERROR(#REF!,\"\"))","v":"Trimestre 1\n"},{"$f":"_xlfn.CONCAT(\"Trimestre 1\",CHAR(10),IFERROR(#REF!,\"\"))","v":"Trimestre 1\n"},{"$f":"_xlfn.CONCAT(\"Trimestre 1\",CHAR(10),IFERROR(#REF!,\"\"))","v":"Trimestre 1\n"}]
[null,null,null,null,null,null,null,null,null,null,null,null,null,null,null,null,null,null,null,null,null,null,null,null,null,{"$f":"IFERROR(#REF!,\" \")","v":" "},{"$f":"IFERROR(#REF!,\"\")","v":""},{"$f":"IFERROR(#REF!,\"\")","v":""},{"$f":"IFERROR(AB7/P7,\"\")","v":""},{"$f":"IFERROR(AA7/Y7,\"\")","v":""},{"$f":"IFERROR(#REF!,\"\")","v":""},{"$f":"IFERROR(P7-AB7,\"\")","v":""},{"$f":"IFERROR(#REF!,\"\")","v":""},{"$f":"IFERROR(#REF!,\"\")","v":""},{"$f":"_xlfn.CONCAT(\"Trimestre 1\",CHAR(10),IFERROR(#REF!,\"\"))","v":"Trimestre 1\n"},{"$f":"_xlfn.CONCAT(\"Trimestre 1\",CHAR(10),IFERROR(#REF!,\"\"))","v":"Trimestre 1\n"},{"$f":"_xlfn.CONCAT(\"Trimestre 1\",CHAR(10),IFERROR(#REF!,\"\"))","v":"Trimestre 1\n"},{"$f":"_xlfn.CONCAT(\"Trimestre 1\",CHAR(10),IFERROR(#REF!,\"\"))","v":"Trimestre 1\n"},{"$f":"_xlfn.CONCAT(\"Trimestre 1\",CHAR(10),IFERROR(#REF!,\"\"))","v":"Trimestre 1\n"}]
[null,null,null,null,null,null,null,null,null,null,null,null,null,null,null,null,null,null,null,null,null,null,null,null,null,{"$f":"IFERROR(#REF!,\" \")","v":" "},{"$f":"IFERROR(#REF!,\"\")","v":""},{"$f":"IFERROR(#REF!,\"\")","v":""},{"$f":"IFERROR(AB8/P8,\"\")","v":""},{"$f":"IFERROR(AA8/Y8,\"\")","v":""},{"$f":"IFERROR(#REF!,\"\")","v":""},"",{"$f":"IFERROR(#REF!,\"\")","v":""},{"$f":"IFERROR(#REF!,\"\")","v":""},{"$f":"_xlfn.CONCAT(\"Trimestre 1\",CHAR(10),IFERROR(#REF!,\"\"))","v":"Trimestre 1\n"},{"$f":"_xlfn.CONCAT(\"Trimestre 1\",CHAR(10),IFERROR(#REF!,\"\"))","v":"Trimestre 1\n"},{"$f":"_xlfn.CONCAT(\"Trimestre 1\",CHAR(10),IFERROR(#REF!,\"\"))","v":"Trimestre 1\n"},{"$f":"_xlfn.CONCAT(\"Trimestre 1\",CHAR(10),IFERROR(#REF!,\"\"))","v":"Trimestre 1\n"},{"$f":"_xlfn.CONCAT(\"Trimestre 1\",CHAR(10),IFERROR(#REF!,\"\"))","v":"Trimestre 1\n"}]
[null,null,null,null,null,null,null,null,null,null,null,null,null,null,null,null,null,null,null,null,null,null,null,null,null,{"$f":"IFERROR(#REF!,\" \")","v":" "},{"$f":"IFERROR(#REF!,\"\")","v":""},{"$f":"IFERROR(#REF!,\"\")","v":""},"","",{"$f":"IFERROR(#REF!,\"\")","v":""},"",{"$f":"IFERROR(#REF!,\"\")","v":""},{"$f":"IFERROR(#REF!,\"\")","v":""},{"$f":"_xlfn.CONCAT(\"Trimestre 1\",CHAR(10),IFERROR(#REF!,\"\"))","v":"Trimestre 1\n"},{"$f":"_xlfn.CONCAT(\"Trimestre 1\",CHAR(10),IFERROR(#REF!,\"\"))","v":"Trimestre 1\n"},{"$f":"_xlfn.CONCAT(\"Trimestre 1\",CHAR(10),IFERROR(#REF!,\"\"))","v":"Trimestre 1\n"},{"$f":"_xlfn.CONCAT(\"Trimestre 1\",CHAR(10),IFERROR(#REF!,\"\"))","v":"Trimestre 1\n"},{"$f":"_xlfn.CONCAT(\"Trimestre 1\",CHAR(10),IFERROR(#REF!,\"\"))","v":"Trimestre 1\n"}]
[null,null,null,null,null,null,null,null,null,null,null,null,null,null,null,null,null,null,null,null,null,null,null,null,null,{"$f":"IFERROR(#REF!,\" \")","v":" "},{"$f":"IFERROR(#REF!,\"\")","v":""},{"$f":"IFERROR(#REF!,\"\")","v":""},"","",{"$f":"IFERROR(#REF!,\"\")","v":""},"",{"$f":"IFERROR(#REF!,\"\")","v":""},{"$f":"IFERROR(#REF!,\"\")","v":""},{"$f":"_xlfn.CONCAT(\"Trimestre 1\",CHAR(10),IFERROR(#REF!,\"\"))","v":"Trimestre 1\n"},{"$f":"_xlfn.CONCAT(\"Trimestre 1\",CHAR(10),IFERROR(#REF!,\"\"))","v":"Trimestre 1\n"},{"$f":"_xlfn.CONCAT(\"Trimestre 1\",CHAR(10),IFERROR(#REF!,\"\"))","v":"Trimestre 1\n"},{"$f":"_xlfn.CONCAT(\"Trimestre 1\",CHAR(10),IFERROR(#REF!,\"\"))","v":"Trimestre 1\n"},{"$f":"_xlfn.CONCAT(\"Trimestre 1\",CHAR(10),IFERROR(#REF!,\"\"))","v":"Trimestre 1\n"}]
[null,null,"2. Mejorar los tiempos de respuesta de la Rama Judicial y reducir el inventario de procesos, identificando los retos internos y promoviendo tanto acciones articuladas específicas para abordarlos como estrategias coordinadas para enfrentar las barreras que dependen de otras entidades.","Reducción de tiempos de respuesta en los despachos en los que se implemente el sistema de gestión judicial","% Reducción del promedio de días de duración de los procesos judiciales en los despachos en los que se implemente el sistema de gestión judicial","2. Asegurar  el cumplimiento de los objetivos institucionales, la normatividad aplicable,  la mejora del SIGCMA y la satisfacción de los usuarios, revisando de  forma continua y sistemática la planificación de la gestión y fortaleciendo la administración de riesgos y sus controles",null,null,null,null,null,null,null,null,null,null,null,null,null,null,null,null,null,null,null,{"$f":"IFERROR(#REF!,\" \")","v":" "},{"$f":"IFERROR(#REF!,\"\")","v":""},{"$f":"IFERROR(#REF!,\"\")","v":""},"","",{"$f":"IFERROR(#REF!,\"\")","v":""},"",{"$f":"IFERROR(#REF!,\"\")","v":""},{"$f":"IFERROR(#REF!,\"\")","v":""},{"$f":"_xlfn.CONCAT(\"Trimestre 1\",CHAR(10),IFERROR(#REF!,\"\"))","v":"Trimestre 1\n"},{"$f":"_xlfn.CONCAT(\"Trimestre 1\",CHAR(10),IFERROR(#REF!,\"\"))","v":"Trimestre 1\n"},{"$f":"_xlfn.CONCAT(\"Trimestre 1\",CHAR(10),IFERROR(#REF!,\"\"))","v":"Trimestre 1\n"},{"$f":"_xlfn.CONCAT(\"Trimestre 1\",CHAR(10),IFERROR(#REF!,\"\"))","v":"Trimestre 1\n"},{"$f":"_xlfn.CONCAT(\"Trimestre 1\",CHAR(10),IFERROR(#REF!,\"\"))","v":"Trimestre 1\n"}]
[null,null,null,null,null,null,null,null,null,null,null,null,null,null,null,null,null,null,null,null,null,null,null,null,null,{"$f":"IFERROR(#REF!,\" \")","v":" "},{"$f":"IFERROR(#REF!,\"\")","v":""},{"$f":"IFERROR(#REF!,\"\")","v":""},"","",{"$f":"IFERROR(#REF!,\"\")","v":""},"",{"$f":"IFERROR(#REF!,\"\")","v":""},{"$f":"IFERROR(#REF!,\"\")","v":""},{"$f":"_xlfn.CONCAT(\"Trimestre 1\",CHAR(10),IFERROR(#REF!,\"\"))","v":"Trimestre 1\n"},{"$f":"_xlfn.CONCAT(\"Trimestre 1\",CHAR(10),IFERROR(#REF!,\"\"))","v":"Trimestre 1\n"},{"$f":"_xlfn.CONCAT(\"Trimestre 1\",CHAR(10),IFERROR(#REF!,\"\"))","v":"Trimestre 1\n"},{"$f":"_xlfn.CONCAT(\"Trimestre 1\",CHAR(10),IFERROR(#REF!,\"\"))","v":"Trimestre 1\n"},{"$f":"_xlfn.CONCAT(\"Trimestre 1\",CHAR(10),IFERROR(#REF!,\"\"))","v":"Trimestre 1\n"}]
[null,null,null,null,null,null,null,null,null,null,null,null,null,null,null,null,null,null,null,null,null,null,null,null,null,{"$f":"IFERROR(#REF!,\" \")","v":" "},{"$f":"IFERROR(#REF!,\"\")","v":""},{"$f":"IFERROR(#REF!,\"\")","v":""},"","",{"$f":"IFERROR(#REF!,\"\")","v":""},"",{"$f":"IFERROR(#REF!,\"\")","v":""},{"$f":"IFERROR(#REF!,\"\")","v":""},{"$f":"_xlfn.CONCAT(\"Trimestre 1\",CHAR(10),IFERROR(#REF!,\"\"))","v":"Trimestre 1\n"},{"$f":"_xlfn.CONCAT(\"Trimestre 1\",CHAR(10),IFERROR(#REF!,\"\"))","v":"Trimestre 1\n"},{"$f":"_xlfn.CONCAT(\"Trimestre 1\",CHAR(10),IFERROR(#REF!,\"\"))","v":"Trimestre 1\n"},{"$f":"_xlfn.CONCAT(\"Trimestre 1\",CHAR(10),IFERROR(#REF!,\"\"))","v":"Trimestre 1\n"},{"$f":"_xlfn.CONCAT(\"Trimestre 1\",CHAR(10),IFERROR(#REF!,\"\"))","v":"Trimestre 1\n"}]
[null,null,null,null,null,null,null,null,null,null,null,null,null,null,null,null,null,null,null,null,null,null,null,null,null,{"$f":"IFERROR(#REF!,\" \")","v":" "},{"$f":"IFERROR(#REF!,\"\")","v":""},{"$f":"IFERROR(#REF!,\"\")","v":""},"","",{"$f":"IFERROR(#REF!,\"\")","v":""},"",{"$f":"IFERROR(#REF!,\"\")","v":""},{"$f":"IFERROR(#REF!,\"\")","v":""},{"$f":"_xlfn.CONCAT(\"Trimestre 1\",CHAR(10),IFERROR(#REF!,\"\"))","v":"Trimestre 1\n"},{"$f":"_xlfn.CONCAT(\"Trimestre 1\",CHAR(10),IFERROR(#REF!,\"\"))","v":"Trimestre 1\n"},{"$f":"_xlfn.CONCAT(\"Trimestre 1\",CHAR(10),IFERROR(#REF!,\"\"))","v":"Trimestre 1\n"},{"$f":"_xlfn.CONCAT(\"Trimestre 1\",CHAR(10),IFERROR(#REF!,\"\"))","v":"Trimestre 1\n"},{"$f":"_xlfn.CONCAT(\"Trimestre 1\",CHAR(10),IFERROR(#REF!,\"\"))","v":"Trimestre 1\n"}]
[null,null,null,null,null,null,null,null,null,null,null,null,null,null,null,null,null,null,null,null,null,null,null,null,null,{"$f":"IFERROR(#REF!,\" \")","v":" "},{"$f":"IFERROR(#REF!,\"\")","v":""},{"$f":"IFERROR(#REF!,\"\")","v":""},"","",{"$f":"IFERROR(#REF!,\"\")","v":""},"",{"$f":"IFERROR(#REF!,\"\")","v":""},{"$f":"IFERROR(#REF!,\"\")","v":""},{"$f":"_xlfn.CONCAT(\"Trimestre 1\",CHAR(10),IFERROR(#REF!,\"\"))","v":"Trimestre 1\n"},{"$f":"_xlfn.CONCAT(\"Trimestre 1\",CHAR(10),IFERROR(#REF!,\"\"))","v":"Trimestre 1\n"},{"$f":"_xlfn.CONCAT(\"Trimestre 1\",CHAR(10),IFERROR(#REF!,\"\"))","v":"Trimestre 1\n"},{"$f":"_xlfn.CONCAT(\"Trimestre 1\",CHAR(10),IFERROR(#REF!,\"\"))","v":"Trimestre 1\n"},{"$f":"_xlfn.CONCAT(\"Trimestre 1\",CHAR(10),IFERROR(#REF!,\"\"))","v":"Trimestre 1\n"}]
[null,null,"3. Coadyuvar en la garantía de la idoneidad en el ejercicio de la profesión jurídica de acuerdo con lo establecido en la Ley 1905 de 2018.",null,null,"2. Asegurar  el cumplimiento de los objetivos institucionales, la normatividad aplicable,  la mejora del SIGCMA y la satisfacción de los usuarios, revisando de  forma continua y sistemática la planificación de la gestión y fortaleciendo la administración de riesgos y sus controles",null,null,null,null,null,null,null,null,null,null,null,null,null,null,null,null,null,null,null,{"$f":"IFERROR(#REF!,\" \")","v":" "},{"$f":"IFERROR(#REF!,\"\")","v":""},{"$f":"IFERROR(#REF!,\"\")","v":""},"","",{"$f":"IFERROR(#REF!,\"\")","v":""},"",{"$f":"IFERROR(#REF!,\"\")","v":""},{"$f":"IFERROR(#REF!,\"\")","v":""},{"$f":"_xlfn.CONCAT(\"Trimestre 1\",CHAR(10),IFERROR(#REF!,\"\"))","v":"Trimestre 1\n"},{"$f":"_xlfn.CONCAT(\"Trimestre 1\",CHAR(10),IFERROR(#REF!,\"\"))","v":"Trimestre 1\n"},{"$f":"_xlfn.CONCAT(\"Trimestre 1\",CHAR(10),IFERROR(#REF!,\"\"))","v":"Trimestre 1\n"},{"$f":"_xlfn.CONCAT(\"Trimestre 1\",CHAR(10),IFERROR(#REF!,\"\"))","v":"Trimestre 1\n"},{"$f":"_xlfn.CONCAT(\"Trimestre 1\",CHAR(10),IFERROR(#REF!,\"\"))","v":"Trimestre 1\n"}]
[null,null,null,null,null,null,null,null,null,null,null,null,null,null,null,null,null,null,null,null,null,null,null,null,null,{"$f":"IFERROR(#REF!,\" \")","v":" "},{"$f":"IFERROR(#REF!,\"\")","v":""},{"$f":"IFERROR(#REF!,\"\")","v":""},"","",{"$f":"IFERROR(#REF!,\"\")","v":""},"",{"$f":"IFERROR(#REF!,\"\")","v":""},{"$f":"IFERROR(#REF!,\"\")","v":""},{"$f":"_xlfn.CONCAT(\"Trimestre 1\",CHAR(10),IFERROR(#REF!,\"\"))","v":"Trimestre 1\n"},{"$f":"_xlfn.CONCAT(\"Trimestre 1\",CHAR(10),IFERROR(#REF!,\"\"))","v":"Trimestre 1\n"},{"$f":"_xlfn.CONCAT(\"Trimestre 1\",CHAR(10),IFERROR(#REF!,\"\"))","v":"Trimestre 1\n"},{"$f":"_xlfn.CONCAT(\"Trimestre 1\",CHAR(10),IFERROR(#REF!,\"\"))","v":"Trimestre 1\n"},{"$f":"_xlfn.CONCAT(\"Trimestre 1\",CHAR(10),IFERROR(#REF!,\"\"))","v":"Trimestre 1\n"}]
[null,null,null,null,null,null,null,null,null,null,null,null,null,null,null,null,null,null,null,null,null,null,null,null,null,{"$f":"IFERROR(#REF!,\" \")","v":" "},{"$f":"IFERROR(#REF!,\"\")","v":""},{"$f":"IFERROR(#REF!,\"\")","v":""},"","",{"$f":"IFERROR(#REF!,\"\")","v":""},"",{"$f":"IFERROR(#REF!,\"\")","v":""},{"$f":"IFERROR(#REF!,\"\")","v":""},{"$f":"_xlfn.CONCAT(\"Trimestre 1\",CHAR(10),IFERROR(#REF!,\"\"))","v":"Trimestre 1\n"},{"$f":"_xlfn.CONCAT(\"Trimestre 1\",CHAR(10),IFERROR(#REF!,\"\"))","v":"Trimestre 1\n"},{"$f":"_xlfn.CONCAT(\"Trimestre 1\",CHAR(10),IFERROR(#REF!,\"\"))","v":"Trimestre 1\n"},{"$f":"_xlfn.CONCAT(\"Trimestre 1\",CHAR(10),IFERROR(#REF!,\"\"))","v":"Trimestre 1\n"},{"$f":"_xlfn.CONCAT(\"Trimestre 1\",CHAR(10),IFERROR(#REF!,\"\"))","v":"Trimestre 1\n"}]
[null,null,null,null,null,null,null,null,null,null,null,null,null,null,null,null,null,null,null,null,null,null,null,null,null,{"$f":"IFERROR(#REF!,\" \")","v":" "},{"$f":"IFERROR(#REF!,\"\")","v":""},{"$f":"IFERROR(#REF!,\"\")","v":""},"","",{"$f":"IFERROR(#REF!,\"\")","v":""},"",{"$f":"IFERROR(#REF!,\"\")","v":""},{"$f":"IFERROR(#REF!,\"\")","v":""},{"$f":"_xlfn.CONCAT(\"Trimestre 1\",CHAR(10),IFERROR(#REF!,\"\"))","v":"Trimestre 1\n"},{"$f":"_xlfn.CONCAT(\"Trimestre 1\",CHAR(10),IFERROR(#REF!,\"\"))","v":"Trimestre 1\n"},{"$f":"_xlfn.CONCAT(\"Trimestre 1\",CHAR(10),IFERROR(#REF!,\"\"))","v":"Trimestre 1\n"},{"$f":"_xlfn.CONCAT(\"Trimestre 1\",CHAR(10),IFERROR(#REF!,\"\"))","v":"Trimestre 1\n"},{"$f":"_xlfn.CONCAT(\"Trimestre 1\",CHAR(10),IFERROR(#REF!,\"\"))","v":"Trimestre 1\n"}]
[null,null,null,null,null,null,null,null,null,null,null,null,null,null,null,null,null,null,null,null,null,null,null,null,null,{"$f":"IFERROR(#REF!,\" \")","v":" "},{"$f":"IFERROR(#REF!,\"\")","v":""},{"$f":"IFERROR(#REF!,\"\")","v":""},"","",{"$f":"IFERROR(#REF!,\"\")","v":""},"",{"$f":"IFERROR(#REF!,\"\")","v":""},{"$f":"IFERROR(#REF!,\"\")","v":""},{"$f":"_xlfn.CONCAT(\"Trimestre 1\",CHAR(10),IFERROR(#REF!,\"\"))","v":"Trimestre 1\n"},{"$f":"_xlfn.CONCAT(\"Trimestre 1\",CHAR(10),IFERROR(#REF!,\"\"))","v":"Trimestre 1\n"},{"$f":"_xlfn.CONCAT(\"Trimestre 1\",CHAR(10),IFERROR(#REF!,\"\"))","v":"Trimestre 1\n"},{"$f":"_xlfn.CONCAT(\"Trimestre 1\",CHAR(10),IFERROR(#REF!,\"\"))","v":"Trimestre 1\n"},{"$f":"_xlfn.CONCAT(\"Trimestre 1\",CHAR(10),IFERROR(#REF!,\"\"))","v":"Trimestre 1\n"}]
[null,null,"4. Avanzar en la disposición de una infraestructura óptima para el acceso a la justicia en la Rama Judicial de modo que se fortalezca la presencia territorial, teniendo en cuenta las posibilidades que ofrece la transformación digital y las necesidades que se derivan de ella, y considerando tanto las necesidades de los usuarios como las de los servidores judiciales.","Diseños para la construcción de despachos judiciales","# de sedes proyectada s para construir o intervenir en el cuatrienio / # sedes efectivamen te construidas o intervenidas\n\nTotal de\ndiseños aprobados","4. Hacer un uso racional de los recursos naturales aplicando los principios y fases de la Economía Circular, para prevenir, mitigar y controlar los impactos ambientales",null,null,null,null,null,null,null,null,null,null,null,null,null,null,null,null,null,null,null,{"$f":"IFERROR(#REF!,\" \")","v":" "},{"$f":"IFERROR(#REF!,\"\")","v":""},{"$f":"IFERROR(#REF!,\"\")","v":""},"","",{"$f":"IFERROR(#REF!,\"\")","v":""},"",{"$f":"IFERROR(#REF!,\"\")","v":""},{"$f":"IFERROR(#REF!,\"\")","v":""},{"$f":"_xlfn.CONCAT(\"Trimestre 1\",CHAR(10),IFERROR(#REF!,\"\"))","v":"Trimestre 1\n"},{"$f":"_xlfn.CONCAT(\"Trimestre 1\",CHAR(10),IFERROR(#REF!,\"\"))","v":"Trimestre 1\n"},{"$f":"_xlfn.CONCAT(\"Trimestre 1\",CHAR(10),IFERROR(#REF!,\"\"))","v":"Trimestre 1\n"},{"$f":"_xlfn.CONCAT(\"Trimestre 1\",CHAR(10),IFERROR(#REF!,\"\"))","v":"Trimestre 1\n"},{"$f":"_xlfn.CONCAT(\"Trimestre 1\",CHAR(10),IFERROR(#REF!,\"\"))","v":"Trimestre 1\n"}]
[null,null,null,null,null,null,null,null,null,null,null,null,null,null,null,null,null,null,null,null,null,null,null,null,null,{"$f":"IFERROR(#REF!,\" \")","v":" "},{"$f":"IFERROR(#REF!,\"\")","v":""},{"$f":"IFERROR(#REF!,\"\")","v":""},"","",{"$f":"IFERROR(#REF!,\"\")","v":""},"",{"$f":"IFERROR(#REF!,\"\")","v":""},{"$f":"IFERROR(#REF!,\"\")","v":""},{"$f":"_xlfn.CONCAT(\"Trimestre 1\",CHAR(10),IFERROR(#REF!,\"\"))","v":"Trimestre 1\n"},{"$f":"_xlfn.CONCAT(\"Trimestre 1\",CHAR(10),IFERROR(#REF!,\"\"))","v":"Trimestre 1\n"},{"$f":"_xlfn.CONCAT(\"Trimestre 1\",CHAR(10),IFERROR(#REF!,\"\"))","v":"Trimestre 1\n"},{"$f":"_xlfn.CONCAT(\"Trimestre 1\",CHAR(10),IFERROR(#REF!,\"\"))","v":"Trimestre 1\n"},{"$f":"_xlfn.CONCAT(\"Trimestre 1\",CHAR(10),IFERROR(#REF!,\"\"))","v":"Trimestre 1\n"}]
[null,null,null,null,null,null,null,null,null,null,null,null,null,null,null,null,null,null,null,null,null,null,null,null,null,{"$f":"IFERROR(#REF!,\" \")","v":" "},{"$f":"IFERROR(#REF!,\"\")","v":""},{"$f":"IFERROR(#REF!,\"\")","v":""},"","",{"$f":"IFERROR(#REF!,\"\")","v":""},"",{"$f":"IFERROR(#REF!,\"\")","v":""},{"$f":"IFERROR(#REF!,\"\")","v":""},{"$f":"_xlfn.CONCAT(\"Trimestre 1\",CHAR(10),IFERROR(#REF!,\"\"))","v":"Trimestre 1\n"},{"$f":"_xlfn.CONCAT(\"Trimestre 1\",CHAR(10),IFERROR(#REF!,\"\"))","v":"Trimestre 1\n"},{"$f":"_xlfn.CONCAT(\"Trimestre 1\",CHAR(10),IFERROR(#REF!,\"\"))","v":"Trimestre 1\n"},{"$f":"_xlfn.CONCAT(\"Trimestre 1\",CHAR(10),IFERROR(#REF!,\"\"))","v":"Trimestre 1\n"},{"$f":"_xlfn.CONCAT(\"Trimestre 1\",CHAR(10),IFERROR(#REF!,\"\"))","v":"Trimestre 1\n"}]
[null,null,null,null,null,null,null,null,null,null,null,null,null,null,null,null,null,null,null,null,null,null,null,null,null,{"$f":"IFERROR(#REF!,\" \")","v":" "},{"$f":"IFERROR(#REF!,\"\")","v":""},{"$f":"IFERROR(#REF!,\"\")","v":""},"","",{"$f":"IFERROR(#REF!,\"\")","v":""},"",{"$f":"IFERROR(#REF!,\"\")","v":""},{"$f":"IFERROR(#REF!,\"\")","v":""},{"$f":"_xlfn.CONCAT(\"Trimestre 1\",CHAR(10),IFERROR(#REF!,\"\"))","v":"Trimestre 1\n"},{"$f":"_xlfn.CONCAT(\"Trimestre 1\",CHAR(10),IFERROR(#REF!,\"\"))","v":"Trimestre 1\n"},{"$f":"_xlfn.CONCAT(\"Trimestre 1\",CHAR(10),IFERROR(#REF!,\"\"))","v":"Trimestre 1\n"},{"$f":"_xlfn.CONCAT(\"Trimestre 1\",CHAR(10),IFERROR(#REF!,\"\"))","v":"Trimestre 1\n"},{"$f":"_xlfn.CONCAT(\"Trimestre 1\",CHAR(10),IFERROR(#REF!,\"\"))","v":"Trimestre 1\n"}]
[null,null,null,null,null,null,null,null,null,null,null,null,null,null,null,null,null,null,null,null,null,null,null,null,null,{"$f":"IFERROR(#REF!,\" \")","v":" "},{"$f":"IFERROR(#REF!,\"\")","v":""},{"$f":"IFERROR(#REF!,\"\")","v":""},"","",{"$f":"IFERROR(#REF!,\"\")","v":""},"",{"$f":"IFERROR(#REF!,\"\")","v":""},{"$f":"IFERROR(#REF!,\"\")","v":""},{"$f":"_xlfn.CONCAT(\"Trimestre 1\",CHAR(10),IFERROR(#REF!,\"\"))","v":"Trimestre 1\n"},{"$f":"_xlfn.CONCAT(\"Trimestre 1\",CHAR(10),IFERROR(#REF!,\"\"))","v":"Trimestre 1\n"},{"$f":"_xlfn.CONCAT(\"Trimestre 1\",CHAR(10),IFERROR(#REF!,\"\"))","v":"Trimestre 1\n"},{"$f":"_xlfn.CONCAT(\"Trimestre 1\",CHAR(10),IFERROR(#REF!,\"\"))","v":"Trimestre 1\n"},{"$f":"_xlfn.CONCAT(\"Trimestre 1\",CHAR(10),IFERROR(#REF!,\"\"))","v":"Trimestre 1\n"}]
[null,null,"5. Impulsar el uso de mecanismos alternativos para la solución de conflictos y la ampliación de la justicia restaurativa y terapéutica y el robustecimiento de las alternativas al encarcelamiento","Seguimiento al cumplimiento de las disposiciones del CSJ que impulsan el uso de mecanismos alternativos de solución de conflictos, la ampliación de la justicia restaurativa y terapéutica y las alternativas al encarcelamiento.","% avance de implementa ción de las estrategias definidas para el seguimiento de las disposicion es adoptadas por el Consejo en materia de justicia restaurativa y terapéutica y las alternativas de encarcelami ento","2. Asegurar  el cumplimiento de los objetivos institucionales, la normatividad aplicable,  la mejora del SIGCMA y la satisfacción de los usuarios, revisando de  forma continua y sistemática la planificación de la gestión y fortaleciendo la administración de riesgos y sus controles",null,null,null,null,null,null,null,null,null,null,null,null,null,null,null,null,null,null,null,{"$f":"IFERROR(#REF!,\" \")","v":" "},{"$f":"IFERROR(#REF!,\"\")","v":""},{"$f":"IFERROR(#REF!,\"\")","v":""},"","",{"$f":"IFERROR(#REF!,\"\")","v":""},"",{"$f":"IFERROR(#REF!,\"\")","v":""},{"$f":"IFERROR(#REF!,\"\")","v":""},{"$f":"_xlfn.CONCAT(\"Trimestre 1\",CHAR(10),IFERROR(#REF!,\"\"))","v":"Trimestre 1\n"},{"$f":"_xlfn.CONCAT(\"Trimestre 1\",CHAR(10),IFERROR(#REF!,\"\"))","v":"Trimestre 1\n"},{"$f":"_xlfn.CONCAT(\"Trimestre 1\",CHAR(10),IFERROR(#REF!,\"\"))","v":"Trimestre 1\n"},{"$f":"_xlfn.CONCAT(\"Trimestre 1\",CHAR(10),IFERROR(#REF!,\"\"))","v":"Trimestre 1\n"},{"$f":"_xlfn.CONCAT(\"Trimestre 1\",CHAR(10),IFERROR(#REF!,\"\"))","v":"Trimestre 1\n"}]
[null,null,null,null,null,null,null,null,null,null,null,null,null,null,null,null,null,null,null,null,null,null,null,null,null,{"$f":"IFERROR(#REF!,\" \")","v":" "},{"$f":"IFERROR(#REF!,\"\")","v":""},{"$f":"IFERROR(#REF!,\"\")","v":""},"","",{"$f":"IFERROR(#REF!,\"\")","v":""},"",{"$f":"IFERROR(#REF!,\"\")","v":""},{"$f":"IFERROR(#REF!,\"\")","v":""},{"$f":"_xlfn.CONCAT(\"Trimestre 1\",CHAR(10),IFERROR(#REF!,\"\"))","v":"Trimestre 1\n"},{"$f":"_xlfn.CONCAT(\"Trimestre 1\",CHAR(10),IFERROR(#REF!,\"\"))","v":"Trimestre 1\n"},{"$f":"_xlfn.CONCAT(\"Trimestre 1\",CHAR(10),IFERROR(#REF!,\"\"))","v":"Trimestre 1\n"},{"$f":"_xlfn.CONCAT(\"Trimestre 1\",CHAR(10),IFERROR(#REF!,\"\"))","v":"Trimestre 1\n"},{"$f":"_xlfn.CONCAT(\"Trimestre 1\",CHAR(10),IFERROR(#REF!,\"\"))","v":"Trimestre 1\n"}]
[null,null,null,null,null,null,null,null,null,null,null,null,null,null,null,null,null,null,null,null,null,null,null,null,null,{"$f":"IFERROR(#REF!,\" \")","v":" "},{"$f":"IFERROR(#REF!,\"\")","v":""},{"$f":"IFERROR(#REF!,\"\")","v":""},"","",{"$f":"IFERROR(#REF!,\"\")","v":""},"",{"$f":"IFERROR(#REF!,\"\")","v":""},{"$f":"IFERROR(#REF!,\"\")","v":""},{"$f":"_xlfn.CONCAT(\"Trimestre 1\",CHAR(10),IFERROR(#REF!,\"\"))","v":"Trimestre 1\n"},{"$f":"_xlfn.CONCAT(\"Trimestre 1\",CHAR(10),IFERROR(#REF!,\"\"))","v":"Trimestre 1\n"},{"$f":"_xlfn.CONCAT(\"Trimestre 1\",CHAR(10),IFERROR(#REF!,\"\"))","v":"Trimestre 1\n"},{"$f":"_xlfn.CONCAT(\"Trimestre 1\",CHAR(10),IFERROR(#REF!,\"\"))","v":"Trimestre 1\n"},{"$f":"_xlfn.CONCAT(\"Trimestre 1\",CHAR(10),IFERROR(#REF!,\"\"))","v":"Trimestre 1\n"}]
[null,null,null,null,null,null,null,null,null,null,null,null,null,null,null,null,null,null,null,null,null,null,null,null,null,{"$f":"IFERROR(#REF!,\" \")","v":" "},{"$f":"IFERROR(#REF!,\"\")","v":""},{"$f":"IFERROR(#REF!,\"\")","v":""},"","",{"$f":"IFERROR(#REF!,\"\")","v":""},"",{"$f":"IFERROR(#REF!,\"\")","v":""},{"$f":"IFERROR(#REF!,\"\")","v":""},{"$f":"_xlfn.CONCAT(\"Trimestre 1\",CHAR(10),IFERROR(#REF!,\"\"))","v":"Trimestre 1\n"},{"$f":"_xlfn.CONCAT(\"Trimestre 1\",CHAR(10),IFERROR(#REF!,\"\"))","v":"Trimestre 1\n"},{"$f":"_xlfn.CONCAT(\"Trimestre 1\",CHAR(10),IFERROR(#REF!,\"\"))","v":"Trimestre 1\n"},{"$f":"_xlfn.CONCAT(\"Trimestre 1\",CHAR(10),IFERROR(#REF!,\"\"))","v":"Trimestre 1\n"},{"$f":"_xlfn.CONCAT(\"Trimestre 1\",CHAR(10),IFERROR(#REF!,\"\"))","v":"Trimestre 1\n"}]
[null,null,null,null,null,null,null,null,null,null,null,null,null,null,null,null,null,null,null,null,null,null,null,null,null,{"$f":"IFERROR(#REF!,\" \")","v":" "},{"$f":"IFERROR(#REF!,\"\")","v":""},{"$f":"IFERROR(#REF!,\"\")","v":""},"","",{"$f":"IFERROR(#REF!,\"\")","v":""},"",{"$f":"IFERROR(#REF!,\"\")","v":""},{"$f":"IFERROR(#REF!,\"\")","v":""},{"$f":"_xlfn.CONCAT(\"Trimestre 1\",CHAR(10),IFERROR(#REF!,\"\"))","v":"Trimestre 1\n"},{"$f":"_xlfn.CONCAT(\"Trimestre 1\",CHAR(10),IFERROR(#REF!,\"\"))","v":"Trimestre 1\n"},{"$f":"_xlfn.CONCAT(\"Trimestre 1\",CHAR(10),IFERROR(#REF!,\"\"))","v":"Trimestre 1\n"},{"$f":"_xlfn.CONCAT(\"Trimestre 1\",CHAR(10),IFERROR(#REF!,\"\"))","v":"Trimestre 1\n"},{"$f":"_xlfn.CONCAT(\"Trimestre 1\",CHAR(10),IFERROR(#REF!,\"\"))","v":"Trimestre 1\n"}]
["2. Servicios digitales y de tecnología, innovación y análisis de la información.","Servicios digitales y de tecnología, innovación y análisis de la información: Consolidar una justicia integrada y soportada en servicios digitales y de tecnología, innovación y análisis de la información, con una cultura digital apropiada, segura y sensible a las realidades del territorio nacional. ","1. Ampliar el acceso a la justicia a través de la consolidación del uso de los servicios digitales que conforman el sistema único integrado de gestión judicial en todos los despachos judiciales y dependencias de apoyo y, específicamente, incluyendo el despliegue e implementación del Expediente Judicial Electrónico en todas las jurisdicciones y especialidades.","Procesos\njudiciales gestionados a través del expediente electrónico por especialidad","# de procesos judiciales en gestión con expediente electrónico en cada especialida d y por categoría de despacho a nivel de circuito / # de procesos judiciales totales en gestión por cada especialida d y circuito (cabecera de circuito)","6. Proteger, preservar y administrar los activos de información  implementando acciones  para gestionar de forma adecuada los incidentes, proteger los datos personales y adoptar mecanismos  de ciberseguridad y aseguramiento de la  continuidad del negocio.",null,null,null,null,null,null,null,null,null,null,null,null,null,null,null,null,null,null,null,{"$f":"IFERROR(#REF!,\" \")","v":" "},{"$f":"IFERROR(#REF!,\"\")","v":""},{"$f":"IFERROR(#REF!,\"\")","v":""},"","",{"$f":"IFERROR(#REF!,\"\")","v":""},"",{"$f":"IFERROR(#REF!,\"\")","v":""},{"$f":"IFERROR(#REF!,\"\")","v":""},{"$f":"_xlfn.CONCAT(\"Trimestre 1\",CHAR(10),IFERROR(#REF!,\"\"))","v":"Trimestre 1\n"},{"$f":"_xlfn.CONCAT(\"Trimestre 1\",CHAR(10),IFERROR(#REF!,\"\"))","v":"Trimestre 1\n"},{"$f":"_xlfn.CONCAT(\"Trimestre 1\",CHAR(10),IFERROR(#REF!,\"\"))","v":"Trimestre 1\n"},{"$f":"_xlfn.CONCAT(\"Trimestre 1\",CHAR(10),IFERROR(#REF!,\"\"))","v":"Trimestre 1\n"},{"$f":"_xlfn.CONCAT(\"Trimestre 1\",CHAR(10),IFERROR(#REF!,\"\"))","v":"Trimestre 1\n"}]
[null,null,null,null,null,null,null,null,null,null,null,null,null,null,null,null,null,null,null,null,null,null,null,null,null,{"$f":"IFERROR(#REF!,\" \")","v":" "},{"$f":"IFERROR(#REF!,\"\")","v":""},{"$f":"IFERROR(#REF!,\"\")","v":""},"","",{"$f":"IFERROR(#REF!,\"\")","v":""},"",{"$f":"IFERROR(#REF!,\"\")","v":""},{"$f":"IFERROR(#REF!,\"\")","v":""},{"$f":"_xlfn.CONCAT(\"Trimestre 1\",CHAR(10),IFERROR(#REF!,\"\"))","v":"Trimestre 1\n"},{"$f":"_xlfn.CONCAT(\"Trimestre 1\",CHAR(10),IFERROR(#REF!,\"\"))","v":"Trimestre 1\n"},{"$f":"_xlfn.CONCAT(\"Trimestre 1\",CHAR(10),IFERROR(#REF!,\"\"))","v":"Trimestre 1\n"},{"$f":"_xlfn.CONCAT(\"Trimestre 1\",CHAR(10),IFERROR(#REF!,\"\"))","v":"Trimestre 1\n"},{"$f":"_xlfn.CONCAT(\"Trimestre 1\",CHAR(10),IFERROR(#REF!,\"\"))","v":"Trimestre 1\n"}]
[null,null,null,null,null,null,null,null,null,null,null,null,null,null,null,null,null,null,null,null,null,null,null,null,null,{"$f":"IFERROR(#REF!,\" \")","v":" "},{"$f":"IFERROR(#REF!,\"\")","v":""},{"$f":"IFERROR(#REF!,\"\")","v":""},"","",{"$f":"IFERROR(#REF!,\"\")","v":""},"",{"$f":"IFERROR(#REF!,\"\")","v":""},{"$f":"IFERROR(#REF!,\"\")","v":""},{"$f":"_xlfn.CONCAT(\"Trimestre 1\",CHAR(10),IFERROR(#REF!,\"\"))","v":"Trimestre 1\n"},{"$f":"_xlfn.CONCAT(\"Trimestre 1\",CHAR(10),IFERROR(#REF!,\"\"))","v":"Trimestre 1\n"},{"$f":"_xlfn.CONCAT(\"Trimestre 1\",CHAR(10),IFERROR(#REF!,\"\"))","v":"Trimestre 1\n"},{"$f":"_xlfn.CONCAT(\"Trimestre 1\",CHAR(10),IFERROR(#REF!,\"\"))","v":"Trimestre 1\n"},{"$f":"_xlfn.CONCAT(\"Trimestre 1\",CHAR(10),IFERROR(#REF!,\"\"))","v":"Trimestre 1\n"}]
[null,null,null,null,null,null,null,null,null,null,null,null,null,null,null,null,null,null,null,null,null,null,null,null,null,{"$f":"IFERROR(#REF!,\" \")","v":" "},{"$f":"IFERROR(#REF!,\"\")","v":""},{"$f":"IFERROR(#REF!,\"\")","v":""},"","",{"$f":"IFERROR(#REF!,\"\")","v":""},"",{"$f":"IFERROR(#REF!,\"\")","v":""},{"$f":"IFERROR(#REF!,\"\")","v":""},{"$f":"_xlfn.CONCAT(\"Trimestre 1\",CHAR(10),IFERROR(#REF!,\"\"))","v":"Trimestre 1\n"},{"$f":"_xlfn.CONCAT(\"Trimestre 1\",CHAR(10),IFERROR(#REF!,\"\"))","v":"Trimestre 1\n"},{"$f":"_xlfn.CONCAT(\"Trimestre 1\",CHAR(10),IFERROR(#REF!,\"\"))","v":"Trimestre 1\n"},{"$f":"_xlfn.CONCAT(\"Trimestre 1\",CHAR(10),IFERROR(#REF!,\"\"))","v":"Trimestre 1\n"},{"$f":"_xlfn.CONCAT(\"Trimestre 1\",CHAR(10),IFERROR(#REF!,\"\"))","v":"Trimestre 1\n"}]
[null,null,null,null,null,null,null,null,null,null,null,null,null,null,null,null,null,null,null,null,null,null,null,null,null,{"$f":"IFERROR(#REF!,\" \")","v":" "},{"$f":"IFERROR(#REF!,\"\")","v":""},{"$f":"IFERROR(#REF!,\"\")","v":""},"","",{"$f":"IFERROR(#REF!,\"\")","v":""},"",{"$f":"IFERROR(#REF!,\"\")","v":""},{"$f":"IFERROR(#REF!,\"\")","v":""},{"$f":"_xlfn.CONCAT(\"Trimestre 1\",CHAR(10),IFERROR(#REF!,\"\"))","v":"Trimestre 1\n"},{"$f":"_xlfn.CONCAT(\"Trimestre 1\",CHAR(10),IFERROR(#REF!,\"\"))","v":"Trimestre 1\n"},{"$f":"_xlfn.CONCAT(\"Trimestre 1\",CHAR(10),IFERROR(#REF!,\"\"))","v":"Trimestre 1\n"},{"$f":"_xlfn.CONCAT(\"Trimestre 1\",CHAR(10),IFERROR(#REF!,\"\"))","v":"Trimestre 1\n"},{"$f":"_xlfn.CONCAT(\"Trimestre 1\",CHAR(10),IFERROR(#REF!,\"\"))","v":"Trimestre 1\n"}]
[null,null,"2. Integrar y hacer compatibles todos los aplicativos de transición con SIUGJ, para que la migración de los expedientes judiciales a dicha plataforma sea real y no suponga afectaciones en la prestación del servicio de justicia.",null,null,null,null,null,null,null,null,null,null,null,null,null,null,null,null,null,null,null,null,null,null,{"$f":"IFERROR(#REF!,\" \")","v":" "},{"$f":"IFERROR(#REF!,\"\")","v":""},{"$f":"IFERROR(#REF!,\"\")","v":""},"","",{"$f":"IFERROR(#REF!,\"\")","v":""},"",{"$f":"IFERROR(#REF!,\"\")","v":""},{"$f":"IFERROR(#REF!,\"\")","v":""},{"$f":"_xlfn.CONCAT(\"Trimestre 1\",CHAR(10),IFERROR(#REF!,\"\"))","v":"Trimestre 1\n"},{"$f":"_xlfn.CONCAT(\"Trimestre 1\",CHAR(10),IFERROR(#REF!,\"\"))","v":"Trimestre 1\n"},{"$f":"_xlfn.CONCAT(\"Trimestre 1\",CHAR(10),IFERROR(#REF!,\"\"))","v":"Trimestre 1\n"},{"$f":"_xlfn.CONCAT(\"Trimestre 1\",CHAR(10),IFERROR(#REF!,\"\"))","v":"Trimestre 1\n"},{"$f":"_xlfn.CONCAT(\"Trimestre 1\",CHAR(10),IFERROR(#REF!,\"\"))","v":"Trimestre 1\n"}]
[null,null,null,null,null,null,null,null,null,null,null,null,null,null,null,null,null,null,null,null,null,null,null,null,null,{"$f":"IFERROR(#REF!,\" \")","v":" "},{"$f":"IFERROR(#REF!,\"\")","v":""},{"$f":"IFERROR(#REF!,\"\")","v":""},"","",{"$f":"IFERROR(#REF!,\"\")","v":""},"",{"$f":"IFERROR(#REF!,\"\")","v":""},{"$f":"IFERROR(#REF!,\"\")","v":""},{"$f":"_xlfn.CONCAT(\"Trimestre 1\",CHAR(10),IFERROR(#REF!,\"\"))","v":"Trimestre 1\n"},{"$f":"_xlfn.CONCAT(\"Trimestre 1\",CHAR(10),IFERROR(#REF!,\"\"))","v":"Trimestre 1\n"},{"$f":"_xlfn.CONCAT(\"Trimestre 1\",CHAR(10),IFERROR(#REF!,\"\"))","v":"Trimestre 1\n"},{"$f":"_xlfn.CONCAT(\"Trimestre 1\",CHAR(10),IFERROR(#REF!,\"\"))","v":"Trimestre 1\n"},{"$f":"_xlfn.CONCAT(\"Trimestre 1\",CHAR(10),IFERROR(#REF!,\"\"))","v":"Trimestre 1\n"}]
[null,null,null,null,null,null,null,null,null,null,null,null,null,null,null,null,null,null,null,null,null,null,null,null,null,{"$f":"IFERROR(#REF!,\" \")","v":" "},{"$f":"IFERROR(#REF!,\"\")","v":""},{"$f":"IFERROR(#REF!,\"\")","v":""},"","",{"$f":"IFERROR(#REF!,\"\")","v":""},"",{"$f":"IFERROR(#REF!,\"\")","v":""},{"$f":"IFERROR(#REF!,\"\")","v":""},{"$f":"_xlfn.CONCAT(\"Trimestre 1\",CHAR(10),IFERROR(#REF!,\"\"))","v":"Trimestre 1\n"},{"$f":"_xlfn.CONCAT(\"Trimestre 1\",CHAR(10),IFERROR(#REF!,\"\"))","v":"Trimestre 1\n"},{"$f":"_xlfn.CONCAT(\"Trimestre 1\",CHAR(10),IFERROR(#REF!,\"\"))","v":"Trimestre 1\n"},{"$f":"_xlfn.CONCAT(\"Trimestre 1\",CHAR(10),IFERROR(#REF!,\"\"))","v":"Trimestre 1\n"},{"$f":"_xlfn.CONCAT(\"Trimestre 1\",CHAR(10),IFERROR(#REF!,\"\"))","v":"Trimestre 1\n"}]
[null,null,null,null,null,null,null,null,null,null,null,null,null,null,null,null,null,null,null,null,null,null,null,null,null,{"$f":"IFERROR(#REF!,\" \")","v":" "},{"$f":"IFERROR(#REF!,\"\")","v":""},{"$f":"IFERROR(#REF!,\"\")","v":""},"","",{"$f":"IFERROR(#REF!,\"\")","v":""},"",{"$f":"IFERROR(#REF!,\"\")","v":""},{"$f":"IFERROR(#REF!,\"\")","v":""},{"$f":"_xlfn.CONCAT(\"Trimestre 1\",CHAR(10),IFERROR(#REF!,\"\"))","v":"Trimestre 1\n"},{"$f":"_xlfn.CONCAT(\"Trimestre 1\",CHAR(10),IFERROR(#REF!,\"\"))","v":"Trimestre 1\n"},{"$f":"_xlfn.CONCAT(\"Trimestre 1\",CHAR(10),IFERROR(#REF!,\"\"))","v":"Trimestre 1\n"},{"$f":"_xlfn.CONCAT(\"Trimestre 1\",CHAR(10),IFERROR(#REF!,\"\"))","v":"Trimestre 1\n"},{"$f":"_xlfn.CONCAT(\"Trimestre 1\",CHAR(10),IFERROR(#REF!,\"\"))","v":"Trimestre 1\n"}]
[null,null,null,null,null,null,null,null,null,null,null,null,null,null,null,null,null,null,null,null,null,null,null,null,null,{"$f":"IFERROR(#REF!,\" \")","v":" "},{"$f":"IFERROR(#REF!,\"\")","v":""},{"$f":"IFERROR(#REF!,\"\")","v":""},"","",{"$f":"IFERROR(#REF!,\"\")","v":""},"",{"$f":"IFERROR(#REF!,\"\")","v":""},{"$f":"IFERROR(#REF!,\"\")","v":""},{"$f":"_xlfn.CONCAT(\"Trimestre 1\",CHAR(10),IFERROR(#REF!,\"\"))","v":"Trimestre 1\n"},{"$f":"_xlfn.CONCAT(\"Trimestre 1\",CHAR(10),IFERROR(#REF!,\"\"))","v":"Trimestre 1\n"},{"$f":"_xlfn.CONCAT(\"Trimestre 1\",CHAR(10),IFERROR(#REF!,\"\"))","v":"Trimestre 1\n"},{"$f":"_xlfn.CONCAT(\"Trimestre 1\",CHAR(10),IFERROR(#REF!,\"\"))","v":"Trimestre 1\n"},{"$f":"_xlfn.CONCAT(\"Trimestre 1\",CHAR(10),IFERROR(#REF!,\"\"))","v":"Trimestre 1\n"}]
[null,null,"3. Fortalecer las capacidades institucionales, adecuar el modelo operativo y de servicio, bajo un enfoque de Arquitectura Empresarial y de fortalecimiento del acceso a la justicia.","Implementación del programa de gestión del cambio y las comunicaciones del PETD","# de actividades del objetivo \"aumentar el conocimient o digital y el uso de apropiación de los sistemas\" del programa de gestión del cambio y las comunicaci ones del PETD cumplidas /# de actividades del objetivo \"aumentar el conocimient o digital y el uso de apropiación de los sistemas\" del programa de gestión del cambio y las comunicaci ones del PETD programada s",null,null,null,null,null,null,null,null,null,null,null,null,null,null,null,null,null,null,null,null,{"$f":"IFERROR(#REF!,\" \")","v":" "},{"$f":"IFERROR(#REF!,\"\")","v":""},{"$f":"IFERROR(#REF!,\"\")","v":""},"","",{"$f":"IFERROR(#REF!,\"\")","v":""},"",{"$f":"IFERROR(#REF!,\"\")","v":""},{"$f":"IFERROR(#REF!,\"\")","v":""},{"$f":"_xlfn.CONCAT(\"Trimestre 1\",CHAR(10),IFERROR(#REF!,\"\"))","v":"Trimestre 1\n"},{"$f":"_xlfn.CONCAT(\"Trimestre 1\",CHAR(10),IFERROR(#REF!,\"\"))","v":"Trimestre 1\n"},{"$f":"_xlfn.CONCAT(\"Trimestre 1\",CHAR(10),IFERROR(#REF!,\"\"))","v":"Trimestre 1\n"},{"$f":"_xlfn.CONCAT(\"Trimestre 1\",CHAR(10),IFERROR(#REF!,\"\"))","v":"Trimestre 1\n"},{"$f":"_xlfn.CONCAT(\"Trimestre 1\",CHAR(10),IFERROR(#REF!,\"\"))","v":"Trimestre 1\n"}]
[null,null,null,null,null,null,null,null,null,null,null,null,null,null,null,null,null,null,null,null,null,null,null,null,null,{"$f":"IFERROR(#REF!,\" \")","v":" "},{"$f":"IFERROR(#REF!,\"\")","v":""},{"$f":"IFERROR(#REF!,\"\")","v":""},"","",{"$f":"IFERROR(#REF!,\"\")","v":""},"",{"$f":"IFERROR(#REF!,\"\")","v":""},{"$f":"IFERROR(#REF!,\"\")","v":""},{"$f":"_xlfn.CONCAT(\"Trimestre 1\",CHAR(10),IFERROR(#REF!,\"\"))","v":"Trimestre 1\n"},{"$f":"_xlfn.CONCAT(\"Trimestre 1\",CHAR(10),IFERROR(#REF!,\"\"))","v":"Trimestre 1\n"},{"$f":"_xlfn.CONCAT(\"Trimestre 1\",CHAR(10),IFERROR(#REF!,\"\"))","v":"Trimestre 1\n"},{"$f":"_xlfn.CONCAT(\"Trimestre 1\",CHAR(10),IFERROR(#REF!,\"\"))","v":"Trimestre 1\n"},{"$f":"_xlfn.CONCAT(\"Trimestre 1\",CHAR(10),IFERROR(#REF!,\"\"))","v":"Trimestre 1\n"}]
[null,null,null,null,null,null,null,null,null,null,null,null,null,null,null,null,null,null,null,null,null,null,null,null,null,{"$f":"IFERROR(#REF!,\" \")","v":" "},{"$f":"IFERROR(#REF!,\"\")","v":""},{"$f":"IFERROR(#REF!,\"\")","v":""},"","",{"$f":"IFERROR(#REF!,\"\")","v":""},"",{"$f":"IFERROR(#REF!,\"\")","v":""},{"$f":"IFERROR(#REF!,\"\")","v":""},{"$f":"_xlfn.CONCAT(\"Trimestre 1\",CHAR(10),IFERROR(#REF!,\"\"))","v":"Trimestre 1\n"},{"$f":"_xlfn.CONCAT(\"Trimestre 1\",CHAR(10),IFERROR(#REF!,\"\"))","v":"Trimestre 1\n"},{"$f":"_xlfn.CONCAT(\"Trimestre 1\",CHAR(10),IFERROR(#REF!,\"\"))","v":"Trimestre 1\n"},{"$f":"_xlfn.CONCAT(\"Trimestre 1\",CHAR(10),IFERROR(#REF!,\"\"))","v":"Trimestre 1\n"},{"$f":"_xlfn.CONCAT(\"Trimestre 1\",CHAR(10),IFERROR(#REF!,\"\"))","v":"Trimestre 1\n"}]
[null,null,null,null,null,null,null,null,null,null,null,null,null,null,null,null,null,null,null,null,null,null,null,null,null,{"$f":"IFERROR(#REF!,\" \")","v":" "},{"$f":"IFERROR(#REF!,\"\")","v":""},{"$f":"IFERROR(#REF!,\"\")","v":""},"","",{"$f":"IFERROR(#REF!,\"\")","v":""},"",{"$f":"IFERROR(#REF!,\"\")","v":""},{"$f":"IFERROR(#REF!,\"\")","v":""},{"$f":"_xlfn.CONCAT(\"Trimestre 1\",CHAR(10),IFERROR(#REF!,\"\"))","v":"Trimestre 1\n"},{"$f":"_xlfn.CONCAT(\"Trimestre 1\",CHAR(10),IFERROR(#REF!,\"\"))","v":"Trimestre 1\n"},{"$f":"_xlfn.CONCAT(\"Trimestre 1\",CHAR(10),IFERROR(#REF!,\"\"))","v":"Trimestre 1\n"},{"$f":"_xlfn.CONCAT(\"Trimestre 1\",CHAR(10),IFERROR(#REF!,\"\"))","v":"Trimestre 1\n"},{"$f":"_xlfn.CONCAT(\"Trimestre 1\",CHAR(10),IFERROR(#REF!,\"\"))","v":"Trimestre 1\n"}]
[null,null,null,null,null,null,null,null,null,null,null,null,null,null,null,null,null,null,null,null,null,null,null,null,null,{"$f":"IFERROR(#REF!,\" \")","v":" "},{"$f":"IFERROR(#REF!,\"\")","v":""},{"$f":"IFERROR(#REF!,\"\")","v":""},"","",{"$f":"IFERROR(#REF!,\"\")","v":""},"",{"$f":"IFERROR(#REF!,\"\")","v":""},{"$f":"IFERROR(#REF!,\"\")","v":""},{"$f":"_xlfn.CONCAT(\"Trimestre 1\",CHAR(10),IFERROR(#REF!,\"\"))","v":"Trimestre 1\n"},{"$f":"_xlfn.CONCAT(\"Trimestre 1\",CHAR(10),IFERROR(#REF!,\"\"))","v":"Trimestre 1\n"},{"$f":"_xlfn.CONCAT(\"Trimestre 1\",CHAR(10),IFERROR(#REF!,\"\"))","v":"Trimestre 1\n"},{"$f":"_xlfn.CONCAT(\"Trimestre 1\",CHAR(10),IFERROR(#REF!,\"\"))","v":"Trimestre 1\n"},{"$f":"_xlfn.CONCAT(\"Trimestre 1\",CHAR(10),IFERROR(#REF!,\"\"))","v":"Trimestre 1\n"}]
[null,null,"4.Consolidar la cultura y apropiación de la transformación digital en los servidores y usuarios de los servicios de la Rama Judicial y reducir brechas de acceso y conocimiento, incluyendo la oferta efectiva de información sobre el uso de las nuevas herramientas virtuales implementadas en las diferentes jurisdicciones, con especial énfasis en las zonas del país donde es evidente la brecha digital.","Cobertura de infraestructura y conectividad consolidada","# de sedes con infraestruct ura y conectivida d consolidada s/Número total de sedes",null,null,null,null,null,null,null,null,null,null,null,null,null,null,null,null,null,null,null,null,{"$f":"IFERROR(#REF!,\" \")","v":" "},{"$f":"IFERROR(#REF!,\"\")","v":""},{"$f":"IFERROR(#REF!,\"\")","v":""},"","",{"$f":"IFERROR(#REF!,\"\")","v":""},"",{"$f":"IFERROR(#REF!,\"\")","v":""},{"$f":"IFERROR(#REF!,\"\")","v":""},{"$f":"_xlfn.CONCAT(\"Trimestre 1\",CHAR(10),IFERROR(#REF!,\"\"))","v":"Trimestre 1\n"},{"$f":"_xlfn.CONCAT(\"Trimestre 1\",CHAR(10),IFERROR(#REF!,\"\"))","v":"Trimestre 1\n"},{"$f":"_xlfn.CONCAT(\"Trimestre 1\",CHAR(10),IFERROR(#REF!,\"\"))","v":"Trimestre 1\n"},{"$f":"_xlfn.CONCAT(\"Trimestre 1\",CHAR(10),IFERROR(#REF!,\"\"))","v":"Trimestre 1\n"},{"$f":"_xlfn.CONCAT(\"Trimestre 1\",CHAR(10),IFERROR(#REF!,\"\"))","v":"Trimestre 1\n"}]
[null,null,null,null,null,null,null,null,null,null,null,null,null,null,null,null,null,null,null,null,null,null,null,null,null,{"$f":"IFERROR(#REF!,\" \")","v":" "},{"$f":"IFERROR(#REF!,\"\")","v":""},{"$f":"IFERROR(#REF!,\"\")","v":""},"","",{"$f":"IFERROR(#REF!,\"\")","v":""},"",{"$f":"IFERROR(#REF!,\"\")","v":""},{"$f":"IFERROR(#REF!,\"\")","v":""},{"$f":"_xlfn.CONCAT(\"Trimestre 1\",CHAR(10),IFERROR(#REF!,\"\"))","v":"Trimestre 1\n"},{"$f":"_xlfn.CONCAT(\"Trimestre 1\",CHAR(10),IFERROR(#REF!,\"\"))","v":"Trimestre 1\n"},{"$f":"_xlfn.CONCAT(\"Trimestre 1\",CHAR(10),IFERROR(#REF!,\"\"))","v":"Trimestre 1\n"},{"$f":"_xlfn.CONCAT(\"Trimestre 1\",CHAR(10),IFERROR(#REF!,\"\"))","v":"Trimestre 1\n"},{"$f":"_xlfn.CONCAT(\"Trimestre 1\",CHAR(10),IFERROR(#REF!,\"\"))","v":"Trimestre 1\n"}]
[null,null,null,null,null,null,null,null,null,null,null,null,null,null,null,null,null,null,null,null,null,null,null,null,null,{"$f":"IFERROR(#REF!,\" \")","v":" "},{"$f":"IFERROR(#REF!,\"\")","v":""},{"$f":"IFERROR(#REF!,\"\")","v":""},"","",{"$f":"IFERROR(#REF!,\"\")","v":""},"",{"$f":"IFERROR(#REF!,\"\")","v":""},{"$f":"IFERROR(#REF!,\"\")","v":""},{"$f":"_xlfn.CONCAT(\"Trimestre 1\",CHAR(10),IFERROR(#REF!,\"\"))","v":"Trimestre 1\n"},{"$f":"_xlfn.CONCAT(\"Trimestre 1\",CHAR(10),IFERROR(#REF!,\"\"))","v":"Trimestre 1\n"},{"$f":"_xlfn.CONCAT(\"Trimestre 1\",CHAR(10),IFERROR(#REF!,\"\"))","v":"Trimestre 1\n"},{"$f":"_xlfn.CONCAT(\"Trimestre 1\",CHAR(10),IFERROR(#REF!,\"\"))","v":"Trimestre 1\n"},{"$f":"_xlfn.CONCAT(\"Trimestre 1\",CHAR(10),IFERROR(#REF!,\"\"))","v":"Trimestre 1\n"}]
[null,null,null,null,null,null,null,null,null,null,null,null,null,null,null,null,null,null,null,null,null,null,null,null,null,{"$f":"IFERROR(#REF!,\" \")","v":" "},{"$f":"IFERROR(#REF!,\"\")","v":""},{"$f":"IFERROR(#REF!,\"\")","v":""},"","",{"$f":"IFERROR(#REF!,\"\")","v":""},"",{"$f":"IFERROR(#REF!,\"\")","v":""},{"$f":"IFERROR(#REF!,\"\")","v":""},{"$f":"_xlfn.CONCAT(\"Trimestre 1\",CHAR(10),IFERROR(#REF!,\"\"))","v":"Trimestre 1\n"},{"$f":"_xlfn.CONCAT(\"Trimestre 1\",CHAR(10),IFERROR(#REF!,\"\"))","v":"Trimestre 1\n"},{"$f":"_xlfn.CONCAT(\"Trimestre 1\",CHAR(10),IFERROR(#REF!,\"\"))","v":"Trimestre 1\n"},{"$f":"_xlfn.CONCAT(\"Trimestre 1\",CHAR(10),IFERROR(#REF!,\"\"))","v":"Trimestre 1\n"},{"$f":"_xlfn.CONCAT(\"Trimestre 1\",CHAR(10),IFERROR(#REF!,\"\"))","v":"Trimestre 1\n"}]
[null,null,null,null,null,null,null,null,null,null,null,null,null,null,null,null,null,null,null,null,null,null,null,null,null,{"$f":"IFERROR(#REF!,\" \")","v":" "},{"$f":"IFERROR(#REF!,\"\")","v":""},{"$f":"IFERROR(#REF!,\"\")","v":""},"","",{"$f":"IFERROR(#REF!,\"\")","v":""},"",{"$f":"IFERROR(#REF!,\"\")","v":""},{"$f":"IFERROR(#REF!,\"\")","v":""},{"$f":"_xlfn.CONCAT(\"Trimestre 1\",CHAR(10),IFERROR(#REF!,\"\"))","v":"Trimestre 1\n"},{"$f":"_xlfn.CONCAT(\"Trimestre 1\",CHAR(10),IFERROR(#REF!,\"\"))","v":"Trimestre 1\n"},{"$f":"_xlfn.CONCAT(\"Trimestre 1\",CHAR(10),IFERROR(#REF!,\"\"))","v":"Trimestre 1\n"},{"$f":"_xlfn.CONCAT(\"Trimestre 1\",CHAR(10),IFERROR(#REF!,\"\"))","v":"Trimestre 1\n"},{"$f":"_xlfn.CONCAT(\"Trimestre 1\",CHAR(10),IFERROR(#REF!,\"\"))","v":"Trimestre 1\n"}]
[null,null,"5.Consolidar la infraestructura y los recursos necesarios para la implementación exitosa de la transformación digital, incluyendo la disposición de internet de calidad en el 100% de las sedes en la Rama Judicial y modernizar los servicios tecnológicos de soporte. ","Implementación del programa de gestión del cambio y las comunicaciones del PETD","# de actividades del objetivo \"aumentar el conocimient o digital y el uso de apropiación de los sistemas\" del programa de gestión del cambio y las comunicaci ones del PETD cumplidas /# de actividades del objetivo \"aumentar el conocimient o digital y el uso de apropiación de los sistemas\" del programa de gestión del cambio y las comunicaci ones del PETD programada s",null,null,null,null,null,null,null,null,null,null,null,null,null,null,null,null,null,null,null,null,{"$f":"IFERROR(#REF!,\" \")","v":" "},{"$f":"IFERROR(#REF!,\"\")","v":""},{"$f":"IFERROR(#REF!,\"\")","v":""},"","",{"$f":"IFERROR(#REF!,\"\")","v":""},"",{"$f":"IFERROR(#REF!,\"\")","v":""},{"$f":"IFERROR(#REF!,\"\")","v":""},{"$f":"_xlfn.CONCAT(\"Trimestre 1\",CHAR(10),IFERROR(#REF!,\"\"))","v":"Trimestre 1\n"},{"$f":"_xlfn.CONCAT(\"Trimestre 1\",CHAR(10),IFERROR(#REF!,\"\"))","v":"Trimestre 1\n"},{"$f":"_xlfn.CONCAT(\"Trimestre 1\",CHAR(10),IFERROR(#REF!,\"\"))","v":"Trimestre 1\n"},{"$f":"_xlfn.CONCAT(\"Trimestre 1\",CHAR(10),IFERROR(#REF!,\"\"))","v":"Trimestre 1\n"},{"$f":"_xlfn.CONCAT(\"Trimestre 1\",CHAR(10),IFERROR(#REF!,\"\"))","v":"Trimestre 1\n"}]
[null,null,null,null,null,null,null,null,null,null,null,null,null,null,null,null,null,null,null,null,null,null,null,null,null,{"$f":"IFERROR(#REF!,\" \")","v":" "},{"$f":"IFERROR(#REF!,\"\")","v":""},{"$f":"IFERROR(#REF!,\"\")","v":""},"","",{"$f":"IFERROR(#REF!,\"\")","v":""},"",{"$f":"IFERROR(#REF!,\"\")","v":""},{"$f":"IFERROR(#REF!,\"\")","v":""},{"$f":"_xlfn.CONCAT(\"Trimestre 1\",CHAR(10),IFERROR(#REF!,\"\"))","v":"Trimestre 1\n"},{"$f":"_xlfn.CONCAT(\"Trimestre 1\",CHAR(10),IFERROR(#REF!,\"\"))","v":"Trimestre 1\n"},{"$f":"_xlfn.CONCAT(\"Trimestre 1\",CHAR(10),IFERROR(#REF!,\"\"))","v":"Trimestre 1\n"},{"$f":"_xlfn.CONCAT(\"Trimestre 1\",CHAR(10),IFERROR(#REF!,\"\"))","v":"Trimestre 1\n"},{"$f":"_xlfn.CONCAT(\"Trimestre 1\",CHAR(10),IFERROR(#REF!,\"\"))","v":"Trimestre 1\n"}]
[null,null,null,null,null,null,null,null,null,null,null,null,null,null,null,null,null,null,null,null,null,null,null,null,null,{"$f":"IFERROR(#REF!,\" \")","v":" "},{"$f":"IFERROR(#REF!,\"\")","v":""},{"$f":"IFERROR(#REF!,\"\")","v":""},"","",{"$f":"IFERROR(#REF!,\"\")","v":""},"",{"$f":"IFERROR(#REF!,\"\")","v":""},{"$f":"IFERROR(#REF!,\"\")","v":""},{"$f":"_xlfn.CONCAT(\"Trimestre 1\",CHAR(10),IFERROR(#REF!,\"\"))","v":"Trimestre 1\n"},{"$f":"_xlfn.CONCAT(\"Trimestre 1\",CHAR(10),IFERROR(#REF!,\"\"))","v":"Trimestre 1\n"},{"$f":"_xlfn.CONCAT(\"Trimestre 1\",CHAR(10),IFERROR(#REF!,\"\"))","v":"Trimestre 1\n"},{"$f":"_xlfn.CONCAT(\"Trimestre 1\",CHAR(10),IFERROR(#REF!,\"\"))","v":"Trimestre 1\n"},{"$f":"_xlfn.CONCAT(\"Trimestre 1\",CHAR(10),IFERROR(#REF!,\"\"))","v":"Trimestre 1\n"}]
[null,null,null,null,null,null,null,null,null,null,null,null,null,null,null,null,null,null,null,null,null,null,null,null,null,{"$f":"IFERROR(#REF!,\" \")","v":" "},{"$f":"IFERROR(#REF!,\"\")","v":""},{"$f":"IFERROR(#REF!,\"\")","v":""},"","",{"$f":"IFERROR(#REF!,\"\")","v":""},"",{"$f":"IFERROR(#REF!,\"\")","v":""},{"$f":"IFERROR(#REF!,\"\")","v":""},{"$f":"_xlfn.CONCAT(\"Trimestre 1\",CHAR(10),IFERROR(#REF!,\"\"))","v":"Trimestre 1\n"},{"$f":"_xlfn.CONCAT(\"Trimestre 1\",CHAR(10),IFERROR(#REF!,\"\"))","v":"Trimestre 1\n"},{"$f":"_xlfn.CONCAT(\"Trimestre 1\",CHAR(10),IFERROR(#REF!,\"\"))","v":"Trimestre 1\n"},{"$f":"_xlfn.CONCAT(\"Trimestre 1\",CHAR(10),IFERROR(#REF!,\"\"))","v":"Trimestre 1\n"},{"$f":"_xlfn.CONCAT(\"Trimestre 1\",CHAR(10),IFERROR(#REF!,\"\"))","v":"Trimestre 1\n"}]
[null,null,null,null,null,null,null,null,null,null,null,null,null,null,null,null,null,null,null,null,null,null,null,null,null,{"$f":"IFERROR(#REF!,\" \")","v":" "},{"$f":"IFERROR(#REF!,\"\")","v":""},{"$f":"IFERROR(#REF!,\"\")","v":""},"","",{"$f":"IFERROR(#REF!,\"\")","v":""},"",{"$f":"IFERROR(#REF!,\"\")","v":""},{"$f":"IFERROR(#REF!,\"\")","v":""},{"$f":"_xlfn.CONCAT(\"Trimestre 1\",CHAR(10),IFERROR(#REF!,\"\"))","v":"Trimestre 1\n"},{"$f":"_xlfn.CONCAT(\"Trimestre 1\",CHAR(10),IFERROR(#REF!,\"\"))","v":"Trimestre 1\n"},{"$f":"_xlfn.CONCAT(\"Trimestre 1\",CHAR(10),IFERROR(#REF!,\"\"))","v":"Trimestre 1\n"},{"$f":"_xlfn.CONCAT(\"Trimestre 1\",CHAR(10),IFERROR(#REF!,\"\"))","v":"Trimestre 1\n"},{"$f":"_xlfn.CONCAT(\"Trimestre 1\",CHAR(10),IFERROR(#REF!,\"\"))","v":"Trimestre 1\n"}]
[null,null,"6.Integrar y optimizar los servicios administrativos de la Rama Judicial bajo un enfoque de transformación digital e innovación incluyendo los componentes financiero, administrativo, talento humano, entre otros.",null,null,null,null,null,null,null,null,null,null,null,null,null,null,null,null,null,null,null,null,null,null,{"$f":"IFERROR(#REF!,\" \")","v":" "},{"$f":"IFERROR(#REF!,\"\")","v":""},{"$f":"IFERROR(#REF!,\"\")","v":""},"","",{"$f":"IFERROR(#REF!,\"\")","v":""},"",{"$f":"IFERROR(#REF!,\"\")","v":""},{"$f":"IFERROR(#REF!,\"\")","v":""},{"$f":"_xlfn.CONCAT(\"Trimestre 1\",CHAR(10),IFERROR(#REF!,\"\"))","v":"Trimestre 1\n"},{"$f":"_xlfn.CONCAT(\"Trimestre 1\",CHAR(10),IFERROR(#REF!,\"\"))","v":"Trimestre 1\n"},{"$f":"_xlfn.CONCAT(\"Trimestre 1\",CHAR(10),IFERROR(#REF!,\"\"))","v":"Trimestre 1\n"},{"$f":"_xlfn.CONCAT(\"Trimestre 1\",CHAR(10),IFERROR(#REF!,\"\"))","v":"Trimestre 1\n"},{"$f":"_xlfn.CONCAT(\"Trimestre 1\",CHAR(10),IFERROR(#REF!,\"\"))","v":"Trimestre 1\n"}]
[null,null,null,null,null,null,null,null,null,null,null,null,null,null,null,null,null,null,null,null,null,null,null,null,null,{"$f":"IFERROR(#REF!,\" \")","v":" "},{"$f":"IFERROR(#REF!,\"\")","v":""},{"$f":"IFERROR(#REF!,\"\")","v":""},"","",{"$f":"IFERROR(#REF!,\"\")","v":""},"",{"$f":"IFERROR(#REF!,\"\")","v":""},{"$f":"IFERROR(#REF!,\"\")","v":""},{"$f":"_xlfn.CONCAT(\"Trimestre 1\",CHAR(10),IFERROR(#REF!,\"\"))","v":"Trimestre 1\n"},{"$f":"_xlfn.CONCAT(\"Trimestre 1\",CHAR(10),IFERROR(#REF!,\"\"))","v":"Trimestre 1\n"},{"$f":"_xlfn.CONCAT(\"Trimestre 1\",CHAR(10),IFERROR(#REF!,\"\"))","v":"Trimestre 1\n"},{"$f":"_xlfn.CONCAT(\"Trimestre 1\",CHAR(10),IFERROR(#REF!,\"\"))","v":"Trimestre 1\n"},{"$f":"_xlfn.CONCAT(\"Trimestre 1\",CHAR(10),IFERROR(#REF!,\"\"))","v":"Trimestre 1\n"}]
[null,null,null,null,null,null,null,null,null,null,null,null,null,null,null,null,null,null,null,null,null,null,null,null,null,{"$f":"IFERROR(#REF!,\" \")","v":" "},{"$f":"IFERROR(#REF!,\"\")","v":""},{"$f":"IFERROR(#REF!,\"\")","v":""},"","",{"$f":"IFERROR(#REF!,\"\")","v":""},"",{"$f":"IFERROR(#REF!,\"\")","v":""},{"$f":"IFERROR(#REF!,\"\")","v":""},{"$f":"_xlfn.CONCAT(\"Trimestre 1\",CHAR(10),IFERROR(#REF!,\"\"))","v":"Trimestre 1\n"},{"$f":"_xlfn.CONCAT(\"Trimestre 1\",CHAR(10),IFERROR(#REF!,\"\"))","v":"Trimestre 1\n"},{"$f":"_xlfn.CONCAT(\"Trimestre 1\",CHAR(10),IFERROR(#REF!,\"\"))","v":"Trimestre 1\n"},{"$f":"_xlfn.CONCAT(\"Trimestre 1\",CHAR(10),IFERROR(#REF!,\"\"))","v":"Trimestre 1\n"},{"$f":"_xlfn.CONCAT(\"Trimestre 1\",CHAR(10),IFERROR(#REF!,\"\"))","v":"Trimestre 1\n"}]
[null,null,null,null,null,null,null,null,null,null,null,null,null,null,null,null,null,null,null,null,null,null,null,null,null,{"$f":"IFERROR(#REF!,\" \")","v":" "},{"$f":"IFERROR(#REF!,\"\")","v":""},{"$f":"IFERROR(#REF!,\"\")","v":""},"","",{"$f":"IFERROR(#REF!,\"\")","v":""},"",{"$f":"IFERROR(#REF!,\"\")","v":""},{"$f":"IFERROR(#REF!,\"\")","v":""},{"$f":"_xlfn.CONCAT(\"Trimestre 1\",CHAR(10),IFERROR(#REF!,\"\"))","v":"Trimestre 1\n"},{"$f":"_xlfn.CONCAT(\"Trimestre 1\",CHAR(10),IFERROR(#REF!,\"\"))","v":"Trimestre 1\n"},{"$f":"_xlfn.CONCAT(\"Trimestre 1\",CHAR(10),IFERROR(#REF!,\"\"))","v":"Trimestre 1\n"},{"$f":"_xlfn.CONCAT(\"Trimestre 1\",CHAR(10),IFERROR(#REF!,\"\"))","v":"Trimestre 1\n"},{"$f":"_xlfn.CONCAT(\"Trimestre 1\",CHAR(10),IFERROR(#REF!,\"\"))","v":"Trimestre 1\n"}]
[null,null,null,null,null,null,null,null,null,null,null,null,null,null,null,null,null,null,null,null,null,null,null,null,null,{"$f":"IFERROR(#REF!,\" \")","v":" "},{"$f":"IFERROR(#REF!,\"\")","v":""},{"$f":"IFERROR(#REF!,\"\")","v":""},"","",{"$f":"IFERROR(#REF!,\"\")","v":""},"",{"$f":"IFERROR(#REF!,\"\")","v":""},{"$f":"IFERROR(#REF!,\"\")","v":""},{"$f":"_xlfn.CONCAT(\"Trimestre 1\",CHAR(10),IFERROR(#REF!,\"\"))","v":"Trimestre 1\n"},{"$f":"_xlfn.CONCAT(\"Trimestre 1\",CHAR(10),IFERROR(#REF!,\"\"))","v":"Trimestre 1\n"},{"$f":"_xlfn.CONCAT(\"Trimestre 1\",CHAR(10),IFERROR(#REF!,\"\"))","v":"Trimestre 1\n"},{"$f":"_xlfn.CONCAT(\"Trimestre 1\",CHAR(10),IFERROR(#REF!,\"\"))","v":"Trimestre 1\n"},{"$f":"_xlfn.CONCAT(\"Trimestre 1\",CHAR(10),IFERROR(#REF!,\"\"))","v":"Trimestre 1\n"}]
["3. Confianza pública, transparencia y rendición de cuentas","Confianza pública, transparencia y rendición de cuentas: Aumentar la confianza pública en la justicia a través de la transparencia, la rendición de cuentas y la participación, incluyendo la información de justicia y la producción, gestión y acceso a las fuentes de derecho, el fortalecimiento del sistema de gestión de calidad y medio ambiente (SIGCMA) y el mejoramiento de la calidad y publicidad de la información. ","1. Incrementar la cantidad, la calidad y pertinencia de los datos sobre el funcionamiento del servicio de justicia bajo un modelo de gobierno de datos y un liderazgo unificado. ","Modelo de\ngobierno y calidad de datos implementado","% de implementa ción del modelo de gobierno y calidad de datos","4. Hacer un uso racional de los recursos naturales aplicando los principios y fases de la Economía Circular, para prevenir, mitigar y controlar los impactos ambientales.",null,null,null,null,null,null,null,null,null,null,null,null,null,null,null,null,null,null,null,{"$f":"IFERROR(#REF!,\" \")","v":" "},{"$f":"IFERROR(#REF!,\"\")","v":""},{"$f":"IFERROR(#REF!,\"\")","v":""},"","",{"$f":"IFERROR(#REF!,\"\")","v":""},"",{"$f":"IFERROR(#REF!,\"\")","v":""},{"$f":"IFERROR(#REF!,\"\")","v":""},{"$f":"_xlfn.CONCAT(\"Trimestre 1\",CHAR(10),IFERROR(#REF!,\"\"))","v":"Trimestre 1\n"},{"$f":"_xlfn.CONCAT(\"Trimestre 1\",CHAR(10),IFERROR(#REF!,\"\"))","v":"Trimestre 1\n"},{"$f":"_xlfn.CONCAT(\"Trimestre 1\",CHAR(10),IFERROR(#REF!,\"\"))","v":"Trimestre 1\n"},{"$f":"_xlfn.CONCAT(\"Trimestre 1\",CHAR(10),IFERROR(#REF!,\"\"))","v":"Trimestre 1\n"},{"$f":"_xlfn.CONCAT(\"Trimestre 1\",CHAR(10),IFERROR(#REF!,\"\"))","v":"Trimestre 1\n"}]
[null,null,null,null,null,null,null,null,null,null,null,null,null,null,null,null,null,null,null,null,null,null,null,null,null,{"$f":"IFERROR(#REF!,\" \")","v":" "},{"$f":"IFERROR(#REF!,\"\")","v":""},{"$f":"IFERROR(#REF!,\"\")","v":""},"","",{"$f":"IFERROR(#REF!,\"\")","v":""},"",{"$f":"IFERROR(#REF!,\"\")","v":""},{"$f":"IFERROR(#REF!,\"\")","v":""},{"$f":"_xlfn.CONCAT(\"Trimestre 1\",CHAR(10),IFERROR(#REF!,\"\"))","v":"Trimestre 1\n"},{"$f":"_xlfn.CONCAT(\"Trimestre 1\",CHAR(10),IFERROR(#REF!,\"\"))","v":"Trimestre 1\n"},{"$f":"_xlfn.CONCAT(\"Trimestre 1\",CHAR(10),IFERROR(#REF!,\"\"))","v":"Trimestre 1\n"},{"$f":"_xlfn.CONCAT(\"Trimestre 1\",CHAR(10),IFERROR(#REF!,\"\"))","v":"Trimestre 1\n"},{"$f":"_xlfn.CONCAT(\"Trimestre 1\",CHAR(10),IFERROR(#REF!,\"\"))","v":"Trimestre 1\n"}]
[null,null,null,null,null,null,null,null,null,null,null,null,null,null,null,null,null,null,null,null,null,null,null,null,null,{"$f":"IFERROR(#REF!,\" \")","v":" "},{"$f":"IFERROR(#REF!,\"\")","v":""},{"$f":"IFERROR(#REF!,\"\")","v":""},"","",{"$f":"IFERROR(#REF!,\"\")","v":""},"",{"$f":"IFERROR(#REF!,\"\")","v":""},{"$f":"IFERROR(#REF!,\"\")","v":""},{"$f":"_xlfn.CONCAT(\"Trimestre 1\",CHAR(10),IFERROR(#REF!,\"\"))","v":"Trimestre 1\n"},{"$f":"_xlfn.CONCAT(\"Trimestre 1\",CHAR(10),IFERROR(#REF!,\"\"))","v":"Trimestre 1\n"},{"$f":"_xlfn.CONCAT(\"Trimestre 1\",CHAR(10),IFERROR(#REF!,\"\"))","v":"Trimestre 1\n"},{"$f":"_xlfn.CONCAT(\"Trimestre 1\",CHAR(10),IFERROR(#REF!,\"\"))","v":"Trimestre 1\n"},{"$f":"_xlfn.CONCAT(\"Trimestre 1\",CHAR(10),IFERROR(#REF!,\"\"))","v":"Trimestre 1\n"}]
[null,null,null,null,null,null,null,null,null,null,null,null,null,null,null,null,null,null,null,null,null,null,null,null,null,{"$f":"IFERROR(#REF!,\" \")","v":" "},{"$f":"IFERROR(#REF!,\"\")","v":""},{"$f":"IFERROR(#REF!,\"\")","v":""},"","",{"$f":"IFERROR(#REF!,\"\")","v":""},"",{"$f":"IFERROR(#REF!,\"\")","v":""},{"$f":"IFERROR(#REF!,\"\")","v":""},{"$f":"_xlfn.CONCAT(\"Trimestre 1\",CHAR(10),IFERROR(#REF!,\"\"))","v":"Trimestre 1\n"},{"$f":"_xlfn.CONCAT(\"Trimestre 1\",CHAR(10),IFERROR(#REF!,\"\"))","v":"Trimestre 1\n"},{"$f":"_xlfn.CONCAT(\"Trimestre 1\",CHAR(10),IFERROR(#REF!,\"\"))","v":"Trimestre 1\n"},{"$f":"_xlfn.CONCAT(\"Trimestre 1\",CHAR(10),IFERROR(#REF!,\"\"))","v":"Trimestre 1\n"},{"$f":"_xlfn.CONCAT(\"Trimestre 1\",CHAR(10),IFERROR(#REF!,\"\"))","v":"Trimestre 1\n"}]
[null,null,null,null,null,null,null,null,null,null,null,null,null,null,null,null,null,null,null,null,null,null,null,null,null,{"$f":"IFERROR(#REF!,\" \")","v":" "},{"$f":"IFERROR(#REF!,\"\")","v":""},{"$f":"IFERROR(#REF!,\"\")","v":""},"","",{"$f":"IFERROR(#REF!,\"\")","v":""},"",{"$f":"IFERROR(#REF!,\"\")","v":""},{"$f":"IFERROR(#REF!,\"\")","v":""},{"$f":"_xlfn.CONCAT(\"Trimestre 1\",CHAR(10),IFERROR(#REF!,\"\"))","v":"Trimestre 1\n"},{"$f":"_xlfn.CONCAT(\"Trimestre 1\",CHAR(10),IFERROR(#REF!,\"\"))","v":"Trimestre 1\n"},{"$f":"_xlfn.CONCAT(\"Trimestre 1\",CHAR(10),IFERROR(#REF!,\"\"))","v":"Trimestre 1\n"},{"$f":"_xlfn.CONCAT(\"Trimestre 1\",CHAR(10),IFERROR(#REF!,\"\"))","v":"Trimestre 1\n"},{"$f":"_xlfn.CONCAT(\"Trimestre 1\",CHAR(10),IFERROR(#REF!,\"\"))","v":"Trimestre 1\n"}]
[null,null,"2. Consolidar la administración de la información entendida como todas las acciones rientadas a garantizar el acceso, consulta, uso y conservación de la información de justicia de manera ágil, flexible e inteligente, bajo un enfoque de innovación.","Modelo de producción, acceso, consulta y conservación del conocimiento jurídico","% de implementa ción del modelo de producción, acceso, consulta y conservació n del conocimient o jurídico",null,null,null,null,null,null,null,null,null,null,null,null,null,null,null,null,null,null,null,null,{"$f":"IFERROR(#REF!,\" \")","v":" "},{"$f":"IFERROR(#REF!,\"\")","v":""},{"$f":"IFERROR(#REF!,\"\")","v":""},"","",{"$f":"IFERROR(#REF!,\"\")","v":""},"",{"$f":"IFERROR(#REF!,\"\")","v":""},{"$f":"IFERROR(#REF!,\"\")","v":""},{"$f":"_xlfn.CONCAT(\"Trimestre 1\",CHAR(10),IFERROR(#REF!,\"\"))","v":"Trimestre 1\n"},{"$f":"_xlfn.CONCAT(\"Trimestre 1\",CHAR(10),IFERROR(#REF!,\"\"))","v":"Trimestre 1\n"},{"$f":"_xlfn.CONCAT(\"Trimestre 1\",CHAR(10),IFERROR(#REF!,\"\"))","v":"Trimestre 1\n"},{"$f":"_xlfn.CONCAT(\"Trimestre 1\",CHAR(10),IFERROR(#REF!,\"\"))","v":"Trimestre 1\n"},{"$f":"_xlfn.CONCAT(\"Trimestre 1\",CHAR(10),IFERROR(#REF!,\"\"))","v":"Trimestre 1\n"}]
[null,null,null,null,null,null,null,null,null,null,null,null,null,null,null,null,null,null,null,null,null,null,null,null,null,{"$f":"IFERROR(#REF!,\" \")","v":" "},{"$f":"IFERROR(#REF!,\"\")","v":""},{"$f":"IFERROR(#REF!,\"\")","v":""},"","",{"$f":"IFERROR(#REF!,\"\")","v":""},"",{"$f":"IFERROR(#REF!,\"\")","v":""},{"$f":"IFERROR(#REF!,\"\")","v":""},{"$f":"_xlfn.CONCAT(\"Trimestre 1\",CHAR(10),IFERROR(#REF!,\"\"))","v":"Trimestre 1\n"},{"$f":"_xlfn.CONCAT(\"Trimestre 1\",CHAR(10),IFERROR(#REF!,\"\"))","v":"Trimestre 1\n"},{"$f":"_xlfn.CONCAT(\"Trimestre 1\",CHAR(10),IFERROR(#REF!,\"\"))","v":"Trimestre 1\n"},{"$f":"_xlfn.CONCAT(\"Trimestre 1\",CHAR(10),IFERROR(#REF!,\"\"))","v":"Trimestre 1\n"},{"$f":"_xlfn.CONCAT(\"Trimestre 1\",CHAR(10),IFERROR(#REF!,\"\"))","v":"Trimestre 1\n"}]
[null,null,null,null,null,null,null,null,null,null,null,null,null,null,null,null,null,null,null,null,null,null,null,null,null,{"$f":"IFERROR(#REF!,\" \")","v":" "},{"$f":"IFERROR(#REF!,\"\")","v":""},{"$f":"IFERROR(#REF!,\"\")","v":""},"","",{"$f":"IFERROR(#REF!,\"\")","v":""},"",{"$f":"IFERROR(#REF!,\"\")","v":""},{"$f":"IFERROR(#REF!,\"\")","v":""},{"$f":"_xlfn.CONCAT(\"Trimestre 1\",CHAR(10),IFERROR(#REF!,\"\"))","v":"Trimestre 1\n"},{"$f":"_xlfn.CONCAT(\"Trimestre 1\",CHAR(10),IFERROR(#REF!,\"\"))","v":"Trimestre 1\n"},{"$f":"_xlfn.CONCAT(\"Trimestre 1\",CHAR(10),IFERROR(#REF!,\"\"))","v":"Trimestre 1\n"},{"$f":"_xlfn.CONCAT(\"Trimestre 1\",CHAR(10),IFERROR(#REF!,\"\"))","v":"Trimestre 1\n"},{"$f":"_xlfn.CONCAT(\"Trimestre 1\",CHAR(10),IFERROR(#REF!,\"\"))","v":"Trimestre 1\n"}]
[null,null,null,null,null,null,null,null,null,null,null,null,null,null,null,null,null,null,null,null,null,null,null,null,null,{"$f":"IFERROR(#REF!,\" \")","v":" "},{"$f":"IFERROR(#REF!,\"\")","v":""},{"$f":"IFERROR(#REF!,\"\")","v":""},"","",{"$f":"IFERROR(#REF!,\"\")","v":""},"",{"$f":"IFERROR(#REF!,\"\")","v":""},{"$f":"IFERROR(#REF!,\"\")","v":""},{"$f":"_xlfn.CONCAT(\"Trimestre 1\",CHAR(10),IFERROR(#REF!,\"\"))","v":"Trimestre 1\n"},{"$f":"_xlfn.CONCAT(\"Trimestre 1\",CHAR(10),IFERROR(#REF!,\"\"))","v":"Trimestre 1\n"},{"$f":"_xlfn.CONCAT(\"Trimestre 1\",CHAR(10),IFERROR(#REF!,\"\"))","v":"Trimestre 1\n"},{"$f":"_xlfn.CONCAT(\"Trimestre 1\",CHAR(10),IFERROR(#REF!,\"\"))","v":"Trimestre 1\n"},{"$f":"_xlfn.CONCAT(\"Trimestre 1\",CHAR(10),IFERROR(#REF!,\"\"))","v":"Trimestre 1\n"}]
[null,null,null,null,null,null,null,null,null,null,null,null,null,null,null,null,null,null,null,null,null,null,null,null,null,{"$f":"IFERROR(#REF!,\" \")","v":" "},{"$f":"IFERROR(#REF!,\"\")","v":""},{"$f":"IFERROR(#REF!,\"\")","v":""},"","",{"$f":"IFERROR(#REF!,\"\")","v":""},"",{"$f":"IFERROR(#REF!,\"\")","v":""},{"$f":"IFERROR(#REF!,\"\")","v":""},{"$f":"_xlfn.CONCAT(\"Trimestre 1\",CHAR(10),IFERROR(#REF!,\"\"))","v":"Trimestre 1\n"},{"$f":"_xlfn.CONCAT(\"Trimestre 1\",CHAR(10),IFERROR(#REF!,\"\"))","v":"Trimestre 1\n"},{"$f":"_xlfn.CONCAT(\"Trimestre 1\",CHAR(10),IFERROR(#REF!,\"\"))","v":"Trimestre 1\n"},{"$f":"_xlfn.CONCAT(\"Trimestre 1\",CHAR(10),IFERROR(#REF!,\"\"))","v":"Trimestre 1\n"},{"$f":"_xlfn.CONCAT(\"Trimestre 1\",CHAR(10),IFERROR(#REF!,\"\"))","v":"Trimestre 1\n"}]
[null,null,"3. Fortalecer el Sistema integrado de Gestión de la Rama, orientado a la implementación y certificación de las normas antisoborno.","Certificación del Sistema Integrado de Gestión de la Rama en norma antisoborno","# de dependenci as judiciales y administrati vas certificadas en norma antisoborno /# total de despachos certificados en calidad","1. Gestionar el desarrollo de las competencias, la toma de conciencia , la cultura  organizacional  y el compromiso de los  servidores judiciales, contratistas, practicantes y  judicantes de contribuir a generar valor público en la administración de justicia, en el marco de  cumplimiento de los requisitos  aplicables y el comportamiento ético.\n3. Fomentar la transparencia y la participación generando lineamientos y promoviendo la rendición de cuentas ,la consulta, reporte y planteamiento de inquietudes en relación con las decisiones y aspectos del SIGCMA.",null,null,null,null,null,null,null,null,null,null,null,null,null,null,null,null,null,null,null,{"$f":"IFERROR(#REF!,\" \")","v":" "},{"$f":"IFERROR(#REF!,\"\")","v":""},{"$f":"IFERROR(#REF!,\"\")","v":""},"","",{"$f":"IFERROR(#REF!,\"\")","v":""},{"$f":"IFERROR(P71-AB71,\"\")","v":""},{"$f":"IFERROR(#REF!,\"\")","v":""},{"$f":"IFERROR(#REF!,\"\")","v":""},{"$f":"_xlfn.CONCAT(\"Trimestre 1\",CHAR(10),IFERROR(#REF!,\"\"))","v":"Trimestre 1\n"},{"$f":"_xlfn.CONCAT(\"Trimestre 1\",CHAR(10),IFERROR(#REF!,\"\"))","v":"Trimestre 1\n"},{"$f":"_xlfn.CONCAT(\"Trimestre 1\",CHAR(10),IFERROR(#REF!,\"\"))","v":"Trimestre 1\n"},{"$f":"_xlfn.CONCAT(\"Trimestre 1\",CHAR(10),IFERROR(#REF!,\"\"))","v":"Trimestre 1\n"},{"$f":"_xlfn.CONCAT(\"Trimestre 1\",CHAR(10),IFERROR(#REF!,\"\"))","v":"Trimestre 1\n"}]
[null,null,null,null,null,null,null,null,null,null,null,null,null,null,null,null,null,null,null,null,null,null,null,null,null,{"$f":"IFERROR(#REF!,\" \")","v":" "},{"$f":"IFERROR(#REF!,\"\")","v":""},{"$f":"IFERROR(#REF!,\"\")","v":""},{"$f":"IFERROR(AB72/P72,\"\")","v":""},{"$f":"IFERROR(AA72/Y72,\"\")","v":""},{"$f":"IFERROR(#REF!,\"\")","v":""},"",{"$f":"IFERROR(#REF!,\"\")","v":""},{"$f":"IFERROR(#REF!,\"\")","v":""},{"$f":"_xlfn.CONCAT(\"Trimestre 1\",CHAR(10),IFERROR(#REF!,\"\"))","v":"Trimestre 1\n"},{"$f":"_xlfn.CONCAT(\"Trimestre 1\",CHAR(10),IFERROR(#REF!,\"\"))","v":"Trimestre 1\n"},{"$f":"_xlfn.CONCAT(\"Trimestre 1\",CHAR(10),IFERROR(#REF!,\"\"))","v":"Trimestre 1\n"},{"$f":"_xlfn.CONCAT(\"Trimestre 1\",CHAR(10),IFERROR(#REF!,\"\"))","v":"Trimestre 1\n"},{"$f":"_xlfn.CONCAT(\"Trimestre 1\",CHAR(10),IFERROR(#REF!,\"\"))","v":"Trimestre 1\n"}]
[null,null,null,null,null,null,null,null,null,null,null,null,null,null,null,null,null,null,null,null,null,null,null,null,null,{"$f":"IFERROR(#REF!,\" \")","v":" "},{"$f":"IFERROR(#REF!,\"\")","v":""},{"$f":"IFERROR(#REF!,\"\")","v":""},"","",{"$f":"IFERROR(#REF!,\"\")","v":""},"",{"$f":"IFERROR(#REF!,\"\")","v":""},{"$f":"IFERROR(#REF!,\"\")","v":""},{"$f":"_xlfn.CONCAT(\"Trimestre 1\",CHAR(10),IFERROR(#REF!,\"\"))","v":"Trimestre 1\n"},{"$f":"_xlfn.CONCAT(\"Trimestre 1\",CHAR(10),IFERROR(#REF!,\"\"))","v":"Trimestre 1\n"},{"$f":"_xlfn.CONCAT(\"Trimestre 1\",CHAR(10),IFERROR(#REF!,\"\"))","v":"Trimestre 1\n"},{"$f":"_xlfn.CONCAT(\"Trimestre 1\",CHAR(10),IFERROR(#REF!,\"\"))","v":"Trimestre 1\n"},{"$f":"_xlfn.CONCAT(\"Trimestre 1\",CHAR(10),IFERROR(#REF!,\"\"))","v":"Trimestre 1\n"}]
[null,null,null,null,null,null,null,null,null,null,null,null,null,null,null,null,null,null,null,null,null,null,null,null,null,{"$f":"IFERROR(#REF!,\" \")","v":" "},{"$f":"IFERROR(#REF!,\"\")","v":""},{"$f":"IFERROR(#REF!,\"\")","v":""},"","",{"$f":"IFERROR(#REF!,\"\")","v":""},"",{"$f":"IFERROR(#REF!,\"\")","v":""},{"$f":"IFERROR(#REF!,\"\")","v":""},{"$f":"_xlfn.CONCAT(\"Trimestre 1\",CHAR(10),IFERROR(#REF!,\"\"))","v":"Trimestre 1\n"},{"$f":"_xlfn.CONCAT(\"Trimestre 1\",CHAR(10),IFERROR(#REF!,\"\"))","v":"Trimestre 1\n"},{"$f":"_xlfn.CONCAT(\"Trimestre 1\",CHAR(10),IFERROR(#REF!,\"\"))","v":"Trimestre 1\n"},{"$f":"_xlfn.CONCAT(\"Trimestre 1\",CHAR(10),IFERROR(#REF!,\"\"))","v":"Trimestre 1\n"},{"$f":"_xlfn.CONCAT(\"Trimestre 1\",CHAR(10),IFERROR(#REF!,\"\"))","v":"Trimestre 1\n"}]
[null,null,null,null,null,null,null,null,null,null,null,null,null,null,null,null,null,null,null,null,null,null,null,null,null,{"$f":"IFERROR(#REF!,\" \")","v":" "},{"$f":"IFERROR(#REF!,\"\")","v":""},{"$f":"IFERROR(#REF!,\"\")","v":""},"","",{"$f":"IFERROR(#REF!,\"\")","v":""},"",{"$f":"IFERROR(#REF!,\"\")","v":""},{"$f":"IFERROR(#REF!,\"\")","v":""},{"$f":"_xlfn.CONCAT(\"Trimestre 1\",CHAR(10),IFERROR(#REF!,\"\"))","v":"Trimestre 1\n"},{"$f":"_xlfn.CONCAT(\"Trimestre 1\",CHAR(10),IFERROR(#REF!,\"\"))","v":"Trimestre 1\n"},{"$f":"_xlfn.CONCAT(\"Trimestre 1\",CHAR(10),IFERROR(#REF!,\"\"))","v":"Trimestre 1\n"},{"$f":"_xlfn.CONCAT(\"Trimestre 1\",CHAR(10),IFERROR(#REF!,\"\"))","v":"Trimestre 1\n"},{"$f":"_xlfn.CONCAT(\"Trimestre 1\",CHAR(10),IFERROR(#REF!,\"\"))","v":"Trimestre 1\n"}]
[null,null,"4. Aumentar la confianza, la cercanía y acceso a los servicios de la Rama Judicial a través, entre otros, de una comunicación clara y asertiva con la ciudadanía.","Satisfacción de la ciudadanía con la administración de justicia","% de satisfacción de la ciudadanía alto o muy alto con la administraci ón de justicia","3. Fomentar la transparencia y la participación generando lineamientos y promoviendo la rendición de cuentas ,la consulta, reporte y planteamiento de inquietudes en relación con las decisiones y aspectos del SIGCMA.",null,null,null,null,null,null,null,null,null,null,null,null,null,null,null,null,null,null,null,{"$f":"IFERROR(#REF!,\" \")","v":" "},{"$f":"IFERROR(#REF!,\"\")","v":""},{"$f":"IFERROR(#REF!,\"\")","v":""},"","",{"$f":"IFERROR(#REF!,\"\")","v":""},"",{"$f":"IFERROR(#REF!,\"\")","v":""},{"$f":"IFERROR(#REF!,\"\")","v":""},{"$f":"_xlfn.CONCAT(\"Trimestre 1\",CHAR(10),IFERROR(#REF!,\"\"))","v":"Trimestre 1\n"},{"$f":"_xlfn.CONCAT(\"Trimestre 1\",CHAR(10),IFERROR(#REF!,\"\"))","v":"Trimestre 1\n"},{"$f":"_xlfn.CONCAT(\"Trimestre 1\",CHAR(10),IFERROR(#REF!,\"\"))","v":"Trimestre 1\n"},{"$f":"_xlfn.CONCAT(\"Trimestre 1\",CHAR(10),IFERROR(#REF!,\"\"))","v":"Trimestre 1\n"},{"$f":"_xlfn.CONCAT(\"Trimestre 1\",CHAR(10),IFERROR(#REF!,\"\"))","v":"Trimestre 1\n"}]
[null,null,null,null,null,null,null,null,null,null,null,null,null,null,null,null,null,null,null,null,null,null,null,null,null,{"$f":"IFERROR(#REF!,\" \")","v":" "},{"$f":"IFERROR(#REF!,\"\")","v":""},{"$f":"IFERROR(#REF!,\"\")","v":""},"","",{"$f":"IFERROR(#REF!,\"\")","v":""},"",{"$f":"IFERROR(#REF!,\"\")","v":""},{"$f":"IFERROR(#REF!,\"\")","v":""},{"$f":"_xlfn.CONCAT(\"Trimestre 1\",CHAR(10),IFERROR(#REF!,\"\"))","v":"Trimestre 1\n"},{"$f":"_xlfn.CONCAT(\"Trimestre 1\",CHAR(10),IFERROR(#REF!,\"\"))","v":"Trimestre 1\n"},{"$f":"_xlfn.CONCAT(\"Trimestre 1\",CHAR(10),IFERROR(#REF!,\"\"))","v":"Trimestre 1\n"},{"$f":"_xlfn.CONCAT(\"Trimestre 1\",CHAR(10),IFERROR(#REF!,\"\"))","v":"Trimestre 1\n"},{"$f":"_xlfn.CONCAT(\"Trimestre 1\",CHAR(10),IFERROR(#REF!,\"\"))","v":"Trimestre 1\n"}]
[null,null,null,null,null,null,null,null,null,null,null,null,null,null,null,null,null,null,null,null,null,null,null,null,null,{"$f":"IFERROR(#REF!,\" \")","v":" "},{"$f":"IFERROR(#REF!,\"\")","v":""},{"$f":"IFERROR(#REF!,\"\")","v":""},"","",{"$f":"IFERROR(#REF!,\"\")","v":""},"",{"$f":"IFERROR(#REF!,\"\")","v":""},{"$f":"IFERROR(#REF!,\"\")","v":""},{"$f":"_xlfn.CONCAT(\"Trimestre 1\",CHAR(10),IFERROR(#REF!,\"\"))","v":"Trimestre 1\n"},{"$f":"_xlfn.CONCAT(\"Trimestre 1\",CHAR(10),IFERROR(#REF!,\"\"))","v":"Trimestre 1\n"},{"$f":"_xlfn.CONCAT(\"Trimestre 1\",CHAR(10),IFERROR(#REF!,\"\"))","v":"Trimestre 1\n"},{"$f":"_xlfn.CONCAT(\"Trimestre 1\",CHAR(10),IFERROR(#REF!,\"\"))","v":"Trimestre 1\n"},{"$f":"_xlfn.CONCAT(\"Trimestre 1\",CHAR(10),IFERROR(#REF!,\"\"))","v":"Trimestre 1\n"}]
[null,null,null,null,null,null,null,null,null,null,null,null,null,null,null,null,null,null,null,null,null,null,null,null,null,{"$f":"IFERROR(#REF!,\" \")","v":" "},{"$f":"IFERROR(#REF!,\"\")","v":""},{"$f":"IFERROR(#REF!,\"\")","v":""},"","",{"$f":"IFERROR(#REF!,\"\")","v":""},"",{"$f":"IFERROR(#REF!,\"\")","v":""},{"$f":"IFERROR(#REF!,\"\")","v":""},{"$f":"_xlfn.CONCAT(\"Trimestre 1\",CHAR(10),IFERROR(#REF!,\"\"))","v":"Trimestre 1\n"},{"$f":"_xlfn.CONCAT(\"Trimestre 1\",CHAR(10),IFERROR(#REF!,\"\"))","v":"Trimestre 1\n"},{"$f":"_xlfn.CONCAT(\"Trimestre 1\",CHAR(10),IFERROR(#REF!,\"\"))","v":"Trimestre 1\n"},{"$f":"_xlfn.CONCAT(\"Trimestre 1\",CHAR(10),IFERROR(#REF!,\"\"))","v":"Trimestre 1\n"},{"$f":"_xlfn.CONCAT(\"Trimestre 1\",CHAR(10),IFERROR(#REF!,\"\"))","v":"Trimestre 1\n"}]
[null,null,null,null,null,null,null,null,null,null,null,null,null,null,null,null,null,null,null,null,null,null,null,null,null,{"$f":"IFERROR(#REF!,\" \")","v":" "},{"$f":"IFERROR(#REF!,\"\")","v":""},{"$f":"IFERROR(#REF!,\"\")","v":""},"","",{"$f":"IFERROR(#REF!,\"\")","v":""},"",{"$f":"IFERROR(#REF!,\"\")","v":""},{"$f":"IFERROR(#REF!,\"\")","v":""},{"$f":"_xlfn.CONCAT(\"Trimestre 1\",CHAR(10),IFERROR(#REF!,\"\"))","v":"Trimestre 1\n"},{"$f":"_xlfn.CONCAT(\"Trimestre 1\",CHAR(10),IFERROR(#REF!,\"\"))","v":"Trimestre 1\n"},{"$f":"_xlfn.CONCAT(\"Trimestre 1\",CHAR(10),IFERROR(#REF!,\"\"))","v":"Trimestre 1\n"},{"$f":"_xlfn.CONCAT(\"Trimestre 1\",CHAR(10),IFERROR(#REF!,\"\"))","v":"Trimestre 1\n"},{"$f":"_xlfn.CONCAT(\"Trimestre 1\",CHAR(10),IFERROR(#REF!,\"\"))","v":"Trimestre 1\n"}]
[null,null,"5. Prevenir fenómenos asociados con actos de corrupción en la Rama Judicial y reducir las experiencias de corrupción de usuarios y servidores judiciales.","Cumplimiento del Plan Anticorrupción y de Atención al Ciudadano de la Rama Judicial","# Actividades cumplidas del PAAC/# Actividades programada s del PAAC*100",null,null,null,null,null,null,null,null,null,null,null,null,null,null,null,null,null,null,null,null,{"$f":"IFERROR(#REF!,\" \")","v":" "},{"$f":"IFERROR(#REF!,\"\")","v":""},{"$f":"IFERROR(#REF!,\"\")","v":""},"","",{"$f":"IFERROR(#REF!,\"\")","v":""},"",{"$f":"IFERROR(#REF!,\"\")","v":""},{"$f":"IFERROR(#REF!,\"\")","v":""},{"$f":"_xlfn.CONCAT(\"Trimestre 1\",CHAR(10),IFERROR(#REF!,\"\"))","v":"Trimestre 1\n"},{"$f":"_xlfn.CONCAT(\"Trimestre 1\",CHAR(10),IFERROR(#REF!,\"\"))","v":"Trimestre 1\n"},{"$f":"_xlfn.CONCAT(\"Trimestre 1\",CHAR(10),IFERROR(#REF!,\"\"))","v":"Trimestre 1\n"},{"$f":"_xlfn.CONCAT(\"Trimestre 1\",CHAR(10),IFERROR(#REF!,\"\"))","v":"Trimestre 1\n"},{"$f":"_xlfn.CONCAT(\"Trimestre 1\",CHAR(10),IFERROR(#REF!,\"\"))","v":"Trimestre 1\n"}]
[null,null,null,null,null,null,null,null,null,null,null,null,null,null,null,null,null,null,null,null,null,null,null,null,null,{"$f":"IFERROR(#REF!,\" \")","v":" "},{"$f":"IFERROR(#REF!,\"\")","v":""},{"$f":"IFERROR(#REF!,\"\")","v":""},"","",{"$f":"IFERROR(#REF!,\"\")","v":""},"",{"$f":"IFERROR(#REF!,\"\")","v":""},{"$f":"IFERROR(#REF!,\"\")","v":""},{"$f":"_xlfn.CONCAT(\"Trimestre 1\",CHAR(10),IFERROR(#REF!,\"\"))","v":"Trimestre 1\n"},{"$f":"_xlfn.CONCAT(\"Trimestre 1\",CHAR(10),IFERROR(#REF!,\"\"))","v":"Trimestre 1\n"},{"$f":"_xlfn.CONCAT(\"Trimestre 1\",CHAR(10),IFERROR(#REF!,\"\"))","v":"Trimestre 1\n"},{"$f":"_xlfn.CONCAT(\"Trimestre 1\",CHAR(10),IFERROR(#REF!,\"\"))","v":"Trimestre 1\n"},{"$f":"_xlfn.CONCAT(\"Trimestre 1\",CHAR(10),IFERROR(#REF!,\"\"))","v":"Trimestre 1\n"}]
[null,null,null,null,null,null,null,null,null,null,null,null,null,null,null,null,null,null,null,null,null,null,null,null,null,{"$f":"IFERROR(#REF!,\" \")","v":" "},{"$f":"IFERROR(#REF!,\"\")","v":""},{"$f":"IFERROR(#REF!,\"\")","v":""},"","",{"$f":"IFERROR(#REF!,\"\")","v":""},"",{"$f":"IFERROR(#REF!,\"\")","v":""},{"$f":"IFERROR(#REF!,\"\")","v":""},{"$f":"_xlfn.CONCAT(\"Trimestre 1\",CHAR(10),IFERROR(#REF!,\"\"))","v":"Trimestre 1\n"},{"$f":"_xlfn.CONCAT(\"Trimestre 1\",CHAR(10),IFERROR(#REF!,\"\"))","v":"Trimestre 1\n"},{"$f":"_xlfn.CONCAT(\"Trimestre 1\",CHAR(10),IFERROR(#REF!,\"\"))","v":"Trimestre 1\n"},{"$f":"_xlfn.CONCAT(\"Trimestre 1\",CHAR(10),IFERROR(#REF!,\"\"))","v":"Trimestre 1\n"},{"$f":"_xlfn.CONCAT(\"Trimestre 1\",CHAR(10),IFERROR(#REF!,\"\"))","v":"Trimestre 1\n"}]
[null,null,null,null,null,null,null,null,null,null,null,null,null,null,null,null,null,null,null,null,null,null,null,null,null,{"$f":"IFERROR(#REF!,\" \")","v":" "},{"$f":"IFERROR(#REF!,\"\")","v":""},{"$f":"IFERROR(#REF!,\"\")","v":""},"","",{"$f":"IFERROR(#REF!,\"\")","v":""},"",{"$f":"IFERROR(#REF!,\"\")","v":""},{"$f":"IFERROR(#REF!,\"\")","v":""},{"$f":"_xlfn.CONCAT(\"Trimestre 1\",CHAR(10),IFERROR(#REF!,\"\"))","v":"Trimestre 1\n"},{"$f":"_xlfn.CONCAT(\"Trimestre 1\",CHAR(10),IFERROR(#REF!,\"\"))","v":"Trimestre 1\n"},{"$f":"_xlfn.CONCAT(\"Trimestre 1\",CHAR(10),IFERROR(#REF!,\"\"))","v":"Trimestre 1\n"},{"$f":"_xlfn.CONCAT(\"Trimestre 1\",CHAR(10),IFERROR(#REF!,\"\"))","v":"Trimestre 1\n"},{"$f":"_xlfn.CONCAT(\"Trimestre 1\",CHAR(10),IFERROR(#REF!,\"\"))","v":"Trimestre 1\n"}]
[null,null,null,null,null,null,null,null,null,null,null,null,null,null,null,null,null,null,null,null,null,null,null,null,null,{"$f":"IFERROR(#REF!,\" \")","v":" "},{"$f":"IFERROR(#REF!,\"\")","v":""},{"$f":"IFERROR(#REF!,\"\")","v":""},"","",{"$f":"IFERROR(#REF!,\"\")","v":""},"",{"$f":"IFERROR(#REF!,\"\")","v":""},{"$f":"IFERROR(#REF!,\"\")","v":""},{"$f":"_xlfn.CONCAT(\"Trimestre 1\",CHAR(10),IFERROR(#REF!,\"\"))","v":"Trimestre 1\n"},{"$f":"_xlfn.CONCAT(\"Trimestre 1\",CHAR(10),IFERROR(#REF!,\"\"))","v":"Trimestre 1\n"},{"$f":"_xlfn.CONCAT(\"Trimestre 1\",CHAR(10),IFERROR(#REF!,\"\"))","v":"Trimestre 1\n"},{"$f":"_xlfn.CONCAT(\"Trimestre 1\",CHAR(10),IFERROR(#REF!,\"\"))","v":"Trimestre 1\n"},{"$f":"_xlfn.CONCAT(\"Trimestre 1\",CHAR(10),IFERROR(#REF!,\"\"))","v":"Trimestre 1\n"}]
[null,null,"6. Promover la rendición de cuentas y la colaboración real con la ciudadanía como fundamento para diseñar acciones de mejoramiento del acceso a la justicia.","Estrategias para implementar la colaboración real con la ciudadanía en el marco de la \"justicia abierta\" implementadas","% de implementa ción de las estrategias de colaboració n real con la ciudadanía en el marco de la \"justicia abierta\" definidas para cada anualidad",null,null,null,null,null,null,null,null,null,null,null,null,null,null,null,null,null,null,null,null,{"$f":"IFERROR(#REF!,\" \")","v":" "},{"$f":"IFERROR(#REF!,\"\")","v":""},{"$f":"IFERROR(#REF!,\"\")","v":""},"","",{"$f":"IFERROR(#REF!,\"\")","v":""},"",{"$f":"IFERROR(#REF!,\"\")","v":""},{"$f":"IFERROR(#REF!,\"\")","v":""},{"$f":"_xlfn.CONCAT(\"Trimestre 1\",CHAR(10),IFERROR(#REF!,\"\"))","v":"Trimestre 1\n"},{"$f":"_xlfn.CONCAT(\"Trimestre 1\",CHAR(10),IFERROR(#REF!,\"\"))","v":"Trimestre 1\n"},{"$f":"_xlfn.CONCAT(\"Trimestre 1\",CHAR(10),IFERROR(#REF!,\"\"))","v":"Trimestre 1\n"},{"$f":"_xlfn.CONCAT(\"Trimestre 1\",CHAR(10),IFERROR(#REF!,\"\"))","v":"Trimestre 1\n"},{"$f":"_xlfn.CONCAT(\"Trimestre 1\",CHAR(10),IFERROR(#REF!,\"\"))","v":"Trimestre 1\n"}]
[null,null,null,null,null,null,null,null,null,null,null,null,null,null,null,null,null,null,null,null,null,null,null,null,null,{"$f":"IFERROR(#REF!,\" \")","v":" "},{"$f":"IFERROR(#REF!,\"\")","v":""},{"$f":"IFERROR(#REF!,\"\")","v":""},"","",{"$f":"IFERROR(#REF!,\"\")","v":""},"",{"$f":"IFERROR(#REF!,\"\")","v":""},{"$f":"IFERROR(#REF!,\"\")","v":""},{"$f":"_xlfn.CONCAT(\"Trimestre 1\",CHAR(10),IFERROR(#REF!,\"\"))","v":"Trimestre 1\n"},{"$f":"_xlfn.CONCAT(\"Trimestre 1\",CHAR(10),IFERROR(#REF!,\"\"))","v":"Trimestre 1\n"},{"$f":"_xlfn.CONCAT(\"Trimestre 1\",CHAR(10),IFERROR(#REF!,\"\"))","v":"Trimestre 1\n"},{"$f":"_xlfn.CONCAT(\"Trimestre 1\",CHAR(10),IFERROR(#REF!,\"\"))","v":"Trimestre 1\n"},{"$f":"_xlfn.CONCAT(\"Trimestre 1\",CHAR(10),IFERROR(#REF!,\"\"))","v":"Trimestre 1\n"}]
[null,null,null,null,null,null,null,null,null,null,null,null,null,null,null,null,null,null,null,null,null,null,null,null,null,{"$f":"IFERROR(#REF!,\" \")","v":" "},{"$f":"IFERROR(#REF!,\"\")","v":""},{"$f":"IFERROR(#REF!,\"\")","v":""},"","",{"$f":"IFERROR(#REF!,\"\")","v":""},"",{"$f":"IFERROR(#REF!,\"\")","v":""},{"$f":"IFERROR(#REF!,\"\")","v":""},{"$f":"_xlfn.CONCAT(\"Trimestre 1\",CHAR(10),IFERROR(#REF!,\"\"))","v":"Trimestre 1\n"},{"$f":"_xlfn.CONCAT(\"Trimestre 1\",CHAR(10),IFERROR(#REF!,\"\"))","v":"Trimestre 1\n"},{"$f":"_xlfn.CONCAT(\"Trimestre 1\",CHAR(10),IFERROR(#REF!,\"\"))","v":"Trimestre 1\n"},{"$f":"_xlfn.CONCAT(\"Trimestre 1\",CHAR(10),IFERROR(#REF!,\"\"))","v":"Trimestre 1\n"},{"$f":"_xlfn.CONCAT(\"Trimestre 1\",CHAR(10),IFERROR(#REF!,\"\"))","v":"Trimestre 1\n"}]
[null,null,null,null,null,null,null,null,null,null,null,null,null,null,null,null,null,null,null,null,null,null,null,null,null,{"$f":"IFERROR(#REF!,\" \")","v":" "},{"$f":"IFERROR(#REF!,\"\")","v":""},{"$f":"IFERROR(#REF!,\"\")","v":""},"","",{"$f":"IFERROR(#REF!,\"\")","v":""},"",{"$f":"IFERROR(#REF!,\"\")","v":""},{"$f":"IFERROR(#REF!,\"\")","v":""},{"$f":"_xlfn.CONCAT(\"Trimestre 1\",CHAR(10),IFERROR(#REF!,\"\"))","v":"Trimestre 1\n"},{"$f":"_xlfn.CONCAT(\"Trimestre 1\",CHAR(10),IFERROR(#REF!,\"\"))","v":"Trimestre 1\n"},{"$f":"_xlfn.CONCAT(\"Trimestre 1\",CHAR(10),IFERROR(#REF!,\"\"))","v":"Trimestre 1\n"},{"$f":"_xlfn.CONCAT(\"Trimestre 1\",CHAR(10),IFERROR(#REF!,\"\"))","v":"Trimestre 1\n"},{"$f":"_xlfn.CONCAT(\"Trimestre 1\",CHAR(10),IFERROR(#REF!,\"\"))","v":"Trimestre 1\n"}]
[null,null,null,null,null,null,null,null,null,null,null,null,null,null,null,null,null,null,null,null,null,null,null,null,null,{"$f":"IFERROR(#REF!,\" \")","v":" "},{"$f":"IFERROR(#REF!,\"\")","v":""},{"$f":"IFERROR(#REF!,\"\")","v":""},"","",{"$f":"IFERROR(#REF!,\"\")","v":""},"",{"$f":"IFERROR(#REF!,\"\")","v":""},{"$f":"IFERROR(#REF!,\"\")","v":""},{"$f":"_xlfn.CONCAT(\"Trimestre 1\",CHAR(10),IFERROR(#REF!,\"\"))","v":"Trimestre 1\n"},{"$f":"_xlfn.CONCAT(\"Trimestre 1\",CHAR(10),IFERROR(#REF!,\"\"))","v":"Trimestre 1\n"},{"$f":"_xlfn.CONCAT(\"Trimestre 1\",CHAR(10),IFERROR(#REF!,\"\"))","v":"Trimestre 1\n"},{"$f":"_xlfn.CONCAT(\"Trimestre 1\",CHAR(10),IFERROR(#REF!,\"\"))","v":"Trimestre 1\n"},{"$f":"_xlfn.CONCAT(\"Trimestre 1\",CHAR(10),IFERROR(#REF!,\"\"))","v":"Trimestre 1\n"}]
[null,null,"7. Continuar la consolidación del SIGCMA, a través de los procesos de formación en modelos de gestión, logrando la implementación y ampliación de este en los esquemas certificados de manera gradual, teniendo en cuenta las capacidades de los diferentes despachos judiciales y dependencias de la Rama Judicial y articulando el enfoque de Arquitectura Empresarial para el desarrollo del PETD a través de la gestión del conocimiento para la gestión del cambio propendiendo por una cultura de la calidad, la transparencia, la rendición de cuentas, la anticorrupción y el antisoborno","Procesos de formación en modelos de gestión aplicados","# de servidores judiciales formados en modelos de gestión de las dependenci as judiciales y administrati vas certificadas en SIGCMA que implementa n el PETD / # total de servidores judiciales de las dependenci as judiciales y administrati vas certificadas en SIGCMA que implementa n el PETD","1. Gestionar el desarrollo de las competencias, la toma de conciencia , la cultura  organizacional  y el compromiso de los  servidores judiciales, contratistas, practicantes y  judicantes de contribuir a generar valor público en la administración de justicia, en el marco de  cumplimiento de los requisitos  aplicables y el comportamiento ético.\n4. Hacer un uso racional de los recursos naturales aplicando los principios y fases de la Economía Circular, para prevenir, mitigar y controlar los impactos ambientales.",null,null,null,null,null,null,null,null,null,null,null,null,null,null,null,null,null,null,null,{"$f":"IFERROR(#REF!,\" \")","v":" "},{"$f":"IFERROR(#REF!,\"\")","v":""},{"$f":"IFERROR(#REF!,\"\")","v":""},"","",{"$f":"IFERROR(#REF!,\"\")","v":""},"",{"$f":"IFERROR(#REF!,\"\")","v":""},{"$f":"IFERROR(#REF!,\"\")","v":""},{"$f":"_xlfn.CONCAT(\"Trimestre 1\",CHAR(10),IFERROR(#REF!,\"\"))","v":"Trimestre 1\n"},{"$f":"_xlfn.CONCAT(\"Trimestre 1\",CHAR(10),IFERROR(#REF!,\"\"))","v":"Trimestre 1\n"},{"$f":"_xlfn.CONCAT(\"Trimestre 1\",CHAR(10),IFERROR(#REF!,\"\"))","v":"Trimestre 1\n"},{"$f":"_xlfn.CONCAT(\"Trimestre 1\",CHAR(10),IFERROR(#REF!,\"\"))","v":"Trimestre 1\n"},{"$f":"_xlfn.CONCAT(\"Trimestre 1\",CHAR(10),IFERROR(#REF!,\"\"))","v":"Trimestre 1\n"}]
[null,null,null,null,null,null,null,null,null,null,null,null,null,null,null,null,null,null,null,null,null,null,null,null,null,{"$f":"IFERROR(#REF!,\" \")","v":" "},{"$f":"IFERROR(#REF!,\"\")","v":""},{"$f":"IFERROR(#REF!,\"\")","v":""},"","",{"$f":"IFERROR(#REF!,\"\")","v":""},"",{"$f":"IFERROR(#REF!,\"\")","v":""},{"$f":"IFERROR(#REF!,\"\")","v":""},{"$f":"_xlfn.CONCAT(\"Trimestre 1\",CHAR(10),IFERROR(#REF!,\"\"))","v":"Trimestre 1\n"},{"$f":"_xlfn.CONCAT(\"Trimestre 1\",CHAR(10),IFERROR(#REF!,\"\"))","v":"Trimestre 1\n"},{"$f":"_xlfn.CONCAT(\"Trimestre 1\",CHAR(10),IFERROR(#REF!,\"\"))","v":"Trimestre 1\n"},{"$f":"_xlfn.CONCAT(\"Trimestre 1\",CHAR(10),IFERROR(#REF!,\"\"))","v":"Trimestre 1\n"},{"$f":"_xlfn.CONCAT(\"Trimestre 1\",CHAR(10),IFERROR(#REF!,\"\"))","v":"Trimestre 1\n"}]
[null,null,null,null,null,null,null,null,null,null,null,null,null,null,null,null,null,null,null,null,null,null,null,null,null,{"$f":"IFERROR(#REF!,\" \")","v":" "},{"$f":"IFERROR(#REF!,\"\")","v":""},{"$f":"IFERROR(#REF!,\"\")","v":""},"","",{"$f":"IFERROR(#REF!,\"\")","v":""},"",{"$f":"IFERROR(#REF!,\"\")","v":""},{"$f":"IFERROR(#REF!,\"\")","v":""},{"$f":"_xlfn.CONCAT(\"Trimestre 1\",CHAR(10),IFERROR(#REF!,\"\"))","v":"Trimestre 1\n"},{"$f":"_xlfn.CONCAT(\"Trimestre 1\",CHAR(10),IFERROR(#REF!,\"\"))","v":"Trimestre 1\n"},{"$f":"_xlfn.CONCAT(\"Trimestre 1\",CHAR(10),IFERROR(#REF!,\"\"))","v":"Trimestre 1\n"},{"$f":"_xlfn.CONCAT(\"Trimestre 1\",CHAR(10),IFERROR(#REF!,\"\"))","v":"Trimestre 1\n"},{"$f":"_xlfn.CONCAT(\"Trimestre 1\",CHAR(10),IFERROR(#REF!,\"\"))","v":"Trimestre 1\n"}]
[null,null,null,null,null,null,null,null,null,null,null,null,null,null,null,null,null,null,null,null,null,null,null,null,null,{"$f":"IFERROR(#REF!,\" \")","v":" "},{"$f":"IFERROR(#REF!,\"\")","v":""},{"$f":"IFERROR(#REF!,\"\")","v":""},"","",{"$f":"IFERROR(#REF!,\"\")","v":""},"",{"$f":"IFERROR(#REF!,\"\")","v":""},{"$f":"IFERROR(#REF!,\"\")","v":""},{"$f":"_xlfn.CONCAT(\"Trimestre 1\",CHAR(10),IFERROR(#REF!,\"\"))","v":"Trimestre 1\n"},{"$f":"_xlfn.CONCAT(\"Trimestre 1\",CHAR(10),IFERROR(#REF!,\"\"))","v":"Trimestre 1\n"},{"$f":"_xlfn.CONCAT(\"Trimestre 1\",CHAR(10),IFERROR(#REF!,\"\"))","v":"Trimestre 1\n"},{"$f":"_xlfn.CONCAT(\"Trimestre 1\",CHAR(10),IFERROR(#REF!,\"\"))","v":"Trimestre 1\n"},{"$f":"_xlfn.CONCAT(\"Trimestre 1\",CHAR(10),IFERROR(#REF!,\"\"))","v":"Trimestre 1\n"}]
[null,null,null,null,null,null,null,null,null,null,null,null,null,null,null,null,null,null,null,null,null,null,null,null,null,{"$f":"IFERROR(#REF!,\" \")","v":" "},{"$f":"IFERROR(#REF!,\"\")","v":""},{"$f":"IFERROR(#REF!,\"\")","v":""},"","",{"$f":"IFERROR(#REF!,\"\")","v":""},"",{"$f":"IFERROR(#REF!,\"\")","v":""},{"$f":"IFERROR(#REF!,\"\")","v":""},{"$f":"_xlfn.CONCAT(\"Trimestre 1\",CHAR(10),IFERROR(#REF!,\"\"))","v":"Trimestre 1\n"},{"$f":"_xlfn.CONCAT(\"Trimestre 1\",CHAR(10),IFERROR(#REF!,\"\"))","v":"Trimestre 1\n"},{"$f":"_xlfn.CONCAT(\"Trimestre 1\",CHAR(10),IFERROR(#REF!,\"\"))","v":"Trimestre 1\n"},{"$f":"_xlfn.CONCAT(\"Trimestre 1\",CHAR(10),IFERROR(#REF!,\"\"))","v":"Trimestre 1\n"},{"$f":"_xlfn.CONCAT(\"Trimestre 1\",CHAR(10),IFERROR(#REF!,\"\"))","v":"Trimestre 1\n"}]
["4. Talento Humano","Talento Humano: Fortalecer el talento humano en la Rama Judicial para que sea eficiente, capacitado y realice su labor en ambientes saludables y seguros. Ampliar la cobertura de la carrera judicial y mejorar la oferta de formación, que esté disponible para todos los servidores judiciales e impacte positivamente el servicio de justicia y responda a las necesidades reales del ejercicio de la función judicial.","1. Ampliar la cobertura de la carrera judicial optimizando los procesos de los concursos de méritos y propender por mitigar su litigiosidad.","Cobertura de la carrera judicial diferenciada entre magistrados, jueces y empleados","# de cargos provistos por carrera judicial/# de cargos de carrera judicial","1. Gestionar el desarrollo de las competencias, la toma de conciencia , la cultura  organizacional  y el compromiso de los  servidores judiciales, contratistas, practicantes y  judicantes de contribuir a generar valor público en la administración de justicia, en el marco de  cumplimiento de los requisitos  aplicables y el comportamiento ético.",null,null,null,null,null,null,null,null,null,null,null,null,null,null,null,null,null,null,null,{"$f":"IFERROR(#REF!,\" \")","v":" "},{"$f":"IFERROR(#REF!,\"\")","v":""},{"$f":"IFERROR(#REF!,\"\")","v":""},"","",{"$f":"IFERROR(#REF!,\"\")","v":""},"",{"$f":"IFERROR(#REF!,\"\")","v":""},{"$f":"IFERROR(#REF!,\"\")","v":""},{"$f":"_xlfn.CONCAT(\"Trimestre 1\",CHAR(10),IFERROR(#REF!,\"\"))","v":"Trimestre 1\n"},{"$f":"_xlfn.CONCAT(\"Trimestre 1\",CHAR(10),IFERROR(#REF!,\"\"))","v":"Trimestre 1\n"},{"$f":"_xlfn.CONCAT(\"Trimestre 1\",CHAR(10),IFERROR(#REF!,\"\"))","v":"Trimestre 1\n"},{"$f":"_xlfn.CONCAT(\"Trimestre 1\",CHAR(10),IFERROR(#REF!,\"\"))","v":"Trimestre 1\n"},{"$f":"_xlfn.CONCAT(\"Trimestre 1\",CHAR(10),IFERROR(#REF!,\"\"))","v":"Trimestre 1\n"}]
[null,null,null,null,null,null,null,null,null,null,null,null,null,null,null,null,null,null,null,null,null,null,null,null,null,{"$f":"IFERROR(#REF!,\" \")","v":" "},{"$f":"IFERROR(#REF!,\"\")","v":""},{"$f":"IFERROR(#REF!,\"\")","v":""},"","",{"$f":"IFERROR(#REF!,\"\")","v":""},"",{"$f":"IFERROR(#REF!,\"\")","v":""},{"$f":"IFERROR(#REF!,\"\")","v":""},{"$f":"_xlfn.CONCAT(\"Trimestre 1\",CHAR(10),IFERROR(#REF!,\"\"))","v":"Trimestre 1\n"},{"$f":"_xlfn.CONCAT(\"Trimestre 1\",CHAR(10),IFERROR(#REF!,\"\"))","v":"Trimestre 1\n"},{"$f":"_xlfn.CONCAT(\"Trimestre 1\",CHAR(10),IFERROR(#REF!,\"\"))","v":"Trimestre 1\n"},{"$f":"_xlfn.CONCAT(\"Trimestre 1\",CHAR(10),IFERROR(#REF!,\"\"))","v":"Trimestre 1\n"},{"$f":"_xlfn.CONCAT(\"Trimestre 1\",CHAR(10),IFERROR(#REF!,\"\"))","v":"Trimestre 1\n"}]
[null,null,null,null,null,null,null,null,null,null,null,null,null,null,null,null,null,null,null,null,null,null,null,null,null,{"$f":"IFERROR(#REF!,\" \")","v":" "},{"$f":"IFERROR(#REF!,\"\")","v":""},{"$f":"IFERROR(#REF!,\"\")","v":""},"","",{"$f":"IFERROR(#REF!,\"\")","v":""},"",{"$f":"IFERROR(#REF!,\"\")","v":""},{"$f":"IFERROR(#REF!,\"\")","v":""},{"$f":"_xlfn.CONCAT(\"Trimestre 1\",CHAR(10),IFERROR(#REF!,\"\"))","v":"Trimestre 1\n"},{"$f":"_xlfn.CONCAT(\"Trimestre 1\",CHAR(10),IFERROR(#REF!,\"\"))","v":"Trimestre 1\n"},{"$f":"_xlfn.CONCAT(\"Trimestre 1\",CHAR(10),IFERROR(#REF!,\"\"))","v":"Trimestre 1\n"},{"$f":"_xlfn.CONCAT(\"Trimestre 1\",CHAR(10),IFERROR(#REF!,\"\"))","v":"Trimestre 1\n"},{"$f":"_xlfn.CONCAT(\"Trimestre 1\",CHAR(10),IFERROR(#REF!,\"\"))","v":"Trimestre 1\n"}]
[null,null,null,null,null,null,null,null,null,null,null,null,null,null,null,null,null,null,null,null,null,null,null,null,null,{"$f":"IFERROR(#REF!,\" \")","v":" "},{"$f":"IFERROR(#REF!,\"\")","v":""},{"$f":"IFERROR(#REF!,\"\")","v":""},"","",{"$f":"IFERROR(#REF!,\"\")","v":""},"",{"$f":"IFERROR(#REF!,\"\")","v":""},{"$f":"IFERROR(#REF!,\"\")","v":""},{"$f":"_xlfn.CONCAT(\"Trimestre 1\",CHAR(10),IFERROR(#REF!,\"\"))","v":"Trimestre 1\n"},{"$f":"_xlfn.CONCAT(\"Trimestre 1\",CHAR(10),IFERROR(#REF!,\"\"))","v":"Trimestre 1\n"},{"$f":"_xlfn.CONCAT(\"Trimestre 1\",CHAR(10),IFERROR(#REF!,\"\"))","v":"Trimestre 1\n"},{"$f":"_xlfn.CONCAT(\"Trimestre 1\",CHAR(10),IFERROR(#REF!,\"\"))","v":"Trimestre 1\n"},{"$f":"_xlfn.CONCAT(\"Trimestre 1\",CHAR(10),IFERROR(#REF!,\"\"))","v":"Trimestre 1\n"}]
[null,null,null,null,null,null,null,null,null,null,null,null,null,null,null,null,null,null,null,null,null,null,null,null,null,{"$f":"IFERROR(#REF!,\" \")","v":" "},{"$f":"IFERROR(#REF!,\"\")","v":""},{"$f":"IFERROR(#REF!,\"\")","v":""},"","",{"$f":"IFERROR(#REF!,\"\")","v":""},"",{"$f":"IFERROR(#REF!,\"\")","v":""},{"$f":"IFERROR(#REF!,\"\")","v":""},{"$f":"_xlfn.CONCAT(\"Trimestre 1\",CHAR(10),IFERROR(#REF!,\"\"))","v":"Trimestre 1\n"},{"$f":"_xlfn.CONCAT(\"Trimestre 1\",CHAR(10),IFERROR(#REF!,\"\"))","v":"Trimestre 1\n"},{"$f":"_xlfn.CONCAT(\"Trimestre 1\",CHAR(10),IFERROR(#REF!,\"\"))","v":"Trimestre 1\n"},{"$f":"_xlfn.CONCAT(\"Trimestre 1\",CHAR(10),IFERROR(#REF!,\"\"))","v":"Trimestre 1\n"},{"$f":"_xlfn.CONCAT(\"Trimestre 1\",CHAR(10),IFERROR(#REF!,\"\"))","v":"Trimestre 1\n"}]
[null,null,"2. Impactar la función y servicios que presta la Rama Judicial, a través de una formación integral desde una visión de gestión del conocimiento, relacionada con los problemas de la justicia y los problemas de gestión de quienes administran los recursos de la justicia, y potenciando el uso de medios virtuales.","Cobertura de la formación impartida por la Escuela Judicial en el fortalecimiento de las competencias de los servidores judiciales","# servidores que no han recibido ningún curso de formación en los dos años anteriores al proceso de formación, discriminad o por funcionarios y empleados, municipio y especialida d /# servidores totales, discriminad o por funcionarios y empleados, municipio y especialida d",null,null,null,null,null,null,null,null,null,null,null,null,null,null,null,null,null,null,null,null,{"$f":"IFERROR(#REF!,\" \")","v":" "},{"$f":"IFERROR(#REF!,\"\")","v":""},{"$f":"IFERROR(#REF!,\"\")","v":""},"","",{"$f":"IFERROR(#REF!,\"\")","v":""},"",{"$f":"IFERROR(#REF!,\"\")","v":""},{"$f":"IFERROR(#REF!,\"\")","v":""},{"$f":"_xlfn.CONCAT(\"Trimestre 1\",CHAR(10),IFERROR(#REF!,\"\"))","v":"Trimestre 1\n"},{"$f":"_xlfn.CONCAT(\"Trimestre 1\",CHAR(10),IFERROR(#REF!,\"\"))","v":"Trimestre 1\n"},{"$f":"_xlfn.CONCAT(\"Trimestre 1\",CHAR(10),IFERROR(#REF!,\"\"))","v":"Trimestre 1\n"},{"$f":"_xlfn.CONCAT(\"Trimestre 1\",CHAR(10),IFERROR(#REF!,\"\"))","v":"Trimestre 1\n"},{"$f":"_xlfn.CONCAT(\"Trimestre 1\",CHAR(10),IFERROR(#REF!,\"\"))","v":"Trimestre 1\n"}]
[null,null,null,null,null,null,null,null,null,null,null,null,null,null,null,null,null,null,null,null,null,null,null,null,null,{"$f":"IFERROR(#REF!,\" \")","v":" "},{"$f":"IFERROR(#REF!,\"\")","v":""},{"$f":"IFERROR(#REF!,\"\")","v":""},"","",{"$f":"IFERROR(#REF!,\"\")","v":""},"",{"$f":"IFERROR(#REF!,\"\")","v":""},{"$f":"IFERROR(#REF!,\"\")","v":""},{"$f":"_xlfn.CONCAT(\"Trimestre 1\",CHAR(10),IFERROR(#REF!,\"\"))","v":"Trimestre 1\n"},{"$f":"_xlfn.CONCAT(\"Trimestre 1\",CHAR(10),IFERROR(#REF!,\"\"))","v":"Trimestre 1\n"},{"$f":"_xlfn.CONCAT(\"Trimestre 1\",CHAR(10),IFERROR(#REF!,\"\"))","v":"Trimestre 1\n"},{"$f":"_xlfn.CONCAT(\"Trimestre 1\",CHAR(10),IFERROR(#REF!,\"\"))","v":"Trimestre 1\n"},{"$f":"_xlfn.CONCAT(\"Trimestre 1\",CHAR(10),IFERROR(#REF!,\"\"))","v":"Trimestre 1\n"}]
[null,null,null,null,null,null,null,null,null,null,null,null,null,null,null,null,null,null,null,null,null,null,null,null,null,{"$f":"IFERROR(#REF!,\" \")","v":" "},{"$f":"IFERROR(#REF!,\"\")","v":""},{"$f":"IFERROR(#REF!,\"\")","v":""},"","",{"$f":"IFERROR(#REF!,\"\")","v":""},"",{"$f":"IFERROR(#REF!,\"\")","v":""},{"$f":"IFERROR(#REF!,\"\")","v":""},{"$f":"_xlfn.CONCAT(\"Trimestre 1\",CHAR(10),IFERROR(#REF!,\"\"))","v":"Trimestre 1\n"},{"$f":"_xlfn.CONCAT(\"Trimestre 1\",CHAR(10),IFERROR(#REF!,\"\"))","v":"Trimestre 1\n"},{"$f":"_xlfn.CONCAT(\"Trimestre 1\",CHAR(10),IFERROR(#REF!,\"\"))","v":"Trimestre 1\n"},{"$f":"_xlfn.CONCAT(\"Trimestre 1\",CHAR(10),IFERROR(#REF!,\"\"))","v":"Trimestre 1\n"},{"$f":"_xlfn.CONCAT(\"Trimestre 1\",CHAR(10),IFERROR(#REF!,\"\"))","v":"Trimestre 1\n"}]
[null,null,null,null,null,null,null,null,null,null,null,null,null,null,null,null,null,null,null,null,null,null,null,null,null,{"$f":"IFERROR(#REF!,\" \")","v":" "},{"$f":"IFERROR(#REF!,\"\")","v":""},{"$f":"IFERROR(#REF!,\"\")","v":""},"","",{"$f":"IFERROR(#REF!,\"\")","v":""},"",{"$f":"IFERROR(#REF!,\"\")","v":""},{"$f":"IFERROR(#REF!,\"\")","v":""},{"$f":"_xlfn.CONCAT(\"Trimestre 1\",CHAR(10),IFERROR(#REF!,\"\"))","v":"Trimestre 1\n"},{"$f":"_xlfn.CONCAT(\"Trimestre 1\",CHAR(10),IFERROR(#REF!,\"\"))","v":"Trimestre 1\n"},{"$f":"_xlfn.CONCAT(\"Trimestre 1\",CHAR(10),IFERROR(#REF!,\"\"))","v":"Trimestre 1\n"},{"$f":"_xlfn.CONCAT(\"Trimestre 1\",CHAR(10),IFERROR(#REF!,\"\"))","v":"Trimestre 1\n"},{"$f":"_xlfn.CONCAT(\"Trimestre 1\",CHAR(10),IFERROR(#REF!,\"\"))","v":"Trimestre 1\n"}]
[null,null,null,null,null,null,null,null,null,null,null,null,null,null,null,null,null,null,null,null,null,null,null,null,null,{"$f":"IFERROR(#REF!,\" \")","v":" "},{"$f":"IFERROR(#REF!,\"\")","v":""},{"$f":"IFERROR(#REF!,\"\")","v":""},"","",{"$f":"IFERROR(#REF!,\"\")","v":""},"",{"$f":"IFERROR(#REF!,\"\")","v":""},{"$f":"IFERROR(#REF!,\"\")","v":""},{"$f":"_xlfn.CONCAT(\"Trimestre 1\",CHAR(10),IFERROR(#REF!,\"\"))","v":"Trimestre 1\n"},{"$f":"_xlfn.CONCAT(\"Trimestre 1\",CHAR(10),IFERROR(#REF!,\"\"))","v":"Trimestre 1\n"},{"$f":"_xlfn.CONCAT(\"Trimestre 1\",CHAR(10),IFERROR(#REF!,\"\"))","v":"Trimestre 1\n"},{"$f":"_xlfn.CONCAT(\"Trimestre 1\",CHAR(10),IFERROR(#REF!,\"\"))","v":"Trimestre 1\n"},{"$f":"_xlfn.CONCAT(\"Trimestre 1\",CHAR(10),IFERROR(#REF!,\"\"))","v":"Trimestre 1\n"}]
[null,null,"3. Promover la incorporación de la perspectiva de género y el enfoque diferencial en los fallos judiciales y en la atención a los ciudadanos, la administración de la Rama Judicial, la administración de la carrera judicial y la elaboración de listas para altas Cortes. ","Enfoque diferencial y perspectiva de género en las decisiones judiciales de la Rama Judicial","# de decisiones judiciales postuladas al Concurso de “Reconocim iento a la incorporaci ón del derecho a la igualdad y la no discriminaci ón en las sentencias judiciales” en el año corriente/# de decisiones judiciales postuladas al Concurso de “Reconocim iento a la incorporaci ón del derecho a la igualdad y la no discriminaci ón en las sentencias judiciales” en el año inmediatam ente anterior",null,null,null,null,null,null,null,null,null,null,null,null,null,null,null,null,null,null,null,null,{"$f":"IFERROR(#REF!,\" \")","v":" "},{"$f":"IFERROR(#REF!,\"\")","v":""},{"$f":"IFERROR(#REF!,\"\")","v":""},"","",{"$f":"IFERROR(#REF!,\"\")","v":""},"",{"$f":"IFERROR(#REF!,\"\")","v":""},{"$f":"IFERROR(#REF!,\"\")","v":""},{"$f":"_xlfn.CONCAT(\"Trimestre 1\",CHAR(10),IFERROR(#REF!,\"\"))","v":"Trimestre 1\n"},{"$f":"_xlfn.CONCAT(\"Trimestre 1\",CHAR(10),IFERROR(#REF!,\"\"))","v":"Trimestre 1\n"},{"$f":"_xlfn.CONCAT(\"Trimestre 1\",CHAR(10),IFERROR(#REF!,\"\"))","v":"Trimestre 1\n"},{"$f":"_xlfn.CONCAT(\"Trimestre 1\",CHAR(10),IFERROR(#REF!,\"\"))","v":"Trimestre 1\n"},{"$f":"_xlfn.CONCAT(\"Trimestre 1\",CHAR(10),IFERROR(#REF!,\"\"))","v":"Trimestre 1\n"}]
[null,null,null,null,null,null,null,null,null,null,null,null,null,null,null,null,null,null,null,null,null,null,null,null,null,{"$f":"IFERROR(#REF!,\" \")","v":" "},{"$f":"IFERROR(#REF!,\"\")","v":""},{"$f":"IFERROR(#REF!,\"\")","v":""},"","",{"$f":"IFERROR(#REF!,\"\")","v":""},"",{"$f":"IFERROR(#REF!,\"\")","v":""},{"$f":"IFERROR(#REF!,\"\")","v":""},{"$f":"_xlfn.CONCAT(\"Trimestre 1\",CHAR(10),IFERROR(#REF!,\"\"))","v":"Trimestre 1\n"},{"$f":"_xlfn.CONCAT(\"Trimestre 1\",CHAR(10),IFERROR(#REF!,\"\"))","v":"Trimestre 1\n"},{"$f":"_xlfn.CONCAT(\"Trimestre 1\",CHAR(10),IFERROR(#REF!,\"\"))","v":"Trimestre 1\n"},{"$f":"_xlfn.CONCAT(\"Trimestre 1\",CHAR(10),IFERROR(#REF!,\"\"))","v":"Trimestre 1\n"},{"$f":"_xlfn.CONCAT(\"Trimestre 1\",CHAR(10),IFERROR(#REF!,\"\"))","v":"Trimestre 1\n"}]
[null,null,null,null,null,null,null,null,null,null,null,null,null,null,null,null,null,null,null,null,null,null,null,null,null,{"$f":"IFERROR(#REF!,\" \")","v":" "},{"$f":"IFERROR(#REF!,\"\")","v":""},{"$f":"IFERROR(#REF!,\"\")","v":""},"","",{"$f":"IFERROR(#REF!,\"\")","v":""},"",{"$f":"IFERROR(#REF!,\"\")","v":""},{"$f":"IFERROR(#REF!,\"\")","v":""},{"$f":"_xlfn.CONCAT(\"Trimestre 1\",CHAR(10),IFERROR(#REF!,\"\"))","v":"Trimestre 1\n"},{"$f":"_xlfn.CONCAT(\"Trimestre 1\",CHAR(10),IFERROR(#REF!,\"\"))","v":"Trimestre 1\n"},{"$f":"_xlfn.CONCAT(\"Trimestre 1\",CHAR(10),IFERROR(#REF!,\"\"))","v":"Trimestre 1\n"},{"$f":"_xlfn.CONCAT(\"Trimestre 1\",CHAR(10),IFERROR(#REF!,\"\"))","v":"Trimestre 1\n"},{"$f":"_xlfn.CONCAT(\"Trimestre 1\",CHAR(10),IFERROR(#REF!,\"\"))","v":"Trimestre 1\n"}]
[null,null,null,null,null,null,null,null,null,null,null,null,null,null,null,null,null,null,null,null,null,null,null,null,null,{"$f":"IFERROR(#REF!,\" \")","v":" "},{"$f":"IFERROR(#REF!,\"\")","v":""},{"$f":"IFERROR(#REF!,\"\")","v":""},"","",{"$f":"IFERROR(#REF!,\"\")","v":""},"",{"$f":"IFERROR(#REF!,\"\")","v":""},{"$f":"IFERROR(#REF!,\"\")","v":""},{"$f":"_xlfn.CONCAT(\"Trimestre 1\",CHAR(10),IFERROR(#REF!,\"\"))","v":"Trimestre 1\n"},{"$f":"_xlfn.CONCAT(\"Trimestre 1\",CHAR(10),IFERROR(#REF!,\"\"))","v":"Trimestre 1\n"},{"$f":"_xlfn.CONCAT(\"Trimestre 1\",CHAR(10),IFERROR(#REF!,\"\"))","v":"Trimestre 1\n"},{"$f":"_xlfn.CONCAT(\"Trimestre 1\",CHAR(10),IFERROR(#REF!,\"\"))","v":"Trimestre 1\n"},{"$f":"_xlfn.CONCAT(\"Trimestre 1\",CHAR(10),IFERROR(#REF!,\"\"))","v":"Trimestre 1\n"}]
[null,null,null,null,null,null,null,null,null,null,null,null,null,null,null,null,null,null,null,null,null,null,null,null,null,{"$f":"IFERROR(#REF!,\" \")","v":" "},{"$f":"IFERROR(#REF!,\"\")","v":""},{"$f":"IFERROR(#REF!,\"\")","v":""},"","",{"$f":"IFERROR(#REF!,\"\")","v":""},"",{"$f":"IFERROR(#REF!,\"\")","v":""},{"$f":"IFERROR(#REF!,\"\")","v":""},{"$f":"_xlfn.CONCAT(\"Trimestre 1\",CHAR(10),IFERROR(#REF!,\"\"))","v":"Trimestre 1\n"},{"$f":"_xlfn.CONCAT(\"Trimestre 1\",CHAR(10),IFERROR(#REF!,\"\"))","v":"Trimestre 1\n"},{"$f":"_xlfn.CONCAT(\"Trimestre 1\",CHAR(10),IFERROR(#REF!,\"\"))","v":"Trimestre 1\n"},{"$f":"_xlfn.CONCAT(\"Trimestre 1\",CHAR(10),IFERROR(#REF!,\"\"))","v":"Trimestre 1\n"},{"$f":"_xlfn.CONCAT(\"Trimestre 1\",CHAR(10),IFERROR(#REF!,\"\"))","v":"Trimestre 1\n"}]
[null,null,"4. Desarrollar en los servidores judiciales y demás grupos de valor relevantes las competencias necesarias para la efectividad de la transformación digital de modo que puedan, entre otros, utilizar con solvencia las herramientas digitales dispuestas para sus respectivas funciones. Además, fortalecer y actualizar los conocimientos del personal a cargo de la gestión de proyectos de tecnología.","Cobertura de la formación impartida por la Escuela Judicial en Tecnologías de la Información y las Comunicaciones TIC para la práctica judicial.","# servidores que no han recibido ningún curso de formación en Tecnología s de la Información y las Comunicaci ones TIC en la vigencia del plan sectorial, discriminad o por funcionarios y empleados, municipio y especialida d /# servidores totales, discriminad o por funcionarios y empleados, municipio y especialida d",null,null,null,null,null,null,null,null,null,null,null,null,null,null,null,null,null,null,null,null,{"$f":"IFERROR(#REF!,\" \")","v":" "},{"$f":"IFERROR(#REF!,\"\")","v":""},{"$f":"IFERROR(#REF!,\"\")","v":""},"","",{"$f":"IFERROR(#REF!,\"\")","v":""},"",{"$f":"IFERROR(#REF!,\"\")","v":""},{"$f":"IFERROR(#REF!,\"\")","v":""},{"$f":"_xlfn.CONCAT(\"Trimestre 1\",CHAR(10),IFERROR(#REF!,\"\"))","v":"Trimestre 1\n"},{"$f":"_xlfn.CONCAT(\"Trimestre 1\",CHAR(10),IFERROR(#REF!,\"\"))","v":"Trimestre 1\n"},{"$f":"_xlfn.CONCAT(\"Trimestre 1\",CHAR(10),IFERROR(#REF!,\"\"))","v":"Trimestre 1\n"},{"$f":"_xlfn.CONCAT(\"Trimestre 1\",CHAR(10),IFERROR(#REF!,\"\"))","v":"Trimestre 1\n"},{"$f":"_xlfn.CONCAT(\"Trimestre 1\",CHAR(10),IFERROR(#REF!,\"\"))","v":"Trimestre 1\n"}]
[null,null,null,null,null,null,null,null,null,null,null,null,null,null,null,null,null,null,null,null,null,null,null,null,null,{"$f":"IFERROR(#REF!,\" \")","v":" "},{"$f":"IFERROR(#REF!,\"\")","v":""},{"$f":"IFERROR(#REF!,\"\")","v":""},"","",{"$f":"IFERROR(#REF!,\"\")","v":""},"",{"$f":"IFERROR(#REF!,\"\")","v":""},{"$f":"IFERROR(#REF!,\"\")","v":""},{"$f":"_xlfn.CONCAT(\"Trimestre 1\",CHAR(10),IFERROR(#REF!,\"\"))","v":"Trimestre 1\n"},{"$f":"_xlfn.CONCAT(\"Trimestre 1\",CHAR(10),IFERROR(#REF!,\"\"))","v":"Trimestre 1\n"},{"$f":"_xlfn.CONCAT(\"Trimestre 1\",CHAR(10),IFERROR(#REF!,\"\"))","v":"Trimestre 1\n"},{"$f":"_xlfn.CONCAT(\"Trimestre 1\",CHAR(10),IFERROR(#REF!,\"\"))","v":"Trimestre 1\n"},{"$f":"_xlfn.CONCAT(\"Trimestre 1\",CHAR(10),IFERROR(#REF!,\"\"))","v":"Trimestre 1\n"}]
[null,null,null,null,null,null,null,null,null,null,null,null,null,null,null,null,null,null,null,null,null,null,null,null,null,{"$f":"IFERROR(#REF!,\" \")","v":" "},{"$f":"IFERROR(#REF!,\"\")","v":""},{"$f":"IFERROR(#REF!,\"\")","v":""},"","",{"$f":"IFERROR(#REF!,\"\")","v":""},"",{"$f":"IFERROR(#REF!,\"\")","v":""},{"$f":"IFERROR(#REF!,\"\")","v":""},{"$f":"_xlfn.CONCAT(\"Trimestre 1\",CHAR(10),IFERROR(#REF!,\"\"))","v":"Trimestre 1\n"},{"$f":"_xlfn.CONCAT(\"Trimestre 1\",CHAR(10),IFERROR(#REF!,\"\"))","v":"Trimestre 1\n"},{"$f":"_xlfn.CONCAT(\"Trimestre 1\",CHAR(10),IFERROR(#REF!,\"\"))","v":"Trimestre 1\n"},{"$f":"_xlfn.CONCAT(\"Trimestre 1\",CHAR(10),IFERROR(#REF!,\"\"))","v":"Trimestre 1\n"},{"$f":"_xlfn.CONCAT(\"Trimestre 1\",CHAR(10),IFERROR(#REF!,\"\"))","v":"Trimestre 1\n"}]
[null,null,null,null,null,null,null,null,null,null,null,null,null,null,null,null,null,null,null,null,null,null,null,null,null,{"$f":"IFERROR(#REF!,\" \")","v":" "},{"$f":"IFERROR(#REF!,\"\")","v":""},{"$f":"IFERROR(#REF!,\"\")","v":""},"","",{"$f":"IFERROR(#REF!,\"\")","v":""},"",{"$f":"IFERROR(#REF!,\"\")","v":""},{"$f":"IFERROR(#REF!,\"\")","v":""},{"$f":"_xlfn.CONCAT(\"Trimestre 1\",CHAR(10),IFERROR(#REF!,\"\"))","v":"Trimestre 1\n"},{"$f":"_xlfn.CONCAT(\"Trimestre 1\",CHAR(10),IFERROR(#REF!,\"\"))","v":"Trimestre 1\n"},{"$f":"_xlfn.CONCAT(\"Trimestre 1\",CHAR(10),IFERROR(#REF!,\"\"))","v":"Trimestre 1\n"},{"$f":"_xlfn.CONCAT(\"Trimestre 1\",CHAR(10),IFERROR(#REF!,\"\"))","v":"Trimestre 1\n"},{"$f":"_xlfn.CONCAT(\"Trimestre 1\",CHAR(10),IFERROR(#REF!,\"\"))","v":"Trimestre 1\n"}]
[null,null,null,null,null,null,null,null,null,null,null,null,null,null,null,null,null,null,null,null,null,null,null,null,null,{"$f":"IFERROR(#REF!,\" \")","v":" "},{"$f":"IFERROR(#REF!,\"\")","v":""},{"$f":"IFERROR(#REF!,\"\")","v":""},"","",{"$f":"IFERROR(#REF!,\"\")","v":""},"",{"$f":"IFERROR(#REF!,\"\")","v":""},{"$f":"IFERROR(#REF!,\"\")","v":""},{"$f":"_xlfn.CONCAT(\"Trimestre 1\",CHAR(10),IFERROR(#REF!,\"\"))","v":"Trimestre 1\n"},{"$f":"_xlfn.CONCAT(\"Trimestre 1\",CHAR(10),IFERROR(#REF!,\"\"))","v":"Trimestre 1\n"},{"$f":"_xlfn.CONCAT(\"Trimestre 1\",CHAR(10),IFERROR(#REF!,\"\"))","v":"Trimestre 1\n"},{"$f":"_xlfn.CONCAT(\"Trimestre 1\",CHAR(10),IFERROR(#REF!,\"\"))","v":"Trimestre 1\n"},{"$f":"_xlfn.CONCAT(\"Trimestre 1\",CHAR(10),IFERROR(#REF!,\"\"))","v":"Trimestre 1\n"}]
[null,null,"5. Promover el bienestar de todos los servidores judiciales a través de la implementación de un sistema que contemple los diferentes niveles de estrategias y acciones necesarios para mejorar el clima laboral, la salud física y mental y la calidad del tiempo de descanso.","Satisfacción de los servidores judiciales con el clima laboral","(# respuestas con concepto de bueno o excelente / # total de respuestas) *100","5. Generar espacios de trabajo seguros y saludables que contribuyan a minimizar los  incidentes, accidentes y enfermedades laborales derivados de las condiciones y actos  inseguros y fomentar  el autocuidado, los  estilos de vida y el trabajo saludable en los servidores judiciales, contratistas, judicantes y practicantes.",null,null,null,null,null,null,null,null,null,null,null,null,null,null,null,null,null,null,null,{"$f":"IFERROR(#REF!,\" \")","v":" "},{"$f":"IFERROR(#REF!,\"\")","v":""},{"$f":"IFERROR(#REF!,\"\")","v":""},"","",{"$f":"IFERROR(#REF!,\"\")","v":""},"",{"$f":"IFERROR(#REF!,\"\")","v":""},{"$f":"IFERROR(#REF!,\"\")","v":""},{"$f":"_xlfn.CONCAT(\"Trimestre 1\",CHAR(10),IFERROR(#REF!,\"\"))","v":"Trimestre 1\n"},{"$f":"_xlfn.CONCAT(\"Trimestre 1\",CHAR(10),IFERROR(#REF!,\"\"))","v":"Trimestre 1\n"},{"$f":"_xlfn.CONCAT(\"Trimestre 1\",CHAR(10),IFERROR(#REF!,\"\"))","v":"Trimestre 1\n"},{"$f":"_xlfn.CONCAT(\"Trimestre 1\",CHAR(10),IFERROR(#REF!,\"\"))","v":"Trimestre 1\n"},{"$f":"_xlfn.CONCAT(\"Trimestre 1\",CHAR(10),IFERROR(#REF!,\"\"))","v":"Trimestre 1\n"}]
[null,null,null,null,null,null,null,null,null,null,null,null,null,null,null,null,null,null,null,null,null,null,null,null,null,{"$f":"IFERROR(#REF!,\" \")","v":" "},{"$f":"IFERROR(#REF!,\"\")","v":""},{"$f":"IFERROR(#REF!,\"\")","v":""},"","",{"$f":"IFERROR(#REF!,\"\")","v":""},"",{"$f":"IFERROR(#REF!,\"\")","v":""},{"$f":"IFERROR(#REF!,\"\")","v":""},{"$f":"_xlfn.CONCAT(\"Trimestre 1\",CHAR(10),IFERROR(#REF!,\"\"))","v":"Trimestre 1\n"},{"$f":"_xlfn.CONCAT(\"Trimestre 1\",CHAR(10),IFERROR(#REF!,\"\"))","v":"Trimestre 1\n"},{"$f":"_xlfn.CONCAT(\"Trimestre 1\",CHAR(10),IFERROR(#REF!,\"\"))","v":"Trimestre 1\n"},{"$f":"_xlfn.CONCAT(\"Trimestre 1\",CHAR(10),IFERROR(#REF!,\"\"))","v":"Trimestre 1\n"},{"$f":"_xlfn.CONCAT(\"Trimestre 1\",CHAR(10),IFERROR(#REF!,\"\"))","v":"Trimestre 1\n"}]
[null,null,null,null,null,null,null,null,null,null,null,null,null,null,null,null,null,null,null,null,null,null,null,null,null,{"$f":"IFERROR(#REF!,\" \")","v":" "},{"$f":"IFERROR(#REF!,\"\")","v":""},{"$f":"IFERROR(#REF!,\"\")","v":""},"","",{"$f":"IFERROR(#REF!,\"\")","v":""},"",{"$f":"IFERROR(#REF!,\"\")","v":""},{"$f":"IFERROR(#REF!,\"\")","v":""},{"$f":"_xlfn.CONCAT(\"Trimestre 1\",CHAR(10),IFERROR(#REF!,\"\"))","v":"Trimestre 1\n"},{"$f":"_xlfn.CONCAT(\"Trimestre 1\",CHAR(10),IFERROR(#REF!,\"\"))","v":"Trimestre 1\n"},{"$f":"_xlfn.CONCAT(\"Trimestre 1\",CHAR(10),IFERROR(#REF!,\"\"))","v":"Trimestre 1\n"},{"$f":"_xlfn.CONCAT(\"Trimestre 1\",CHAR(10),IFERROR(#REF!,\"\"))","v":"Trimestre 1\n"},{"$f":"_xlfn.CONCAT(\"Trimestre 1\",CHAR(10),IFERROR(#REF!,\"\"))","v":"Trimestre 1\n"}]
[null,null,null,null,null,null,null,null,null,null,null,null,null,null,null,null,null,null,null,null,null,null,null,null,null,{"$f":"IFERROR(#REF!,\" \")","v":" "},{"$f":"IFERROR(#REF!,\"\")","v":""},{"$f":"IFERROR(#REF!,\"\")","v":""},"","",{"$f":"IFERROR(#REF!,\"\")","v":""},"",{"$f":"IFERROR(#REF!,\"\")","v":""},{"$f":"IFERROR(#REF!,\"\")","v":""},{"$f":"_xlfn.CONCAT(\"Trimestre 1\",CHAR(10),IFERROR(#REF!,\"\"))","v":"Trimestre 1\n"},{"$f":"_xlfn.CONCAT(\"Trimestre 1\",CHAR(10),IFERROR(#REF!,\"\"))","v":"Trimestre 1\n"},{"$f":"_xlfn.CONCAT(\"Trimestre 1\",CHAR(10),IFERROR(#REF!,\"\"))","v":"Trimestre 1\n"},{"$f":"_xlfn.CONCAT(\"Trimestre 1\",CHAR(10),IFERROR(#REF!,\"\"))","v":"Trimestre 1\n"},{"$f":"_xlfn.CONCAT(\"Trimestre 1\",CHAR(10),IFERROR(#REF!,\"\"))","v":"Trimestre 1\n"}]
[null,null,null,null,null,null,null,null,null,null,null,null,null,null,null,null,null,null,null,null,null,null,null,null,null,{"$f":"IFERROR(#REF!,\" \")","v":" "},{"$f":"IFERROR(#REF!,\"\")","v":""},{"$f":"IFERROR(#REF!,\"\")","v":""},"","",{"$f":"IFERROR(#REF!,\"\")","v":""},"",{"$f":"IFERROR(#REF!,\"\")","v":""},{"$f":"IFERROR(#REF!,\"\")","v":""},{"$f":"_xlfn.CONCAT(\"Trimestre 1\",CHAR(10),IFERROR(#REF!,\"\"))","v":"Trimestre 1\n"},{"$f":"_xlfn.CONCAT(\"Trimestre 1\",CHAR(10),IFERROR(#REF!,\"\"))","v":"Trimestre 1\n"},{"$f":"_xlfn.CONCAT(\"Trimestre 1\",CHAR(10),IFERROR(#REF!,\"\"))","v":"Trimestre 1\n"},{"$f":"_xlfn.CONCAT(\"Trimestre 1\",CHAR(10),IFERROR(#REF!,\"\"))","v":"Trimestre 1\n"},{"$f":"_xlfn.CONCAT(\"Trimestre 1\",CHAR(10),IFERROR(#REF!,\"\"))","v":"Trimestre 1\n"}]
["5. Gobernanza, planeación estratégica y capacidad de toma de decisiones","Gobernanza, planeación estratégica y capacidad de toma de decisiones: Fortalecer la gobernanza, la planeación estratégica y la capacidad de toma de decisiones de la Rama Judicial con base en la evidencia empírica y la articulación efectiva con las demás entidades, para que la perspectiva de género y el enfoque diferencial sean transversales en el presente plan. ","1. Implementar un nuevo modelo integrado para la planeación estratégica, el seguimiento y la medición del desempeño institucional.","Modelo integrado para la planeación estratégica, seguimiento y medición del desempeño institucional implementado","% de implementa ción del modelo integrado","2. Asegurar  el cumplimiento de los objetivos institucionales, la normatividad aplicable,  la mejora del SIGCMA y la satisfacción de los usuarios, revisando de  forma continua y sistemática la planificación de la gestión y fortaleciendo la administración de riesgos y sus controles.",null,null,null,null,null,null,null,null,null,null,null,null,null,null,null,null,null,null,null,{"$f":"IFERROR(#REF!,\" \")","v":" "},{"$f":"IFERROR(#REF!,\"\")","v":""},{"$f":"IFERROR(#REF!,\"\")","v":""},"","",{"$f":"IFERROR(#REF!,\"\")","v":""},"",{"$f":"IFERROR(#REF!,\"\")","v":""},{"$f":"IFERROR(#REF!,\"\")","v":""},{"$f":"_xlfn.CONCAT(\"Trimestre 1\",CHAR(10),IFERROR(#REF!,\"\"))","v":"Trimestre 1\n"},{"$f":"_xlfn.CONCAT(\"Trimestre 1\",CHAR(10),IFERROR(#REF!,\"\"))","v":"Trimestre 1\n"},{"$f":"_xlfn.CONCAT(\"Trimestre 1\",CHAR(10),IFERROR(#REF!,\"\"))","v":"Trimestre 1\n"},{"$f":"_xlfn.CONCAT(\"Trimestre 1\",CHAR(10),IFERROR(#REF!,\"\"))","v":"Trimestre 1\n"},{"$f":"_xlfn.CONCAT(\"Trimestre 1\",CHAR(10),IFERROR(#REF!,\"\"))","v":"Trimestre 1\n"}]
[null,null,null,null,null,null,null,null,null,null,null,null,null,null,null,null,null,null,null,null,null,null,null,null,null,{"$f":"IFERROR(#REF!,\" \")","v":" "},{"$f":"IFERROR(#REF!,\"\")","v":""},{"$f":"IFERROR(#REF!,\"\")","v":""},"","",{"$f":"IFERROR(#REF!,\"\")","v":""},"",{"$f":"IFERROR(#REF!,\"\")","v":""},{"$f":"IFERROR(#REF!,\"\")","v":""},{"$f":"_xlfn.CONCAT(\"Trimestre 1\",CHAR(10),IFERROR(#REF!,\"\"))","v":"Trimestre 1\n"},{"$f":"_xlfn.CONCAT(\"Trimestre 1\",CHAR(10),IFERROR(#REF!,\"\"))","v":"Trimestre 1\n"},{"$f":"_xlfn.CONCAT(\"Trimestre 1\",CHAR(10),IFERROR(#REF!,\"\"))","v":"Trimestre 1\n"},{"$f":"_xlfn.CONCAT(\"Trimestre 1\",CHAR(10),IFERROR(#REF!,\"\"))","v":"Trimestre 1\n"},{"$f":"_xlfn.CONCAT(\"Trimestre 1\",CHAR(10),IFERROR(#REF!,\"\"))","v":"Trimestre 1\n"}]
[null,null,null,null,null,null,null,null,null,null,null,null,null,null,null,null,null,null,null,null,null,null,null,null,null,{"$f":"IFERROR(#REF!,\" \")","v":" "},{"$f":"IFERROR(#REF!,\"\")","v":""},{"$f":"IFERROR(#REF!,\"\")","v":""},"","",{"$f":"IFERROR(#REF!,\"\")","v":""},"",{"$f":"IFERROR(#REF!,\"\")","v":""},{"$f":"IFERROR(#REF!,\"\")","v":""},{"$f":"_xlfn.CONCAT(\"Trimestre 1\",CHAR(10),IFERROR(#REF!,\"\"))","v":"Trimestre 1\n"},{"$f":"_xlfn.CONCAT(\"Trimestre 1\",CHAR(10),IFERROR(#REF!,\"\"))","v":"Trimestre 1\n"},{"$f":"_xlfn.CONCAT(\"Trimestre 1\",CHAR(10),IFERROR(#REF!,\"\"))","v":"Trimestre 1\n"},{"$f":"_xlfn.CONCAT(\"Trimestre 1\",CHAR(10),IFERROR(#REF!,\"\"))","v":"Trimestre 1\n"},{"$f":"_xlfn.CONCAT(\"Trimestre 1\",CHAR(10),IFERROR(#REF!,\"\"))","v":"Trimestre 1\n"}]
[null,null,null,null,null,null,null,null,null,null,null,null,null,null,null,null,null,null,null,null,null,null,null,null,null,{"$f":"IFERROR(#REF!,\" \")","v":" "},{"$f":"IFERROR(#REF!,\"\")","v":""},{"$f":"IFERROR(#REF!,\"\")","v":""},"","",{"$f":"IFERROR(#REF!,\"\")","v":""},"",{"$f":"IFERROR(#REF!,\"\")","v":""},{"$f":"IFERROR(#REF!,\"\")","v":""},{"$f":"_xlfn.CONCAT(\"Trimestre 1\",CHAR(10),IFERROR(#REF!,\"\"))","v":"Trimestre 1\n"},{"$f":"_xlfn.CONCAT(\"Trimestre 1\",CHAR(10),IFERROR(#REF!,\"\"))","v":"Trimestre 1\n"},{"$f":"_xlfn.CONCAT(\"Trimestre 1\",CHAR(10),IFERROR(#REF!,\"\"))","v":"Trimestre 1\n"},{"$f":"_xlfn.CONCAT(\"Trimestre 1\",CHAR(10),IFERROR(#REF!,\"\"))","v":"Trimestre 1\n"},{"$f":"_xlfn.CONCAT(\"Trimestre 1\",CHAR(10),IFERROR(#REF!,\"\"))","v":"Trimestre 1\n"}]
[null,null,null,null,null,null,null,null,null,null,null,null,null,null,null,null,null,null,null,null,null,null,null,null,null,{"$f":"IFERROR(#REF!,\" \")","v":" "},{"$f":"IFERROR(#REF!,\"\")","v":""},{"$f":"IFERROR(#REF!,\"\")","v":""},"","",{"$f":"IFERROR(#REF!,\"\")","v":""},"",{"$f":"IFERROR(#REF!,\"\")","v":""},{"$f":"IFERROR(#REF!,\"\")","v":""},{"$f":"_xlfn.CONCAT(\"Trimestre 1\",CHAR(10),IFERROR(#REF!,\"\"))","v":"Trimestre 1\n"},{"$f":"_xlfn.CONCAT(\"Trimestre 1\",CHAR(10),IFERROR(#REF!,\"\"))","v":"Trimestre 1\n"},{"$f":"_xlfn.CONCAT(\"Trimestre 1\",CHAR(10),IFERROR(#REF!,\"\"))","v":"Trimestre 1\n"},{"$f":"_xlfn.CONCAT(\"Trimestre 1\",CHAR(10),IFERROR(#REF!,\"\"))","v":"Trimestre 1\n"},{"$f":"_xlfn.CONCAT(\"Trimestre 1\",CHAR(10),IFERROR(#REF!,\"\"))","v":"Trimestre 1\n"}]
[null,null,"2. Definir e implementar el modelo optimizado de formulación, seguimiento y evaluación de la política pública judicial.",null,null,null,null,null,null,null,null,null,null,null,null,null,null,null,null,null,null,null,null,null,null,{"$f":"IFERROR(#REF!,\" \")","v":" "},{"$f":"IFERROR(#REF!,\"\")","v":""},{"$f":"IFERROR(#REF!,\"\")","v":""},"","",{"$f":"IFERROR(#REF!,\"\")","v":""},"",{"$f":"IFERROR(#REF!,\"\")","v":""},{"$f":"IFERROR(#REF!,\"\")","v":""},{"$f":"_xlfn.CONCAT(\"Trimestre 1\",CHAR(10),IFERROR(#REF!,\"\"))","v":"Trimestre 1\n"},{"$f":"_xlfn.CONCAT(\"Trimestre 1\",CHAR(10),IFERROR(#REF!,\"\"))","v":"Trimestre 1\n"},{"$f":"_xlfn.CONCAT(\"Trimestre 1\",CHAR(10),IFERROR(#REF!,\"\"))","v":"Trimestre 1\n"},{"$f":"_xlfn.CONCAT(\"Trimestre 1\",CHAR(10),IFERROR(#REF!,\"\"))","v":"Trimestre 1\n"},{"$f":"_xlfn.CONCAT(\"Trimestre 1\",CHAR(10),IFERROR(#REF!,\"\"))","v":"Trimestre 1\n"}]
[null,null,null,null,null,null,null,null,null,null,null,null,null,null,null,null,null,null,null,null,null,null,null,null,null,{"$f":"IFERROR(#REF!,\" \")","v":" "},{"$f":"IFERROR(#REF!,\"\")","v":""},{"$f":"IFERROR(#REF!,\"\")","v":""},"","",{"$f":"IFERROR(#REF!,\"\")","v":""},"",{"$f":"IFERROR(#REF!,\"\")","v":""},{"$f":"IFERROR(#REF!,\"\")","v":""},{"$f":"_xlfn.CONCAT(\"Trimestre 1\",CHAR(10),IFERROR(#REF!,\"\"))","v":"Trimestre 1\n"},{"$f":"_xlfn.CONCAT(\"Trimestre 1\",CHAR(10),IFERROR(#REF!,\"\"))","v":"Trimestre 1\n"},{"$f":"_xlfn.CONCAT(\"Trimestre 1\",CHAR(10),IFERROR(#REF!,\"\"))","v":"Trimestre 1\n"},{"$f":"_xlfn.CONCAT(\"Trimestre 1\",CHAR(10),IFERROR(#REF!,\"\"))","v":"Trimestre 1\n"},{"$f":"_xlfn.CONCAT(\"Trimestre 1\",CHAR(10),IFERROR(#REF!,\"\"))","v":"Trimestre 1\n"}]
[null,null,null,null,null,null,null,null,null,null,null,null,null,null,null,null,null,null,null,null,null,null,null,null,null,{"$f":"IFERROR(#REF!,\" \")","v":" "},{"$f":"IFERROR(#REF!,\"\")","v":""},{"$f":"IFERROR(#REF!,\"\")","v":""},"","",{"$f":"IFERROR(#REF!,\"\")","v":""},"",{"$f":"IFERROR(#REF!,\"\")","v":""},{"$f":"IFERROR(#REF!,\"\")","v":""},{"$f":"_xlfn.CONCAT(\"Trimestre 1\",CHAR(10),IFERROR(#REF!,\"\"))","v":"Trimestre 1\n"},{"$f":"_xlfn.CONCAT(\"Trimestre 1\",CHAR(10),IFERROR(#REF!,\"\"))","v":"Trimestre 1\n"},{"$f":"_xlfn.CONCAT(\"Trimestre 1\",CHAR(10),IFERROR(#REF!,\"\"))","v":"Trimestre 1\n"},{"$f":"_xlfn.CONCAT(\"Trimestre 1\",CHAR(10),IFERROR(#REF!,\"\"))","v":"Trimestre 1\n"},{"$f":"_xlfn.CONCAT(\"Trimestre 1\",CHAR(10),IFERROR(#REF!,\"\"))","v":"Trimestre 1\n"}]
[null,null,null,null,null,null,null,null,null,null,null,null,null,null,null,null,null,null,null,null,null,null,null,null,null,{"$f":"IFERROR(#REF!,\" \")","v":" "},{"$f":"IFERROR(#REF!,\"\")","v":""},{"$f":"IFERROR(#REF!,\"\")","v":""},"","",{"$f":"IFERROR(#REF!,\"\")","v":""},"",{"$f":"IFERROR(#REF!,\"\")","v":""},{"$f":"IFERROR(#REF!,\"\")","v":""},{"$f":"_xlfn.CONCAT(\"Trimestre 1\",CHAR(10),IFERROR(#REF!,\"\"))","v":"Trimestre 1\n"},{"$f":"_xlfn.CONCAT(\"Trimestre 1\",CHAR(10),IFERROR(#REF!,\"\"))","v":"Trimestre 1\n"},{"$f":"_xlfn.CONCAT(\"Trimestre 1\",CHAR(10),IFERROR(#REF!,\"\"))","v":"Trimestre 1\n"},{"$f":"_xlfn.CONCAT(\"Trimestre 1\",CHAR(10),IFERROR(#REF!,\"\"))","v":"Trimestre 1\n"},{"$f":"_xlfn.CONCAT(\"Trimestre 1\",CHAR(10),IFERROR(#REF!,\"\"))","v":"Trimestre 1\n"}]
[null,null,null,null,null,null,null,null,null,null,null,null,null,null,null,null,null,null,null,null,null,null,null,null,null,{"$f":"IFERROR(#REF!,\" \")","v":" "},{"$f":"IFERROR(#REF!,\"\")","v":""},{"$f":"IFERROR(#REF!,\"\")","v":""},"","",{"$f":"IFERROR(#REF!,\"\")","v":""},"",{"$f":"IFERROR(#REF!,\"\")","v":""},{"$f":"IFERROR(#REF!,\"\")","v":""},{"$f":"_xlfn.CONCAT(\"Trimestre 1\",CHAR(10),IFERROR(#REF!,\"\"))","v":"Trimestre 1\n"},{"$f":"_xlfn.CONCAT(\"Trimestre 1\",CHAR(10),IFERROR(#REF!,\"\"))","v":"Trimestre 1\n"},{"$f":"_xlfn.CONCAT(\"Trimestre 1\",CHAR(10),IFERROR(#REF!,\"\"))","v":"Trimestre 1\n"},{"$f":"_xlfn.CONCAT(\"Trimestre 1\",CHAR(10),IFERROR(#REF!,\"\"))","v":"Trimestre 1\n"},{"$f":"_xlfn.CONCAT(\"Trimestre 1\",CHAR(10),IFERROR(#REF!,\"\"))","v":"Trimestre 1\n"}]

{"sheet":"JURISDICCIONAL","index":9,"n_rows":29,"n_cols":16,"rows_kept":29,"cut":false,"hidden":true,"merged":[[1,2,1,13],[2,0,3,0],[2,1,3,1],[2,2,3,2],[2,3,3,3],[2,4,3,4],[2,5,2,7],[2,8,2,10],[2,11,3,11],[2,12,2,13],[2,14,2,15],[4,0,8,0],[4,1,8,1],[4,3,8,3],[9,0,14,0],[9,1,14,1],[9,3,14,3],[27,0,28,0],[27,1,28,1],[27,3,28,3],[15,0,21,0],[15,1,21,1],[15,3,21,3],[22,0,26,0],[22,1,26,1],[22,3,26,3]]}
[]
[null,null,"CONSEJO SUPERIOR DE LA JUDICATURA \nUNIDADES MISIONALES DEL CONSEJO SUPERIOR DE LA JUDICATURA - \nDIRECCIÓN EJECUTIVA DE ADMINISTRACIÓN JUDICIAL -UNIDADES MISIONALES DE LA DEAJ\nDIRECCIONES SECCIONALES DE ADMINISTRACIÓN JUDICIAL "]
["No. ","OBJETIVOS ESTRATEGICOS PLAN SECTORIAL DE DESARROLLO 2023-2026","OBJETIVOS ESPECIFICOS PLAN SECTORIAL DE DESARROLLO 2023-2026","OBJETIVOS DEL SIGCMA","DESCRIPCIÓN DE LA ACTIVIDAD (INVERSIÓN O DE GESTIÓN) ","MAPA DE PROCESO DEL SIGCMA (RELACIONE  EL PROCESO ESTRATÉGICO, MISIONAL, APOYO y EVALUACIÓN - MEJORA)",null,null,"MEDICIÓN DE LA GESTIÓN ",null,null,"RESPONSABLE POR PROYECTO O ACTIVIDAD","FECHA DEL PROYECTO/ACTIVIDAD",null,"ANÁLISIS DE RESULTADOS"]
[null,null,null,null,null,"NOMBRE DEL PROCESO","CENTRAL","SECCIONAL","ENTREGABLE","INDICADOR","DESCRIBIR EL INDICADOR",null,"INICIO \nDÍA/MES/AÑO","FIN\nDÍA/MES/AÑO","CUMPLIMIENTO DEL OBJETIVO (ACUMULADO DE LOS 4 TRIMESTRES)"," ANÁLISIS RESULTADO\nFINAL - ACUMULADO"]
[1,"Acceso a Infraestructura Física"," 1. Ampliar el acceso a justicia para atender las necesidades jurídicas de los \nciudadanos con un enfoque diferencial, de una manera pronta, reduciendo las \ninequidades y las brechas territoriales de acceso.","\n2. Asegurar  el cumplimiento de los objetivos institucionales, la normatividad aplicable,  la mejora del SIGCMA y la satisfacción de los usuarios, revisando de  forma continua y sistemática la planificación de la gestión y fortaleciendo la administración de riesgos y sus controles. (1,2,3 y 5)\n\n4. Hacer un uso racional de los recursos naturales aplicando los principios y fases de la Economía Circular, para prevenir, mitigar y controlar los impactos ambientales. (4)\n\n"]
[null,null,"2. Mejorar los tiempos de respuesta de la Rama Judicial y reducir el inventario de \nprocesos, identificando los retos internos y promoviendo tanto acciones articuladas\nespecíficas para abordarlos como estrategias coordinadas para enfrentar las \nbarreras que dependen de otras entidades."]
[null,null,"3. Coadyuvar en la garantía de la idoneidad en el ejercicio de la profesión jurídica de acuerdo con lo establecido en la Ley 1905 de 2018"]
[null,null,"4. Avanzar en la disposición de una infraestructura óptima para el acceso a la justicia en la Rama Judicial de modo que se fortalezca la presencia territorial, teniendo en cuenta las posibilidades que ofrece la transformación digital y las necesidades que se derivan de ella, y considerando tanto las necesidades de los usuarios como las de los servidores judiciales."]
[null,null,"5. Impulsar el uso de mecanismos alternativos para la solución de conflictos y la \nampliación de la justicia restaurativa y terapéutica y el robustecimiento de las alternativas al encarcelamiento"]
[2,"Servicios digitales y de tecnología, innovación y análisis de la información","1. Ampliar el acceso a la justicia a través de la consolidación del uso de los servicios \ndigitales que conforman el sistema único integrado de gestión judicial en todos los \ndespachos judiciales y dependencias de apoyo y, específicamente, incluyendo el \ndespliegue e implementación del Expediente Judicial Electrónico en todas las \njurisdicciones y especialidades.","6. Proteger, preservar y administrar los activos de información  implementando acciones  para gestionar de forma adecuada los incidentes  , proteger los datos personales y adoptar mecanismos  de ciberseguridad y aseguramiento de la  continuidad del negocio (1, 2, 3, 4, 5 y 6)"]
[null,null,"2. Integrar y hacer compatibles todos los aplicativos de transición con SIUGJ, para que la migración de los expedientes judiciales a dicha plataforma sea real y no suponga afectaciones en la prestación del servicio de justicia."]
[null,null,"\n3. Fortalecer las capacidades institucionales, adecuar el modelo operativo y de \nservicio, bajo un enfoque de Arquitectura Empresarial y de fortalecimiento del \nacceso a la justicia."]
[null,null,"\n4.Consolidar la cultura y apropiación de la transformación digital en los servidores y \nusuarios de los servicios de la Rama Judicial y reducir brechas de acceso y conocimiento, incluyendo la oferta efectiva de información sobre el uso de las nuevas herramientas virtuales implementadas en las diferentes jurisdicciones, con especial énfasis en las zonas del país donde es evidente la brecha digital."]
[null,null,"\n5.Consolidar la infraestructura y los recursos necesarios para la implementación exitosa de la transformación digital, incluyendo la disposición de internet de calidad en el 100% de las sedes en la Rama Judicial y modernizar los servicios tecnológicos de soporte. "]
[null,null,"\n6.Integrar y optimizar los servicios administrativos de la Rama Judicial bajo un enfoque de transformación digital e innovación incluyendo los componentes financiero, administrativo, talento humano, entre otros"]
[3,"Confianza pública, transparencia y rendición de cuentas","1. Incrementar la cantidad, la calidad y pertinencia de los datos sobre el funcionamiento del servicio de justicia bajo un modelo de gobierno de datos y un liderazgo unificado. \n","1. Gestionar el desarrollo de las competencias, la toma de conciencia , la cultura  organizacional  y el compromiso de los  servidores judiciales, contratistas, practicantes y  judicantes de contribuir a generar valor público en la administración de justicia, en el marco de  cumplimiento de los requisitos  aplicables y el comportamiento ético. (3 y 7)\n\n3. Fomentar la transparencia y la participación generando lineamientos y promoviendo la rendición de cuentas ,la consulta, reporte y planteamiento de inquietudes en relación con las decisiones y aspectos del SIGCMA. (3, 4, 5 y 6)\n\n4. Hacer un uso racional de los recursos naturales aplicando los principios y fases de la Economía Circular, para prevenir, mitigar y controlar los impactos ambientales. (1 y 7)\n"]
[null,null,"2. Consolidar la administración de la información entendida como todas las acciones \norientadas a garantizar el acceso, consulta, uso y conservación de la información \nde justicia de manera ágil, flexible e inteligente, bajo un enfoque de innovación."]
[null,null,"3. Fortalecer el Sistema integrado de Gestión de la Rama, orientado a la implementación y certificación de las normas antisoborno."]
[null,null,"4. Aumentar la confianza, la cercanía y acceso a los servicios de la Rama Judicial a \ntravés, entre otros, de una comunicación clara y asertiva con la ciudadanía."]
[null,null,"5. Prevenir fenómenos asociados con actos de corrupción en la Rama Judicial y \nreducir las experiencias de corrupción de usuarios y servidores judiciales."]
[null,null,"6. Promover la rendición de cuentas y la colaboración real con la ciudadanía como \nfundamento para diseñar acciones de mejoramiento del acceso a la justicia."]
[null,null,"7. Continuar la consolidación del SIGCMA, a través de los procesos de formación en \nmodelos de gestión, logrando la implementación y ampliación de este en los esquemas certificados de manera gradual, teniendo en cuenta las capacidades de los diferentes despachos judiciales y dependencias de la Rama Judicial y articulando el enfoque de Arquitectura Empresarial para el desarrollo del PETD a través de la gestión del conocimiento para la gestión del cambio propendiendo por una cultura de la calidad, la transparencia, la rendición de cuentas, la anticorrupción y el antisoborno"]
[4,"Talento Humano","1. Ampliar la cobertura de la carrera judicial optimizando los procesos de los concursos de méritos y propender por mitigar su litigiosidad.","1. Gestionar el desarrollo de las competencias, la toma de conciencia , la cultura  organizacional  y el compromiso de los  servidores judiciales, contratistas, practicantes y  judicantes de contribuir a generar valor público en la administración de justicia, en el marco de  cumplimiento de los requisitos  aplicables y el comportamiento ético. (1, 2, 3 y 4)\n\n5. Generar espacios de trabajo seguros y saludables que contribuyan a minimizar los  incidentes, accidentes y enfermedades laborales derivados de las condiciones y actos  inseguros y fomentar  el autocuidado, los  estilos de vida y el trabajo saludable en los servidores judiciales, contratistas, judicantes y practicantes. (5)\n"]
[null,null,"2. Impactar la función y servicios que presta la Rama Judicial, a través de una\nformación integral desde una visión de gestión del conocimiento, relacionada con \nlos problemas de la justicia y los problemas de gestión de quienes administran los \nrecursos de la justicia, y potenciando el uso de medios virtuales."]
[null,null,"3. Promover la incorporación de la perspectiva de género y el enfoque diferencial en \nlos fallos judiciales y en la atención a los ciudadanos, la administración de la Rama \nJudicial, la administración de la carrera judicial y la elaboración de listas para altas \nCortes. "]
[null,null,"4. Desarrollar en los servidores judiciales y demás grupos de valor relevantes las \ncompetencias necesarias para la efectividad de la transformación digital de modo \nque puedan, entre otros, utilizar con solvencia las herramientas digitales dispuestas \npara sus respectivas funciones. Además, fortalecer y actualizar los conocimientos \ndel personal a cargo de la gestión de proyectos de tecnología."]
[null,null,"5. Promover el bienestar de todos los servidores judiciales a través de la implementación de un sistema que contemple los diferentes niveles de estrategias y acciones necesarios para mejorar el clima laboral, la salud física y mental y la calidad del tiempo de descanso."]
[5,"Gobernanza, planeación estratégica y capacidad de toma de decisiones","1. Implementar un nuevo modelo integrado para la planeación estratégica, el \nseguimiento y la medición del desempeño institucional.","\n2. Asegurar  el cumplimiento de los objetivos institucionales, la normatividad aplicable,  la mejora del SIGCMA y la satisfacción de los usuarios, revisando de  forma continua y sistemática la planificación de la gestión y fortaleciendo la administración de riesgos y sus controles. (1 y 2)"]
[null,null,"2. Definir e implementar el modelo optimizado de formulación, seguimiento y \nevaluación de la política pública judicial."]

{"sheet":"GESTION_SEG_4_TRIM ","index":10,"n_rows":130,"n_cols":11,"rows_kept":130,"cut":false,"hidden":false,"merged":[[15,2,19,2],[15,3,19,3],[20,2,24,2],[20,3,24,3],[1,0,1,10],[2,0,2,3],[2,4,2,9],[2,10,4,10],[3,0,4,1],[3,2,4,2],[3,3,4,3],[3,4,3,9],[25,2,29,2],[25,3,29,3],[30,0,59,0],[30,1,59,1],[30,2,34,2],[30,3,59,3],[35,2,39,2],[40,2,44,2],[45,2,49,2],[50,2,54,2],[5,0,29,0],[5,1,29,1],[5,2,9,2],[5,3,9,3],[10,2,14,2],[10,3,14,3],[55,2,59,2],[60,0,94,0],[60,1,94,1],[60,2,64,2],[60,3,64,3],[65,2,69,2],[65,3,69,3],[70,2,74,2],[70,3,74,3],[75,2,79,2],[75,3,89,3],[80,2,84,2],[85,2,89,2],[90,2,94,2],[90,3,94,3],[105,2,109,2],[110,2,114,2],[115,2,119,2],[115,3,119,3],[120,0,129,0],[120,1,129,1],[120,2,124,2],[120,3,129,3],[125,2,129,2],[95,0,119,0],[95,1,119,1],[95,2,99,2],[95,3,114,3],[100,2,104,2]]}
[]
["CONSEJO SUPERIOR DE LA JUDICATURA \nUNIDADES MISIONALES DEL CONSEJO SUPERIOR DE LA JUDICATURA - \nDIRECCIÓN EJECUTIVA DE ADMINISTRACIÓN JUDICIAL - UNIDADES MISIONALES DE LA DEAJ\nDIRECCIONES SECCIONALES DE ADMINISTRACIÓN JUDICIAL - DEPENDENCIAS JUDICIALES CERTIFICADAS"]
["PLAN SECTORIAL DE DESARROLLO 2023-2026 - OBJETIVOS SIGCMA",null,null,null,null,null,null,null,null,null," ANÁLISIS RESULTADO"]
["OBJETIVO ESTRATÉGICO",null,"OBJETIVO ESPECÍFICO PSD","OBJETIVO ESPECÍFICO SIGCMA","MEDICIÓN DE LA GESTIÓN ANUAL"]
[null,null,null,null,"ACTIVIDADES ","INDIQUE SI ES ENTREGABLE O META CUANTIFICABLE","META ANUAL","AVANCE DE LA META ","NIVEL CUMPLIMIENTO","DIFICULTADES PARA LOGRAR LA META PROPUESTA"]
["1. Acceso e Infraestructura Física","Acceso e Infraestructura Física: Ampliar, en todo el territorio nacional, el acceso a una justicia efectiva, pronta, equitativa e incluyente, reduciendo el atraso y la congestión, de acuerdo con las necesidades de la demanda de justicia por jurisdicción y especialidad, y mejorando la articulación con la justicia restaurativa y terapéutica, y otros mecanismos de solución de conflictos y consolidando una infraestructura física óptima para el acceso a la justicia.","1. Ampliar el acceso a justicia para atender las necesidades jurídicas de los ciudadanos con un enfoque diferencial, de una manera pronta, reduciendo las inequidades y las brechas territoriales de acceso.","2. Asegurar  el cumplimiento de los objetivos institucionales, la normatividad aplicable,  la mejora del SIGCMA y la satisfacción de los usuarios, revisando de  forma continua y sistemática la planificación de la gestión y fortaleciendo la administración de riesgos y sus controles",{"$f":"IFERROR(GESTION!H6,\" \")","v":"Proyectar propuestas de reordenamiento y remitir para estudio y consideración del Consejo Superior de la Judicatura "},{"$f":"IFERROR(GESTION!I6,\" \")","v":"Entregable"},{"$f":"IFERROR(GESTION!J6,\" \")","v":0},null,{"$f":"IFERROR(H6/G6,\"\")","v":""},null,"En este trimestre se elaboró propuesta para la creación del Juzgado de Ejecución de Sentencias Civiles"]
[null,null,null,null,{"$f":"IFERROR(GESTION!H7,\" \")","v":0},{"$f":"IFERROR(GESTION!I7,\" \")","v":0},{"$f":"IFERROR(GESTION!J7,\" \")","v":0},null,{"$f":"IFERROR(H7/G7,\"\")","v":""}]
[null,null,null,null,{"$f":"IFERROR(GESTION!H8,\" \")","v":"Adoptar medidas las  necesarias, conforme a delegación del Consejo Superior de la Judicatura."},{"$f":"IFERROR(GESTION!I8,\" \")","v":"Meta cuantificable"},{"$f":"IFERROR(GESTION!J8,\" \")","v":0},null,{"$f":"IFERROR(H8/G8,\"\")","v":""},null,"Se elaboraron 6 acuerdos de delegación de funciones"]
[null,null,null,null,{"$f":"IFERROR(GESTION!H9,\" \")","v":" "},{"$f":"IFERROR(GESTION!I9,\" \")","v":0},{"$f":"IFERROR(GESTION!J9,\" \")","v":0},null,{"$f":"IFERROR(H9/G9,\"\")","v":""}]
[null,null,null,null,{"$f":"IFERROR(GESTION!H10,\" \")","v":0},{"$f":"IFERROR(GESTION!I10,\" \")","v":0},{"$f":"IFERROR(GESTION!J10,\" \")","v":0},null,{"$f":"IFERROR(H10/G10,\"\")","v":""}]
[null,null,"2. Mejorar los tiempos de respuesta de la Rama Judicial y reducir el inventario de procesos, identificando los retos internos y promoviendo tanto acciones articuladas específicas para abordarlos como estrategias coordinadas para enfrentar las barreras que dependen de otras entidades.","2. Asegurar  el cumplimiento de los objetivos institucionales, la normatividad aplicable,  la mejora del SIGCMA y la satisfacción de los usuarios, revisando de  forma continua y sistemática la planificación de la gestión y fortaleciendo la administración de riesgos y sus controles",{"$f":"IFERROR(GESTION!H11,\" \")","v":"Realizar seguimiento, análisis y evaluacion de la información estadistica, reportada por todos los despachos judiciales\n"},{"$f":"IFERROR(GESTION!I11,\" \")","v":"Entregable"},{"$f":"IFERROR(GESTION!J11,\" \")","v":0},null,{"$f":"IFERROR(H11/G11,\"\")","v":""},null,"Se atendierón todas las novedades del SIERJU. "]
[null,null,null,null,{"$f":"IFERROR(GESTION!H12,\" \")","v":"Registrar en el aplicativo EkoGui cada uno de los procesos y conciliaciones extrajudiciales recibidos; la provisión contable y las actuaciones desarrolladas. "},{"$f":"IFERROR(GESTION!I12,\" \")","v":"Entregable"},{"$f":"IFERROR(GESTION!J12,\" \")","v":0},null,{"$f":"IFERROR(H12/G12,\"\")","v":""},null,"Al corte del cuarto trimestre se presentó el preinforme correspondiente al tercer cuatrimestre con corte a 15 de diciembre del pasivo contingente litigioso,  conforme al Memorando DEAJALM23-233 se estableció una modificación en la periodicidad de los informes, por lo tanto ya se presentarán cada 4 meses.  Se realizó la actualización de 219 actuaciones en el aplicativo eKogui, la radicación de 16 fichas para comité de conciliación. "]
[null,null,null,null,{"$f":"IFERROR(GESTION!H13,\" \")","v":"Presentar informes de gestión, de procesos (pasivo contingente litigioso, sentencias favorables a la nación vs desfavorables, repeticiones, procesos activos y terminados)."},{"$f":"IFERROR(GESTION!I13,\" \")","v":"Meta cuantificable"},{"$f":"IFERROR(GESTION!J13,\" \")","v":3},3,{"$f":"IFERROR(H13/G13,\"\")","v":1},null,"Se presentaron los informes correspondientes, reportando para la fecha de corte 222 procesos activos en el pasivo (se recibieron 13 procesos nuevos y se terminaron 45)  , 12 sentencias favorables a la entidad, 10 sentencias desfavorables, 1 procesos de repetición activos. El nivel de cumplimiento es 3 ya que la meta son 3 informes al año."]
[null,null,null,null,{"$f":"IFERROR(GESTION!H14,\" \")","v":"Realizar y tramitar todos los requerimientos que llegan al área de asistencia legal como:  contestaciones, alegatos, llamamientos en garantía, asistencia a audiencias, realización de fichas, presentación de recursos etc) "},{"$f":"IFERROR(GESTION!I14,\" \")","v":"Entregable"},{"$f":"IFERROR(GESTION!J14,\" \")","v":0},null,{"$f":"IFERROR(H14/G14,\"\")","v":""},null,"Se atendieron 131 requerimientos"]
[null,null,null,null,{"$f":"IFERROR(GESTION!H15,\" \")","v":0},{"$f":"IFERROR(GESTION!I15,\" \")","v":0},{"$f":"IFERROR(GESTION!J15,\" \")","v":0},null,{"$f":"IFERROR(H15/G15,\"\")","v":""}]
[null,null,"3. Coadyuvar en la garantía de la idoneidad en el ejercicio de la profesión jurídica de acuerdo con lo establecido en la Ley 1905 de 2018","2. Asegurar  el cumplimiento de los objetivos institucionales, la normatividad aplicable,  la mejora del SIGCMA y la satisfacción de los usuarios, revisando de  forma continua y sistemática la planificación de la gestión y fortaleciendo la administración de riesgos y sus controles",{"$f":"IFERROR(GESTION!H16,\" \")","v":0},{"$f":"IFERROR(GESTION!I16,\" \")","v":0},{"$f":"IFERROR(GESTION!J16,\" \")","v":0},null,{"$f":"IFERROR(H16/G16,\"\")","v":""}]
[null,null,null,null,{"$f":"IFERROR(GESTION!H17,\" \")","v":0},{"$f":"IFERROR(GESTION!I17,\" \")","v":0},{"$f":"IFERROR(GESTION!J17,\" \")","v":0},null,{"$f":"IFERROR(H17/G17,\"\")","v":""}]
[null,null,null,null,{"$f":"IFERROR(GESTION!H18,\" \")","v":0},{"$f":"IFERROR(GESTION!I18,\" \")","v":0},{"$f":"IFERROR(GESTION!J18,\" \")","v":0},null,{"$f":"IFERROR(H18/G18,\"\")","v":""}]
[null,null,null,null,{"$f":"IFERROR(GESTION!H19,\" \")","v":0},{"$f":"IFERROR(GESTION!I19,\" \")","v":0},{"$f":"IFERROR(GESTION!J19,\" \")","v":0},null,{"$f":"IFERROR(H19/G19,\"\")","v":""}]
[null,null,null,null,{"$f":"IFERROR(GESTION!H20,\" \")","v":0},{"$f":"IFERROR(GESTION!I20,\" \")","v":0},{"$f":"IFERROR(GESTION!J20,\" \")","v":0},null,{"$f":"IFERROR(H20/G20,\"\")","v":""}]
[null,null,"4. Avanzar en la disposición de una infraestructura óptima para el acceso a la justicia en la Rama Judicial de modo que se fortalezca la presencia territorial, teniendo en cuenta las posibilidades que ofrece la transformación digital y las necesidades que se derivan de ella, y considerando tanto las necesidades de los usuarios como las de los servidores judiciales.","4. Hacer un uso racional de los recursos naturales aplicando los principios y fases de la Economía Circular, para prevenir, mitigar y controlar los impactos ambientales",{"$f":"IFERROR(GESTION!H21,\" \")","v":"Mejorar las condiciones locativas de la infraestructura física del Distrito Judicial de Distrito Judicial de Quibdo y Administrativo del Chocó "},{"$f":"IFERROR(GESTION!I21,\" \")","v":"Entregable"},{"$f":"IFERROR(GESTION!J21,\" \")","v":0},null,{"$f":"IFERROR(H21/G21,\"\")","v":""},null,"Se realizó consultoria para la adquisicion de las Plantas Fotovoltaicas y mejoramiento de redes hidrosanitarias. "]
[null,null,null,null,{"$f":"IFERROR(GESTION!H22,\" \")","v":"Realizar seguimiento a  la ejecución y cumplimiento de los contratos de Mejoramiento y  Mantenimiento de la Infraestructura Física del Distrito Judicial de Quibdo y Administrativo del Chocó "},{"$f":"IFERROR(GESTION!I22,\" \")","v":"Entregable"},{"$f":"IFERROR(GESTION!J22,\" \")","v":0},null,{"$f":"IFERROR(H22/G22,\"\")","v":""},null,"No se programaron actividades para el mejoramiento y mantenimiento de la Infraestructura Fisica para el ultimo cuatrimestre del 2023."]
[null,null,null,null,{"$f":"IFERROR(GESTION!H23,\" \")","v":"Gestionar con los entes Territoriales la adquisicion de inmuebles a traves de donacion "},{"$f":"IFERROR(GESTION!I23,\" \")","v":"Entregable"},{"$f":"IFERROR(GESTION!J23,\" \")","v":0},null,{"$f":"IFERROR(H23/G23,\"\")","v":""},null,"Al cierre del cuarto trismistre se logró la expediición de la resolución N°2068 del 29.12.2023, por medio de la cual la Alcaldía de Quibdó transfiere el dominio de un lote para la construcción de la nueva sede del Palacio de Justicia de Quibdó"]
[null,null,null,null,{"$f":"IFERROR(GESTION!H24,\" \")","v":"Elaborar Plan Anual de Necesidades para Mejoramiento y  Mantenimiento de la Infraestructura propia del sector"},{"$f":"IFERROR(GESTION!I24,\" \")","v":"Meta cuantificable"},{"$f":"IFERROR(GESTION!J24,\" \")","v":1},null,{"$f":"IFERROR(H24/G24,\"\")","v":0},null,"El plan de necesidades fue presentado en el mes de Octubre de 2023"]
[null,null,null,null,{"$f":"IFERROR(GESTION!H25,\" \")","v":"Gestionar actividades preventivas y correctivas para el mantenimiento de los vehículos automotores  adscritos a los  despachos judiciales y dependencias administrativa de la Seccional cumpiendo con los esquemas de seguridad."},{"$f":"IFERROR(GESTION!I25,\" \")","v":"Entregable"},{"$f":"IFERROR(GESTION!J25,\" \")","v":0},null,{"$f":"IFERROR(H25/G25,\"\")","v":""},null,"Se han remitido los automoviles a los talleres autorizados por la Seccional Antioquia - Chocó y ademas se han realizado talleres de seguridad vial para los conductores de la Seccional. "]
[null,null,"5. Impulsar el uso de mecanismos alternativos para la solución de conflictos y la ampliación de la justicia restaurativa y terapéutica y el robustecimiento de las alternativas al encarcelamiento","2. Asegurar  el cumplimiento de los objetivos institucionales, la normatividad aplicable,  la mejora del SIGCMA y la satisfacción de los usuarios, revisando de  forma continua y sistemática la planificación de la gestión y fortaleciendo la administración de riesgos y sus controles",{"$f":"IFERROR(GESTION!H26,\" \")","v":0},{"$f":"IFERROR(GESTION!I26,\" \")","v":0},{"$f":"IFERROR(GESTION!J26,\" \")","v":0},null,{"$f":"IFERROR(H26/G26,\"\")","v":""}]
[null,null,null,null,{"$f":"IFERROR(GESTION!H27,\" \")","v":0},{"$f":"IFERROR(GESTION!I27,\" \")","v":0},{"$f":"IFERROR(GESTION!J27,\" \")","v":0},null,{"$f":"IFERROR(H27/G27,\"\")","v":""}]
[null,null,null,null,{"$f":"IFERROR(GESTION!H28,\" \")","v":0},{"$f":"IFERROR(GESTION!I28,\" \")","v":0},{"$f":"IFERROR(GESTION!J28,\" \")","v":0},null,{"$f":"IFERROR(H28/G28,\"\")","v":""}]
[null,null,null,null,{"$f":"IFERROR(GESTION!H29,\" \")","v":0},{"$f":"IFERROR(GESTION!I29,\" \")","v":0},{"$f":"IFERROR(GESTION!J29,\" \")","v":0},null,{"$f":"IFERROR(H29/G29,\"\")","v":""}]
[null,null,null,null,{"$f":"IFERROR(GESTION!H30,\" \")","v":0},{"$f":"IFERROR(GESTION!I30,\" \")","v":0},{"$f":"IFERROR(GESTION!J30,\" \")","v":0},null,{"$f":"IFERROR(H30/G30,\"\")","v":""}]
["2. Servicios digitales y de tecnología, innovación y análisis de la información.","Servicios digitales y de tecnología, innovación y análisis de la información: Consolidar una justicia integrada y soportada en servicios digitales y de tecnología, innovación y análisis de la información, con una cultura digital apropiada, segura y sensible a las realidades del territorio nacional. ","1. Ampliar el acceso a la justicia a través de la consolidación del uso de los servicios digitales que conforman el sistema único integrado de gestión judicial en todos los despachos judiciales y dependencias de apoyo y, específicamente, incluyendo el despliegue e implementación del Expediente Judicial Electrónico en todas las jurisdicciones y especialidades.","6. Proteger, preservar y administrar los activos de información  implementando acciones  para gestionar de forma adecuada los incidentes, proteger los datos personales y adoptar mecanismos  de ciberseguridad y aseguramiento de la  continuidad del negocio.",{"$f":"IFERROR(GESTION!H31,\" \")","v":"Publicar en el Portal WEB Seccional y en la red social (Twitter ) y mediante los Correos Institucionales, (Actos Administrativos producidos por el Consejo Seccional,. Acuerdo, circulares, Boletines, informacion de interés general, capacitaciones, Avisos, etc...)"},{"$f":"IFERROR(GESTION!I31,\" \")","v":"Entregable"},{"$f":"IFERROR(GESTION!J31,\" \")","v":0},null,{"$f":"IFERROR(H31/G31,\"\")","v":""},null,"En este cuarto trimestre fueron publicadas los, acuerdos, boletines y demás actos admunistrativos elaborados por la seccional. "]
[null,null,null,null,{"$f":"IFERROR(GESTION!H32,\" \")","v":"Recibir, elaborar y gestionar, en el aplicativo de correspondencia SIGOBIUS, las comunicaciones y oficios"},{"$f":"IFERROR(GESTION!I32,\" \")","v":"Entregable"},{"$f":"IFERROR(GESTION!J32,\" \")","v":0},null,{"$f":"IFERROR(H32/G32,\"\")","v":""},null,"Fueron trámitadas por intermedio del aplicativo "]
[null,null,null,null,{"$f":"IFERROR(GESTION!H33,\" \")","v":"Realizar seguimiento al contrato CSJ 2023 - OC101882 PIVOT 1819- CSJ - CHOCÓ se da  apoyo de la  Cobertura total del acceso a internet de todos los despacho judiciales de la Seccional, es decir juzgados, despachos de magistrados, centros de servicios,  secretarias generales, una oficina de apoyo judicial y la oficina de la Coordinación Administrativa de Quibdó."},{"$f":"IFERROR(GESTION!I33,\" \")","v":"Entregable"},{"$f":"IFERROR(GESTION!J33,\" \")","v":0},null,{"$f":"IFERROR(H33/G33,\"\")","v":""},"Se dio el apoyo,  sin en bargo se presentaron dificultades por momentos  por parte del operador externo Cirion y Andired.","Pese a las variadas y constantes dificultades en el cuarto trimiestre, de indisponibilidd que se presentan y se reportan en los diferentes enlaces de conectividad del Chocó, se realizaron las gestiones de apoyo y se logra mantener el servicio disponible en los Juzgados. "]
[null,null,null,null,{"$f":"IFERROR(GESTION!H34,\" \")","v":"Realizar seguimiento y apoyo de primer nivel en la implementación de sistema de información procesal judicial en la Rama Judicial Justicia XXI Web (Tyba), Siglo XXI Cliente Servidor, Samai, SIGOBIUS, Aplicativo Firma Electronica, portal Banco Agrario , Azure, ,Cicero, Lifezise, Oficce 365,  Portal Rama Judicial ( MicroSitio) creaciones de usuarios, traslados de usuarios, Capacitacion Etc."},{"$f":"IFERROR(GESTION!I34,\" \")","v":"Entregable"},{"$f":"IFERROR(GESTION!J34,\" \")","v":0},null,{"$f":"IFERROR(H34/G34,\"\")","v":""},"Se brinda el apoyo y gestion,  sin en bargo se presentaron en ocasiones dificultades en algunos de los aplicativos, indisponibilidades que su solucion es por  lo general competencia del nivel central."," En el cuarto trimestre, pese a las variadas y constantes dificultades de indisponibilidd que se presentaron y se reportaron al area de sistenmas en los diferentes aplicativos el valance es positivo en  Chocó, se realizaron las gestiones de apoyo y se logra mantener el servicio operativo y disponible en los Juzgados."]
[null,null,null,null,{"$f":"IFERROR(GESTION!H35,\" \")","v":"Hacer seguimiento a las actividades programadas como mantenimiento preventivo y correctivo y se realiza acompañamiento a la atencion de los incidentes reportados para su atencion tecnica  por  medio del contrato 276 DEL 2022 DE MESA DE AYUDA ETB"},{"$f":"IFERROR(GESTION!I35,\" \")","v":"Entregable"},{"$f":"IFERROR(GESTION!J35,\" \")","v":0},null,{"$f":"IFERROR(H35/G35,\"\")","v":""},"Se brinda el apoyo y gestion,  no ha  presentado difilculta en el desarrollo de la  actividad. "," Se le hace seguimiento y acompñamiento a la actividad y se observa que va en un 95 % realizada. "]
[null,null,"2. Integrar y hacer compatibles todos los aplicativos de transición con SIUGJ, para que la migración de los expedientes judiciales a dicha plataforma sea real y no suponga afectaciones en la prestación del servicio de justicia.",null,{"$f":"IFERROR(GESTION!H36,\" \")","v":" Brindar apoyo en las audiencias presenciales y   virtuales y  se ha realizado la actualización de de salas de audiencias  preexistentes - actal son  virtuales / Contrato de Prestación de Servicios  No. 175 de 2020 - LIFEZISE"},{"$f":"IFERROR(GESTION!I36,\" \")","v":"Entregable"},{"$f":"IFERROR(GESTION!J36,\" \")","v":0},null,{"$f":"IFERROR(H36/G36,\"\")","v":""},"Se brinda el apoyo y gestion,  sin en bargo se presentaron en ocasiones dificultades en algunos de los aplicativos como LIFEZISE, indisponibilidades que su solucion es por  lo general competencia del nivel central.","Apesar de las diferentes y constantes dificultades de indisponibilidd del aplicativo LIFEZISE o solicitudes de apoyo que se presentan en todo lo que tiene que ver con  AUDIENCIAS en  Chocó, se realizaron las gestiones de apoyo, se logra mantener el servicio disponible en los Juzgados y se atendieron todas las solicitudes recibidas."]
[null,null,null,null,{"$f":"IFERROR(GESTION!H37,\" \")","v":0},{"$f":"IFERROR(GESTION!I37,\" \")","v":0},{"$f":"IFERROR(GESTION!J37,\" \")","v":0},null,{"$f":"IFERROR(H37/G37,\"\")","v":""}]
[null,null,null,null,{"$f":"IFERROR(GESTION!H38,\" \")","v":0},{"$f":"IFERROR(GESTION!I38,\" \")","v":0},{"$f":"IFERROR(GESTION!J38,\" \")","v":0},null,{"$f":"IFERROR(H38/G38,\"\")","v":""}]
[null,null,null,null,{"$f":"IFERROR(GESTION!H39,\" \")","v":0},{"$f":"IFERROR(GESTION!I39,\" \")","v":0},{"$f":"IFERROR(GESTION!J39,\" \")","v":0},null,{"$f":"IFERROR(H39/G39,\"\")","v":""}]
[null,null,null,null,{"$f":"IFERROR(GESTION!H40,\" \")","v":0},{"$f":"IFERROR(GESTION!I40,\" \")","v":0},{"$f":"IFERROR(GESTION!J40,\" \")","v":0},null,{"$f":"IFERROR(H40/G40,\"\")","v":""}]
[null,null,"3. Fortalecer las capacidades institucionales, adecuar el modelo operativo y de servicio, bajo un enfoque de Arquitectura Empresarial y de fortalecimiento del acceso a la justicia.",null,{"$f":"IFERROR(GESTION!H41,\" \")","v":"Fortalecer el conocimiento del servidor judicial, en cuanto al funconamiento y organizacion de la entidad, y del sistema Integrado de Gestion de la Calidad"},{"$f":"IFERROR(GESTION!I41,\" \")","v":"Entregable"},{"$f":"IFERROR(GESTION!J41,\" \")","v":0},null,{"$f":"IFERROR(H41/G41,\"\")","v":""},null,"Se realizo proceso de dialogo de la semana del 4 al 07 de diciembre de 2023, capacitación presencial y virtual, sobre el expediente electrónico, la cual estuvo dividida en 8 grupos de trabajo, con participación en sitio de 120 servidores y 37 virtual.4"]
[null,null,null,null,{"$f":"IFERROR(GESTION!H42,\" \")","v":"Implementar programas de bienestar social en asocio con la Caja de compensación Familiar - CONFACHOCO"},{"$f":"IFERROR(GESTION!I42,\" \")","v":"Entregable"},{"$f":"IFERROR(GESTION!J42,\" \")","v":0},null,{"$f":"IFERROR(H42/G42,\"\")","v":""},"No hay dificultades en el momento","Se sigue realizando la ejecucion del contrato de bienestar con la Caja de Compensaccion Familiar COMFACHOCO, su ejecucion se cumplio en un 100%"]
[null,null,null,null,{"$f":"IFERROR(GESTION!H43,\" \")","v":"Adelantar el diagnostico de competencias a los servidores judiciales del distrito"},{"$f":"IFERROR(GESTION!I43,\" \")","v":"Entregable"},{"$f":"IFERROR(GESTION!J43,\" \")","v":0},null,{"$f":"IFERROR(H43/G43,\"\")","v":""},"La dificultad que s e presenta es con los servidores de los Municipios porque no participan en la realizacion del diagnostico en un buen porcentaje","Se realizo en el mes de mayo de 2023, el diagnostico decompetencias y se cumplio la meta dispuesta para este año."]
[null,null,null,null,{"$f":"IFERROR(GESTION!H44,\" \")","v":"Verificacion del cumplimiento de los requisitos de los servidores a vincular"},{"$f":"IFERROR(GESTION!I44,\" \")","v":"Entregable"},{"$f":"IFERROR(GESTION!J44,\" \")","v":0},null,{"$f":"IFERROR(H44/G44,\"\")","v":""},"La dificultad es con la tardansa en el envio de las novedades por parte de los Despachos Judiciales a la oficina de Talento Humano, para verificar los requisitos.","Se remitio circular a los Despachos Judiciales recordandoles la importancia de remitir oportunamente las novedades , para verificacion de los requisitos legales."]
[null,null,null,null,{"$f":"IFERROR(GESTION!H45,\" \")","v":"Tramitar ante la Direccion Seccional de medellin, las quejas por inconsistencia o no pago oportunida de la nominada"},{"$f":"IFERROR(GESTION!I45,\" \")","v":"Entregable"},{"$f":"IFERROR(GESTION!J45,\" \")","v":0},null,{"$f":"IFERROR(H45/G45,\"\")","v":""},"La dificultad se  ha presentado en la remision de las incosistencia despues del termino para corregirlas.","Las quejas o inconsistencias se han tramitado y se ha corregido oportunamente a los servidores que asi las reportaron."]
[null,null,"4.Consolidar la cultura y apropiación de la transformación digital en los servidores y usuarios de los servicios de la Rama Judicial y reducir brechas de acceso y conocimiento, incluyendo la oferta efectiva de información sobre el uso de las nuevas herramientas virtuales implementadas en las diferentes jurisdicciones, con especial énfasis en las zonas del país donde es evidente la brecha digital.",null,{"$f":"IFERROR(GESTION!H46,\" \")","v":"Seguimiento al ausentimos laboral por incapacidad y accidente de trabajo"},{"$f":"IFERROR(GESTION!I46,\" \")","v":"Entregable"},{"$f":"IFERROR(GESTION!J46,\" \")","v":0},null,{"$f":"IFERROR(H46/G46,\"\")","v":""},null,"Se ha venido realizando el seguimiento mensual y  el ausentismo ha sido bajo en consideracion a otros años."]
[null,null,null,null,{"$f":"IFERROR(GESTION!H47,\" \")","v":0},{"$f":"IFERROR(GESTION!I47,\" \")","v":0},{"$f":"IFERROR(GESTION!J47,\" \")","v":0},null,{"$f":"IFERROR(H47/G47,\"\")","v":""}]
[null,null,null,null,{"$f":"IFERROR(GESTION!H48,\" \")","v":0},{"$f":"IFERROR(GESTION!I48,\" \")","v":0},{"$f":"IFERROR(GESTION!J48,\" \")","v":0},null,{"$f":"IFERROR(H48/G48,\"\")","v":""}]
[null,null,null,null,{"$f":"IFERROR(GESTION!H49,\" \")","v":"Incentivar y Verificar el uso de los aplicativos virtuales en los despachos judiciales, dispuestos por el Consejo Superior de la Judicatura"},{"$f":"IFERROR(GESTION!I49,\" \")","v":"Entregable"},{"$f":"IFERROR(GESTION!J49,\" \")","v":0},null,{"$f":"IFERROR(H49/G49,\"\")","v":""},"Que los servidores se apropien de las herramientas tecnologicas.","El seguimiento se realiza en desarrollo de las visitas administrativas"]
[null,null,null,null,{"$f":"IFERROR(GESTION!H50,\" \")","v":0},{"$f":"IFERROR(GESTION!I50,\" \")","v":0},{"$f":"IFERROR(GESTION!J50,\" \")","v":0},null,{"$f":"IFERROR(H50/G50,\"\")","v":""}]
[null,null,"5.Consolidar la infraestructura y los recursos necesarios para la implementación exitosa de la transformación digital, incluyendo la disposición de internet de calidad en el 100% de las sedes en la Rama Judicial y modernizar los servicios tecnológicos de soporte. ",null,{"$f":"IFERROR(GESTION!H51,\" \")","v":0},{"$f":"IFERROR(GESTION!I51,\" \")","v":0},{"$f":"IFERROR(GESTION!J51,\" \")","v":0},null,{"$f":"IFERROR(H51/G51,\"\")","v":""}]
[null,null,null,null,{"$f":"IFERROR(GESTION!H52,\" \")","v":0},{"$f":"IFERROR(GESTION!I52,\" \")","v":0},{"$f":"IFERROR(GESTION!J52,\" \")","v":0},null,{"$f":"IFERROR(H52/G52,\"\")","v":""}]
[null,null,null,null,{"$f":"IFERROR(GESTION!H53,\" \")","v":0},{"$f":"IFERROR(GESTION!I53,\" \")","v":0},{"$f":"IFERROR(GESTION!J53,\" \")","v":0},null,{"$f":"IFERROR(H53/G53,\"\")","v":""}]
[null,null,null,null,{"$f":"IFERROR(GESTION!H54,\" \")","v":0},{"$f":"IFERROR(GESTION!I54,\" \")","v":0},{"$f":"IFERROR(GESTION!J54,\" \")","v":0},null,{"$f":"IFERROR(H54/G54,\"\")","v":""}]
[null,null,null,null,{"$f":"IFERROR(GESTION!H55,\" \")","v":0},{"$f":"IFERROR(GESTION!I55,\" \")","v":0},{"$f":"IFERROR(GESTION!J55,\" \")","v":0},null,{"$f":"IFERROR(H55/G55,\"\")","v":""}]
[null,null,"6.Integrar y optimizar los servicios administrativos de la Rama Judicial bajo un enfoque de transformación digital e innovación incluyendo los componentes financiero, administrativo, talento humano, entre otros",null,{"$f":"IFERROR(GESTION!H56,\" \")","v":0},{"$f":"IFERROR(GESTION!I56,\" \")","v":0},{"$f":"IFERROR(GESTION!J56,\" \")","v":0},null,{"$f":"IFERROR(H56/G56,\"\")","v":""}]
[null,null,null,null,{"$f":"IFERROR(GESTION!H57,\" \")","v":0},{"$f":"IFERROR(GESTION!I57,\" \")","v":0},{"$f":"IFERROR(GESTION!J57,\" \")","v":0},null,{"$f":"IFERROR(H57/G57,\"\")","v":""}]
[null,null,null,null,{"$f":"IFERROR(GESTION!H58,\" \")","v":0},{"$f":"IFERROR(GESTION!I58,\" \")","v":0},{"$f":"IFERROR(GESTION!J58,\" \")","v":0},null,{"$f":"IFERROR(H58/G58,\"\")","v":""}]
[null,null,null,null,{"$f":"IFERROR(GESTION!H59,\" \")","v":0},{"$f":"IFERROR(GESTION!I59,\" \")","v":0},{"$f":"IFERROR(GESTION!J59,\" \")","v":0},null,{"$f":"IFERROR(H59/G59,\"\")","v":""}]
[null,null,null,null,{"$f":"IFERROR(GESTION!H60,\" \")","v":0},{"$f":"IFERROR(GESTION!I60,\" \")","v":0},{"$f":"IFERROR(GESTION!J60,\" \")","v":0},null,{"$f":"IFERROR(H60/G60,\"\")","v":""}]
["3. Confianza pública, transparencia y rendición de cuentas","Confianza pública, transparencia y rendición de cuentas: Aumentar la confianza pública en la justicia a través de la transparencia, la rendición de cuentas y la participación, incluyendo la información de justicia y la producción, gestión y acceso a las fuentes de derecho, el fortalecimiento del sistema de gestión de calidad y medio ambiente (SIGCMA) y el mejoramiento de la calidad y publicidad de la información. ","1. Incrementar la cantidad, la calidad y pertinencia de los datos sobre el funcionamiento del servicio de justicia bajo un modelo de gobierno de datos y un liderazgo unificado. ","4. Hacer un uso racional de los recursos naturales aplicando los principios y fases de la Economía Circular, para prevenir, mitigar y controlar los impactos ambientales.",{"$f":"IFERROR(GESTION!H61,\" \")","v":0},{"$f":"IFERROR(GESTION!I61,\" \")","v":0},{"$f":"IFERROR(GESTION!J61,\" \")","v":0},null,{"$f":"IFERROR(H61/G61,\"\")","v":""}]
[null,null,null,null,{"$f":"IFERROR(GESTION!H62,\" \")","v":"\nRealizar y remitirel  informe Estadistico a la UDAE\n"},{"$f":"IFERROR(GESTION!I62,\" \")","v":"Entregable"},{"$f":"IFERROR(GESTION!J62,\" \")","v":0},null,{"$f":"IFERROR(H62/G62,\"\")","v":""},null,"se realizo en el primer trimestre de 2023"]
[null,null,null,null,{"$f":"IFERROR(GESTION!H63,\" \")","v":"Realizar Vigilancia Judicial Administrativa, de oficio o petición de partes"},{"$f":"IFERROR(GESTION!I63,\" \")","v":"Entregable"},{"$f":"IFERROR(GESTION!J63,\" \")","v":0},null,{"$f":"IFERROR(H63/G63,\"\")","v":""},null,"En el cuarto trimestre, se recibieron  21 solicitudes de vigilancia judicial"]
[null,null,null,null,{"$f":"IFERROR(GESTION!H64,\" \")","v":"Atender las QR&S, recibidas"},{"$f":"IFERROR(GESTION!I64,\" \")","v":"Entregable"},{"$f":"IFERROR(GESTION!J64,\" \")","v":0},null,{"$f":"IFERROR(H64/G64,\"\")","v":""},null,"En este cuarto trimestre se recibieron 9 derechos de petición y/o quejas, los cuales fueron tramitados"]
[null,null,null,null,{"$f":"IFERROR(GESTION!H65,\" \")","v":0},{"$f":"IFERROR(GESTION!I65,\" \")","v":0},{"$f":"IFERROR(GESTION!J65,\" \")","v":0},null,{"$f":"IFERROR(H65/G65,\"\")","v":""}]
[null,null,"2. Consolidar la administración de la información entendida como todas las acciones rientadas a garantizar el acceso, consulta, uso y conservación de la información de justicia de manera ágil, flexible e inteligente, bajo un enfoque de innovación.",null,{"$f":"IFERROR(GESTION!H66,\" \")","v":0},{"$f":"IFERROR(GESTION!I66,\" \")","v":0},{"$f":"IFERROR(GESTION!J66,\" \")","v":0},null,{"$f":"IFERROR(H66/G66,\"\")","v":""}]
[null,null,null,null,{"$f":"IFERROR(GESTION!H67,\" \")","v":0},{"$f":"IFERROR(GESTION!I67,\" \")","v":0},{"$f":"IFERROR(GESTION!J67,\" \")","v":0},null,{"$f":"IFERROR(H67/G67,\"\")","v":""}]
[null,null,null,null,{"$f":"IFERROR(GESTION!H68,\" \")","v":0},{"$f":"IFERROR(GESTION!I68,\" \")","v":0},{"$f":"IFERROR(GESTION!J68,\" \")","v":0},null,{"$f":"IFERROR(H68/G68,\"\")","v":""}]
[null,null,null,null,{"$f":"IFERROR(GESTION!H69,\" \")","v":0},{"$f":"IFERROR(GESTION!I69,\" \")","v":0},{"$f":"IFERROR(GESTION!J69,\" \")","v":0},null,{"$f":"IFERROR(H69/G69,\"\")","v":""}]
[null,null,null,null,{"$f":"IFERROR(GESTION!H70,\" \")","v":0},{"$f":"IFERROR(GESTION!I70,\" \")","v":0},{"$f":"IFERROR(GESTION!J70,\" \")","v":0},null,{"$f":"IFERROR(H70/G70,\"\")","v":""}]
[null,null,"3. Fortalecer el Sistema integrado de Gestión de la Rama, orientado a la implementación y certificación de las normas antisoborno.","1. Gestionar el desarrollo de las competencias, la toma de conciencia , la cultura  organizacional  y el compromiso de los  servidores judiciales, contratistas, practicantes y  judicantes de contribuir a generar valor público en la administración de justicia, en el marco de  cumplimiento de los requisitos  aplicables y el comportamiento ético.\n3. Fomentar la transparencia y la participación generando lineamientos y promoviendo la rendición de cuentas ,la consulta, reporte y planteamiento de inquietudes en relación con las decisiones y aspectos del SIGCMA.",{"$f":"IFERROR(GESTION!H71,\" \")","v":0},{"$f":"IFERROR(GESTION!I71,\" \")","v":0},{"$f":"IFERROR(GESTION!J71,\" \")","v":0},null,{"$f":"IFERROR(H71/G71,\"\")","v":""}]
[null,null,null,null,{"$f":"IFERROR(GESTION!H72,\" \")","v":0},{"$f":"IFERROR(GESTION!I72,\" \")","v":0},{"$f":"IFERROR(GESTION!J72,\" \")","v":0},null,{"$f":"IFERROR(H72/G72,\"\")","v":""}]
[null,null,null,null,{"$f":"IFERROR(GESTION!H73,\" \")","v":0},{"$f":"IFERROR(GESTION!I73,\" \")","v":0},{"$f":"IFERROR(GESTION!J73,\" \")","v":0},null,{"$f":"IFERROR(H73/G73,\"\")","v":""}]
[null,null,null,null,{"$f":"IFERROR(GESTION!H74,\" \")","v":0},{"$f":"IFERROR(GESTION!I74,\" \")","v":0},{"$f":"IFERROR(GESTION!J74,\" \")","v":0},null,{"$f":"IFERROR(H74/G74,\"\")","v":""}]
[null,null,null,null,{"$f":"IFERROR(GESTION!H75,\" \")","v":0},{"$f":"IFERROR(GESTION!I75,\" \")","v":0},{"$f":"IFERROR(GESTION!J75,\" \")","v":0},null,{"$f":"IFERROR(H75/G75,\"\")","v":""}]
[null,null,"4. Aumentar la confianza, la cercanía y acceso a los servicios de la Rama Judicial a través, entre otros, de una comunicación clara y asertiva con la ciudadanía.","3. Fomentar la transparencia y la participación generando lineamientos y promoviendo la rendición de cuentas ,la consulta, reporte y planteamiento de inquietudes en relación con las decisiones y aspectos del SIGCMA.",{"$f":"IFERROR(GESTION!H76,\" \")","v":"Consolidar y hacer seguimiento en reuniones trimestrales, al plan de accion de los Procesos del SIGCMA"},{"$f":"IFERROR(GESTION!I76,\" \")","v":"Entregable"},{"$f":"IFERROR(GESTION!J76,\" \")","v":0},null,{"$f":"IFERROR(H76/G76,\"\")","v":""},null,"se realizaron reuniones en las siguentes fechas:  "]
[null,null,null,null,{"$f":"IFERROR(GESTION!H77,\" \")","v":"Elaborar semestralmente el Boletín SIGCMA"},{"$f":"IFERROR(GESTION!I77,\" \")","v":"Entregable"},{"$f":"IFERROR(GESTION!J77,\" \")","v":0},null,{"$f":"IFERROR(H77/G77,\"\")","v":""},null,"se elaboro boletín SIGCMA "]
[null,null,null,null,{"$f":"IFERROR(GESTION!H78,\" \")","v":"Elaborar trimestralmente boletín con perspectiva de género"},{"$f":"IFERROR(GESTION!I78,\" \")","v":"Entregable"},{"$f":"IFERROR(GESTION!J78,\" \")","v":0},null,{"$f":"IFERROR(H78/G78,\"\")","v":""},null,"Se elaboró Boletín No. III y VI de Género"]
[null,null,null,null,{"$f":"IFERROR(GESTION!H79,\" \")","v":0},{"$f":"IFERROR(GESTION!I79,\" \")","v":0},{"$f":"IFERROR(GESTION!J79,\" \")","v":0},null,{"$f":"IFERROR(H79/G79,\"\")","v":""}]
[null,null,null,null,{"$f":"IFERROR(GESTION!H80,\" \")","v":0},{"$f":"IFERROR(GESTION!I80,\" \")","v":0},{"$f":"IFERROR(GESTION!J80,\" \")","v":0},null,{"$f":"IFERROR(H80/G80,\"\")","v":""}]
[null,null,"5. Prevenir fenómenos asociados con actos de corrupción en la Rama Judicial y reducir las experiencias de corrupción de usuarios y servidores judiciales.",null,{"$f":"IFERROR(GESTION!H81,\" \")","v":0},{"$f":"IFERROR(GESTION!I81,\" \")","v":0},{"$f":"IFERROR(GESTION!J81,\" \")","v":0},null,{"$f":"IFERROR(H81/G81,\"\")","v":""}]
[null,null,null,null,{"$f":"IFERROR(GESTION!H82,\" \")","v":0},{"$f":"IFERROR(GESTION!I82,\" \")","v":0},{"$f":"IFERROR(GESTION!J82,\" \")","v":0},null,{"$f":"IFERROR(H82/G82,\"\")","v":""}]
[null,null,null,null,{"$f":"IFERROR(GESTION!H83,\" \")","v":0},{"$f":"IFERROR(GESTION!I83,\" \")","v":0},{"$f":"IFERROR(GESTION!J83,\" \")","v":0},null,{"$f":"IFERROR(H83/G83,\"\")","v":""}]
[null,null,null,null,{"$f":"IFERROR(GESTION!H84,\" \")","v":0},{"$f":"IFERROR(GESTION!I84,\" \")","v":0},{"$f":"IFERROR(GESTION!J84,\" \")","v":0},null,{"$f":"IFERROR(H84/G84,\"\")","v":""}]
[null,null,null,null,{"$f":"IFERROR(GESTION!H85,\" \")","v":0},{"$f":"IFERROR(GESTION!I85,\" \")","v":0},{"$f":"IFERROR(GESTION!J85,\" \")","v":0},null,{"$f":"IFERROR(H85/G85,\"\")","v":""}]
[null,null,"6. Promover la rendición de cuentas y la colaboración real con la ciudadanía como fundamento para diseñar acciones de mejoramiento del acceso a la justicia.",null,{"$f":"IFERROR(GESTION!H86,\" \")","v":"Desarrollar las actividades  para la oportuna elaboración del informe anual de gestión y audiencia pública de rendición de cuentas del Consejo Seccional de la Judicatura del Chocó y la Coordinación Administrativa de Quibdó"},{"$f":"IFERROR(GESTION!I86,\" \")","v":"Entregable"},{"$f":"IFERROR(GESTION!J86,\" \")","v":0},null,{"$f":"IFERROR(H86/G86,\"\")","v":""},null,"Esta actividad se realizó en el primer trimestre"]
[null,null,null,null,{"$f":"IFERROR(GESTION!H87,\" \")","v":"Actualizar la lista de Auxiliares de la Justicia del Distrito Judicial de Quibdó y Administrativo del Chocó con las novedades que se presenten                                             "},{"$f":"IFERROR(GESTION!I87,\" \")","v":"Entregable"},{"$f":"IFERROR(GESTION!J87,\" \")","v":0},null,{"$f":"IFERROR(H87/G87,\"\")","v":""},null,"No se presentaron novedades relacionadas con las personas naturales o juridas que conforman la lista de Auxiliares de la Justicia"]
[null,null,null,null,{"$f":"IFERROR(GESTION!H88,\" \")","v":"Atender los requerimientos presentados por los usuarios internos y externos del servicio de justicia en relación con la lista de auxiliares de la justicia."},{"$f":"IFERROR(GESTION!I88,\" \")","v":"Entregable"},{"$f":"IFERROR(GESTION!J88,\" \")","v":0},null,{"$f":"IFERROR(H88/G88,\"\")","v":""},null,"En el presente trimestre se recibieron 4 solicitudes de información relacionadas con la lista de auxiliares de la justicia y se tramitaron todas"]
[null,null,null,null,{"$f":"IFERROR(GESTION!H89,\" \")","v":"Implementar el programa de gestión documental. Recibir las transferencias documentales de los despachos judiciales de la sede Quibdó    Responder las solicitudes de desarchive presentadas por usuarios internos y externos de la Rama Judicial"},{"$f":"IFERROR(GESTION!I89,\" \")","v":"Entregable"},{"$f":"IFERROR(GESTION!J89,\" \")","v":0},null,{"$f":"IFERROR(H89/G89,\"\")","v":""},"Se presentaron dificultades en la planta física del archivo central, que hiceron  traumático el proceso de busqueda y desarchivo efectivo de algunos expedientes, al punto que nos vimos inmersos en vigilancias administrativas, resueltas de manera desfavorable","Se atendieron satisfactoriamente 78 solicitudes de desarchivo de expedientes que se encuentran bajo la custodia del Archivo central, presentadas por los despachos judiciales y usuarios externos del servicio de justicia.                                                   "]
[null,null,null,null,{"$f":"IFERROR(GESTION!H90,\" \")","v":0},{"$f":"IFERROR(GESTION!I90,\" \")","v":0},{"$f":"IFERROR(GESTION!J90,\" \")","v":0},null,{"$f":"IFERROR(H90/G90,\"\")","v":""},null,"Se reorganizaron 450 cajas contentivas de transferencias documentales de los despachos judiciales de Quibdó"]
[null,null,"7. Continuar la consolidación del SIGCMA, a través de los procesos de formación en modelos de gestión, logrando la implementación y ampliación de este en los esquemas certificados de manera gradual, teniendo en cuenta las capacidades de los diferentes despachos judiciales y dependencias de la Rama Judicial y articulando el enfoque de Arquitectura Empresarial para el desarrollo del PETD a través de la gestión del conocimiento para la gestión del cambio propendiendo por una cultura de la calidad, la transparencia, la rendición de cuentas, la anticorrupción y el antisoborno","1. Gestionar el desarrollo de las competencias, la toma de conciencia , la cultura  organizacional  y el compromiso de los  servidores judiciales, contratistas, practicantes y  judicantes de contribuir a generar valor público en la administración de justicia, en el marco de  cumplimiento de los requisitos  aplicables y el comportamiento ético.\n4. Hacer un uso racional de los recursos naturales aplicando los principios y fases de la Economía Circular, para prevenir, mitigar y controlar los impactos ambientales.",{"$f":"IFERROR(GESTION!H91,\" \")","v":0},{"$f":"IFERROR(GESTION!I91,\" \")","v":0},{"$f":"IFERROR(GESTION!J91,\" \")","v":0},null,{"$f":"IFERROR(H91/G91,\"\")","v":""}]
[null,null,null,null,{"$f":"IFERROR(GESTION!H92,\" \")","v":"Fomentar mediante circular la Planeación estrategica de los despachos judiciales del Distrito Judicial de Quibdó"},{"$f":"IFERROR(GESTION!I92,\" \")","v":"Entregable"},{"$f":"IFERROR(GESTION!J92,\" \")","v":0},null,{"$f":"IFERROR(H92/G92,\"\")","v":""},null,"Se elaboro circular en el primer trimestre, empero durante las visitas se realiza seguimiento"]
[null,null,null,null,{"$f":"IFERROR(GESTION!H93,\" \")","v":0},{"$f":"IFERROR(GESTION!I93,\" \")","v":0},{"$f":"IFERROR(GESTION!J93,\" \")","v":0},null,{"$f":"IFERROR(H93/G93,\"\")","v":""}]
[null,null,null,null,{"$f":"IFERROR(GESTION!H94,\" \")","v":0},{"$f":"IFERROR(GESTION!I94,\" \")","v":0},{"$f":"IFERROR(GESTION!J94,\" \")","v":0},null,{"$f":"IFERROR(H94/G94,\"\")","v":""}]
[null,null,null,null,{"$f":"IFERROR(GESTION!H95,\" \")","v":0},{"$f":"IFERROR(GESTION!I95,\" \")","v":0},{"$f":"IFERROR(GESTION!J95,\" \")","v":0},null,{"$f":"IFERROR(H95/G95,\"\")","v":""}]
["4. Talento Humano","Talento Humano: Fortalecer el talento humano en la Rama Judicial para que sea eficiente, capacitado y realice su labor en ambientes saludables y seguros. Ampliar la cobertura de la carrera judicial y mejorar la oferta de formación, que esté disponible para todos los servidores judiciales e impacte positivamente el servicio de justicia y responda a las necesidades reales del ejercicio de la función judicial.","1. Ampliar la cobertura de la carrera judicial optimizando los procesos de los concursos de méritos y propender por mitigar su litigiosidad.","1. Gestionar el desarrollo de las competencias, la toma de conciencia , la cultura  organizacional  y el compromiso de los  servidores judiciales, contratistas, practicantes y  judicantes de contribuir a generar valor público en la administración de justicia, en el marco de  cumplimiento de los requisitos  aplicables y el comportamiento ético.",{"$f":"IFERROR(GESTION!H96,\" \")","v":"Desarrollar labor pedagógica y de control para obtener oportunamente de los tribunales y jueces de instancia  el insumo para  consolidar el factor  calidad."},{"$f":"IFERROR(GESTION!I96,\" \")","v":"Entregable"},{"$f":"IFERROR(GESTION!J96,\" \")","v":0},null,{"$f":"IFERROR(H96/G96,\"\")","v":""},null,"Se elaboro circular en el primer trimestre, empero durante las visitas se realiza seguimiento"]
[null,null,null,null,{"$f":"IFERROR(GESTION!H97,\" \")","v":"Administrar la información de las calificaciones de servicios de los servidores judiciales del Distrito"},{"$f":"IFERROR(GESTION!I97,\" \")","v":"Entregable"},{"$f":"IFERROR(GESTION!J97,\" \")","v":0},null,{"$f":"IFERROR(H97/G97,\"\")","v":""},null,"Se realizó la consolidación de la calificación de servicios de los funcionarios, ´periodo 2022,"]
[null,null,null,null,{"$f":"IFERROR(GESTION!H98,\" \")","v":"Efectuar visita a los despachos de jueces con el objetivo de realizar la evaluaciónm de Factor Organización del Trabajo  (física o electrónica)"},{"$f":"IFERROR(GESTION!I98,\" \")","v":"Entregable"},{"$f":"IFERROR(GESTION!J98,\" \")","v":0},null,{"$f":"IFERROR(H98/G98,\"\")","v":""},null,"Se adelantaron conforme agenda de las magistradas"]
[null,null,null,null,{"$f":"IFERROR(GESTION!H99,\" \")","v":"Realizar supervisión del reporte oportuno de vacantes para la correcta publicación, durante los primeros 5 días del mes de las vacantes"},{"$f":"IFERROR(GESTION!I99,\" \")","v":"Entregable"},{"$f":"IFERROR(GESTION!J99,\" \")","v":0},null,{"$f":"IFERROR(H99/G99,\"\")","v":""},null,"Se realiza seguimiento en las sesiones de ordinarias"]
[null,null,null,null,{"$f":"IFERROR(GESTION!H100,\" \")","v":"Consolidar la Calificación Integral de Servicios de Jueces y remitir a la Unidad de Administración de Carrera Judicial (Acuerdo PSAA16-10618)"},{"$f":"IFERROR(GESTION!I100,\" \")","v":"Entregable"},{"$f":"IFERROR(GESTION!J100,\" \")","v":0},null,{"$f":"IFERROR(H100/G100,\"\")","v":""},null,"En este trimestre se realizó la consolidación de la calificación del factor calidad 2022"]
[null,null,"2. Impactar la función y servicios que presta la Rama Judicial, a través de una formación integral desde una visión de gestión del conocimiento, relacionada con los problemas de la justicia y los problemas de gestión de quienes administran los recursos de la justicia, y potenciando el uso de medios virtuales.",null,{"$f":"IFERROR(GESTION!H101,\" \")","v":"    Estudiar y emitir concepto sobre las solicitudes de traslado que sean de competencia de este Consejo Seccional que presenten Jueces y Empleados"},{"$f":"IFERROR(GESTION!I101,\" \")","v":"Entregable"},{"$f":"IFERROR(GESTION!J101,\" \")","v":0},null,{"$f":"IFERROR(H101/G101,\"\")","v":""},null,"Durante este trimestre se fueron recibidas 5 solicitudes de tralados, las cuales fueron tramitadas"]
[null,null,null,null,{"$f":"IFERROR(GESTION!H102,\" \")","v":" Remitir al final de cada mes a la Unidad de Carrera Judicial las vacantes de jueces e informar  sobre el agotamiento de las listas de candidatos"},{"$f":"IFERROR(GESTION!I102,\" \")","v":"Entregable"},{"$f":"IFERROR(GESTION!J102,\" \")","v":0},null,{"$f":"IFERROR(H102/G102,\"\")","v":""},null,"Se remitieron los informes correspondietes."]
[null,null,null,null,{"$f":"IFERROR(GESTION!H103,\" \")","v":"Efectuar visita a los despachos de magistrados, conforme la delegación del Consejo Superior de la Judicatura, con el objetivo de verificar el Factor Organización del Trabajo  (física o electrónica)."},{"$f":"IFERROR(GESTION!I103,\" \")","v":"Entregable"},{"$f":"IFERROR(GESTION!J103,\" \")","v":0},null,{"$f":"IFERROR(H103/G103,\"\")","v":""},null,"Se realizaron las visitas de acuerdo al cronograma del establecido por las Magistradas."]
[null,null,null,null,{"$f":"IFERROR(GESTION!H104,\" \")","v":0},{"$f":"IFERROR(GESTION!I104,\" \")","v":0},{"$f":"IFERROR(GESTION!J104,\" \")","v":0},null,{"$f":"IFERROR(H104/G104,\"\")","v":""}]
[null,null,null,null,{"$f":"IFERROR(GESTION!H105,\" \")","v":0},{"$f":"IFERROR(GESTION!I105,\" \")","v":0},{"$f":"IFERROR(GESTION!J105,\" \")","v":0},null,{"$f":"IFERROR(H105/G105,\"\")","v":""}]
[null,null,"3. Promover la incorporación de la perspectiva de género y el enfoque diferencial en los fallos judiciales y en la atención a los ciudadanos, la administración de la Rama Judicial, la administración de la carrera judicial y la elaboración de listas para altas Cortes. ",null,{"$f":"IFERROR(GESTION!H106,\" \")","v":0},{"$f":"IFERROR(GESTION!I106,\" \")","v":0},{"$f":"IFERROR(GESTION!J106,\" \")","v":0},null,{"$f":"IFERROR(H106/G106,\"\")","v":""}]
[null,null,null,null,{"$f":"IFERROR(GESTION!H107,\" \")","v":0},{"$f":"IFERROR(GESTION!I107,\" \")","v":0},{"$f":"IFERROR(GESTION!J107,\" \")","v":0},null,{"$f":"IFERROR(H107/G107,\"\")","v":""}]
[null,null,null,null,{"$f":"IFERROR(GESTION!H108,\" \")","v":0},{"$f":"IFERROR(GESTION!I108,\" \")","v":0},{"$f":"IFERROR(GESTION!J108,\" \")","v":0},null,{"$f":"IFERROR(H108/G108,\"\")","v":""}]
[null,null,null,null,{"$f":"IFERROR(GESTION!H109,\" \")","v":0},{"$f":"IFERROR(GESTION!I109,\" \")","v":0},{"$f":"IFERROR(GESTION!J109,\" \")","v":0},null,{"$f":"IFERROR(H109/G109,\"\")","v":""}]
[null,null,null,null,{"$f":"IFERROR(GESTION!H110,\" \")","v":0},{"$f":"IFERROR(GESTION!I110,\" \")","v":0},{"$f":"IFERROR(GESTION!J110,\" \")","v":0},null,{"$f":"IFERROR(H110/G110,\"\")","v":""}]
[null,null,"4. Desarrollar en los servidores judiciales y demás grupos de valor relevantes las competencias necesarias para la efectividad de la transformación digital de modo que puedan, entre otros, utilizar con solvencia las herramientas digitales dispuestas para sus respectivas funciones. Además, fortalecer y actualizar los conocimientos del personal a cargo de la gestión de proyectos de tecnología.",null,{"$f":"IFERROR(GESTION!H111,\" \")","v":" Recepcionar de las necesidades de Formación en el Grupo Seccional de Apoyo"},{"$f":"IFERROR(GESTION!I111,\" \")","v":"Entregable"},{"$f":"IFERROR(GESTION!J111,\" \")","v":0},null,{"$f":"IFERROR(H111/G111,\"\")","v":""},null,"No se han manifestado necesidades de capacitación en el desarrollo de las sesiones del Grupo Seccional de Apoyo"]
[null,null,null,null,{"$f":"IFERROR(GESTION!H112,\" \")","v":"Recibir y divulgar las capacitaciones programadas por la Escuela Judicial Rodrigo Lara Bonilla"},{"$f":"IFERROR(GESTION!I112,\" \")","v":"Entregable"},{"$f":"IFERROR(GESTION!J112,\" \")","v":0},null,{"$f":"IFERROR(H112/G112,\"\")","v":""},null,"Conforme se recibe la oferta académica se divulga a través de circular."]
[null,null,null,null,{"$f":"IFERROR(GESTION!H113,\" \")","v":"Gestionar espacios para capacitaciones que se realicen en la seccional (usuario interno y externo) (Comité Seccional de Género / Comité Justicia Restaurativa / Mesa Interjurisdicional Indígena)"},{"$f":"IFERROR(GESTION!I113,\" \")","v":"Entregable"},{"$f":"IFERROR(GESTION!J113,\" \")","v":0},null,{"$f":"IFERROR(H113/G113,\"\")","v":""},null,"se ha participado en las actividades de Rendición de Cuentas y, por parte del despacho 01, se realizaron 2 procesos de dialgo, del 04 al 07/12/2023,  por parte de despacho 02, se coordino participación en el encuentro regional de Género realizado el pasado 15 y 16 de septiembre, el cual conto con la ponencia de las doctoras Indra Prado y Albertina Moreno."]
[null,null,null,null,{"$f":"IFERROR(GESTION!H114,\" \")","v":"Planear y ejecutar el plan de trabajo de SG-SST Seccional vigencia 2023 con apoyo de los aliados estrategicos"},{"$f":"IFERROR(GESTION!I114,\" \")","v":"Meta cuantificable"},{"$f":"IFERROR(GESTION!J114,\" \")","v":152},152,{"$f":"IFERROR(H114/G114,\"\")","v":1},"No poder contar con los asesores a tiempo y en las areas que se requieren para la realizacion de las actividades.","Se ha desarrollado las actividades dispuestas en el plan dispuesto para el Chocó y en los indicadores se  cumplimiento en un 100%"]
[null,null,null,null,{"$f":"IFERROR(GESTION!H115,\" \")","v":"Proyectar, programar y ejecutar actividades  en pro de la seguridad y salud en el trabajo de la población judicial de acuerdo al presupuesto asignado"},{"$f":"IFERROR(GESTION!I115,\" \")","v":"Meta cuantificable"},{"$f":"IFERROR(GESTION!J115,\" \")","v":201674200},201674200,{"$f":"IFERROR(H115/G115,\"\")","v":1},"Disponer de un mayor presupuesto pata las actividades.","Se contrato las actividades de bienestar y seguridad y salud en el trabajo por todo el presupuesto asignado y su cumplimiento va en un 100%"]
[null,null,"5. Promover el bienestar de todos los servidores judiciales a través de la implementación de un sistema que contemple los diferentes niveles de estrategias y acciones necesarios para mejorar el clima laboral, la salud física y mental y la calidad del tiempo de descanso.","5. Generar espacios de trabajo seguros y saludables que contribuyan a minimizar los  incidentes, accidentes y enfermedades laborales derivados de las condiciones y actos  inseguros y fomentar  el autocuidado, los  estilos de vida y el trabajo saludable en los servidores judiciales, contratistas, judicantes y practicantes",{"$f":"IFERROR(GESTION!H116,\" \")","v":"Ejecutar inspecciones técnicas de seguridad integral, matrices de identificación de peligros y planes de emergencias a las sedes judiciales"},{"$f":"IFERROR(GESTION!I116,\" \")","v":"Meta cuantificable"},{"$f":"IFERROR(GESTION!J116,\" \")","v":35},35,{"$f":"IFERROR(H116/G116,\"\")","v":1},"La dificultad  se ha presentado con el acceso a las sedes de los Munic","Se tiene cumplimiento del 100% de la meta propuesta para el mes de diciembre de 2023."]
[null,null,null,null,{"$f":"IFERROR(GESTION!H117,\" \")","v":"Implementar mecanismos para la retroalimentación de las  partes interesadas"},{"$f":"IFERROR(GESTION!I117,\" \")","v":"Entregable"},{"$f":"IFERROR(GESTION!J117,\" \")","v":0},null,{"$f":"IFERROR(H117/G117,\"\")","v":""},null,"Se elaboró codigo QR para calificación del servicio prestado"]
[null,null,null,null,{"$f":"IFERROR(GESTION!H118,\" \")","v":"Solicitar apoyo al CENDOJ para realización de capacitaciones en tablas de retención documental (TRD)"},{"$f":"IFERROR(GESTION!I118,\" \")","v":"Entregable"},{"$f":"IFERROR(GESTION!J118,\" \")","v":0},null,{"$f":"IFERROR(H118/G118,\"\")","v":""}]
[null,null,null,null,{"$f":"IFERROR(GESTION!H119,\" \")","v":"Hacer uso de la información y de las herramientas tecnológicas dispuestas para la prestación del servicios"},{"$f":"IFERROR(GESTION!I119,\" \")","v":"Entregable"},{"$f":"IFERROR(GESTION!J119,\" \")","v":0},null,{"$f":"IFERROR(H119/G119,\"\")","v":""},null,"en desarrollo de las visita, se verifico el uso de las herramientas por los despachos judiciales"]
[null,null,null,null,{"$f":"IFERROR(GESTION!H120,\" \")","v":"Participar en reuniones según programación por parte el SIGCMA para la presentación y aprobación de documentos del proceso de SG-SST"},{"$f":"IFERROR(GESTION!I120,\" \")","v":"Entregable"},{"$f":"IFERROR(GESTION!J120,\" \")","v":0},null,{"$f":"IFERROR(H120/G120,\"\")","v":""},null,"no se eleboraron documentos para aprobación de la Alta Dirección"]
["5. Gobernanza, planeación estratégica y capacidad de toma de decisiones","Gobernanza, planeación estratégica y capacidad de toma de decisiones: Fortalecer la gobernanza, la planeación estratégica y la capacidad de toma de decisiones de la Rama Judicial con base en la evidencia empírica y la articulación efectiva con las demás entidades, para que la perspectiva de género y el enfoque diferencial sean transversales en el presente plan. ","1. Implementar un nuevo modelo integrado para la planeación estratégica, el seguimiento y la medición del desempeño institucional.","2. Asegurar  el cumplimiento de los objetivos institucionales, la normatividad aplicable,  la mejora del SIGCMA y la satisfacción de los usuarios, revisando de  forma continua y sistemática la planificación de la gestión y fortaleciendo la administración de riesgos y sus controles.",{"$f":"IFERROR(GESTION!H121,\" \")","v":0},{"$f":"IFERROR(GESTION!I121,\" \")","v":0},{"$f":"IFERROR(GESTION!J121,\" \")","v":0},null,{"$f":"IFERROR(H121/G121,\"\")","v":""}]
[null,null,null,null,{"$f":"IFERROR(GESTION!H122,\" \")","v":"Elaborar el Informe de la Alta Dirección "},{"$f":"IFERROR(GESTION!I122,\" \")","v":"Entregable"},{"$f":"IFERROR(GESTION!J122,\" \")","v":0},null,{"$f":"IFERROR(H122/G122,\"\")","v":""},null,"Se elaboró el 27/05/2023"]
[null,null,null,null,{"$f":"IFERROR(GESTION!H123,\" \")","v":"Participar en las reuniones de Control Interno Seccional "},{"$f":"IFERROR(GESTION!I123,\" \")","v":"Entregable"},{"$f":"IFERROR(GESTION!J123,\" \")","v":0},null,{"$f":"IFERROR(H123/G123,\"\")","v":""},null,"Se realizó sesisón por parte de la Oficina de Control Interno de la DEJAC Antioquía el 10/11/2023. "]
[null,null,null,null,{"$f":"IFERROR(GESTION!H124,\" \")","v":0},{"$f":"IFERROR(GESTION!I124,\" \")","v":0},{"$f":"IFERROR(GESTION!J124,\" \")","v":0},null,{"$f":"IFERROR(H124/G124,\"\")","v":""}]
[null,null,null,null,{"$f":"IFERROR(GESTION!H125,\" \")","v":0},{"$f":"IFERROR(GESTION!I125,\" \")","v":0},{"$f":"IFERROR(GESTION!J125,\" \")","v":0},null,{"$f":"IFERROR(H125/G125,\"\")","v":""}]
[null,null,"2. Definir e implementar el modelo optimizado de formulación, seguimiento y evaluación de la política pública judicial.",null,{"$f":"IFERROR(GESTION!H126,\" \")","v":0},{"$f":"IFERROR(GESTION!I126,\" \")","v":0},{"$f":"IFERROR(GESTION!J126,\" \")","v":0},null,{"$f":"IFERROR(H126/G126,\"\")","v":""}]
[null,null,null,null,{"$f":"IFERROR(GESTION!H127,\" \")","v":0},{"$f":"IFERROR(GESTION!I127,\" \")","v":0},{"$f":"IFERROR(GESTION!J127,\" \")","v":0},null,{"$f":"IFERROR(H127/G127,\"\")","v":""}]
[null,null,null,null,{"$f":"IFERROR(GESTION!H128,\" \")","v":0},{"$f":"IFERROR(GESTION!I128,\" \")","v":0},{"$f":"IFERROR(GESTION!J128,\" \")","v":0},null,{"$f":"IFERROR(H128/G128,\"\")","v":""}]
[null,null,null,null,{"$f":"IFERROR(GESTION!H129,\" \")","v":0},{"$f":"IFERROR(GESTION!I129,\" \")","v":0},{"$f":"IFERROR(GESTION!J129,\" \")","v":0},null,{"$f":"IFERROR(H129/G129,\"\")","v":""}]
[null,null,null,null,{"$f":"IFERROR(GESTION!H130,\" \")","v":0},{"$f":"IFERROR(GESTION!I130,\" \")","v":0},{"$f":"IFERROR(GESTION!J130,\" \")","v":0},null,{"$f":"IFERROR(H130/G130,\"\")","v":""}]