{"text_format":"1","workbook":"xlsx","n_sheets":17,"sheets":["PLAN DE ACCION CONSOLIDACION","INFO_ANÁLISIS DE CONTEXTO","INFO_ESTRATEGIAS","PLAN DE ACCION","GESTION DSAJV","GESTION_SEG_3_TRIM DSAJV","GESTION_SEG_2_TRIM DSAJV","GESTION_SEG_1_TRIM DSAJV"," GESTION CSJMETA","GESTION_SEG_3_TRIM CSJMETA","GESTION_SEG_2_TRIM CSJMETA","GESTION_SEG_1_TRIM CSJMETA","INVERSION","INVERSION_SEG_1_TRIM","INVERSION_SEG_2_TRIM","INVERSION_SEG_3_TRIM","JURISDICCIONAL"],"not_rendered":{"charts":0,"images":5,"macros":1,"external_links":11,"defined_names":103,"comments":0,"pivot_tables":0},"unopened":[],"bounds":{"document_bytes":16777216,"sheet_cells":100000,"rows_first":2000,"rows_last":500,"rows_between":2000,"halvings":0,"cell_chars":16384,"cell_head_chars":4096},"cells_cut":0,"cells_raw":0,"read":"row_number_cap","date_system":"1900"}

{"sheet":"PLAN DE ACCION CONSOLIDACION","index":0,"n_rows":29,"n_cols":24,"rows_kept":29,"cut":false,"hidden":true,"merged":[[1,2,1,21],[2,0,3,0],[2,1,3,1],[2,2,3,2],[2,3,3,3],[2,4,3,4],[2,5,2,7],[2,8,2,10],[2,11,2,15],[2,16,2,18],[2,19,3,19],[2,20,2,21],[2,22,2,23],[4,0,8,0],[4,1,8,1],[4,3,8,3],[9,0,14,0],[9,1,14,1],[9,3,14,3],[27,0,28,0],[27,1,28,1],[27,3,28,3],[15,0,21,0],[15,1,21,1],[15,3,21,3],[22,0,26,0],[22,1,26,1],[22,3,26,3]]}
[]
[null,null,"CONSEJO SUPERIOR DE LA JUDICATURA \nUNIDADES MISIONALES DEL CONSEJO SUPERIOR DE LA JUDICATURA - \nDIRECCIÓN EJECUTIVA DE ADMINISTRACIÓN JUDICIAL -UNIDADES MISIONALES DE LA DEAJ\nDIRECCIONES SECCIONALES DE ADMINISTRACIÓN JUDICIAL "]
["No. ","OBJETIVOS ESTRATEGICOS PLAN SECTORIAL DE DESARROLLO 2023-2026","OBJETIVOS ESPECIFICOS PLAN SECTORIAL DE DESARROLLO 2023-2026","OBJETIVOS DEL SIGCMA","DESCRIPCIÓN DE LA ACTIVIDAD (INVERSIÓN O DE GESTIÓN) ","MAPA DE PROCESO DEL SIGCMA (RELACIONE  EL PROCESO ESTRATÉGICO, MISIONAL, APOYO y EVALUACIÓN - MEJORA)",null,null,"MEDICIÓN DE LA GESTIÓN ",null,null,"PROYECTOS DE INVERSIÓN DE ACUERDO CON LOS OBJETIVOS DEL PLAN SECTORIAL DE DESARROLLO",null,null,null,null,"MEDICIÓN (INVERSIÓN INDICADORES POAI- GESTIÓN INDICADORES",null,null,"RESPONSABLE POR PROYECTO O ACTIVIDAD","FECHA DEL PROYECTO/ACTIVIDAD",null,"ANÁLISIS DE RESULTADOS"]
[null,null,null,null,null,"NOMBRE DEL PROCESO","CENTRAL","SECCIONAL","ENTREGABLE","INDICADOR","DESCRIBIR EL INDICADOR","PROGRAMA DE INVERSIÓN","NOMBRE DEL PROYECTO DE INVERSIÓN ","CODIGO BPIN (PROYECTO)","CODIGO PRESUPUESTAL","ACTIVIDAD DE INVERSIÓN (POAI)","ENTREGABLE","INDICADOR","DESCRIBIR EL INDICADOR",null,"INICIO \nDÍA/MES/AÑO","FIN\nDÍA/MES/AÑO","CUMPLIMIENTO DEL OBJETIVO (ACUMULADO DE LOS 4 TRIMESTRES)"," ANÁLISIS RESULTADO\nFINAL - ACUMULADO"]
[1,"Acceso a Infraestructura Física"," 1. Ampliar el acceso a justicia para atender las necesidades jurídicas de los \nciudadanos con un enfoque diferencial, de una manera pronta, reduciendo las \ninequidades y las brechas territoriales de acceso.","\n2. Asegurar  el cumplimiento de los objetivos institucionales, la normatividad aplicable,  la mejora del SIGCMA y la satisfacción de los usuarios, revisando de  forma continua y sistemática la planificación de la gestión y fortaleciendo la administración de riesgos y sus controles. (1,2,3 y 5)\n\n4. Hacer un uso racional de los recursos naturales aplicando los principios y fases de la Economía Circular, para prevenir, mitigar y controlar los impactos ambientales. (4)\n\n"]
[null,null,"2. Mejorar los tiempos de respuesta de la Rama Judicial y reducir el inventario de \nprocesos, identificando los retos internos y promoviendo tanto acciones articuladas\nespecíficas para abordarlos como estrategias coordinadas para enfrentar las \nbarreras que dependen de otras entidades."]
[null,null,"3. Coadyuvar en la garantía de la idoneidad en el ejercicio de la profesión jurídica de acuerdo con lo establecido en la Ley 1905 de 2018"]
[null,null,"4. Avanzar en la disposición de una infraestructura óptima para el acceso a la justicia en la Rama Judicial de modo que se fortalezca la presencia territorial, teniendo en cuenta las posibilidades que ofrece la transformación digital y las necesidades que se derivan de ella, y considerando tanto las necesidades de los usuarios como las de los servidores judiciales."]
[null,null,"5. Impulsar el uso de mecanismos alternativos para la solución de conflictos y la \nampliación de la justicia restaurativa y terapéutica y el robustecimiento de las alternativas al encarcelamiento"]
[2,"Servicios digitales y de tecnología, innovación y análisis de la información","1. Ampliar el acceso a la justicia a través de la consolidación del uso de los servicios \ndigitales que conforman el sistema único integrado de gestión judicial en todos los \ndespachos judiciales y dependencias de apoyo y, específicamente, incluyendo el \ndespliegue e implementación del Expediente Judicial Electrónico en todas las \njurisdicciones y especialidades.","6. Proteger, preservar y administrar los activos de información  implementando acciones  para gestionar de forma adecuada los incidentes  , proteger los datos personales y adoptar mecanismos  de ciberseguridad y aseguramiento de la  continuidad del negocio (1, 2, 3, 4, 5 y 6)"]
[null,null,"2. Integrar y hacer compatibles todos los aplicativos de transición con SIUGJ, para que la migración de los expedientes judiciales a dicha plataforma sea real y no suponga afectaciones en la prestación del servicio de justicia."]
[null,null,"\n3. Fortalecer las capacidades institucionales, adecuar el modelo operativo y de \nservicio, bajo un enfoque de Arquitectura Empresarial y de fortalecimiento del \nacceso a la justicia."]
[null,null,"\n4.Consolidar la cultura y apropiación de la transformación digital en los servidores y \nusuarios de los servicios de la Rama Judicial y reducir brechas de acceso y conocimiento, incluyendo la oferta efectiva de información sobre el uso de las nuevas herramientas virtuales implementadas en las diferentes jurisdicciones, con especial énfasis en las zonas del país donde es evidente la brecha digital."]
[null,null,"\n5.Consolidar la infraestructura y los recursos necesarios para la implementación exitosa de la transformación digital, incluyendo la disposición de internet de calidad en el 100% de las sedes en la Rama Judicial y modernizar los servicios tecnológicos de soporte. "]
[null,null,"\n6.Integrar y optimizar los servicios administrativos de la Rama Judicial bajo un enfoque de transformación digital e innovación incluyendo los componentes financiero, administrativo, talento humano, entre otros"]
[3,"Confianza pública, transparencia y rendición de cuentas","1. Incrementar la cantidad, la calidad y pertinencia de los datos sobre el funcionamiento del servicio de justicia bajo un modelo de gobierno de datos y un liderazgo unificado. \n","1. Gestionar el desarrollo de las competencias, la toma de conciencia , la cultura  organizacional  y el compromiso de los  servidores judiciales, contratistas, practicantes y  judicantes de contribuir a generar valor público en la administración de justicia, en el marco de  cumplimiento de los requisitos  aplicables y el comportamiento ético. (3 y 7)\n\n3. Fomentar la transparencia y la participación generando lineamientos y promoviendo la rendición de cuentas ,la consulta, reporte y planteamiento de inquietudes en relación con las decisiones y aspectos del SIGCMA. (3, 4, 5 y 6)\n\n4. Hacer un uso racional de los recursos naturales aplicando los principios y fases de la Economía Circular, para prevenir, mitigar y controlar los impactos ambientales. (1 y 7)\n"]
[null,null,"2. Consolidar la administración de la información entendida como todas las acciones \norientadas a garantizar el acceso, consulta, uso y conservación de la información \nde justicia de manera ágil, flexible e inteligente, bajo un enfoque de innovación."]
[null,null,"3. Fortalecer el Sistema integrado de Gestión de la Rama, orientado a la implementación y certificación de las normas antisoborno."]
[null,null,"4. Aumentar la confianza, la cercanía y acceso a los servicios de la Rama Judicial a \ntravés, entre otros, de una comunicación clara y asertiva con la ciudadanía."]
[null,null,"5. Prevenir fenómenos asociados con actos de corrupción en la Rama Judicial y \nreducir las experiencias de corrupción de usuarios y servidores judiciales."]
[null,null,"6. Promover la rendición de cuentas y la colaboración real con la ciudadanía como \nfundamento para diseñar acciones de mejoramiento del acceso a la justicia."]
[null,null,"7. Continuar la consolidación del SIGCMA, a través de los procesos de formación en \nmodelos de gestión, logrando la implementación y ampliación de este en los esquemas certificados de manera gradual, teniendo en cuenta las capacidades de los diferentes despachos judiciales y dependencias de la Rama Judicial y articulando el enfoque de Arquitectura Empresarial para el desarrollo del PETD a través de la gestión del conocimiento para la gestión del cambio propendiendo por una cultura de la calidad, la transparencia, la rendición de cuentas, la anticorrupción y el antisoborno"]
[4,"Talento Humano","1. Ampliar la cobertura de la carrera judicial optimizando los procesos de los concursos de méritos y propender por mitigar su litigiosidad.","1. Gestionar el desarrollo de las competencias, la toma de conciencia , la cultura  organizacional  y el compromiso de los  servidores judiciales, contratistas, practicantes y  judicantes de contribuir a generar valor público en la administración de justicia, en el marco de  cumplimiento de los requisitos  aplicables y el comportamiento ético. (1, 2, 3 y 4)\n\n5. Generar espacios de trabajo seguros y saludables que contribuyan a minimizar los  incidentes, accidentes y enfermedades laborales derivados de las condiciones y actos  inseguros y fomentar  el autocuidado, los  estilos de vida y el trabajo saludable en los servidores judiciales, contratistas, judicantes y practicantes. (5)\n"]
[null,null,"2. Impactar la función y servicios que presta la Rama Judicial, a través de una\nformación integral desde una visión de gestión del conocimiento, relacionada con \nlos problemas de la justicia y los problemas de gestión de quienes administran los \nrecursos de la justicia, y potenciando el uso de medios virtuales."]
[null,null,"3. Promover la incorporación de la perspectiva de género y el enfoque diferencial en \nlos fallos judiciales y en la atención a los ciudadanos, la administración de la Rama \nJudicial, la administración de la carrera judicial y la elaboración de listas para altas \nCortes. "]
[null,null,"4. Desarrollar en los servidores judiciales y demás grupos de valor relevantes las \ncompetencias necesarias para la efectividad de la transformación digital de modo \nque puedan, entre otros, utilizar con solvencia las herramientas digitales dispuestas \npara sus respectivas funciones. Además, fortalecer y actualizar los conocimientos \ndel personal a cargo de la gestión de proyectos de tecnología."]
[null,null,"5. Promover el bienestar de todos los servidores judiciales a través de la implementación de un sistema que contemple los diferentes niveles de estrategias y acciones necesarios para mejorar el clima laboral, la salud física y mental y la calidad del tiempo de descanso."]
[5,"Gobernanza, planeación estratégica y capacidad de toma de decisiones","1. Implementar un nuevo modelo integrado para la planeación estratégica, el \nseguimiento y la medición del desempeño institucional.","\n2. Asegurar  el cumplimiento de los objetivos institucionales, la normatividad aplicable,  la mejora del SIGCMA y la satisfacción de los usuarios, revisando de  forma continua y sistemática la planificación de la gestión y fortaleciendo la administración de riesgos y sus controles. (1 y 2)"]
[null,null,"2. Definir e implementar el modelo optimizado de formulación, seguimiento y \nevaluación de la política pública judicial."]

{"sheet":"INFO_ANÁLISIS DE CONTEXTO","index":1,"n_rows":81,"n_cols":10,"rows_kept":81,"cut":false,"hidden":false,"merged":[[0,1,0,3],[1,1,1,2],[3,1,3,4],[5,0,6,0],[5,1,5,2],[5,3,5,4],[6,1,6,2],[6,3,6,4],[51,0,60,0],[8,0,8,4],[10,0,11,0],[12,0,14,0],[15,0,21,0],[22,0,25,0],[27,0,28,0],[29,0,29,4],[31,0,37,0],[38,0,41,0],[42,0,47,0],[48,0,50,0],[61,0,63,0],[64,0,65,0],[66,0,67,0],[68,0,75,0],[76,0,80,0]]}
[null,"ANÁLISIS DE CONTEXTO"]
["CONSEJO SECCIONAL/DIRECCIÓN SECCIONAL DE ADMINISTRACIÓN JUDICIAL Y/O DISTRITO JUDICIAL SEGÚN SEA EL CASO","CONSEJO SECCIONAL DE LA JUDICATURA DEL META\nDIRECCION SECCIONAL DE ADMINISTRACION JUDICIAL DE VILLAVICENCIO",null,"PROCESO ","TODOS LOS PROCESOS"]
[]
["DEPENDENCIA ADMINISTRATIVA O JUDICIAL CERTIFICADA ","N/A"]
[]
["OBJETIVO DEL PROCESO","PROCESOS CONSEJO SECCIONAL DE LA JUDICATURA DEL META",null,"PROCESOS DIRECCION SECCIONAL DE ADMINISTRACION JUDICIAL DE VILLAVICENCIO"]
[null,"Comunicación Institucional \nPlaneación Estrategica \nGestión de la Formación Judicial\nAdministración de Carrera Judicial\nRegistro y Control de Abogados y Auxiliares de la Justicia\nReordenamiento Judicial\nGestión de la Información estadística\nMejoramiento del SIGCMA\n(VER CARACTERIZACIONES)",null,"Gestión Humana\nGestión Tecnológica\nCompras Públicas\nMejoramiento Infraestructura Física\nGestion de Seguridad y Salud en el Trabajo\nGestión Financiera y Presupuestal\nGestión Documental\nGestión Administrativa\nAsistencia Legal\nAdministración de la Seguridad\n(VER CARACTERIZACIONES)"]
[]
["CONTEXTO EXTERNO "]
["FACTORES TEMÁTICOS","No.","AMENAZAS (Factores específicos) ","No. ","OPORTUNIDADES (Factores específicos) "]
["Político (cambios de gobierno, legislación, políticas públicas, regulación)",1,"Cambios de gerentes públicos",1,"Ley 2213 de 2022, por medio de la cual se establece la vigencia permanente del Decreto Legislativo 806 de 2020 y se adoptan medidas para implementar las tecnologías de la información y las comunicaciones en las actuaciones judiciales, agilizar los procesos judiciales y flexibilizar la atención a los usuarios del servicio de justicia y se dictan otras disposiciones"]
[null,2,"Cambio de Normatividad y Regulaciones Expedidas por el Gobierno Nacional o el Congreso de la Republica que afecten la administración de Justicia."]
["Económicos y Financieros (disponibilidad de capital, liquidez, mercados financieros, desempleo, competencia)",3,"Presupuesto insuficiente asignado para  la vigencia 2023 de la Rama Judicial",2,"Incremento del PIB que potencialice el crecimiento económico del país y viabilice la asignación suficiente de recursos para la Rama Judicial "]
[null,4,"No contar con el PAC oportunamente para la ejecución de proyectos de inversión"]
[null,5,"Numero deficiente de proveedores inscritos en la plataforma de Colombia Compra Eficiente, para suplir las necesidades de adquisición de bienes y servicios "]
["Sociales  y culturales (cultura, religión, demografía, responsabilidad social, orden público)",6,"Interrupción del servicio público de Administrar Justicia a causa del conflicto armado de la región.",3,"Incremento de la credibilidad y confianza en la administración de justicia al implementar y certificar sus Sistemas de Gestión. \n\n"]
[null,7,"Interrupción del servicio público de Administrar Justicia a causa del pandemias y sus variantes.",4,"Visibilizacion de la Administración de Justicia  entre los actores no formales de la justicia (Grupos y minorías Indígenas, género)"]
[null,8,"Interrupción del servicio público de Administrar Justicia por razones de orden público"]
[null,9,"Limitaciones en  la movilidad asociados a factores del orden público "]
[null,10,"Aumento de la demanda de Justicia a causa de la problemática social"]
[null,11,"Amenazas a servidores judiciales en razón al ejercicio de sus funciones."]
[null,12,"Afectaciones a la infraestructura física de las sedes Judiciales "]
["Tecnológicos (desarrollo digital, avances en tecnología, acceso a sistemas de información externos, gobierno en línea)",13,"Perdida o hackeo de información derivada de ataques cibernéticos",5,"Marco regulatorio del  MINTICS, para la gobernanza, gobernabilidad y transformación digital"]
[null,14,"Indisponibilidad y/o colapso de la infraestructura tecnológica ",6,"Desarrollo de alianzas estratégicas para el fortalecimiento del servicio público de administración de justicia, a través de las TICs"]
[null,15,"Afectación de la prestación del servicio de conectividad ",7,"Generar espacios donde se realicen acuerdo interinstitucionales para poder consultar información que beneficie la administración de justicia"]
[null,16,"Ausencia de portal único de información del Estado (Ramas del poder, órganos autónomos y demás entes especiales), que garantice la consulta de información en línea de toda la información oficial. Gobierno en Línea)"]
["Legales y reglamentarios (estándares nacionales, internacionales, regulación)",17,"Normas expedidas que afecten el desarrollo de las etapas propias de los procesos",8,"Actualización del marco normativo"]
["Ambientales (emisiones y residuos, energía, catástrofes naturales, desarrollo sostenible)",18,"Fenómenos naturales (Inundación, quema de bosques, sismo, vendavales, epidemias y plagas)"]
[null,19,"Aumento de los impactos ambientales negativos por pandemias"]
["CONTEXTO INTERNO "]
["FACTORES TEMÁTICOS","No.","DEBILIDADES  (Factores específicos)  ","No. ","FORTALEZAS(Factores específicos)"]
["Estratégicos (direccionamiento estratégico, planeación institucional, liderazgo, trabajo en equipo)",1,"No realización oportuna del plan de acción, matriz de riesgos y demás documentos del SIGCMA, con su seguimiento correspondiente en los periodos establecidos,  conforme a los lineamientos emitidos desde el despacho de la Magistrada Líder del SIGCMA y la Coordinación Nacional del SIGCMA",1,"Contar con el Plan Sectorial de Desarrollo de la Rama Judicial"]
[null,2,"Falta de socialización de estrategias con las dependencias para fomentar el trabajo colaborativo para la implementación del Plan Estratégico de Transformación Digital (PETD) de la Rama Judicial ",2,"Socialización de buenas prácticas de la gestión judicial en el contexto internacional a través de la CICAJ o eventos de Cumbre"]
[null,null,null,3,"Mantenimiento y ampliación de SIGCMA en los esquemas que se encuentra certificados la Rama Judicial"]
[null,null,null,4,"Definición de roles y responsabilidades de los  líderes de proceso para el funcionamiento del SIGCMA"]
[null,null,null,5,"Contar con la Norma Técnica de Calidad Actualizada NTC 6256 y GTC 286 2021"]
[null,null,null,6,"El compromiso de la Alta Dirección y de los líderes de proceso para ampliar, mantener y mejorar el SIGCMA"]
[null,null,null,7,"Encuentro nacional e internacional del SIGCMA"]
["Recursos financieros (presupuesto de funcionamiento, recursos de inversión",3,"Recursos insuficientes para atender el Plan de necesidades formulado",8,"Presupuesto asignado para el desarrollo de proyecto de inversión del SIGCMA"]
[null,null,null,9,"Conocimiento de la reglamentación que establece el procedimiento para el manejo de los recursos presupuestales, financieros y de contratación estatal"]
[null,null,null,10,"Estandarización de procesos y procedimientos para el desarrollo del proceso contractual"]
[null,null,null,11,"Manual de contratación actualizado"]
["Personal (competencia del personal, disponibilidad, suficiencia, seguridad y salud  en el trabajo)",4,"No contar con el recurso humano suficiente y necesario para responder a la demanda de Justicia",12,"Personal integrado por servidores judiciales de alto nivel profesional y capacitado para llevar a cabo las funciones asignadas"]
[null,5,"Servidores Judiciales con comorbilidades y/o enfermedades laborales"]
[null,6,"Extensión en los horarios laborales de trabajo en casa y presencial, que afecta el bienestar físico, mental y emocional en los servidores judiciales y su entorno familiar",13,"Desarrollo y fortalecimiento de competencias de los servidores judiciales en modelos de gestión"]
[null,7,"Carencia  de manual  de funciones y procedimientos  para los servidores Judiciales ",14,"Mejor prestación del servicio de administración de justicia debido a la implementación de buenas practicas en bioseguridad definidos por la Rama Judicial"]
[null,8,"Debilidad en los procesos de inducción y reinducción de los servidores judiciales",15,"Fortalecimiento de los concursos de méritos para ingreso de la Rama Judicial"]
[null,9,"Debilidad en el desarrollo de competencias propias para el desarrollo de las actividades asignadas",16,"El desarrollo de competencia a través de procesos de sensibilización, capacitación y formación en modelo de gestión para el desarrollo de competencias de los servidores judiciales."]
["Proceso (capacidad, diseño, ejecución, proveedores, entradas, salidas, gestión del conocimiento)",10,"Resistencia por parte de algunos servidores judiciales a implementar la gestión de conocimiento para la gestión del cambio en lo relativo al SIGCMA, a modelos de gestión, implementación de PETD, ambiental, seguridad y salud en el trabajo, seguridad informática, normas antisoborno, normas de bioseguridad etc.  ",17,"Actualización de la plataforma estratégica para responder a los cambios normativos y legales"]
[null,11,"Falta de tiempo para acceder a la formación  de alto interés, tales como: Sensibilizaciones, cursos, talleres,  capacitaciones, diplomados, entre otros",18,"Aplicabilidad de la Gestión del conocimiento generada por las experiencias de los servidores judiciales documentada en instructivos y guías\n"]
[null,12,"Debilidad en la retroalimentación de la evaluación  realizada a los proveedores y contratistas del producto o servicio entregado",19,"Fortalecimiento en los procesos de contratación por el uso adecuado del SECOP II"]
["Tecnológicos ",13,"Debilidad de la plataforma tecnológica a nivel nacional de  software y hardware en las sedes administrativas y judiciales",20,"Accesibilidad a nuevas herramientas virtuales, que facilitan el acceso a la información, la optimización del tiempo y contribuyen a la disminución de los consumos de papel"]
[null,14,"Falta de apropiación y aplicación del conocimiento de los avances tecnológicos",21,"Capacitación para el uso de herramientas tecnológicas  "]
[null,15,"Carencia de formación en tecnologías de la información y la comunicación aplicadas al desarrollo de la gestión Judicial estableciendo las diferencias entre:\nTransformación digital, digitalización, expediente digital y estrategias para la digitalización"]
[null,16,"Fallas de conectividad para la realización de las actividades propias del proceso."]
[null,17,"Falta de cobertura tecnológica en las sedes judiciales "]
[null,18,"Carencia de modelos gobernanza de Tecnologías de la Información (TI) en la entidad"]
[null,19,"Carencia del software de gestión para el manejo integral de la información."]
[null,20,"Falta de  comunicación asertiva entre los diferentes actores para la articulación de proyectos tecnológicos"]
[null,21,"Debilidad en la generación de estrategias articuladas para la digitalización entre los proveedores y las dependencias Judiciales y Administrativas"]
[null,22,"Deficiencia en el  mantenimiento de la pagina web de la Rama Judicial"]
["Documentación (actualización, coherencia, aplicabilidad) ",23,"Los documentos actuales no están alineados al PETD 2021-2025",22,"La estandarización de la plataforma estratégica del SIGCMA y documentos impartidos  desde la Coordinación Nacional del SIGCMA para la mejor prestación del servicio"]
[null,24,"Falta de comunicación y socialización de tablas de retención documental",23,"Micrositio de fácil acceso a los documentos propios del Sistema Integrado de Gestión y Control de la Calidad y el Medio Ambiente."]
[null,25,"Debilidad en  la estandarización de tablas de retención documental"]
["Infraestructura física (suficiencia, comodidad)",26,"Sedes Judiciales arrendadas, en comodato y propias que no cuentan con las condiciones mínimas de seguridad para los servidores judiciales, contratistas y usuarios de la justicia según la normatividad vigente",24,"Cumplimiento del plan de infraestructura de la Rama Judicial"]
[]
["Elementos de trabajo (papel, equipos, herramientas)",27,"Falta de modernización y mantenimiento del mobiliario con que cuenta la Rama Judicial",25,"Uso adecuado de los elementos de trabajo"]
[null,null,null,26,"Actualización permanente de la plataforma tecnológica de la Rama Judicial para el cumplimiento del PETD"]
["Comunicación Interna (canales utilizados y su efectividad, flujo de la información necesaria para el desarrollo de las actividades)",28,"Uso deficiente de las herramientas de comunicación establecidas en el plan de comunicaciones",27,"Elaboración y seguimiento del Plan de Comunicaciones"]
[null,29,"Desaprovechamiento de canales de comunicaciones, para generar mayor información a las partes interesadas",28,"Implementación de estrategias y mecanismos para el fortalecimiento de la atención al usuario"]
[null,null,null,29,"Fortalecimiento de la pagina web institucional y mecanismos de comunicación"]
[null,null,null,30,"Uso adecuado del micrositio asignado al Consejo Seccional de la Judicatura"]
[null,null,null,31,"Uso adecuado de los correos electrónicos"]
[null,null,null,32,"Uso adecuado del aplicativo SIGOBIUS"]
[null,null,null,33,"Fortalecimiento para el tratamiento de PQRS"]
[null,null,null,34,"Uso adecuado de la imagen corporativa y los logos en los cuales se encuentra certificada la Rama Judicial"]
["Ambientales",30,"Desconocimiento del Plan de Gestión Ambiental que aplica para la Rama Judicial Acuerdo PSAA14-10160",35,"Disminución en el uso de papel, toners y demás elementos de oficina al implementar el uso de medios tecnológicos"]
[null,31,"Ausencia de indicadores ambientales establecidos en los programas de gestión del Acuerdo PSAA14-10160",36,"Participación virtual es los espacios  de sensibilización ambiental, como el Día SIGCMA"]
[null,32,"Baja implementación en sistemas ahorradores de agua  y energía en sedes judiciales y administrativas",37,"Mantener la certificación operaciones inseguras: Sellos de bioseguridad huella de confianza"]
[null,33,"Falta en la separación adecuada de residuos en la fuente ",38,"Formación de Auditores en la Norma NTC ISO 14001:2015 y en la Norma Técnica de la Rama Judicial NTC 6256 :2018",null,null,null,null," "]
[null,34,"Desconocimiento por parte de los brigadistas, servidores judiciales y contratistas de las acciones necesarias para actuar ante una emergencia ambiental",39,"Implementación de buenas practicas tendientes a la protección del medio ambiente"]

{"sheet":"INFO_ESTRATEGIAS","index":2,"n_rows":16,"n_cols":6,"rows_kept":16,"cut":false,"hidden":false,"merged":[[0,1,0,4],[1,0,1,5],[2,0,3,0],[2,1,2,4]]}
[null,"ESTRATEGIAS"]
["ESTRATEGIAS  DOFA"]
["ESTRATEGIA/ACCIÓN/ PROYECTO","GESTIONA ",null,null,null,"DOCUMENTADA EN "]
[null,"A","O","D","F"]
["Fortalecer la Jurisdicción Especial Indígena de la región, en colaboración armónica para el cumplimiento de los compromisos establecidos en el Plan Decenal de Justicia 2017-2027",null,null,12.29,"12,13,29","Plan de acción "]
["Fortalecer el Comité de Coordinación, Apoyo, Mejoramiento Tecnológico y Transparencia del Distrito Judicial de Villavicencio y judicial Administrativo del Meta",null,null,"13,15,20",null,"Plan de acción "]
["Implementar y mantener el Sistema de Gestión Procesal y de Reparto TYBA en el Centro de Servicios Judiciales del SPA de Villavicencio y los Juzgados Penales de Villavicencio",null,null,"13,15,18",null,"Plan de acción "]
["Fortalecer la articulación con las dependencias y autoridades que conforman y apoyan la Jurisdicción Especial de Paz, en cumplimiento de lo establecido en el Acuerdo PCSJA19-11426 y las demás acuerdos que regulan la materia",null,null,12.29,"12,13,29","Plan de acción "]
["Asistir y participar activamente en los procesos de sensibilización, capacitación y formación en los procesos SIGCMA ",null,null,11,"6,16, 36","Plan de acción "]
["Realizar seguimiento al plan de acción y realizar el reporte oportuno",null,null,1,"6, 12, 23","Plan de acción "]
["Implementar mecanismos para la retroalimentación de las  partes interesadas",16,3.4,"1, 12, 34","27,28,29,34","Plan de acción "]
["Mantener, actualizar y documentar  el Sistema Integrado de Gestión SIGCMA, en el contexto especifico","13,14,15",7,"1,10,13,16,17,19","4,6,7,8,5,10,17,1820,22,23,37","Plan de acción "]
["Solicitar apoyo al CENDOJ para realización de capacitaciones en tablas de retención documental (TRD)",null,null,"24,25,29",28,"Plan de acción "]
["Hacer uso de la información y de las herramientas tecnológicas dispuestas para la prestación del servicios",null,null,"13,14,15,16,28",20.21,"Plan de acción "]
["Motivar a los servidores judiciales en la Implementación del plan de gestión ambiental en cada sede administrativa o judicial",null,null,"30,31,32,33,34","35,36,38,39","Plan de acción "]
["Realizar identificación y cumplimiento de los requisitos legales y reglamentarios",2.17,8,1,"3,9,17","Matriz de riesgos"]

{"sheet":"PLAN DE ACCION","index":3,"n_rows":1047890,"n_cols":11,"rows_kept":4500,"cut":true,"hidden":false,"merged":[[2,1,3,1],[4,1,5,1],[2,0,3,0],[4,0,5,0],[2,2,3,2],[4,2,5,2]],"bounds":{"rows_first":2000,"rows_last":500,"rows_between":2000,"halvings":0},"read":"row_number_cap"}
[]
[]
[]
[]
[]
[]
[]
[]
[]
[]
[]
[]
[]
[]
[]
[]
[]
[]
[]
[]
[]
[]
[]
[]
[]
[]
[]
[]
[]
[]
[]
[]
[]
[]
[]
[]
[]
[]
[]
[]
[]
[]
[]
[]
[]
[]
[]
[]
[]
[]
[]
[]
[]
[]
[]
[]
[]
[]
[]
[]
[]
[]
[]
[]
[]
[]
[]
[]
[]
[]
[]
[]
[]
[]
[]
[]
[]
[]
[]
[]
[]
[]
[]
[]
[]
[]
[]
[]
[]
[]
[]
[]
[]
[]
[]
[]
[]
[]
[]
[]
[]
[]
[]
[]
[]
[]
[]
[]
[]
[]
[]
[]
[]
[]
[]
[]
[]
[]
[]
[]
[]
[]
[]
[]
[]
[]
[]
[]
[]
[]
[]
[]
[]
[]
[]
[]
[]
[]
[]
[]
[]
[]
[]
[]
[]
[]
[]
[]
[]
[]
[]
[]
[]
[]
[]
[]
[]
[]
[]
[]
[]
[]
[]
[]
[]
[]
[]
[]
[]
[]
[]
[]
[]
[]
[]
[]
[]
[]
[]
[]
[]
[]
[]
[]
[]
[]
[]
[]
[]
[]
[]
[]
[]
[]
[]
[]
[]
[]
[]
[]
[]
[]
[]
[]
[]
[]
[]
[]
[]
[]
[]
[]
[]
[]
[]
[]
[]
[]
[]
[]
[]
[]
[]
[]
[]
[]
[]
[]
[]
[]
[]
[]
[]
[]
[]
[]
[]
[]
[]
[]
[]
[]
[]
[]
[]
[]
[]
[]
[]
[]
[]
[]
[]
[]
[]
[]
[]
[]
[]
[]
[]
[]
[]
[]
[]
[]
[]
[]
[]
[]
[]
[]
[]
[]
[]
[]
[]
[]
[]
[]
[]
[]
[]
[]
[]
[]
[]
[]
[]
[]
[]
[]
[]
[]
[]
[]
[]
[]
[]
[]
[]
[]
[]
[]
[]
[]
[]
[]
[]
[]
[]
[]
[]
[]
[]
[]
[]
[]
[]
[]
[]
[]
[]
[]
[]
[]
[]
[]
[]
[]
[]
[]
[]
[]
[]
[]
[]
[]
[]
[]
[]
[]
[]
[]
[]
[]
[]
[]
[]
[]
[]
[]
[]
[]
[]
[]
[]
[]
[]
[]
[]
[]
[]
[]
[]
[]
[]
[]
[]
[]
[]
[]
[]
[]
[]
[]
[]
[]
[]
[]
[]
[]
[]
[]
[]
[]
[]
[]
[]
[]
[]
[]
[]
[]
[]
[]
[]
[]
[]
[]
[]
[]
[]
[]
[]
[]
[]
[]
[]
[]
[]
[]
[]
[]
[]
[]
[]
[]
[]
[]
[]
[]
[]
[]
[]
[]
[]
[]
[]
[]
[]
[]
[]
[]
[]
[]
[]
[]
[]
[]
[]
[]
[]
[]
[]
[]
[]
[]
[]
[]
[]
[]
[]
[]
[]
[]
[]
[]
[]
[]
[]
[]
[]
[]
[]
[]
[]
[]
[]
[]
[]
[]
[]
[]
[]
[]
[]
[]
[]
[]
[]
[]
[]
[]
[]
[]
[]
[]
[]
[]
[]
[]
[]
[]
[]
[]
[]
[]
[]
[]
[]
[]
[]
[]
[]
[]
[]
[]
[]
[]
[]
[]
[]
[]
[]
[]
[]
[]
[]
[]
[]
[]
[]
[]
[]
[]
[]
[]
[]
[]
[]
[]
[]
[]
[]
[]
[]
[]
[]
[]
[]
[]
[]
[]
[]
[]
[]
[]
[]
[]
[]
[]
[]
[]
[]
[]
[]
[]
[]
[]
[]
[]
[]
[]
[]
[]
[]
[]
[]
[]
[]
[]
[]
[]
[]
[]
[]
[]
[]
[]
[]
[]
[]
[]
[]
[]
[]
[]
[]
[]
[]
[]
[]
[]
[]
[]
[]
[]
[]
[]
[]
[]
[]
[]
[]
[]
[]
[]
[]
[]
[]
[]
[]
[]
[]
[]
[]
[]
[]
[]
[]
[]
[]
[]
[]
[]
[]
[]
[]
[]
[]
[]
[]
[]
[]
[]
[]
[]
[]
[]
[]
[]
[]
[]
[]
[]
[]
[]
[]
[]
[]
[]
[]
[]
[]
[]
[]
[]
[]
[]
[]
[]
[]
[]
[]
[]
[]
[]
[]
[]
[]
[]
[]
[]
[]
[]
[]
[]
[]
[]
[]
[]
[]
[]
[]
[]
[]
[]
[]
[]
[]
[]
[]
[]
[]
[]
[]
[]
[]
[]
[]
[]
[]
[]
[]
[]
[]
[]
[]
[]
[]
[]
[]
[]
[]
[]
[]
[]
[]
[]
[]
[]
[]
[]
[]
[]
[]
[]
[]
[]
[]
[]
[]
[]
[]
[]
[]
[]
[]
[]
[]
[]
[]
[]
[]
[]
[]
[]
[]
[]
[]
[]
[]
[]
[]
[]
[]
[]
[]
[]
[]
[]
[]
[]
[]
[]
[]
[]
[]
[]
[]
[]
[]
[]
[]
[]
[]
[]
[]
[]
[]
[]
[]
[]
[]
[]
[]
[]
[]
[]
[]
[]
[]
[]
[]
[]
[]
[]
[]
[]
[]
[]
[]
[]
[]
[]
[]
[]
[]
[]
[]
[]
[]
[]
[]
[]
[]
[]
[]
[]
[]
[]
[]
[]
[]
[]
[]
[]
[]
[]
[]
[]
[]
[]
[]
[]
[]
[]
[]
[]
[]
[]
[]
[]
[]
[]
[]
[]
[]
[]
[]
[]
[]
[]
[]
[]
[]
[]
[]
[]
[]
[]
[]
[]
[]
[]
[]
[]
[]
[]
[]
[]
[]
[]
[]
[]
[]
[]
[]
[]
[]
[]
[]
[]
[]
[]
[]
[]
[]
[]
[]
[]
[]
[]
[]
[]
[]
[]
[]
[]
[]
[]
[]
[]
[]
[]
[]
[]
[]
[]
[]
[]
[]
[]
[]
[]
[]
[]
[]
[]
[]
[]
[]
[]
[]
[]
[]
[]
[]
[]
[]
[]
[]
[]
[]
[]
[]
[]
[]
[]
[]
[]
[]
[]
[]
[]
[]
[]
[]
[]
[]
[]
[]
[]
[]
[]
[]
[]
[]
[]
[]
[]
[]
[]
[]
[]
[]
[]
[]
[]
[]
[]
[]
[]
[]
[]
[]
[]
[]
[]
[]
[]
[]
[]
[]
[]
[]
[]
[]
[]
[]
[]
[]
[]
[]
[]
[]
[]
[]
[]
[]
[]
[]
[]
[]
[]
[]
[]
[]
[]
[]
[]
[]
[]
[]
[]
[]
[]
[]
[]
[]
[]
[]
[]
[]
[]
[]
[]
[]
[]
[]
[]
[]
[]
[]
[]
[]
[]
[]
[]
[]
[]
[]
[]
[]
[]
[]
[]
[]
[]
[]
[]
[]
[]
[]
[]
[]
[]
[]
[]
[]
[]
[]
[]
[]
[]
[]
[]
[]
[]
[]
[]
[]
[]
[]
[]
[]
[]
[]
[]
[]
[]
[]
[]
[]
[]
[]
[]
[]
[]
[]
[]
[]
[]
[]
[]
[]
[]
[]
[]
[]
[]
[]
[]
[]
[]
[]
[]
[]
[]
[]
[]
[]
[]
[]
[]
[]
[]
[]
[]
[]
[]
[]
[]
[]
[]
[]
[]
[]
[]
[]
[]
[]
[]
[]
[]
[]
[]
[]
[]
[]
[]
[]
[]
[]
[]
[]
[]
[]
[]
[]
[]
[]
[]
[]
[]
[]
[]
[]
[]
[]
[]
[]
[]
[]
[]
[]
[]
[]
[]
[]
[]
[]
[]
[]
[]
[]
[]
[]
[]
[]
[]
[]
[]
[]
[]
[]
[]
[]
[]
[]
[]
[]
[]
[]
[]
[]
[]
[]
[]
[]
[]
[]
[]
[]
[]
[]
[]
[]
[]
[]
[]
[]
[]
[]
[]
[]
[]
[]
[]
[]
[]
[]
[]
[]
[]
[]
[]
[]
[]
[]
[]
[]
[]
[]
[]
[]
[]
[]
[]
[]
[]
[]
[]
[]
[]
[]
[]
[]
[]
[]
[]
[]
[]
[]
[]
[]
[]
[]
[]
[]
[]
[]
[]
[]
[]
[]
[]
[]
[]
[]
[]
[]
[]
[]
[]
[]
[]
[]
[]
[]
[]
[]
[]
[]
[]
[]
[]
[]
[]
[]
[]
[]
[]
[]
[]
[]
[]
[]
[]
[]
[]
[]
[]
[]
[]
[]
[]
[]
[]
[]
[]
[]
[]
[]
[]
[]
[]
[]
[]
[]
[]
[]
[]
[]
[]
[]
[]
[]
[]
[]
[]
[]
[]
[]
[]
[]
[]
[]
[]
[]
[]
[]
[]
[]
[]
[]
[]
[]
[]
[]
[]
[]
[]
[]
[]
[]
[]
[]
[]
[]
[]
[]
[]
[]
[]
[]
[]
[]
[]
[]
[]
[]
[]
[]
[]
[]
[]
[]
[]
[]
[]
[]
[]
[]
[]
[]
[]
[]
[]
[]
[]
[]
[]
[]
[]
[]
[]
[]
[]
[]
[]
[]
[]
[]
[]
[]
[]
[]
[]
[]
[]
[]
[]
[]
[]
[]
[]
[]
[]
[]
[]
[]
[]
[]
[]
[]
[]
[]
[]
[]
[]
[]
[]
[]
[]
[]
[]
[]
[]
[]
[]
[]
[]
[]
[]
[]
[]
[]
[]
[]
[]
[]
[]
[]
[]
[]
[]
[]
[]
[]
[]
[]
[]
[]
[]
[]
[]
[]
[]
[]
[]
[]
[]
[]
[]
[]
[]
[]
[]
[]
[]
[]
[]
[]
[]
[]
[]
[]
[]
[]
[]
[]
[]
[]
[]
[]
[]
[]
[]
[]
[]
[]
[]
[]
[]
[]
[]
[]
[]
[]
[]
[]
[]
[]
[]
[]
[]
[]
[]
[]
[]
[]
[]
[]
[]
[]
[]
[]
[]
[]
[]
[]
[]
[]
[]
[]
[]
[]
[]
[]
[]
[]
[]
[]
[]
[]
[]
[]
[]
[]
[]
[]
[]
[]
[]
[]
[]
[]
[]
[]
[]
[]
[]
[]
[]
[]
[]
[]
[]
[]
[]
[]
[]
[]
[]
[]
[]
[]
[]
[]
[]
[]
[]
[]
[]
[]
[]
[]
[]
[]
[]
[]
[]
[]
[]
[]
[]
[]
[]
[]
[]
[]
[]
[]
[]
[]
[]
[]
[]
[]
[]
[]
[]
[]
[]
[]
[]
[]
[]
[]
[]
[]
[]
[]
[]
[]
[]
[]
[]
[]
[]
[]
[]
[]
[]
[]
[]
[]
[]
[]
[]
[]
[]
[]
[]
[]
[]
[]
[]
[]
[]
[]
[]
[]
[]
[]
[]
[]
[]
[]
[]
[]
[]
[]
[]
[]
[]
[]
[]
[]
[]
[]
[]
[]
[]
[]
[]
[]
[]
[]
[]
[]
[]
[]
[]
[]
[]
[]
[]
[]
[]
[]
[]
[]
[]
[]
[]
[]
[]
[]
[]
[]
[]
[]
[]
[]
[]
[]
[]
[]
[]
[]
[]
[]
[]
[]
[]
[]
[]
[]
[]
[]
[]
[]
[]
[]
[]
[]
[]
[]
[]
[]
[]
[]
[]
[]
[]
[]
[]
[]
[]
[]
[]
[]
[]
[]
[]
[]
[]
[]
[]
[]
[]
[]
[]
[]
[]
[]
[]
[]
[]
[]
[]
[]
[]
[]
[]
[]
[]
[]
[]
[]
[]
[]
[]
[]
[]
[]
[]
[]
[]
[]
[]
[]
[]
[]
[]
[]
[]
[]
[]
[]
[]
[]
[]
[]
[]
[]
[]
[]
[]
[]
[]
[]
[]
[]
[]
[]
[]
[]
[]
[]
[]
[]
[]
[]
[]
[]
[]
[]
[]
[]
[]
[]
[]
[]
[]
[]
[]
[]
[]
[]
[]
[]
[]
[]
[]
[]
[]
[]
[]
[]
[]
[]
[]
[]
[]
[]
[]
[]
[]
[]
[]
[]
[]
[]
[]
[]
[]
[]
[]
[]
[]
[]
[]
[]
[]
[]
[]
[]
[]
[]
[]
[]
[]
[]
[]
[]
[]
[]
[]
[]
[]
[]
[]
[]
[]
[]
[]
[]
[]
[]
[]
[]
[]
[]
[]
[]
[]
[]
[]
[]
[]
[]
[]
[]
[]
[]
[]
[]
[]
[]
[]
[]
[]
[]
[]
[]
[]
[]
[]
[]
[]
[]
[]
[]
[]
[]
[]
[]
[]
[]
[]
[]
[]
[]
[]
[]
[]
[]
[]
[]
[]
[]
[]
[]
[]
[]
[]
[]
[]
[]
[]
[]
[]
[]
[]
[]
[]
[]
[]
[]
[]
[]
[]
[]
[]
[]
[]
[]
[]
[]
[]
[]
[]
[]
[]
[]
[]
[]
[]
[]
[]
[]
[]
[]
[]
[]
[]
[]
[]
[]
[]
[]
[]
[]
[]
[]
[]
[]
[]
[]
[]
[]
[]
[]
[]
[]
[]
[]
[]
[]
[]
[]
[]
[]
[]
[]
[]
[]
[]
[]
[]
[]
[]
[]
[]
[]
[]
[]
[]
[]
[]
[]
[]
[]
[]
[]
[]
[]
[]
[]
[]
[]
[]
[]
[]
[]
[]
[]
[]
[]
[]
[]
[]
[]
[]
[]
[]
[]
[]
[]
[]
[]
[]
[]
[]
[]
[]
[]
[]
[]
[]
[]
[]
[]
[]
[]
[]
[]
[]
[]
[]
[]
[]
[]
[]
[]
[]
[]
[]
[]
[]
[]
[]
[]
[]
[]
[]
[]
[]
[]
[]
[]
[]
[]
[]
[]
[]
[]
[]
[]
[]
[]
[]
[]
[]
[]
[]
[]
[]
[]
[]
[]
[]
[]
[]
[]
[]
[]
[]
[]
[]
[]
[]
[]
[]
[]
[]
[]
[]
[]
[]
[]
[]
[]
[]
[]
[]
[]
[]
[]
[]
[]
[]
[]
[]
[]
[]
[]
[]
[]
[]
[]
[]
[]
[]
[]
[]
[]
[]
[]
[]
[]
[]
[]
[]
[]
[]
[]
[]
[]
[]
[]
[]
[]
[]
[]
[]
[]
[]
[]
[]
[]
[]
[]
[]
[]
[]
[]
[]
[]
[]
[]
[]
[]
[]
[]
[]
[]
[]
[]
[]
[]
[]
[]
[]
[]
[]
[]
[]
[]
[]
[]
[]
[]
[]
[]
[]
[]
[]
[]
[]
[]
[]
[]
[]
[]
[]
[]
[]
[]
[]
[]
[]
[]
[]
[]
[]
[]
[]
[]
[]
[]
[]
[]
[]
[]
[]
[]
[]
[]
[]
[]
[]
[]
[]
[]
[]
[]
[]
[]
[]
[]
[]
[]
[]
[]
[]
[]
[]
[]
[]
[]
[]
[]
[]
[]
[]
[]
[]
[]
[]
[]
[]
[]
[]
[]
[]
[]
[]
[]
[]
[]
[]
[]
[]
[]
[]
[]
[]
[]
[]
[]
[]
[]
[]
[]
[]
[]
[]
[]
[]
[]
[]
[]
[]
[]
[]
[]
[]
[]
[]
[]
[]
[]
[]
[]
[]
[]
[]
[]
[]
[]
[]
[]
[]
[]
[]
[]
[]
[]
[]
[]
[]
[]
[]
[]
[]
[]
[]
[]
[]
[]
[]
[]
[]
[]
[]
[]
[]
[]
[]
[]
[]
[]
[]
[]
[]
[]
[]
[]
[]
[]
[]
[]
[]
[]
[]
[]
[]
[]
[]
[]
[]
[]
[]
[]
[]
[]
[]
[]
[]
[]
[]
[]
[]
[]
[]
[]
[]
[]
[]
[]
[]
[]
[]
[]
[]
[]
[]
[]
[]
[]
[]
[]
[]
[]
[]
[]
[]
[]
[]
[]
[]
[]
[]
[]
[]
[]
[]
[]
[]
[]
[]
[]
[]
[]
[]
[]
[]
[]
[]
[]
[]
[]
[]
[]
[]
[]
[]
[]
[]
[]
[]
[]
[]
[]
[]
[]
[]
[]
[]
[]
[]
[]
[]
[]
[]
[]
[]
[]
[]
[]
[]
[]
[]
[]
[]
[]
[]
[]
[]
[]
[]
[]
[]
[]
[]
[]
[]
[]
[]
[]
[]
[]
[]
[]
[]
[]
[]
[]
[]
[]
[]
[]
[]
[]
[]
[]
[]
[]
[]
[]
[]
[]
[]
[]
[]
[]
[]
[]
[]
[]
[]
[]
[]
[]
[]
[]
[]
[]
[]
[]
[]
[]
[]
[]
[]
[]
[]
[]
[]
[]
[]
[]
[]
[]
[]
[]
[]
[]
[]
[]
[]
[]
[]
[]
[]
[]
[]
[]
[]
[]
[]
[]
[]
[]
[]
[]
[]
[]
[]
[]
[]
[]
[]
[]
[]
[]
[]
[]
[]
[]
[]
[]
[]
[]
[]
[]
[]
[]
[]
[]
[]
[]
[]
[]
[]
[]
[]
[]
[]
[]
[]
[]
[]
[]
[]
[]
[]
[]
[]
[]
[]
[]
[]
[]
[]
[]
[]
[]
[]
[]
[]
[]
[]
[]
[]
[]
[]
[]
[]
[]
[]
[]
[]
[]
[]
[]
[]
[]
[]
[]
[]
[]
[]
[]
[]
[]
[]
[]
[]
[]
[]
[]
[]
[]
[]
[]
[]
[]
[]
[]
[]
[]
[]
[]
[]
[]
[]
[]
[]
[]
[]
[]
[]
[]
[]
[]
[]
[]
[]
[]
[]
[]
[]
[]
[]
[]
[]
[]
[]
[]
[]
[]
[]
[]
[]
[]
[]
[]
[]
[]
[]
[]
[]
[]
[]
[]
[]
[]
[]
[]
[]
[]
[]
[]
[]
[]
[]
[]
[]
[]
[]
[]
[]
[]
[]
[]
[]
[]
[]
[]
[]
[]
[]
[]
[]
[]
[]
[]
[]
[]
[]
[]
[]
[]
[]
[]
[]
[]
[]
[]
[]
[]
[]
[]
[]
[]
[]
[]
[]
[]
[]
[]
[]
[]
[]
[]
[]
[]
[]
[]
[]
[]
[]
[]
[]
[]
[]
[]
[]
[]
[]
[]
[]
[]
[]
[]
[]
[]
[]
[]
[]
[]
[]
[]
[]
[]
[]
[]
[]
[]
[]
[]
[]
[]
[]
[]
[]
[]
[]
[]
[]
[]
[]
[]
[]
[]
[]
[]
[]
[]
[]
[]
[]
[]
[]
[]
[]
[]
[]
[]
[]
[]
[]
[]
[]
[]
[]
[]
[]
[]
[]
[]
[]
[]
[]
[]
[]
[]
[]
[]
[]
[]
[]
[]
[]
[]
[]
[]
[]
[]
[]
[]
[]
[]
[]
[]
[]
[]
[]
[]
[]
[]
[]
[]
[]
[]
[]
[]
[]
[]
[]
[]
[]
[]
[]
[]
[]
[]
[]
[]
[]
[]
[]
[]
[]
[]
[]
[]
[]
[]
[]
[]
[]
[]
[]
[]
[]
[]
[]
[]
[]
[]
[]
[]
[]
[]
[]
[]
[]
[]
[]
[]
[]
[]
[]
[]
[]
[]
[]
[]
[]
[]
[]
[]
[]
[]
[]
[]
[]
[]
[]
[]
[]
[]
[]
[]
[]
[]
[]
[]
[]
[]
[]
[]
[]
[]
[]
[]
[]
[]
[]
[]
[]
[]
[]
[]
[]
[]
[]
[]
[]
[]
[]
[]
[]
[]
[]
[]
[]
[]
[]
[]
[]
[]
[]
[]
[]
[]
[]
[]
[]
[]
[]
[]
[]
[]
[]
[]
[]
[]
[]
[]
[]
[]
[]
[]
[]
[]
[]
[]
[]
[]
[]
[]
[]
[]
[]
[]
[]
[]
[]
[]
[]
[]
[]
[]
[]
[]
[]
[]
[]
[]
[]
[]
[]
[]
[]
[]
[]
[]
[]
[]
[]
[]
[]
[]
[]
[]
[]
[]
[]
[]
[]
[]
[]
[]
[]
[]
[]
[]
[]
[]
[]
[]
[]
[]
[]
[]
[]
[]
[]
[]
[]
[]
[]
[]
[]
[]
[]
[]
[]
[]
[]
[]
[]
[]
[]
[]
[]
[]
[]
[]
[]
[]
[]
[]
[]
[]
[]
[]
[]
[]
[]
[]
[]
[]
[]
[]
[]
[]
[]
[]
[]
[]
[]
[]
[]
[]
[]
[]
[]
[]
[]
[]
[]
[]
[]
[]
[]
[]
[]
[]
[]
[]
[]
[]
[]
[]
[]
[]
[]
[]
[]
[]
[]
[]
[]
[]
[]
[]
[]
[]
[]
[]
[]
[]
[]
[]
[]
[]
[]
[]
[]
[]
[]
[]
[]
[]
[]
[]
[]
[]
[]
[]
[]
[]
[]
[]
[]
[]
[]
[]
[]
[]
[]
[]
[]
[]
[]
[]
[]
[]
[]
[]
[]
[]
[]
[]
[]
[]
[]
[]
[]
[]
[]
[]
[]
[]
[]
[]
[]
[]
[]
[]
[]
[]
[]
[]
[]
[]
[]
[]
[]
[]
[]
[]
[]
[]
[]
[]
[]
[]
[]
[]
[]
[]
[]
[]
[]
[]
[]
[]
[]
[]
[]
[]
[]
[]
[]
[]
[]
[]
[]
[]
[]
[]
[]
[]
[]
[]
[]
[]
[]
[]
[]
[]
[]
[]
[]
[]
[]
[]
[]
[]
[]
[]
[]
[]
[]
[]
[]
[]
[]
[]
[]
[]
[]
[]
[]
[]
[]
[]
[]
[]
[]
[]
[]
[]
[]
[]
[]
[]
[]
[]
[]
[]
[]
[]
[]
[]
[]
[]
[]
[]
[]
[]
[]
[]
[]
[]
[]
[]
[]
[]
[]
[]
[]
[]
[]
[]
[]
[]
[]
[]
[]
[]
[]
[]
[]
[]
[]
[]
[]
[]
[]
[]
[]
[]
[]
[]
[]
[]
[]
[]
[]
[]
[]
[]
[]
[]
[]
[]
[]
[]
[]
[]
[]
[]
[]
[]
[]
[]
[]
[]
[]
[]
[]
[]
[]
[]
[]
[]
[]
[]
[]
[]
[]
[]
[]
[]
[]
[]
[]
[]
[]
[]
[]
[]
[]
[]
[]
[]
[]
[]
[]
[]
[]
[]
[]
[]
[]
[]
[]
[]
[]
[]
[]
[]
[]
[]
[]
[]
[]
[]
[]
[]
[]
[]
[]
[]
[]
[]
[]
[]
[]
[]
[]
[]
[]
[]
[]
[]
[]
[]
[]
[]
[]
[]
[]
[]
[]
[]
[]
[]
[]
[]
[]
[]
[]
[]
[]
[]
[]
[]
[]
[]
[]
[]
[]
[]
[]
[]
[]
[]
[]
[]
[]
[]
[]
[]
[]
[]
[]
[]
[]
[]
[]
[]
[]
[]
[]
[]
[]
[]
[]
[]
[]
[]
[]
[]
[]
[]
[]
[]
[]
[]
[]
[]
[]
[]
[]
[]
[]
[]
[]
[]
[]
[]
[]
[]
[]
[]
[]
[]
[]
[]
[]
[]
[]
[]
[]
[]
[]
[]
[]
[]
[]
[]
[]
[]
[]
[]
[]
[]
[]
[]
[]
[]
[]
[]
[]
[]
[]
[]
[]
[]
[]
[]
[]
[]
[]
[]
[]
[]
[]
[]
[]
[]
[]
[]
[]
[]
[]
[]
[]
[]
[]
[]
[]
[]
[]
[]
[]
[]
[]
[]
[]
[]
[]
[]
[]
[]
[]
[]
[]
[]
[]
[]
[]
[]
[]
[]
[]
[]
[]
[]
[]
[]
[]
[]
[]
[]
[]
[]
[]
[]
[]
[]
[]
[]
[]
[]
[]
[]
[]
[]
[]
[]
[]
[]
[]
[]
[]
[]
[]
[]
[]
[]
[]
[]
[]
[]
[]
[]
[]
[]
[]
[]
[]
[]
[]
[]
[]
[]
[]
[]
[]
[]
[]
[]
[]
[]
[]
[]
[]
[]
[]
[]
[]
[]
[]
[]
[]
[]
[]
[]
[]
[]
[]
[]
[]
[]
[]
[]
[]
[]
[]
[]
[]
[]
[]
[]
[]
[]
[]
[]
[]
[]
[]
[]
[]
[]
[]
[]
[]
[]
[]
[]
[]
[]
[]
[]
[]
[]
[]
[]
[]
[]
[]
[]
[]
[]
[]
[]
[]
[]
[]
[]
[]
[]
[]
[]
[]
[]
[]
[]
[]
[]
[]
[]
[]
[]
[]
[]
[]
[]
[]
[]
[]
[]
[]
[]
[]
[]
[]
[]
[]
[]
[]
[]
[]
[]
[]
[]
[]
[]
[]
[]
[]
[]
[]
[]
[]
[]
[]
[]
[]
[]
[]
[]
[]
[]
[]
[]
[]
[]
[]
[]
[]
[]
[]
[]
[]
[]
[]
[]
[]
[]
[]
[]
[]
[]
[]
[]
[]
[]
[]
[]
[]
[]
[]
[]
[]
[]
[]
[]
[]
[]
[]
[]
[]
[]
[]
[]
[]
[]
[]
[]
[]
[]
[]
[]
[]
[]
[]
[]
[]
[]
[]
[]
[]
[]
[]
[]
[]
[]
[]
[]
[]
[]
[]
[]
[]
[]
[]
[]
[]
[]
[]
[]
[]
[]
[]
[]
[]
[]
[]
[]
[]
[]
[]
[]
[]
[]
[]
[]
[]
[]
[]
[]
[]
[]
[]
[]
[]
[]
[]
[]
[]
[]
[]
[]
[]
[]
[]
[]
[]
[]
[]
[]
[]
[]
[]
[]
[]
[]
[]
[]
[]
[]
[]
[]
[]
[]
[]
[]
[]
[]
[]
[]
[]
[]
[]
[]
[]
[]
[]
[]
[]
[]
[]
[]
[]
[]
[]
[]
[]
[]
[]
[]
[]
[]
[]
[]
[]
[]
[]
[]
[]
[]
[]
[]
[]
[]
[]
[]
[]
[]
[]
[]
[]
[]
[]
[]
[]
[]
[]
[]
[]
[]
[]
[]
[]
[]
[]
[]
[]
[]
[]
[]
[]
[]
[]
[]
[]
[]
[]
[]
[]
[]
[]
[]
[]
[]
[]
[]
[]
[]
[]
[]
[]
[]
[]
[]
[]
[]
[]
[]
[]
[]
[]
[]
[]
[]
[]
[]
[]
[]
[]
[]
[]
[]
[]
[]
[]
[]
[]
[]
[]
[]
[]
[]
[]
[]
[]
[]
[]
[]
[]
[]
[]
[]
[]
[]
[]
[]
[]
[]
[]
[]
[]
[]
[]
[]
[]
[]
[]
[]
[]
[]
[]
[]
[]
[]
[]
[]
[]
[]
[]
[]
[]
[]
[]
[]
[]
[]
[]
[]
[]
[]
[]
[]
[]
[]
[]
[]
[]
[]
[]
[]
[]
[]
[]
[]
[]
[]
[]
[]
[]
[]
[]
[]
[]
[]
[]
[]
[]
[]
[]
[]
[]
[]
[]
[]
[]
[]
[]
[]
[]
[]
[]
[]
[]
[]
[]
[]
[]
[]
[]
[]
[]
[]
[]
[]
[]
[]
[]
[]
[]
[]
[]
[]
[]
[]
[]
[]
[]
[]
[]
[]
[]
[]
[]
[]
[]
[]
[]
[]
[]
[]
[]
[]
[]
[]
[]
[]
[]
[]
[]
[]
[]
[]
[]
[]
[]
[]
[]
[]
[]
[]
[]
[]
[]
[]
[]
[]
[]
[]
[]
[]
[]
[]
[]
[]
[]
[]
[]
[]
[]
[]
[]
[]
[]
[]
[]
[]
[]
[]
[]
[]
[]
[]
[]
[]
[]
[]
[]
[]
[]
[]
[]
[]
[]
[]
[]
[]
[]
[]
[]
[]
[]
[]
[]
[]
[]
[]
[]
[]
[]
[]
[]
[]
[]
[]
[]
[]
[]
[]
[]
[]
[]
[]
[]
[]
[]
[]
[]
[]
[]
[]
[]
[]
[]
[]
[]
[]
[]
[]
[]
[]
[]
[]
[]
[]
[]
[]
[]
[]
[]
[]
[]
[]
[]
[]
[]
[]
[]
[]
[]
[]
[]
[]
[]
[]
[]
[]
[]
[]
[]
[]
[]
[]
[]
[]
[]
[]
[]
[]
[]
[]
[]
[]
[]
[]
[]
[]
[]
[]
[]
[]
[]
[]
[]
[]
[]
[]
[]
[]
[]
[]
[]
[]
[]
[]
[]
[]
[]
[]
[]
[]
[]
[]
[]
[]
[]
[]
[]
[]
[]
[]
[]
[]
[]
[]
[]
[]
[]
[]
[]
[]
[]
[]
[]
[]
[]
[]
[]
[]
[]
[]
[]
[]
[]
[]
[]
[]
[]
[]
[]
[]
[]
[]
[]
[]
[]
[]
[]
[]
[]
[]
[]
[]
[]
[]
[]
[]
[]
[]
[]
[]
[]
[]
[]
[]
[]
[]
[]
[]
[]
[]
[]
[]
[]
[]
[]
[]
[]
[]
[]
[]
[]
[]
[]
[]
[]
[]
[]
[]
[]
[]
[]
[]
[]
[]
[]
[]
[]
[]
[]
[]
[]
[]
[]
[]
[]
[]
[]
[]
[]
[]
[]
[]
[]
[]
[]
["Admin - Planeación Estratégica","Estratégicos","Central","Gestión","ANÁLISIS RESULTADO\nTRIMESTRE",null,"Estratégicos","Misionales","Apoyo","Evaluación y Mejora","Transversal_todos_procesos"]
["Admin - Comunicación Institucional","Misionales","Seccional","Producto",null,"Entregable","Admin - Planeación Estratégica","Admin - Reordenamiento Judicial","Admin - Gestión Documental","Admin - Gestión de Control Interno y Auditoría","Transversal_todos_procesos"]
["Admin - Gestión para la Integración de Listas de Altas Cortes","Apoyo",null,null,null,"Meta cuantificable","Admin - Comunicación Institucional","Admin - Modernización de la Gestión Judicial","Admin - Gestión Tecnológica","Admin - Mejoramiento del Sistema Integrado de Gestión y Control de la Calidad y del Medio Ambiente"]
["Admin - Reordenamiento Judicial","Evaluación_y_Mejora",null,null,null,null,"Admin - Gestión para la Integración de Listas de Altas Cortes","Admin - Mejoramiento de la Infraestructura Física","Admin - Gestión de la Información Estadística","Juris - Gestión de Mejoramiento del SIGCMA"]
["Admin - Modernización de la Gestión Judicial","Transversal_todos_procesos",null,null,null,null,"Juris - Gestión de Planeación Estratégica","Admin - Administración de la Carrera Judicial","Admin - Gestión Humana"]
["Admin - Mejoramiento de la Infraestructura Física",null,null,null,null,null,"Juris - Gestión de Comunicación Institucional","Admin - Gestión de la Formación Judicial","Admin - Gestión de Seguridad y Salud en el Trabajo"]
["Admin - Administración de la Carrera Judicial",null,null,null,null,null,null,"Admin - Gestión de la Información Judicial","Admin - Asistencia Legal"]
["Admin - Gestión de la Formación Judicial",null,null,null,null,null,null,"Admin - Registro y Control de Abogados y Auxiliares de la Justicia","Admin - Administración de la Seguridad"]
["Admin - Gestión de la Información Judicial",null,null,null,null,null,null,"Juris - Gestión de Acciones Constitucionales","Admin - Gestión Administrativa"]
["Admin - Registro y Control de Abogados y Auxiliares de la Justicia",null,null,null,null,null,null,"Juris - Gestión Proceso Ordinario","Admin - Compras Públicas"]
["Admin - Gestión Documental",null,null,null,null,null,null,null,"Admin - Gestión Financiera y Presupuestal"]
["Admin - Gestión Tecnológica",null,null,null,null,null,null,null,"Juris - Atención al Usuario"]
["Admin - Gestión de la Información Estadística",null,null,null,null,null,null,null,"Juris - Gestión de Servicios Judiciales"]
["Admin - Gestión Humana",null,null,null,null,null,null,null,"Juris - Gestión de Servicios Administrativos"]
["Admin - Gestión de Seguridad y Salud en el Trabajo"]
["Admin - Asistencia Legal"]
["Admin - Administración de la Seguridad"]
["Admin - Gestión Administrativa"]
["Admin - Compras Públicas"]
["Admin - Gestión Financiera y Presupuestal"]
["Admin - Gestión de Control Interno y Auditoría"]
["Admin - Mejoramiento del Sistema Integrado de Gestión y Control de la Calidad y del Medio Ambiente"]
["Juris - Gestión de Planeación Estratégica"]
["Juris - Gestión de Comunicación Institucional"]
["Juris - Gestión de Acciones Constitucionales"]
["Juris - Gestión Proceso Ordinario"]
["Juris - Atención al Usuario"]
["Juris - Gestión de Servicios Judiciales"]
["Juris - Gestión de Servicios Administrativos"]
["Juris - Gestión de Mejoramiento del SIGCMA"]

{"sheet":"GESTION DSAJV","index":4,"n_rows":255,"n_cols":20,"rows_kept":255,"cut":false,"hidden":false,"merged":[[205,2,214,2],[215,2,224,2],[225,2,234,2],[225,3,234,3],[235,0,254,0],[235,1,254,1],[235,2,244,2],[235,3,254,3],[245,2,254,2],[145,3,174,3],[155,2,164,2],[165,2,174,2],[175,2,184,2],[175,3,184,3],[185,0,234,0],[185,1,234,1],[185,2,194,2],[185,3,224,3],[195,2,204,2],[105,2,114,2],[115,0,184,0],[115,1,184,1],[115,2,124,2],[115,3,124,3],[125,2,134,2],[125,3,134,3],[135,2,144,2],[135,3,144,3],[145,2,154,2],[45,2,54,2],[45,3,54,3],[55,0,114,0],[55,1,114,1],[55,2,64,2],[55,3,114,3],[65,2,74,2],[75,2,84,2],[85,2,94,2],[95,2,104,2],[5,0,54,0],[5,1,54,1],[5,2,14,2],[5,3,14,3],[15,2,24,2],[15,3,24,3],[25,2,34,2],[25,3,34,3],[35,2,44,2],[35,3,44,3],[1,0,1,18],[1,19,1,28],[2,0,2,3],[2,4,2,17],[2,18,4,18],[3,0,4,1],[3,2,4,2],[3,3,4,3],[3,4,3,6],[3,7,3,17]]}
[]
["CONSEJO SUPERIOR DE LA JUDICATURA \nUNIDADES MISIONALES DEL CONSEJO SUPERIOR DE LA JUDICATURA - \nDIRECCIÓN EJECUTIVA DE ADMINISTRACIÓN JUDICIAL - UNIDADES MISIONALES DE LA DEAJ\nDIRECCIONES SECCIONALES DE ADMINISTRACIÓN JUDICIAL - DEPENDENCIAS JUDICIALES CERTIFICADAS",null,null,null,null,null,null,null,null,null,null,null,null,null,null,null,null,null,null,"GENERADOR DE SEGUIMIENTOS TRIMESTRALES"]
["PLAN SECTORIAL DE DESARROLLO 2023-2026 - OBJETIVOS SIGCMA",null,null,null,"PLAN DE ACCIÓN Y SEGUIMIENTO A LA GESTIÓN INSTITUCIONAL (DE ACUERDO CON LA FUNCIÓN MISIONAL ASIGNADA )",null,null,null,null,null,null,null,null,null,null,null,null,null," ANÁLISIS RESULTADO"]
["OBJETIVO ESTRATÉGICO",null,"OBJETIVO ESPECÍFICO PSD","OBJETIVO ESPECÍFICO SIGCMA","MAPA PROCESO SIGCMA",null,null,"MEDICIÓN DE LA GESTIÓN ANUAL"]
[null,null,null,null,"NOMBRE MACRO PROCESO SIGCMA","PROCESO SIGCMA","NIVEL ","ACTIVIDADES ","INDIQUE SI ES ENTREGABLE O META CUANTIFICABLE","META ANUAL","UNIDAD DE MEDIDA","RESPONSABLE DEL PROCESO ","MEDIO O MECANISMO A TRAVES DEL CUAL SE HACE EL SEGUIMIENTO\n(Producto y/o servicio principal)","INICIO \nDÍA/MES/AÑO","FIN\nDÍA/MES/AÑO","AVANCE DE LA META ","NIVEL CUMPLIMIENTO","DIFICULTADES PARA LOGRAR LA META PROPUESTA"]
["1. Acceso e Infraestructura Física","Acceso e Infraestructura Física: Ampliar, en todo el territorio nacional, el acceso a una justicia efectiva, pronta, equitativa e incluyente, reduciendo el atraso y la congestión, de acuerdo con las necesidades de la demanda de justicia por jurisdicción y especialidad, y mejorando la articulación con la justicia restaurativa y terapéutica, y otros mecanismos de solución de conflictos y consolidando una infraestructura física óptima para el acceso a la justicia.","1. Ampliar el acceso a justicia para atender las necesidades jurídicas de los ciudadanos con un enfoque diferencial, de una manera pronta, reduciendo las inequidades y las brechas territoriales de acceso.","2. Asegurar  el cumplimiento de los objetivos institucionales, la normatividad aplicable,  la mejora del SIGCMA y la satisfacción de los usuarios, revisando de  forma continua y sistemática la planificación de la gestión y fortaleciendo la administración de riesgos y sus controles","Misionales","Admin - Mejoramiento de la Infraestructura Física","Seccional","Realizar la contratación  y ejecución de proyectos de inversión en infraestructura física de la rama judicial, para mejorar las condiciones de los inmuebles de la rama judicial ","Entregable",null,null,"Profesional Universitario","Contratos firmados","2023-01-01","2023-12-31",{"$f":"IFERROR(MAX('[6]GESTION_SEG_1_TRIM DSAJV'!H6,'[6]GESTION_SEG_2_TRIM DSAJV'!H6),\"\")","v":0},{"$f":"IFERROR(P6/J6,\"\")","v":""},{"$f":"IFERROR(_xlfn.CONCAT(\"Trimestre 1\",CHAR(10),'[6]GESTION_SEG_1_TRIM DSAJV'!J6,CHAR(10),\"Trimestre 2\",CHAR(10),'[6]GESTION_SEG_2_TRIM DSAJV'!J6),\" \")","v":"Trimestre 1\n\nTrimestre 2\n"},{"$f":"IFERROR(_xlfn.CONCAT(\"Trimestre 1\",CHAR(10),'[6]GESTION_SEG_1_TRIM DSAJV'!K6,CHAR(10),\"Trimestre 2\",CHAR(10),'[6]GESTION_SEG_2_TRIM DSAJV'!K6),\" \")","v":"Trimestre 1\nLos recursos fueron asignados en el mes de febrero. Se realiza etapa precontractual de planeación\nTrimestre 2\n"}]
[null,null,null,null,"Misionales","Admin - Mejoramiento de la Infraestructura Física","Seccional","Atender las necesidades de traslado de los servidores judiciales con fines administrativos. ","Entregable",null,null,"Profesional Universitario","Atención resolución nuevos cargos","2023-01-01","2023-12-31",{"$f":"IFERROR(MAX('[6]GESTION_SEG_1_TRIM DSAJV'!H7,'[6]GESTION_SEG_2_TRIM DSAJV'!H7),\"\")","v":10},"",{"$f":"IFERROR(_xlfn.CONCAT(\"Trimestre 1\",CHAR(10),'[6]GESTION_SEG_1_TRIM DSAJV'!J7,CHAR(10),\"Trimestre 2\",CHAR(10),'[6]GESTION_SEG_2_TRIM DSAJV'!J7),\" \")","v":"Trimestre 1\nNo se cuenta con los espacios y áreas suficientes para la atención de la necesidad\nTrimestre 2\n"},{"$f":"IFERROR(_xlfn.CONCAT(\"Trimestre 1\",CHAR(10),'[6]GESTION_SEG_1_TRIM DSAJV'!K7,CHAR(10),\"Trimestre 2\",CHAR(10),'[6]GESTION_SEG_2_TRIM DSAJV'!K7),\" \")","v":"Trimestre 1\nSe gestiona lo pertinente para contar con los espacios y áreas necesarias\nTrimestre 2\n"}]
[null,null,null,null,null,null,null,null,null,null,null,null,null,null,null,{"$f":"IFERROR(MAX('[6]GESTION_SEG_1_TRIM DSAJV'!H8,'[6]GESTION_SEG_2_TRIM DSAJV'!H8),\"\")","v":0},null,{"$f":"IFERROR(_xlfn.CONCAT(\"Trimestre 1\",CHAR(10),'[6]GESTION_SEG_1_TRIM DSAJV'!J8,CHAR(10),\"Trimestre 2\",CHAR(10),'[6]GESTION_SEG_2_TRIM DSAJV'!J8),\" \")","v":"Trimestre 1\n\nTrimestre 2\n"},{"$f":"IFERROR(_xlfn.CONCAT(\"Trimestre 1\",CHAR(10),'[6]GESTION_SEG_1_TRIM DSAJV'!K8,CHAR(10),\"Trimestre 2\",CHAR(10),'[6]GESTION_SEG_2_TRIM DSAJV'!K8),\" \")","v":"Trimestre 1\n\nTrimestre 2\n"}]
[null,null,null,null,null,null,null,null,null,null,null,null,null,null,null,{"$f":"IFERROR(MAX('[6]GESTION_SEG_1_TRIM DSAJV'!H9,'[6]GESTION_SEG_2_TRIM DSAJV'!H9),\"\")","v":0},null,{"$f":"IFERROR(_xlfn.CONCAT(\"Trimestre 1\",CHAR(10),'[6]GESTION_SEG_1_TRIM DSAJV'!J9,CHAR(10),\"Trimestre 2\",CHAR(10),'[6]GESTION_SEG_2_TRIM DSAJV'!J9),\" \")","v":"Trimestre 1\n\nTrimestre 2\n"},{"$f":"IFERROR(_xlfn.CONCAT(\"Trimestre 1\",CHAR(10),'[6]GESTION_SEG_1_TRIM DSAJV'!K9,CHAR(10),\"Trimestre 2\",CHAR(10),'[6]GESTION_SEG_2_TRIM DSAJV'!K9),\" \")","v":"Trimestre 1\n\nTrimestre 2\n"}]
[null,null,null,null,null,null,null,null,null,null,null,null,null,null,null,{"$f":"IFERROR(MAX('[6]GESTION_SEG_1_TRIM DSAJV'!H10,'[6]GESTION_SEG_2_TRIM DSAJV'!H10),\"\")","v":0},null,{"$f":"IFERROR(_xlfn.CONCAT(\"Trimestre 1\",CHAR(10),'[6]GESTION_SEG_1_TRIM DSAJV'!J10,CHAR(10),\"Trimestre 2\",CHAR(10),'[6]GESTION_SEG_2_TRIM DSAJV'!J10),\" \")","v":"Trimestre 1\n\nTrimestre 2\n"},{"$f":"IFERROR(_xlfn.CONCAT(\"Trimestre 1\",CHAR(10),'[6]GESTION_SEG_1_TRIM DSAJV'!K10,CHAR(10),\"Trimestre 2\",CHAR(10),'[6]GESTION_SEG_2_TRIM DSAJV'!K10),\" \")","v":"Trimestre 1\n\nTrimestre 2\n"}]
[null,null,null,null,"Apoyo","Admin - Compras Públicas","Seccional","Adelantar los procesos de contratación que permitan la ejecución de los recursos asignados para contratar los bienes y servicios necesarios para asegurar el adecuado funcionamiento de los Despachos Judiciales y Administrativos del Distrito Judicial de Villavicencio","Entregable",100,"Porcentaje","LIDER DEL PROCESO","Contratos firmados","2023-01-01","2023-12-31",{"$f":"IFERROR(MAX('[6]GESTION_SEG_1_TRIM DSAJV'!H11,'[6]GESTION_SEG_2_TRIM DSAJV'!H11),\"\")","v":15},null,{"$f":"IFERROR(_xlfn.CONCAT(\"Trimestre 1\",CHAR(10),'[6]GESTION_SEG_1_TRIM DSAJV'!J11,CHAR(10),\"Trimestre 2\",CHAR(10),'[6]GESTION_SEG_2_TRIM DSAJV'!J11),\" \")","v":"Trimestre 1\n\nTrimestre 2\n"},{"$f":"IFERROR(_xlfn.CONCAT(\"Trimestre 1\",CHAR(10),'[6]GESTION_SEG_1_TRIM DSAJV'!K11,CHAR(10),\"Trimestre 2\",CHAR(10),'[6]GESTION_SEG_2_TRIM DSAJV'!K11),\" \")","v":"Trimestre 1\nDe la meta propuesta para el primer trimestre del año 2023 se llevaron a cabo 15 procesos los cuales se encuentran en ejecución, según los recursos asignados para la meta del primer trimestre del 2023.\nTrimestre 2\n"}]
[null,null,null,null,"Apoyo","Admin - Compras Públicas","Seccional","Verificar el cumplimiento de las adquisiciones planeadas con respecto a la ejecución de procesos de contratación adelantados durante la presente vigencia","Entregable",95,"Porcentaje","LIDER DEL PROCESO","Informe de compras planeadas vs compras ejecutadas","2023-01-01","2023-12-31",{"$f":"IFERROR(MAX('[6]GESTION_SEG_1_TRIM DSAJV'!H12,'[6]GESTION_SEG_2_TRIM DSAJV'!H12),\"\")","v":15},null,{"$f":"IFERROR(_xlfn.CONCAT(\"Trimestre 1\",CHAR(10),'[6]GESTION_SEG_1_TRIM DSAJV'!J12,CHAR(10),\"Trimestre 2\",CHAR(10),'[6]GESTION_SEG_2_TRIM DSAJV'!J12),\" \")","v":"Trimestre 1\n\nTrimestre 2\n"},{"$f":"IFERROR(_xlfn.CONCAT(\"Trimestre 1\",CHAR(10),'[6]GESTION_SEG_1_TRIM DSAJV'!K12,CHAR(10),\"Trimestre 2\",CHAR(10),'[6]GESTION_SEG_2_TRIM DSAJV'!K12),\" \")","v":"Trimestre 1\nSe han realizado comités de seguimiento a los coordinadores para verificar el cumplimiento de las obligaciones de los 15 contratos que se están ejecutando en la presente vigencia.\nTrimestre 2\n"}]
[null,null,null,null,"Apoyo","Admin - Compras Públicas","Seccional","Seguimiento a la adquisición de bienes y servicios adquiridos para el funcionamiento de los Despachos Judiciales y Administrativos del Distrito Judicial de Villavicencio","Entregable",95,"Porcentaje","LIDER DEL PROCESO","Informe de contratos en ejecucion y/o suspendidos, presentado ante el comité de coordinadores","2023-01-01","2023-12-31",{"$f":"IFERROR(MAX('[6]GESTION_SEG_1_TRIM DSAJV'!H13,'[6]GESTION_SEG_2_TRIM DSAJV'!H13),\"\")","v":15},0.15789473684210525,{"$f":"IFERROR(_xlfn.CONCAT(\"Trimestre 1\",CHAR(10),'[6]GESTION_SEG_1_TRIM DSAJV'!J13,CHAR(10),\"Trimestre 2\",CHAR(10),'[6]GESTION_SEG_2_TRIM DSAJV'!J13),\" \")","v":"Trimestre 1\n\nTrimestre 2\n"},{"$f":"IFERROR(_xlfn.CONCAT(\"Trimestre 1\",CHAR(10),'[6]GESTION_SEG_1_TRIM DSAJV'!K13,CHAR(10),\"Trimestre 2\",CHAR(10),'[6]GESTION_SEG_2_TRIM DSAJV'!K13),\" \")","v":"Trimestre 1\nSe han realizado seguimiento para la ejecución a la adquisición de los bienes y servicios adquiridos para el buen funcionamiento de los despachos judiciales del distrito para el año en curso.\nTrimestre 2\n"}]
[null,null,null,null,"Apoyo","Admin - Compras Públicas","Seccional","Ejecución del plan de adquisiciones Villavicencio","Entregable",95,"Porcentaje","LIDER DEL PROCESO","Plan anual de adquisiciones de la vigencia ","2023-01-01","2023-12-31",{"$f":"IFERROR(MAX('[6]GESTION_SEG_1_TRIM DSAJV'!H14,'[6]GESTION_SEG_2_TRIM DSAJV'!H14),\"\")","v":15},0.15789473684210525,{"$f":"IFERROR(_xlfn.CONCAT(\"Trimestre 1\",CHAR(10),'[6]GESTION_SEG_1_TRIM DSAJV'!J14,CHAR(10),\"Trimestre 2\",CHAR(10),'[6]GESTION_SEG_2_TRIM DSAJV'!J14),\" \")","v":"Trimestre 1\n\nTrimestre 2\n"},{"$f":"IFERROR(_xlfn.CONCAT(\"Trimestre 1\",CHAR(10),'[6]GESTION_SEG_1_TRIM DSAJV'!K14,CHAR(10),\"Trimestre 2\",CHAR(10),'[6]GESTION_SEG_2_TRIM DSAJV'!K14),\" \")","v":"Trimestre 1\nDe la meta planteada para la ejecución del plan anual de adquisiciones durante el primer trimestre del año en curso se logró la ejecución del 71% debido a que el 29% corresponde a procesos terminados anormalmente.\nTrimestre 2\n"}]
[null,null,null,null,null,null,null,null,null,null,null,null,null,null,null,{"$f":"IFERROR(MAX('[6]GESTION_SEG_1_TRIM DSAJV'!H15,'[6]GESTION_SEG_2_TRIM DSAJV'!H15),\"\")","v":0},"",{"$f":"IFERROR(_xlfn.CONCAT(\"Trimestre 1\",CHAR(10),'[6]GESTION_SEG_1_TRIM DSAJV'!J15,CHAR(10),\"Trimestre 2\",CHAR(10),'[6]GESTION_SEG_2_TRIM DSAJV'!J15),\" \")","v":"Trimestre 1\n\nTrimestre 2\n"},{"$f":"IFERROR(_xlfn.CONCAT(\"Trimestre 1\",CHAR(10),'[6]GESTION_SEG_1_TRIM DSAJV'!K15,CHAR(10),\"Trimestre 2\",CHAR(10),'[6]GESTION_SEG_2_TRIM DSAJV'!K15),\" \")","v":"Trimestre 1\n\nTrimestre 2\n"}]
[null,null,"2. Mejorar los tiempos de respuesta de la Rama Judicial y reducir el inventario de procesos, identificando los retos internos y promoviendo tanto acciones articuladas específicas para abordarlos como estrategias coordinadas para enfrentar las barreras que dependen de otras entidades.","2. Asegurar  el cumplimiento de los objetivos institucionales, la normatividad aplicable,  la mejora del SIGCMA y la satisfacción de los usuarios, revisando de  forma continua y sistemática la planificación de la gestión y fortaleciendo la administración de riesgos y sus controles","Apoyo","Admin - Gestión Administrativa","Seccional","Seguimiento al consumo de Papel, Combustible y Servicios públicos ","Entregable",null,null,"LIDER DEL PROCESO","Informe de Austeridad del gasto","2023-01-01","2023-12-31",{"$f":"IFERROR(MAX('[6]GESTION_SEG_1_TRIM DSAJV'!H16,'[6]GESTION_SEG_2_TRIM DSAJV'!H16),\"\")","v":3},"",{"$f":"IFERROR(_xlfn.CONCAT(\"Trimestre 1\",CHAR(10),'[6]GESTION_SEG_1_TRIM DSAJV'!J16,CHAR(10),\"Trimestre 2\",CHAR(10),'[6]GESTION_SEG_2_TRIM DSAJV'!J16),\" \")","v":"Trimestre 1\n\nTrimestre 2\n"},{"$f":"IFERROR(_xlfn.CONCAT(\"Trimestre 1\",CHAR(10),'[6]GESTION_SEG_1_TRIM DSAJV'!K16,CHAR(10),\"Trimestre 2\",CHAR(10),'[6]GESTION_SEG_2_TRIM DSAJV'!K16),\" \")","v":"Trimestre 1\nSe presento informe de consumo de papel, combustible y servicios publicos los meses de enero, febrero y marzo.\nTrimestre 2\n"}]
[null,null,null,null,"Apoyo","Admin - Gestión Administrativa","Seccional","Atender las necesidades de traslado de los servidores judiciales con fines administrativos. ","Entregable",95,"Porcentaje","LIDER DEL PROCESO","Informe de Comision de servicios  de los servidores","2023-01-01","2023-12-31",{"$f":"IFERROR(MAX('[6]GESTION_SEG_1_TRIM DSAJV'!H17,'[6]GESTION_SEG_2_TRIM DSAJV'!H17),\"\")","v":0},{"$f":"IFERROR(P17/J19,\"\")","v":0},{"$f":"IFERROR(_xlfn.CONCAT(\"Trimestre 1\",CHAR(10),'[6]GESTION_SEG_1_TRIM DSAJV'!J17,CHAR(10),\"Trimestre 2\",CHAR(10),'[6]GESTION_SEG_2_TRIM DSAJV'!J17),\" \")","v":"Trimestre 1\n\nTrimestre 2\n"},{"$f":"IFERROR(_xlfn.CONCAT(\"Trimestre 1\",CHAR(10),'[6]GESTION_SEG_1_TRIM DSAJV'!K17,CHAR(10),\"Trimestre 2\",CHAR(10),'[6]GESTION_SEG_2_TRIM DSAJV'!K17),\" \")","v":"Trimestre 1\n\nTrimestre 2\n"}]
[null,null,null,null,"Apoyo","Admin - Gestión Administrativa","Seccional","Realizar seguimiento por medio de informes al mantenimiento y control del parque automotor","Entregable",95,"Porcentaje","LIDER DEL PROCESO","Informe de supervisión del contrato de mantenimiento de vehículos","2023-01-01","2023-12-31",{"$f":"IFERROR(MAX('[6]GESTION_SEG_1_TRIM DSAJV'!H18,'[6]GESTION_SEG_2_TRIM DSAJV'!H18),\"\")","v":3},null,{"$f":"IFERROR(_xlfn.CONCAT(\"Trimestre 1\",CHAR(10),'[6]GESTION_SEG_1_TRIM DSAJV'!J18,CHAR(10),\"Trimestre 2\",CHAR(10),'[6]GESTION_SEG_2_TRIM DSAJV'!J18),\" \")","v":"Trimestre 1\n\nTrimestre 2\n"},{"$f":"IFERROR(_xlfn.CONCAT(\"Trimestre 1\",CHAR(10),'[6]GESTION_SEG_1_TRIM DSAJV'!K18,CHAR(10),\"Trimestre 2\",CHAR(10),'[6]GESTION_SEG_2_TRIM DSAJV'!K18),\" \")","v":"Trimestre 1\nSe suscribio contrato de mantenimiento de vehiculos el 11 de marzo de 2023 y se realiza el respectivo seguimiento a través del supervisor del contrato\nTrimestre 2\n"}]
[null,null,null,null,"Apoyo","Admin - Administración de la Seguridad","Seccional","Identificación de necesidades en materia de seguridad para las sedes judiciales asignadas al Distrito Judicial de Villavicencio y su gestión para contratación de equipos , mantenimientos y personal, para el fortalecimiento de la seguridad.","Entregable",100,"Porcentaje","LIDER DEL PROCESO","Informe de resultados de consulta de necesidades y contratos de seguridad","2023-01-01","2023-12-31",{"$f":"IFERROR(MAX('[6]GESTION_SEG_1_TRIM DSAJV'!H19,'[6]GESTION_SEG_2_TRIM DSAJV'!H19),\"\")","v":0},null,{"$f":"IFERROR(_xlfn.CONCAT(\"Trimestre 1\",CHAR(10),'[6]GESTION_SEG_1_TRIM DSAJV'!J19,CHAR(10),\"Trimestre 2\",CHAR(10),'[6]GESTION_SEG_2_TRIM DSAJV'!J19),\" \")","v":"Trimestre 1\n\nTrimestre 2\n"},{"$f":"IFERROR(_xlfn.CONCAT(\"Trimestre 1\",CHAR(10),'[6]GESTION_SEG_1_TRIM DSAJV'!K19,CHAR(10),\"Trimestre 2\",CHAR(10),'[6]GESTION_SEG_2_TRIM DSAJV'!K19),\" \")","v":"Trimestre 1\n\nTrimestre 2\n"}]
[null,null,null,null,"Apoyo","Admin - Administración de la Seguridad","Seccional","Registrar reporte mensual de novedades en bienes muebles e inmuebles.","Entregable",100,"Porcentaje","LIDER DEL PROCESO","Formatos de reportes de novedades en bienes muebles e inmuebles","2023-01-01","2023-12-31",{"$f":"IFERROR(MAX('[6]GESTION_SEG_1_TRIM DSAJV'!H20,'[6]GESTION_SEG_2_TRIM DSAJV'!H20),\"\")","v":0},null,{"$f":"IFERROR(_xlfn.CONCAT(\"Trimestre 1\",CHAR(10),'[6]GESTION_SEG_1_TRIM DSAJV'!J20,CHAR(10),\"Trimestre 2\",CHAR(10),'[6]GESTION_SEG_2_TRIM DSAJV'!J20),\" \")","v":"Trimestre 1\n\nTrimestre 2\n"},{"$f":"IFERROR(_xlfn.CONCAT(\"Trimestre 1\",CHAR(10),'[6]GESTION_SEG_1_TRIM DSAJV'!K20,CHAR(10),\"Trimestre 2\",CHAR(10),'[6]GESTION_SEG_2_TRIM DSAJV'!K20),\" \")","v":"Trimestre 1\nSe presento reporte mensual de novedades a la aseguradora los meses de enero, febrero y marzo.\nTrimestre 2\n"}]
[null,null,null,null,null,null,null,null,null,null,null,null,null,null,null,{"$f":"IFERROR(MAX('[6]GESTION_SEG_1_TRIM DSAJV'!H21,'[6]GESTION_SEG_2_TRIM DSAJV'!H21),\"\")","v":0},null,{"$f":"IFERROR(_xlfn.CONCAT(\"Trimestre 1\",CHAR(10),'[6]GESTION_SEG_1_TRIM DSAJV'!J21,CHAR(10),\"Trimestre 2\",CHAR(10),'[6]GESTION_SEG_2_TRIM DSAJV'!J21),\" \")","v":"Trimestre 1\n\nTrimestre 2\n"},{"$f":"IFERROR(_xlfn.CONCAT(\"Trimestre 1\",CHAR(10),'[6]GESTION_SEG_1_TRIM DSAJV'!K21,CHAR(10),\"Trimestre 2\",CHAR(10),'[6]GESTION_SEG_2_TRIM DSAJV'!K21),\" \")","v":"Trimestre 1\n\nTrimestre 2\n"}]
[null,null,null,null,null,null,null,null,null,null,null,null,null,null,null,{"$f":"IFERROR(MAX('[6]GESTION_SEG_1_TRIM DSAJV'!H22,'[6]GESTION_SEG_2_TRIM DSAJV'!H22),\"\")","v":0},null,{"$f":"IFERROR(_xlfn.CONCAT(\"Trimestre 1\",CHAR(10),'[6]GESTION_SEG_1_TRIM DSAJV'!J22,CHAR(10),\"Trimestre 2\",CHAR(10),'[6]GESTION_SEG_2_TRIM DSAJV'!J22),\" \")","v":"Trimestre 1\n\nTrimestre 2\n"},{"$f":"IFERROR(_xlfn.CONCAT(\"Trimestre 1\",CHAR(10),'[6]GESTION_SEG_1_TRIM DSAJV'!K22,CHAR(10),\"Trimestre 2\",CHAR(10),'[6]GESTION_SEG_2_TRIM DSAJV'!K22),\" \")","v":"Trimestre 1\n\nTrimestre 2\n"}]
[null,null,null,null,null,null,null,null,null,null,null,null,null,null,null,{"$f":"IFERROR(MAX('[6]GESTION_SEG_1_TRIM DSAJV'!H23,'[6]GESTION_SEG_2_TRIM DSAJV'!H23),\"\")","v":0},"",{"$f":"IFERROR(_xlfn.CONCAT(\"Trimestre 1\",CHAR(10),'[6]GESTION_SEG_1_TRIM DSAJV'!J23,CHAR(10),\"Trimestre 2\",CHAR(10),'[6]GESTION_SEG_2_TRIM DSAJV'!J23),\" \")","v":"Trimestre 1\n\nTrimestre 2\n"},{"$f":"IFERROR(_xlfn.CONCAT(\"Trimestre 1\",CHAR(10),'[6]GESTION_SEG_1_TRIM DSAJV'!K23,CHAR(10),\"Trimestre 2\",CHAR(10),'[6]GESTION_SEG_2_TRIM DSAJV'!K23),\" \")","v":"Trimestre 1\n\nTrimestre 2\n"}]
[null,null,null,null,null,null,null,null,null,null,null,null,null,null,null,{"$f":"IFERROR(MAX('[6]GESTION_SEG_1_TRIM DSAJV'!H24,'[6]GESTION_SEG_2_TRIM DSAJV'!H24),\"\")","v":0},"",{"$f":"IFERROR(_xlfn.CONCAT(\"Trimestre 1\",CHAR(10),'[6]GESTION_SEG_1_TRIM DSAJV'!J24,CHAR(10),\"Trimestre 2\",CHAR(10),'[6]GESTION_SEG_2_TRIM DSAJV'!J24),\" \")","v":"Trimestre 1\n\nTrimestre 2\n"},{"$f":"IFERROR(_xlfn.CONCAT(\"Trimestre 1\",CHAR(10),'[6]GESTION_SEG_1_TRIM DSAJV'!K24,CHAR(10),\"Trimestre 2\",CHAR(10),'[6]GESTION_SEG_2_TRIM DSAJV'!K24),\" \")","v":"Trimestre 1\n\nTrimestre 2\n"}]
[null,null,null,null,null,null,null,null,null,null,null,null,null,null,null,{"$f":"IFERROR(MAX('[6]GESTION_SEG_1_TRIM DSAJV'!H25,'[6]GESTION_SEG_2_TRIM DSAJV'!H25),\"\")","v":0},"",{"$f":"IFERROR(_xlfn.CONCAT(\"Trimestre 1\",CHAR(10),'[6]GESTION_SEG_1_TRIM DSAJV'!J25,CHAR(10),\"Trimestre 2\",CHAR(10),'[6]GESTION_SEG_2_TRIM DSAJV'!J25),\" \")","v":"Trimestre 1\n\nTrimestre 2\n"},{"$f":"IFERROR(_xlfn.CONCAT(\"Trimestre 1\",CHAR(10),'[6]GESTION_SEG_1_TRIM DSAJV'!K25,CHAR(10),\"Trimestre 2\",CHAR(10),'[6]GESTION_SEG_2_TRIM DSAJV'!K25),\" \")","v":"Trimestre 1\n\nTrimestre 2\n"}]
[null,null,"3. Coadyuvar en la garantía de la idoneidad en el ejercicio de la profesión jurídica de acuerdo con lo establecido en la Ley 1905 de 2018","2. Asegurar  el cumplimiento de los objetivos institucionales, la normatividad aplicable,  la mejora del SIGCMA y la satisfacción de los usuarios, revisando de  forma continua y sistemática la planificación de la gestión y fortaleciendo la administración de riesgos y sus controles",null,null,null,null,null,null,null,null,null,null,null,{"$f":"IFERROR(MAX('[6]GESTION_SEG_1_TRIM DSAJV'!H26,'[6]GESTION_SEG_2_TRIM DSAJV'!H26),\"\")","v":0},"",{"$f":"IFERROR(_xlfn.CONCAT(\"Trimestre 1\",CHAR(10),'[6]GESTION_SEG_1_TRIM DSAJV'!J26,CHAR(10),\"Trimestre 2\",CHAR(10),'[6]GESTION_SEG_2_TRIM DSAJV'!J26),\" \")","v":"Trimestre 1\n\nTrimestre 2\n"},{"$f":"IFERROR(_xlfn.CONCAT(\"Trimestre 1\",CHAR(10),'[6]GESTION_SEG_1_TRIM DSAJV'!K26,CHAR(10),\"Trimestre 2\",CHAR(10),'[6]GESTION_SEG_2_TRIM DSAJV'!K26),\" \")","v":"Trimestre 1\n\nTrimestre 2\n"}]
[null,null,null,null,null,null,null,null,null,null,null,null,null,null,null,{"$f":"IFERROR(MAX('[6]GESTION_SEG_1_TRIM DSAJV'!H27,'[6]GESTION_SEG_2_TRIM DSAJV'!H27),\"\")","v":0},"",{"$f":"IFERROR(_xlfn.CONCAT(\"Trimestre 1\",CHAR(10),'[6]GESTION_SEG_1_TRIM DSAJV'!J27,CHAR(10),\"Trimestre 2\",CHAR(10),'[6]GESTION_SEG_2_TRIM DSAJV'!J27),\" \")","v":"Trimestre 1\n\nTrimestre 2\n"},{"$f":"IFERROR(_xlfn.CONCAT(\"Trimestre 1\",CHAR(10),'[6]GESTION_SEG_1_TRIM DSAJV'!K27,CHAR(10),\"Trimestre 2\",CHAR(10),'[6]GESTION_SEG_2_TRIM DSAJV'!K27),\" \")","v":"Trimestre 1\n\nTrimestre 2\n"}]
[null,null,null,null,null,null,null,null,null,null,null,null,null,null,null,{"$f":"IFERROR(MAX('[6]GESTION_SEG_1_TRIM DSAJV'!H28,'[6]GESTION_SEG_2_TRIM DSAJV'!H28),\"\")","v":0},null,{"$f":"IFERROR(_xlfn.CONCAT(\"Trimestre 1\",CHAR(10),'[6]GESTION_SEG_1_TRIM DSAJV'!J28,CHAR(10),\"Trimestre 2\",CHAR(10),'[6]GESTION_SEG_2_TRIM DSAJV'!J28),\" \")","v":"Trimestre 1\n\nTrimestre 2\n"},{"$f":"IFERROR(_xlfn.CONCAT(\"Trimestre 1\",CHAR(10),'[6]GESTION_SEG_1_TRIM DSAJV'!K28,CHAR(10),\"Trimestre 2\",CHAR(10),'[6]GESTION_SEG_2_TRIM DSAJV'!K28),\" \")","v":"Trimestre 1\n\nTrimestre 2\n"}]
[null,null,null,null,null,null,null,null,null,null,null,null,null,null,null,{"$f":"IFERROR(MAX('[6]GESTION_SEG_1_TRIM DSAJV'!H29,'[6]GESTION_SEG_2_TRIM DSAJV'!H29),\"\")","v":0},null,{"$f":"IFERROR(_xlfn.CONCAT(\"Trimestre 1\",CHAR(10),'[6]GESTION_SEG_1_TRIM DSAJV'!J29,CHAR(10),\"Trimestre 2\",CHAR(10),'[6]GESTION_SEG_2_TRIM DSAJV'!J29),\" \")","v":"Trimestre 1\n\nTrimestre 2\n"},{"$f":"IFERROR(_xlfn.CONCAT(\"Trimestre 1\",CHAR(10),'[6]GESTION_SEG_1_TRIM DSAJV'!K29,CHAR(10),\"Trimestre 2\",CHAR(10),'[6]GESTION_SEG_2_TRIM DSAJV'!K29),\" \")","v":"Trimestre 1\n\nTrimestre 2\n"}]
[null,null,null,null,null,null,null,null,null,null,null,null,null,null,null,{"$f":"IFERROR(MAX('[6]GESTION_SEG_1_TRIM DSAJV'!H30,'[6]GESTION_SEG_2_TRIM DSAJV'!H30),\"\")","v":0},null,{"$f":"IFERROR(_xlfn.CONCAT(\"Trimestre 1\",CHAR(10),'[6]GESTION_SEG_1_TRIM DSAJV'!J30,CHAR(10),\"Trimestre 2\",CHAR(10),'[6]GESTION_SEG_2_TRIM DSAJV'!J30),\" \")","v":"Trimestre 1\n\nTrimestre 2\n"},{"$f":"IFERROR(_xlfn.CONCAT(\"Trimestre 1\",CHAR(10),'[6]GESTION_SEG_1_TRIM DSAJV'!K30,CHAR(10),\"Trimestre 2\",CHAR(10),'[6]GESTION_SEG_2_TRIM DSAJV'!K30),\" \")","v":"Trimestre 1\n\nTrimestre 2\n"}]
[null,null,null,null,null,null,null,null,null,null,null,null,null,null,null,{"$f":"IFERROR(MAX('[6]GESTION_SEG_1_TRIM DSAJV'!H31,'[6]GESTION_SEG_2_TRIM DSAJV'!H31),\"\")","v":0},null,{"$f":"IFERROR(_xlfn.CONCAT(\"Trimestre 1\",CHAR(10),'[6]GESTION_SEG_1_TRIM DSAJV'!J31,CHAR(10),\"Trimestre 2\",CHAR(10),'[6]GESTION_SEG_2_TRIM DSAJV'!J31),\" \")","v":"Trimestre 1\n\nTrimestre 2\n"},{"$f":"IFERROR(_xlfn.CONCAT(\"Trimestre 1\",CHAR(10),'[6]GESTION_SEG_1_TRIM DSAJV'!K31,CHAR(10),\"Trimestre 2\",CHAR(10),'[6]GESTION_SEG_2_TRIM DSAJV'!K31),\" \")","v":"Trimestre 1\n\nTrimestre 2\n"}]
[null,null,null,null,null,null,null,null,null,null,null,null,null,null,null,{"$f":"IFERROR(MAX('[6]GESTION_SEG_1_TRIM DSAJV'!H32,'[6]GESTION_SEG_2_TRIM DSAJV'!H32),\"\")","v":0},null,{"$f":"IFERROR(_xlfn.CONCAT(\"Trimestre 1\",CHAR(10),'[6]GESTION_SEG_1_TRIM DSAJV'!J32,CHAR(10),\"Trimestre 2\",CHAR(10),'[6]GESTION_SEG_2_TRIM DSAJV'!J32),\" \")","v":"Trimestre 1\n\nTrimestre 2\n"},{"$f":"IFERROR(_xlfn.CONCAT(\"Trimestre 1\",CHAR(10),'[6]GESTION_SEG_1_TRIM DSAJV'!K32,CHAR(10),\"Trimestre 2\",CHAR(10),'[6]GESTION_SEG_2_TRIM DSAJV'!K32),\" \")","v":"Trimestre 1\n\nTrimestre 2\n"}]
[null,null,null,null,null,null,null,null,null,null,null,null,null,null,null,{"$f":"IFERROR(MAX('[6]GESTION_SEG_1_TRIM DSAJV'!H33,'[6]GESTION_SEG_2_TRIM DSAJV'!H33),\"\")","v":0},"",{"$f":"IFERROR(_xlfn.CONCAT(\"Trimestre 1\",CHAR(10),'[6]GESTION_SEG_1_TRIM DSAJV'!J33,CHAR(10),\"Trimestre 2\",CHAR(10),'[6]GESTION_SEG_2_TRIM DSAJV'!J33),\" \")","v":"Trimestre 1\n\nTrimestre 2\n"},{"$f":"IFERROR(_xlfn.CONCAT(\"Trimestre 1\",CHAR(10),'[6]GESTION_SEG_1_TRIM DSAJV'!K33,CHAR(10),\"Trimestre 2\",CHAR(10),'[6]GESTION_SEG_2_TRIM DSAJV'!K33),\" \")","v":"Trimestre 1\n\nTrimestre 2\n"}]
[null,null,null,null,null,null,null,null,null,null,null,null,null,null,null,{"$f":"IFERROR(MAX('[6]GESTION_SEG_1_TRIM DSAJV'!H34,'[6]GESTION_SEG_2_TRIM DSAJV'!H34),\"\")","v":0},"",{"$f":"IFERROR(_xlfn.CONCAT(\"Trimestre 1\",CHAR(10),'[6]GESTION_SEG_1_TRIM DSAJV'!J34,CHAR(10),\"Trimestre 2\",CHAR(10),'[6]GESTION_SEG_2_TRIM DSAJV'!J34),\" \")","v":"Trimestre 1\n\nTrimestre 2\n"},{"$f":"IFERROR(_xlfn.CONCAT(\"Trimestre 1\",CHAR(10),'[6]GESTION_SEG_1_TRIM DSAJV'!K34,CHAR(10),\"Trimestre 2\",CHAR(10),'[6]GESTION_SEG_2_TRIM DSAJV'!K34),\" \")","v":"Trimestre 1\n\nTrimestre 2\n"}]
[null,null,null,null,null,null,null,null,null,null,null,null,null,null,null,{"$f":"IFERROR(MAX('[6]GESTION_SEG_1_TRIM DSAJV'!H35,'[6]GESTION_SEG_2_TRIM DSAJV'!H35),\"\")","v":0},"",{"$f":"IFERROR(_xlfn.CONCAT(\"Trimestre 1\",CHAR(10),'[6]GESTION_SEG_1_TRIM DSAJV'!J35,CHAR(10),\"Trimestre 2\",CHAR(10),'[6]GESTION_SEG_2_TRIM DSAJV'!J35),\" \")","v":"Trimestre 1\n\nTrimestre 2\n"},{"$f":"IFERROR(_xlfn.CONCAT(\"Trimestre 1\",CHAR(10),'[6]GESTION_SEG_1_TRIM DSAJV'!K35,CHAR(10),\"Trimestre 2\",CHAR(10),'[6]GESTION_SEG_2_TRIM DSAJV'!K35),\" \")","v":"Trimestre 1\n\nTrimestre 2\n"}]
[null,null,"4. Avanzar en la disposición de una infraestructura óptima para el acceso a la justicia en la Rama Judicial de modo que se fortalezca la presencia territorial, teniendo en cuenta las posibilidades que ofrece la transformación digital y las necesidades que se derivan de ella, y considerando tanto las necesidades de los usuarios como las de los servidores judiciales.","4. Hacer un uso racional de los recursos naturales aplicando los principios y fases de la Economía Circular, para prevenir, mitigar y controlar los impactos ambientales",null,null,null,null,null,null,null,null,null,null,null,{"$f":"IFERROR(MAX('[6]GESTION_SEG_1_TRIM DSAJV'!H36,'[6]GESTION_SEG_2_TRIM DSAJV'!H36),\"\")","v":0},"",{"$f":"IFERROR(_xlfn.CONCAT(\"Trimestre 1\",CHAR(10),'[6]GESTION_SEG_1_TRIM DSAJV'!J36,CHAR(10),\"Trimestre 2\",CHAR(10),'[6]GESTION_SEG_2_TRIM DSAJV'!J36),\" \")","v":"Trimestre 1\n\nTrimestre 2\n"},{"$f":"IFERROR(_xlfn.CONCAT(\"Trimestre 1\",CHAR(10),'[6]GESTION_SEG_1_TRIM DSAJV'!K36,CHAR(10),\"Trimestre 2\",CHAR(10),'[6]GESTION_SEG_2_TRIM DSAJV'!K36),\" \")","v":"Trimestre 1\n\nTrimestre 2\n"}]
[null,null,null,null,null,null,null,null,null,null,null,null,null,null,null,{"$f":"IFERROR(MAX('[6]GESTION_SEG_1_TRIM DSAJV'!H37,'[6]GESTION_SEG_2_TRIM DSAJV'!H37),\"\")","v":0},"",{"$f":"IFERROR(_xlfn.CONCAT(\"Trimestre 1\",CHAR(10),'[6]GESTION_SEG_1_TRIM DSAJV'!J37,CHAR(10),\"Trimestre 2\",CHAR(10),'[6]GESTION_SEG_2_TRIM DSAJV'!J37),\" \")","v":"Trimestre 1\n\nTrimestre 2\n"},{"$f":"IFERROR(_xlfn.CONCAT(\"Trimestre 1\",CHAR(10),'[6]GESTION_SEG_1_TRIM DSAJV'!K37,CHAR(10),\"Trimestre 2\",CHAR(10),'[6]GESTION_SEG_2_TRIM DSAJV'!K37),\" \")","v":"Trimestre 1\n\nTrimestre 2\n"}]
[null,null,null,null,null,null,null,null,null,null,null,null,null,null,null,{"$f":"IFERROR(MAX('[6]GESTION_SEG_1_TRIM DSAJV'!H38,'[6]GESTION_SEG_2_TRIM DSAJV'!H38),\"\")","v":0},"",{"$f":"IFERROR(_xlfn.CONCAT(\"Trimestre 1\",CHAR(10),'[6]GESTION_SEG_1_TRIM DSAJV'!J38,CHAR(10),\"Trimestre 2\",CHAR(10),'[6]GESTION_SEG_2_TRIM DSAJV'!J38),\" \")","v":"Trimestre 1\n\nTrimestre 2\n"},{"$f":"IFERROR(_xlfn.CONCAT(\"Trimestre 1\",CHAR(10),'[6]GESTION_SEG_1_TRIM DSAJV'!K38,CHAR(10),\"Trimestre 2\",CHAR(10),'[6]GESTION_SEG_2_TRIM DSAJV'!K38),\" \")","v":"Trimestre 1\n\nTrimestre 2\n"}]
[null,null,null,null,null,null,null,null,null,null,null,null,null,null,null,{"$f":"IFERROR(MAX('[6]GESTION_SEG_1_TRIM DSAJV'!H39,'[6]GESTION_SEG_2_TRIM DSAJV'!H39),\"\")","v":0},null,{"$f":"IFERROR(_xlfn.CONCAT(\"Trimestre 1\",CHAR(10),'[6]GESTION_SEG_1_TRIM DSAJV'!J39,CHAR(10),\"Trimestre 2\",CHAR(10),'[6]GESTION_SEG_2_TRIM DSAJV'!J39),\" \")","v":"Trimestre 1\n\nTrimestre 2\n"},{"$f":"IFERROR(_xlfn.CONCAT(\"Trimestre 1\",CHAR(10),'[6]GESTION_SEG_1_TRIM DSAJV'!K39,CHAR(10),\"Trimestre 2\",CHAR(10),'[6]GESTION_SEG_2_TRIM DSAJV'!K39),\" \")","v":"Trimestre 1\n\nTrimestre 2\n"}]
[null,null,null,null,null,null,null,null,null,null,null,null,null,null,null,{"$f":"IFERROR(MAX('[6]GESTION_SEG_1_TRIM DSAJV'!H40,'[6]GESTION_SEG_2_TRIM DSAJV'!H40),\"\")","v":0},null,{"$f":"IFERROR(_xlfn.CONCAT(\"Trimestre 1\",CHAR(10),'[6]GESTION_SEG_1_TRIM DSAJV'!J40,CHAR(10),\"Trimestre 2\",CHAR(10),'[6]GESTION_SEG_2_TRIM DSAJV'!J40),\" \")","v":"Trimestre 1\n\nTrimestre 2\n"},{"$f":"IFERROR(_xlfn.CONCAT(\"Trimestre 1\",CHAR(10),'[6]GESTION_SEG_1_TRIM DSAJV'!K40,CHAR(10),\"Trimestre 2\",CHAR(10),'[6]GESTION_SEG_2_TRIM DSAJV'!K40),\" \")","v":"Trimestre 1\n\nTrimestre 2\n"}]
[null,null,null,null,null,null,null,null,null,null,null,null,null,null,null,{"$f":"IFERROR(MAX('[6]GESTION_SEG_1_TRIM DSAJV'!H41,'[6]GESTION_SEG_2_TRIM DSAJV'!H41),\"\")","v":0},null,{"$f":"IFERROR(_xlfn.CONCAT(\"Trimestre 1\",CHAR(10),'[6]GESTION_SEG_1_TRIM DSAJV'!J41,CHAR(10),\"Trimestre 2\",CHAR(10),'[6]GESTION_SEG_2_TRIM DSAJV'!J41),\" \")","v":"Trimestre 1\n\nTrimestre 2\n"},{"$f":"IFERROR(_xlfn.CONCAT(\"Trimestre 1\",CHAR(10),'[6]GESTION_SEG_1_TRIM DSAJV'!K41,CHAR(10),\"Trimestre 2\",CHAR(10),'[6]GESTION_SEG_2_TRIM DSAJV'!K41),\" \")","v":"Trimestre 1\n\nTrimestre 2\n"}]
[null,null,null,null,null,null,null,null,null,null,null,null,null,null,null,{"$f":"IFERROR(MAX('[6]GESTION_SEG_1_TRIM DSAJV'!H42,'[6]GESTION_SEG_2_TRIM DSAJV'!H42),\"\")","v":0},null,{"$f":"IFERROR(_xlfn.CONCAT(\"Trimestre 1\",CHAR(10),'[6]GESTION_SEG_1_TRIM DSAJV'!J42,CHAR(10),\"Trimestre 2\",CHAR(10),'[6]GESTION_SEG_2_TRIM DSAJV'!J42),\" \")","v":"Trimestre 1\n\nTrimestre 2\n"},{"$f":"IFERROR(_xlfn.CONCAT(\"Trimestre 1\",CHAR(10),'[6]GESTION_SEG_1_TRIM DSAJV'!K42,CHAR(10),\"Trimestre 2\",CHAR(10),'[6]GESTION_SEG_2_TRIM DSAJV'!K42),\" \")","v":"Trimestre 1\n\nTrimestre 2\n"}]
[null,null,null,null,null,null,null,null,null,null,null,null,null,null,null,{"$f":"IFERROR(MAX('[6]GESTION_SEG_1_TRIM DSAJV'!H43,'[6]GESTION_SEG_2_TRIM DSAJV'!H43),\"\")","v":0},null,{"$f":"IFERROR(_xlfn.CONCAT(\"Trimestre 1\",CHAR(10),'[6]GESTION_SEG_1_TRIM DSAJV'!J43,CHAR(10),\"Trimestre 2\",CHAR(10),'[6]GESTION_SEG_2_TRIM DSAJV'!J43),\" \")","v":"Trimestre 1\n\nTrimestre 2\n"},{"$f":"IFERROR(_xlfn.CONCAT(\"Trimestre 1\",CHAR(10),'[6]GESTION_SEG_1_TRIM DSAJV'!K43,CHAR(10),\"Trimestre 2\",CHAR(10),'[6]GESTION_SEG_2_TRIM DSAJV'!K43),\" \")","v":"Trimestre 1\n\nTrimestre 2\n"}]
[null,null,null,null,null,null,null,null,null,null,null,null,null,null,null,{"$f":"IFERROR(MAX('[6]GESTION_SEG_1_TRIM DSAJV'!H44,'[6]GESTION_SEG_2_TRIM DSAJV'!H44),\"\")","v":0},"",{"$f":"IFERROR(_xlfn.CONCAT(\"Trimestre 1\",CHAR(10),'[6]GESTION_SEG_1_TRIM DSAJV'!J44,CHAR(10),\"Trimestre 2\",CHAR(10),'[6]GESTION_SEG_2_TRIM DSAJV'!J44),\" \")","v":"Trimestre 1\n\nTrimestre 2\n"},{"$f":"IFERROR(_xlfn.CONCAT(\"Trimestre 1\",CHAR(10),'[6]GESTION_SEG_1_TRIM DSAJV'!K44,CHAR(10),\"Trimestre 2\",CHAR(10),'[6]GESTION_SEG_2_TRIM DSAJV'!K44),\" \")","v":"Trimestre 1\n\nTrimestre 2\n"}]
[null,null,null,null,null,null,null,null,null,null,null,null,null,null,null,{"$f":"IFERROR(MAX('[6]GESTION_SEG_1_TRIM DSAJV'!H45,'[6]GESTION_SEG_2_TRIM DSAJV'!H45),\"\")","v":0},"",{"$f":"IFERROR(_xlfn.CONCAT(\"Trimestre 1\",CHAR(10),'[6]GESTION_SEG_1_TRIM DSAJV'!J45,CHAR(10),\"Trimestre 2\",CHAR(10),'[6]GESTION_SEG_2_TRIM DSAJV'!J45),\" \")","v":"Trimestre 1\n\nTrimestre 2\n"},{"$f":"IFERROR(_xlfn.CONCAT(\"Trimestre 1\",CHAR(10),'[6]GESTION_SEG_1_TRIM DSAJV'!K45,CHAR(10),\"Trimestre 2\",CHAR(10),'[6]GESTION_SEG_2_TRIM DSAJV'!K45),\" \")","v":"Trimestre 1\n\nTrimestre 2\n"}]
[null,null,"5. Impulsar el uso de mecanismos alternativos para la solución de conflictos y la ampliación de la justicia restaurativa y terapéutica y el robustecimiento de las alternativas al encarcelamiento","2. Asegurar  el cumplimiento de los objetivos institucionales, la normatividad aplicable,  la mejora del SIGCMA y la satisfacción de los usuarios, revisando de  forma continua y sistemática la planificación de la gestión y fortaleciendo la administración de riesgos y sus controles",null,null,null,null,null,null,null,null,null,null,null,{"$f":"IFERROR(MAX('[6]GESTION_SEG_1_TRIM DSAJV'!H46,'[6]GESTION_SEG_2_TRIM DSAJV'!H46),\"\")","v":0},"",{"$f":"IFERROR(_xlfn.CONCAT(\"Trimestre 1\",CHAR(10),'[6]GESTION_SEG_1_TRIM DSAJV'!J46,CHAR(10),\"Trimestre 2\",CHAR(10),'[6]GESTION_SEG_2_TRIM DSAJV'!J46),\" \")","v":"Trimestre 1\n\nTrimestre 2\n"},{"$f":"IFERROR(_xlfn.CONCAT(\"Trimestre 1\",CHAR(10),'[6]GESTION_SEG_1_TRIM DSAJV'!K46,CHAR(10),\"Trimestre 2\",CHAR(10),'[6]GESTION_SEG_2_TRIM DSAJV'!K46),\" \")","v":"Trimestre 1\n\nTrimestre 2\n"}]
[null,null,null,null,null,null,null,null,null,null,null,null,null,null,null,{"$f":"IFERROR(MAX('[6]GESTION_SEG_1_TRIM DSAJV'!H47,'[6]GESTION_SEG_2_TRIM DSAJV'!H47),\"\")","v":0},"",{"$f":"IFERROR(_xlfn.CONCAT(\"Trimestre 1\",CHAR(10),'[6]GESTION_SEG_1_TRIM DSAJV'!J47,CHAR(10),\"Trimestre 2\",CHAR(10),'[6]GESTION_SEG_2_TRIM DSAJV'!J47),\" \")","v":"Trimestre 1\n\nTrimestre 2\n"},{"$f":"IFERROR(_xlfn.CONCAT(\"Trimestre 1\",CHAR(10),'[6]GESTION_SEG_1_TRIM DSAJV'!K47,CHAR(10),\"Trimestre 2\",CHAR(10),'[6]GESTION_SEG_2_TRIM DSAJV'!K47),\" \")","v":"Trimestre 1\n\nTrimestre 2\n"}]
[null,null,null,null,null,null,null,null,null,null,null,null,null,null,null,{"$f":"IFERROR(MAX('[6]GESTION_SEG_1_TRIM DSAJV'!H48,'[6]GESTION_SEG_2_TRIM DSAJV'!H48),\"\")","v":0},null,{"$f":"IFERROR(_xlfn.CONCAT(\"Trimestre 1\",CHAR(10),'[6]GESTION_SEG_1_TRIM DSAJV'!J48,CHAR(10),\"Trimestre 2\",CHAR(10),'[6]GESTION_SEG_2_TRIM DSAJV'!J48),\" \")","v":"Trimestre 1\n\nTrimestre 2\n"},{"$f":"IFERROR(_xlfn.CONCAT(\"Trimestre 1\",CHAR(10),'[6]GESTION_SEG_1_TRIM DSAJV'!K48,CHAR(10),\"Trimestre 2\",CHAR(10),'[6]GESTION_SEG_2_TRIM DSAJV'!K48),\" \")","v":"Trimestre 1\n\nTrimestre 2\n"}]
[null,null,null,null,null,null,null,null,null,null,null,null,null,null,null,{"$f":"IFERROR(MAX('[6]GESTION_SEG_1_TRIM DSAJV'!H49,'[6]GESTION_SEG_2_TRIM DSAJV'!H49),\"\")","v":0},null,{"$f":"IFERROR(_xlfn.CONCAT(\"Trimestre 1\",CHAR(10),'[6]GESTION_SEG_1_TRIM DSAJV'!J49,CHAR(10),\"Trimestre 2\",CHAR(10),'[6]GESTION_SEG_2_TRIM DSAJV'!J49),\" \")","v":"Trimestre 1\n\nTrimestre 2\n"},{"$f":"IFERROR(_xlfn.CONCAT(\"Trimestre 1\",CHAR(10),'[6]GESTION_SEG_1_TRIM DSAJV'!K49,CHAR(10),\"Trimestre 2\",CHAR(10),'[6]GESTION_SEG_2_TRIM DSAJV'!K49),\" \")","v":"Trimestre 1\n\nTrimestre 2\n"}]
[null,null,null,null,null,null,null,null,null,null,null,null,null,null,null,{"$f":"IFERROR(MAX('[6]GESTION_SEG_1_TRIM DSAJV'!H50,'[6]GESTION_SEG_2_TRIM DSAJV'!H50),\"\")","v":0},null,{"$f":"IFERROR(_xlfn.CONCAT(\"Trimestre 1\",CHAR(10),'[6]GESTION_SEG_1_TRIM DSAJV'!J50,CHAR(10),\"Trimestre 2\",CHAR(10),'[6]GESTION_SEG_2_TRIM DSAJV'!J50),\" \")","v":"Trimestre 1\n\nTrimestre 2\n"},{"$f":"IFERROR(_xlfn.CONCAT(\"Trimestre 1\",CHAR(10),'[6]GESTION_SEG_1_TRIM DSAJV'!K50,CHAR(10),\"Trimestre 2\",CHAR(10),'[6]GESTION_SEG_2_TRIM DSAJV'!K50),\" \")","v":"Trimestre 1\n\nTrimestre 2\n"}]
[null,null,null,null,null,null,null,null,null,null,null,null,null,null,null,{"$f":"IFERROR(MAX('[6]GESTION_SEG_1_TRIM DSAJV'!H51,'[6]GESTION_SEG_2_TRIM DSAJV'!H51),\"\")","v":0},null,{"$f":"IFERROR(_xlfn.CONCAT(\"Trimestre 1\",CHAR(10),'[6]GESTION_SEG_1_TRIM DSAJV'!J51,CHAR(10),\"Trimestre 2\",CHAR(10),'[6]GESTION_SEG_2_TRIM DSAJV'!J51),\" \")","v":"Trimestre 1\n\nTrimestre 2\n"},{"$f":"IFERROR(_xlfn.CONCAT(\"Trimestre 1\",CHAR(10),'[6]GESTION_SEG_1_TRIM DSAJV'!K51,CHAR(10),\"Trimestre 2\",CHAR(10),'[6]GESTION_SEG_2_TRIM DSAJV'!K51),\" \")","v":"Trimestre 1\n\nTrimestre 2\n"}]
[null,null,null,null,null,null,null,null,null,null,null,null,null,null,null,{"$f":"IFERROR(MAX('[6]GESTION_SEG_1_TRIM DSAJV'!H52,'[6]GESTION_SEG_2_TRIM DSAJV'!H52),\"\")","v":0},null,{"$f":"IFERROR(_xlfn.CONCAT(\"Trimestre 1\",CHAR(10),'[6]GESTION_SEG_1_TRIM DSAJV'!J52,CHAR(10),\"Trimestre 2\",CHAR(10),'[6]GESTION_SEG_2_TRIM DSAJV'!J52),\" \")","v":"Trimestre 1\n\nTrimestre 2\n"},{"$f":"IFERROR(_xlfn.CONCAT(\"Trimestre 1\",CHAR(10),'[6]GESTION_SEG_1_TRIM DSAJV'!K52,CHAR(10),\"Trimestre 2\",CHAR(10),'[6]GESTION_SEG_2_TRIM DSAJV'!K52),\" \")","v":"Trimestre 1\n\nTrimestre 2\n"}]
[null,null,null,null,null,null,null,null,null,null,null,null,null,null,null,{"$f":"IFERROR(MAX('[6]GESTION_SEG_1_TRIM DSAJV'!H53,'[6]GESTION_SEG_2_TRIM DSAJV'!H53),\"\")","v":0},"",{"$f":"IFERROR(_xlfn.CONCAT(\"Trimestre 1\",CHAR(10),'[6]GESTION_SEG_1_TRIM DSAJV'!J53,CHAR(10),\"Trimestre 2\",CHAR(10),'[6]GESTION_SEG_2_TRIM DSAJV'!J53),\" \")","v":"Trimestre 1\n\nTrimestre 2\n"},{"$f":"IFERROR(_xlfn.CONCAT(\"Trimestre 1\",CHAR(10),'[6]GESTION_SEG_1_TRIM DSAJV'!K53,CHAR(10),\"Trimestre 2\",CHAR(10),'[6]GESTION_SEG_2_TRIM DSAJV'!K53),\" \")","v":"Trimestre 1\n\nTrimestre 2\n"}]
[null,null,null,null,null,null,null,null,null,null,null,null,null,null,null,{"$f":"IFERROR(MAX('[6]GESTION_SEG_1_TRIM DSAJV'!H54,'[6]GESTION_SEG_2_TRIM DSAJV'!H54),\"\")","v":0},"",{"$f":"IFERROR(_xlfn.CONCAT(\"Trimestre 1\",CHAR(10),'[6]GESTION_SEG_1_TRIM DSAJV'!J54,CHAR(10),\"Trimestre 2\",CHAR(10),'[6]GESTION_SEG_2_TRIM DSAJV'!J54),\" \")","v":"Trimestre 1\n\nTrimestre 2\n"},{"$f":"IFERROR(_xlfn.CONCAT(\"Trimestre 1\",CHAR(10),'[6]GESTION_SEG_1_TRIM DSAJV'!K54,CHAR(10),\"Trimestre 2\",CHAR(10),'[6]GESTION_SEG_2_TRIM DSAJV'!K54),\" \")","v":"Trimestre 1\n\nTrimestre 2\n"}]
[null,null,null,null,null,null,null,null,null,null,null,null,null,null,null,{"$f":"IFERROR(MAX('[6]GESTION_SEG_1_TRIM DSAJV'!H55,'[6]GESTION_SEG_2_TRIM DSAJV'!H55),\"\")","v":0},"",{"$f":"IFERROR(_xlfn.CONCAT(\"Trimestre 1\",CHAR(10),'[6]GESTION_SEG_1_TRIM DSAJV'!J55,CHAR(10),\"Trimestre 2\",CHAR(10),'[6]GESTION_SEG_2_TRIM DSAJV'!J55),\" \")","v":"Trimestre 1\n\nTrimestre 2\n"},{"$f":"IFERROR(_xlfn.CONCAT(\"Trimestre 1\",CHAR(10),'[6]GESTION_SEG_1_TRIM DSAJV'!K55,CHAR(10),\"Trimestre 2\",CHAR(10),'[6]GESTION_SEG_2_TRIM DSAJV'!K55),\" \")","v":"Trimestre 1\n\nTrimestre 2\n"}]
["2. Servicios digitales y de tecnología, innovación y análisis de la información.","Servicios digitales y de tecnología, innovación y análisis de la información: Consolidar una justicia integrada y soportada en servicios digitales y de tecnología, innovación y análisis de la información, con una cultura digital apropiada, segura y sensible a las realidades del territorio nacional. ","1. Ampliar el acceso a la justicia a través de la consolidación del uso de los servicios digitales que conforman el sistema único integrado de gestión judicial en todos los despachos judiciales y dependencias de apoyo y, específicamente, incluyendo el despliegue e implementación del Expediente Judicial Electrónico en todas las jurisdicciones y especialidades.","6. Proteger, preservar y administrar los activos de información  implementando acciones  para gestionar de forma adecuada los incidentes, proteger los datos personales y adoptar mecanismos  de ciberseguridad y aseguramiento de la  continuidad del negocio.","Apoyo","Admin - Gestión Tecnológica","Seccional","Mejorar los canales de internet","Entregable",100,"TRIMESTRAL","Coordinador del grupo de mantenimiento y soporte tecnológico","Informe conectividad WAN sedes","2023-01-01","2023-12-31",{"$f":"IFERROR(MAX('[6]GESTION_SEG_1_TRIM DSAJV'!H56,'[6]GESTION_SEG_2_TRIM DSAJV'!H56),\"\")","v":20},0.2,{"$f":"IFERROR(_xlfn.CONCAT(\"Trimestre 1\",CHAR(10),'[6]GESTION_SEG_1_TRIM DSAJV'!J56,CHAR(10),\"Trimestre 2\",CHAR(10),'[6]GESTION_SEG_2_TRIM DSAJV'!J56),\" \")","v":"Trimestre 1\n\nTrimestre 2\n"},{"$f":"IFERROR(_xlfn.CONCAT(\"Trimestre 1\",CHAR(10),'[6]GESTION_SEG_1_TRIM DSAJV'!K56,CHAR(10),\"Trimestre 2\",CHAR(10),'[6]GESTION_SEG_2_TRIM DSAJV'!K56),\" \")","v":"Trimestre 1\n\nTrimestre 2\n"}]
[null,null,null,null,"Apoyo","Admin - Gestión Tecnológica","Seccional","Renovar equipos de cómputo de funcionarios","Entregable",null,null,"Coordinador del grupo de mantenimiento y soporte tecnológico","Constancias de instalación de equipos","2023-01-01","2023-12-31",{"$f":"IFERROR(MAX('[6]GESTION_SEG_1_TRIM DSAJV'!H57,'[6]GESTION_SEG_2_TRIM DSAJV'!H57),\"\")","v":100},"",{"$f":"IFERROR(_xlfn.CONCAT(\"Trimestre 1\",CHAR(10),'[6]GESTION_SEG_1_TRIM DSAJV'!J57,CHAR(10),\"Trimestre 2\",CHAR(10),'[6]GESTION_SEG_2_TRIM DSAJV'!J57),\" \")","v":"Trimestre 1\n\nTrimestre 2\n"},{"$f":"IFERROR(_xlfn.CONCAT(\"Trimestre 1\",CHAR(10),'[6]GESTION_SEG_1_TRIM DSAJV'!K57,CHAR(10),\"Trimestre 2\",CHAR(10),'[6]GESTION_SEG_2_TRIM DSAJV'!K57),\" \")","v":"Trimestre 1\n\nTrimestre 2\n"}]
[null,null,null,null,"Apoyo","Admin - Gestión Tecnológica","Seccional","Realizar soporte de servidores","Entregable",null,null,"Coordinador del grupo de mantenimiento y soporte tecnológico","Informe mensual de copias de seguridad","2023-01-01","2023-12-31",{"$f":"IFERROR(MAX('[6]GESTION_SEG_1_TRIM DSAJV'!H58,'[6]GESTION_SEG_2_TRIM DSAJV'!H58),\"\")","v":30},"",{"$f":"IFERROR(_xlfn.CONCAT(\"Trimestre 1\",CHAR(10),'[6]GESTION_SEG_1_TRIM DSAJV'!J58,CHAR(10),\"Trimestre 2\",CHAR(10),'[6]GESTION_SEG_2_TRIM DSAJV'!J58),\" \")","v":"Trimestre 1\n\nTrimestre 2\n"},{"$f":"IFERROR(_xlfn.CONCAT(\"Trimestre 1\",CHAR(10),'[6]GESTION_SEG_1_TRIM DSAJV'!K58,CHAR(10),\"Trimestre 2\",CHAR(10),'[6]GESTION_SEG_2_TRIM DSAJV'!K58),\" \")","v":"Trimestre 1\n\nTrimestre 2\n"}]
[null,null,null,null,"Apoyo","Admin - Gestión Tecnológica","Seccional","Realizar soporte de servidores","Entregable",null,null,"Coordinador del grupo de mantenimiento y soporte tecnológico","Informe mensual de copias de seguridad","2023-01-01","2023-12-31",{"$f":"IFERROR(MAX('[6]GESTION_SEG_1_TRIM DSAJV'!H59,'[6]GESTION_SEG_2_TRIM DSAJV'!H59),\"\")","v":30},null,{"$f":"IFERROR(_xlfn.CONCAT(\"Trimestre 1\",CHAR(10),'[6]GESTION_SEG_1_TRIM DSAJV'!J59,CHAR(10),\"Trimestre 2\",CHAR(10),'[6]GESTION_SEG_2_TRIM DSAJV'!J59),\" \")","v":"Trimestre 1\n\nTrimestre 2\n"},{"$f":"IFERROR(_xlfn.CONCAT(\"Trimestre 1\",CHAR(10),'[6]GESTION_SEG_1_TRIM DSAJV'!K59,CHAR(10),\"Trimestre 2\",CHAR(10),'[6]GESTION_SEG_2_TRIM DSAJV'!K59),\" \")","v":"Trimestre 1\n\nTrimestre 2\n"}]
[null,null,null,null,"Apoyo","Admin - Gestión Tecnológica","Seccional","Realizar mantenimiento de equipos de computo","Entregable",null,null,"Coordinador del grupo de mantenimiento y soporte tecnológico","Constancia de mantenimientos de equipos de computo realizados","2023-01-01","2023-12-31",{"$f":"IFERROR(MAX('[6]GESTION_SEG_1_TRIM DSAJV'!H60,'[6]GESTION_SEG_2_TRIM DSAJV'!H60),\"\")","v":25},null,{"$f":"IFERROR(_xlfn.CONCAT(\"Trimestre 1\",CHAR(10),'[6]GESTION_SEG_1_TRIM DSAJV'!J60,CHAR(10),\"Trimestre 2\",CHAR(10),'[6]GESTION_SEG_2_TRIM DSAJV'!J60),\" \")","v":"Trimestre 1\n\nTrimestre 2\n"},{"$f":"IFERROR(_xlfn.CONCAT(\"Trimestre 1\",CHAR(10),'[6]GESTION_SEG_1_TRIM DSAJV'!K60,CHAR(10),\"Trimestre 2\",CHAR(10),'[6]GESTION_SEG_2_TRIM DSAJV'!K60),\" \")","v":"Trimestre 1\n\nTrimestre 2\n"}]
[null,null,null,null,"Apoyo","Admin - Gestión Tecnológica","Seccional","Hacer seguimiento a la digitalización de expedientes judiciales","Entregable",null,null,"Coordinador del grupo de mantenimiento y soporte tecnológico","Informe mensual de avance de digitalizacón de expedientes","2023-01-01","2023-12-31",{"$f":"IFERROR(MAX('[6]GESTION_SEG_1_TRIM DSAJV'!H61,'[6]GESTION_SEG_2_TRIM DSAJV'!H61),\"\")","v":20},null,{"$f":"IFERROR(_xlfn.CONCAT(\"Trimestre 1\",CHAR(10),'[6]GESTION_SEG_1_TRIM DSAJV'!J61,CHAR(10),\"Trimestre 2\",CHAR(10),'[6]GESTION_SEG_2_TRIM DSAJV'!J61),\" \")","v":"Trimestre 1\n\nTrimestre 2\n"},{"$f":"IFERROR(_xlfn.CONCAT(\"Trimestre 1\",CHAR(10),'[6]GESTION_SEG_1_TRIM DSAJV'!K61,CHAR(10),\"Trimestre 2\",CHAR(10),'[6]GESTION_SEG_2_TRIM DSAJV'!K61),\" \")","v":"Trimestre 1\n\nTrimestre 2\n"}]
[null,null,null,null,"Apoyo","Admin - Gestión Financiera y Presupuestal","Seccional","Realizar seguimiento a la ejecución presupuestal de las apropiaciones y compromisos para la vigencia 2023.","Meta cuantificable",100,"TRIMESTRAL","LIDER DEL PROCESO","Ejecuciones Presupuestales SIIF UE02-08-09","2023-01-01","2023-12-31",{"$f":"IFERROR(MAX('[6]GESTION_SEG_1_TRIM DSAJV'!H62,'[6]GESTION_SEG_2_TRIM DSAJV'!H62),\"\")","v":0},null,{"$f":"IFERROR(_xlfn.CONCAT(\"Trimestre 1\",CHAR(10),'[6]GESTION_SEG_1_TRIM DSAJV'!J62,CHAR(10),\"Trimestre 2\",CHAR(10),'[6]GESTION_SEG_2_TRIM DSAJV'!J62),\" \")","v":"Trimestre 1\n\nTrimestre 2\n"},{"$f":"IFERROR(_xlfn.CONCAT(\"Trimestre 1\",CHAR(10),'[6]GESTION_SEG_1_TRIM DSAJV'!K62,CHAR(10),\"Trimestre 2\",CHAR(10),'[6]GESTION_SEG_2_TRIM DSAJV'!K62),\" \")","v":"Trimestre 1\n\nTrimestre 2\n"}]
[null,null,null,null,"Apoyo","Admin - Gestión Financiera y Presupuestal","Seccional","Realizar las proyecciones históricas para la solicitud de cupo PAC y ejecutar los pagos previamente definidos de manera oportuna.","Entregable",null,null,"LIDER DEL PROCESO","Reporte PAC","2023-01-01","2023-12-31",{"$f":"IFERROR(MAX('[6]GESTION_SEG_1_TRIM DSAJV'!H63,'[6]GESTION_SEG_2_TRIM DSAJV'!H63),\"\")","v":0},null,{"$f":"IFERROR(_xlfn.CONCAT(\"Trimestre 1\",CHAR(10),'[6]GESTION_SEG_1_TRIM DSAJV'!J63,CHAR(10),\"Trimestre 2\",CHAR(10),'[6]GESTION_SEG_2_TRIM DSAJV'!J63),\" \")","v":"Trimestre 1\n\nTrimestre 2\n"},{"$f":"IFERROR(_xlfn.CONCAT(\"Trimestre 1\",CHAR(10),'[6]GESTION_SEG_1_TRIM DSAJV'!K63,CHAR(10),\"Trimestre 2\",CHAR(10),'[6]GESTION_SEG_2_TRIM DSAJV'!K63),\" \")","v":"Trimestre 1\n\nTrimestre 2\n"}]
[null,null,null,null,null,null,null,null,null,null,null,null,null,null,null,{"$f":"IFERROR(MAX('[6]GESTION_SEG_1_TRIM DSAJV'!H64,'[6]GESTION_SEG_2_TRIM DSAJV'!H64),\"\")","v":0},"",{"$f":"IFERROR(_xlfn.CONCAT(\"Trimestre 1\",CHAR(10),'[6]GESTION_SEG_1_TRIM DSAJV'!J64,CHAR(10),\"Trimestre 2\",CHAR(10),'[6]GESTION_SEG_2_TRIM DSAJV'!J64),\" \")","v":"Trimestre 1\n\nTrimestre 2\n"},{"$f":"IFERROR(_xlfn.CONCAT(\"Trimestre 1\",CHAR(10),'[6]GESTION_SEG_1_TRIM DSAJV'!K64,CHAR(10),\"Trimestre 2\",CHAR(10),'[6]GESTION_SEG_2_TRIM DSAJV'!K64),\" \")","v":"Trimestre 1\n\nTrimestre 2\n"}]
[null,null,null,null,null,null,null,null,null,null,null,null,null,null,null,{"$f":"IFERROR(MAX('[6]GESTION_SEG_1_TRIM DSAJV'!H65,'[6]GESTION_SEG_2_TRIM DSAJV'!H65),\"\")","v":0},"",{"$f":"IFERROR(_xlfn.CONCAT(\"Trimestre 1\",CHAR(10),'[6]GESTION_SEG_1_TRIM DSAJV'!J65,CHAR(10),\"Trimestre 2\",CHAR(10),'[6]GESTION_SEG_2_TRIM DSAJV'!J65),\" \")","v":"Trimestre 1\n\nTrimestre 2\n"},{"$f":"IFERROR(_xlfn.CONCAT(\"Trimestre 1\",CHAR(10),'[6]GESTION_SEG_1_TRIM DSAJV'!K65,CHAR(10),\"Trimestre 2\",CHAR(10),'[6]GESTION_SEG_2_TRIM DSAJV'!K65),\" \")","v":"Trimestre 1\n\nTrimestre 2\n"}]
[null,null,"2. Integrar y hacer compatibles todos los aplicativos de transición con SIUGJ, para que la migración de los expedientes judiciales a dicha plataforma sea real y no suponga afectaciones en la prestación del servicio de justicia.",null,null,null,null,null,null,null,null,null,null,null,null,{"$f":"IFERROR(MAX('[6]GESTION_SEG_1_TRIM DSAJV'!H66,'[6]GESTION_SEG_2_TRIM DSAJV'!H66),\"\")","v":0},"",{"$f":"IFERROR(_xlfn.CONCAT(\"Trimestre 1\",CHAR(10),'[6]GESTION_SEG_1_TRIM DSAJV'!J66,CHAR(10),\"Trimestre 2\",CHAR(10),'[6]GESTION_SEG_2_TRIM DSAJV'!J66),\" \")","v":"Trimestre 1\n\nTrimestre 2\n"},{"$f":"IFERROR(_xlfn.CONCAT(\"Trimestre 1\",CHAR(10),'[6]GESTION_SEG_1_TRIM DSAJV'!K66,CHAR(10),\"Trimestre 2\",CHAR(10),'[6]GESTION_SEG_2_TRIM DSAJV'!K66),\" \")","v":"Trimestre 1\n\nTrimestre 2\n"}]
[null,null,null,null,null,null,null,null,null,null,null,null,null,null,null,{"$f":"IFERROR(MAX('[6]GESTION_SEG_1_TRIM DSAJV'!H67,'[6]GESTION_SEG_2_TRIM DSAJV'!H67),\"\")","v":0},"",{"$f":"IFERROR(_xlfn.CONCAT(\"Trimestre 1\",CHAR(10),'[6]GESTION_SEG_1_TRIM DSAJV'!J67,CHAR(10),\"Trimestre 2\",CHAR(10),'[6]GESTION_SEG_2_TRIM DSAJV'!J67),\" \")","v":"Trimestre 1\n\nTrimestre 2\n"},{"$f":"IFERROR(_xlfn.CONCAT(\"Trimestre 1\",CHAR(10),'[6]GESTION_SEG_1_TRIM DSAJV'!K67,CHAR(10),\"Trimestre 2\",CHAR(10),'[6]GESTION_SEG_2_TRIM DSAJV'!K67),\" \")","v":"Trimestre 1\n\nTrimestre 2\n"}]
[null,null,null,null,null,null,null,null,null,null,null,null,null,null,null,{"$f":"IFERROR(MAX('[6]GESTION_SEG_1_TRIM DSAJV'!H68,'[6]GESTION_SEG_2_TRIM DSAJV'!H68),\"\")","v":0},null,{"$f":"IFERROR(_xlfn.CONCAT(\"Trimestre 1\",CHAR(10),'[6]GESTION_SEG_1_TRIM DSAJV'!J68,CHAR(10),\"Trimestre 2\",CHAR(10),'[6]GESTION_SEG_2_TRIM DSAJV'!J68),\" \")","v":"Trimestre 1\n\nTrimestre 2\n"},{"$f":"IFERROR(_xlfn.CONCAT(\"Trimestre 1\",CHAR(10),'[6]GESTION_SEG_1_TRIM DSAJV'!K68,CHAR(10),\"Trimestre 2\",CHAR(10),'[6]GESTION_SEG_2_TRIM DSAJV'!K68),\" \")","v":"Trimestre 1\n\nTrimestre 2\n"}]
[null,null,null,null,null,null,null,null,null,null,null,null,null,null,null,{"$f":"IFERROR(MAX('[6]GESTION_SEG_1_TRIM DSAJV'!H69,'[6]GESTION_SEG_2_TRIM DSAJV'!H69),\"\")","v":0},null,{"$f":"IFERROR(_xlfn.CONCAT(\"Trimestre 1\",CHAR(10),'[6]GESTION_SEG_1_TRIM DSAJV'!J69,CHAR(10),\"Trimestre 2\",CHAR(10),'[6]GESTION_SEG_2_TRIM DSAJV'!J69),\" \")","v":"Trimestre 1\n\nTrimestre 2\n"},{"$f":"IFERROR(_xlfn.CONCAT(\"Trimestre 1\",CHAR(10),'[6]GESTION_SEG_1_TRIM DSAJV'!K69,CHAR(10),\"Trimestre 2\",CHAR(10),'[6]GESTION_SEG_2_TRIM DSAJV'!K69),\" \")","v":"Trimestre 1\n\nTrimestre 2\n"}]
[null,null,null,null,null,null,null,null,null,null,null,null,null,null,null,{"$f":"IFERROR(MAX('[6]GESTION_SEG_1_TRIM DSAJV'!H70,'[6]GESTION_SEG_2_TRIM DSAJV'!H70),\"\")","v":0},null,{"$f":"IFERROR(_xlfn.CONCAT(\"Trimestre 1\",CHAR(10),'[6]GESTION_SEG_1_TRIM DSAJV'!J70,CHAR(10),\"Trimestre 2\",CHAR(10),'[6]GESTION_SEG_2_TRIM DSAJV'!J70),\" \")","v":"Trimestre 1\n\nTrimestre 2\n"},{"$f":"IFERROR(_xlfn.CONCAT(\"Trimestre 1\",CHAR(10),'[6]GESTION_SEG_1_TRIM DSAJV'!K70,CHAR(10),\"Trimestre 2\",CHAR(10),'[6]GESTION_SEG_2_TRIM DSAJV'!K70),\" \")","v":"Trimestre 1\n\nTrimestre 2\n"}]
[null,null,null,null,null,null,null,null,null,null,null,null,null,null,null,{"$f":"IFERROR(MAX('[6]GESTION_SEG_1_TRIM DSAJV'!H71,'[6]GESTION_SEG_2_TRIM DSAJV'!H71),\"\")","v":0},null,{"$f":"IFERROR(_xlfn.CONCAT(\"Trimestre 1\",CHAR(10),'[6]GESTION_SEG_1_TRIM DSAJV'!J71,CHAR(10),\"Trimestre 2\",CHAR(10),'[6]GESTION_SEG_2_TRIM DSAJV'!J71),\" \")","v":"Trimestre 1\n\nTrimestre 2\n"},{"$f":"IFERROR(_xlfn.CONCAT(\"Trimestre 1\",CHAR(10),'[6]GESTION_SEG_1_TRIM DSAJV'!K71,CHAR(10),\"Trimestre 2\",CHAR(10),'[6]GESTION_SEG_2_TRIM DSAJV'!K71),\" \")","v":"Trimestre 1\n\nTrimestre 2\n"}]
[null,null,null,null,null,null,null,null,null,null,null,null,null,null,null,{"$f":"IFERROR(MAX('[6]GESTION_SEG_1_TRIM DSAJV'!H72,'[6]GESTION_SEG_2_TRIM DSAJV'!H72),\"\")","v":0},null,{"$f":"IFERROR(_xlfn.CONCAT(\"Trimestre 1\",CHAR(10),'[6]GESTION_SEG_1_TRIM DSAJV'!J72,CHAR(10),\"Trimestre 2\",CHAR(10),'[6]GESTION_SEG_2_TRIM DSAJV'!J72),\" \")","v":"Trimestre 1\n\nTrimestre 2\n"},{"$f":"IFERROR(_xlfn.CONCAT(\"Trimestre 1\",CHAR(10),'[6]GESTION_SEG_1_TRIM DSAJV'!K72,CHAR(10),\"Trimestre 2\",CHAR(10),'[6]GESTION_SEG_2_TRIM DSAJV'!K72),\" \")","v":"Trimestre 1\n\nTrimestre 2\n"}]
[null,null,null,null,null,null,null,null,null,null,null,null,null,null,null,{"$f":"IFERROR(MAX('[6]GESTION_SEG_1_TRIM DSAJV'!H73,'[6]GESTION_SEG_2_TRIM DSAJV'!H73),\"\")","v":0},{"$f":"IFERROR(P73/J73,\"\")","v":""},{"$f":"IFERROR(_xlfn.CONCAT(\"Trimestre 1\",CHAR(10),'[6]GESTION_SEG_1_TRIM DSAJV'!J73,CHAR(10),\"Trimestre 2\",CHAR(10),'[6]GESTION_SEG_2_TRIM DSAJV'!J73),\" \")","v":"Trimestre 1\n\nTrimestre 2\n"},{"$f":"IFERROR(_xlfn.CONCAT(\"Trimestre 1\",CHAR(10),'[6]GESTION_SEG_1_TRIM DSAJV'!K73,CHAR(10),\"Trimestre 2\",CHAR(10),'[6]GESTION_SEG_2_TRIM DSAJV'!K73),\" \")","v":"Trimestre 1\n\nTrimestre 2\n"}]
[null,null,null,null,null,null,null,null,null,null,null,null,null,null,null,{"$f":"IFERROR(MAX('[6]GESTION_SEG_1_TRIM DSAJV'!H74,'[6]GESTION_SEG_2_TRIM DSAJV'!H74),\"\")","v":0},"",{"$f":"IFERROR(_xlfn.CONCAT(\"Trimestre 1\",CHAR(10),'[6]GESTION_SEG_1_TRIM DSAJV'!J74,CHAR(10),\"Trimestre 2\",CHAR(10),'[6]GESTION_SEG_2_TRIM DSAJV'!J74),\" \")","v":"Trimestre 1\n\nTrimestre 2\n"},{"$f":"IFERROR(_xlfn.CONCAT(\"Trimestre 1\",CHAR(10),'[6]GESTION_SEG_1_TRIM DSAJV'!K74,CHAR(10),\"Trimestre 2\",CHAR(10),'[6]GESTION_SEG_2_TRIM DSAJV'!K74),\" \")","v":"Trimestre 1\n\nTrimestre 2\n"}]
[null,null,null,null,null,null,null,null,null,null,null,null,null,null,null,{"$f":"IFERROR(MAX('[6]GESTION_SEG_1_TRIM DSAJV'!H75,'[6]GESTION_SEG_2_TRIM DSAJV'!H75),\"\")","v":0},"",{"$f":"IFERROR(_xlfn.CONCAT(\"Trimestre 1\",CHAR(10),'[6]GESTION_SEG_1_TRIM DSAJV'!J75,CHAR(10),\"Trimestre 2\",CHAR(10),'[6]GESTION_SEG_2_TRIM DSAJV'!J75),\" \")","v":"Trimestre 1\n\nTrimestre 2\n"},{"$f":"IFERROR(_xlfn.CONCAT(\"Trimestre 1\",CHAR(10),'[6]GESTION_SEG_1_TRIM DSAJV'!K75,CHAR(10),\"Trimestre 2\",CHAR(10),'[6]GESTION_SEG_2_TRIM DSAJV'!K75),\" \")","v":"Trimestre 1\n\nTrimestre 2\n"}]
[null,null,"3. Fortalecer las capacidades institucionales, adecuar el modelo operativo y de servicio, bajo un enfoque de Arquitectura Empresarial y de fortalecimiento del acceso a la justicia.",null,null,null,null,null,null,null,null,null,null,null,null,{"$f":"IFERROR(MAX('[6]GESTION_SEG_1_TRIM DSAJV'!H76,'[6]GESTION_SEG_2_TRIM DSAJV'!H76),\"\")","v":0},"",{"$f":"IFERROR(_xlfn.CONCAT(\"Trimestre 1\",CHAR(10),'[6]GESTION_SEG_1_TRIM DSAJV'!J76,CHAR(10),\"Trimestre 2\",CHAR(10),'[6]GESTION_SEG_2_TRIM DSAJV'!J76),\" \")","v":"Trimestre 1\n\nTrimestre 2\n"},{"$f":"IFERROR(_xlfn.CONCAT(\"Trimestre 1\",CHAR(10),'[6]GESTION_SEG_1_TRIM DSAJV'!K76,CHAR(10),\"Trimestre 2\",CHAR(10),'[6]GESTION_SEG_2_TRIM DSAJV'!K76),\" \")","v":"Trimestre 1\n\nTrimestre 2\n"}]
[null,null,null,null,null,null,null,null,null,null,null,null,null,null,null,{"$f":"IFERROR(MAX('[6]GESTION_SEG_1_TRIM DSAJV'!H77,'[6]GESTION_SEG_2_TRIM DSAJV'!H77),\"\")","v":0},"",{"$f":"IFERROR(_xlfn.CONCAT(\"Trimestre 1\",CHAR(10),'[6]GESTION_SEG_1_TRIM DSAJV'!J77,CHAR(10),\"Trimestre 2\",CHAR(10),'[6]GESTION_SEG_2_TRIM DSAJV'!J77),\" \")","v":"Trimestre 1\n\nTrimestre 2\n"},{"$f":"IFERROR(_xlfn.CONCAT(\"Trimestre 1\",CHAR(10),'[6]GESTION_SEG_1_TRIM DSAJV'!K77,CHAR(10),\"Trimestre 2\",CHAR(10),'[6]GESTION_SEG_2_TRIM DSAJV'!K77),\" \")","v":"Trimestre 1\n\nTrimestre 2\n"}]
[null,null,null,null,null,null,null,null,null,null,null,null,null,null,null,{"$f":"IFERROR(MAX('[6]GESTION_SEG_1_TRIM DSAJV'!H78,'[6]GESTION_SEG_2_TRIM DSAJV'!H78),\"\")","v":0},null,{"$f":"IFERROR(_xlfn.CONCAT(\"Trimestre 1\",CHAR(10),'[6]GESTION_SEG_1_TRIM DSAJV'!J78,CHAR(10),\"Trimestre 2\",CHAR(10),'[6]GESTION_SEG_2_TRIM DSAJV'!J78),\" \")","v":"Trimestre 1\n\nTrimestre 2\n"},{"$f":"IFERROR(_xlfn.CONCAT(\"Trimestre 1\",CHAR(10),'[6]GESTION_SEG_1_TRIM DSAJV'!K78,CHAR(10),\"Trimestre 2\",CHAR(10),'[6]GESTION_SEG_2_TRIM DSAJV'!K78),\" \")","v":"Trimestre 1\n\nTrimestre 2\n"}]
[null,null,null,null,null,null,null,null,null,null,null,null,null,null,null,{"$f":"IFERROR(MAX('[6]GESTION_SEG_1_TRIM DSAJV'!H79,'[6]GESTION_SEG_2_TRIM DSAJV'!H79),\"\")","v":0},null,{"$f":"IFERROR(_xlfn.CONCAT(\"Trimestre 1\",CHAR(10),'[6]GESTION_SEG_1_TRIM DSAJV'!J79,CHAR(10),\"Trimestre 2\",CHAR(10),'[6]GESTION_SEG_2_TRIM DSAJV'!J79),\" \")","v":"Trimestre 1\n\nTrimestre 2\n"},{"$f":"IFERROR(_xlfn.CONCAT(\"Trimestre 1\",CHAR(10),'[6]GESTION_SEG_1_TRIM DSAJV'!K79,CHAR(10),\"Trimestre 2\",CHAR(10),'[6]GESTION_SEG_2_TRIM DSAJV'!K79),\" \")","v":"Trimestre 1\n\nTrimestre 2\n"}]
[null,null,null,null,null,null,null,null,null,null,null,null,null,null,null,{"$f":"IFERROR(MAX('[6]GESTION_SEG_1_TRIM DSAJV'!H80,'[6]GESTION_SEG_2_TRIM DSAJV'!H80),\"\")","v":0},null,{"$f":"IFERROR(_xlfn.CONCAT(\"Trimestre 1\",CHAR(10),'[6]GESTION_SEG_1_TRIM DSAJV'!J80,CHAR(10),\"Trimestre 2\",CHAR(10),'[6]GESTION_SEG_2_TRIM DSAJV'!J80),\" \")","v":"Trimestre 1\n\nTrimestre 2\n"},{"$f":"IFERROR(_xlfn.CONCAT(\"Trimestre 1\",CHAR(10),'[6]GESTION_SEG_1_TRIM DSAJV'!K80,CHAR(10),\"Trimestre 2\",CHAR(10),'[6]GESTION_SEG_2_TRIM DSAJV'!K80),\" \")","v":"Trimestre 1\n\nTrimestre 2\n"}]
[null,null,null,null,null,null,null,null,null,null,null,null,null,null,null,{"$f":"IFERROR(MAX('[6]GESTION_SEG_1_TRIM DSAJV'!H81,'[6]GESTION_SEG_2_TRIM DSAJV'!H81),\"\")","v":0},null,{"$f":"IFERROR(_xlfn.CONCAT(\"Trimestre 1\",CHAR(10),'[6]GESTION_SEG_1_TRIM DSAJV'!J81,CHAR(10),\"Trimestre 2\",CHAR(10),'[6]GESTION_SEG_2_TRIM DSAJV'!J81),\" \")","v":"Trimestre 1\n\nTrimestre 2\n"},{"$f":"IFERROR(_xlfn.CONCAT(\"Trimestre 1\",CHAR(10),'[6]GESTION_SEG_1_TRIM DSAJV'!K81,CHAR(10),\"Trimestre 2\",CHAR(10),'[6]GESTION_SEG_2_TRIM DSAJV'!K81),\" \")","v":"Trimestre 1\n\nTrimestre 2\n"}]
[null,null,null,null,null,null,null,null,null,null,null,null,null,null,null,{"$f":"IFERROR(MAX('[6]GESTION_SEG_1_TRIM DSAJV'!H82,'[6]GESTION_SEG_2_TRIM DSAJV'!H82),\"\")","v":0},null,{"$f":"IFERROR(_xlfn.CONCAT(\"Trimestre 1\",CHAR(10),'[6]GESTION_SEG_1_TRIM DSAJV'!J82,CHAR(10),\"Trimestre 2\",CHAR(10),'[6]GESTION_SEG_2_TRIM DSAJV'!J82),\" \")","v":"Trimestre 1\n\nTrimestre 2\n"},{"$f":"IFERROR(_xlfn.CONCAT(\"Trimestre 1\",CHAR(10),'[6]GESTION_SEG_1_TRIM DSAJV'!K82,CHAR(10),\"Trimestre 2\",CHAR(10),'[6]GESTION_SEG_2_TRIM DSAJV'!K82),\" \")","v":"Trimestre 1\n\nTrimestre 2\n"}]
[null,null,null,null,null,null,null,null,null,null,null,null,null,null,null,{"$f":"IFERROR(MAX('[6]GESTION_SEG_1_TRIM DSAJV'!H83,'[6]GESTION_SEG_2_TRIM DSAJV'!H83),\"\")","v":0},"",{"$f":"IFERROR(_xlfn.CONCAT(\"Trimestre 1\",CHAR(10),'[6]GESTION_SEG_1_TRIM DSAJV'!J83,CHAR(10),\"Trimestre 2\",CHAR(10),'[6]GESTION_SEG_2_TRIM DSAJV'!J83),\" \")","v":"Trimestre 1\n\nTrimestre 2\n"},{"$f":"IFERROR(_xlfn.CONCAT(\"Trimestre 1\",CHAR(10),'[6]GESTION_SEG_1_TRIM DSAJV'!K83,CHAR(10),\"Trimestre 2\",CHAR(10),'[6]GESTION_SEG_2_TRIM DSAJV'!K83),\" \")","v":"Trimestre 1\n\nTrimestre 2\n"}]
[null,null,null,null,null,null,null,null,null,null,null,null,null,null,null,{"$f":"IFERROR(MAX('[6]GESTION_SEG_1_TRIM DSAJV'!H84,'[6]GESTION_SEG_2_TRIM DSAJV'!H84),\"\")","v":0},"",{"$f":"IFERROR(_xlfn.CONCAT(\"Trimestre 1\",CHAR(10),'[6]GESTION_SEG_1_TRIM DSAJV'!J84,CHAR(10),\"Trimestre 2\",CHAR(10),'[6]GESTION_SEG_2_TRIM DSAJV'!J84),\" \")","v":"Trimestre 1\n\nTrimestre 2\n"},{"$f":"IFERROR(_xlfn.CONCAT(\"Trimestre 1\",CHAR(10),'[6]GESTION_SEG_1_TRIM DSAJV'!K84,CHAR(10),\"Trimestre 2\",CHAR(10),'[6]GESTION_SEG_2_TRIM DSAJV'!K84),\" \")","v":"Trimestre 1\n\nTrimestre 2\n"}]
[null,null,null,null,null,null,null,null,null,null,null,null,null,null,null,{"$f":"IFERROR(MAX('[6]GESTION_SEG_1_TRIM DSAJV'!H85,'[6]GESTION_SEG_2_TRIM DSAJV'!H85),\"\")","v":0},"",{"$f":"IFERROR(_xlfn.CONCAT(\"Trimestre 1\",CHAR(10),'[6]GESTION_SEG_1_TRIM DSAJV'!J85,CHAR(10),\"Trimestre 2\",CHAR(10),'[6]GESTION_SEG_2_TRIM DSAJV'!J85),\" \")","v":"Trimestre 1\n\nTrimestre 2\n"},{"$f":"IFERROR(_xlfn.CONCAT(\"Trimestre 1\",CHAR(10),'[6]GESTION_SEG_1_TRIM DSAJV'!K85,CHAR(10),\"Trimestre 2\",CHAR(10),'[6]GESTION_SEG_2_TRIM DSAJV'!K85),\" \")","v":"Trimestre 1\n\nTrimestre 2\n"}]
[null,null,"4.Consolidar la cultura y apropiación de la transformación digital en los servidores y usuarios de los servicios de la Rama Judicial y reducir brechas de acceso y conocimiento, incluyendo la oferta efectiva de información sobre el uso de las nuevas herramientas virtuales implementadas en las diferentes jurisdicciones, con especial énfasis en las zonas del país donde es evidente la brecha digital.",null,null,null,null,null,null,null,null,null,null,null,null,{"$f":"IFERROR(MAX('[6]GESTION_SEG_1_TRIM DSAJV'!H86,'[6]GESTION_SEG_2_TRIM DSAJV'!H86),\"\")","v":0},"",{"$f":"IFERROR(_xlfn.CONCAT(\"Trimestre 1\",CHAR(10),'[6]GESTION_SEG_1_TRIM DSAJV'!J86,CHAR(10),\"Trimestre 2\",CHAR(10),'[6]GESTION_SEG_2_TRIM DSAJV'!J86),\" \")","v":"Trimestre 1\n\nTrimestre 2\n"},{"$f":"IFERROR(_xlfn.CONCAT(\"Trimestre 1\",CHAR(10),'[6]GESTION_SEG_1_TRIM DSAJV'!K86,CHAR(10),\"Trimestre 2\",CHAR(10),'[6]GESTION_SEG_2_TRIM DSAJV'!K86),\" \")","v":"Trimestre 1\n\nTrimestre 2\n"}]
[null,null,null,null,null,null,null,null,null,null,null,null,null,null,null,{"$f":"IFERROR(MAX('[6]GESTION_SEG_1_TRIM DSAJV'!H87,'[6]GESTION_SEG_2_TRIM DSAJV'!H87),\"\")","v":0},"",{"$f":"IFERROR(_xlfn.CONCAT(\"Trimestre 1\",CHAR(10),'[6]GESTION_SEG_1_TRIM DSAJV'!J87,CHAR(10),\"Trimestre 2\",CHAR(10),'[6]GESTION_SEG_2_TRIM DSAJV'!J87),\" \")","v":"Trimestre 1\n\nTrimestre 2\n"},{"$f":"IFERROR(_xlfn.CONCAT(\"Trimestre 1\",CHAR(10),'[6]GESTION_SEG_1_TRIM DSAJV'!K87,CHAR(10),\"Trimestre 2\",CHAR(10),'[6]GESTION_SEG_2_TRIM DSAJV'!K87),\" \")","v":"Trimestre 1\n\nTrimestre 2\n"}]
[null,null,null,null,null,null,null,null,null,null,null,null,null,null,null,{"$f":"IFERROR(MAX('[6]GESTION_SEG_1_TRIM DSAJV'!H88,'[6]GESTION_SEG_2_TRIM DSAJV'!H88),\"\")","v":0},null,{"$f":"IFERROR(_xlfn.CONCAT(\"Trimestre 1\",CHAR(10),'[6]GESTION_SEG_1_TRIM DSAJV'!J88,CHAR(10),\"Trimestre 2\",CHAR(10),'[6]GESTION_SEG_2_TRIM DSAJV'!J88),\" \")","v":"Trimestre 1\n\nTrimestre 2\n"},{"$f":"IFERROR(_xlfn.CONCAT(\"Trimestre 1\",CHAR(10),'[6]GESTION_SEG_1_TRIM DSAJV'!K88,CHAR(10),\"Trimestre 2\",CHAR(10),'[6]GESTION_SEG_2_TRIM DSAJV'!K88),\" \")","v":"Trimestre 1\n\nTrimestre 2\n"}]
[null,null,null,null,null,null,null,null,null,null,null,null,null,null,null,{"$f":"IFERROR(MAX('[6]GESTION_SEG_1_TRIM DSAJV'!H89,'[6]GESTION_SEG_2_TRIM DSAJV'!H89),\"\")","v":0},null,{"$f":"IFERROR(_xlfn.CONCAT(\"Trimestre 1\",CHAR(10),'[6]GESTION_SEG_1_TRIM DSAJV'!J89,CHAR(10),\"Trimestre 2\",CHAR(10),'[6]GESTION_SEG_2_TRIM DSAJV'!J89),\" \")","v":"Trimestre 1\n\nTrimestre 2\n"},{"$f":"IFERROR(_xlfn.CONCAT(\"Trimestre 1\",CHAR(10),'[6]GESTION_SEG_1_TRIM DSAJV'!K89,CHAR(10),\"Trimestre 2\",CHAR(10),'[6]GESTION_SEG_2_TRIM DSAJV'!K89),\" \")","v":"Trimestre 1\n\nTrimestre 2\n"}]
[null,null,null,null,null,null,null,null,null,null,null,null,null,null,null,{"$f":"IFERROR(MAX('[6]GESTION_SEG_1_TRIM DSAJV'!H90,'[6]GESTION_SEG_2_TRIM DSAJV'!H90),\"\")","v":0},null,{"$f":"IFERROR(_xlfn.CONCAT(\"Trimestre 1\",CHAR(10),'[6]GESTION_SEG_1_TRIM DSAJV'!J90,CHAR(10),\"Trimestre 2\",CHAR(10),'[6]GESTION_SEG_2_TRIM DSAJV'!J90),\" \")","v":"Trimestre 1\n\nTrimestre 2\n"},{"$f":"IFERROR(_xlfn.CONCAT(\"Trimestre 1\",CHAR(10),'[6]GESTION_SEG_1_TRIM DSAJV'!K90,CHAR(10),\"Trimestre 2\",CHAR(10),'[6]GESTION_SEG_2_TRIM DSAJV'!K90),\" \")","v":"Trimestre 1\n\nTrimestre 2\n"}]
[null,null,null,null,null,null,null,null,null,null,null,null,null,null,null,{"$f":"IFERROR(MAX('[6]GESTION_SEG_1_TRIM DSAJV'!H91,'[6]GESTION_SEG_2_TRIM DSAJV'!H91),\"\")","v":0},null,{"$f":"IFERROR(_xlfn.CONCAT(\"Trimestre 1\",CHAR(10),'[6]GESTION_SEG_1_TRIM DSAJV'!J91,CHAR(10),\"Trimestre 2\",CHAR(10),'[6]GESTION_SEG_2_TRIM DSAJV'!J91),\" \")","v":"Trimestre 1\n\nTrimestre 2\n"},{"$f":"IFERROR(_xlfn.CONCAT(\"Trimestre 1\",CHAR(10),'[6]GESTION_SEG_1_TRIM DSAJV'!K91,CHAR(10),\"Trimestre 2\",CHAR(10),'[6]GESTION_SEG_2_TRIM DSAJV'!K91),\" \")","v":"Trimestre 1\n\nTrimestre 2\n"}]
[null,null,null,null,null,null,null,null,null,null,null,null,null,null,null,{"$f":"IFERROR(MAX('[6]GESTION_SEG_1_TRIM DSAJV'!H92,'[6]GESTION_SEG_2_TRIM DSAJV'!H92),\"\")","v":0},null,{"$f":"IFERROR(_xlfn.CONCAT(\"Trimestre 1\",CHAR(10),'[6]GESTION_SEG_1_TRIM DSAJV'!J92,CHAR(10),\"Trimestre 2\",CHAR(10),'[6]GESTION_SEG_2_TRIM DSAJV'!J92),\" \")","v":"Trimestre 1\n\nTrimestre 2\n"},{"$f":"IFERROR(_xlfn.CONCAT(\"Trimestre 1\",CHAR(10),'[6]GESTION_SEG_1_TRIM DSAJV'!K92,CHAR(10),\"Trimestre 2\",CHAR(10),'[6]GESTION_SEG_2_TRIM DSAJV'!K92),\" \")","v":"Trimestre 1\n\nTrimestre 2\n"}]
[null,null,null,null,null,null,null,null,null,null,null,null,null,null,null,{"$f":"IFERROR(MAX('[6]GESTION_SEG_1_TRIM DSAJV'!H93,'[6]GESTION_SEG_2_TRIM DSAJV'!H93),\"\")","v":0},"",{"$f":"IFERROR(_xlfn.CONCAT(\"Trimestre 1\",CHAR(10),'[6]GESTION_SEG_1_TRIM DSAJV'!J93,CHAR(10),\"Trimestre 2\",CHAR(10),'[6]GESTION_SEG_2_TRIM DSAJV'!J93),\" \")","v":"Trimestre 1\n\nTrimestre 2\n"},{"$f":"IFERROR(_xlfn.CONCAT(\"Trimestre 1\",CHAR(10),'[6]GESTION_SEG_1_TRIM DSAJV'!K93,CHAR(10),\"Trimestre 2\",CHAR(10),'[6]GESTION_SEG_2_TRIM DSAJV'!K93),\" \")","v":"Trimestre 1\n\nTrimestre 2\n"}]
[null,null,null,null,null,null,null,null,null,null,null,null,null,null,null,{"$f":"IFERROR(MAX('[6]GESTION_SEG_1_TRIM DSAJV'!H94,'[6]GESTION_SEG_2_TRIM DSAJV'!H94),\"\")","v":0},"",{"$f":"IFERROR(_xlfn.CONCAT(\"Trimestre 1\",CHAR(10),'[6]GESTION_SEG_1_TRIM DSAJV'!J94,CHAR(10),\"Trimestre 2\",CHAR(10),'[6]GESTION_SEG_2_TRIM DSAJV'!J94),\" \")","v":"Trimestre 1\n\nTrimestre 2\n"},{"$f":"IFERROR(_xlfn.CONCAT(\"Trimestre 1\",CHAR(10),'[6]GESTION_SEG_1_TRIM DSAJV'!K94,CHAR(10),\"Trimestre 2\",CHAR(10),'[6]GESTION_SEG_2_TRIM DSAJV'!K94),\" \")","v":"Trimestre 1\n\nTrimestre 2\n"}]
[null,null,null,null,null,null,null,null,null,null,null,null,null,null,null,{"$f":"IFERROR(MAX('[6]GESTION_SEG_1_TRIM DSAJV'!H95,'[6]GESTION_SEG_2_TRIM DSAJV'!H95),\"\")","v":0},"",{"$f":"IFERROR(_xlfn.CONCAT(\"Trimestre 1\",CHAR(10),'[6]GESTION_SEG_1_TRIM DSAJV'!J95,CHAR(10),\"Trimestre 2\",CHAR(10),'[6]GESTION_SEG_2_TRIM DSAJV'!J95),\" \")","v":"Trimestre 1\n\nTrimestre 2\n"},{"$f":"IFERROR(_xlfn.CONCAT(\"Trimestre 1\",CHAR(10),'[6]GESTION_SEG_1_TRIM DSAJV'!K95,CHAR(10),\"Trimestre 2\",CHAR(10),'[6]GESTION_SEG_2_TRIM DSAJV'!K95),\" \")","v":"Trimestre 1\n\nTrimestre 2\n"}]
[null,null,"5.Consolidar la infraestructura y los recursos necesarios para la implementación exitosa de la transformación digital, incluyendo la disposición de internet de calidad en el 100% de las sedes en la Rama Judicial y modernizar los servicios tecnológicos de soporte. ",null,null,null,null,null,null,null,null,null,null,null,null,{"$f":"IFERROR(MAX('[6]GESTION_SEG_1_TRIM DSAJV'!H96,'[6]GESTION_SEG_2_TRIM DSAJV'!H96),\"\")","v":0},"",{"$f":"IFERROR(_xlfn.CONCAT(\"Trimestre 1\",CHAR(10),'[6]GESTION_SEG_1_TRIM DSAJV'!J96,CHAR(10),\"Trimestre 2\",CHAR(10),'[6]GESTION_SEG_2_TRIM DSAJV'!J96),\" \")","v":"Trimestre 1\n\nTrimestre 2\n"},{"$f":"IFERROR(_xlfn.CONCAT(\"Trimestre 1\",CHAR(10),'[6]GESTION_SEG_1_TRIM DSAJV'!K96,CHAR(10),\"Trimestre 2\",CHAR(10),'[6]GESTION_SEG_2_TRIM DSAJV'!K96),\" \")","v":"Trimestre 1\n\nTrimestre 2\n"}]
[null,null,null,null,null,null,null,null,null,null,null,null,null,null,null,{"$f":"IFERROR(MAX('[6]GESTION_SEG_1_TRIM DSAJV'!H97,'[6]GESTION_SEG_2_TRIM DSAJV'!H97),\"\")","v":0},"",{"$f":"IFERROR(_xlfn.CONCAT(\"Trimestre 1\",CHAR(10),'[6]GESTION_SEG_1_TRIM DSAJV'!J97,CHAR(10),\"Trimestre 2\",CHAR(10),'[6]GESTION_SEG_2_TRIM DSAJV'!J97),\" \")","v":"Trimestre 1\n\nTrimestre 2\n"},{"$f":"IFERROR(_xlfn.CONCAT(\"Trimestre 1\",CHAR(10),'[6]GESTION_SEG_1_TRIM DSAJV'!K97,CHAR(10),\"Trimestre 2\",CHAR(10),'[6]GESTION_SEG_2_TRIM DSAJV'!K97),\" \")","v":"Trimestre 1\n\nTrimestre 2\n"}]
[null,null,null,null,null,null,null,null,null,null,null,null,null,null,null,{"$f":"IFERROR(MAX('[6]GESTION_SEG_1_TRIM DSAJV'!H98,'[6]GESTION_SEG_2_TRIM DSAJV'!H98),\"\")","v":0},null,{"$f":"IFERROR(_xlfn.CONCAT(\"Trimestre 1\",CHAR(10),'[6]GESTION_SEG_1_TRIM DSAJV'!J98,CHAR(10),\"Trimestre 2\",CHAR(10),'[6]GESTION_SEG_2_TRIM DSAJV'!J98),\" \")","v":"Trimestre 1\n\nTrimestre 2\n"},{"$f":"IFERROR(_xlfn.CONCAT(\"Trimestre 1\",CHAR(10),'[6]GESTION_SEG_1_TRIM DSAJV'!K98,CHAR(10),\"Trimestre 2\",CHAR(10),'[6]GESTION_SEG_2_TRIM DSAJV'!K98),\" \")","v":"Trimestre 1\n\nTrimestre 2\n"}]
[null,null,null,null,null,null,null,null,null,null,null,null,null,null,null,{"$f":"IFERROR(MAX('[6]GESTION_SEG_1_TRIM DSAJV'!H99,'[6]GESTION_SEG_2_TRIM DSAJV'!H99),\"\")","v":0},null,{"$f":"IFERROR(_xlfn.CONCAT(\"Trimestre 1\",CHAR(10),'[6]GESTION_SEG_1_TRIM DSAJV'!J99,CHAR(10),\"Trimestre 2\",CHAR(10),'[6]GESTION_SEG_2_TRIM DSAJV'!J99),\" \")","v":"Trimestre 1\n\nTrimestre 2\n"},{"$f":"IFERROR(_xlfn.CONCAT(\"Trimestre 1\",CHAR(10),'[6]GESTION_SEG_1_TRIM DSAJV'!K99,CHAR(10),\"Trimestre 2\",CHAR(10),'[6]GESTION_SEG_2_TRIM DSAJV'!K99),\" \")","v":"Trimestre 1\n\nTrimestre 2\n"}]
[null,null,null,null,null,null,null,null,null,null,null,null,null,null,null,{"$f":"IFERROR(MAX('[6]GESTION_SEG_1_TRIM DSAJV'!H100,'[6]GESTION_SEG_2_TRIM DSAJV'!H100),\"\")","v":0},null,{"$f":"IFERROR(_xlfn.CONCAT(\"Trimestre 1\",CHAR(10),'[6]GESTION_SEG_1_TRIM DSAJV'!J100,CHAR(10),\"Trimestre 2\",CHAR(10),'[6]GESTION_SEG_2_TRIM DSAJV'!J100),\" \")","v":"Trimestre 1\n\nTrimestre 2\n"},{"$f":"IFERROR(_xlfn.CONCAT(\"Trimestre 1\",CHAR(10),'[6]GESTION_SEG_1_TRIM DSAJV'!K100,CHAR(10),\"Trimestre 2\",CHAR(10),'[6]GESTION_SEG_2_TRIM DSAJV'!K100),\" \")","v":"Trimestre 1\n\nTrimestre 2\n"}]
[null,null,null,null,null,null,null,null,null,null,null,null,null,null,null,{"$f":"IFERROR(MAX('[6]GESTION_SEG_1_TRIM DSAJV'!H101,'[6]GESTION_SEG_2_TRIM DSAJV'!H101),\"\")","v":0},null,{"$f":"IFERROR(_xlfn.CONCAT(\"Trimestre 1\",CHAR(10),'[6]GESTION_SEG_1_TRIM DSAJV'!J101,CHAR(10),\"Trimestre 2\",CHAR(10),'[6]GESTION_SEG_2_TRIM DSAJV'!J101),\" \")","v":"Trimestre 1\n\nTrimestre 2\n"},{"$f":"IFERROR(_xlfn.CONCAT(\"Trimestre 1\",CHAR(10),'[6]GESTION_SEG_1_TRIM DSAJV'!K101,CHAR(10),\"Trimestre 2\",CHAR(10),'[6]GESTION_SEG_2_TRIM DSAJV'!K101),\" \")","v":"Trimestre 1\n\nTrimestre 2\n"}]
[null,null,null,null,null,null,null,null,null,null,null,null,null,null,null,{"$f":"IFERROR(MAX('[6]GESTION_SEG_1_TRIM DSAJV'!H102,'[6]GESTION_SEG_2_TRIM DSAJV'!H102),\"\")","v":0},null,{"$f":"IFERROR(_xlfn.CONCAT(\"Trimestre 1\",CHAR(10),'[6]GESTION_SEG_1_TRIM DSAJV'!J102,CHAR(10),\"Trimestre 2\",CHAR(10),'[6]GESTION_SEG_2_TRIM DSAJV'!J102),\" \")","v":"Trimestre 1\n\nTrimestre 2\n"},{"$f":"IFERROR(_xlfn.CONCAT(\"Trimestre 1\",CHAR(10),'[6]GESTION_SEG_1_TRIM DSAJV'!K102,CHAR(10),\"Trimestre 2\",CHAR(10),'[6]GESTION_SEG_2_TRIM DSAJV'!K102),\" \")","v":"Trimestre 1\n\nTrimestre 2\n"}]
[null,null,null,null,null,null,null,null,null,null,null,null,null,null,null,{"$f":"IFERROR(MAX('[6]GESTION_SEG_1_TRIM DSAJV'!H103,'[6]GESTION_SEG_2_TRIM DSAJV'!H103),\"\")","v":0},"",{"$f":"IFERROR(_xlfn.CONCAT(\"Trimestre 1\",CHAR(10),'[6]GESTION_SEG_1_TRIM DSAJV'!J103,CHAR(10),\"Trimestre 2\",CHAR(10),'[6]GESTION_SEG_2_TRIM DSAJV'!J103),\" \")","v":"Trimestre 1\n\nTrimestre 2\n"},{"$f":"IFERROR(_xlfn.CONCAT(\"Trimestre 1\",CHAR(10),'[6]GESTION_SEG_1_TRIM DSAJV'!K103,CHAR(10),\"Trimestre 2\",CHAR(10),'[6]GESTION_SEG_2_TRIM DSAJV'!K103),\" \")","v":"Trimestre 1\n\nTrimestre 2\n"}]
[null,null,null,null,null,null,null,null,null,null,null,null,null,null,null,{"$f":"IFERROR(MAX('[6]GESTION_SEG_1_TRIM DSAJV'!H104,'[6]GESTION_SEG_2_TRIM DSAJV'!H104),\"\")","v":0},"",{"$f":"IFERROR(_xlfn.CONCAT(\"Trimestre 1\",CHAR(10),'[6]GESTION_SEG_1_TRIM DSAJV'!J104,CHAR(10),\"Trimestre 2\",CHAR(10),'[6]GESTION_SEG_2_TRIM DSAJV'!J104),\" \")","v":"Trimestre 1\n\nTrimestre 2\n"},{"$f":"IFERROR(_xlfn.CONCAT(\"Trimestre 1\",CHAR(10),'[6]GESTION_SEG_1_TRIM DSAJV'!K104,CHAR(10),\"Trimestre 2\",CHAR(10),'[6]GESTION_SEG_2_TRIM DSAJV'!K104),\" \")","v":"Trimestre 1\n\nTrimestre 2\n"}]
[null,null,null,null,null,null,null,null,null,null,null,null,null,null,null,{"$f":"IFERROR(MAX('[6]GESTION_SEG_1_TRIM DSAJV'!H105,'[6]GESTION_SEG_2_TRIM DSAJV'!H105),\"\")","v":0},"",{"$f":"IFERROR(_xlfn.CONCAT(\"Trimestre 1\",CHAR(10),'[6]GESTION_SEG_1_TRIM DSAJV'!J105,CHAR(10),\"Trimestre 2\",CHAR(10),'[6]GESTION_SEG_2_TRIM DSAJV'!J105),\" \")","v":"Trimestre 1\n\nTrimestre 2\n"},{"$f":"IFERROR(_xlfn.CONCAT(\"Trimestre 1\",CHAR(10),'[6]GESTION_SEG_1_TRIM DSAJV'!K105,CHAR(10),\"Trimestre 2\",CHAR(10),'[6]GESTION_SEG_2_TRIM DSAJV'!K105),\" \")","v":"Trimestre 1\n\nTrimestre 2\n"}]
[null,null,"6.Integrar y optimizar los servicios administrativos de la Rama Judicial bajo un enfoque de transformación digital e innovación incluyendo los componentes financiero, administrativo, talento humano, entre otros",null,null,null,null,null,null,null,null,null,null,null,null,{"$f":"IFERROR(MAX('[6]GESTION_SEG_1_TRIM DSAJV'!H106,'[6]GESTION_SEG_2_TRIM DSAJV'!H106),\"\")","v":0},"",{"$f":"IFERROR(_xlfn.CONCAT(\"Trimestre 1\",CHAR(10),'[6]GESTION_SEG_1_TRIM DSAJV'!J106,CHAR(10),\"Trimestre 2\",CHAR(10),'[6]GESTION_SEG_2_TRIM DSAJV'!J106),\" \")","v":"Trimestre 1\n\nTrimestre 2\n"},{"$f":"IFERROR(_xlfn.CONCAT(\"Trimestre 1\",CHAR(10),'[6]GESTION_SEG_1_TRIM DSAJV'!K106,CHAR(10),\"Trimestre 2\",CHAR(10),'[6]GESTION_SEG_2_TRIM DSAJV'!K106),\" \")","v":"Trimestre 1\n\nTrimestre 2\n"}]
[null,null,null,null,null,null,null,null,null,null,null,null,null,null,null,{"$f":"IFERROR(MAX('[6]GESTION_SEG_1_TRIM DSAJV'!H107,'[6]GESTION_SEG_2_TRIM DSAJV'!H107),\"\")","v":0},null,{"$f":"IFERROR(_xlfn.CONCAT(\"Trimestre 1\",CHAR(10),'[6]GESTION_SEG_1_TRIM DSAJV'!J107,CHAR(10),\"Trimestre 2\",CHAR(10),'[6]GESTION_SEG_2_TRIM DSAJV'!J107),\" \")","v":"Trimestre 1\n\nTrimestre 2\n"},{"$f":"IFERROR(_xlfn.CONCAT(\"Trimestre 1\",CHAR(10),'[6]GESTION_SEG_1_TRIM DSAJV'!K107,CHAR(10),\"Trimestre 2\",CHAR(10),'[6]GESTION_SEG_2_TRIM DSAJV'!K107),\" \")","v":"Trimestre 1\n\nTrimestre 2\n"}]
[null,null,null,null,null,null,null,null,null,null,null,null,null,null,null,{"$f":"IFERROR(MAX('[6]GESTION_SEG_1_TRIM DSAJV'!H108,'[6]GESTION_SEG_2_TRIM DSAJV'!H108),\"\")","v":0},null,{"$f":"IFERROR(_xlfn.CONCAT(\"Trimestre 1\",CHAR(10),'[6]GESTION_SEG_1_TRIM DSAJV'!J108,CHAR(10),\"Trimestre 2\",CHAR(10),'[6]GESTION_SEG_2_TRIM DSAJV'!J108),\" \")","v":"Trimestre 1\n\nTrimestre 2\n"},{"$f":"IFERROR(_xlfn.CONCAT(\"Trimestre 1\",CHAR(10),'[6]GESTION_SEG_1_TRIM DSAJV'!K108,CHAR(10),\"Trimestre 2\",CHAR(10),'[6]GESTION_SEG_2_TRIM DSAJV'!K108),\" \")","v":"Trimestre 1\n\nTrimestre 2\n"}]
[null,null,null,null,null,null,null,null,null,null,null,null,null,null,null,{"$f":"IFERROR(MAX('[6]GESTION_SEG_1_TRIM DSAJV'!H109,'[6]GESTION_SEG_2_TRIM DSAJV'!H109),\"\")","v":0},null,{"$f":"IFERROR(_xlfn.CONCAT(\"Trimestre 1\",CHAR(10),'[6]GESTION_SEG_1_TRIM DSAJV'!J109,CHAR(10),\"Trimestre 2\",CHAR(10),'[6]GESTION_SEG_2_TRIM DSAJV'!J109),\" \")","v":"Trimestre 1\n\nTrimestre 2\n"},{"$f":"IFERROR(_xlfn.CONCAT(\"Trimestre 1\",CHAR(10),'[6]GESTION_SEG_1_TRIM DSAJV'!K109,CHAR(10),\"Trimestre 2\",CHAR(10),'[6]GESTION_SEG_2_TRIM DSAJV'!K109),\" \")","v":"Trimestre 1\n\nTrimestre 2\n"}]
[null,null,null,null,null,null,null,null,null,null,null,null,null,null,null,{"$f":"IFERROR(MAX('[6]GESTION_SEG_1_TRIM DSAJV'!H110,'[6]GESTION_SEG_2_TRIM DSAJV'!H110),\"\")","v":0},null,{"$f":"IFERROR(_xlfn.CONCAT(\"Trimestre 1\",CHAR(10),'[6]GESTION_SEG_1_TRIM DSAJV'!J110,CHAR(10),\"Trimestre 2\",CHAR(10),'[6]GESTION_SEG_2_TRIM DSAJV'!J110),\" \")","v":"Trimestre 1\n\nTrimestre 2\n"},{"$f":"IFERROR(_xlfn.CONCAT(\"Trimestre 1\",CHAR(10),'[6]GESTION_SEG_1_TRIM DSAJV'!K110,CHAR(10),\"Trimestre 2\",CHAR(10),'[6]GESTION_SEG_2_TRIM DSAJV'!K110),\" \")","v":"Trimestre 1\n\nTrimestre 2\n"}]
[null,null,null,null,null,null,null,null,null,null,null,null,null,null,null,{"$f":"IFERROR(MAX('[6]GESTION_SEG_1_TRIM DSAJV'!H111,'[6]GESTION_SEG_2_TRIM DSAJV'!H111),\"\")","v":0},null,{"$f":"IFERROR(_xlfn.CONCAT(\"Trimestre 1\",CHAR(10),'[6]GESTION_SEG_1_TRIM DSAJV'!J111,CHAR(10),\"Trimestre 2\",CHAR(10),'[6]GESTION_SEG_2_TRIM DSAJV'!J111),\" \")","v":"Trimestre 1\n\nTrimestre 2\n"},{"$f":"IFERROR(_xlfn.CONCAT(\"Trimestre 1\",CHAR(10),'[6]GESTION_SEG_1_TRIM DSAJV'!K111,CHAR(10),\"Trimestre 2\",CHAR(10),'[6]GESTION_SEG_2_TRIM DSAJV'!K111),\" \")","v":"Trimestre 1\n\nTrimestre 2\n"}]
[null,null,null,null,null,null,null,null,null,null,null,null,null,null,null,{"$f":"IFERROR(MAX('[6]GESTION_SEG_1_TRIM DSAJV'!H112,'[6]GESTION_SEG_2_TRIM DSAJV'!H112),\"\")","v":0},"",{"$f":"IFERROR(_xlfn.CONCAT(\"Trimestre 1\",CHAR(10),'[6]GESTION_SEG_1_TRIM DSAJV'!J112,CHAR(10),\"Trimestre 2\",CHAR(10),'[6]GESTION_SEG_2_TRIM DSAJV'!J112),\" \")","v":"Trimestre 1\n\nTrimestre 2\n"},{"$f":"IFERROR(_xlfn.CONCAT(\"Trimestre 1\",CHAR(10),'[6]GESTION_SEG_1_TRIM DSAJV'!K112,CHAR(10),\"Trimestre 2\",CHAR(10),'[6]GESTION_SEG_2_TRIM DSAJV'!K112),\" \")","v":"Trimestre 1\n\nTrimestre 2\n"}]
[null,null,null,null,null,null,null,null,null,null,null,null,null,null,null,{"$f":"IFERROR(MAX('[6]GESTION_SEG_1_TRIM DSAJV'!H113,'[6]GESTION_SEG_2_TRIM DSAJV'!H113),\"\")","v":0},"",{"$f":"IFERROR(_xlfn.CONCAT(\"Trimestre 1\",CHAR(10),'[6]GESTION_SEG_1_TRIM DSAJV'!J113,CHAR(10),\"Trimestre 2\",CHAR(10),'[6]GESTION_SEG_2_TRIM DSAJV'!J113),\" \")","v":"Trimestre 1\n\nTrimestre 2\n"},{"$f":"IFERROR(_xlfn.CONCAT(\"Trimestre 1\",CHAR(10),'[6]GESTION_SEG_1_TRIM DSAJV'!K113,CHAR(10),\"Trimestre 2\",CHAR(10),'[6]GESTION_SEG_2_TRIM DSAJV'!K113),\" \")","v":"Trimestre 1\n\nTrimestre 2\n"}]
[null,null,null,null,null,null,null,null,null,null,null,null,null,null,null,{"$f":"IFERROR(MAX('[6]GESTION_SEG_1_TRIM DSAJV'!H114,'[6]GESTION_SEG_2_TRIM DSAJV'!H114),\"\")","v":0},"",{"$f":"IFERROR(_xlfn.CONCAT(\"Trimestre 1\",CHAR(10),'[6]GESTION_SEG_1_TRIM DSAJV'!J114,CHAR(10),\"Trimestre 2\",CHAR(10),'[6]GESTION_SEG_2_TRIM DSAJV'!J114),\" \")","v":"Trimestre 1\n\nTrimestre 2\n"},{"$f":"IFERROR(_xlfn.CONCAT(\"Trimestre 1\",CHAR(10),'[6]GESTION_SEG_1_TRIM DSAJV'!K114,CHAR(10),\"Trimestre 2\",CHAR(10),'[6]GESTION_SEG_2_TRIM DSAJV'!K114),\" \")","v":"Trimestre 1\n\nTrimestre 2\n"}]
[null,null,null,null,null,null,null,null,null,null,null,null,null,null,null,{"$f":"IFERROR(MAX('[6]GESTION_SEG_1_TRIM DSAJV'!H115,'[6]GESTION_SEG_2_TRIM DSAJV'!H115),\"\")","v":0},"",{"$f":"IFERROR(_xlfn.CONCAT(\"Trimestre 1\",CHAR(10),'[6]GESTION_SEG_1_TRIM DSAJV'!J115,CHAR(10),\"Trimestre 2\",CHAR(10),'[6]GESTION_SEG_2_TRIM DSAJV'!J115),\" \")","v":"Trimestre 1\n\nTrimestre 2\n"},{"$f":"IFERROR(_xlfn.CONCAT(\"Trimestre 1\",CHAR(10),'[6]GESTION_SEG_1_TRIM DSAJV'!K115,CHAR(10),\"Trimestre 2\",CHAR(10),'[6]GESTION_SEG_2_TRIM DSAJV'!K115),\" \")","v":"Trimestre 1\n\nTrimestre 2\n"}]
["3. Confianza pública, transparencia y rendición de cuentas","Confianza pública, transparencia y rendición de cuentas: Aumentar la confianza pública en la justicia a través de la transparencia, la rendición de cuentas y la participación, incluyendo la información de justicia y la producción, gestión y acceso a las fuentes de derecho, el fortalecimiento del sistema de gestión de calidad y medio ambiente (SIGCMA) y el mejoramiento de la calidad y publicidad de la información. ","1. Incrementar la cantidad, la calidad y pertinencia de los datos sobre el funcionamiento del servicio de justicia bajo un modelo de gobierno de datos y un liderazgo unificado. ","4. Hacer un uso racional de los recursos naturales aplicando los principios y fases de la Economía Circular, para prevenir, mitigar y controlar los impactos ambientales.","Apoyo","Admin - Asistencia Legal","Seccional","Seguimiento notificacion resolucion mandamiento de pago proceso coactivo  ","Entregable",4,1,"Coordinador de Cobro Coactivo","Informe trimestral de seguimiento","2023-01-01","2023-12-31",{"$f":"IFERROR(MAX('[6]GESTION_SEG_1_TRIM DSAJV'!H116,'[6]GESTION_SEG_2_TRIM DSAJV'!H116),\"\")","v":1},0.25,{"$f":"IFERROR(_xlfn.CONCAT(\"Trimestre 1\",CHAR(10),'[6]GESTION_SEG_1_TRIM DSAJV'!J116,CHAR(10),\"Trimestre 2\",CHAR(10),'[6]GESTION_SEG_2_TRIM DSAJV'!J116),\" \")","v":"Trimestre 1\n\nTrimestre 2\n"},{"$f":"IFERROR(_xlfn.CONCAT(\"Trimestre 1\",CHAR(10),'[6]GESTION_SEG_1_TRIM DSAJV'!K116,CHAR(10),\"Trimestre 2\",CHAR(10),'[6]GESTION_SEG_2_TRIM DSAJV'!K116),\" \")","v":"Trimestre 1\n\nTrimestre 2\n"}]
[null,null,null,null,"Apoyo","Admin - Asistencia Legal","Seccional","Elaborar las fichas de las solicitudes de conciliación prejudicial y de los procesos que se adelantan ante la jurisdicción contencioso administrativo, para presentarlos ante el Comité Secciona de Conciliación. ","Entregable",null,null,"Coordinador de Asistencia Legal","Informe trimestral de seguimiento","2023-01-01","2023-12-31",{"$f":"IFERROR(MAX('[6]GESTION_SEG_1_TRIM DSAJV'!H117,'[6]GESTION_SEG_2_TRIM DSAJV'!H117),\"\")","v":18},"",{"$f":"IFERROR(_xlfn.CONCAT(\"Trimestre 1\",CHAR(10),'[6]GESTION_SEG_1_TRIM DSAJV'!J117,CHAR(10),\"Trimestre 2\",CHAR(10),'[6]GESTION_SEG_2_TRIM DSAJV'!J117),\" \")","v":"Trimestre 1\n\nTrimestre 2\n"},{"$f":"IFERROR(_xlfn.CONCAT(\"Trimestre 1\",CHAR(10),'[6]GESTION_SEG_1_TRIM DSAJV'!K117,CHAR(10),\"Trimestre 2\",CHAR(10),'[6]GESTION_SEG_2_TRIM DSAJV'!K117),\" \")","v":"Trimestre 1\nPara el primer trimestre de 2023, el área juridica de la Dirección Seccional de Administración Judicial, recibio 18 solicitudes de conciliación prejudicial y de estudios de conciliación, las cuales fueron presentadas ante el comité de conciliación dentro del mismo periodo de medición, lo que indica que la meta propuesta del 100% fue alcanzada en su totalidad. Con lo anterior, se muestra la gestión oportuna del área de asistencia legal de la Dirección Seccional de Admiistración Judicial de Villavicencio. No obstante el no realizar el tramite oportuno de las solicitudes de conciliación extrajudicial trae como consecuencia compulsa de copias al comite de conciliacòn por parte de la Procuradurìa.\nTrimestre 2\n"}]
[null,null,null,null,"Apoyo","Admin - Asistencia Legal","Seccional","Diligenciamiento aplicativo EKOGUI","Entregable",null,null,"Coordinador de Asistencia Legal","Informe trimestral de seguimiento","2023-01-01","2023-12-31",{"$f":"IFERROR(MAX('[6]GESTION_SEG_1_TRIM DSAJV'!H118,'[6]GESTION_SEG_2_TRIM DSAJV'!H118),\"\")","v":1},null,{"$f":"IFERROR(_xlfn.CONCAT(\"Trimestre 1\",CHAR(10),'[6]GESTION_SEG_1_TRIM DSAJV'!J118,CHAR(10),\"Trimestre 2\",CHAR(10),'[6]GESTION_SEG_2_TRIM DSAJV'!J118),\" \")","v":"Trimestre 1\n\nTrimestre 2\n"},{"$f":"IFERROR(_xlfn.CONCAT(\"Trimestre 1\",CHAR(10),'[6]GESTION_SEG_1_TRIM DSAJV'!K118,CHAR(10),\"Trimestre 2\",CHAR(10),'[6]GESTION_SEG_2_TRIM DSAJV'!K118),\" \")","v":"Trimestre 1\nDurante el primer trimestre de 2023, se realizó un informe donde se evidencia que en el ekogui se actualizaron 83 procesos \nTrimestre 2\n"}]
[null,null,null,null,"Apoyo","Admin - Asistencia Legal","Seccional","Seguimiento de recuado de cartera vigencia año 2023","Meta cuantificable",214715800,28823114,"Coordinador de Cobro Coactivo","Informe trimestral de seguimiento","2023-01-01","2023-12-31",{"$f":"IFERROR(MAX('[6]GESTION_SEG_1_TRIM DSAJV'!H119,'[6]GESTION_SEG_2_TRIM DSAJV'!H119),\"\")","v":28823114},null,{"$f":"IFERROR(_xlfn.CONCAT(\"Trimestre 1\",CHAR(10),'[6]GESTION_SEG_1_TRIM DSAJV'!J119,CHAR(10),\"Trimestre 2\",CHAR(10),'[6]GESTION_SEG_2_TRIM DSAJV'!J119),\" \")","v":"Trimestre 1\n\nTrimestre 2\n"},{"$f":"IFERROR(_xlfn.CONCAT(\"Trimestre 1\",CHAR(10),'[6]GESTION_SEG_1_TRIM DSAJV'!K119,CHAR(10),\"Trimestre 2\",CHAR(10),'[6]GESTION_SEG_2_TRIM DSAJV'!K119),\" \")","v":"Trimestre 1\nEn el primer trismestre de 2023 se logró un recaudo por el valor de $28.823.114\nTrimestre 2\n"}]
[null,null,null,null,null,"Admin - Asistencia Legal","Seccional","Contestacion a las demandas dentro de los terminos establecidos por los despachos judiciales ","Entregable",null,null,"Coordinador de Asistencia Legal",null,"2023-01-01","2023-12-31",{"$f":"IFERROR(MAX('[6]GESTION_SEG_1_TRIM DSAJV'!H120,'[6]GESTION_SEG_2_TRIM DSAJV'!H120),\"\")","v":14},null,{"$f":"IFERROR(_xlfn.CONCAT(\"Trimestre 1\",CHAR(10),'[6]GESTION_SEG_1_TRIM DSAJV'!J120,CHAR(10),\"Trimestre 2\",CHAR(10),'[6]GESTION_SEG_2_TRIM DSAJV'!J120),\" \")","v":"Trimestre 1\n\nTrimestre 2\n"},{"$f":"IFERROR(_xlfn.CONCAT(\"Trimestre 1\",CHAR(10),'[6]GESTION_SEG_1_TRIM DSAJV'!K120,CHAR(10),\"Trimestre 2\",CHAR(10),'[6]GESTION_SEG_2_TRIM DSAJV'!K120),\" \")","v":"Trimestre 1\nDurante el primer trimestre  de 2023, se registraron 14 demandas en contra de la entidad las cuales fueron contestadas en su totalidad\nTrimestre 2\n"}]
[null,null,null,null,null,"Admin - Asistencia Legal","Seccional","Contestacion de las acciones de tutela dentro de los terminos establecidos por los despachos judiciales ","Entregable",null,null,"Coordinador de Asistencia Legal",null,"2023-01-01","2023-12-31",{"$f":"IFERROR(MAX('[6]GESTION_SEG_1_TRIM DSAJV'!H121,'[6]GESTION_SEG_2_TRIM DSAJV'!H121),\"\")","v":23},null,{"$f":"IFERROR(_xlfn.CONCAT(\"Trimestre 1\",CHAR(10),'[6]GESTION_SEG_1_TRIM DSAJV'!J121,CHAR(10),\"Trimestre 2\",CHAR(10),'[6]GESTION_SEG_2_TRIM DSAJV'!J121),\" \")","v":"Trimestre 1\n\nTrimestre 2\n"},{"$f":"IFERROR(_xlfn.CONCAT(\"Trimestre 1\",CHAR(10),'[6]GESTION_SEG_1_TRIM DSAJV'!K121,CHAR(10),\"Trimestre 2\",CHAR(10),'[6]GESTION_SEG_2_TRIM DSAJV'!K121),\" \")","v":"Trimestre 1\nPara el primer trimestre de 2023,  el área juridica de la Dirección Seccional de Administración Judicial, fue notificada de 23tutelas, las cuales fueron contestadas dentro del término establecido por los despachos judiciales que se encontraban a cargo de las mismas. Cabe indicar que las tutelas cuentan con un término establecido para dar  respuesta a las mismas por lo que la meta del indicador siempre debera ser 100% y el resultado debe ser el mismo.\nTrimestre 2\n"}]
[null,null,null,null,null,null,null,null,null,null,null,null,null,null,null,{"$f":"IFERROR(MAX('[6]GESTION_SEG_1_TRIM DSAJV'!H122,'[6]GESTION_SEG_2_TRIM DSAJV'!H122),\"\")","v":0},null,{"$f":"IFERROR(_xlfn.CONCAT(\"Trimestre 1\",CHAR(10),'[6]GESTION_SEG_1_TRIM DSAJV'!J122,CHAR(10),\"Trimestre 2\",CHAR(10),'[6]GESTION_SEG_2_TRIM DSAJV'!J122),\" \")","v":"Trimestre 1\n\nTrimestre 2\n"},{"$f":"IFERROR(_xlfn.CONCAT(\"Trimestre 1\",CHAR(10),'[6]GESTION_SEG_1_TRIM DSAJV'!K122,CHAR(10),\"Trimestre 2\",CHAR(10),'[6]GESTION_SEG_2_TRIM DSAJV'!K122),\" \")","v":"Trimestre 1\n\nTrimestre 2\n"}]
[null,null,null,null,null,null,null,null,null,null,null,null,null,null,null,{"$f":"IFERROR(MAX('[6]GESTION_SEG_1_TRIM DSAJV'!H123,'[6]GESTION_SEG_2_TRIM DSAJV'!H123),\"\")","v":0},"",{"$f":"IFERROR(_xlfn.CONCAT(\"Trimestre 1\",CHAR(10),'[6]GESTION_SEG_1_TRIM DSAJV'!J123,CHAR(10),\"Trimestre 2\",CHAR(10),'[6]GESTION_SEG_2_TRIM DSAJV'!J123),\" \")","v":"Trimestre 1\n\nTrimestre 2\n"},{"$f":"IFERROR(_xlfn.CONCAT(\"Trimestre 1\",CHAR(10),'[6]GESTION_SEG_1_TRIM DSAJV'!K123,CHAR(10),\"Trimestre 2\",CHAR(10),'[6]GESTION_SEG_2_TRIM DSAJV'!K123),\" \")","v":"Trimestre 1\n\nTrimestre 2\n"}]
[null,null,null,null,null,null,null,null,null,null,null,null,null,null,null,{"$f":"IFERROR(MAX('[6]GESTION_SEG_1_TRIM DSAJV'!H124,'[6]GESTION_SEG_2_TRIM DSAJV'!H124),\"\")","v":0},"",{"$f":"IFERROR(_xlfn.CONCAT(\"Trimestre 1\",CHAR(10),'[6]GESTION_SEG_1_TRIM DSAJV'!J124,CHAR(10),\"Trimestre 2\",CHAR(10),'[6]GESTION_SEG_2_TRIM DSAJV'!J124),\" \")","v":"Trimestre 1\n\nTrimestre 2\n"},{"$f":"IFERROR(_xlfn.CONCAT(\"Trimestre 1\",CHAR(10),'[6]GESTION_SEG_1_TRIM DSAJV'!K124,CHAR(10),\"Trimestre 2\",CHAR(10),'[6]GESTION_SEG_2_TRIM DSAJV'!K124),\" \")","v":"Trimestre 1\n\nTrimestre 2\n"}]
[null,null,null,null,null,null,null,null,null,null,null,null,null,null,null,{"$f":"IFERROR(MAX('[6]GESTION_SEG_1_TRIM DSAJV'!H125,'[6]GESTION_SEG_2_TRIM DSAJV'!H125),\"\")","v":0},"",{"$f":"IFERROR(_xlfn.CONCAT(\"Trimestre 1\",CHAR(10),'[6]GESTION_SEG_1_TRIM DSAJV'!J125,CHAR(10),\"Trimestre 2\",CHAR(10),'[6]GESTION_SEG_2_TRIM DSAJV'!J125),\" \")","v":"Trimestre 1\n\nTrimestre 2\n"},{"$f":"IFERROR(_xlfn.CONCAT(\"Trimestre 1\",CHAR(10),'[6]GESTION_SEG_1_TRIM DSAJV'!K125,CHAR(10),\"Trimestre 2\",CHAR(10),'[6]GESTION_SEG_2_TRIM DSAJV'!K125),\" \")","v":"Trimestre 1\n\nTrimestre 2\n"}]
[null,null,"2. Consolidar la administración de la información entendida como todas las acciones rientadas a garantizar el acceso, consulta, uso y conservación de la información de justicia de manera ágil, flexible e inteligente, bajo un enfoque de innovación.",null,null,null,null,null,null,null,null,null,null,null,null,{"$f":"IFERROR(MAX('[6]GESTION_SEG_1_TRIM DSAJV'!H126,'[6]GESTION_SEG_2_TRIM DSAJV'!H126),\"\")","v":0},"",{"$f":"IFERROR(_xlfn.CONCAT(\"Trimestre 1\",CHAR(10),'[6]GESTION_SEG_1_TRIM DSAJV'!J126,CHAR(10),\"Trimestre 2\",CHAR(10),'[6]GESTION_SEG_2_TRIM DSAJV'!J126),\" \")","v":"Trimestre 1\n\nTrimestre 2\n"},{"$f":"IFERROR(_xlfn.CONCAT(\"Trimestre 1\",CHAR(10),'[6]GESTION_SEG_1_TRIM DSAJV'!K126,CHAR(10),\"Trimestre 2\",CHAR(10),'[6]GESTION_SEG_2_TRIM DSAJV'!K126),\" \")","v":"Trimestre 1\n\nTrimestre 2\n"}]
[null,null,null,null,null,null,null,null,null,null,null,null,null,null,null,{"$f":"IFERROR(MAX('[6]GESTION_SEG_1_TRIM DSAJV'!H127,'[6]GESTION_SEG_2_TRIM DSAJV'!H127),\"\")","v":0},"",{"$f":"IFERROR(_xlfn.CONCAT(\"Trimestre 1\",CHAR(10),'[6]GESTION_SEG_1_TRIM DSAJV'!J127,CHAR(10),\"Trimestre 2\",CHAR(10),'[6]GESTION_SEG_2_TRIM DSAJV'!J127),\" \")","v":"Trimestre 1\n\nTrimestre 2\n"},{"$f":"IFERROR(_xlfn.CONCAT(\"Trimestre 1\",CHAR(10),'[6]GESTION_SEG_1_TRIM DSAJV'!K127,CHAR(10),\"Trimestre 2\",CHAR(10),'[6]GESTION_SEG_2_TRIM DSAJV'!K127),\" \")","v":"Trimestre 1\n\nTrimestre 2\n"}]
[null,null,null,null,null,null,null,null,null,null,null,null,null,null,null,{"$f":"IFERROR(MAX('[6]GESTION_SEG_1_TRIM DSAJV'!H128,'[6]GESTION_SEG_2_TRIM DSAJV'!H128),\"\")","v":0},null,{"$f":"IFERROR(_xlfn.CONCAT(\"Trimestre 1\",CHAR(10),'[6]GESTION_SEG_1_TRIM DSAJV'!J128,CHAR(10),\"Trimestre 2\",CHAR(10),'[6]GESTION_SEG_2_TRIM DSAJV'!J128),\" \")","v":"Trimestre 1\n\nTrimestre 2\n"},{"$f":"IFERROR(_xlfn.CONCAT(\"Trimestre 1\",CHAR(10),'[6]GESTION_SEG_1_TRIM DSAJV'!K128,CHAR(10),\"Trimestre 2\",CHAR(10),'[6]GESTION_SEG_2_TRIM DSAJV'!K128),\" \")","v":"Trimestre 1\n\nTrimestre 2\n"}]
[null,null,null,null,null,null,null,null,null,null,null,null,null,null,null,{"$f":"IFERROR(MAX('[6]GESTION_SEG_1_TRIM DSAJV'!H129,'[6]GESTION_SEG_2_TRIM DSAJV'!H129),\"\")","v":0},null,{"$f":"IFERROR(_xlfn.CONCAT(\"Trimestre 1\",CHAR(10),'[6]GESTION_SEG_1_TRIM DSAJV'!J129,CHAR(10),\"Trimestre 2\",CHAR(10),'[6]GESTION_SEG_2_TRIM DSAJV'!J129),\" \")","v":"Trimestre 1\n\nTrimestre 2\n"},{"$f":"IFERROR(_xlfn.CONCAT(\"Trimestre 1\",CHAR(10),'[6]GESTION_SEG_1_TRIM DSAJV'!K129,CHAR(10),\"Trimestre 2\",CHAR(10),'[6]GESTION_SEG_2_TRIM DSAJV'!K129),\" \")","v":"Trimestre 1\n\nTrimestre 2\n"}]
[null,null,null,null,null,null,null,null,null,null,null,null,null,null,null,{"$f":"IFERROR(MAX('[6]GESTION_SEG_1_TRIM DSAJV'!H130,'[6]GESTION_SEG_2_TRIM DSAJV'!H130),\"\")","v":0},null,{"$f":"IFERROR(_xlfn.CONCAT(\"Trimestre 1\",CHAR(10),'[6]GESTION_SEG_1_TRIM DSAJV'!J130,CHAR(10),\"Trimestre 2\",CHAR(10),'[6]GESTION_SEG_2_TRIM DSAJV'!J130),\" \")","v":"Trimestre 1\n\nTrimestre 2\n"},{"$f":"IFERROR(_xlfn.CONCAT(\"Trimestre 1\",CHAR(10),'[6]GESTION_SEG_1_TRIM DSAJV'!K130,CHAR(10),\"Trimestre 2\",CHAR(10),'[6]GESTION_SEG_2_TRIM DSAJV'!K130),\" \")","v":"Trimestre 1\n\nTrimestre 2\n"}]
[null,null,null,null,null,null,null,null,null,null,null,null,null,null,null,{"$f":"IFERROR(MAX('[6]GESTION_SEG_1_TRIM DSAJV'!H131,'[6]GESTION_SEG_2_TRIM DSAJV'!H131),\"\")","v":0},null,{"$f":"IFERROR(_xlfn.CONCAT(\"Trimestre 1\",CHAR(10),'[6]GESTION_SEG_1_TRIM DSAJV'!J131,CHAR(10),\"Trimestre 2\",CHAR(10),'[6]GESTION_SEG_2_TRIM DSAJV'!J131),\" \")","v":"Trimestre 1\n\nTrimestre 2\n"},{"$f":"IFERROR(_xlfn.CONCAT(\"Trimestre 1\",CHAR(10),'[6]GESTION_SEG_1_TRIM DSAJV'!K131,CHAR(10),\"Trimestre 2\",CHAR(10),'[6]GESTION_SEG_2_TRIM DSAJV'!K131),\" \")","v":"Trimestre 1\n\nTrimestre 2\n"}]
[null,null,null,null,null,null,null,null,null,null,null,null,null,null,null,{"$f":"IFERROR(MAX('[6]GESTION_SEG_1_TRIM DSAJV'!H132,'[6]GESTION_SEG_2_TRIM DSAJV'!H132),\"\")","v":0},null,{"$f":"IFERROR(_xlfn.CONCAT(\"Trimestre 1\",CHAR(10),'[6]GESTION_SEG_1_TRIM DSAJV'!J132,CHAR(10),\"Trimestre 2\",CHAR(10),'[6]GESTION_SEG_2_TRIM DSAJV'!J132),\" \")","v":"Trimestre 1\n\nTrimestre 2\n"},{"$f":"IFERROR(_xlfn.CONCAT(\"Trimestre 1\",CHAR(10),'[6]GESTION_SEG_1_TRIM DSAJV'!K132,CHAR(10),\"Trimestre 2\",CHAR(10),'[6]GESTION_SEG_2_TRIM DSAJV'!K132),\" \")","v":"Trimestre 1\n\nTrimestre 2\n"}]
[null,null,null,null,null,null,null,null,null,null,null,null,null,null,null,{"$f":"IFERROR(MAX('[6]GESTION_SEG_1_TRIM DSAJV'!H133,'[6]GESTION_SEG_2_TRIM DSAJV'!H133),\"\")","v":0},"",{"$f":"IFERROR(_xlfn.CONCAT(\"Trimestre 1\",CHAR(10),'[6]GESTION_SEG_1_TRIM DSAJV'!J133,CHAR(10),\"Trimestre 2\",CHAR(10),'[6]GESTION_SEG_2_TRIM DSAJV'!J133),\" \")","v":"Trimestre 1\n\nTrimestre 2\n"},{"$f":"IFERROR(_xlfn.CONCAT(\"Trimestre 1\",CHAR(10),'[6]GESTION_SEG_1_TRIM DSAJV'!K133,CHAR(10),\"Trimestre 2\",CHAR(10),'[6]GESTION_SEG_2_TRIM DSAJV'!K133),\" \")","v":"Trimestre 1\n\nTrimestre 2\n"}]
[null,null,null,null,null,null,null,null,null,null,null,null,null,null,null,{"$f":"IFERROR(MAX('[6]GESTION_SEG_1_TRIM DSAJV'!H134,'[6]GESTION_SEG_2_TRIM DSAJV'!H134),\"\")","v":0},"",{"$f":"IFERROR(_xlfn.CONCAT(\"Trimestre 1\",CHAR(10),'[6]GESTION_SEG_1_TRIM DSAJV'!J134,CHAR(10),\"Trimestre 2\",CHAR(10),'[6]GESTION_SEG_2_TRIM DSAJV'!J134),\" \")","v":"Trimestre 1\n\nTrimestre 2\n"},{"$f":"IFERROR(_xlfn.CONCAT(\"Trimestre 1\",CHAR(10),'[6]GESTION_SEG_1_TRIM DSAJV'!K134,CHAR(10),\"Trimestre 2\",CHAR(10),'[6]GESTION_SEG_2_TRIM DSAJV'!K134),\" \")","v":"Trimestre 1\n\nTrimestre 2\n"}]
[null,null,null,null,null,null,null,null,null,null,null,null,null,null,null,{"$f":"IFERROR(MAX('[6]GESTION_SEG_1_TRIM DSAJV'!H135,'[6]GESTION_SEG_2_TRIM DSAJV'!H135),\"\")","v":0},"",{"$f":"IFERROR(_xlfn.CONCAT(\"Trimestre 1\",CHAR(10),'[6]GESTION_SEG_1_TRIM DSAJV'!J135,CHAR(10),\"Trimestre 2\",CHAR(10),'[6]GESTION_SEG_2_TRIM DSAJV'!J135),\" \")","v":"Trimestre 1\n\nTrimestre 2\n"},{"$f":"IFERROR(_xlfn.CONCAT(\"Trimestre 1\",CHAR(10),'[6]GESTION_SEG_1_TRIM DSAJV'!K135,CHAR(10),\"Trimestre 2\",CHAR(10),'[6]GESTION_SEG_2_TRIM DSAJV'!K135),\" \")","v":"Trimestre 1\n\nTrimestre 2\n"}]
[null,null,"3. Fortalecer el Sistema integrado de Gestión de la Rama, orientado a la implementación y certificación de las normas antisoborno.","1. Gestionar el desarrollo de las competencias, la toma de conciencia , la cultura  organizacional  y el compromiso de los  servidores judiciales, contratistas, practicantes y  judicantes de contribuir a generar valor público en la administración de justicia, en el marco de  cumplimiento de los requisitos  aplicables y el comportamiento ético.\n3. Fomentar la transparencia y la participación generando lineamientos y promoviendo la rendición de cuentas ,la consulta, reporte y planteamiento de inquietudes en relación con las decisiones y aspectos del SIGCMA.",null,null,null,null,null,null,null,null,null,null,null,{"$f":"IFERROR(MAX('[6]GESTION_SEG_1_TRIM DSAJV'!H136,'[6]GESTION_SEG_2_TRIM DSAJV'!H136),\"\")","v":0},"",{"$f":"IFERROR(_xlfn.CONCAT(\"Trimestre 1\",CHAR(10),'[6]GESTION_SEG_1_TRIM DSAJV'!J136,CHAR(10),\"Trimestre 2\",CHAR(10),'[6]GESTION_SEG_2_TRIM DSAJV'!J136),\" \")","v":"Trimestre 1\n\nTrimestre 2\n"},{"$f":"IFERROR(_xlfn.CONCAT(\"Trimestre 1\",CHAR(10),'[6]GESTION_SEG_1_TRIM DSAJV'!K136,CHAR(10),\"Trimestre 2\",CHAR(10),'[6]GESTION_SEG_2_TRIM DSAJV'!K136),\" \")","v":"Trimestre 1\n\nTrimestre 2\n"}]
[null,null,null,null,null,null,null,null,null,null,null,null,null,null,null,{"$f":"IFERROR(MAX('[6]GESTION_SEG_1_TRIM DSAJV'!H137,'[6]GESTION_SEG_2_TRIM DSAJV'!H137),\"\")","v":0},{"$f":"IFERROR(P137/J137,\"\")","v":""},{"$f":"IFERROR(_xlfn.CONCAT(\"Trimestre 1\",CHAR(10),'[6]GESTION_SEG_1_TRIM DSAJV'!J137,CHAR(10),\"Trimestre 2\",CHAR(10),'[6]GESTION_SEG_2_TRIM DSAJV'!J137),\" \")","v":"Trimestre 1\n\nTrimestre 2\n"},{"$f":"IFERROR(_xlfn.CONCAT(\"Trimestre 1\",CHAR(10),'[6]GESTION_SEG_1_TRIM DSAJV'!K137,CHAR(10),\"Trimestre 2\",CHAR(10),'[6]GESTION_SEG_2_TRIM DSAJV'!K137),\" \")","v":"Trimestre 1\n\nTrimestre 2\n"}]
[null,null,null,null,null,null,null,null,null,null,null,null,null,null,null,{"$f":"IFERROR(MAX('[6]GESTION_SEG_1_TRIM DSAJV'!H138,'[6]GESTION_SEG_2_TRIM DSAJV'!H138),\"\")","v":0},null,{"$f":"IFERROR(_xlfn.CONCAT(\"Trimestre 1\",CHAR(10),'[6]GESTION_SEG_1_TRIM DSAJV'!J138,CHAR(10),\"Trimestre 2\",CHAR(10),'[6]GESTION_SEG_2_TRIM DSAJV'!J138),\" \")","v":"Trimestre 1\n\nTrimestre 2\n"},{"$f":"IFERROR(_xlfn.CONCAT(\"Trimestre 1\",CHAR(10),'[6]GESTION_SEG_1_TRIM DSAJV'!K138,CHAR(10),\"Trimestre 2\",CHAR(10),'[6]GESTION_SEG_2_TRIM DSAJV'!K138),\" \")","v":"Trimestre 1\n\nTrimestre 2\n"}]
[null,null,null,null,null,null,null,null,null,null,null,null,null,null,null,{"$f":"IFERROR(MAX('[6]GESTION_SEG_1_TRIM DSAJV'!H139,'[6]GESTION_SEG_2_TRIM DSAJV'!H139),\"\")","v":0},null,{"$f":"IFERROR(_xlfn.CONCAT(\"Trimestre 1\",CHAR(10),'[6]GESTION_SEG_1_TRIM DSAJV'!J139,CHAR(10),\"Trimestre 2\",CHAR(10),'[6]GESTION_SEG_2_TRIM DSAJV'!J139),\" \")","v":"Trimestre 1\n\nTrimestre 2\n"},{"$f":"IFERROR(_xlfn.CONCAT(\"Trimestre 1\",CHAR(10),'[6]GESTION_SEG_1_TRIM DSAJV'!K139,CHAR(10),\"Trimestre 2\",CHAR(10),'[6]GESTION_SEG_2_TRIM DSAJV'!K139),\" \")","v":"Trimestre 1\n\nTrimestre 2\n"}]
[null,null,null,null,null,null,null,null,null,null,null,null,null,null,null,{"$f":"IFERROR(MAX('[6]GESTION_SEG_1_TRIM DSAJV'!H140,'[6]GESTION_SEG_2_TRIM DSAJV'!H140),\"\")","v":0},null,{"$f":"IFERROR(_xlfn.CONCAT(\"Trimestre 1\",CHAR(10),'[6]GESTION_SEG_1_TRIM DSAJV'!J140,CHAR(10),\"Trimestre 2\",CHAR(10),'[6]GESTION_SEG_2_TRIM DSAJV'!J140),\" \")","v":"Trimestre 1\n\nTrimestre 2\n"},{"$f":"IFERROR(_xlfn.CONCAT(\"Trimestre 1\",CHAR(10),'[6]GESTION_SEG_1_TRIM DSAJV'!K140,CHAR(10),\"Trimestre 2\",CHAR(10),'[6]GESTION_SEG_2_TRIM DSAJV'!K140),\" \")","v":"Trimestre 1\n\nTrimestre 2\n"}]
[null,null,null,null,null,null,null,null,null,null,null,null,null,null,null,{"$f":"IFERROR(MAX('[6]GESTION_SEG_1_TRIM DSAJV'!H141,'[6]GESTION_SEG_2_TRIM DSAJV'!H141),\"\")","v":0},null,{"$f":"IFERROR(_xlfn.CONCAT(\"Trimestre 1\",CHAR(10),'[6]GESTION_SEG_1_TRIM DSAJV'!J141,CHAR(10),\"Trimestre 2\",CHAR(10),'[6]GESTION_SEG_2_TRIM DSAJV'!J141),\" \")","v":"Trimestre 1\n\nTrimestre 2\n"},{"$f":"IFERROR(_xlfn.CONCAT(\"Trimestre 1\",CHAR(10),'[6]GESTION_SEG_1_TRIM DSAJV'!K141,CHAR(10),\"Trimestre 2\",CHAR(10),'[6]GESTION_SEG_2_TRIM DSAJV'!K141),\" \")","v":"Trimestre 1\n\nTrimestre 2\n"}]
[null,null,null,null,null,null,null,null,null,null,null,null,null,null,null,{"$f":"IFERROR(MAX('[6]GESTION_SEG_1_TRIM DSAJV'!H142,'[6]GESTION_SEG_2_TRIM DSAJV'!H142),\"\")","v":0},null,{"$f":"IFERROR(_xlfn.CONCAT(\"Trimestre 1\",CHAR(10),'[6]GESTION_SEG_1_TRIM DSAJV'!J142,CHAR(10),\"Trimestre 2\",CHAR(10),'[6]GESTION_SEG_2_TRIM DSAJV'!J142),\" \")","v":"Trimestre 1\n\nTrimestre 2\n"},{"$f":"IFERROR(_xlfn.CONCAT(\"Trimestre 1\",CHAR(10),'[6]GESTION_SEG_1_TRIM DSAJV'!K142,CHAR(10),\"Trimestre 2\",CHAR(10),'[6]GESTION_SEG_2_TRIM DSAJV'!K142),\" \")","v":"Trimestre 1\n\nTrimestre 2\n"}]
[null,null,null,null,null,null,null,null,null,null,null,null,null,null,null,{"$f":"IFERROR(MAX('[6]GESTION_SEG_1_TRIM DSAJV'!H143,'[6]GESTION_SEG_2_TRIM DSAJV'!H143),\"\")","v":0},"",{"$f":"IFERROR(_xlfn.CONCAT(\"Trimestre 1\",CHAR(10),'[6]GESTION_SEG_1_TRIM DSAJV'!J143,CHAR(10),\"Trimestre 2\",CHAR(10),'[6]GESTION_SEG_2_TRIM DSAJV'!J143),\" \")","v":"Trimestre 1\n\nTrimestre 2\n"},{"$f":"IFERROR(_xlfn.CONCAT(\"Trimestre 1\",CHAR(10),'[6]GESTION_SEG_1_TRIM DSAJV'!K143,CHAR(10),\"Trimestre 2\",CHAR(10),'[6]GESTION_SEG_2_TRIM DSAJV'!K143),\" \")","v":"Trimestre 1\n\nTrimestre 2\n"}]
[null,null,null,null,null,null,null,null,null,null,null,null,null,null,null,{"$f":"IFERROR(MAX('[6]GESTION_SEG_1_TRIM DSAJV'!H144,'[6]GESTION_SEG_2_TRIM DSAJV'!H144),\"\")","v":0},"",{"$f":"IFERROR(_xlfn.CONCAT(\"Trimestre 1\",CHAR(10),'[6]GESTION_SEG_1_TRIM DSAJV'!J144,CHAR(10),\"Trimestre 2\",CHAR(10),'[6]GESTION_SEG_2_TRIM DSAJV'!J144),\" \")","v":"Trimestre 1\n\nTrimestre 2\n"},{"$f":"IFERROR(_xlfn.CONCAT(\"Trimestre 1\",CHAR(10),'[6]GESTION_SEG_1_TRIM DSAJV'!K144,CHAR(10),\"Trimestre 2\",CHAR(10),'[6]GESTION_SEG_2_TRIM DSAJV'!K144),\" \")","v":"Trimestre 1\n\nTrimestre 2\n"}]
[null,null,null,null,null,null,null,null,null,null,null,null,null,null,null,{"$f":"IFERROR(MAX('[6]GESTION_SEG_1_TRIM DSAJV'!H145,'[6]GESTION_SEG_2_TRIM DSAJV'!H145),\"\")","v":0},"",{"$f":"IFERROR(_xlfn.CONCAT(\"Trimestre 1\",CHAR(10),'[6]GESTION_SEG_1_TRIM DSAJV'!J145,CHAR(10),\"Trimestre 2\",CHAR(10),'[6]GESTION_SEG_2_TRIM DSAJV'!J145),\" \")","v":"Trimestre 1\n\nTrimestre 2\n"},{"$f":"IFERROR(_xlfn.CONCAT(\"Trimestre 1\",CHAR(10),'[6]GESTION_SEG_1_TRIM DSAJV'!K145,CHAR(10),\"Trimestre 2\",CHAR(10),'[6]GESTION_SEG_2_TRIM DSAJV'!K145),\" \")","v":"Trimestre 1\n\nTrimestre 2\n"}]
[null,null,"4. Aumentar la confianza, la cercanía y acceso a los servicios de la Rama Judicial a través, entre otros, de una comunicación clara y asertiva con la ciudadanía.","3. Fomentar la transparencia y la participación generando lineamientos y promoviendo la rendición de cuentas ,la consulta, reporte y planteamiento de inquietudes en relación con las decisiones y aspectos del SIGCMA.",null,null,null,null,null,null,null,null,null,null,null,{"$f":"IFERROR(MAX('[6]GESTION_SEG_1_TRIM DSAJV'!H146,'[6]GESTION_SEG_2_TRIM DSAJV'!H146),\"\")","v":0},"",{"$f":"IFERROR(_xlfn.CONCAT(\"Trimestre 1\",CHAR(10),'[6]GESTION_SEG_1_TRIM DSAJV'!J146,CHAR(10),\"Trimestre 2\",CHAR(10),'[6]GESTION_SEG_2_TRIM DSAJV'!J146),\" \")","v":"Trimestre 1\n\nTrimestre 2\n"},{"$f":"IFERROR(_xlfn.CONCAT(\"Trimestre 1\",CHAR(10),'[6]GESTION_SEG_1_TRIM DSAJV'!K146,CHAR(10),\"Trimestre 2\",CHAR(10),'[6]GESTION_SEG_2_TRIM DSAJV'!K146),\" \")","v":"Trimestre 1\n\nTrimestre 2\n"}]
[null,null,null,null,null,null,null,null,null,null,null,null,null,null,null,{"$f":"IFERROR(MAX('[6]GESTION_SEG_1_TRIM DSAJV'!H147,'[6]GESTION_SEG_2_TRIM DSAJV'!H147),\"\")","v":0},"",{"$f":"IFERROR(_xlfn.CONCAT(\"Trimestre 1\",CHAR(10),'[6]GESTION_SEG_1_TRIM DSAJV'!J147,CHAR(10),\"Trimestre 2\",CHAR(10),'[6]GESTION_SEG_2_TRIM DSAJV'!J147),\" \")","v":"Trimestre 1\n\nTrimestre 2\n"},{"$f":"IFERROR(_xlfn.CONCAT(\"Trimestre 1\",CHAR(10),'[6]GESTION_SEG_1_TRIM DSAJV'!K147,CHAR(10),\"Trimestre 2\",CHAR(10),'[6]GESTION_SEG_2_TRIM DSAJV'!K147),\" \")","v":"Trimestre 1\n\nTrimestre 2\n"}]
[null,null,null,null,null,null,null,null,null,null,null,null,null,null,null,{"$f":"IFERROR(MAX('[6]GESTION_SEG_1_TRIM DSAJV'!H148,'[6]GESTION_SEG_2_TRIM DSAJV'!H148),\"\")","v":0},null,{"$f":"IFERROR(_xlfn.CONCAT(\"Trimestre 1\",CHAR(10),'[6]GESTION_SEG_1_TRIM DSAJV'!J148,CHAR(10),\"Trimestre 2\",CHAR(10),'[6]GESTION_SEG_2_TRIM DSAJV'!J148),\" \")","v":"Trimestre 1\n\nTrimestre 2\n"},{"$f":"IFERROR(_xlfn.CONCAT(\"Trimestre 1\",CHAR(10),'[6]GESTION_SEG_1_TRIM DSAJV'!K148,CHAR(10),\"Trimestre 2\",CHAR(10),'[6]GESTION_SEG_2_TRIM DSAJV'!K148),\" \")","v":"Trimestre 1\n\nTrimestre 2\n"}]
[null,null,null,null,null,null,null,null,null,null,null,null,null,null,null,{"$f":"IFERROR(MAX('[6]GESTION_SEG_1_TRIM DSAJV'!H149,'[6]GESTION_SEG_2_TRIM DSAJV'!H149),\"\")","v":0},null,{"$f":"IFERROR(_xlfn.CONCAT(\"Trimestre 1\",CHAR(10),'[6]GESTION_SEG_1_TRIM DSAJV'!J149,CHAR(10),\"Trimestre 2\",CHAR(10),'[6]GESTION_SEG_2_TRIM DSAJV'!J149),\" \")","v":"Trimestre 1\n\nTrimestre 2\n"},{"$f":"IFERROR(_xlfn.CONCAT(\"Trimestre 1\",CHAR(10),'[6]GESTION_SEG_1_TRIM DSAJV'!K149,CHAR(10),\"Trimestre 2\",CHAR(10),'[6]GESTION_SEG_2_TRIM DSAJV'!K149),\" \")","v":"Trimestre 1\n\nTrimestre 2\n"}]
[null,null,null,null,null,null,null,null,null,null,null,null,null,null,null,{"$f":"IFERROR(MAX('[6]GESTION_SEG_1_TRIM DSAJV'!H150,'[6]GESTION_SEG_2_TRIM DSAJV'!H150),\"\")","v":0},null,{"$f":"IFERROR(_xlfn.CONCAT(\"Trimestre 1\",CHAR(10),'[6]GESTION_SEG_1_TRIM DSAJV'!J150,CHAR(10),\"Trimestre 2\",CHAR(10),'[6]GESTION_SEG_2_TRIM DSAJV'!J150),\" \")","v":"Trimestre 1\n\nTrimestre 2\n"},{"$f":"IFERROR(_xlfn.CONCAT(\"Trimestre 1\",CHAR(10),'[6]GESTION_SEG_1_TRIM DSAJV'!K150,CHAR(10),\"Trimestre 2\",CHAR(10),'[6]GESTION_SEG_2_TRIM DSAJV'!K150),\" \")","v":"Trimestre 1\n\nTrimestre 2\n"}]
[null,null,null,null,null,null,null,null,null,null,null,null,null,null,null,{"$f":"IFERROR(MAX('[6]GESTION_SEG_1_TRIM DSAJV'!H151,'[6]GESTION_SEG_2_TRIM DSAJV'!H151),\"\")","v":0},null,{"$f":"IFERROR(_xlfn.CONCAT(\"Trimestre 1\",CHAR(10),'[6]GESTION_SEG_1_TRIM DSAJV'!J151,CHAR(10),\"Trimestre 2\",CHAR(10),'[6]GESTION_SEG_2_TRIM DSAJV'!J151),\" \")","v":"Trimestre 1\n\nTrimestre 2\n"},{"$f":"IFERROR(_xlfn.CONCAT(\"Trimestre 1\",CHAR(10),'[6]GESTION_SEG_1_TRIM DSAJV'!K151,CHAR(10),\"Trimestre 2\",CHAR(10),'[6]GESTION_SEG_2_TRIM DSAJV'!K151),\" \")","v":"Trimestre 1\n\nTrimestre 2\n"}]
[null,null,null,null,null,null,null,null,null,null,null,null,null,null,null,{"$f":"IFERROR(MAX('[6]GESTION_SEG_1_TRIM DSAJV'!H152,'[6]GESTION_SEG_2_TRIM DSAJV'!H152),\"\")","v":0},null,{"$f":"IFERROR(_xlfn.CONCAT(\"Trimestre 1\",CHAR(10),'[6]GESTION_SEG_1_TRIM DSAJV'!J152,CHAR(10),\"Trimestre 2\",CHAR(10),'[6]GESTION_SEG_2_TRIM DSAJV'!J152),\" \")","v":"Trimestre 1\n\nTrimestre 2\n"},{"$f":"IFERROR(_xlfn.CONCAT(\"Trimestre 1\",CHAR(10),'[6]GESTION_SEG_1_TRIM DSAJV'!K152,CHAR(10),\"Trimestre 2\",CHAR(10),'[6]GESTION_SEG_2_TRIM DSAJV'!K152),\" \")","v":"Trimestre 1\n\nTrimestre 2\n"}]
[null,null,null,null,null,null,null,null,null,null,null,null,null,null,null,{"$f":"IFERROR(MAX('[6]GESTION_SEG_1_TRIM DSAJV'!H153,'[6]GESTION_SEG_2_TRIM DSAJV'!H153),\"\")","v":0},"",{"$f":"IFERROR(_xlfn.CONCAT(\"Trimestre 1\",CHAR(10),'[6]GESTION_SEG_1_TRIM DSAJV'!J153,CHAR(10),\"Trimestre 2\",CHAR(10),'[6]GESTION_SEG_2_TRIM DSAJV'!J153),\" \")","v":"Trimestre 1\n\nTrimestre 2\n"},{"$f":"IFERROR(_xlfn.CONCAT(\"Trimestre 1\",CHAR(10),'[6]GESTION_SEG_1_TRIM DSAJV'!K153,CHAR(10),\"Trimestre 2\",CHAR(10),'[6]GESTION_SEG_2_TRIM DSAJV'!K153),\" \")","v":"Trimestre 1\n\nTrimestre 2\n"}]
[null,null,null,null,null,null,null,null,null,null,null,null,null,null,null,{"$f":"IFERROR(MAX('[6]GESTION_SEG_1_TRIM DSAJV'!H154,'[6]GESTION_SEG_2_TRIM DSAJV'!H154),\"\")","v":0},"",{"$f":"IFERROR(_xlfn.CONCAT(\"Trimestre 1\",CHAR(10),'[6]GESTION_SEG_1_TRIM DSAJV'!J154,CHAR(10),\"Trimestre 2\",CHAR(10),'[6]GESTION_SEG_2_TRIM DSAJV'!J154),\" \")","v":"Trimestre 1\n\nTrimestre 2\n"},{"$f":"IFERROR(_xlfn.CONCAT(\"Trimestre 1\",CHAR(10),'[6]GESTION_SEG_1_TRIM DSAJV'!K154,CHAR(10),\"Trimestre 2\",CHAR(10),'[6]GESTION_SEG_2_TRIM DSAJV'!K154),\" \")","v":"Trimestre 1\n\nTrimestre 2\n"}]
[null,null,null,null,null,null,null,null,null,null,null,null,null,null,null,{"$f":"IFERROR(MAX('[6]GESTION_SEG_1_TRIM DSAJV'!H155,'[6]GESTION_SEG_2_TRIM DSAJV'!H155),\"\")","v":0},"",{"$f":"IFERROR(_xlfn.CONCAT(\"Trimestre 1\",CHAR(10),'[6]GESTION_SEG_1_TRIM DSAJV'!J155,CHAR(10),\"Trimestre 2\",CHAR(10),'[6]GESTION_SEG_2_TRIM DSAJV'!J155),\" \")","v":"Trimestre 1\n\nTrimestre 2\n"},{"$f":"IFERROR(_xlfn.CONCAT(\"Trimestre 1\",CHAR(10),'[6]GESTION_SEG_1_TRIM DSAJV'!K155,CHAR(10),\"Trimestre 2\",CHAR(10),'[6]GESTION_SEG_2_TRIM DSAJV'!K155),\" \")","v":"Trimestre 1\n\nTrimestre 2\n"}]
[null,null,"5. Prevenir fenómenos asociados con actos de corrupción en la Rama Judicial y reducir las experiencias de corrupción de usuarios y servidores judiciales.",null,null,null,null,null,null,null,null,null,null,null,null,{"$f":"IFERROR(MAX('[6]GESTION_SEG_1_TRIM DSAJV'!H156,'[6]GESTION_SEG_2_TRIM DSAJV'!H156),\"\")","v":0},"",{"$f":"IFERROR(_xlfn.CONCAT(\"Trimestre 1\",CHAR(10),'[6]GESTION_SEG_1_TRIM DSAJV'!J156,CHAR(10),\"Trimestre 2\",CHAR(10),'[6]GESTION_SEG_2_TRIM DSAJV'!J156),\" \")","v":"Trimestre 1\n\nTrimestre 2\n"},{"$f":"IFERROR(_xlfn.CONCAT(\"Trimestre 1\",CHAR(10),'[6]GESTION_SEG_1_TRIM DSAJV'!K156,CHAR(10),\"Trimestre 2\",CHAR(10),'[6]GESTION_SEG_2_TRIM DSAJV'!K156),\" \")","v":"Trimestre 1\n\nTrimestre 2\n"}]
[null,null,null,null,null,null,null,null,null,null,null,null,null,null,null,{"$f":"IFERROR(MAX('[6]GESTION_SEG_1_TRIM DSAJV'!H157,'[6]GESTION_SEG_2_TRIM DSAJV'!H157),\"\")","v":0},"",{"$f":"IFERROR(_xlfn.CONCAT(\"Trimestre 1\",CHAR(10),'[6]GESTION_SEG_1_TRIM DSAJV'!J157,CHAR(10),\"Trimestre 2\",CHAR(10),'[6]GESTION_SEG_2_TRIM DSAJV'!J157),\" \")","v":"Trimestre 1\n\nTrimestre 2\n"},{"$f":"IFERROR(_xlfn.CONCAT(\"Trimestre 1\",CHAR(10),'[6]GESTION_SEG_1_TRIM DSAJV'!K157,CHAR(10),\"Trimestre 2\",CHAR(10),'[6]GESTION_SEG_2_TRIM DSAJV'!K157),\" \")","v":"Trimestre 1\n\nTrimestre 2\n"}]
[null,null,null,null,null,null,null,null,null,null,null,null,null,null,null,{"$f":"IFERROR(MAX('[6]GESTION_SEG_1_TRIM DSAJV'!H158,'[6]GESTION_SEG_2_TRIM DSAJV'!H158),\"\")","v":0},null,{"$f":"IFERROR(_xlfn.CONCAT(\"Trimestre 1\",CHAR(10),'[6]GESTION_SEG_1_TRIM DSAJV'!J158,CHAR(10),\"Trimestre 2\",CHAR(10),'[6]GESTION_SEG_2_TRIM DSAJV'!J158),\" \")","v":"Trimestre 1\n\nTrimestre 2\n"},{"$f":"IFERROR(_xlfn.CONCAT(\"Trimestre 1\",CHAR(10),'[6]GESTION_SEG_1_TRIM DSAJV'!K158,CHAR(10),\"Trimestre 2\",CHAR(10),'[6]GESTION_SEG_2_TRIM DSAJV'!K158),\" \")","v":"Trimestre 1\n\nTrimestre 2\n"}]
[null,null,null,null,null,null,null,null,null,null,null,null,null,null,null,{"$f":"IFERROR(MAX('[6]GESTION_SEG_1_TRIM DSAJV'!H159,'[6]GESTION_SEG_2_TRIM DSAJV'!H159),\"\")","v":0},null,{"$f":"IFERROR(_xlfn.CONCAT(\"Trimestre 1\",CHAR(10),'[6]GESTION_SEG_1_TRIM DSAJV'!J159,CHAR(10),\"Trimestre 2\",CHAR(10),'[6]GESTION_SEG_2_TRIM DSAJV'!J159),\" \")","v":"Trimestre 1\n\nTrimestre 2\n"},{"$f":"IFERROR(_xlfn.CONCAT(\"Trimestre 1\",CHAR(10),'[6]GESTION_SEG_1_TRIM DSAJV'!K159,CHAR(10),\"Trimestre 2\",CHAR(10),'[6]GESTION_SEG_2_TRIM DSAJV'!K159),\" \")","v":"Trimestre 1\n\nTrimestre 2\n"}]
[null,null,null,null,null,null,null,null,null,null,null,null,null,null,null,{"$f":"IFERROR(MAX('[6]GESTION_SEG_1_TRIM DSAJV'!H160,'[6]GESTION_SEG_2_TRIM DSAJV'!H160),\"\")","v":0},null,{"$f":"IFERROR(_xlfn.CONCAT(\"Trimestre 1\",CHAR(10),'[6]GESTION_SEG_1_TRIM DSAJV'!J160,CHAR(10),\"Trimestre 2\",CHAR(10),'[6]GESTION_SEG_2_TRIM DSAJV'!J160),\" \")","v":"Trimestre 1\n\nTrimestre 2\n"},{"$f":"IFERROR(_xlfn.CONCAT(\"Trimestre 1\",CHAR(10),'[6]GESTION_SEG_1_TRIM DSAJV'!K160,CHAR(10),\"Trimestre 2\",CHAR(10),'[6]GESTION_SEG_2_TRIM DSAJV'!K160),\" \")","v":"Trimestre 1\n\nTrimestre 2\n"}]
[null,null,null,null,null,null,null,null,null,null,null,null,null,null,null,{"$f":"IFERROR(MAX('[6]GESTION_SEG_1_TRIM DSAJV'!H161,'[6]GESTION_SEG_2_TRIM DSAJV'!H161),\"\")","v":0},null,{"$f":"IFERROR(_xlfn.CONCAT(\"Trimestre 1\",CHAR(10),'[6]GESTION_SEG_1_TRIM DSAJV'!J161,CHAR(10),\"Trimestre 2\",CHAR(10),'[6]GESTION_SEG_2_TRIM DSAJV'!J161),\" \")","v":"Trimestre 1\n\nTrimestre 2\n"},{"$f":"IFERROR(_xlfn.CONCAT(\"Trimestre 1\",CHAR(10),'[6]GESTION_SEG_1_TRIM DSAJV'!K161,CHAR(10),\"Trimestre 2\",CHAR(10),'[6]GESTION_SEG_2_TRIM DSAJV'!K161),\" \")","v":"Trimestre 1\n\nTrimestre 2\n"}]
[null,null,null,null,null,null,null,null,null,null,null,null,null,null,null,{"$f":"IFERROR(MAX('[6]GESTION_SEG_1_TRIM DSAJV'!H162,'[6]GESTION_SEG_2_TRIM DSAJV'!H162),\"\")","v":0},null,{"$f":"IFERROR(_xlfn.CONCAT(\"Trimestre 1\",CHAR(10),'[6]GESTION_SEG_1_TRIM DSAJV'!J162,CHAR(10),\"Trimestre 2\",CHAR(10),'[6]GESTION_SEG_2_TRIM DSAJV'!J162),\" \")","v":"Trimestre 1\n\nTrimestre 2\n"},{"$f":"IFERROR(_xlfn.CONCAT(\"Trimestre 1\",CHAR(10),'[6]GESTION_SEG_1_TRIM DSAJV'!K162,CHAR(10),\"Trimestre 2\",CHAR(10),'[6]GESTION_SEG_2_TRIM DSAJV'!K162),\" \")","v":"Trimestre 1\n\nTrimestre 2\n"}]
[null,null,null,null,null,null,null,null,null,null,null,null,null,null,null,{"$f":"IFERROR(MAX('[6]GESTION_SEG_1_TRIM DSAJV'!H163,'[6]GESTION_SEG_2_TRIM DSAJV'!H163),\"\")","v":0},"",{"$f":"IFERROR(_xlfn.CONCAT(\"Trimestre 1\",CHAR(10),'[6]GESTION_SEG_1_TRIM DSAJV'!J163,CHAR(10),\"Trimestre 2\",CHAR(10),'[6]GESTION_SEG_2_TRIM DSAJV'!J163),\" \")","v":"Trimestre 1\n\nTrimestre 2\n"},{"$f":"IFERROR(_xlfn.CONCAT(\"Trimestre 1\",CHAR(10),'[6]GESTION_SEG_1_TRIM DSAJV'!K163,CHAR(10),\"Trimestre 2\",CHAR(10),'[6]GESTION_SEG_2_TRIM DSAJV'!K163),\" \")","v":"Trimestre 1\n\nTrimestre 2\n"}]
[null,null,null,null,null,null,null,null,null,null,null,null,null,null,null,{"$f":"IFERROR(MAX('[6]GESTION_SEG_1_TRIM DSAJV'!H164,'[6]GESTION_SEG_2_TRIM DSAJV'!H164),\"\")","v":0},"",{"$f":"IFERROR(_xlfn.CONCAT(\"Trimestre 1\",CHAR(10),'[6]GESTION_SEG_1_TRIM DSAJV'!J164,CHAR(10),\"Trimestre 2\",CHAR(10),'[6]GESTION_SEG_2_TRIM DSAJV'!J164),\" \")","v":"Trimestre 1\n\nTrimestre 2\n"},{"$f":"IFERROR(_xlfn.CONCAT(\"Trimestre 1\",CHAR(10),'[6]GESTION_SEG_1_TRIM DSAJV'!K164,CHAR(10),\"Trimestre 2\",CHAR(10),'[6]GESTION_SEG_2_TRIM DSAJV'!K164),\" \")","v":"Trimestre 1\n\nTrimestre 2\n"}]
[null,null,null,null,null,null,null,null,null,null,null,null,null,null,null,{"$f":"IFERROR(MAX('[6]GESTION_SEG_1_TRIM DSAJV'!H165,'[6]GESTION_SEG_2_TRIM DSAJV'!H165),\"\")","v":0},"",{"$f":"IFERROR(_xlfn.CONCAT(\"Trimestre 1\",CHAR(10),'[6]GESTION_SEG_1_TRIM DSAJV'!J165,CHAR(10),\"Trimestre 2\",CHAR(10),'[6]GESTION_SEG_2_TRIM DSAJV'!J165),\" \")","v":"Trimestre 1\n\nTrimestre 2\n"},{"$f":"IFERROR(_xlfn.CONCAT(\"Trimestre 1\",CHAR(10),'[6]GESTION_SEG_1_TRIM DSAJV'!K165,CHAR(10),\"Trimestre 2\",CHAR(10),'[6]GESTION_SEG_2_TRIM DSAJV'!K165),\" \")","v":"Trimestre 1\n\nTrimestre 2\n"}]
[null,null,"6. Promover la rendición de cuentas y la colaboración real con la ciudadanía como fundamento para diseñar acciones de mejoramiento del acceso a la justicia.",null,null,null,null,null,null,null,null,null,null,null,null,{"$f":"IFERROR(MAX('[6]GESTION_SEG_1_TRIM DSAJV'!H166,'[6]GESTION_SEG_2_TRIM DSAJV'!H166),\"\")","v":0},"",{"$f":"IFERROR(_xlfn.CONCAT(\"Trimestre 1\",CHAR(10),'[6]GESTION_SEG_1_TRIM DSAJV'!J166,CHAR(10),\"Trimestre 2\",CHAR(10),'[6]GESTION_SEG_2_TRIM DSAJV'!J166),\" \")","v":"Trimestre 1\n\nTrimestre 2\n"},{"$f":"IFERROR(_xlfn.CONCAT(\"Trimestre 1\",CHAR(10),'[6]GESTION_SEG_1_TRIM DSAJV'!K166,CHAR(10),\"Trimestre 2\",CHAR(10),'[6]GESTION_SEG_2_TRIM DSAJV'!K166),\" \")","v":"Trimestre 1\n\nTrimestre 2\n"}]
[null,null,null,null,null,null,null,null,null,null,null,null,null,null,null,{"$f":"IFERROR(MAX('[6]GESTION_SEG_1_TRIM DSAJV'!H167,'[6]GESTION_SEG_2_TRIM DSAJV'!H167),\"\")","v":0},"",{"$f":"IFERROR(_xlfn.CONCAT(\"Trimestre 1\",CHAR(10),'[6]GESTION_SEG_1_TRIM DSAJV'!J167,CHAR(10),\"Trimestre 2\",CHAR(10),'[6]GESTION_SEG_2_TRIM DSAJV'!J167),\" \")","v":"Trimestre 1\n\nTrimestre 2\n"},{"$f":"IFERROR(_xlfn.CONCAT(\"Trimestre 1\",CHAR(10),'[6]GESTION_SEG_1_TRIM DSAJV'!K167,CHAR(10),\"Trimestre 2\",CHAR(10),'[6]GESTION_SEG_2_TRIM DSAJV'!K167),\" \")","v":"Trimestre 1\n\nTrimestre 2\n"}]
[null,null,null,null,null,null,null,null,null,null,null,null,null,null,null,{"$f":"IFERROR(MAX('[6]GESTION_SEG_1_TRIM DSAJV'!H168,'[6]GESTION_SEG_2_TRIM DSAJV'!H168),\"\")","v":0},null,{"$f":"IFERROR(_xlfn.CONCAT(\"Trimestre 1\",CHAR(10),'[6]GESTION_SEG_1_TRIM DSAJV'!J168,CHAR(10),\"Trimestre 2\",CHAR(10),'[6]GESTION_SEG_2_TRIM DSAJV'!J168),\" \")","v":"Trimestre 1\n\nTrimestre 2\n"},{"$f":"IFERROR(_xlfn.CONCAT(\"Trimestre 1\",CHAR(10),'[6]GESTION_SEG_1_TRIM DSAJV'!K168,CHAR(10),\"Trimestre 2\",CHAR(10),'[6]GESTION_SEG_2_TRIM DSAJV'!K168),\" \")","v":"Trimestre 1\n\nTrimestre 2\n"}]
[null,null,null,null,null,null,null,null,null,null,null,null,null,null,null,{"$f":"IFERROR(MAX('[6]GESTION_SEG_1_TRIM DSAJV'!H169,'[6]GESTION_SEG_2_TRIM DSAJV'!H169),\"\")","v":0},null,{"$f":"IFERROR(_xlfn.CONCAT(\"Trimestre 1\",CHAR(10),'[6]GESTION_SEG_1_TRIM DSAJV'!J169,CHAR(10),\"Trimestre 2\",CHAR(10),'[6]GESTION_SEG_2_TRIM DSAJV'!J169),\" \")","v":"Trimestre 1\n\nTrimestre 2\n"},{"$f":"IFERROR(_xlfn.CONCAT(\"Trimestre 1\",CHAR(10),'[6]GESTION_SEG_1_TRIM DSAJV'!K169,CHAR(10),\"Trimestre 2\",CHAR(10),'[6]GESTION_SEG_2_TRIM DSAJV'!K169),\" \")","v":"Trimestre 1\n\nTrimestre 2\n"}]
[null,null,null,null,null,null,null,null,null,null,null,null,null,null,null,{"$f":"IFERROR(MAX('[6]GESTION_SEG_1_TRIM DSAJV'!H170,'[6]GESTION_SEG_2_TRIM DSAJV'!H170),\"\")","v":0},null,{"$f":"IFERROR(_xlfn.CONCAT(\"Trimestre 1\",CHAR(10),'[6]GESTION_SEG_1_TRIM DSAJV'!J170,CHAR(10),\"Trimestre 2\",CHAR(10),'[6]GESTION_SEG_2_TRIM DSAJV'!J170),\" \")","v":"Trimestre 1\n\nTrimestre 2\n"},{"$f":"IFERROR(_xlfn.CONCAT(\"Trimestre 1\",CHAR(10),'[6]GESTION_SEG_1_TRIM DSAJV'!K170,CHAR(10),\"Trimestre 2\",CHAR(10),'[6]GESTION_SEG_2_TRIM DSAJV'!K170),\" \")","v":"Trimestre 1\n\nTrimestre 2\n"}]
[null,null,null,null,null,null,null,null,null,null,null,null,null,null,null,{"$f":"IFERROR(MAX('[6]GESTION_SEG_1_TRIM DSAJV'!H171,'[6]GESTION_SEG_2_TRIM DSAJV'!H171),\"\")","v":0},null,{"$f":"IFERROR(_xlfn.CONCAT(\"Trimestre 1\",CHAR(10),'[6]GESTION_SEG_1_TRIM DSAJV'!J171,CHAR(10),\"Trimestre 2\",CHAR(10),'[6]GESTION_SEG_2_TRIM DSAJV'!J171),\" \")","v":"Trimestre 1\n\nTrimestre 2\n"},{"$f":"IFERROR(_xlfn.CONCAT(\"Trimestre 1\",CHAR(10),'[6]GESTION_SEG_1_TRIM DSAJV'!K171,CHAR(10),\"Trimestre 2\",CHAR(10),'[6]GESTION_SEG_2_TRIM DSAJV'!K171),\" \")","v":"Trimestre 1\n\nTrimestre 2\n"}]
[null,null,null,null,null,null,null,null,null,null,null,null,null,null,null,{"$f":"IFERROR(MAX('[6]GESTION_SEG_1_TRIM DSAJV'!H172,'[6]GESTION_SEG_2_TRIM DSAJV'!H172),\"\")","v":0},null,{"$f":"IFERROR(_xlfn.CONCAT(\"Trimestre 1\",CHAR(10),'[6]GESTION_SEG_1_TRIM DSAJV'!J172,CHAR(10),\"Trimestre 2\",CHAR(10),'[6]GESTION_SEG_2_TRIM DSAJV'!J172),\" \")","v":"Trimestre 1\n\nTrimestre 2\n"},{"$f":"IFERROR(_xlfn.CONCAT(\"Trimestre 1\",CHAR(10),'[6]GESTION_SEG_1_TRIM DSAJV'!K172,CHAR(10),\"Trimestre 2\",CHAR(10),'[6]GESTION_SEG_2_TRIM DSAJV'!K172),\" \")","v":"Trimestre 1\n\nTrimestre 2\n"}]
[null,null,null,null,null,null,null,null,null,null,null,null,null,null,null,{"$f":"IFERROR(MAX('[6]GESTION_SEG_1_TRIM DSAJV'!H173,'[6]GESTION_SEG_2_TRIM DSAJV'!H173),\"\")","v":0},"",{"$f":"IFERROR(_xlfn.CONCAT(\"Trimestre 1\",CHAR(10),'[6]GESTION_SEG_1_TRIM DSAJV'!J173,CHAR(10),\"Trimestre 2\",CHAR(10),'[6]GESTION_SEG_2_TRIM DSAJV'!J173),\" \")","v":"Trimestre 1\n\nTrimestre 2\n"},{"$f":"IFERROR(_xlfn.CONCAT(\"Trimestre 1\",CHAR(10),'[6]GESTION_SEG_1_TRIM DSAJV'!K173,CHAR(10),\"Trimestre 2\",CHAR(10),'[6]GESTION_SEG_2_TRIM DSAJV'!K173),\" \")","v":"Trimestre 1\n\nTrimestre 2\n"}]
[null,null,null,null,null,null,null,null,null,null,null,null,null,null,null,{"$f":"IFERROR(MAX('[6]GESTION_SEG_1_TRIM DSAJV'!H174,'[6]GESTION_SEG_2_TRIM DSAJV'!H174),\"\")","v":0},"",{"$f":"IFERROR(_xlfn.CONCAT(\"Trimestre 1\",CHAR(10),'[6]GESTION_SEG_1_TRIM DSAJV'!J174,CHAR(10),\"Trimestre 2\",CHAR(10),'[6]GESTION_SEG_2_TRIM DSAJV'!J174),\" \")","v":"Trimestre 1\n\nTrimestre 2\n"},{"$f":"IFERROR(_xlfn.CONCAT(\"Trimestre 1\",CHAR(10),'[6]GESTION_SEG_1_TRIM DSAJV'!K174,CHAR(10),\"Trimestre 2\",CHAR(10),'[6]GESTION_SEG_2_TRIM DSAJV'!K174),\" \")","v":"Trimestre 1\n\nTrimestre 2\n"}]
[null,null,null,null,null,null,null,null,null,null,null,null,null,null,null,{"$f":"IFERROR(MAX('[6]GESTION_SEG_1_TRIM DSAJV'!H175,'[6]GESTION_SEG_2_TRIM DSAJV'!H175),\"\")","v":0},"",{"$f":"IFERROR(_xlfn.CONCAT(\"Trimestre 1\",CHAR(10),'[6]GESTION_SEG_1_TRIM DSAJV'!J175,CHAR(10),\"Trimestre 2\",CHAR(10),'[6]GESTION_SEG_2_TRIM DSAJV'!J175),\" \")","v":"Trimestre 1\n\nTrimestre 2\n"},{"$f":"IFERROR(_xlfn.CONCAT(\"Trimestre 1\",CHAR(10),'[6]GESTION_SEG_1_TRIM DSAJV'!K175,CHAR(10),\"Trimestre 2\",CHAR(10),'[6]GESTION_SEG_2_TRIM DSAJV'!K175),\" \")","v":"Trimestre 1\n\nTrimestre 2\n"}]
[null,null,"7. Continuar la consolidación del SIGCMA, a través de los procesos de formación en modelos de gestión, logrando la implementación y ampliación de este en los esquemas certificados de manera gradual, teniendo en cuenta las capacidades de los diferentes despachos judiciales y dependencias de la Rama Judicial y articulando el enfoque de Arquitectura Empresarial para el desarrollo del PETD a través de la gestión del conocimiento para la gestión del cambio propendiendo por una cultura de la calidad, la transparencia, la rendición de cuentas, la anticorrupción y el antisoborno","1. Gestionar el desarrollo de las competencias, la toma de conciencia , la cultura  organizacional  y el compromiso de los  servidores judiciales, contratistas, practicantes y  judicantes de contribuir a generar valor público en la administración de justicia, en el marco de  cumplimiento de los requisitos  aplicables y el comportamiento ético.\n4. Hacer un uso racional de los recursos naturales aplicando los principios y fases de la Economía Circular, para prevenir, mitigar y controlar los impactos ambientales.",null,null,null,null,null,null,null,null,null,null,null,{"$f":"IFERROR(MAX('[6]GESTION_SEG_1_TRIM DSAJV'!H176,'[6]GESTION_SEG_2_TRIM DSAJV'!H176),\"\")","v":0},"",{"$f":"IFERROR(_xlfn.CONCAT(\"Trimestre 1\",CHAR(10),'[6]GESTION_SEG_1_TRIM DSAJV'!J176,CHAR(10),\"Trimestre 2\",CHAR(10),'[6]GESTION_SEG_2_TRIM DSAJV'!J176),\" \")","v":"Trimestre 1\n\nTrimestre 2\n"},{"$f":"IFERROR(_xlfn.CONCAT(\"Trimestre 1\",CHAR(10),'[6]GESTION_SEG_1_TRIM DSAJV'!K176,CHAR(10),\"Trimestre 2\",CHAR(10),'[6]GESTION_SEG_2_TRIM DSAJV'!K176),\" \")","v":"Trimestre 1\n\nTrimestre 2\n"}]
[null,null,null,null,null,null,null,null,null,null,null,null,null,null,null,{"$f":"IFERROR(MAX('[6]GESTION_SEG_1_TRIM DSAJV'!H177,'[6]GESTION_SEG_2_TRIM DSAJV'!H177),\"\")","v":0},null,{"$f":"IFERROR(_xlfn.CONCAT(\"Trimestre 1\",CHAR(10),'[6]GESTION_SEG_1_TRIM DSAJV'!J177,CHAR(10),\"Trimestre 2\",CHAR(10),'[6]GESTION_SEG_2_TRIM DSAJV'!J177),\" \")","v":"Trimestre 1\n\nTrimestre 2\n"},{"$f":"IFERROR(_xlfn.CONCAT(\"Trimestre 1\",CHAR(10),'[6]GESTION_SEG_1_TRIM DSAJV'!K177,CHAR(10),\"Trimestre 2\",CHAR(10),'[6]GESTION_SEG_2_TRIM DSAJV'!K177),\" \")","v":"Trimestre 1\n\nTrimestre 2\n"}]
[null,null,null,null,null,null,null,null,null,null,null,null,null,null,null,{"$f":"IFERROR(MAX('[6]GESTION_SEG_1_TRIM DSAJV'!H178,'[6]GESTION_SEG_2_TRIM DSAJV'!H178),\"\")","v":0},null,{"$f":"IFERROR(_xlfn.CONCAT(\"Trimestre 1\",CHAR(10),'[6]GESTION_SEG_1_TRIM DSAJV'!J178,CHAR(10),\"Trimestre 2\",CHAR(10),'[6]GESTION_SEG_2_TRIM DSAJV'!J178),\" \")","v":"Trimestre 1\n\nTrimestre 2\n"},{"$f":"IFERROR(_xlfn.CONCAT(\"Trimestre 1\",CHAR(10),'[6]GESTION_SEG_1_TRIM DSAJV'!K178,CHAR(10),\"Trimestre 2\",CHAR(10),'[6]GESTION_SEG_2_TRIM DSAJV'!K178),\" \")","v":"Trimestre 1\n\nTrimestre 2\n"}]
[null,null,null,null,null,null,null,null,null,null,null,null,null,null,null,{"$f":"IFERROR(MAX('[6]GESTION_SEG_1_TRIM DSAJV'!H179,'[6]GESTION_SEG_2_TRIM DSAJV'!H179),\"\")","v":0},null,{"$f":"IFERROR(_xlfn.CONCAT(\"Trimestre 1\",CHAR(10),'[6]GESTION_SEG_1_TRIM DSAJV'!J179,CHAR(10),\"Trimestre 2\",CHAR(10),'[6]GESTION_SEG_2_TRIM DSAJV'!J179),\" \")","v":"Trimestre 1\n\nTrimestre 2\n"},{"$f":"IFERROR(_xlfn.CONCAT(\"Trimestre 1\",CHAR(10),'[6]GESTION_SEG_1_TRIM DSAJV'!K179,CHAR(10),\"Trimestre 2\",CHAR(10),'[6]GESTION_SEG_2_TRIM DSAJV'!K179),\" \")","v":"Trimestre 1\n\nTrimestre 2\n"}]
[null,null,null,null,null,null,null,null,null,null,null,null,null,null,null,{"$f":"IFERROR(MAX('[6]GESTION_SEG_1_TRIM DSAJV'!H180,'[6]GESTION_SEG_2_TRIM DSAJV'!H180),\"\")","v":0},null,{"$f":"IFERROR(_xlfn.CONCAT(\"Trimestre 1\",CHAR(10),'[6]GESTION_SEG_1_TRIM DSAJV'!J180,CHAR(10),\"Trimestre 2\",CHAR(10),'[6]GESTION_SEG_2_TRIM DSAJV'!J180),\" \")","v":"Trimestre 1\n\nTrimestre 2\n"},{"$f":"IFERROR(_xlfn.CONCAT(\"Trimestre 1\",CHAR(10),'[6]GESTION_SEG_1_TRIM DSAJV'!K180,CHAR(10),\"Trimestre 2\",CHAR(10),'[6]GESTION_SEG_2_TRIM DSAJV'!K180),\" \")","v":"Trimestre 1\n\nTrimestre 2\n"}]
[null,null,null,null,null,null,null,null,null,null,null,null,null,null,null,{"$f":"IFERROR(MAX('[6]GESTION_SEG_1_TRIM DSAJV'!H181,'[6]GESTION_SEG_2_TRIM DSAJV'!H181),\"\")","v":0},null,{"$f":"IFERROR(_xlfn.CONCAT(\"Trimestre 1\",CHAR(10),'[6]GESTION_SEG_1_TRIM DSAJV'!J181,CHAR(10),\"Trimestre 2\",CHAR(10),'[6]GESTION_SEG_2_TRIM DSAJV'!J181),\" \")","v":"Trimestre 1\n\nTrimestre 2\n"},{"$f":"IFERROR(_xlfn.CONCAT(\"Trimestre 1\",CHAR(10),'[6]GESTION_SEG_1_TRIM DSAJV'!K181,CHAR(10),\"Trimestre 2\",CHAR(10),'[6]GESTION_SEG_2_TRIM DSAJV'!K181),\" \")","v":"Trimestre 1\n\nTrimestre 2\n"}]
[null,null,null,null,null,null,null,null,null,null,null,null,null,null,null,{"$f":"IFERROR(MAX('[6]GESTION_SEG_1_TRIM DSAJV'!H182,'[6]GESTION_SEG_2_TRIM DSAJV'!H182),\"\")","v":0},"",{"$f":"IFERROR(_xlfn.CONCAT(\"Trimestre 1\",CHAR(10),'[6]GESTION_SEG_1_TRIM DSAJV'!J182,CHAR(10),\"Trimestre 2\",CHAR(10),'[6]GESTION_SEG_2_TRIM DSAJV'!J182),\" \")","v":"Trimestre 1\n\nTrimestre 2\n"},{"$f":"IFERROR(_xlfn.CONCAT(\"Trimestre 1\",CHAR(10),'[6]GESTION_SEG_1_TRIM DSAJV'!K182,CHAR(10),\"Trimestre 2\",CHAR(10),'[6]GESTION_SEG_2_TRIM DSAJV'!K182),\" \")","v":"Trimestre 1\n\nTrimestre 2\n"}]
[null,null,null,null,null,null,null,null,null,null,null,null,null,null,null,{"$f":"IFERROR(MAX('[6]GESTION_SEG_1_TRIM DSAJV'!H183,'[6]GESTION_SEG_2_TRIM DSAJV'!H183),\"\")","v":0},"",{"$f":"IFERROR(_xlfn.CONCAT(\"Trimestre 1\",CHAR(10),'[6]GESTION_SEG_1_TRIM DSAJV'!J183,CHAR(10),\"Trimestre 2\",CHAR(10),'[6]GESTION_SEG_2_TRIM DSAJV'!J183),\" \")","v":"Trimestre 1\n\nTrimestre 2\n"},{"$f":"IFERROR(_xlfn.CONCAT(\"Trimestre 1\",CHAR(10),'[6]GESTION_SEG_1_TRIM DSAJV'!K183,CHAR(10),\"Trimestre 2\",CHAR(10),'[6]GESTION_SEG_2_TRIM DSAJV'!K183),\" \")","v":"Trimestre 1\n\nTrimestre 2\n"}]
[null,null,null,null,null,null,null,null,null,null,null,null,null,null,null,{"$f":"IFERROR(MAX('[6]GESTION_SEG_1_TRIM DSAJV'!H184,'[6]GESTION_SEG_2_TRIM DSAJV'!H184),\"\")","v":0},"",{"$f":"IFERROR(_xlfn.CONCAT(\"Trimestre 1\",CHAR(10),'[6]GESTION_SEG_1_TRIM DSAJV'!J184,CHAR(10),\"Trimestre 2\",CHAR(10),'[6]GESTION_SEG_2_TRIM DSAJV'!J184),\" \")","v":"Trimestre 1\n\nTrimestre 2\n"},{"$f":"IFERROR(_xlfn.CONCAT(\"Trimestre 1\",CHAR(10),'[6]GESTION_SEG_1_TRIM DSAJV'!K184,CHAR(10),\"Trimestre 2\",CHAR(10),'[6]GESTION_SEG_2_TRIM DSAJV'!K184),\" \")","v":"Trimestre 1\n\nTrimestre 2\n"}]
[null,null,null,null,null,null,null,null,null,null,null,null,null,null,null,{"$f":"IFERROR(MAX('[6]GESTION_SEG_1_TRIM DSAJV'!H185,'[6]GESTION_SEG_2_TRIM DSAJV'!H185),\"\")","v":0},"",{"$f":"IFERROR(_xlfn.CONCAT(\"Trimestre 1\",CHAR(10),'[6]GESTION_SEG_1_TRIM DSAJV'!J185,CHAR(10),\"Trimestre 2\",CHAR(10),'[6]GESTION_SEG_2_TRIM DSAJV'!J185),\" \")","v":"Trimestre 1\n\nTrimestre 2\n"},{"$f":"IFERROR(_xlfn.CONCAT(\"Trimestre 1\",CHAR(10),'[6]GESTION_SEG_1_TRIM DSAJV'!K185,CHAR(10),\"Trimestre 2\",CHAR(10),'[6]GESTION_SEG_2_TRIM DSAJV'!K185),\" \")","v":"Trimestre 1\n\nTrimestre 2\n"}]
["4. Talento Humano","Talento Humano: Fortalecer el talento humano en la Rama Judicial para que sea eficiente, capacitado y realice su labor en ambientes saludables y seguros. Ampliar la cobertura de la carrera judicial y mejorar la oferta de formación, que esté disponible para todos los servidores judiciales e impacte positivamente el servicio de justicia y responda a las necesidades reales del ejercicio de la función judicial.","1. Ampliar la cobertura de la carrera judicial optimizando los procesos de los concursos de méritos y propender por mitigar su litigiosidad.","1. Gestionar el desarrollo de las competencias, la toma de conciencia , la cultura  organizacional  y el compromiso de los  servidores judiciales, contratistas, practicantes y  judicantes de contribuir a generar valor público en la administración de justicia, en el marco de  cumplimiento de los requisitos  aplicables y el comportamiento ético.",null,null,null,null,null,null,null,null,null,null,null,{"$f":"IFERROR(MAX('[6]GESTION_SEG_1_TRIM DSAJV'!H186,'[6]GESTION_SEG_2_TRIM DSAJV'!H186),\"\")","v":0},"",{"$f":"IFERROR(_xlfn.CONCAT(\"Trimestre 1\",CHAR(10),'[6]GESTION_SEG_1_TRIM DSAJV'!J186,CHAR(10),\"Trimestre 2\",CHAR(10),'[6]GESTION_SEG_2_TRIM DSAJV'!J186),\" \")","v":"Trimestre 1\n\nTrimestre 2\n"},{"$f":"IFERROR(_xlfn.CONCAT(\"Trimestre 1\",CHAR(10),'[6]GESTION_SEG_1_TRIM DSAJV'!K186,CHAR(10),\"Trimestre 2\",CHAR(10),'[6]GESTION_SEG_2_TRIM DSAJV'!K186),\" \")","v":"Trimestre 1\n\nTrimestre 2\n"}]
[null,null,null,null,null,null,null,null,null,null,null,null,null,null,null,{"$f":"IFERROR(MAX('[6]GESTION_SEG_1_TRIM DSAJV'!H187,'[6]GESTION_SEG_2_TRIM DSAJV'!H187),\"\")","v":0},"",{"$f":"IFERROR(_xlfn.CONCAT(\"Trimestre 1\",CHAR(10),'[6]GESTION_SEG_1_TRIM DSAJV'!J187,CHAR(10),\"Trimestre 2\",CHAR(10),'[6]GESTION_SEG_2_TRIM DSAJV'!J187),\" \")","v":"Trimestre 1\n\nTrimestre 2\n"},{"$f":"IFERROR(_xlfn.CONCAT(\"Trimestre 1\",CHAR(10),'[6]GESTION_SEG_1_TRIM DSAJV'!K187,CHAR(10),\"Trimestre 2\",CHAR(10),'[6]GESTION_SEG_2_TRIM DSAJV'!K187),\" \")","v":"Trimestre 1\n\nTrimestre 2\n"}]
[null,null,null,null,null,null,null,null,null,null,null,null,null,null,null,{"$f":"IFERROR(MAX('[6]GESTION_SEG_1_TRIM DSAJV'!H188,'[6]GESTION_SEG_2_TRIM DSAJV'!H188),\"\")","v":0},null,{"$f":"IFERROR(_xlfn.CONCAT(\"Trimestre 1\",CHAR(10),'[6]GESTION_SEG_1_TRIM DSAJV'!J188,CHAR(10),\"Trimestre 2\",CHAR(10),'[6]GESTION_SEG_2_TRIM DSAJV'!J188),\" \")","v":"Trimestre 1\n\nTrimestre 2\n"},{"$f":"IFERROR(_xlfn.CONCAT(\"Trimestre 1\",CHAR(10),'[6]GESTION_SEG_1_TRIM DSAJV'!K188,CHAR(10),\"Trimestre 2\",CHAR(10),'[6]GESTION_SEG_2_TRIM DSAJV'!K188),\" \")","v":"Trimestre 1\n\nTrimestre 2\n"}]
[null,null,null,null,null,null,null,null,null,null,null,null,null,null,null,{"$f":"IFERROR(MAX('[6]GESTION_SEG_1_TRIM DSAJV'!H189,'[6]GESTION_SEG_2_TRIM DSAJV'!H189),\"\")","v":0},null,{"$f":"IFERROR(_xlfn.CONCAT(\"Trimestre 1\",CHAR(10),'[6]GESTION_SEG_1_TRIM DSAJV'!J189,CHAR(10),\"Trimestre 2\",CHAR(10),'[6]GESTION_SEG_2_TRIM DSAJV'!J189),\" \")","v":"Trimestre 1\n\nTrimestre 2\n"},{"$f":"IFERROR(_xlfn.CONCAT(\"Trimestre 1\",CHAR(10),'[6]GESTION_SEG_1_TRIM DSAJV'!K189,CHAR(10),\"Trimestre 2\",CHAR(10),'[6]GESTION_SEG_2_TRIM DSAJV'!K189),\" \")","v":"Trimestre 1\n\nTrimestre 2\n"}]
[null,null,null,null,null,null,null,null,null,null,null,null,null,null,null,{"$f":"IFERROR(MAX('[6]GESTION_SEG_1_TRIM DSAJV'!H190,'[6]GESTION_SEG_2_TRIM DSAJV'!H190),\"\")","v":0},null,{"$f":"IFERROR(_xlfn.CONCAT(\"Trimestre 1\",CHAR(10),'[6]GESTION_SEG_1_TRIM DSAJV'!J190,CHAR(10),\"Trimestre 2\",CHAR(10),'[6]GESTION_SEG_2_TRIM DSAJV'!J190),\" \")","v":"Trimestre 1\n\nTrimestre 2\n"},{"$f":"IFERROR(_xlfn.CONCAT(\"Trimestre 1\",CHAR(10),'[6]GESTION_SEG_1_TRIM DSAJV'!K190,CHAR(10),\"Trimestre 2\",CHAR(10),'[6]GESTION_SEG_2_TRIM DSAJV'!K190),\" \")","v":"Trimestre 1\n\nTrimestre 2\n"}]
[null,null,null,null,null,null,null,null,null,null,null,null,null,null,null,{"$f":"IFERROR(MAX('[6]GESTION_SEG_1_TRIM DSAJV'!H191,'[6]GESTION_SEG_2_TRIM DSAJV'!H191),\"\")","v":0},null,{"$f":"IFERROR(_xlfn.CONCAT(\"Trimestre 1\",CHAR(10),'[6]GESTION_SEG_1_TRIM DSAJV'!J191,CHAR(10),\"Trimestre 2\",CHAR(10),'[6]GESTION_SEG_2_TRIM DSAJV'!J191),\" \")","v":"Trimestre 1\n\nTrimestre 2\n"},{"$f":"IFERROR(_xlfn.CONCAT(\"Trimestre 1\",CHAR(10),'[6]GESTION_SEG_1_TRIM DSAJV'!K191,CHAR(10),\"Trimestre 2\",CHAR(10),'[6]GESTION_SEG_2_TRIM DSAJV'!K191),\" \")","v":"Trimestre 1\n\nTrimestre 2\n"}]
[null,null,null,null,null,null,null,null,null,null,null,null,null,null,null,{"$f":"IFERROR(MAX('[6]GESTION_SEG_1_TRIM DSAJV'!H192,'[6]GESTION_SEG_2_TRIM DSAJV'!H192),\"\")","v":0},null,{"$f":"IFERROR(_xlfn.CONCAT(\"Trimestre 1\",CHAR(10),'[6]GESTION_SEG_1_TRIM DSAJV'!J192,CHAR(10),\"Trimestre 2\",CHAR(10),'[6]GESTION_SEG_2_TRIM DSAJV'!J192),\" \")","v":"Trimestre 1\n\nTrimestre 2\n"},{"$f":"IFERROR(_xlfn.CONCAT(\"Trimestre 1\",CHAR(10),'[6]GESTION_SEG_1_TRIM DSAJV'!K192,CHAR(10),\"Trimestre 2\",CHAR(10),'[6]GESTION_SEG_2_TRIM DSAJV'!K192),\" \")","v":"Trimestre 1\n\nTrimestre 2\n"}]
[null,null,null,null,null,null,null,null,null,null,null,null,null,null,null,{"$f":"IFERROR(MAX('[6]GESTION_SEG_1_TRIM DSAJV'!H193,'[6]GESTION_SEG_2_TRIM DSAJV'!H193),\"\")","v":0},"",{"$f":"IFERROR(_xlfn.CONCAT(\"Trimestre 1\",CHAR(10),'[6]GESTION_SEG_1_TRIM DSAJV'!J193,CHAR(10),\"Trimestre 2\",CHAR(10),'[6]GESTION_SEG_2_TRIM DSAJV'!J193),\" \")","v":"Trimestre 1\n\nTrimestre 2\n"},{"$f":"IFERROR(_xlfn.CONCAT(\"Trimestre 1\",CHAR(10),'[6]GESTION_SEG_1_TRIM DSAJV'!K193,CHAR(10),\"Trimestre 2\",CHAR(10),'[6]GESTION_SEG_2_TRIM DSAJV'!K193),\" \")","v":"Trimestre 1\n\nTrimestre 2\n"}]
[null,null,null,null,null,null,null,null,null,null,null,null,null,null,null,{"$f":"IFERROR(MAX('[6]GESTION_SEG_1_TRIM DSAJV'!H194,'[6]GESTION_SEG_2_TRIM DSAJV'!H194),\"\")","v":0},"",{"$f":"IFERROR(_xlfn.CONCAT(\"Trimestre 1\",CHAR(10),'[6]GESTION_SEG_1_TRIM DSAJV'!J194,CHAR(10),\"Trimestre 2\",CHAR(10),'[6]GESTION_SEG_2_TRIM DSAJV'!J194),\" \")","v":"Trimestre 1\n\nTrimestre 2\n"},{"$f":"IFERROR(_xlfn.CONCAT(\"Trimestre 1\",CHAR(10),'[6]GESTION_SEG_1_TRIM DSAJV'!K194,CHAR(10),\"Trimestre 2\",CHAR(10),'[6]GESTION_SEG_2_TRIM DSAJV'!K194),\" \")","v":"Trimestre 1\n\nTrimestre 2\n"}]
[null,null,null,null,null,null,null,null,null,null,null,null,null,null,null,{"$f":"IFERROR(MAX('[6]GESTION_SEG_1_TRIM DSAJV'!H195,'[6]GESTION_SEG_2_TRIM DSAJV'!H195),\"\")","v":0},"",{"$f":"IFERROR(_xlfn.CONCAT(\"Trimestre 1\",CHAR(10),'[6]GESTION_SEG_1_TRIM DSAJV'!J195,CHAR(10),\"Trimestre 2\",CHAR(10),'[6]GESTION_SEG_2_TRIM DSAJV'!J195),\" \")","v":"Trimestre 1\n\nTrimestre 2\n"},{"$f":"IFERROR(_xlfn.CONCAT(\"Trimestre 1\",CHAR(10),'[6]GESTION_SEG_1_TRIM DSAJV'!K195,CHAR(10),\"Trimestre 2\",CHAR(10),'[6]GESTION_SEG_2_TRIM DSAJV'!K195),\" \")","v":"Trimestre 1\n\nTrimestre 2\n"}]
[null,null,"2. Impactar la función y servicios que presta la Rama Judicial, a través de una formación integral desde una visión de gestión del conocimiento, relacionada con los problemas de la justicia y los problemas de gestión de quienes administran los recursos de la justicia, y potenciando el uso de medios virtuales.",null,null,null,null,null,null,null,null,null,null,null,null,{"$f":"IFERROR(MAX('[6]GESTION_SEG_1_TRIM DSAJV'!H196,'[6]GESTION_SEG_2_TRIM DSAJV'!H196),\"\")","v":0},"",{"$f":"IFERROR(_xlfn.CONCAT(\"Trimestre 1\",CHAR(10),'[6]GESTION_SEG_1_TRIM DSAJV'!J196,CHAR(10),\"Trimestre 2\",CHAR(10),'[6]GESTION_SEG_2_TRIM DSAJV'!J196),\" \")","v":"Trimestre 1\n\nTrimestre 2\n"},{"$f":"IFERROR(_xlfn.CONCAT(\"Trimestre 1\",CHAR(10),'[6]GESTION_SEG_1_TRIM DSAJV'!K196,CHAR(10),\"Trimestre 2\",CHAR(10),'[6]GESTION_SEG_2_TRIM DSAJV'!K196),\" \")","v":"Trimestre 1\n\nTrimestre 2\n"}]
[null,null,null,null,null,null,null,null,null,null,null,null,null,null,null,{"$f":"IFERROR(MAX('[6]GESTION_SEG_1_TRIM DSAJV'!H197,'[6]GESTION_SEG_2_TRIM DSAJV'!H197),\"\")","v":0},"",{"$f":"IFERROR(_xlfn.CONCAT(\"Trimestre 1\",CHAR(10),'[6]GESTION_SEG_1_TRIM DSAJV'!J197,CHAR(10),\"Trimestre 2\",CHAR(10),'[6]GESTION_SEG_2_TRIM DSAJV'!J197),\" \")","v":"Trimestre 1\n\nTrimestre 2\n"},{"$f":"IFERROR(_xlfn.CONCAT(\"Trimestre 1\",CHAR(10),'[6]GESTION_SEG_1_TRIM DSAJV'!K197,CHAR(10),\"Trimestre 2\",CHAR(10),'[6]GESTION_SEG_2_TRIM DSAJV'!K197),\" \")","v":"Trimestre 1\n\nTrimestre 2\n"}]
[null,null,null,null,null,null,null,null,null,null,null,null,null,null,null,{"$f":"IFERROR(MAX('[6]GESTION_SEG_1_TRIM DSAJV'!H198,'[6]GESTION_SEG_2_TRIM DSAJV'!H198),\"\")","v":0},null,{"$f":"IFERROR(_xlfn.CONCAT(\"Trimestre 1\",CHAR(10),'[6]GESTION_SEG_1_TRIM DSAJV'!J198,CHAR(10),\"Trimestre 2\",CHAR(10),'[6]GESTION_SEG_2_TRIM DSAJV'!J198),\" \")","v":"Trimestre 1\n\nTrimestre 2\n"},{"$f":"IFERROR(_xlfn.CONCAT(\"Trimestre 1\",CHAR(10),'[6]GESTION_SEG_1_TRIM DSAJV'!K198,CHAR(10),\"Trimestre 2\",CHAR(10),'[6]GESTION_SEG_2_TRIM DSAJV'!K198),\" \")","v":"Trimestre 1\n\nTrimestre 2\n"}]
[null,null,null,null,null,null,null,null,null,null,null,null,null,null,null,{"$f":"IFERROR(MAX('[6]GESTION_SEG_1_TRIM DSAJV'!H199,'[6]GESTION_SEG_2_TRIM DSAJV'!H199),\"\")","v":0},null,{"$f":"IFERROR(_xlfn.CONCAT(\"Trimestre 1\",CHAR(10),'[6]GESTION_SEG_1_TRIM DSAJV'!J199,CHAR(10),\"Trimestre 2\",CHAR(10),'[6]GESTION_SEG_2_TRIM DSAJV'!J199),\" \")","v":"Trimestre 1\n\nTrimestre 2\n"},{"$f":"IFERROR(_xlfn.CONCAT(\"Trimestre 1\",CHAR(10),'[6]GESTION_SEG_1_TRIM DSAJV'!K199,CHAR(10),\"Trimestre 2\",CHAR(10),'[6]GESTION_SEG_2_TRIM DSAJV'!K199),\" \")","v":"Trimestre 1\n\nTrimestre 2\n"}]
[null,null,null,null,null,null,null,null,null,null,null,null,null,null,null,{"$f":"IFERROR(MAX('[6]GESTION_SEG_1_TRIM DSAJV'!H200,'[6]GESTION_SEG_2_TRIM DSAJV'!H200),\"\")","v":0},null,{"$f":"IFERROR(_xlfn.CONCAT(\"Trimestre 1\",CHAR(10),'[6]GESTION_SEG_1_TRIM DSAJV'!J200,CHAR(10),\"Trimestre 2\",CHAR(10),'[6]GESTION_SEG_2_TRIM DSAJV'!J200),\" \")","v":"Trimestre 1\n\nTrimestre 2\n"},{"$f":"IFERROR(_xlfn.CONCAT(\"Trimestre 1\",CHAR(10),'[6]GESTION_SEG_1_TRIM DSAJV'!K200,CHAR(10),\"Trimestre 2\",CHAR(10),'[6]GESTION_SEG_2_TRIM DSAJV'!K200),\" \")","v":"Trimestre 1\n\nTrimestre 2\n"}]
[null,null,null,null,null,null,null,null,null,null,null,null,null,null,null,{"$f":"IFERROR(MAX('[6]GESTION_SEG_1_TRIM DSAJV'!H201,'[6]GESTION_SEG_2_TRIM DSAJV'!H201),\"\")","v":0},null,{"$f":"IFERROR(_xlfn.CONCAT(\"Trimestre 1\",CHAR(10),'[6]GESTION_SEG_1_TRIM DSAJV'!J201,CHAR(10),\"Trimestre 2\",CHAR(10),'[6]GESTION_SEG_2_TRIM DSAJV'!J201),\" \")","v":"Trimestre 1\n\nTrimestre 2\n"},{"$f":"IFERROR(_xlfn.CONCAT(\"Trimestre 1\",CHAR(10),'[6]GESTION_SEG_1_TRIM DSAJV'!K201,CHAR(10),\"Trimestre 2\",CHAR(10),'[6]GESTION_SEG_2_TRIM DSAJV'!K201),\" \")","v":"Trimestre 1\n\nTrimestre 2\n"}]
[null,null,null,null,null,null,null,null,null,null,null,null,null,null,null,{"$f":"IFERROR(MAX('[6]GESTION_SEG_1_TRIM DSAJV'!H202,'[6]GESTION_SEG_2_TRIM DSAJV'!H202),\"\")","v":0},null,{"$f":"IFERROR(_xlfn.CONCAT(\"Trimestre 1\",CHAR(10),'[6]GESTION_SEG_1_TRIM DSAJV'!J202,CHAR(10),\"Trimestre 2\",CHAR(10),'[6]GESTION_SEG_2_TRIM DSAJV'!J202),\" \")","v":"Trimestre 1\n\nTrimestre 2\n"},{"$f":"IFERROR(_xlfn.CONCAT(\"Trimestre 1\",CHAR(10),'[6]GESTION_SEG_1_TRIM DSAJV'!K202,CHAR(10),\"Trimestre 2\",CHAR(10),'[6]GESTION_SEG_2_TRIM DSAJV'!K202),\" \")","v":"Trimestre 1\n\nTrimestre 2\n"}]
[null,null,null,null,null,null,null,null,null,null,null,null,null,null,null,{"$f":"IFERROR(MAX('[6]GESTION_SEG_1_TRIM DSAJV'!H203,'[6]GESTION_SEG_2_TRIM DSAJV'!H203),\"\")","v":0},{"$f":"IFERROR(P203/J203,\"\")","v":""},{"$f":"IFERROR(_xlfn.CONCAT(\"Trimestre 1\",CHAR(10),'[6]GESTION_SEG_1_TRIM DSAJV'!J203,CHAR(10),\"Trimestre 2\",CHAR(10),'[6]GESTION_SEG_2_TRIM DSAJV'!J203),\" \")","v":"Trimestre 1\n\nTrimestre 2\n"},{"$f":"IFERROR(_xlfn.CONCAT(\"Trimestre 1\",CHAR(10),'[6]GESTION_SEG_1_TRIM DSAJV'!K203,CHAR(10),\"Trimestre 2\",CHAR(10),'[6]GESTION_SEG_2_TRIM DSAJV'!K203),\" \")","v":"Trimestre 1\n\nTrimestre 2\n"}]
[null,null,null,null,null,null,null,null,null,null,null,null,null,null,null,{"$f":"IFERROR(MAX('[6]GESTION_SEG_1_TRIM DSAJV'!H204,'[6]GESTION_SEG_2_TRIM DSAJV'!H204),\"\")","v":0},"",{"$f":"IFERROR(_xlfn.CONCAT(\"Trimestre 1\",CHAR(10),'[6]GESTION_SEG_1_TRIM DSAJV'!J204,CHAR(10),\"Trimestre 2\",CHAR(10),'[6]GESTION_SEG_2_TRIM DSAJV'!J204),\" \")","v":"Trimestre 1\n\nTrimestre 2\n"},{"$f":"IFERROR(_xlfn.CONCAT(\"Trimestre 1\",CHAR(10),'[6]GESTION_SEG_1_TRIM DSAJV'!K204,CHAR(10),\"Trimestre 2\",CHAR(10),'[6]GESTION_SEG_2_TRIM DSAJV'!K204),\" \")","v":"Trimestre 1\n\nTrimestre 2\n"}]
[null,null,null,null,null,null,null,null,null,null,null,null,null,null,null,{"$f":"IFERROR(MAX('[6]GESTION_SEG_1_TRIM DSAJV'!H205,'[6]GESTION_SEG_2_TRIM DSAJV'!H205),\"\")","v":0},"",{"$f":"IFERROR(_xlfn.CONCAT(\"Trimestre 1\",CHAR(10),'[6]GESTION_SEG_1_TRIM DSAJV'!J205,CHAR(10),\"Trimestre 2\",CHAR(10),'[6]GESTION_SEG_2_TRIM DSAJV'!J205),\" \")","v":"Trimestre 1\n\nTrimestre 2\n"},{"$f":"IFERROR(_xlfn.CONCAT(\"Trimestre 1\",CHAR(10),'[6]GESTION_SEG_1_TRIM DSAJV'!K205,CHAR(10),\"Trimestre 2\",CHAR(10),'[6]GESTION_SEG_2_TRIM DSAJV'!K205),\" \")","v":"Trimestre 1\n\nTrimestre 2\n"}]
[null,null,"3. Promover la incorporación de la perspectiva de género y el enfoque diferencial en los fallos judiciales y en la atención a los ciudadanos, la administración de la Rama Judicial, la administración de la carrera judicial y la elaboración de listas para altas Cortes. ",null,null,null,null,null,null,null,null,null,null,null,null,{"$f":"IFERROR(MAX('[6]GESTION_SEG_1_TRIM DSAJV'!H206,'[6]GESTION_SEG_2_TRIM DSAJV'!H206),\"\")","v":0},"",{"$f":"IFERROR(_xlfn.CONCAT(\"Trimestre 1\",CHAR(10),'[6]GESTION_SEG_1_TRIM DSAJV'!J206,CHAR(10),\"Trimestre 2\",CHAR(10),'[6]GESTION_SEG_2_TRIM DSAJV'!J206),\" \")","v":"Trimestre 1\n\nTrimestre 2\n"},{"$f":"IFERROR(_xlfn.CONCAT(\"Trimestre 1\",CHAR(10),'[6]GESTION_SEG_1_TRIM DSAJV'!K206,CHAR(10),\"Trimestre 2\",CHAR(10),'[6]GESTION_SEG_2_TRIM DSAJV'!K206),\" \")","v":"Trimestre 1\n\nTrimestre 2\n"}]
[null,null,null,null,null,null,null,null,null,null,null,null,null,null,null,{"$f":"IFERROR(MAX('[6]GESTION_SEG_1_TRIM DSAJV'!H207,'[6]GESTION_SEG_2_TRIM DSAJV'!H207),\"\")","v":0},"",{"$f":"IFERROR(_xlfn.CONCAT(\"Trimestre 1\",CHAR(10),'[6]GESTION_SEG_1_TRIM DSAJV'!J207,CHAR(10),\"Trimestre 2\",CHAR(10),'[6]GESTION_SEG_2_TRIM DSAJV'!J207),\" \")","v":"Trimestre 1\n\nTrimestre 2\n"},{"$f":"IFERROR(_xlfn.CONCAT(\"Trimestre 1\",CHAR(10),'[6]GESTION_SEG_1_TRIM DSAJV'!K207,CHAR(10),\"Trimestre 2\",CHAR(10),'[6]GESTION_SEG_2_TRIM DSAJV'!K207),\" \")","v":"Trimestre 1\n\nTrimestre 2\n"}]
[null,null,null,null,null,null,null,null,null,null,null,null,null,null,null,{"$f":"IFERROR(MAX('[6]GESTION_SEG_1_TRIM DSAJV'!H208,'[6]GESTION_SEG_2_TRIM DSAJV'!H208),\"\")","v":0},null,{"$f":"IFERROR(_xlfn.CONCAT(\"Trimestre 1\",CHAR(10),'[6]GESTION_SEG_1_TRIM DSAJV'!J208,CHAR(10),\"Trimestre 2\",CHAR(10),'[6]GESTION_SEG_2_TRIM DSAJV'!J208),\" \")","v":"Trimestre 1\n\nTrimestre 2\n"},{"$f":"IFERROR(_xlfn.CONCAT(\"Trimestre 1\",CHAR(10),'[6]GESTION_SEG_1_TRIM DSAJV'!K208,CHAR(10),\"Trimestre 2\",CHAR(10),'[6]GESTION_SEG_2_TRIM DSAJV'!K208),\" \")","v":"Trimestre 1\n\nTrimestre 2\n"}]
[null,null,null,null,null,null,null,null,null,null,null,null,null,null,null,{"$f":"IFERROR(MAX('[6]GESTION_SEG_1_TRIM DSAJV'!H209,'[6]GESTION_SEG_2_TRIM DSAJV'!H209),\"\")","v":0},null,{"$f":"IFERROR(_xlfn.CONCAT(\"Trimestre 1\",CHAR(10),'[6]GESTION_SEG_1_TRIM DSAJV'!J209,CHAR(10),\"Trimestre 2\",CHAR(10),'[6]GESTION_SEG_2_TRIM DSAJV'!J209),\" \")","v":"Trimestre 1\n\nTrimestre 2\n"},{"$f":"IFERROR(_xlfn.CONCAT(\"Trimestre 1\",CHAR(10),'[6]GESTION_SEG_1_TRIM DSAJV'!K209,CHAR(10),\"Trimestre 2\",CHAR(10),'[6]GESTION_SEG_2_TRIM DSAJV'!K209),\" \")","v":"Trimestre 1\n\nTrimestre 2\n"}]
[null,null,null,null,null,null,null,null,null,null,null,null,null,null,null,{"$f":"IFERROR(MAX('[6]GESTION_SEG_1_TRIM DSAJV'!H210,'[6]GESTION_SEG_2_TRIM DSAJV'!H210),\"\")","v":0},null,{"$f":"IFERROR(_xlfn.CONCAT(\"Trimestre 1\",CHAR(10),'[6]GESTION_SEG_1_TRIM DSAJV'!J210,CHAR(10),\"Trimestre 2\",CHAR(10),'[6]GESTION_SEG_2_TRIM DSAJV'!J210),\" \")","v":"Trimestre 1\n\nTrimestre 2\n"},{"$f":"IFERROR(_xlfn.CONCAT(\"Trimestre 1\",CHAR(10),'[6]GESTION_SEG_1_TRIM DSAJV'!K210,CHAR(10),\"Trimestre 2\",CHAR(10),'[6]GESTION_SEG_2_TRIM DSAJV'!K210),\" \")","v":"Trimestre 1\n\nTrimestre 2\n"}]
[null,null,null,null,null,null,null,null,null,null,null,null,null,null,null,{"$f":"IFERROR(MAX('[6]GESTION_SEG_1_TRIM DSAJV'!H211,'[6]GESTION_SEG_2_TRIM DSAJV'!H211),\"\")","v":0},null,{"$f":"IFERROR(_xlfn.CONCAT(\"Trimestre 1\",CHAR(10),'[6]GESTION_SEG_1_TRIM DSAJV'!J211,CHAR(10),\"Trimestre 2\",CHAR(10),'[6]GESTION_SEG_2_TRIM DSAJV'!J211),\" \")","v":"Trimestre 1\n\nTrimestre 2\n"},{"$f":"IFERROR(_xlfn.CONCAT(\"Trimestre 1\",CHAR(10),'[6]GESTION_SEG_1_TRIM DSAJV'!K211,CHAR(10),\"Trimestre 2\",CHAR(10),'[6]GESTION_SEG_2_TRIM DSAJV'!K211),\" \")","v":"Trimestre 1\n\nTrimestre 2\n"}]
[null,null,null,null,null,null,null,null,null,null,null,null,null,null,null,{"$f":"IFERROR(MAX('[6]GESTION_SEG_1_TRIM DSAJV'!H212,'[6]GESTION_SEG_2_TRIM DSAJV'!H212),\"\")","v":0},null,{"$f":"IFERROR(_xlfn.CONCAT(\"Trimestre 1\",CHAR(10),'[6]GESTION_SEG_1_TRIM DSAJV'!J212,CHAR(10),\"Trimestre 2\",CHAR(10),'[6]GESTION_SEG_2_TRIM DSAJV'!J212),\" \")","v":"Trimestre 1\n\nTrimestre 2\n"},{"$f":"IFERROR(_xlfn.CONCAT(\"Trimestre 1\",CHAR(10),'[6]GESTION_SEG_1_TRIM DSAJV'!K212,CHAR(10),\"Trimestre 2\",CHAR(10),'[6]GESTION_SEG_2_TRIM DSAJV'!K212),\" \")","v":"Trimestre 1\n\nTrimestre 2\n"}]
[null,null,null,null,null,null,null,null,null,null,null,null,null,null,null,{"$f":"IFERROR(MAX('[6]GESTION_SEG_1_TRIM DSAJV'!H213,'[6]GESTION_SEG_2_TRIM DSAJV'!H213),\"\")","v":0},"",{"$f":"IFERROR(_xlfn.CONCAT(\"Trimestre 1\",CHAR(10),'[6]GESTION_SEG_1_TRIM DSAJV'!J213,CHAR(10),\"Trimestre 2\",CHAR(10),'[6]GESTION_SEG_2_TRIM DSAJV'!J213),\" \")","v":"Trimestre 1\n\nTrimestre 2\n"},{"$f":"IFERROR(_xlfn.CONCAT(\"Trimestre 1\",CHAR(10),'[6]GESTION_SEG_1_TRIM DSAJV'!K213,CHAR(10),\"Trimestre 2\",CHAR(10),'[6]GESTION_SEG_2_TRIM DSAJV'!K213),\" \")","v":"Trimestre 1\n\nTrimestre 2\n"}]
[null,null,null,null,null,null,null,null,null,null,null,null,null,null,null,{"$f":"IFERROR(MAX('[6]GESTION_SEG_1_TRIM DSAJV'!H214,'[6]GESTION_SEG_2_TRIM DSAJV'!H214),\"\")","v":0},"",{"$f":"IFERROR(_xlfn.CONCAT(\"Trimestre 1\",CHAR(10),'[6]GESTION_SEG_1_TRIM DSAJV'!J214,CHAR(10),\"Trimestre 2\",CHAR(10),'[6]GESTION_SEG_2_TRIM DSAJV'!J214),\" \")","v":"Trimestre 1\n\nTrimestre 2\n"},{"$f":"IFERROR(_xlfn.CONCAT(\"Trimestre 1\",CHAR(10),'[6]GESTION_SEG_1_TRIM DSAJV'!K214,CHAR(10),\"Trimestre 2\",CHAR(10),'[6]GESTION_SEG_2_TRIM DSAJV'!K214),\" \")","v":"Trimestre 1\n\nTrimestre 2\n"}]
[null,null,null,null,null,null,null,null,null,null,null,null,null,null,null,{"$f":"IFERROR(MAX('[6]GESTION_SEG_1_TRIM DSAJV'!H215,'[6]GESTION_SEG_2_TRIM DSAJV'!H215),\"\")","v":0},"",{"$f":"IFERROR(_xlfn.CONCAT(\"Trimestre 1\",CHAR(10),'[6]GESTION_SEG_1_TRIM DSAJV'!J215,CHAR(10),\"Trimestre 2\",CHAR(10),'[6]GESTION_SEG_2_TRIM DSAJV'!J215),\" \")","v":"Trimestre 1\n\nTrimestre 2\n"},{"$f":"IFERROR(_xlfn.CONCAT(\"Trimestre 1\",CHAR(10),'[6]GESTION_SEG_1_TRIM DSAJV'!K215,CHAR(10),\"Trimestre 2\",CHAR(10),'[6]GESTION_SEG_2_TRIM DSAJV'!K215),\" \")","v":"Trimestre 1\n\nTrimestre 2\n"}]
[null,null,"4. Desarrollar en los servidores judiciales y demás grupos de valor relevantes las competencias necesarias para la efectividad de la transformación digital de modo que puedan, entre otros, utilizar con solvencia las herramientas digitales dispuestas para sus respectivas funciones. Además, fortalecer y actualizar los conocimientos del personal a cargo de la gestión de proyectos de tecnología.",null,null,null,null,null,null,null,null,null,null,null,null,{"$f":"IFERROR(MAX('[6]GESTION_SEG_1_TRIM DSAJV'!H216,'[6]GESTION_SEG_2_TRIM DSAJV'!H216),\"\")","v":0},"",{"$f":"IFERROR(_xlfn.CONCAT(\"Trimestre 1\",CHAR(10),'[6]GESTION_SEG_1_TRIM DSAJV'!J216,CHAR(10),\"Trimestre 2\",CHAR(10),'[6]GESTION_SEG_2_TRIM DSAJV'!J216),\" \")","v":"Trimestre 1\n\nTrimestre 2\n"},{"$f":"IFERROR(_xlfn.CONCAT(\"Trimestre 1\",CHAR(10),'[6]GESTION_SEG_1_TRIM DSAJV'!K216,CHAR(10),\"Trimestre 2\",CHAR(10),'[6]GESTION_SEG_2_TRIM DSAJV'!K216),\" \")","v":"Trimestre 1\n\nTrimestre 2\n"}]
[null,null,null,null,null,null,null,null,null,null,null,null,null,null,null,{"$f":"IFERROR(MAX('[6]GESTION_SEG_1_TRIM DSAJV'!H217,'[6]GESTION_SEG_2_TRIM DSAJV'!H217),\"\")","v":0},"",{"$f":"IFERROR(_xlfn.CONCAT(\"Trimestre 1\",CHAR(10),'[6]GESTION_SEG_1_TRIM DSAJV'!J217,CHAR(10),\"Trimestre 2\",CHAR(10),'[6]GESTION_SEG_2_TRIM DSAJV'!J217),\" \")","v":"Trimestre 1\n\nTrimestre 2\n"},{"$f":"IFERROR(_xlfn.CONCAT(\"Trimestre 1\",CHAR(10),'[6]GESTION_SEG_1_TRIM DSAJV'!K217,CHAR(10),\"Trimestre 2\",CHAR(10),'[6]GESTION_SEG_2_TRIM DSAJV'!K217),\" \")","v":"Trimestre 1\n\nTrimestre 2\n"}]
[null,null,null,null,null,null,null,null,null,null,null,null,null,null,null,{"$f":"IFERROR(MAX('[6]GESTION_SEG_1_TRIM DSAJV'!H218,'[6]GESTION_SEG_2_TRIM DSAJV'!H218),\"\")","v":0},null,{"$f":"IFERROR(_xlfn.CONCAT(\"Trimestre 1\",CHAR(10),'[6]GESTION_SEG_1_TRIM DSAJV'!J218,CHAR(10),\"Trimestre 2\",CHAR(10),'[6]GESTION_SEG_2_TRIM DSAJV'!J218),\" \")","v":"Trimestre 1\n\nTrimestre 2\n"},{"$f":"IFERROR(_xlfn.CONCAT(\"Trimestre 1\",CHAR(10),'[6]GESTION_SEG_1_TRIM DSAJV'!K218,CHAR(10),\"Trimestre 2\",CHAR(10),'[6]GESTION_SEG_2_TRIM DSAJV'!K218),\" \")","v":"Trimestre 1\n\nTrimestre 2\n"}]
[null,null,null,null,null,null,null,null,null,null,null,null,null,null,null,{"$f":"IFERROR(MAX('[6]GESTION_SEG_1_TRIM DSAJV'!H219,'[6]GESTION_SEG_2_TRIM DSAJV'!H219),\"\")","v":0},null,{"$f":"IFERROR(_xlfn.CONCAT(\"Trimestre 1\",CHAR(10),'[6]GESTION_SEG_1_TRIM DSAJV'!J219,CHAR(10),\"Trimestre 2\",CHAR(10),'[6]GESTION_SEG_2_TRIM DSAJV'!J219),\" \")","v":"Trimestre 1\n\nTrimestre 2\n"},{"$f":"IFERROR(_xlfn.CONCAT(\"Trimestre 1\",CHAR(10),'[6]GESTION_SEG_1_TRIM DSAJV'!K219,CHAR(10),\"Trimestre 2\",CHAR(10),'[6]GESTION_SEG_2_TRIM DSAJV'!K219),\" \")","v":"Trimestre 1\n\nTrimestre 2\n"}]
[null,null,null,null,null,null,null,null,null,null,null,null,null,null,null,{"$f":"IFERROR(MAX('[6]GESTION_SEG_1_TRIM DSAJV'!H220,'[6]GESTION_SEG_2_TRIM DSAJV'!H220),\"\")","v":0},null,{"$f":"IFERROR(_xlfn.CONCAT(\"Trimestre 1\",CHAR(10),'[6]GESTION_SEG_1_TRIM DSAJV'!J220,CHAR(10),\"Trimestre 2\",CHAR(10),'[6]GESTION_SEG_2_TRIM DSAJV'!J220),\" \")","v":"Trimestre 1\n\nTrimestre 2\n"},{"$f":"IFERROR(_xlfn.CONCAT(\"Trimestre 1\",CHAR(10),'[6]GESTION_SEG_1_TRIM DSAJV'!K220,CHAR(10),\"Trimestre 2\",CHAR(10),'[6]GESTION_SEG_2_TRIM DSAJV'!K220),\" \")","v":"Trimestre 1\n\nTrimestre 2\n"}]
[null,null,null,null,null,null,null,null,null,null,null,null,null,null,null,{"$f":"IFERROR(MAX('[6]GESTION_SEG_1_TRIM DSAJV'!H221,'[6]GESTION_SEG_2_TRIM DSAJV'!H221),\"\")","v":0},null,{"$f":"IFERROR(_xlfn.CONCAT(\"Trimestre 1\",CHAR(10),'[6]GESTION_SEG_1_TRIM DSAJV'!J221,CHAR(10),\"Trimestre 2\",CHAR(10),'[6]GESTION_SEG_2_TRIM DSAJV'!J221),\" \")","v":"Trimestre 1\n\nTrimestre 2\n"},{"$f":"IFERROR(_xlfn.CONCAT(\"Trimestre 1\",CHAR(10),'[6]GESTION_SEG_1_TRIM DSAJV'!K221,CHAR(10),\"Trimestre 2\",CHAR(10),'[6]GESTION_SEG_2_TRIM DSAJV'!K221),\" \")","v":"Trimestre 1\n\nTrimestre 2\n"}]
[null,null,null,null,"Apoyo","Gestión Humana","Seccional","Medición de la participación en los programas de bienestar social y desarrollo de competencias","Entregable",70,null,"Coordinadora del Talento Humano","Informe","2023-01-01","2023-12-31",{"$f":"IFERROR(MAX('[6]GESTION_SEG_1_TRIM DSAJV'!H222,'[6]GESTION_SEG_2_TRIM DSAJV'!H222),\"\")","v":20},null,{"$f":"IFERROR(_xlfn.CONCAT(\"Trimestre 1\",CHAR(10),'[6]GESTION_SEG_1_TRIM DSAJV'!J222,CHAR(10),\"Trimestre 2\",CHAR(10),'[6]GESTION_SEG_2_TRIM DSAJV'!J222),\" \")","v":"Trimestre 1\nLos servidores judiciales no son receptivos a las actividades programadas, pese a la amplia divulgación que se realiza.\nTrimestre 2\n"},{"$f":"IFERROR(_xlfn.CONCAT(\"Trimestre 1\",CHAR(10),'[6]GESTION_SEG_1_TRIM DSAJV'!K222,CHAR(10),\"Trimestre 2\",CHAR(10),'[6]GESTION_SEG_2_TRIM DSAJV'!K222),\" \")","v":"Trimestre 1\nCon el apoyo de entidades como la Gobernación,Alcaldia y ARL, se logró realizar las actividades programadas.\nTrimestre 2\n"}]
[null,null,null,null,"Apoyo","Gestión Humana","Seccional","Medición de los reclamos justificados del cliente interno para el pago de nómina y prestaciones sociales","Entregable",null,null,"Coordinadora del Talento Humano","Informe","2023-01-01","2023-12-31",{"$f":"IFERROR(MAX('[6]GESTION_SEG_1_TRIM DSAJV'!H223,'[6]GESTION_SEG_2_TRIM DSAJV'!H223),\"\")","v":0.14000000000000001},"",{"$f":"IFERROR(_xlfn.CONCAT(\"Trimestre 1\",CHAR(10),'[6]GESTION_SEG_1_TRIM DSAJV'!J223,CHAR(10),\"Trimestre 2\",CHAR(10),'[6]GESTION_SEG_2_TRIM DSAJV'!J223),\" \")","v":"Trimestre 1\nEl aplicativo EFINOMINA presenta fallas en la parametrización.\nTrimestre 2\nSe continua con fallas en el aplicativo EFINOMINA, algunos modulos como liquidación definitiva de prestaciones sociales y cesantias y liquidación de seguridad social no han entrado en funcionamiento al 100%."},{"$f":"IFERROR(_xlfn.CONCAT(\"Trimestre 1\",CHAR(10),'[6]GESTION_SEG_1_TRIM DSAJV'!K223,CHAR(10),\"Trimestre 2\",CHAR(10),'[6]GESTION_SEG_2_TRIM DSAJV'!K223),\" \")","v":"Trimestre 1\nEn el primer trimestre se presentaron 34 reclamos justificados, de un total de 23.871 registros de nómina. De lo anterior obtiene que se un  0,1% de reclamos por novedades de nómina.\nTrimestre 2\nEn el segundo trimestre se presentaron 53 reclamos justificados, de un total de 26,027 registros de nómina. De lo anterior obtiene que se un  0,2% de reclamos por novedades de nómina."}]
[null,null,null,null,"Apoyo","Gestión Humana","Seccional","Medición del nivel de satisfacción del cliente interno respecto a las actividades de Gestión Humana","Entregable",null,null,"Coordinadora del Talento Humano","Informe","2023-01-01","2023-12-31",{"$f":"IFERROR(MAX('[6]GESTION_SEG_1_TRIM DSAJV'!H224,'[6]GESTION_SEG_2_TRIM DSAJV'!H224),\"\")","v":1},"",{"$f":"IFERROR(_xlfn.CONCAT(\"Trimestre 1\",CHAR(10),'[6]GESTION_SEG_1_TRIM DSAJV'!J224,CHAR(10),\"Trimestre 2\",CHAR(10),'[6]GESTION_SEG_2_TRIM DSAJV'!J224),\" \")","v":"Trimestre 1\nSe solicita a los servidores diligenciar la encuesta virtual, sin obtener respuesta\nTrimestre 2\n"},{"$f":"IFERROR(_xlfn.CONCAT(\"Trimestre 1\",CHAR(10),'[6]GESTION_SEG_1_TRIM DSAJV'!K224,CHAR(10),\"Trimestre 2\",CHAR(10),'[6]GESTION_SEG_2_TRIM DSAJV'!K224),\" \")","v":"Trimestre 1\n\nTrimestre 2\n"}]
[null,null,null,null,"Apoyo","Gestión Humana","Seccional","Medición de la eficacia en la proyección de recursos para el pago de nomina","Entregable",null,null,"Coordinadora del Talento Humano","Informe","2023-01-01","2023-12-31",{"$f":"IFERROR(MAX('[6]GESTION_SEG_1_TRIM DSAJV'!H225,'[6]GESTION_SEG_2_TRIM DSAJV'!H225),\"\")","v":98.07},"",{"$f":"IFERROR(_xlfn.CONCAT(\"Trimestre 1\",CHAR(10),'[6]GESTION_SEG_1_TRIM DSAJV'!J225,CHAR(10),\"Trimestre 2\",CHAR(10),'[6]GESTION_SEG_2_TRIM DSAJV'!J225),\" \")","v":"Trimestre 1\n\nTrimestre 2\n."},{"$f":"IFERROR(_xlfn.CONCAT(\"Trimestre 1\",CHAR(10),'[6]GESTION_SEG_1_TRIM DSAJV'!K225,CHAR(10),\"Trimestre 2\",CHAR(10),'[6]GESTION_SEG_2_TRIM DSAJV'!K225),\" \")","v":"Trimestre 1\nDurante el primer trimestre se presentó una eficacia del 98.07%, en la proyección del presupuesto requerido para el pago de nómina , toda vez que se proyectó la suma de $19,330,000,000 y se realizó un pago efectivo de $18.996.690.127.\nTrimestre 2\nDurante el segundo trimestre se presentó una eficacia del 98.65%, en la proyección del presupuesto requerido para el pago de nómina , toda vez que se proyectó la suma de $25.450.000.000 y se realizó un pago efectivo de $25.106.706.124, basados en los datos historicos y en las novedades allegadas de manera anticipada."}]
[null,null,"5. Promover el bienestar de todos los servidores judiciales a través de la implementación de un sistema que contemple los diferentes niveles de estrategias y acciones necesarios para mejorar el clima laboral, la salud física y mental y la calidad del tiempo de descanso.","5. Generar espacios de trabajo seguros y saludables que contribuyan a minimizar los  incidentes, accidentes y enfermedades laborales derivados de las condiciones y actos  inseguros y fomentar  el autocuidado, los  estilos de vida y el trabajo saludable en los servidores judiciales, contratistas, judicantes y practicantes","Apoyo","Gestión Humana","Seccional","Medición de la eficacia en la proyección de recursos para el pago de cesantías","Entregable",null,null,"Coordinadora del Talento Humano","Informe","2023-01-01","2023-12-31",{"$f":"IFERROR(MAX('[6]GESTION_SEG_1_TRIM DSAJV'!H226,'[6]GESTION_SEG_2_TRIM DSAJV'!H226),\"\")","v":1},"",{"$f":"IFERROR(_xlfn.CONCAT(\"Trimestre 1\",CHAR(10),'[6]GESTION_SEG_1_TRIM DSAJV'!J226,CHAR(10),\"Trimestre 2\",CHAR(10),'[6]GESTION_SEG_2_TRIM DSAJV'!J226),\" \")","v":"Trimestre 1\nNo se cuenta con un aplicativo que realice la liquidación de cesantias.\nTrimestre 2\n"},{"$f":"IFERROR(_xlfn.CONCAT(\"Trimestre 1\",CHAR(10),'[6]GESTION_SEG_1_TRIM DSAJV'!K226,CHAR(10),\"Trimestre 2\",CHAR(10),'[6]GESTION_SEG_2_TRIM DSAJV'!K226),\" \")","v":"Trimestre 1\n\nTrimestre 2\n"}]
[null,null,null,null,"Apoyo","Gestión de SST","Seccional","Ejecución de los recursos de inversion de proyectos de bienestar social y seguridad y salud en el trabajo para el mejoramiento de las condiciones laborales de los servidores judiciales, en cuanto al manejo de los factores de riesgo psicosociales","Meta cuantificable",430880619,"Presupuesto","Coordinador del SG SST y B.S","Informe","2023-01-01","2023-12-31",{"$f":"IFERROR(MAX('[6]GESTION_SEG_1_TRIM DSAJV'!H227,'[6]GESTION_SEG_2_TRIM DSAJV'!H227),\"\")","v":93028505},0.21590320125305984,{"$f":"IFERROR(_xlfn.CONCAT(\"Trimestre 1\",CHAR(10),'[6]GESTION_SEG_1_TRIM DSAJV'!J227,CHAR(10),\"Trimestre 2\",CHAR(10),'[6]GESTION_SEG_2_TRIM DSAJV'!J227),\" \")","v":"Trimestre 1\nSe está elaborando los estudios de mercado y estudios previos \nTrimestre 2\n"},{"$f":"IFERROR(_xlfn.CONCAT(\"Trimestre 1\",CHAR(10),'[6]GESTION_SEG_1_TRIM DSAJV'!K227,CHAR(10),\"Trimestre 2\",CHAR(10),'[6]GESTION_SEG_2_TRIM DSAJV'!K227),\" \")","v":"Trimestre 1\nEn el primer trimestre del año 2023 se avanzó en un 21 % de avance en la ejecución de presupuesto de los proyectos de inversión de un 100% proyectado.\nTrimestre 2\n"}]
[null,null,null,null,"Apoyo","Gestión de SST","Seccional","Cumplimiento del plan de trabajo del SG SST","Meta cuantificable",1200,"Informe","Coordinador del SG SST y B.S","Informe","2023-01-01","2023-12-31",{"$f":"IFERROR(MAX('[6]GESTION_SEG_1_TRIM DSAJV'!H228,'[6]GESTION_SEG_2_TRIM DSAJV'!H228),\"\")","v":296},null,{"$f":"IFERROR(_xlfn.CONCAT(\"Trimestre 1\",CHAR(10),'[6]GESTION_SEG_1_TRIM DSAJV'!J228,CHAR(10),\"Trimestre 2\",CHAR(10),'[6]GESTION_SEG_2_TRIM DSAJV'!J228),\" \")","v":"Trimestre 1\nEntrega tardía del Plan de Trabajo (28 de febrero de 2023) por parte del Nivel Nacional\nTrimestre 2\n"},{"$f":"IFERROR(_xlfn.CONCAT(\"Trimestre 1\",CHAR(10),'[6]GESTION_SEG_1_TRIM DSAJV'!K228,CHAR(10),\"Trimestre 2\",CHAR(10),'[6]GESTION_SEG_2_TRIM DSAJV'!K228),\" \")","v":"Trimestre 1\nEn el primer trimestre del año 2023 se avanzó en un 25 % de cumplimiento de las actividades establecidas en el plan de trabajo de un 100% de actividades proyectadas.\nTrimestre 2\n"}]
[null,null,null,null,"Apoyo","Gestión de SST","Seccional","Cobertura del plan de trabajo del SG SST","Entregable",null,null,"Coordinador del SG SST y B.S","Informe","2023-01-01","2023-12-31",{"$f":"IFERROR(MAX('[6]GESTION_SEG_1_TRIM DSAJV'!H229,'[6]GESTION_SEG_2_TRIM DSAJV'!H229),\"\")","v":1},null,{"$f":"IFERROR(_xlfn.CONCAT(\"Trimestre 1\",CHAR(10),'[6]GESTION_SEG_1_TRIM DSAJV'!J229,CHAR(10),\"Trimestre 2\",CHAR(10),'[6]GESTION_SEG_2_TRIM DSAJV'!J229),\" \")","v":"Trimestre 1\nEntrega tardía del Plan de Trabajo (28 de febrero de 2023) por parte del Nivel Nacional.\nLa poca participación de los servidores judiciales por el no permiso de los nominadores.\nTrimestre 2\n"},{"$f":"IFERROR(_xlfn.CONCAT(\"Trimestre 1\",CHAR(10),'[6]GESTION_SEG_1_TRIM DSAJV'!K229,CHAR(10),\"Trimestre 2\",CHAR(10),'[6]GESTION_SEG_2_TRIM DSAJV'!K229),\" \")","v":"Trimestre 1\nEn el primer trimestre del año 2023 participáron un 22 % de cubrimiento en las actividades establecidas en el plan de trabajo de un 100% de actividades proyectadas.\nTrimestre 2\n"}]
[null,null,null,null,"Apoyo","Gestión de SST","Seccional","Frecuencia de accidentalidad laboral","Entregable",null,null,"Coordinador del SG SST y B.S","Informe","2023-01-01","2023-12-31",{"$f":"IFERROR(MAX('[6]GESTION_SEG_1_TRIM DSAJV'!H230,'[6]GESTION_SEG_2_TRIM DSAJV'!H230),\"\")","v":1},null,{"$f":"IFERROR(_xlfn.CONCAT(\"Trimestre 1\",CHAR(10),'[6]GESTION_SEG_1_TRIM DSAJV'!J230,CHAR(10),\"Trimestre 2\",CHAR(10),'[6]GESTION_SEG_2_TRIM DSAJV'!J230),\" \")","v":"Trimestre 1\n\nTrimestre 2\n"},{"$f":"IFERROR(_xlfn.CONCAT(\"Trimestre 1\",CHAR(10),'[6]GESTION_SEG_1_TRIM DSAJV'!K230,CHAR(10),\"Trimestre 2\",CHAR(10),'[6]GESTION_SEG_2_TRIM DSAJV'!K230),\" \")","v":"Trimestre 1\nDurante el primer trimestre se reportaron seis (6) AT / IT, de los cuales fueron por colpe contra un objeto. Se inieron las respectivas charlas de autocuidado\nTrimestre 2\n"}]
[null,null,null,null,"Apoyo","Gestión de SST","Seccional","Severidad de accidentalidad laboral","Entregable",null,null,"Coordinador del SG SST y B.S","Informe","2023-01-01","2023-12-31",{"$f":"IFERROR(MAX('[6]GESTION_SEG_1_TRIM DSAJV'!H231,'[6]GESTION_SEG_2_TRIM DSAJV'!H231),\"\")","v":1},null,{"$f":"IFERROR(_xlfn.CONCAT(\"Trimestre 1\",CHAR(10),'[6]GESTION_SEG_1_TRIM DSAJV'!J231,CHAR(10),\"Trimestre 2\",CHAR(10),'[6]GESTION_SEG_2_TRIM DSAJV'!J231),\" \")","v":"Trimestre 1\n\nTrimestre 2\n"},{"$f":"IFERROR(_xlfn.CONCAT(\"Trimestre 1\",CHAR(10),'[6]GESTION_SEG_1_TRIM DSAJV'!K231,CHAR(10),\"Trimestre 2\",CHAR(10),'[6]GESTION_SEG_2_TRIM DSAJV'!K231),\" \")","v":"Trimestre 1\nDurante el primer trimestre por causas de AT / IT no se reportaron incapacidades\nTrimestre 2\n"}]
[null,null,null,null,"Apoyo","Gestión de SST","Seccional","Proporción de accidentes de trabajo mortales","Entregable",null,null,"Coordinador del SG SST y B.S","Informe","2023-01-01","2023-12-31",{"$f":"IFERROR(MAX('[6]GESTION_SEG_1_TRIM DSAJV'!H232,'[6]GESTION_SEG_2_TRIM DSAJV'!H232),\"\")","v":0},null,{"$f":"IFERROR(_xlfn.CONCAT(\"Trimestre 1\",CHAR(10),'[6]GESTION_SEG_1_TRIM DSAJV'!J232,CHAR(10),\"Trimestre 2\",CHAR(10),'[6]GESTION_SEG_2_TRIM DSAJV'!J232),\" \")","v":"Trimestre 1\n\nTrimestre 2\n"},{"$f":"IFERROR(_xlfn.CONCAT(\"Trimestre 1\",CHAR(10),'[6]GESTION_SEG_1_TRIM DSAJV'!K232,CHAR(10),\"Trimestre 2\",CHAR(10),'[6]GESTION_SEG_2_TRIM DSAJV'!K232),\" \")","v":"Trimestre 1\nPara el priemr trimestre no hubo AT mortales\nTrimestre 2\n"}]
[null,null,null,null,"Apoyo","Gestión de SST","Seccional","Incidencia de enfermedad laboral","Entregable",null,null,"Coordinador del SG SST y B.S","Informe","2023-01-01","2023-12-31",{"$f":"IFERROR(MAX('[6]GESTION_SEG_1_TRIM DSAJV'!H233,'[6]GESTION_SEG_2_TRIM DSAJV'!H233),\"\")","v":0},"",{"$f":"IFERROR(_xlfn.CONCAT(\"Trimestre 1\",CHAR(10),'[6]GESTION_SEG_1_TRIM DSAJV'!J233,CHAR(10),\"Trimestre 2\",CHAR(10),'[6]GESTION_SEG_2_TRIM DSAJV'!J233),\" \")","v":"Trimestre 1\n\nTrimestre 2\n"},{"$f":"IFERROR(_xlfn.CONCAT(\"Trimestre 1\",CHAR(10),'[6]GESTION_SEG_1_TRIM DSAJV'!K233,CHAR(10),\"Trimestre 2\",CHAR(10),'[6]GESTION_SEG_2_TRIM DSAJV'!K233),\" \")","v":"Trimestre 1\nEn el primer trimestre no se diagnosticaron ningun caso de enefermedad laboral.\nTrimestre 2\n"}]
[null,null,null,null,"Apoyo","Gestión de SST","Seccional","Prevalencia de enfermedad laboral","Entregable",null,null,"Coordinador del SG SST y B.S","Informe","2023-01-01","2023-12-31",{"$f":"IFERROR(MAX('[6]GESTION_SEG_1_TRIM DSAJV'!H234,'[6]GESTION_SEG_2_TRIM DSAJV'!H234),\"\")","v":0},"",{"$f":"IFERROR(_xlfn.CONCAT(\"Trimestre 1\",CHAR(10),'[6]GESTION_SEG_1_TRIM DSAJV'!J234,CHAR(10),\"Trimestre 2\",CHAR(10),'[6]GESTION_SEG_2_TRIM DSAJV'!J234),\" \")","v":"Trimestre 1\n\nTrimestre 2\n"},{"$f":"IFERROR(_xlfn.CONCAT(\"Trimestre 1\",CHAR(10),'[6]GESTION_SEG_1_TRIM DSAJV'!K234,CHAR(10),\"Trimestre 2\",CHAR(10),'[6]GESTION_SEG_2_TRIM DSAJV'!K234),\" \")","v":"Trimestre 1\nPara  el primer trimestre, se mantienen los 31 casos antiguos de enfermedad laboral. \nTrimestre 2\n"}]
[null,null,null,null,"Apoyo","Gestión de SST","Seccional","Ausentismo por incapacidades médicas","Entregable",null,null,"Coordinador del SG SST y B.S","Informe","2023-01-01","2023-12-31",{"$f":"IFERROR(MAX('[6]GESTION_SEG_1_TRIM DSAJV'!H235,'[6]GESTION_SEG_2_TRIM DSAJV'!H235),\"\")","v":0},"",{"$f":"IFERROR(_xlfn.CONCAT(\"Trimestre 1\",CHAR(10),'[6]GESTION_SEG_1_TRIM DSAJV'!J235,CHAR(10),\"Trimestre 2\",CHAR(10),'[6]GESTION_SEG_2_TRIM DSAJV'!J235),\" \")","v":"Trimestre 1\n\nTrimestre 2\n"},{"$f":"IFERROR(_xlfn.CONCAT(\"Trimestre 1\",CHAR(10),'[6]GESTION_SEG_1_TRIM DSAJV'!K235,CHAR(10),\"Trimestre 2\",CHAR(10),'[6]GESTION_SEG_2_TRIM DSAJV'!K235),\" \")","v":"Trimestre 1\nPara el primer trimestre se presentaron 1018 días de ausentismo por incapacidades, correspondientes a 75 servidores judiciales.\nTrimestre 2\n"}]
["5. Gobernanza, planeación estratégica y capacidad de toma de decisiones","Gobernanza, planeación estratégica y capacidad de toma de decisiones: Fortalecer la gobernanza, la planeación estratégica y la capacidad de toma de decisiones de la Rama Judicial con base en la evidencia empírica y la articulación efectiva con las demás entidades, para que la perspectiva de género y el enfoque diferencial sean transversales en el presente plan. ","1. Implementar un nuevo modelo integrado para la planeación estratégica, el seguimiento y la medición del desempeño institucional.","2. Asegurar  el cumplimiento de los objetivos institucionales, la normatividad aplicable,  la mejora del SIGCMA y la satisfacción de los usuarios, revisando de  forma continua y sistemática la planificación de la gestión y fortaleciendo la administración de riesgos y sus controles.",null,null,null,null,null,null,null,null,null,null,null,{"$f":"IFERROR(MAX('[6]GESTION_SEG_1_TRIM DSAJV'!H236,'[6]GESTION_SEG_2_TRIM DSAJV'!H236),\"\")","v":0},"",{"$f":"IFERROR(_xlfn.CONCAT(\"Trimestre 1\",CHAR(10),'[6]GESTION_SEG_1_TRIM DSAJV'!J236,CHAR(10),\"Trimestre 2\",CHAR(10),'[6]GESTION_SEG_2_TRIM DSAJV'!J236),\" \")","v":"Trimestre 1\n\nTrimestre 2\n"},{"$f":"IFERROR(_xlfn.CONCAT(\"Trimestre 1\",CHAR(10),'[6]GESTION_SEG_1_TRIM DSAJV'!K236,CHAR(10),\"Trimestre 2\",CHAR(10),'[6]GESTION_SEG_2_TRIM DSAJV'!K236),\" \")","v":"Trimestre 1\n\nTrimestre 2\n"}]
[null,null,null,null,null,null,null,null,null,null,null,null,null,null,null,{"$f":"IFERROR(MAX('[6]GESTION_SEG_1_TRIM DSAJV'!H237,'[6]GESTION_SEG_2_TRIM DSAJV'!H237),\"\")","v":0},null,{"$f":"IFERROR(_xlfn.CONCAT(\"Trimestre 1\",CHAR(10),'[6]GESTION_SEG_1_TRIM DSAJV'!J237,CHAR(10),\"Trimestre 2\",CHAR(10),'[6]GESTION_SEG_2_TRIM DSAJV'!J237),\" \")","v":"Trimestre 1\n\nTrimestre 2\n"},{"$f":"IFERROR(_xlfn.CONCAT(\"Trimestre 1\",CHAR(10),'[6]GESTION_SEG_1_TRIM DSAJV'!K237,CHAR(10),\"Trimestre 2\",CHAR(10),'[6]GESTION_SEG_2_TRIM DSAJV'!K237),\" \")","v":"Trimestre 1\n\nTrimestre 2\n"}]
[null,null,null,null,null,null,null,null,null,null,null,null,null,null,null,{"$f":"IFERROR(MAX('[6]GESTION_SEG_1_TRIM DSAJV'!H238,'[6]GESTION_SEG_2_TRIM DSAJV'!H238),\"\")","v":0},null,{"$f":"IFERROR(_xlfn.CONCAT(\"Trimestre 1\",CHAR(10),'[6]GESTION_SEG_1_TRIM DSAJV'!J238,CHAR(10),\"Trimestre 2\",CHAR(10),'[6]GESTION_SEG_2_TRIM DSAJV'!J238),\" \")","v":"Trimestre 1\n\nTrimestre 2\n"},{"$f":"IFERROR(_xlfn.CONCAT(\"Trimestre 1\",CHAR(10),'[6]GESTION_SEG_1_TRIM DSAJV'!K238,CHAR(10),\"Trimestre 2\",CHAR(10),'[6]GESTION_SEG_2_TRIM DSAJV'!K238),\" \")","v":"Trimestre 1\n\nTrimestre 2\n"}]
[null,null,null,null,null,null,null,null,null,null,null,null,null,null,null,{"$f":"IFERROR(MAX('[6]GESTION_SEG_1_TRIM DSAJV'!H239,'[6]GESTION_SEG_2_TRIM DSAJV'!H239),\"\")","v":0},null,{"$f":"IFERROR(_xlfn.CONCAT(\"Trimestre 1\",CHAR(10),'[6]GESTION_SEG_1_TRIM DSAJV'!J239,CHAR(10),\"Trimestre 2\",CHAR(10),'[6]GESTION_SEG_2_TRIM DSAJV'!J239),\" \")","v":"Trimestre 1\n\nTrimestre 2\n"},{"$f":"IFERROR(_xlfn.CONCAT(\"Trimestre 1\",CHAR(10),'[6]GESTION_SEG_1_TRIM DSAJV'!K239,CHAR(10),\"Trimestre 2\",CHAR(10),'[6]GESTION_SEG_2_TRIM DSAJV'!K239),\" \")","v":"Trimestre 1\n\nTrimestre 2\n"}]
[null,null,null,null,null,null,null,null,null,null,null,null,null,null,null,{"$f":"IFERROR(MAX('[6]GESTION_SEG_1_TRIM DSAJV'!H240,'[6]GESTION_SEG_2_TRIM DSAJV'!H240),\"\")","v":0},null,{"$f":"IFERROR(_xlfn.CONCAT(\"Trimestre 1\",CHAR(10),'[6]GESTION_SEG_1_TRIM DSAJV'!J240,CHAR(10),\"Trimestre 2\",CHAR(10),'[6]GESTION_SEG_2_TRIM DSAJV'!J240),\" \")","v":"Trimestre 1\n\nTrimestre 2\n"},{"$f":"IFERROR(_xlfn.CONCAT(\"Trimestre 1\",CHAR(10),'[6]GESTION_SEG_1_TRIM DSAJV'!K240,CHAR(10),\"Trimestre 2\",CHAR(10),'[6]GESTION_SEG_2_TRIM DSAJV'!K240),\" \")","v":"Trimestre 1\n\nTrimestre 2\n"}]
[null,null,null,null,null,null,null,null,null,null,null,null,null,null,null,{"$f":"IFERROR(MAX('[6]GESTION_SEG_1_TRIM DSAJV'!H241,'[6]GESTION_SEG_2_TRIM DSAJV'!H241),\"\")","v":0},null,{"$f":"IFERROR(_xlfn.CONCAT(\"Trimestre 1\",CHAR(10),'[6]GESTION_SEG_1_TRIM DSAJV'!J241,CHAR(10),\"Trimestre 2\",CHAR(10),'[6]GESTION_SEG_2_TRIM DSAJV'!J241),\" \")","v":"Trimestre 1\n\nTrimestre 2\n"},{"$f":"IFERROR(_xlfn.CONCAT(\"Trimestre 1\",CHAR(10),'[6]GESTION_SEG_1_TRIM DSAJV'!K241,CHAR(10),\"Trimestre 2\",CHAR(10),'[6]GESTION_SEG_2_TRIM DSAJV'!K241),\" \")","v":"Trimestre 1\n\nTrimestre 2\n"}]
[null,null,null,null,null,null,null,null,null,null,null,null,null,null,null,{"$f":"IFERROR(MAX('[6]GESTION_SEG_1_TRIM DSAJV'!H242,'[6]GESTION_SEG_2_TRIM DSAJV'!H242),\"\")","v":0},"",{"$f":"IFERROR(_xlfn.CONCAT(\"Trimestre 1\",CHAR(10),'[6]GESTION_SEG_1_TRIM DSAJV'!J242,CHAR(10),\"Trimestre 2\",CHAR(10),'[6]GESTION_SEG_2_TRIM DSAJV'!J242),\" \")","v":"Trimestre 1\n\nTrimestre 2\n"},{"$f":"IFERROR(_xlfn.CONCAT(\"Trimestre 1\",CHAR(10),'[6]GESTION_SEG_1_TRIM DSAJV'!K242,CHAR(10),\"Trimestre 2\",CHAR(10),'[6]GESTION_SEG_2_TRIM DSAJV'!K242),\" \")","v":"Trimestre 1\n\nTrimestre 2\n"}]
[null,null,null,null,null,null,null,null,null,null,null,null,null,null,null,{"$f":"IFERROR(MAX('[6]GESTION_SEG_1_TRIM DSAJV'!H243,'[6]GESTION_SEG_2_TRIM DSAJV'!H243),\"\")","v":0},"",{"$f":"IFERROR(_xlfn.CONCAT(\"Trimestre 1\",CHAR(10),'[6]GESTION_SEG_1_TRIM DSAJV'!J243,CHAR(10),\"Trimestre 2\",CHAR(10),'[6]GESTION_SEG_2_TRIM DSAJV'!J243),\" \")","v":"Trimestre 1\n\nTrimestre 2\n"},{"$f":"IFERROR(_xlfn.CONCAT(\"Trimestre 1\",CHAR(10),'[6]GESTION_SEG_1_TRIM DSAJV'!K243,CHAR(10),\"Trimestre 2\",CHAR(10),'[6]GESTION_SEG_2_TRIM DSAJV'!K243),\" \")","v":"Trimestre 1\n\nTrimestre 2\n"}]
[null,null,null,null,null,null,null,null,null,null,null,null,null,null,null,{"$f":"IFERROR(MAX('[6]GESTION_SEG_1_TRIM DSAJV'!H244,'[6]GESTION_SEG_2_TRIM DSAJV'!H244),\"\")","v":0},"",{"$f":"IFERROR(_xlfn.CONCAT(\"Trimestre 1\",CHAR(10),'[6]GESTION_SEG_1_TRIM DSAJV'!J244,CHAR(10),\"Trimestre 2\",CHAR(10),'[6]GESTION_SEG_2_TRIM DSAJV'!J244),\" \")","v":"Trimestre 1\n\nTrimestre 2\n"},{"$f":"IFERROR(_xlfn.CONCAT(\"Trimestre 1\",CHAR(10),'[6]GESTION_SEG_1_TRIM DSAJV'!K244,CHAR(10),\"Trimestre 2\",CHAR(10),'[6]GESTION_SEG_2_TRIM DSAJV'!K244),\" \")","v":"Trimestre 1\n\nTrimestre 2\n"}]
[null,null,null,null,null,null,null,null,null,null,null,null,null,null,null,{"$f":"IFERROR(MAX('[6]GESTION_SEG_1_TRIM DSAJV'!H245,'[6]GESTION_SEG_2_TRIM DSAJV'!H245),\"\")","v":0},"",{"$f":"IFERROR(_xlfn.CONCAT(\"Trimestre 1\",CHAR(10),'[6]GESTION_SEG_1_TRIM DSAJV'!J245,CHAR(10),\"Trimestre 2\",CHAR(10),'[6]GESTION_SEG_2_TRIM DSAJV'!J245),\" \")","v":"Trimestre 1\n\nTrimestre 2\n"},{"$f":"IFERROR(_xlfn.CONCAT(\"Trimestre 1\",CHAR(10),'[6]GESTION_SEG_1_TRIM DSAJV'!K245,CHAR(10),\"Trimestre 2\",CHAR(10),'[6]GESTION_SEG_2_TRIM DSAJV'!K245),\" \")","v":"Trimestre 1\n\nTrimestre 2\n"}]
[null,null,"2. Definir e implementar el modelo optimizado de formulación, seguimiento y evaluación de la política pública judicial.",null,null,null,null,null,null,null,null,null,null,null,null,{"$f":"IFERROR(MAX('[6]GESTION_SEG_1_TRIM DSAJV'!H246,'[6]GESTION_SEG_2_TRIM DSAJV'!H246),\"\")","v":0},"",{"$f":"IFERROR(_xlfn.CONCAT(\"Trimestre 1\",CHAR(10),'[6]GESTION_SEG_1_TRIM DSAJV'!J246,CHAR(10),\"Trimestre 2\",CHAR(10),'[6]GESTION_SEG_2_TRIM DSAJV'!J246),\" \")","v":"Trimestre 1\n\nTrimestre 2\n"},{"$f":"IFERROR(_xlfn.CONCAT(\"Trimestre 1\",CHAR(10),'[6]GESTION_SEG_1_TRIM DSAJV'!K246,CHAR(10),\"Trimestre 2\",CHAR(10),'[6]GESTION_SEG_2_TRIM DSAJV'!K246),\" \")","v":"Trimestre 1\n\nTrimestre 2\n"}]
[null,null,null,null,null,null,null,null,null,null,null,null,null,null,null,{"$f":"IFERROR(MAX('[6]GESTION_SEG_1_TRIM DSAJV'!H247,'[6]GESTION_SEG_2_TRIM DSAJV'!H247),\"\")","v":0},"",{"$f":"IFERROR(_xlfn.CONCAT(\"Trimestre 1\",CHAR(10),'[6]GESTION_SEG_1_TRIM DSAJV'!J247,CHAR(10),\"Trimestre 2\",CHAR(10),'[6]GESTION_SEG_2_TRIM DSAJV'!J247),\" \")","v":"Trimestre 1\n\nTrimestre 2\n"},{"$f":"IFERROR(_xlfn.CONCAT(\"Trimestre 1\",CHAR(10),'[6]GESTION_SEG_1_TRIM DSAJV'!K247,CHAR(10),\"Trimestre 2\",CHAR(10),'[6]GESTION_SEG_2_TRIM DSAJV'!K247),\" \")","v":"Trimestre 1\n\nTrimestre 2\n"}]
[null,null,null,null,null,null,null,null,null,null,null,null,null,null,null,{"$f":"IFERROR(MAX('[6]GESTION_SEG_1_TRIM DSAJV'!H248,'[6]GESTION_SEG_2_TRIM DSAJV'!H248),\"\")","v":0},null,{"$f":"IFERROR(_xlfn.CONCAT(\"Trimestre 1\",CHAR(10),'[6]GESTION_SEG_1_TRIM DSAJV'!J248,CHAR(10),\"Trimestre 2\",CHAR(10),'[6]GESTION_SEG_2_TRIM DSAJV'!J248),\" \")","v":"Trimestre 1\n\nTrimestre 2\n"},{"$f":"IFERROR(_xlfn.CONCAT(\"Trimestre 1\",CHAR(10),'[6]GESTION_SEG_1_TRIM DSAJV'!K248,CHAR(10),\"Trimestre 2\",CHAR(10),'[6]GESTION_SEG_2_TRIM DSAJV'!K248),\" \")","v":"Trimestre 1\n\nTrimestre 2\n"}]
[null,null,null,null,null,null,null,null,null,null,null,null,null,null,null,{"$f":"IFERROR(MAX('[6]GESTION_SEG_1_TRIM DSAJV'!H249,'[6]GESTION_SEG_2_TRIM DSAJV'!H249),\"\")","v":0},null,{"$f":"IFERROR(_xlfn.CONCAT(\"Trimestre 1\",CHAR(10),'[6]GESTION_SEG_1_TRIM DSAJV'!J249,CHAR(10),\"Trimestre 2\",CHAR(10),'[6]GESTION_SEG_2_TRIM DSAJV'!J249),\" \")","v":"Trimestre 1\n\nTrimestre 2\n"},{"$f":"IFERROR(_xlfn.CONCAT(\"Trimestre 1\",CHAR(10),'[6]GESTION_SEG_1_TRIM DSAJV'!K249,CHAR(10),\"Trimestre 2\",CHAR(10),'[6]GESTION_SEG_2_TRIM DSAJV'!K249),\" \")","v":"Trimestre 1\n\nTrimestre 2\n"}]
[null,null,null,null,null,null,null,null,null,null,null,null,null,null,null,{"$f":"IFERROR(MAX('[6]GESTION_SEG_1_TRIM DSAJV'!H250,'[6]GESTION_SEG_2_TRIM DSAJV'!H250),\"\")","v":0},null,{"$f":"IFERROR(_xlfn.CONCAT(\"Trimestre 1\",CHAR(10),'[6]GESTION_SEG_1_TRIM DSAJV'!J250,CHAR(10),\"Trimestre 2\",CHAR(10),'[6]GESTION_SEG_2_TRIM DSAJV'!J250),\" \")","v":"Trimestre 1\n\nTrimestre 2\n"},{"$f":"IFERROR(_xlfn.CONCAT(\"Trimestre 1\",CHAR(10),'[6]GESTION_SEG_1_TRIM DSAJV'!K250,CHAR(10),\"Trimestre 2\",CHAR(10),'[6]GESTION_SEG_2_TRIM DSAJV'!K250),\" \")","v":"Trimestre 1\n\nTrimestre 2\n"}]
[null,null,null,null,null,null,null,null,null,null,null,null,null,null,null,{"$f":"IFERROR(MAX('[6]GESTION_SEG_1_TRIM DSAJV'!H251,'[6]GESTION_SEG_2_TRIM DSAJV'!H251),\"\")","v":0},null,{"$f":"IFERROR(_xlfn.CONCAT(\"Trimestre 1\",CHAR(10),'[6]GESTION_SEG_1_TRIM DSAJV'!J251,CHAR(10),\"Trimestre 2\",CHAR(10),'[6]GESTION_SEG_2_TRIM DSAJV'!J251),\" \")","v":"Trimestre 1\n\nTrimestre 2\n"},{"$f":"IFERROR(_xlfn.CONCAT(\"Trimestre 1\",CHAR(10),'[6]GESTION_SEG_1_TRIM DSAJV'!K251,CHAR(10),\"Trimestre 2\",CHAR(10),'[6]GESTION_SEG_2_TRIM DSAJV'!K251),\" \")","v":"Trimestre 1\n\nTrimestre 2\n"}]
[null,null,null,null,null,null,null,null,null,null,null,null,null,null,null,{"$f":"IFERROR(MAX('[6]GESTION_SEG_1_TRIM DSAJV'!H252,'[6]GESTION_SEG_2_TRIM DSAJV'!H252),\"\")","v":0},null,{"$f":"IFERROR(_xlfn.CONCAT(\"Trimestre 1\",CHAR(10),'[6]GESTION_SEG_1_TRIM DSAJV'!J252,CHAR(10),\"Trimestre 2\",CHAR(10),'[6]GESTION_SEG_2_TRIM DSAJV'!J252),\" \")","v":"Trimestre 1\n\nTrimestre 2\n"},{"$f":"IFERROR(_xlfn.CONCAT(\"Trimestre 1\",CHAR(10),'[6]GESTION_SEG_1_TRIM DSAJV'!K252,CHAR(10),\"Trimestre 2\",CHAR(10),'[6]GESTION_SEG_2_TRIM DSAJV'!K252),\" \")","v":"Trimestre 1\n\nTrimestre 2\n"}]
[null,null,null,null,null,null,null,null,null,null,null,null,null,null,null,{"$f":"IFERROR(MAX('[6]GESTION_SEG_1_TRIM DSAJV'!H253,'[6]GESTION_SEG_2_TRIM DSAJV'!H253),\"\")","v":0},"",{"$f":"IFERROR(_xlfn.CONCAT(\"Trimestre 1\",CHAR(10),'[6]GESTION_SEG_1_TRIM DSAJV'!J253,CHAR(10),\"Trimestre 2\",CHAR(10),'[6]GESTION_SEG_2_TRIM DSAJV'!J253),\" \")","v":"Trimestre 1\n\nTrimestre 2\n"},{"$f":"IFERROR(_xlfn.CONCAT(\"Trimestre 1\",CHAR(10),'[6]GESTION_SEG_1_TRIM DSAJV'!K253,CHAR(10),\"Trimestre 2\",CHAR(10),'[6]GESTION_SEG_2_TRIM DSAJV'!K253),\" \")","v":"Trimestre 1\n\nTrimestre 2\n"}]
[null,null,null,null,null,null,null,null,null,null,null,null,null,null,null,{"$f":"IFERROR(MAX('[6]GESTION_SEG_1_TRIM DSAJV'!H254,'[6]GESTION_SEG_2_TRIM DSAJV'!H254),\"\")","v":0},"",{"$f":"IFERROR(_xlfn.CONCAT(\"Trimestre 1\",CHAR(10),'[6]GESTION_SEG_1_TRIM DSAJV'!J254,CHAR(10),\"Trimestre 2\",CHAR(10),'[6]GESTION_SEG_2_TRIM DSAJV'!J254),\" \")","v":"Trimestre 1\n\nTrimestre 2\n"},{"$f":"IFERROR(_xlfn.CONCAT(\"Trimestre 1\",CHAR(10),'[6]GESTION_SEG_1_TRIM DSAJV'!K254,CHAR(10),\"Trimestre 2\",CHAR(10),'[6]GESTION_SEG_2_TRIM DSAJV'!K254),\" \")","v":"Trimestre 1\n\nTrimestre 2\n"}]
[null,null,null,null,null,null,null,null,null,null,null,null,null,null,null,{"$f":"IFERROR(MAX('[6]GESTION_SEG_1_TRIM DSAJV'!H255,'[6]GESTION_SEG_2_TRIM DSAJV'!H255),\"\")","v":0},"",{"$f":"IFERROR(_xlfn.CONCAT(\"Trimestre 1\",CHAR(10),'[6]GESTION_SEG_1_TRIM DSAJV'!J255,CHAR(10),\"Trimestre 2\",CHAR(10),'[6]GESTION_SEG_2_TRIM DSAJV'!J255),\" \")","v":"Trimestre 1\n\nTrimestre 2\n"},{"$f":"IFERROR(_xlfn.CONCAT(\"Trimestre 1\",CHAR(10),'[6]GESTION_SEG_1_TRIM DSAJV'!K255,CHAR(10),\"Trimestre 2\",CHAR(10),'[6]GESTION_SEG_2_TRIM DSAJV'!K255),\" \")","v":"Trimestre 1\n\nTrimestre 2\n"}]

{"sheet":"GESTION_SEG_3_TRIM DSAJV","index":5,"n_rows":255,"n_cols":11,"rows_kept":255,"cut":false,"hidden":false,"merged":[[35,2,44,2],[35,3,44,3],[1,0,1,10],[2,0,2,3],[2,4,2,9],[2,10,4,10],[3,0,4,1],[3,2,4,2],[3,3,4,3],[3,4,3,9],[85,2,94,2],[95,2,104,2],[5,0,54,0],[5,1,54,1],[5,2,14,2],[5,3,14,3],[15,2,24,2],[15,3,24,3],[25,2,34,2],[25,3,34,3],[175,2,184,2],[175,3,184,3],[45,2,54,2],[45,3,54,3],[55,0,114,0],[55,1,114,1],[55,2,64,2],[55,3,114,3],[65,2,74,2],[75,2,84,2],[125,3,134,3],[135,2,144,2],[135,3,144,3],[145,2,154,2],[145,3,174,3],[155,2,164,2],[165,2,174,2],[185,1,234,1],[185,2,194,2],[185,3,224,3],[195,2,204,2],[105,2,114,2],[115,0,184,0],[115,1,184,1],[115,2,124,2],[115,3,124,3],[125,2,134,2],[205,2,214,2],[215,2,224,2],[225,2,234,2],[225,3,234,3],[235,0,254,0],[235,1,254,1],[235,2,244,2],[235,3,254,3],[245,2,254,2],[185,0,234,0]]}
[]
["CONSEJO SUPERIOR DE LA JUDICATURA \nUNIDADES MISIONALES DEL CONSEJO SUPERIOR DE LA JUDICATURA - \nDIRECCIÓN EJECUTIVA DE ADMINISTRACIÓN JUDICIAL - UNIDADES MISIONALES DE LA DEAJ\nDIRECCIONES SECCIONALES DE ADMINISTRACIÓN JUDICIAL - DEPENDENCIAS JUDICIALES CERTIFICADAS"]
["PLAN SECTORIAL DE DESARROLLO 2023-2026 - OBJETIVOS SIGCMA",null,null,null,null,null,null,null,null,null," ANÁLISIS RESULTADO"]
["OBJETIVO ESTRATÉGICO",null,"OBJETIVO ESPECÍFICO PSD","OBJETIVO ESPECÍFICO SIGCMA","MEDICIÓN DE LA GESTIÓN ANUAL"]
[null,null,null,null,"ACTIVIDADES ","INDIQUE SI ES ENTREGABLE O META CUANTIFICABLE","META ANUAL","AVANCE DE LA META ","NIVEL CUMPLIMIENTO","DIFICULTADES PARA LOGRAR LA META PROPUESTA"]
["1. Acceso e Infraestructura Física","Acceso e Infraestructura Física: Ampliar, en todo el territorio nacional, el acceso a una justicia efectiva, pronta, equitativa e incluyente, reduciendo el atraso y la congestión, de acuerdo con las necesidades de la demanda de justicia por jurisdicción y especialidad, y mejorando la articulación con la justicia restaurativa y terapéutica, y otros mecanismos de solución de conflictos y consolidando una infraestructura física óptima para el acceso a la justicia.","1. Ampliar el acceso a justicia para atender las necesidades jurídicas de los ciudadanos con un enfoque diferencial, de una manera pronta, reduciendo las inequidades y las brechas territoriales de acceso.","2. Asegurar  el cumplimiento de los objetivos institucionales, la normatividad aplicable,  la mejora del SIGCMA y la satisfacción de los usuarios, revisando de  forma continua y sistemática la planificación de la gestión y fortaleciendo la administración de riesgos y sus controles",{"$f":"IFERROR('[6]GESTION DSAJV'!H6,\" \")","v":"Realizar la contratación  y ejecución de proyectos de inversión en infraestructura física de la rama judicial, para mejorar las condiciones de los inmuebles de la rama judicial "},{"$f":"IFERROR('[6]GESTION DSAJV'!I6,\" \")","v":"Entregable"},{"$f":"IFERROR('[6]GESTION DSAJV'!J6,\" \")","v":0},null,{"$f":"IFERROR(H6/G6,\"\")","v":""}]
[null,null,null,null,{"$f":"IFERROR('[6]GESTION DSAJV'!H7,\" \")","v":"Atender las necesidades de traslado de los servidores judiciales con fines administrativos. "},{"$f":"IFERROR('[6]GESTION DSAJV'!I7,\" \")","v":"Entregable"},{"$f":"IFERROR('[6]GESTION DSAJV'!J7,\" \")","v":0},null,{"$f":"IFERROR(H7/G7,\"\")","v":""}]
[null,null,null,null,{"$f":"IFERROR('[6]GESTION DSAJV'!H8,\" \")","v":0},{"$f":"IFERROR('[6]GESTION DSAJV'!I8,\" \")","v":0},{"$f":"IFERROR('[6]GESTION DSAJV'!J8,\" \")","v":0},null,{"$f":"IFERROR(H8/G8,\"\")","v":""}]
[null,null,null,null,{"$f":"IFERROR('[6]GESTION DSAJV'!H9,\" \")","v":0},{"$f":"IFERROR('[6]GESTION DSAJV'!I9,\" \")","v":0},{"$f":"IFERROR('[6]GESTION DSAJV'!J9,\" \")","v":0},null,{"$f":"IFERROR(H9/G9,\"\")","v":""}]
[null,null,null,null,{"$f":"IFERROR('[6]GESTION DSAJV'!H10,\" \")","v":0},{"$f":"IFERROR('[6]GESTION DSAJV'!I10,\" \")","v":0},{"$f":"IFERROR('[6]GESTION DSAJV'!J10,\" \")","v":0},null,{"$f":"IFERROR(H10/G10,\"\")","v":""}]
[null,null,null,null,{"$f":"IFERROR('[6]GESTION DSAJV'!H11,\" \")","v":"Adelantar los procesos de contratación que permitan la ejecución de los recursos asignados para contratar los bienes y servicios necesarios para asegurar el adecuado funcionamiento de los Despachos Judiciales y Administrativos del Distrito Judicial de Villavicencio"},{"$f":"IFERROR('[6]GESTION DSAJV'!I11,\" \")","v":"Entregable"},{"$f":"IFERROR('[6]GESTION DSAJV'!J11,\" \")","v":100},null,{"$f":"IFERROR(H11/G11,\"\")","v":0}]
[null,null,null,null,{"$f":"IFERROR('[6]GESTION DSAJV'!H12,\" \")","v":"Verificar el cumplimiento de las adquisiciones planeadas con respecto a la ejecución de procesos de contratación adelantados durante la presente vigencia"},{"$f":"IFERROR('[6]GESTION DSAJV'!I12,\" \")","v":"Entregable"},{"$f":"IFERROR('[6]GESTION DSAJV'!J12,\" \")","v":95},null,{"$f":"IFERROR(H12/G12,\"\")","v":0}]
[null,null,null,null,{"$f":"IFERROR('[6]GESTION DSAJV'!H13,\" \")","v":"Seguimiento a la adquisición de bienes y servicios adquiridos para el funcionamiento de los Despachos Judiciales y Administrativos del Distrito Judicial de Villavicencio"},{"$f":"IFERROR('[6]GESTION DSAJV'!I13,\" \")","v":"Entregable"},{"$f":"IFERROR('[6]GESTION DSAJV'!J13,\" \")","v":95},null,{"$f":"IFERROR(H13/G13,\"\")","v":0}]
[null,null,null,null,{"$f":"IFERROR('[6]GESTION DSAJV'!H14,\" \")","v":"Ejecución del plan de adquisiciones Villavicencio"},{"$f":"IFERROR('[6]GESTION DSAJV'!I14,\" \")","v":"Entregable"},{"$f":"IFERROR('[6]GESTION DSAJV'!J14,\" \")","v":95},null,{"$f":"IFERROR(H14/G14,\"\")","v":0}]
[null,null,null,null,{"$f":"IFERROR('[6]GESTION DSAJV'!H15,\" \")","v":0},{"$f":"IFERROR('[6]GESTION DSAJV'!I15,\" \")","v":0},{"$f":"IFERROR('[6]GESTION DSAJV'!J15,\" \")","v":0},null,{"$f":"IFERROR(H15/G15,\"\")","v":""}]
[null,null,"2. Mejorar los tiempos de respuesta de la Rama Judicial y reducir el inventario de procesos, identificando los retos internos y promoviendo tanto acciones articuladas específicas para abordarlos como estrategias coordinadas para enfrentar las barreras que dependen de otras entidades.","2. Asegurar  el cumplimiento de los objetivos institucionales, la normatividad aplicable,  la mejora del SIGCMA y la satisfacción de los usuarios, revisando de  forma continua y sistemática la planificación de la gestión y fortaleciendo la administración de riesgos y sus controles",{"$f":"IFERROR('[6]GESTION DSAJV'!H16,\" \")","v":"Seguimiento al consumo de Papel, Combustible y Servicios públicos "},{"$f":"IFERROR('[6]GESTION DSAJV'!I16,\" \")","v":"Entregable"},{"$f":"IFERROR('[6]GESTION DSAJV'!J16,\" \")","v":0},null,{"$f":"IFERROR(H16/G16,\"\")","v":""}]
[null,null,null,null,{"$f":"IFERROR('[6]GESTION DSAJV'!H17,\" \")","v":"Atender las necesidades de traslado de los servidores judiciales con fines administrativos. "},{"$f":"IFERROR('[6]GESTION DSAJV'!I17,\" \")","v":"Entregable"},{"$f":"IFERROR('[6]GESTION DSAJV'!J17,\" \")","v":95},null,{"$f":"IFERROR(H17/G17,\"\")","v":0}]
[null,null,null,null,{"$f":"IFERROR('[6]GESTION DSAJV'!H18,\" \")","v":"Realizar seguimiento por medio de informes al mantenimiento y control del parque automotor"},{"$f":"IFERROR('[6]GESTION DSAJV'!I18,\" \")","v":"Entregable"},{"$f":"IFERROR('[6]GESTION DSAJV'!J18,\" \")","v":95},null,{"$f":"IFERROR(H18/G18,\"\")","v":0}]
[null,null,null,null,{"$f":"IFERROR('[6]GESTION DSAJV'!H19,\" \")","v":"Identificación de necesidades en materia de seguridad para las sedes judiciales asignadas al Distrito Judicial de Villavicencio y su gestión para contratación de equipos , mantenimientos y personal, para el fortalecimiento de la seguridad."},{"$f":"IFERROR('[6]GESTION DSAJV'!I19,\" \")","v":"Entregable"},{"$f":"IFERROR('[6]GESTION DSAJV'!J19,\" \")","v":100},null,{"$f":"IFERROR(H19/G19,\"\")","v":0}]
[null,null,null,null,{"$f":"IFERROR('[6]GESTION DSAJV'!H20,\" \")","v":"Registrar reporte mensual de novedades en bienes muebles e inmuebles."},{"$f":"IFERROR('[6]GESTION DSAJV'!I20,\" \")","v":"Entregable"},{"$f":"IFERROR('[6]GESTION DSAJV'!J20,\" \")","v":100},null,{"$f":"IFERROR(H20/G20,\"\")","v":0}]
[null,null,null,null,{"$f":"IFERROR('[6]GESTION DSAJV'!H21,\" \")","v":0},{"$f":"IFERROR('[6]GESTION DSAJV'!I21,\" \")","v":0},{"$f":"IFERROR('[6]GESTION DSAJV'!J21,\" \")","v":0},null,{"$f":"IFERROR(H21/G21,\"\")","v":""}]
[null,null,null,null,{"$f":"IFERROR('[6]GESTION DSAJV'!H22,\" \")","v":0},{"$f":"IFERROR('[6]GESTION DSAJV'!I22,\" \")","v":0},{"$f":"IFERROR('[6]GESTION DSAJV'!J22,\" \")","v":0},null,{"$f":"IFERROR(H22/G22,\"\")","v":""}]
[null,null,null,null,{"$f":"IFERROR('[6]GESTION DSAJV'!H23,\" \")","v":0},{"$f":"IFERROR('[6]GESTION DSAJV'!I23,\" \")","v":0},{"$f":"IFERROR('[6]GESTION DSAJV'!J23,\" \")","v":0},null,{"$f":"IFERROR(H23/G23,\"\")","v":""}]
[null,null,null,null,{"$f":"IFERROR('[6]GESTION DSAJV'!H24,\" \")","v":0},{"$f":"IFERROR('[6]GESTION DSAJV'!I24,\" \")","v":0},{"$f":"IFERROR('[6]GESTION DSAJV'!J24,\" \")","v":0},null,{"$f":"IFERROR(H24/G24,\"\")","v":""}]
[null,null,null,null,{"$f":"IFERROR('[6]GESTION DSAJV'!H25,\" \")","v":0},{"$f":"IFERROR('[6]GESTION DSAJV'!I25,\" \")","v":0},{"$f":"IFERROR('[6]GESTION DSAJV'!J25,\" \")","v":0},null,{"$f":"IFERROR(H25/G25,\"\")","v":""}]
[null,null,"3. Coadyuvar en la garantía de la idoneidad en el ejercicio de la profesión jurídica de acuerdo con lo establecido en la Ley 1905 de 2018","2. Asegurar  el cumplimiento de los objetivos institucionales, la normatividad aplicable,  la mejora del SIGCMA y la satisfacción de los usuarios, revisando de  forma continua y sistemática la planificación de la gestión y fortaleciendo la administración de riesgos y sus controles",{"$f":"IFERROR('[6]GESTION DSAJV'!H26,\" \")","v":0},{"$f":"IFERROR('[6]GESTION DSAJV'!I26,\" \")","v":0},{"$f":"IFERROR('[6]GESTION DSAJV'!J26,\" \")","v":0},null,{"$f":"IFERROR(H26/G26,\"\")","v":""}]
[null,null,null,null,{"$f":"IFERROR('[6]GESTION DSAJV'!H27,\" \")","v":0},{"$f":"IFERROR('[6]GESTION DSAJV'!I27,\" \")","v":0},{"$f":"IFERROR('[6]GESTION DSAJV'!J27,\" \")","v":0},null,{"$f":"IFERROR(H27/G27,\"\")","v":""}]
[null,null,null,null,{"$f":"IFERROR('[6]GESTION DSAJV'!H28,\" \")","v":0},{"$f":"IFERROR('[6]GESTION DSAJV'!I28,\" \")","v":0},{"$f":"IFERROR('[6]GESTION DSAJV'!J28,\" \")","v":0},null,{"$f":"IFERROR(H28/G28,\"\")","v":""}]
[null,null,null,null,{"$f":"IFERROR('[6]GESTION DSAJV'!H29,\" \")","v":0},{"$f":"IFERROR('[6]GESTION DSAJV'!I29,\" \")","v":0},{"$f":"IFERROR('[6]GESTION DSAJV'!J29,\" \")","v":0},null,{"$f":"IFERROR(H29/G29,\"\")","v":""}]
[null,null,null,null,{"$f":"IFERROR('[6]GESTION DSAJV'!H30,\" \")","v":0},{"$f":"IFERROR('[6]GESTION DSAJV'!I30,\" \")","v":0},{"$f":"IFERROR('[6]GESTION DSAJV'!J30,\" \")","v":0},null,{"$f":"IFERROR(H30/G30,\"\")","v":""}]
[null,null,null,null,{"$f":"IFERROR('[6]GESTION DSAJV'!H31,\" \")","v":0},{"$f":"IFERROR('[6]GESTION DSAJV'!I31,\" \")","v":0},{"$f":"IFERROR('[6]GESTION DSAJV'!J31,\" \")","v":0},null,{"$f":"IFERROR(H31/G31,\"\")","v":""}]
[null,null,null,null,{"$f":"IFERROR('[6]GESTION DSAJV'!H32,\" \")","v":0},{"$f":"IFERROR('[6]GESTION DSAJV'!I32,\" \")","v":0},{"$f":"IFERROR('[6]GESTION DSAJV'!J32,\" \")","v":0},null,{"$f":"IFERROR(H32/G32,\"\")","v":""}]
[null,null,null,null,{"$f":"IFERROR('[6]GESTION DSAJV'!H33,\" \")","v":0},{"$f":"IFERROR('[6]GESTION DSAJV'!I33,\" \")","v":0},{"$f":"IFERROR('[6]GESTION DSAJV'!J33,\" \")","v":0},null,{"$f":"IFERROR(H33/G33,\"\")","v":""}]
[null,null,null,null,{"$f":"IFERROR('[6]GESTION DSAJV'!H34,\" \")","v":0},{"$f":"IFERROR('[6]GESTION DSAJV'!I34,\" \")","v":0},{"$f":"IFERROR('[6]GESTION DSAJV'!J34,\" \")","v":0},null,{"$f":"IFERROR(H34/G34,\"\")","v":""}]
[null,null,null,null,{"$f":"IFERROR('[6]GESTION DSAJV'!H35,\" \")","v":0},{"$f":"IFERROR('[6]GESTION DSAJV'!I35,\" \")","v":0},{"$f":"IFERROR('[6]GESTION DSAJV'!J35,\" \")","v":0},null,{"$f":"IFERROR(H35/G35,\"\")","v":""}]
[null,null,"4. Avanzar en la disposición de una infraestructura óptima para el acceso a la justicia en la Rama Judicial de modo que se fortalezca la presencia territorial, teniendo en cuenta las posibilidades que ofrece la transformación digital y las necesidades que se derivan de ella, y considerando tanto las necesidades de los usuarios como las de los servidores judiciales.","4. Hacer un uso racional de los recursos naturales aplicando los principios y fases de la Economía Circular, para prevenir, mitigar y controlar los impactos ambientales",{"$f":"IFERROR('[6]GESTION DSAJV'!H36,\" \")","v":0},{"$f":"IFERROR('[6]GESTION DSAJV'!I36,\" \")","v":0},{"$f":"IFERROR('[6]GESTION DSAJV'!J36,\" \")","v":0},null,{"$f":"IFERROR(H36/G36,\"\")","v":""}]
[null,null,null,null,{"$f":"IFERROR('[6]GESTION DSAJV'!H37,\" \")","v":0},{"$f":"IFERROR('[6]GESTION DSAJV'!I37,\" \")","v":0},{"$f":"IFERROR('[6]GESTION DSAJV'!J37,\" \")","v":0},null,{"$f":"IFERROR(H37/G37,\"\")","v":""}]
[null,null,null,null,{"$f":"IFERROR('[6]GESTION DSAJV'!H38,\" \")","v":0},{"$f":"IFERROR('[6]GESTION DSAJV'!I38,\" \")","v":0},{"$f":"IFERROR('[6]GESTION DSAJV'!J38,\" \")","v":0},null,{"$f":"IFERROR(H38/G38,\"\")","v":""}]
[null,null,null,null,{"$f":"IFERROR('[6]GESTION DSAJV'!H39,\" \")","v":0},{"$f":"IFERROR('[6]GESTION DSAJV'!I39,\" \")","v":0},{"$f":"IFERROR('[6]GESTION DSAJV'!J39,\" \")","v":0},null,{"$f":"IFERROR(H39/G39,\"\")","v":""}]
[null,null,null,null,{"$f":"IFERROR('[6]GESTION DSAJV'!H40,\" \")","v":0},{"$f":"IFERROR('[6]GESTION DSAJV'!I40,\" \")","v":0},{"$f":"IFERROR('[6]GESTION DSAJV'!J40,\" \")","v":0},null,{"$f":"IFERROR(H40/G40,\"\")","v":""}]
[null,null,null,null,{"$f":"IFERROR('[6]GESTION DSAJV'!H41,\" \")","v":0},{"$f":"IFERROR('[6]GESTION DSAJV'!I41,\" \")","v":0},{"$f":"IFERROR('[6]GESTION DSAJV'!J41,\" \")","v":0},null,{"$f":"IFERROR(H41/G41,\"\")","v":""}]
[null,null,null,null,{"$f":"IFERROR('[6]GESTION DSAJV'!H42,\" \")","v":0},{"$f":"IFERROR('[6]GESTION DSAJV'!I42,\" \")","v":0},{"$f":"IFERROR('[6]GESTION DSAJV'!J42,\" \")","v":0},null,{"$f":"IFERROR(H42/G42,\"\")","v":""}]
[null,null,null,null,{"$f":"IFERROR('[6]GESTION DSAJV'!H43,\" \")","v":0},{"$f":"IFERROR('[6]GESTION DSAJV'!I43,\" \")","v":0},{"$f":"IFERROR('[6]GESTION DSAJV'!J43,\" \")","v":0},null,{"$f":"IFERROR(H43/G43,\"\")","v":""}]
[null,null,null,null,{"$f":"IFERROR('[6]GESTION DSAJV'!H44,\" \")","v":0},{"$f":"IFERROR('[6]GESTION DSAJV'!I44,\" \")","v":0},{"$f":"IFERROR('[6]GESTION DSAJV'!J44,\" \")","v":0},null,{"$f":"IFERROR(H44/G44,\"\")","v":""}]
[null,null,null,null,{"$f":"IFERROR('[6]GESTION DSAJV'!H45,\" \")","v":0},{"$f":"IFERROR('[6]GESTION DSAJV'!I45,\" \")","v":0},{"$f":"IFERROR('[6]GESTION DSAJV'!J45,\" \")","v":0},null,{"$f":"IFERROR(H45/G45,\"\")","v":""}]
[null,null,"5. Impulsar el uso de mecanismos alternativos para la solución de conflictos y la ampliación de la justicia restaurativa y terapéutica y el robustecimiento de las alternativas al encarcelamiento","2. Asegurar  el cumplimiento de los objetivos institucionales, la normatividad aplicable,  la mejora del SIGCMA y la satisfacción de los usuarios, revisando de  forma continua y sistemática la planificación de la gestión y fortaleciendo la administración de riesgos y sus controles",{"$f":"IFERROR('[6]GESTION DSAJV'!H46,\" \")","v":0},{"$f":"IFERROR('[6]GESTION DSAJV'!I46,\" \")","v":0},{"$f":"IFERROR('[6]GESTION DSAJV'!J46,\" \")","v":0},null,{"$f":"IFERROR(H46/G46,\"\")","v":""}]
[null,null,null,null,{"$f":"IFERROR('[6]GESTION DSAJV'!H47,\" \")","v":0},{"$f":"IFERROR('[6]GESTION DSAJV'!I47,\" \")","v":0},{"$f":"IFERROR('[6]GESTION DSAJV'!J47,\" \")","v":0},null,{"$f":"IFERROR(H47/G47,\"\")","v":""}]
[null,null,null,null,{"$f":"IFERROR('[6]GESTION DSAJV'!H48,\" \")","v":0},{"$f":"IFERROR('[6]GESTION DSAJV'!I48,\" \")","v":0},{"$f":"IFERROR('[6]GESTION DSAJV'!J48,\" \")","v":0},null,{"$f":"IFERROR(H48/G48,\"\")","v":""}]
[null,null,null,null,{"$f":"IFERROR('[6]GESTION DSAJV'!H49,\" \")","v":0},{"$f":"IFERROR('[6]GESTION DSAJV'!I49,\" \")","v":0},{"$f":"IFERROR('[6]GESTION DSAJV'!J49,\" \")","v":0},null,{"$f":"IFERROR(H49/G49,\"\")","v":""}]
[null,null,null,null,{"$f":"IFERROR('[6]GESTION DSAJV'!H50,\" \")","v":0},{"$f":"IFERROR('[6]GESTION DSAJV'!I50,\" \")","v":0},{"$f":"IFERROR('[6]GESTION DSAJV'!J50,\" \")","v":0},null,{"$f":"IFERROR(H50/G50,\"\")","v":""}]
[null,null,null,null,{"$f":"IFERROR('[6]GESTION DSAJV'!H51,\" \")","v":0},{"$f":"IFERROR('[6]GESTION DSAJV'!I51,\" \")","v":0},{"$f":"IFERROR('[6]GESTION DSAJV'!J51,\" \")","v":0},null,{"$f":"IFERROR(H51/G51,\"\")","v":""}]
[null,null,null,null,{"$f":"IFERROR('[6]GESTION DSAJV'!H52,\" \")","v":0},{"$f":"IFERROR('[6]GESTION DSAJV'!I52,\" \")","v":0},{"$f":"IFERROR('[6]GESTION DSAJV'!J52,\" \")","v":0},null,{"$f":"IFERROR(H52/G52,\"\")","v":""}]
[null,null,null,null,{"$f":"IFERROR('[6]GESTION DSAJV'!H53,\" \")","v":0},{"$f":"IFERROR('[6]GESTION DSAJV'!I53,\" \")","v":0},{"$f":"IFERROR('[6]GESTION DSAJV'!J53,\" \")","v":0},null,{"$f":"IFERROR(H53/G53,\"\")","v":""}]
[null,null,null,null,{"$f":"IFERROR('[6]GESTION DSAJV'!H54,\" \")","v":0},{"$f":"IFERROR('[6]GESTION DSAJV'!I54,\" \")","v":0},{"$f":"IFERROR('[6]GESTION DSAJV'!J54,\" \")","v":0},null,{"$f":"IFERROR(H54/G54,\"\")","v":""}]
[null,null,null,null,{"$f":"IFERROR('[6]GESTION DSAJV'!H55,\" \")","v":0},{"$f":"IFERROR('[6]GESTION DSAJV'!I55,\" \")","v":0},{"$f":"IFERROR('[6]GESTION DSAJV'!J55,\" \")","v":0},null,{"$f":"IFERROR(H55/G55,\"\")","v":""}]
["2. Servicios digitales y de tecnología, innovación y análisis de la información.","Servicios digitales y de tecnología, innovación y análisis de la información: Consolidar una justicia integrada y soportada en servicios digitales y de tecnología, innovación y análisis de la información, con una cultura digital apropiada, segura y sensible a las realidades del territorio nacional. ","1. Ampliar el acceso a la justicia a través de la consolidación del uso de los servicios digitales que conforman el sistema único integrado de gestión judicial en todos los despachos judiciales y dependencias de apoyo y, específicamente, incluyendo el despliegue e implementación del Expediente Judicial Electrónico en todas las jurisdicciones y especialidades.","6. Proteger, preservar y administrar los activos de información  implementando acciones  para gestionar de forma adecuada los incidentes, proteger los datos personales y adoptar mecanismos  de ciberseguridad y aseguramiento de la  continuidad del negocio.",{"$f":"IFERROR('[6]GESTION DSAJV'!H56,\" \")","v":"Mejorar los canales de internet"},{"$f":"IFERROR('[6]GESTION DSAJV'!I56,\" \")","v":"Entregable"},{"$f":"IFERROR('[6]GESTION DSAJV'!J56,\" \")","v":100},null,{"$f":"IFERROR(H56/G56,\"\")","v":0}]
[null,null,null,null,{"$f":"IFERROR('[6]GESTION DSAJV'!H57,\" \")","v":"Renovar equipos de cómputo de funcionarios"},{"$f":"IFERROR('[6]GESTION DSAJV'!I57,\" \")","v":"Entregable"},{"$f":"IFERROR('[6]GESTION DSAJV'!J57,\" \")","v":0},null,{"$f":"IFERROR(H57/G57,\"\")","v":""}]
[null,null,null,null,{"$f":"IFERROR('[6]GESTION DSAJV'!H58,\" \")","v":"Realizar soporte de servidores"},{"$f":"IFERROR('[6]GESTION DSAJV'!I58,\" \")","v":"Entregable"},{"$f":"IFERROR('[6]GESTION DSAJV'!J58,\" \")","v":0},null,{"$f":"IFERROR(H58/G58,\"\")","v":""}]
[null,null,null,null,{"$f":"IFERROR('[6]GESTION DSAJV'!H59,\" \")","v":"Realizar soporte de servidores"},{"$f":"IFERROR('[6]GESTION DSAJV'!I59,\" \")","v":"Entregable"},{"$f":"IFERROR('[6]GESTION DSAJV'!J59,\" \")","v":0},null,{"$f":"IFERROR(H59/G59,\"\")","v":""}]
[null,null,null,null,{"$f":"IFERROR('[6]GESTION DSAJV'!H60,\" \")","v":"Realizar mantenimiento de equipos de computo"},{"$f":"IFERROR('[6]GESTION DSAJV'!I60,\" \")","v":"Entregable"},{"$f":"IFERROR('[6]GESTION DSAJV'!J60,\" \")","v":0},null,{"$f":"IFERROR(H60/G60,\"\")","v":""}]
[null,null,null,null,{"$f":"IFERROR('[6]GESTION DSAJV'!H61,\" \")","v":"Hacer seguimiento a la digitalización de expedientes judiciales"},{"$f":"IFERROR('[6]GESTION DSAJV'!I61,\" \")","v":"Entregable"},{"$f":"IFERROR('[6]GESTION DSAJV'!J61,\" \")","v":0},null,{"$f":"IFERROR(H61/G61,\"\")","v":""}]
[null,null,null,null,{"$f":"IFERROR('[6]GESTION DSAJV'!H62,\" \")","v":"Realizar seguimiento a la ejecución presupuestal de las apropiaciones y compromisos para la vigencia 2023."},{"$f":"IFERROR('[6]GESTION DSAJV'!I62,\" \")","v":"Meta cuantificable"},{"$f":"IFERROR('[6]GESTION DSAJV'!J62,\" \")","v":100},null,{"$f":"IFERROR(H62/G62,\"\")","v":0}]
[null,null,null,null,{"$f":"IFERROR('[6]GESTION DSAJV'!H63,\" \")","v":"Realizar las proyecciones históricas para la solicitud de cupo PAC y ejecutar los pagos previamente definidos de manera oportuna."},{"$f":"IFERROR('[6]GESTION DSAJV'!I63,\" \")","v":"Entregable"},{"$f":"IFERROR('[6]GESTION DSAJV'!J63,\" \")","v":0},null,{"$f":"IFERROR(H63/G63,\"\")","v":""}]
[null,null,null,null,{"$f":"IFERROR('[6]GESTION DSAJV'!H64,\" \")","v":0},{"$f":"IFERROR('[6]GESTION DSAJV'!I64,\" \")","v":0},{"$f":"IFERROR('[6]GESTION DSAJV'!J64,\" \")","v":0},null,{"$f":"IFERROR(H64/G64,\"\")","v":""}]
[null,null,null,null,{"$f":"IFERROR('[6]GESTION DSAJV'!H65,\" \")","v":0},{"$f":"IFERROR('[6]GESTION DSAJV'!I65,\" \")","v":0},{"$f":"IFERROR('[6]GESTION DSAJV'!J65,\" \")","v":0},null,{"$f":"IFERROR(H65/G65,\"\")","v":""}]
[null,null,"2. Integrar y hacer compatibles todos los aplicativos de transición con SIUGJ, para que la migración de los expedientes judiciales a dicha plataforma sea real y no suponga afectaciones en la prestación del servicio de justicia.",null,{"$f":"IFERROR('[6]GESTION DSAJV'!H66,\" \")","v":0},{"$f":"IFERROR('[6]GESTION DSAJV'!I66,\" \")","v":0},{"$f":"IFERROR('[6]GESTION DSAJV'!J66,\" \")","v":0},null,{"$f":"IFERROR(H66/G66,\"\")","v":""}]
[null,null,null,null,{"$f":"IFERROR('[6]GESTION DSAJV'!H67,\" \")","v":0},{"$f":"IFERROR('[6]GESTION DSAJV'!I67,\" \")","v":0},{"$f":"IFERROR('[6]GESTION DSAJV'!J67,\" \")","v":0},null,{"$f":"IFERROR(H67/G67,\"\")","v":""}]
[null,null,null,null,{"$f":"IFERROR('[6]GESTION DSAJV'!H68,\" \")","v":0},{"$f":"IFERROR('[6]GESTION DSAJV'!I68,\" \")","v":0},{"$f":"IFERROR('[6]GESTION DSAJV'!J68,\" \")","v":0},null,{"$f":"IFERROR(H68/G68,\"\")","v":""}]
[null,null,null,null,{"$f":"IFERROR('[6]GESTION DSAJV'!H69,\" \")","v":0},{"$f":"IFERROR('[6]GESTION DSAJV'!I69,\" \")","v":0},{"$f":"IFERROR('[6]GESTION DSAJV'!J69,\" \")","v":0},null,{"$f":"IFERROR(H69/G69,\"\")","v":""}]
[null,null,null,null,{"$f":"IFERROR('[6]GESTION DSAJV'!H70,\" \")","v":0},{"$f":"IFERROR('[6]GESTION DSAJV'!I70,\" \")","v":0},{"$f":"IFERROR('[6]GESTION DSAJV'!J70,\" \")","v":0},null,{"$f":"IFERROR(H70/G70,\"\")","v":""}]
[null,null,null,null,{"$f":"IFERROR('[6]GESTION DSAJV'!H71,\" \")","v":0},{"$f":"IFERROR('[6]GESTION DSAJV'!I71,\" \")","v":0},{"$f":"IFERROR('[6]GESTION DSAJV'!J71,\" \")","v":0},null,{"$f":"IFERROR(H71/G71,\"\")","v":""}]
[null,null,null,null,{"$f":"IFERROR('[6]GESTION DSAJV'!H72,\" \")","v":0},{"$f":"IFERROR('[6]GESTION DSAJV'!I72,\" \")","v":0},{"$f":"IFERROR('[6]GESTION DSAJV'!J72,\" \")","v":0},null,{"$f":"IFERROR(H72/G72,\"\")","v":""}]
[null,null,null,null,{"$f":"IFERROR('[6]GESTION DSAJV'!H73,\" \")","v":0},{"$f":"IFERROR('[6]GESTION DSAJV'!I73,\" \")","v":0},{"$f":"IFERROR('[6]GESTION DSAJV'!J73,\" \")","v":0},null,{"$f":"IFERROR(H73/G73,\"\")","v":""}]
[null,null,null,null,{"$f":"IFERROR('[6]GESTION DSAJV'!H74,\" \")","v":0},{"$f":"IFERROR('[6]GESTION DSAJV'!I74,\" \")","v":0},{"$f":"IFERROR('[6]GESTION DSAJV'!J74,\" \")","v":0},null,{"$f":"IFERROR(H74/G74,\"\")","v":""}]
[null,null,null,null,{"$f":"IFERROR('[6]GESTION DSAJV'!H75,\" \")","v":0},{"$f":"IFERROR('[6]GESTION DSAJV'!I75,\" \")","v":0},{"$f":"IFERROR('[6]GESTION DSAJV'!J75,\" \")","v":0},null,{"$f":"IFERROR(H75/G75,\"\")","v":""}]
[null,null,"3. Fortalecer las capacidades institucionales, adecuar el modelo operativo y de servicio, bajo un enfoque de Arquitectura Empresarial y de fortalecimiento del acceso a la justicia.",null,{"$f":"IFERROR('[6]GESTION DSAJV'!H76,\" \")","v":0},{"$f":"IFERROR('[6]GESTION DSAJV'!I76,\" \")","v":0},{"$f":"IFERROR('[6]GESTION DSAJV'!J76,\" \")","v":0},null,{"$f":"IFERROR(H76/G76,\"\")","v":""}]
[null,null,null,null,{"$f":"IFERROR('[6]GESTION DSAJV'!H77,\" \")","v":0},{"$f":"IFERROR('[6]GESTION DSAJV'!I77,\" \")","v":0},{"$f":"IFERROR('[6]GESTION DSAJV'!J77,\" \")","v":0},null,{"$f":"IFERROR(H77/G77,\"\")","v":""}]
[null,null,null,null,{"$f":"IFERROR('[6]GESTION DSAJV'!H78,\" \")","v":0},{"$f":"IFERROR('[6]GESTION DSAJV'!I78,\" \")","v":0},{"$f":"IFERROR('[6]GESTION DSAJV'!J78,\" \")","v":0},null,{"$f":"IFERROR(H78/G78,\"\")","v":""}]
[null,null,null,null,{"$f":"IFERROR('[6]GESTION DSAJV'!H79,\" \")","v":0},{"$f":"IFERROR('[6]GESTION DSAJV'!I79,\" \")","v":0},{"$f":"IFERROR('[6]GESTION DSAJV'!J79,\" \")","v":0},null,{"$f":"IFERROR(H79/G79,\"\")","v":""}]
[null,null,null,null,{"$f":"IFERROR('[6]GESTION DSAJV'!H80,\" \")","v":0},{"$f":"IFERROR('[6]GESTION DSAJV'!I80,\" \")","v":0},{"$f":"IFERROR('[6]GESTION DSAJV'!J80,\" \")","v":0},null,{"$f":"IFERROR(H80/G80,\"\")","v":""}]
[null,null,null,null,{"$f":"IFERROR('[6]GESTION DSAJV'!H81,\" \")","v":0},{"$f":"IFERROR('[6]GESTION DSAJV'!I81,\" \")","v":0},{"$f":"IFERROR('[6]GESTION DSAJV'!J81,\" \")","v":0},null,{"$f":"IFERROR(H81/G81,\"\")","v":""}]
[null,null,null,null,{"$f":"IFERROR('[6]GESTION DSAJV'!H82,\" \")","v":0},{"$f":"IFERROR('[6]GESTION DSAJV'!I82,\" \")","v":0},{"$f":"IFERROR('[6]GESTION DSAJV'!J82,\" \")","v":0},null,{"$f":"IFERROR(H82/G82,\"\")","v":""}]
[null,null,null,null,{"$f":"IFERROR('[6]GESTION DSAJV'!H83,\" \")","v":0},{"$f":"IFERROR('[6]GESTION DSAJV'!I83,\" \")","v":0},{"$f":"IFERROR('[6]GESTION DSAJV'!J83,\" \")","v":0},null,{"$f":"IFERROR(H83/G83,\"\")","v":""}]
[null,null,null,null,{"$f":"IFERROR('[6]GESTION DSAJV'!H84,\" \")","v":0},{"$f":"IFERROR('[6]GESTION DSAJV'!I84,\" \")","v":0},{"$f":"IFERROR('[6]GESTION DSAJV'!J84,\" \")","v":0},null,{"$f":"IFERROR(H84/G84,\"\")","v":""}]
[null,null,null,null,{"$f":"IFERROR('[6]GESTION DSAJV'!H85,\" \")","v":0},{"$f":"IFERROR('[6]GESTION DSAJV'!I85,\" \")","v":0},{"$f":"IFERROR('[6]GESTION DSAJV'!J85,\" \")","v":0},null,{"$f":"IFERROR(H85/G85,\"\")","v":""}]
[null,null,"4.Consolidar la cultura y apropiación de la transformación digital en los servidores y usuarios de los servicios de la Rama Judicial y reducir brechas de acceso y conocimiento, incluyendo la oferta efectiva de información sobre el uso de las nuevas herramientas virtuales implementadas en las diferentes jurisdicciones, con especial énfasis en las zonas del país donde es evidente la brecha digital.",null,{"$f":"IFERROR('[6]GESTION DSAJV'!H86,\" \")","v":0},{"$f":"IFERROR('[6]GESTION DSAJV'!I86,\" \")","v":0},{"$f":"IFERROR('[6]GESTION DSAJV'!J86,\" \")","v":0},null,{"$f":"IFERROR(H86/G86,\"\")","v":""}]
[null,null,null,null,{"$f":"IFERROR('[6]GESTION DSAJV'!H87,\" \")","v":0},{"$f":"IFERROR('[6]GESTION DSAJV'!I87,\" \")","v":0},{"$f":"IFERROR('[6]GESTION DSAJV'!J87,\" \")","v":0},null,{"$f":"IFERROR(H87/G87,\"\")","v":""}]
[null,null,null,null,{"$f":"IFERROR('[6]GESTION DSAJV'!H88,\" \")","v":0},{"$f":"IFERROR('[6]GESTION DSAJV'!I88,\" \")","v":0},{"$f":"IFERROR('[6]GESTION DSAJV'!J88,\" \")","v":0},null,{"$f":"IFERROR(H88/G88,\"\")","v":""}]
[null,null,null,null,{"$f":"IFERROR('[6]GESTION DSAJV'!H89,\" \")","v":0},{"$f":"IFERROR('[6]GESTION DSAJV'!I89,\" \")","v":0},{"$f":"IFERROR('[6]GESTION DSAJV'!J89,\" \")","v":0},null,{"$f":"IFERROR(H89/G89,\"\")","v":""}]
[null,null,null,null,{"$f":"IFERROR('[6]GESTION DSAJV'!H90,\" \")","v":0},{"$f":"IFERROR('[6]GESTION DSAJV'!I90,\" \")","v":0},{"$f":"IFERROR('[6]GESTION DSAJV'!J90,\" \")","v":0},null,{"$f":"IFERROR(H90/G90,\"\")","v":""}]
[null,null,null,null,{"$f":"IFERROR('[6]GESTION DSAJV'!H91,\" \")","v":0},{"$f":"IFERROR('[6]GESTION DSAJV'!I91,\" \")","v":0},{"$f":"IFERROR('[6]GESTION DSAJV'!J91,\" \")","v":0},null,{"$f":"IFERROR(H91/G91,\"\")","v":""}]
[null,null,null,null,{"$f":"IFERROR('[6]GESTION DSAJV'!H92,\" \")","v":0},{"$f":"IFERROR('[6]GESTION DSAJV'!I92,\" \")","v":0},{"$f":"IFERROR('[6]GESTION DSAJV'!J92,\" \")","v":0},null,{"$f":"IFERROR(H92/G92,\"\")","v":""}]
[null,null,null,null,{"$f":"IFERROR('[6]GESTION DSAJV'!H93,\" \")","v":0},{"$f":"IFERROR('[6]GESTION DSAJV'!I93,\" \")","v":0},{"$f":"IFERROR('[6]GESTION DSAJV'!J93,\" \")","v":0},null,{"$f":"IFERROR(H93/G93,\"\")","v":""}]
[null,null,null,null,{"$f":"IFERROR('[6]GESTION DSAJV'!H94,\" \")","v":0},{"$f":"IFERROR('[6]GESTION DSAJV'!I94,\" \")","v":0},{"$f":"IFERROR('[6]GESTION DSAJV'!J94,\" \")","v":0},null,{"$f":"IFERROR(H94/G94,\"\")","v":""}]
[null,null,null,null,{"$f":"IFERROR('[6]GESTION DSAJV'!H95,\" \")","v":0},{"$f":"IFERROR('[6]GESTION DSAJV'!I95,\" \")","v":0},{"$f":"IFERROR('[6]GESTION DSAJV'!J95,\" \")","v":0},null,{"$f":"IFERROR(H95/G95,\"\")","v":""}]
[null,null,"5.Consolidar la infraestructura y los recursos necesarios para la implementación exitosa de la transformación digital, incluyendo la disposición de internet de calidad en el 100% de las sedes en la Rama Judicial y modernizar los servicios tecnológicos de soporte. ",null,{"$f":"IFERROR('[6]GESTION DSAJV'!H96,\" \")","v":0},{"$f":"IFERROR('[6]GESTION DSAJV'!I96,\" \")","v":0},{"$f":"IFERROR('[6]GESTION DSAJV'!J96,\" \")","v":0},null,{"$f":"IFERROR(H96/G96,\"\")","v":""}]
[null,null,null,null,{"$f":"IFERROR('[6]GESTION DSAJV'!H97,\" \")","v":0},{"$f":"IFERROR('[6]GESTION DSAJV'!I97,\" \")","v":0},{"$f":"IFERROR('[6]GESTION DSAJV'!J97,\" \")","v":0},null,{"$f":"IFERROR(H97/G97,\"\")","v":""}]
[null,null,null,null,{"$f":"IFERROR('[6]GESTION DSAJV'!H98,\" \")","v":0},{"$f":"IFERROR('[6]GESTION DSAJV'!I98,\" \")","v":0},{"$f":"IFERROR('[6]GESTION DSAJV'!J98,\" \")","v":0},null,{"$f":"IFERROR(H98/G98,\"\")","v":""}]
[null,null,null,null,{"$f":"IFERROR('[6]GESTION DSAJV'!H99,\" \")","v":0},{"$f":"IFERROR('[6]GESTION DSAJV'!I99,\" \")","v":0},{"$f":"IFERROR('[6]GESTION DSAJV'!J99,\" \")","v":0},null,{"$f":"IFERROR(H99/G99,\"\")","v":""}]
[null,null,null,null,{"$f":"IFERROR('[6]GESTION DSAJV'!H100,\" \")","v":0},{"$f":"IFERROR('[6]GESTION DSAJV'!I100,\" \")","v":0},{"$f":"IFERROR('[6]GESTION DSAJV'!J100,\" \")","v":0},null,{"$f":"IFERROR(H100/G100,\"\")","v":""}]
[null,null,null,null,{"$f":"IFERROR('[6]GESTION DSAJV'!H101,\" \")","v":0},{"$f":"IFERROR('[6]GESTION DSAJV'!I101,\" \")","v":0},{"$f":"IFERROR('[6]GESTION DSAJV'!J101,\" \")","v":0},null,{"$f":"IFERROR(H101/G101,\"\")","v":""}]
[null,null,null,null,{"$f":"IFERROR('[6]GESTION DSAJV'!H102,\" \")","v":0},{"$f":"IFERROR('[6]GESTION DSAJV'!I102,\" \")","v":0},{"$f":"IFERROR('[6]GESTION DSAJV'!J102,\" \")","v":0},null,{"$f":"IFERROR(H102/G102,\"\")","v":""}]
[null,null,null,null,{"$f":"IFERROR('[6]GESTION DSAJV'!H103,\" \")","v":0},{"$f":"IFERROR('[6]GESTION DSAJV'!I103,\" \")","v":0},{"$f":"IFERROR('[6]GESTION DSAJV'!J103,\" \")","v":0},null,{"$f":"IFERROR(H103/G103,\"\")","v":""}]
[null,null,null,null,{"$f":"IFERROR('[6]GESTION DSAJV'!H104,\" \")","v":0},{"$f":"IFERROR('[6]GESTION DSAJV'!I104,\" \")","v":0},{"$f":"IFERROR('[6]GESTION DSAJV'!J104,\" \")","v":0},null,{"$f":"IFERROR(H104/G104,\"\")","v":""}]
[null,null,null,null,{"$f":"IFERROR('[6]GESTION DSAJV'!H105,\" \")","v":0},{"$f":"IFERROR('[6]GESTION DSAJV'!I105,\" \")","v":0},{"$f":"IFERROR('[6]GESTION DSAJV'!J105,\" \")","v":0},null,{"$f":"IFERROR(H105/G105,\"\")","v":""}]
[null,null,"6.Integrar y optimizar los servicios administrativos de la Rama Judicial bajo un enfoque de transformación digital e innovación incluyendo los componentes financiero, administrativo, talento humano, entre otros",null,{"$f":"IFERROR('[6]GESTION DSAJV'!H106,\" \")","v":0},{"$f":"IFERROR('[6]GESTION DSAJV'!I106,\" \")","v":0},{"$f":"IFERROR('[6]GESTION DSAJV'!J106,\" \")","v":0},null,{"$f":"IFERROR(H106/G106,\"\")","v":""}]
[null,null,null,null,{"$f":"IFERROR('[6]GESTION DSAJV'!H107,\" \")","v":0},{"$f":"IFERROR('[6]GESTION DSAJV'!I107,\" \")","v":0},{"$f":"IFERROR('[6]GESTION DSAJV'!J107,\" \")","v":0},null,{"$f":"IFERROR(H107/G107,\"\")","v":""}]
[null,null,null,null,{"$f":"IFERROR('[6]GESTION DSAJV'!H108,\" \")","v":0},{"$f":"IFERROR('[6]GESTION DSAJV'!I108,\" \")","v":0},{"$f":"IFERROR('[6]GESTION DSAJV'!J108,\" \")","v":0},null,{"$f":"IFERROR(H108/G108,\"\")","v":""}]
[null,null,null,null,{"$f":"IFERROR('[6]GESTION DSAJV'!H109,\" \")","v":0},{"$f":"IFERROR('[6]GESTION DSAJV'!I109,\" \")","v":0},{"$f":"IFERROR('[6]GESTION DSAJV'!J109,\" \")","v":0},null,{"$f":"IFERROR(H109/G109,\"\")","v":""}]
[null,null,null,null,{"$f":"IFERROR('[6]GESTION DSAJV'!H110,\" \")","v":0},{"$f":"IFERROR('[6]GESTION DSAJV'!I110,\" \")","v":0},{"$f":"IFERROR('[6]GESTION DSAJV'!J110,\" \")","v":0},null,{"$f":"IFERROR(H110/G110,\"\")","v":""}]
[null,null,null,null,{"$f":"IFERROR('[6]GESTION DSAJV'!H111,\" \")","v":0},{"$f":"IFERROR('[6]GESTION DSAJV'!I111,\" \")","v":0},{"$f":"IFERROR('[6]GESTION DSAJV'!J111,\" \")","v":0},null,{"$f":"IFERROR(H111/G111,\"\")","v":""}]
[null,null,null,null,{"$f":"IFERROR('[6]GESTION DSAJV'!H112,\" \")","v":0},{"$f":"IFERROR('[6]GESTION DSAJV'!I112,\" \")","v":0},{"$f":"IFERROR('[6]GESTION DSAJV'!J112,\" \")","v":0},null,{"$f":"IFERROR(H112/G112,\"\")","v":""}]
[null,null,null,null,{"$f":"IFERROR('[6]GESTION DSAJV'!H113,\" \")","v":0},{"$f":"IFERROR('[6]GESTION DSAJV'!I113,\" \")","v":0},{"$f":"IFERROR('[6]GESTION DSAJV'!J113,\" \")","v":0},null,{"$f":"IFERROR(H113/G113,\"\")","v":""}]
[null,null,null,null,{"$f":"IFERROR('[6]GESTION DSAJV'!H114,\" \")","v":0},{"$f":"IFERROR('[6]GESTION DSAJV'!I114,\" \")","v":0},{"$f":"IFERROR('[6]GESTION DSAJV'!J114,\" \")","v":0},null,{"$f":"IFERROR(H114/G114,\"\")","v":""}]
[null,null,null,null,{"$f":"IFERROR('[6]GESTION DSAJV'!H115,\" \")","v":0},{"$f":"IFERROR('[6]GESTION DSAJV'!I115,\" \")","v":0},{"$f":"IFERROR('[6]GESTION DSAJV'!J115,\" \")","v":0},null,{"$f":"IFERROR(H115/G115,\"\")","v":""}]
["3. Confianza pública, transparencia y rendición de cuentas","Confianza pública, transparencia y rendición de cuentas: Aumentar la confianza pública en la justicia a través de la transparencia, la rendición de cuentas y la participación, incluyendo la información de justicia y la producción, gestión y acceso a las fuentes de derecho, el fortalecimiento del sistema de gestión de calidad y medio ambiente (SIGCMA) y el mejoramiento de la calidad y publicidad de la información. ","1. Incrementar la cantidad, la calidad y pertinencia de los datos sobre el funcionamiento del servicio de justicia bajo un modelo de gobierno de datos y un liderazgo unificado. ","4. Hacer un uso racional de los recursos naturales aplicando los principios y fases de la Economía Circular, para prevenir, mitigar y controlar los impactos ambientales.",{"$f":"IFERROR('[6]GESTION DSAJV'!H116,\" \")","v":"Seguimiento notificacion resolucion mandamiento de pago proceso coactivo  "},{"$f":"IFERROR('[6]GESTION DSAJV'!I116,\" \")","v":"Entregable"},{"$f":"IFERROR('[6]GESTION DSAJV'!J116,\" \")","v":4},null,{"$f":"IFERROR(H116/G116,\"\")","v":0}]
[null,null,null,null,{"$f":"IFERROR('[6]GESTION DSAJV'!H117,\" \")","v":"Elaborar las fichas de las solicitudes de conciliación prejudicial y de los procesos que se adelantan ante la jurisdicción contencioso administrativo, para presentarlos ante el Comité Secciona de Conciliación. "},{"$f":"IFERROR('[6]GESTION DSAJV'!I117,\" \")","v":"Entregable"},{"$f":"IFERROR('[6]GESTION DSAJV'!J117,\" \")","v":0},null,{"$f":"IFERROR(H117/G117,\"\")","v":""}]
[null,null,null,null,{"$f":"IFERROR('[6]GESTION DSAJV'!H118,\" \")","v":"Diligenciamiento aplicativo EKOGUI"},{"$f":"IFERROR('[6]GESTION DSAJV'!I118,\" \")","v":"Entregable"},{"$f":"IFERROR('[6]GESTION DSAJV'!J118,\" \")","v":0},null,{"$f":"IFERROR(H118/G118,\"\")","v":""}]
[null,null,null,null,{"$f":"IFERROR('[6]GESTION DSAJV'!H119,\" \")","v":"Seguimiento de recuado de cartera vigencia año 2023"},{"$f":"IFERROR('[6]GESTION DSAJV'!I119,\" \")","v":"Meta cuantificable"},{"$f":"IFERROR('[6]GESTION DSAJV'!J119,\" \")","v":214715800},null,{"$f":"IFERROR(H119/G119,\"\")","v":0}]
[null,null,null,null,{"$f":"IFERROR('[6]GESTION DSAJV'!H120,\" \")","v":"Contestacion a las demandas dentro de los terminos establecidos por los despachos judiciales "},{"$f":"IFERROR('[6]GESTION DSAJV'!I120,\" \")","v":"Entregable"},{"$f":"IFERROR('[6]GESTION DSAJV'!J120,\" \")","v":0},null,{"$f":"IFERROR(H120/G120,\"\")","v":""}]
[null,null,null,null,{"$f":"IFERROR('[6]GESTION DSAJV'!H121,\" \")","v":"Contestacion de las acciones de tutela dentro de los terminos establecidos por los despachos judiciales "},{"$f":"IFERROR('[6]GESTION DSAJV'!I121,\" \")","v":"Entregable"},{"$f":"IFERROR('[6]GESTION DSAJV'!J121,\" \")","v":0},null,{"$f":"IFERROR(H121/G121,\"\")","v":""}]
[null,null,null,null,{"$f":"IFERROR('[6]GESTION DSAJV'!H122,\" \")","v":0},{"$f":"IFERROR('[6]GESTION DSAJV'!I122,\" \")","v":0},{"$f":"IFERROR('[6]GESTION DSAJV'!J122,\" \")","v":0},null,{"$f":"IFERROR(H122/G122,\"\")","v":""}]
[null,null,null,null,{"$f":"IFERROR('[6]GESTION DSAJV'!H123,\" \")","v":0},{"$f":"IFERROR('[6]GESTION DSAJV'!I123,\" \")","v":0},{"$f":"IFERROR('[6]GESTION DSAJV'!J123,\" \")","v":0},null,{"$f":"IFERROR(H123/G123,\"\")","v":""}]
[null,null,null,null,{"$f":"IFERROR('[6]GESTION DSAJV'!H124,\" \")","v":0},{"$f":"IFERROR('[6]GESTION DSAJV'!I124,\" \")","v":0},{"$f":"IFERROR('[6]GESTION DSAJV'!J124,\" \")","v":0},null,{"$f":"IFERROR(H124/G124,\"\")","v":""}]
[null,null,null,null,{"$f":"IFERROR('[6]GESTION DSAJV'!H125,\" \")","v":0},{"$f":"IFERROR('[6]GESTION DSAJV'!I125,\" \")","v":0},{"$f":"IFERROR('[6]GESTION DSAJV'!J125,\" \")","v":0},null,{"$f":"IFERROR(H125/G125,\"\")","v":""}]
[null,null,"2. Consolidar la administración de la información entendida como todas las acciones rientadas a garantizar el acceso, consulta, uso y conservación de la información de justicia de manera ágil, flexible e inteligente, bajo un enfoque de innovación.",null,{"$f":"IFERROR('[6]GESTION DSAJV'!H126,\" \")","v":0},{"$f":"IFERROR('[6]GESTION DSAJV'!I126,\" \")","v":0},{"$f":"IFERROR('[6]GESTION DSAJV'!J126,\" \")","v":0},null,{"$f":"IFERROR(H126/G126,\"\")","v":""}]
[null,null,null,null,{"$f":"IFERROR('[6]GESTION DSAJV'!H127,\" \")","v":0},{"$f":"IFERROR('[6]GESTION DSAJV'!I127,\" \")","v":0},{"$f":"IFERROR('[6]GESTION DSAJV'!J127,\" \")","v":0},null,{"$f":"IFERROR(H127/G127,\"\")","v":""}]
[null,null,null,null,{"$f":"IFERROR('[6]GESTION DSAJV'!H128,\" \")","v":0},{"$f":"IFERROR('[6]GESTION DSAJV'!I128,\" \")","v":0},{"$f":"IFERROR('[6]GESTION DSAJV'!J128,\" \")","v":0},null,{"$f":"IFERROR(H128/G128,\"\")","v":""}]
[null,null,null,null,{"$f":"IFERROR('[6]GESTION DSAJV'!H129,\" \")","v":0},{"$f":"IFERROR('[6]GESTION DSAJV'!I129,\" \")","v":0},{"$f":"IFERROR('[6]GESTION DSAJV'!J129,\" \")","v":0},null,{"$f":"IFERROR(H129/G129,\"\")","v":""}]
[null,null,null,null,{"$f":"IFERROR('[6]GESTION DSAJV'!H130,\" \")","v":0},{"$f":"IFERROR('[6]GESTION DSAJV'!I130,\" \")","v":0},{"$f":"IFERROR('[6]GESTION DSAJV'!J130,\" \")","v":0},null,{"$f":"IFERROR(H130/G130,\"\")","v":""}]
[null,null,null,null,{"$f":"IFERROR('[6]GESTION DSAJV'!H131,\" \")","v":0},{"$f":"IFERROR('[6]GESTION DSAJV'!I131,\" \")","v":0},{"$f":"IFERROR('[6]GESTION DSAJV'!J131,\" \")","v":0},null,{"$f":"IFERROR(H131/G131,\"\")","v":""}]
[null,null,null,null,{"$f":"IFERROR('[6]GESTION DSAJV'!H132,\" \")","v":0},{"$f":"IFERROR('[6]GESTION DSAJV'!I132,\" \")","v":0},{"$f":"IFERROR('[6]GESTION DSAJV'!J132,\" \")","v":0},null,{"$f":"IFERROR(H132/G132,\"\")","v":""}]
[null,null,null,null,{"$f":"IFERROR('[6]GESTION DSAJV'!H133,\" \")","v":0},{"$f":"IFERROR('[6]GESTION DSAJV'!I133,\" \")","v":0},{"$f":"IFERROR('[6]GESTION DSAJV'!J133,\" \")","v":0},null,{"$f":"IFERROR(H133/G133,\"\")","v":""}]
[null,null,null,null,{"$f":"IFERROR('[6]GESTION DSAJV'!H134,\" \")","v":0},{"$f":"IFERROR('[6]GESTION DSAJV'!I134,\" \")","v":0},{"$f":"IFERROR('[6]GESTION DSAJV'!J134,\" \")","v":0},null,{"$f":"IFERROR(H134/G134,\"\")","v":""}]
[null,null,null,null,{"$f":"IFERROR('[6]GESTION DSAJV'!H135,\" \")","v":0},{"$f":"IFERROR('[6]GESTION DSAJV'!I135,\" \")","v":0},{"$f":"IFERROR('[6]GESTION DSAJV'!J135,\" \")","v":0},null,{"$f":"IFERROR(H135/G135,\"\")","v":""}]
[null,null,"3. Fortalecer el Sistema integrado de Gestión de la Rama, orientado a la implementación y certificación de las normas antisoborno.","1. Gestionar el desarrollo de las competencias, la toma de conciencia , la cultura  organizacional  y el compromiso de los  servidores judiciales, contratistas, practicantes y  judicantes de contribuir a generar valor público en la administración de justicia, en el marco de  cumplimiento de los requisitos  aplicables y el comportamiento ético.\n3. Fomentar la transparencia y la participación generando lineamientos y promoviendo la rendición de cuentas ,la consulta, reporte y planteamiento de inquietudes en relación con las decisiones y aspectos del SIGCMA.",{"$f":"IFERROR('[6]GESTION DSAJV'!H136,\" \")","v":0},{"$f":"IFERROR('[6]GESTION DSAJV'!I136,\" \")","v":0},{"$f":"IFERROR('[6]GESTION DSAJV'!J136,\" \")","v":0},null,{"$f":"IFERROR(H136/G136,\"\")","v":""}]
[null,null,null,null,{"$f":"IFERROR('[6]GESTION DSAJV'!H137,\" \")","v":0},{"$f":"IFERROR('[6]GESTION DSAJV'!I137,\" \")","v":0},{"$f":"IFERROR('[6]GESTION DSAJV'!J137,\" \")","v":0},null,{"$f":"IFERROR(H137/G137,\"\")","v":""}]
[null,null,null,null,{"$f":"IFERROR('[6]GESTION DSAJV'!H138,\" \")","v":0},{"$f":"IFERROR('[6]GESTION DSAJV'!I138,\" \")","v":0},{"$f":"IFERROR('[6]GESTION DSAJV'!J138,\" \")","v":0},null,{"$f":"IFERROR(H138/G138,\"\")","v":""}]
[null,null,null,null,{"$f":"IFERROR('[6]GESTION DSAJV'!H139,\" \")","v":0},{"$f":"IFERROR('[6]GESTION DSAJV'!I139,\" \")","v":0},{"$f":"IFERROR('[6]GESTION DSAJV'!J139,\" \")","v":0},null,{"$f":"IFERROR(H139/G139,\"\")","v":""}]
[null,null,null,null,{"$f":"IFERROR('[6]GESTION DSAJV'!H140,\" \")","v":0},{"$f":"IFERROR('[6]GESTION DSAJV'!I140,\" \")","v":0},{"$f":"IFERROR('[6]GESTION DSAJV'!J140,\" \")","v":0},null,{"$f":"IFERROR(H140/G140,\"\")","v":""}]
[null,null,null,null,{"$f":"IFERROR('[6]GESTION DSAJV'!H141,\" \")","v":0},{"$f":"IFERROR('[6]GESTION DSAJV'!I141,\" \")","v":0},{"$f":"IFERROR('[6]GESTION DSAJV'!J141,\" \")","v":0},null,{"$f":"IFERROR(H141/G141,\"\")","v":""}]
[null,null,null,null,{"$f":"IFERROR('[6]GESTION DSAJV'!H142,\" \")","v":0},{"$f":"IFERROR('[6]GESTION DSAJV'!I142,\" \")","v":0},{"$f":"IFERROR('[6]GESTION DSAJV'!J142,\" \")","v":0},null,{"$f":"IFERROR(H142/G142,\"\")","v":""}]
[null,null,null,null,{"$f":"IFERROR('[6]GESTION DSAJV'!H143,\" \")","v":0},{"$f":"IFERROR('[6]GESTION DSAJV'!I143,\" \")","v":0},{"$f":"IFERROR('[6]GESTION DSAJV'!J143,\" \")","v":0},null,{"$f":"IFERROR(H143/G143,\"\")","v":""}]
[null,null,null,null,{"$f":"IFERROR('[6]GESTION DSAJV'!H144,\" \")","v":0},{"$f":"IFERROR('[6]GESTION DSAJV'!I144,\" \")","v":0},{"$f":"IFERROR('[6]GESTION DSAJV'!J144,\" \")","v":0},null,{"$f":"IFERROR(H144/G144,\"\")","v":""}]
[null,null,null,null,{"$f":"IFERROR('[6]GESTION DSAJV'!H145,\" \")","v":0},{"$f":"IFERROR('[6]GESTION DSAJV'!I145,\" \")","v":0},{"$f":"IFERROR('[6]GESTION DSAJV'!J145,\" \")","v":0},null,{"$f":"IFERROR(H145/G145,\"\")","v":""}]
[null,null,"4. Aumentar la confianza, la cercanía y acceso a los servicios de la Rama Judicial a través, entre otros, de una comunicación clara y asertiva con la ciudadanía.","3. Fomentar la transparencia y la participación generando lineamientos y promoviendo la rendición de cuentas ,la consulta, reporte y planteamiento de inquietudes en relación con las decisiones y aspectos del SIGCMA.",{"$f":"IFERROR('[6]GESTION DSAJV'!H146,\" \")","v":0},{"$f":"IFERROR('[6]GESTION DSAJV'!I146,\" \")","v":0},{"$f":"IFERROR('[6]GESTION DSAJV'!J146,\" \")","v":0},null,{"$f":"IFERROR(H146/G146,\"\")","v":""}]
[null,null,null,null,{"$f":"IFERROR('[6]GESTION DSAJV'!H147,\" \")","v":0},{"$f":"IFERROR('[6]GESTION DSAJV'!I147,\" \")","v":0},{"$f":"IFERROR('[6]GESTION DSAJV'!J147,\" \")","v":0},null,{"$f":"IFERROR(H147/G147,\"\")","v":""}]
[null,null,null,null,{"$f":"IFERROR('[6]GESTION DSAJV'!H148,\" \")","v":0},{"$f":"IFERROR('[6]GESTION DSAJV'!I148,\" \")","v":0},{"$f":"IFERROR('[6]GESTION DSAJV'!J148,\" \")","v":0},null,{"$f":"IFERROR(H148/G148,\"\")","v":""}]
[null,null,null,null,{"$f":"IFERROR('[6]GESTION DSAJV'!H149,\" \")","v":0},{"$f":"IFERROR('[6]GESTION DSAJV'!I149,\" \")","v":0},{"$f":"IFERROR('[6]GESTION DSAJV'!J149,\" \")","v":0},null,{"$f":"IFERROR(H149/G149,\"\")","v":""}]
[null,null,null,null,{"$f":"IFERROR('[6]GESTION DSAJV'!H150,\" \")","v":0},{"$f":"IFERROR('[6]GESTION DSAJV'!I150,\" \")","v":0},{"$f":"IFERROR('[6]GESTION DSAJV'!J150,\" \")","v":0},null,{"$f":"IFERROR(H150/G150,\"\")","v":""}]
[null,null,null,null,{"$f":"IFERROR('[6]GESTION DSAJV'!H151,\" \")","v":0},{"$f":"IFERROR('[6]GESTION DSAJV'!I151,\" \")","v":0},{"$f":"IFERROR('[6]GESTION DSAJV'!J151,\" \")","v":0},null,{"$f":"IFERROR(H151/G151,\"\")","v":""}]
[null,null,null,null,{"$f":"IFERROR('[6]GESTION DSAJV'!H152,\" \")","v":0},{"$f":"IFERROR('[6]GESTION DSAJV'!I152,\" \")","v":0},{"$f":"IFERROR('[6]GESTION DSAJV'!J152,\" \")","v":0},null,{"$f":"IFERROR(H152/G152,\"\")","v":""}]
[null,null,null,null,{"$f":"IFERROR('[6]GESTION DSAJV'!H153,\" \")","v":0},{"$f":"IFERROR('[6]GESTION DSAJV'!I153,\" \")","v":0},{"$f":"IFERROR('[6]GESTION DSAJV'!J153,\" \")","v":0},null,{"$f":"IFERROR(H153/G153,\"\")","v":""}]
[null,null,null,null,{"$f":"IFERROR('[6]GESTION DSAJV'!H154,\" \")","v":0},{"$f":"IFERROR('[6]GESTION DSAJV'!I154,\" \")","v":0},{"$f":"IFERROR('[6]GESTION DSAJV'!J154,\" \")","v":0},null,{"$f":"IFERROR(H154/G154,\"\")","v":""}]
[null,null,null,null,{"$f":"IFERROR('[6]GESTION DSAJV'!H155,\" \")","v":0},{"$f":"IFERROR('[6]GESTION DSAJV'!I155,\" \")","v":0},{"$f":"IFERROR('[6]GESTION DSAJV'!J155,\" \")","v":0},null,{"$f":"IFERROR(H155/G155,\"\")","v":""}]
[null,null,"5. Prevenir fenómenos asociados con actos de corrupción en la Rama Judicial y reducir las experiencias de corrupción de usuarios y servidores judiciales.",null,{"$f":"IFERROR('[6]GESTION DSAJV'!H156,\" \")","v":0},{"$f":"IFERROR('[6]GESTION DSAJV'!I156,\" \")","v":0},{"$f":"IFERROR('[6]GESTION DSAJV'!J156,\" \")","v":0},null,{"$f":"IFERROR(H156/G156,\"\")","v":""}]
[null,null,null,null,{"$f":"IFERROR('[6]GESTION DSAJV'!H157,\" \")","v":0},{"$f":"IFERROR('[6]GESTION DSAJV'!I157,\" \")","v":0},{"$f":"IFERROR('[6]GESTION DSAJV'!J157,\" \")","v":0},null,{"$f":"IFERROR(H157/G157,\"\")","v":""}]
[null,null,null,null,{"$f":"IFERROR('[6]GESTION DSAJV'!H158,\" \")","v":0},{"$f":"IFERROR('[6]GESTION DSAJV'!I158,\" \")","v":0},{"$f":"IFERROR('[6]GESTION DSAJV'!J158,\" \")","v":0},null,{"$f":"IFERROR(H158/G158,\"\")","v":""}]
[null,null,null,null,{"$f":"IFERROR('[6]GESTION DSAJV'!H159,\" \")","v":0},{"$f":"IFERROR('[6]GESTION DSAJV'!I159,\" \")","v":0},{"$f":"IFERROR('[6]GESTION DSAJV'!J159,\" \")","v":0},null,{"$f":"IFERROR(H159/G159,\"\")","v":""}]
[null,null,null,null,{"$f":"IFERROR('[6]GESTION DSAJV'!H160,\" \")","v":0},{"$f":"IFERROR('[6]GESTION DSAJV'!I160,\" \")","v":0},{"$f":"IFERROR('[6]GESTION DSAJV'!J160,\" \")","v":0},null,{"$f":"IFERROR(H160/G160,\"\")","v":""}]
[null,null,null,null,{"$f":"IFERROR('[6]GESTION DSAJV'!H161,\" \")","v":0},{"$f":"IFERROR('[6]GESTION DSAJV'!I161,\" \")","v":0},{"$f":"IFERROR('[6]GESTION DSAJV'!J161,\" \")","v":0},null,{"$f":"IFERROR(H161/G161,\"\")","v":""}]
[null,null,null,null,{"$f":"IFERROR('[6]GESTION DSAJV'!H162,\" \")","v":0},{"$f":"IFERROR('[6]GESTION DSAJV'!I162,\" \")","v":0},{"$f":"IFERROR('[6]GESTION DSAJV'!J162,\" \")","v":0},null,{"$f":"IFERROR(H162/G162,\"\")","v":""}]
[null,null,null,null,{"$f":"IFERROR('[6]GESTION DSAJV'!H163,\" \")","v":0},{"$f":"IFERROR('[6]GESTION DSAJV'!I163,\" \")","v":0},{"$f":"IFERROR('[6]GESTION DSAJV'!J163,\" \")","v":0},null,{"$f":"IFERROR(H163/G163,\"\")","v":""}]
[null,null,null,null,{"$f":"IFERROR('[6]GESTION DSAJV'!H164,\" \")","v":0},{"$f":"IFERROR('[6]GESTION DSAJV'!I164,\" \")","v":0},{"$f":"IFERROR('[6]GESTION DSAJV'!J164,\" \")","v":0},null,{"$f":"IFERROR(H164/G164,\"\")","v":""}]
[null,null,null,null,{"$f":"IFERROR('[6]GESTION DSAJV'!H165,\" \")","v":0},{"$f":"IFERROR('[6]GESTION DSAJV'!I165,\" \")","v":0},{"$f":"IFERROR('[6]GESTION DSAJV'!J165,\" \")","v":0},null,{"$f":"IFERROR(H165/G165,\"\")","v":""}]
[null,null,"6. Promover la rendición de cuentas y la colaboración real con la ciudadanía como fundamento para diseñar acciones de mejoramiento del acceso a la justicia.",null,{"$f":"IFERROR('[6]GESTION DSAJV'!H166,\" \")","v":0},{"$f":"IFERROR('[6]GESTION DSAJV'!I166,\" \")","v":0},{"$f":"IFERROR('[6]GESTION DSAJV'!J166,\" \")","v":0},null,{"$f":"IFERROR(H166/G166,\"\")","v":""}]
[null,null,null,null,{"$f":"IFERROR('[6]GESTION DSAJV'!H167,\" \")","v":0},{"$f":"IFERROR('[6]GESTION DSAJV'!I167,\" \")","v":0},{"$f":"IFERROR('[6]GESTION DSAJV'!J167,\" \")","v":0},null,{"$f":"IFERROR(H167/G167,\"\")","v":""}]
[null,null,null,null,{"$f":"IFERROR('[6]GESTION DSAJV'!H168,\" \")","v":0},{"$f":"IFERROR('[6]GESTION DSAJV'!I168,\" \")","v":0},{"$f":"IFERROR('[6]GESTION DSAJV'!J168,\" \")","v":0},null,{"$f":"IFERROR(H168/G168,\"\")","v":""}]
[null,null,null,null,{"$f":"IFERROR('[6]GESTION DSAJV'!H169,\" \")","v":0},{"$f":"IFERROR('[6]GESTION DSAJV'!I169,\" \")","v":0},{"$f":"IFERROR('[6]GESTION DSAJV'!J169,\" \")","v":0},null,{"$f":"IFERROR(H169/G169,\"\")","v":""}]
[null,null,null,null,{"$f":"IFERROR('[6]GESTION DSAJV'!H170,\" \")","v":0},{"$f":"IFERROR('[6]GESTION DSAJV'!I170,\" \")","v":0},{"$f":"IFERROR('[6]GESTION DSAJV'!J170,\" \")","v":0},null,{"$f":"IFERROR(H170/G170,\"\")","v":""}]
[null,null,null,null,{"$f":"IFERROR('[6]GESTION DSAJV'!H171,\" \")","v":0},{"$f":"IFERROR('[6]GESTION DSAJV'!I171,\" \")","v":0},{"$f":"IFERROR('[6]GESTION DSAJV'!J171,\" \")","v":0},null,{"$f":"IFERROR(H171/G171,\"\")","v":""}]
[null,null,null,null,{"$f":"IFERROR('[6]GESTION DSAJV'!H172,\" \")","v":0},{"$f":"IFERROR('[6]GESTION DSAJV'!I172,\" \")","v":0},{"$f":"IFERROR('[6]GESTION DSAJV'!J172,\" \")","v":0},null,{"$f":"IFERROR(H172/G172,\"\")","v":""}]
[null,null,null,null,{"$f":"IFERROR('[6]GESTION DSAJV'!H173,\" \")","v":0},{"$f":"IFERROR('[6]GESTION DSAJV'!I173,\" \")","v":0},{"$f":"IFERROR('[6]GESTION DSAJV'!J173,\" \")","v":0},null,{"$f":"IFERROR(H173/G173,\"\")","v":""}]
[null,null,null,null,{"$f":"IFERROR('[6]GESTION DSAJV'!H174,\" \")","v":0},{"$f":"IFERROR('[6]GESTION DSAJV'!I174,\" \")","v":0},{"$f":"IFERROR('[6]GESTION DSAJV'!J174,\" \")","v":0},null,{"$f":"IFERROR(H174/G174,\"\")","v":""}]
[null,null,null,null,{"$f":"IFERROR('[6]GESTION DSAJV'!H175,\" \")","v":0},{"$f":"IFERROR('[6]GESTION DSAJV'!I175,\" \")","v":0},{"$f":"IFERROR('[6]GESTION DSAJV'!J175,\" \")","v":0},null,{"$f":"IFERROR(H175/G175,\"\")","v":""}]
[null,null,"7. Continuar la consolidación del SIGCMA, a través de los procesos de formación en modelos de gestión, logrando la implementación y ampliación de este en los esquemas certificados de manera gradual, teniendo en cuenta las capacidades de los diferentes despachos judiciales y dependencias de la Rama Judicial y articulando el enfoque de Arquitectura Empresarial para el desarrollo del PETD a través de la gestión del conocimiento para la gestión del cambio propendiendo por una cultura de la calidad, la transparencia, la rendición de cuentas, la anticorrupción y el antisoborno","1. Gestionar el desarrollo de las competencias, la toma de conciencia , la cultura  organizacional  y el compromiso de los  servidores judiciales, contratistas, practicantes y  judicantes de contribuir a generar valor público en la administración de justicia, en el marco de  cumplimiento de los requisitos  aplicables y el comportamiento ético.\n4. Hacer un uso racional de los recursos naturales aplicando los principios y fases de la Economía Circular, para prevenir, mitigar y controlar los impactos ambientales.",{"$f":"IFERROR('[6]GESTION DSAJV'!H176,\" \")","v":0},{"$f":"IFERROR('[6]GESTION DSAJV'!I176,\" \")","v":0},{"$f":"IFERROR('[6]GESTION DSAJV'!J176,\" \")","v":0},null,{"$f":"IFERROR(H176/G176,\"\")","v":""}]
[null,null,null,null,{"$f":"IFERROR('[6]GESTION DSAJV'!H177,\" \")","v":0},{"$f":"IFERROR('[6]GESTION DSAJV'!I177,\" \")","v":0},{"$f":"IFERROR('[6]GESTION DSAJV'!J177,\" \")","v":0},null,{"$f":"IFERROR(H177/G177,\"\")","v":""}]
[null,null,null,null,{"$f":"IFERROR('[6]GESTION DSAJV'!H178,\" \")","v":0},{"$f":"IFERROR('[6]GESTION DSAJV'!I178,\" \")","v":0},{"$f":"IFERROR('[6]GESTION DSAJV'!J178,\" \")","v":0},null,{"$f":"IFERROR(H178/G178,\"\")","v":""}]
[null,null,null,null,{"$f":"IFERROR('[6]GESTION DSAJV'!H179,\" \")","v":0},{"$f":"IFERROR('[6]GESTION DSAJV'!I179,\" \")","v":0},{"$f":"IFERROR('[6]GESTION DSAJV'!J179,\" \")","v":0},null,{"$f":"IFERROR(H179/G179,\"\")","v":""}]
[null,null,null,null,{"$f":"IFERROR('[6]GESTION DSAJV'!H180,\" \")","v":0},{"$f":"IFERROR('[6]GESTION DSAJV'!I180,\" \")","v":0},{"$f":"IFERROR('[6]GESTION DSAJV'!J180,\" \")","v":0},null,{"$f":"IFERROR(H180/G180,\"\")","v":""}]
[null,null,null,null,{"$f":"IFERROR('[6]GESTION DSAJV'!H181,\" \")","v":0},{"$f":"IFERROR('[6]GESTION DSAJV'!I181,\" \")","v":0},{"$f":"IFERROR('[6]GESTION DSAJV'!J181,\" \")","v":0},null,{"$f":"IFERROR(H181/G181,\"\")","v":""}]
[null,null,null,null,{"$f":"IFERROR('[6]GESTION DSAJV'!H182,\" \")","v":0},{"$f":"IFERROR('[6]GESTION DSAJV'!I182,\" \")","v":0},{"$f":"IFERROR('[6]GESTION DSAJV'!J182,\" \")","v":0},null,{"$f":"IFERROR(H182/G182,\"\")","v":""}]
[null,null,null,null,{"$f":"IFERROR('[6]GESTION DSAJV'!H183,\" \")","v":0},{"$f":"IFERROR('[6]GESTION DSAJV'!I183,\" \")","v":0},{"$f":"IFERROR('[6]GESTION DSAJV'!J183,\" \")","v":0},null,{"$f":"IFERROR(H183/G183,\"\")","v":""}]
[null,null,null,null,{"$f":"IFERROR('[6]GESTION DSAJV'!H184,\" \")","v":0},{"$f":"IFERROR('[6]GESTION DSAJV'!I184,\" \")","v":0},{"$f":"IFERROR('[6]GESTION DSAJV'!J184,\" \")","v":0},null,{"$f":"IFERROR(H184/G184,\"\")","v":""}]
[null,null,null,null,{"$f":"IFERROR('[6]GESTION DSAJV'!H185,\" \")","v":0},{"$f":"IFERROR('[6]GESTION DSAJV'!I185,\" \")","v":0},{"$f":"IFERROR('[6]GESTION DSAJV'!J185,\" \")","v":0},null,{"$f":"IFERROR(H185/G185,\"\")","v":""}]
["4. Talento Humano","Talento Humano: Fortalecer el talento humano en la Rama Judicial para que sea eficiente, capacitado y realice su labor en ambientes saludables y seguros. Ampliar la cobertura de la carrera judicial y mejorar la oferta de formación, que esté disponible para todos los servidores judiciales e impacte positivamente el servicio de justicia y responda a las necesidades reales del ejercicio de la función judicial.","1. Ampliar la cobertura de la carrera judicial optimizando los procesos de los concursos de méritos y propender por mitigar su litigiosidad.","1. Gestionar el desarrollo de las competencias, la toma de conciencia , la cultura  organizacional  y el compromiso de los  servidores judiciales, contratistas, practicantes y  judicantes de contribuir a generar valor público en la administración de justicia, en el marco de  cumplimiento de los requisitos  aplicables y el comportamiento ético.",{"$f":"IFERROR('[6]GESTION DSAJV'!H186,\" \")","v":0},{"$f":"IFERROR('[6]GESTION DSAJV'!I186,\" \")","v":0},{"$f":"IFERROR('[6]GESTION DSAJV'!J186,\" \")","v":0},null,{"$f":"IFERROR(H186/G186,\"\")","v":""}]
[null,null,null,null,{"$f":"IFERROR('[6]GESTION DSAJV'!H187,\" \")","v":0},{"$f":"IFERROR('[6]GESTION DSAJV'!I187,\" \")","v":0},{"$f":"IFERROR('[6]GESTION DSAJV'!J187,\" \")","v":0},null,{"$f":"IFERROR(H187/G187,\"\")","v":""}]
[null,null,null,null,{"$f":"IFERROR('[6]GESTION DSAJV'!H188,\" \")","v":0},{"$f":"IFERROR('[6]GESTION DSAJV'!I188,\" \")","v":0},{"$f":"IFERROR('[6]GESTION DSAJV'!J188,\" \")","v":0},null,{"$f":"IFERROR(H188/G188,\"\")","v":""}]
[null,null,null,null,{"$f":"IFERROR('[6]GESTION DSAJV'!H189,\" \")","v":0},{"$f":"IFERROR('[6]GESTION DSAJV'!I189,\" \")","v":0},{"$f":"IFERROR('[6]GESTION DSAJV'!J189,\" \")","v":0},null,{"$f":"IFERROR(H189/G189,\"\")","v":""}]
[null,null,null,null,{"$f":"IFERROR('[6]GESTION DSAJV'!H190,\" \")","v":0},{"$f":"IFERROR('[6]GESTION DSAJV'!I190,\" \")","v":0},{"$f":"IFERROR('[6]GESTION DSAJV'!J190,\" \")","v":0},null,{"$f":"IFERROR(H190/G190,\"\")","v":""}]
[null,null,null,null,{"$f":"IFERROR('[6]GESTION DSAJV'!H191,\" \")","v":0},{"$f":"IFERROR('[6]GESTION DSAJV'!I191,\" \")","v":0},{"$f":"IFERROR('[6]GESTION DSAJV'!J191,\" \")","v":0},null,{"$f":"IFERROR(H191/G191,\"\")","v":""}]
[null,null,null,null,{"$f":"IFERROR('[6]GESTION DSAJV'!H192,\" \")","v":0},{"$f":"IFERROR('[6]GESTION DSAJV'!I192,\" \")","v":0},{"$f":"IFERROR('[6]GESTION DSAJV'!J192,\" \")","v":0},null,{"$f":"IFERROR(H192/G192,\"\")","v":""}]
[null,null,null,null,{"$f":"IFERROR('[6]GESTION DSAJV'!H193,\" \")","v":0},{"$f":"IFERROR('[6]GESTION DSAJV'!I193,\" \")","v":0},{"$f":"IFERROR('[6]GESTION DSAJV'!J193,\" \")","v":0},null,{"$f":"IFERROR(H193/G193,\"\")","v":""}]
[null,null,null,null,{"$f":"IFERROR('[6]GESTION DSAJV'!H194,\" \")","v":0},{"$f":"IFERROR('[6]GESTION DSAJV'!I194,\" \")","v":0},{"$f":"IFERROR('[6]GESTION DSAJV'!J194,\" \")","v":0},null,{"$f":"IFERROR(H194/G194,\"\")","v":""}]
[null,null,null,null,{"$f":"IFERROR('[6]GESTION DSAJV'!H195,\" \")","v":0},{"$f":"IFERROR('[6]GESTION DSAJV'!I195,\" \")","v":0},{"$f":"IFERROR('[6]GESTION DSAJV'!J195,\" \")","v":0},null,{"$f":"IFERROR(H195/G195,\"\")","v":""}]
[null,null,"2. Impactar la función y servicios que presta la Rama Judicial, a través de una formación integral desde una visión de gestión del conocimiento, relacionada con los problemas de la justicia y los problemas de gestión de quienes administran los recursos de la justicia, y potenciando el uso de medios virtuales.",null,{"$f":"IFERROR('[6]GESTION DSAJV'!H196,\" \")","v":0},{"$f":"IFERROR('[6]GESTION DSAJV'!I196,\" \")","v":0},{"$f":"IFERROR('[6]GESTION DSAJV'!J196,\" \")","v":0},null,{"$f":"IFERROR(H196/G196,\"\")","v":""}]
[null,null,null,null,{"$f":"IFERROR('[6]GESTION DSAJV'!H197,\" \")","v":0},{"$f":"IFERROR('[6]GESTION DSAJV'!I197,\" \")","v":0},{"$f":"IFERROR('[6]GESTION DSAJV'!J197,\" \")","v":0},null,{"$f":"IFERROR(H197/G197,\"\")","v":""}]
[null,null,null,null,{"$f":"IFERROR('[6]GESTION DSAJV'!H198,\" \")","v":0},{"$f":"IFERROR('[6]GESTION DSAJV'!I198,\" \")","v":0},{"$f":"IFERROR('[6]GESTION DSAJV'!J198,\" \")","v":0},null,{"$f":"IFERROR(H198/G198,\"\")","v":""}]
[null,null,null,null,{"$f":"IFERROR('[6]GESTION DSAJV'!H199,\" \")","v":0},{"$f":"IFERROR('[6]GESTION DSAJV'!I199,\" \")","v":0},{"$f":"IFERROR('[6]GESTION DSAJV'!J199,\" \")","v":0},null,{"$f":"IFERROR(H199/G199,\"\")","v":""}]
[null,null,null,null,{"$f":"IFERROR('[6]GESTION DSAJV'!H200,\" \")","v":0},{"$f":"IFERROR('[6]GESTION DSAJV'!I200,\" \")","v":0},{"$f":"IFERROR('[6]GESTION DSAJV'!J200,\" \")","v":0},null,{"$f":"IFERROR(H200/G200,\"\")","v":""}]
[null,null,null,null,{"$f":"IFERROR('[6]GESTION DSAJV'!H201,\" \")","v":0},{"$f":"IFERROR('[6]GESTION DSAJV'!I201,\" \")","v":0},{"$f":"IFERROR('[6]GESTION DSAJV'!J201,\" \")","v":0},null,{"$f":"IFERROR(H201/G201,\"\")","v":""}]
[null,null,null,null,{"$f":"IFERROR('[6]GESTION DSAJV'!H202,\" \")","v":0},{"$f":"IFERROR('[6]GESTION DSAJV'!I202,\" \")","v":0},{"$f":"IFERROR('[6]GESTION DSAJV'!J202,\" \")","v":0},null,{"$f":"IFERROR(H202/G202,\"\")","v":""}]
[null,null,null,null,{"$f":"IFERROR('[6]GESTION DSAJV'!H203,\" \")","v":0},{"$f":"IFERROR('[6]GESTION DSAJV'!I203,\" \")","v":0},{"$f":"IFERROR('[6]GESTION DSAJV'!J203,\" \")","v":0},null,{"$f":"IFERROR(H203/G203,\"\")","v":""}]
[null,null,null,null,{"$f":"IFERROR('[6]GESTION DSAJV'!H204,\" \")","v":0},{"$f":"IFERROR('[6]GESTION DSAJV'!I204,\" \")","v":0},{"$f":"IFERROR('[6]GESTION DSAJV'!J204,\" \")","v":0},null,{"$f":"IFERROR(H204/G204,\"\")","v":""}]
[null,null,null,null,{"$f":"IFERROR('[6]GESTION DSAJV'!H205,\" \")","v":0},{"$f":"IFERROR('[6]GESTION DSAJV'!I205,\" \")","v":0},{"$f":"IFERROR('[6]GESTION DSAJV'!J205,\" \")","v":0},null,{"$f":"IFERROR(H205/G205,\"\")","v":""}]
[null,null,"3. Promover la incorporación de la perspectiva de género y el enfoque diferencial en los fallos judiciales y en la atención a los ciudadanos, la administración de la Rama Judicial, la administración de la carrera judicial y la elaboración de listas para altas Cortes. ",null,{"$f":"IFERROR('[6]GESTION DSAJV'!H206,\" \")","v":0},{"$f":"IFERROR('[6]GESTION DSAJV'!I206,\" \")","v":0},{"$f":"IFERROR('[6]GESTION DSAJV'!J206,\" \")","v":0},null,{"$f":"IFERROR(H206/G206,\"\")","v":""}]
[null,null,null,null,{"$f":"IFERROR('[6]GESTION DSAJV'!H207,\" \")","v":0},{"$f":"IFERROR('[6]GESTION DSAJV'!I207,\" \")","v":0},{"$f":"IFERROR('[6]GESTION DSAJV'!J207,\" \")","v":0},null,{"$f":"IFERROR(H207/G207,\"\")","v":""}]
[null,null,null,null,{"$f":"IFERROR('[6]GESTION DSAJV'!H208,\" \")","v":0},{"$f":"IFERROR('[6]GESTION DSAJV'!I208,\" \")","v":0},{"$f":"IFERROR('[6]GESTION DSAJV'!J208,\" \")","v":0},null,{"$f":"IFERROR(H208/G208,\"\")","v":""}]
[null,null,null,null,{"$f":"IFERROR('[6]GESTION DSAJV'!H209,\" \")","v":0},{"$f":"IFERROR('[6]GESTION DSAJV'!I209,\" \")","v":0},{"$f":"IFERROR('[6]GESTION DSAJV'!J209,\" \")","v":0},null,{"$f":"IFERROR(H209/G209,\"\")","v":""}]
[null,null,null,null,{"$f":"IFERROR('[6]GESTION DSAJV'!H210,\" \")","v":0},{"$f":"IFERROR('[6]GESTION DSAJV'!I210,\" \")","v":0},{"$f":"IFERROR('[6]GESTION DSAJV'!J210,\" \")","v":0},null,{"$f":"IFERROR(H210/G210,\"\")","v":""}]
[null,null,null,null,{"$f":"IFERROR('[6]GESTION DSAJV'!H211,\" \")","v":0},{"$f":"IFERROR('[6]GESTION DSAJV'!I211,\" \")","v":0},{"$f":"IFERROR('[6]GESTION DSAJV'!J211,\" \")","v":0},null,{"$f":"IFERROR(H211/G211,\"\")","v":""}]
[null,null,null,null,{"$f":"IFERROR('[6]GESTION DSAJV'!H212,\" \")","v":0},{"$f":"IFERROR('[6]GESTION DSAJV'!I212,\" \")","v":0},{"$f":"IFERROR('[6]GESTION DSAJV'!J212,\" \")","v":0},null,{"$f":"IFERROR(H212/G212,\"\")","v":""}]
[null,null,null,null,{"$f":"IFERROR('[6]GESTION DSAJV'!H213,\" \")","v":0},{"$f":"IFERROR('[6]GESTION DSAJV'!I213,\" \")","v":0},{"$f":"IFERROR('[6]GESTION DSAJV'!J213,\" \")","v":0},null,{"$f":"IFERROR(H213/G213,\"\")","v":""}]
[null,null,null,null,{"$f":"IFERROR('[6]GESTION DSAJV'!H214,\" \")","v":0},{"$f":"IFERROR('[6]GESTION DSAJV'!I214,\" \")","v":0},{"$f":"IFERROR('[6]GESTION DSAJV'!J214,\" \")","v":0},null,{"$f":"IFERROR(H214/G214,\"\")","v":""}]
[null,null,null,null,{"$f":"IFERROR('[6]GESTION DSAJV'!H215,\" \")","v":0},{"$f":"IFERROR('[6]GESTION DSAJV'!I215,\" \")","v":0},{"$f":"IFERROR('[6]GESTION DSAJV'!J215,\" \")","v":0},null,{"$f":"IFERROR(H215/G215,\"\")","v":""}]
[null,null,"4. Desarrollar en los servidores judiciales y demás grupos de valor relevantes las competencias necesarias para la efectividad de la transformación digital de modo que puedan, entre otros, utilizar con solvencia las herramientas digitales dispuestas para sus respectivas funciones. Además, fortalecer y actualizar los conocimientos del personal a cargo de la gestión de proyectos de tecnología.",null,{"$f":"IFERROR('[6]GESTION DSAJV'!H216,\" \")","v":0},{"$f":"IFERROR('[6]GESTION DSAJV'!I216,\" \")","v":0},{"$f":"IFERROR('[6]GESTION DSAJV'!J216,\" \")","v":0},null,{"$f":"IFERROR(H216/G216,\"\")","v":""}]
[null,null,null,null,{"$f":"IFERROR('[6]GESTION DSAJV'!H217,\" \")","v":0},{"$f":"IFERROR('[6]GESTION DSAJV'!I217,\" \")","v":0},{"$f":"IFERROR('[6]GESTION DSAJV'!J217,\" \")","v":0},null,{"$f":"IFERROR(H217/G217,\"\")","v":""}]
[null,null,null,null,{"$f":"IFERROR('[6]GESTION DSAJV'!H218,\" \")","v":0},{"$f":"IFERROR('[6]GESTION DSAJV'!I218,\" \")","v":0},{"$f":"IFERROR('[6]GESTION DSAJV'!J218,\" \")","v":0},null,{"$f":"IFERROR(H218/G218,\"\")","v":""}]
[null,null,null,null,{"$f":"IFERROR('[6]GESTION DSAJV'!H219,\" \")","v":0},{"$f":"IFERROR('[6]GESTION DSAJV'!I219,\" \")","v":0},{"$f":"IFERROR('[6]GESTION DSAJV'!J219,\" \")","v":0},null,{"$f":"IFERROR(H219/G219,\"\")","v":""}]
[null,null,null,null,{"$f":"IFERROR('[6]GESTION DSAJV'!H220,\" \")","v":0},{"$f":"IFERROR('[6]GESTION DSAJV'!I220,\" \")","v":0},{"$f":"IFERROR('[6]GESTION DSAJV'!J220,\" \")","v":0},null,{"$f":"IFERROR(H220/G220,\"\")","v":""}]
[null,null,null,null,{"$f":"IFERROR('[6]GESTION DSAJV'!H221,\" \")","v":0},{"$f":"IFERROR('[6]GESTION DSAJV'!I221,\" \")","v":0},{"$f":"IFERROR('[6]GESTION DSAJV'!J221,\" \")","v":0},null,{"$f":"IFERROR(H221/G221,\"\")","v":""}]
[null,null,null,null,{"$f":"IFERROR('[6]GESTION DSAJV'!H222,\" \")","v":"Medición de la participación en los programas de bienestar social y desarrollo de competencias"},{"$f":"IFERROR('[6]GESTION DSAJV'!I222,\" \")","v":"Entregable"},{"$f":"IFERROR('[6]GESTION DSAJV'!J222,\" \")","v":70},null,{"$f":"IFERROR(H222/G222,\"\")","v":0},"Los altos indices de ocupación laboral, desestimulan la dedicación de tiempo por parte de los servidores para participar en las actividades de bienestar social","En este trimestre se presentó una mayor participación, teniendo en cuenta que se realizaron actividades lúdicas al interior de los Despachos, obteniendo una participación del 48% de los servidores convocados."]
[null,null,null,null,{"$f":"IFERROR('[6]GESTION DSAJV'!H223,\" \")","v":"Medición de los reclamos justificados del cliente interno para el pago de nómina y prestaciones sociales"},{"$f":"IFERROR('[6]GESTION DSAJV'!I223,\" \")","v":"Entregable"},{"$f":"IFERROR('[6]GESTION DSAJV'!J223,\" \")","v":0},null,{"$f":"IFERROR(H223/G223,\"\")","v":""},"El aplicativo EFINOMINA presenta muchos errores en la liquidación del retroactivo salarial, debiendo realizarse ajustes de forma manual. En el mes de septiembre se presentó un ataque cibernetico que impidió el acceso al aplicativo de nómina Efinomina."," Durante este trimestre se incremento el numero de registros y de reclamos, teniendo en cuenta que adicional a la nomina general, se realizó la liquidación de la prima de servicios y  del retroactivo por incremento salarial. Se presentaron 65 reclamos justificados, de un total de 26.205 registros, obteniendo una eficiente gestión, teniendo en cuenta el minimo porcentaje de reclamos (0,2%)"]
[null,null,null,null,{"$f":"IFERROR('[6]GESTION DSAJV'!H224,\" \")","v":"Medición del nivel de satisfacción del cliente interno respecto a las actividades de Gestión Humana"},{"$f":"IFERROR('[6]GESTION DSAJV'!I224,\" \")","v":"Entregable"},{"$f":"IFERROR('[6]GESTION DSAJV'!J224,\" \")","v":0},null,{"$f":"IFERROR(H224/G224,\"\")","v":""}]
[null,null,null,null,{"$f":"IFERROR('[6]GESTION DSAJV'!H225,\" \")","v":"Medición de la eficacia en la proyección de recursos para el pago de nomina"},{"$f":"IFERROR('[6]GESTION DSAJV'!I225,\" \")","v":"Entregable"},{"$f":"IFERROR('[6]GESTION DSAJV'!J225,\" \")","v":0},null,{"$f":"IFERROR(H225/G225,\"\")","v":""},".","Durante el segundo trimestre se presentó una eficacia del 100%, en la proyección del presupuesto requerido para el pago de nómina , toda vez que se proyectó la suma de $24.600.000 y se realizó un pago efectivo de $24.610.000, basados en los datos historicos y en las novedades allegadas de manera anticipada."]
[null,null,"5. Promover el bienestar de todos los servidores judiciales a través de la implementación de un sistema que contemple los diferentes niveles de estrategias y acciones necesarios para mejorar el clima laboral, la salud física y mental y la calidad del tiempo de descanso.","5. Generar espacios de trabajo seguros y saludables que contribuyan a minimizar los  incidentes, accidentes y enfermedades laborales derivados de las condiciones y actos  inseguros y fomentar  el autocuidado, los  estilos de vida y el trabajo saludable en los servidores judiciales, contratistas, judicantes y practicantes",{"$f":"IFERROR('[6]GESTION DSAJV'!H226,\" \")","v":"Medición de la eficacia en la proyección de recursos para el pago de cesantías"},{"$f":"IFERROR('[6]GESTION DSAJV'!I226,\" \")","v":"Entregable"},{"$f":"IFERROR('[6]GESTION DSAJV'!J226,\" \")","v":0},null,{"$f":"IFERROR(H226/G226,\"\")","v":""},null,"En este trimestre se presentó una mayor participación, teniendo en cuenta que se realizaron actividades lúdicas al interior de los Despachos. Se programaron actividades para 1951 servidores y participaron efectivamente 950, obteniendo un porcentaje de participación del 48,69%"]
[null,null,null,null,{"$f":"IFERROR('[6]GESTION DSAJV'!H227,\" \")","v":"Ejecución de los recursos de inversion de proyectos de bienestar social y seguridad y salud en el trabajo para el mejoramiento de las condiciones laborales de los servidores judiciales, en cuanto al manejo de los factores de riesgo psicosociales"},{"$f":"IFERROR('[6]GESTION DSAJV'!I227,\" \")","v":"Meta cuantificable"},{"$f":"IFERROR('[6]GESTION DSAJV'!J227,\" \")","v":430880619},null,{"$f":"IFERROR(H227/G227,\"\")","v":0}]
[null,null,null,null,{"$f":"IFERROR('[6]GESTION DSAJV'!H228,\" \")","v":"Cumplimiento del plan de trabajo del SG SST"},{"$f":"IFERROR('[6]GESTION DSAJV'!I228,\" \")","v":"Meta cuantificable"},{"$f":"IFERROR('[6]GESTION DSAJV'!J228,\" \")","v":1200},null,{"$f":"IFERROR(H228/G228,\"\")","v":0}]
[null,null,null,null,{"$f":"IFERROR('[6]GESTION DSAJV'!H229,\" \")","v":"Cobertura del plan de trabajo del SG SST"},{"$f":"IFERROR('[6]GESTION DSAJV'!I229,\" \")","v":"Entregable"},{"$f":"IFERROR('[6]GESTION DSAJV'!J229,\" \")","v":0},null,{"$f":"IFERROR(H229/G229,\"\")","v":""}]
[null,null,null,null,{"$f":"IFERROR('[6]GESTION DSAJV'!H230,\" \")","v":"Frecuencia de accidentalidad laboral"},{"$f":"IFERROR('[6]GESTION DSAJV'!I230,\" \")","v":"Entregable"},{"$f":"IFERROR('[6]GESTION DSAJV'!J230,\" \")","v":0},null,{"$f":"IFERROR(H230/G230,\"\")","v":""}]
[null,null,null,null,{"$f":"IFERROR('[6]GESTION DSAJV'!H231,\" \")","v":"Severidad de accidentalidad laboral"},{"$f":"IFERROR('[6]GESTION DSAJV'!I231,\" \")","v":"Entregable"},{"$f":"IFERROR('[6]GESTION DSAJV'!J231,\" \")","v":0},null,{"$f":"IFERROR(H231/G231,\"\")","v":""}]
[null,null,null,null,{"$f":"IFERROR('[6]GESTION DSAJV'!H232,\" \")","v":"Proporción de accidentes de trabajo mortales"},{"$f":"IFERROR('[6]GESTION DSAJV'!I232,\" \")","v":"Entregable"},{"$f":"IFERROR('[6]GESTION DSAJV'!J232,\" \")","v":0},null,{"$f":"IFERROR(H232/G232,\"\")","v":""}]
[null,null,null,null,{"$f":"IFERROR('[6]GESTION DSAJV'!H233,\" \")","v":"Incidencia de enfermedad laboral"},{"$f":"IFERROR('[6]GESTION DSAJV'!I233,\" \")","v":"Entregable"},{"$f":"IFERROR('[6]GESTION DSAJV'!J233,\" \")","v":0},null,{"$f":"IFERROR(H233/G233,\"\")","v":""}]
[null,null,null,null,{"$f":"IFERROR('[6]GESTION DSAJV'!H234,\" \")","v":"Prevalencia de enfermedad laboral"},{"$f":"IFERROR('[6]GESTION DSAJV'!I234,\" \")","v":"Entregable"},{"$f":"IFERROR('[6]GESTION DSAJV'!J234,\" \")","v":0},null,{"$f":"IFERROR(H234/G234,\"\")","v":""}]
[null,null,null,null,{"$f":"IFERROR('[6]GESTION DSAJV'!H235,\" \")","v":"Ausentismo por incapacidades médicas"},{"$f":"IFERROR('[6]GESTION DSAJV'!I235,\" \")","v":"Entregable"},{"$f":"IFERROR('[6]GESTION DSAJV'!J235,\" \")","v":0},null,{"$f":"IFERROR(H235/G235,\"\")","v":""}]
["5. Gobernanza, planeación estratégica y capacidad de toma de decisiones","Gobernanza, planeación estratégica y capacidad de toma de decisiones: Fortalecer la gobernanza, la planeación estratégica y la capacidad de toma de decisiones de la Rama Judicial con base en la evidencia empírica y la articulación efectiva con las demás entidades, para que la perspectiva de género y el enfoque diferencial sean transversales en el presente plan. ","1. Implementar un nuevo modelo integrado para la planeación estratégica, el seguimiento y la medición del desempeño institucional.","2. Asegurar  el cumplimiento de los objetivos institucionales, la normatividad aplicable,  la mejora del SIGCMA y la satisfacción de los usuarios, revisando de  forma continua y sistemática la planificación de la gestión y fortaleciendo la administración de riesgos y sus controles.",{"$f":"IFERROR('[6]GESTION DSAJV'!H236,\" \")","v":0},{"$f":"IFERROR('[6]GESTION DSAJV'!I236,\" \")","v":0},{"$f":"IFERROR('[6]GESTION DSAJV'!J236,\" \")","v":0},null,{"$f":"IFERROR(H236/G236,\"\")","v":""}]
[null,null,null,null,{"$f":"IFERROR('[6]GESTION DSAJV'!H237,\" \")","v":0},{"$f":"IFERROR('[6]GESTION DSAJV'!I237,\" \")","v":0},{"$f":"IFERROR('[6]GESTION DSAJV'!J237,\" \")","v":0},null,{"$f":"IFERROR(H237/G237,\"\")","v":""}]
[null,null,null,null,{"$f":"IFERROR('[6]GESTION DSAJV'!H238,\" \")","v":0},{"$f":"IFERROR('[6]GESTION DSAJV'!I238,\" \")","v":0},{"$f":"IFERROR('[6]GESTION DSAJV'!J238,\" \")","v":0},null,{"$f":"IFERROR(H238/G238,\"\")","v":""}]
[null,null,null,null,{"$f":"IFERROR('[6]GESTION DSAJV'!H239,\" \")","v":0},{"$f":"IFERROR('[6]GESTION DSAJV'!I239,\" \")","v":0},{"$f":"IFERROR('[6]GESTION DSAJV'!J239,\" \")","v":0},null,{"$f":"IFERROR(H239/G239,\"\")","v":""}]
[null,null,null,null,{"$f":"IFERROR('[6]GESTION DSAJV'!H240,\" \")","v":0},{"$f":"IFERROR('[6]GESTION DSAJV'!I240,\" \")","v":0},{"$f":"IFERROR('[6]GESTION DSAJV'!J240,\" \")","v":0},null,{"$f":"IFERROR(H240/G240,\"\")","v":""}]
[null,null,null,null,{"$f":"IFERROR('[6]GESTION DSAJV'!H241,\" \")","v":0},{"$f":"IFERROR('[6]GESTION DSAJV'!I241,\" \")","v":0},{"$f":"IFERROR('[6]GESTION DSAJV'!J241,\" \")","v":0},null,{"$f":"IFERROR(H241/G241,\"\")","v":""}]
[null,null,null,null,{"$f":"IFERROR('[6]GESTION DSAJV'!H242,\" \")","v":0},{"$f":"IFERROR('[6]GESTION DSAJV'!I242,\" \")","v":0},{"$f":"IFERROR('[6]GESTION DSAJV'!J242,\" \")","v":0},null,{"$f":"IFERROR(H242/G242,\"\")","v":""}]
[null,null,null,null,{"$f":"IFERROR('[6]GESTION DSAJV'!H243,\" \")","v":0},{"$f":"IFERROR('[6]GESTION DSAJV'!I243,\" \")","v":0},{"$f":"IFERROR('[6]GESTION DSAJV'!J243,\" \")","v":0},null,{"$f":"IFERROR(H243/G243,\"\")","v":""}]
[null,null,null,null,{"$f":"IFERROR('[6]GESTION DSAJV'!H244,\" \")","v":0},{"$f":"IFERROR('[6]GESTION DSAJV'!I244,\" \")","v":0},{"$f":"IFERROR('[6]GESTION DSAJV'!J244,\" \")","v":0},null,{"$f":"IFERROR(H244/G244,\"\")","v":""}]
[null,null,null,null,{"$f":"IFERROR('[6]GESTION DSAJV'!H245,\" \")","v":0},{"$f":"IFERROR('[6]GESTION DSAJV'!I245,\" \")","v":0},{"$f":"IFERROR('[6]GESTION DSAJV'!J245,\" \")","v":0},null,{"$f":"IFERROR(H245/G245,\"\")","v":""}]
[null,null,"2. Definir e implementar el modelo optimizado de formulación, seguimiento y evaluación de la política pública judicial.",null,{"$f":"IFERROR('[6]GESTION DSAJV'!H246,\" \")","v":0},{"$f":"IFERROR('[6]GESTION DSAJV'!I246,\" \")","v":0},{"$f":"IFERROR('[6]GESTION DSAJV'!J246,\" \")","v":0},null,{"$f":"IFERROR(H246/G246,\"\")","v":""}]
[null,null,null,null,{"$f":"IFERROR('[6]GESTION DSAJV'!H247,\" \")","v":0},{"$f":"IFERROR('[6]GESTION DSAJV'!I247,\" \")","v":0},{"$f":"IFERROR('[6]GESTION DSAJV'!J247,\" \")","v":0},null,{"$f":"IFERROR(H247/G247,\"\")","v":""}]
[null,null,null,null,{"$f":"IFERROR('[6]GESTION DSAJV'!H248,\" \")","v":0},{"$f":"IFERROR('[6]GESTION DSAJV'!I248,\" \")","v":0},{"$f":"IFERROR('[6]GESTION DSAJV'!J248,\" \")","v":0},null,{"$f":"IFERROR(H248/G248,\"\")","v":""}]
[null,null,null,null,{"$f":"IFERROR('[6]GESTION DSAJV'!H249,\" \")","v":0},{"$f":"IFERROR('[6]GESTION DSAJV'!I249,\" \")","v":0},{"$f":"IFERROR('[6]GESTION DSAJV'!J249,\" \")","v":0},null,{"$f":"IFERROR(H249/G249,\"\")","v":""}]
[null,null,null,null,{"$f":"IFERROR('[6]GESTION DSAJV'!H250,\" \")","v":0},{"$f":"IFERROR('[6]GESTION DSAJV'!I250,\" \")","v":0},{"$f":"IFERROR('[6]GESTION DSAJV'!J250,\" \")","v":0},null,{"$f":"IFERROR(H250/G250,\"\")","v":""}]
[null,null,null,null,{"$f":"IFERROR('[6]GESTION DSAJV'!H251,\" \")","v":0},{"$f":"IFERROR('[6]GESTION DSAJV'!I251,\" \")","v":0},{"$f":"IFERROR('[6]GESTION DSAJV'!J251,\" \")","v":0},null,{"$f":"IFERROR(H251/G251,\"\")","v":""}]
[null,null,null,null,{"$f":"IFERROR('[6]GESTION DSAJV'!H252,\" \")","v":0},{"$f":"IFERROR('[6]GESTION DSAJV'!I252,\" \")","v":0},{"$f":"IFERROR('[6]GESTION DSAJV'!J252,\" \")","v":0},null,{"$f":"IFERROR(H252/G252,\"\")","v":""}]
[null,null,null,null,{"$f":"IFERROR('[6]GESTION DSAJV'!H253,\" \")","v":0},{"$f":"IFERROR('[6]GESTION DSAJV'!I253,\" \")","v":0},{"$f":"IFERROR('[6]GESTION DSAJV'!J253,\" \")","v":0},null,{"$f":"IFERROR(H253/G253,\"\")","v":""}]
[null,null,null,null,{"$f":"IFERROR('[6]GESTION DSAJV'!H254,\" \")","v":0},{"$f":"IFERROR('[6]GESTION DSAJV'!I254,\" \")","v":0},{"$f":"IFERROR('[6]GESTION DSAJV'!J254,\" \")","v":0},null,{"$f":"IFERROR(H254/G254,\"\")","v":""}]
[null,null,null,null,{"$f":"IFERROR('[6]GESTION DSAJV'!H255,\" \")","v":0},{"$f":"IFERROR('[6]GESTION DSAJV'!I255,\" \")","v":0},{"$f":"IFERROR('[6]GESTION DSAJV'!J255,\" \")","v":0},null,{"$f":"IFERROR(H255/G255,\"\")","v":""}]

{"sheet":"GESTION_SEG_2_TRIM DSAJV","index":6,"n_rows":255,"n_cols":11,"rows_kept":255,"cut":false,"hidden":false,"merged":[[205,2,214,2],[215,2,224,2],[225,2,234,2],[225,3,234,3],[235,0,254,0],[235,1,254,1],[235,2,244,2],[235,3,254,3],[245,2,254,2],[145,3,174,3],[155,2,164,2],[165,2,174,2],[175,2,184,2],[175,3,184,3],[185,0,234,0],[185,1,234,1],[185,2,194,2],[185,3,224,3],[195,2,204,2],[105,2,114,2],[115,0,184,0],[115,1,184,1],[115,2,124,2],[115,3,124,3],[125,2,134,2],[125,3,134,3],[135,2,144,2],[135,3,144,3],[145,2,154,2],[45,2,54,2],[45,3,54,3],[55,0,114,0],[55,1,114,1],[55,2,64,2],[55,3,114,3],[65,2,74,2],[75,2,84,2],[85,2,94,2],[95,2,104,2],[5,0,54,0],[5,1,54,1],[5,2,14,2],[5,3,14,3],[15,2,24,2],[15,3,24,3],[25,2,34,2],[25,3,34,3],[35,2,44,2],[35,3,44,3],[1,0,1,10],[2,0,2,3],[2,4,2,9],[2,10,4,10],[3,0,4,1],[3,2,4,2],[3,3,4,3],[3,4,3,9]]}
[]
["CONSEJO SUPERIOR DE LA JUDICATURA \nUNIDADES MISIONALES DEL CONSEJO SUPERIOR DE LA JUDICATURA - \nDIRECCIÓN EJECUTIVA DE ADMINISTRACIÓN JUDICIAL - UNIDADES MISIONALES DE LA DEAJ\nDIRECCIONES SECCIONALES DE ADMINISTRACIÓN JUDICIAL - DEPENDENCIAS JUDICIALES CERTIFICADAS"]
["PLAN SECTORIAL DE DESARROLLO 2023-2026 - OBJETIVOS SIGCMA",null,null,null,null,null,null,null,null,null," ANÁLISIS RESULTADO"]
["OBJETIVO ESTRATÉGICO",null,"OBJETIVO ESPECÍFICO PSD","OBJETIVO ESPECÍFICO SIGCMA","MEDICIÓN DE LA GESTIÓN ANUAL"]
[null,null,null,null,"ACTIVIDADES ","INDIQUE SI ES ENTREGABLE O META CUANTIFICABLE","META ANUAL","AVANCE DE LA META ","NIVEL CUMPLIMIENTO","DIFICULTADES PARA LOGRAR LA META PROPUESTA"]
["1. Acceso e Infraestructura Física","Acceso e Infraestructura Física: Ampliar, en todo el territorio nacional, el acceso a una justicia efectiva, pronta, equitativa e incluyente, reduciendo el atraso y la congestión, de acuerdo con las necesidades de la demanda de justicia por jurisdicción y especialidad, y mejorando la articulación con la justicia restaurativa y terapéutica, y otros mecanismos de solución de conflictos y consolidando una infraestructura física óptima para el acceso a la justicia.","1. Ampliar el acceso a justicia para atender las necesidades jurídicas de los ciudadanos con un enfoque diferencial, de una manera pronta, reduciendo las inequidades y las brechas territoriales de acceso.","2. Asegurar  el cumplimiento de los objetivos institucionales, la normatividad aplicable,  la mejora del SIGCMA y la satisfacción de los usuarios, revisando de  forma continua y sistemática la planificación de la gestión y fortaleciendo la administración de riesgos y sus controles",{"$f":"IFERROR('[6]GESTION DSAJV'!H6,\" \")","v":"Realizar la contratación  y ejecución de proyectos de inversión en infraestructura física de la rama judicial, para mejorar las condiciones de los inmuebles de la rama judicial "},{"$f":"IFERROR('[6]GESTION DSAJV'!I6,\" \")","v":"Entregable"},{"$f":"IFERROR('[6]GESTION DSAJV'!J6,\" \")","v":0},null,{"$f":"IFERROR(H6/G6,\"\")","v":""}]
[null,null,null,null,{"$f":"IFERROR('[6]GESTION DSAJV'!H7,\" \")","v":"Atender las necesidades de traslado de los servidores judiciales con fines administrativos. "},{"$f":"IFERROR('[6]GESTION DSAJV'!I7,\" \")","v":"Entregable"},{"$f":"IFERROR('[6]GESTION DSAJV'!J7,\" \")","v":0},null,""]
[null,null,null,null,{"$f":"IFERROR('[6]GESTION DSAJV'!H8,\" \")","v":0},{"$f":"IFERROR('[6]GESTION DSAJV'!I8,\" \")","v":0},{"$f":"IFERROR('[6]GESTION DSAJV'!J8,\" \")","v":0},null,""]
[null,null,null,null,{"$f":"IFERROR('[6]GESTION DSAJV'!H9,\" \")","v":0},{"$f":"IFERROR('[6]GESTION DSAJV'!I9,\" \")","v":0},{"$f":"IFERROR('[6]GESTION DSAJV'!J9,\" \")","v":0},null,""]
[null,null,null,null,{"$f":"IFERROR('[6]GESTION DSAJV'!H10,\" \")","v":0},{"$f":"IFERROR('[6]GESTION DSAJV'!I10,\" \")","v":0},{"$f":"IFERROR('[6]GESTION DSAJV'!J10,\" \")","v":0},null,""]
[null,null,null,null,{"$f":"IFERROR('[6]GESTION DSAJV'!H11,\" \")","v":"Adelantar los procesos de contratación que permitan la ejecución de los recursos asignados para contratar los bienes y servicios necesarios para asegurar el adecuado funcionamiento de los Despachos Judiciales y Administrativos del Distrito Judicial de Villavicencio"},{"$f":"IFERROR('[6]GESTION DSAJV'!I11,\" \")","v":"Entregable"},{"$f":"IFERROR('[6]GESTION DSAJV'!J11,\" \")","v":100},null,0]
[null,null,null,null,{"$f":"IFERROR('[6]GESTION DSAJV'!H12,\" \")","v":"Verificar el cumplimiento de las adquisiciones planeadas con respecto a la ejecución de procesos de contratación adelantados durante la presente vigencia"},{"$f":"IFERROR('[6]GESTION DSAJV'!I12,\" \")","v":"Entregable"},{"$f":"IFERROR('[6]GESTION DSAJV'!J12,\" \")","v":95},null,0]
[null,null,null,null,{"$f":"IFERROR('[6]GESTION DSAJV'!H13,\" \")","v":"Seguimiento a la adquisición de bienes y servicios adquiridos para el funcionamiento de los Despachos Judiciales y Administrativos del Distrito Judicial de Villavicencio"},{"$f":"IFERROR('[6]GESTION DSAJV'!I13,\" \")","v":"Entregable"},{"$f":"IFERROR('[6]GESTION DSAJV'!J13,\" \")","v":95},null,0]
[null,null,null,null,{"$f":"IFERROR('[6]GESTION DSAJV'!H14,\" \")","v":"Ejecución del plan de adquisiciones Villavicencio"},{"$f":"IFERROR('[6]GESTION DSAJV'!I14,\" \")","v":"Entregable"},{"$f":"IFERROR('[6]GESTION DSAJV'!J14,\" \")","v":95},null,0]
[null,null,null,null,{"$f":"IFERROR('[6]GESTION DSAJV'!H15,\" \")","v":0},{"$f":"IFERROR('[6]GESTION DSAJV'!I15,\" \")","v":0},{"$f":"IFERROR('[6]GESTION DSAJV'!J15,\" \")","v":0},null,""]
[null,null,"2. Mejorar los tiempos de respuesta de la Rama Judicial y reducir el inventario de procesos, identificando los retos internos y promoviendo tanto acciones articuladas específicas para abordarlos como estrategias coordinadas para enfrentar las barreras que dependen de otras entidades.","2. Asegurar  el cumplimiento de los objetivos institucionales, la normatividad aplicable,  la mejora del SIGCMA y la satisfacción de los usuarios, revisando de  forma continua y sistemática la planificación de la gestión y fortaleciendo la administración de riesgos y sus controles",{"$f":"IFERROR('[6]GESTION DSAJV'!H16,\" \")","v":"Seguimiento al consumo de Papel, Combustible y Servicios públicos "},{"$f":"IFERROR('[6]GESTION DSAJV'!I16,\" \")","v":"Entregable"},{"$f":"IFERROR('[6]GESTION DSAJV'!J16,\" \")","v":0},null,""]
[null,null,null,null,{"$f":"IFERROR('[6]GESTION DSAJV'!H17,\" \")","v":"Atender las necesidades de traslado de los servidores judiciales con fines administrativos. "},{"$f":"IFERROR('[6]GESTION DSAJV'!I17,\" \")","v":"Entregable"},{"$f":"IFERROR('[6]GESTION DSAJV'!J17,\" \")","v":95},null,0]
[null,null,null,null,{"$f":"IFERROR('[6]GESTION DSAJV'!H18,\" \")","v":"Realizar seguimiento por medio de informes al mantenimiento y control del parque automotor"},{"$f":"IFERROR('[6]GESTION DSAJV'!I18,\" \")","v":"Entregable"},{"$f":"IFERROR('[6]GESTION DSAJV'!J18,\" \")","v":95},null,0]
[null,null,null,null,{"$f":"IFERROR('[6]GESTION DSAJV'!H19,\" \")","v":"Identificación de necesidades en materia de seguridad para las sedes judiciales asignadas al Distrito Judicial de Villavicencio y su gestión para contratación de equipos , mantenimientos y personal, para el fortalecimiento de la seguridad."},{"$f":"IFERROR('[6]GESTION DSAJV'!I19,\" \")","v":"Entregable"},{"$f":"IFERROR('[6]GESTION DSAJV'!J19,\" \")","v":100},null,0]
[null,null,null,null,{"$f":"IFERROR('[6]GESTION DSAJV'!H20,\" \")","v":"Registrar reporte mensual de novedades en bienes muebles e inmuebles."},{"$f":"IFERROR('[6]GESTION DSAJV'!I20,\" \")","v":"Entregable"},{"$f":"IFERROR('[6]GESTION DSAJV'!J20,\" \")","v":100},null,0]
[null,null,null,null,{"$f":"IFERROR('[6]GESTION DSAJV'!H21,\" \")","v":0},{"$f":"IFERROR('[6]GESTION DSAJV'!I21,\" \")","v":0},{"$f":"IFERROR('[6]GESTION DSAJV'!J21,\" \")","v":0},null,""]
[null,null,null,null,{"$f":"IFERROR('[6]GESTION DSAJV'!H22,\" \")","v":0},{"$f":"IFERROR('[6]GESTION DSAJV'!I22,\" \")","v":0},{"$f":"IFERROR('[6]GESTION DSAJV'!J22,\" \")","v":0},null,""]
[null,null,null,null,{"$f":"IFERROR('[6]GESTION DSAJV'!H23,\" \")","v":0},{"$f":"IFERROR('[6]GESTION DSAJV'!I23,\" \")","v":0},{"$f":"IFERROR('[6]GESTION DSAJV'!J23,\" \")","v":0},null,""]
[null,null,null,null,{"$f":"IFERROR('[6]GESTION DSAJV'!H24,\" \")","v":0},{"$f":"IFERROR('[6]GESTION DSAJV'!I24,\" \")","v":0},{"$f":"IFERROR('[6]GESTION DSAJV'!J24,\" \")","v":0},null,""]
[null,null,null,null,{"$f":"IFERROR('[6]GESTION DSAJV'!H25,\" \")","v":0},{"$f":"IFERROR('[6]GESTION DSAJV'!I25,\" \")","v":0},{"$f":"IFERROR('[6]GESTION DSAJV'!J25,\" \")","v":0},null,""]
[null,null,"3. Coadyuvar en la garantía de la idoneidad en el ejercicio de la profesión jurídica de acuerdo con lo establecido en la Ley 1905 de 2018","2. Asegurar  el cumplimiento de los objetivos institucionales, la normatividad aplicable,  la mejora del SIGCMA y la satisfacción de los usuarios, revisando de  forma continua y sistemática la planificación de la gestión y fortaleciendo la administración de riesgos y sus controles",{"$f":"IFERROR('[6]GESTION DSAJV'!H26,\" \")","v":0},{"$f":"IFERROR('[6]GESTION DSAJV'!I26,\" \")","v":0},{"$f":"IFERROR('[6]GESTION DSAJV'!J26,\" \")","v":0},null,""]
[null,null,null,null,{"$f":"IFERROR('[6]GESTION DSAJV'!H27,\" \")","v":0},{"$f":"IFERROR('[6]GESTION DSAJV'!I27,\" \")","v":0},{"$f":"IFERROR('[6]GESTION DSAJV'!J27,\" \")","v":0},null,""]
[null,null,null,null,{"$f":"IFERROR('[6]GESTION DSAJV'!H28,\" \")","v":0},{"$f":"IFERROR('[6]GESTION DSAJV'!I28,\" \")","v":0},{"$f":"IFERROR('[6]GESTION DSAJV'!J28,\" \")","v":0},null,""]
[null,null,null,null,{"$f":"IFERROR('[6]GESTION DSAJV'!H29,\" \")","v":0},{"$f":"IFERROR('[6]GESTION DSAJV'!I29,\" \")","v":0},{"$f":"IFERROR('[6]GESTION DSAJV'!J29,\" \")","v":0},null,""]
[null,null,null,null,{"$f":"IFERROR('[6]GESTION DSAJV'!H30,\" \")","v":0},{"$f":"IFERROR('[6]GESTION DSAJV'!I30,\" \")","v":0},{"$f":"IFERROR('[6]GESTION DSAJV'!J30,\" \")","v":0},null,""]
[null,null,null,null,{"$f":"IFERROR('[6]GESTION DSAJV'!H31,\" \")","v":0},{"$f":"IFERROR('[6]GESTION DSAJV'!I31,\" \")","v":0},{"$f":"IFERROR('[6]GESTION DSAJV'!J31,\" \")","v":0},null,""]
[null,null,null,null,{"$f":"IFERROR('[6]GESTION DSAJV'!H32,\" \")","v":0},{"$f":"IFERROR('[6]GESTION DSAJV'!I32,\" \")","v":0},{"$f":"IFERROR('[6]GESTION DSAJV'!J32,\" \")","v":0},null,""]
[null,null,null,null,{"$f":"IFERROR('[6]GESTION DSAJV'!H33,\" \")","v":0},{"$f":"IFERROR('[6]GESTION DSAJV'!I33,\" \")","v":0},{"$f":"IFERROR('[6]GESTION DSAJV'!J33,\" \")","v":0},null,""]
[null,null,null,null,{"$f":"IFERROR('[6]GESTION DSAJV'!H34,\" \")","v":0},{"$f":"IFERROR('[6]GESTION DSAJV'!I34,\" \")","v":0},{"$f":"IFERROR('[6]GESTION DSAJV'!J34,\" \")","v":0},null,""]
[null,null,null,null,{"$f":"IFERROR('[6]GESTION DSAJV'!H35,\" \")","v":0},{"$f":"IFERROR('[6]GESTION DSAJV'!I35,\" \")","v":0},{"$f":"IFERROR('[6]GESTION DSAJV'!J35,\" \")","v":0},null,""]
[null,null,"4. Avanzar en la disposición de una infraestructura óptima para el acceso a la justicia en la Rama Judicial de modo que se fortalezca la presencia territorial, teniendo en cuenta las posibilidades que ofrece la transformación digital y las necesidades que se derivan de ella, y considerando tanto las necesidades de los usuarios como las de los servidores judiciales.","4. Hacer un uso racional de los recursos naturales aplicando los principios y fases de la Economía Circular, para prevenir, mitigar y controlar los impactos ambientales",{"$f":"IFERROR('[6]GESTION DSAJV'!H36,\" \")","v":0},{"$f":"IFERROR('[6]GESTION DSAJV'!I36,\" \")","v":0},{"$f":"IFERROR('[6]GESTION DSAJV'!J36,\" \")","v":0},null,""]
[null,null,null,null,{"$f":"IFERROR('[6]GESTION DSAJV'!H37,\" \")","v":0},{"$f":"IFERROR('[6]GESTION DSAJV'!I37,\" \")","v":0},{"$f":"IFERROR('[6]GESTION DSAJV'!J37,\" \")","v":0},null,""]
[null,null,null,null,{"$f":"IFERROR('[6]GESTION DSAJV'!H38,\" \")","v":0},{"$f":"IFERROR('[6]GESTION DSAJV'!I38,\" \")","v":0},{"$f":"IFERROR('[6]GESTION DSAJV'!J38,\" \")","v":0},null,""]
[null,null,null,null,{"$f":"IFERROR('[6]GESTION DSAJV'!H39,\" \")","v":0},{"$f":"IFERROR('[6]GESTION DSAJV'!I39,\" \")","v":0},{"$f":"IFERROR('[6]GESTION DSAJV'!J39,\" \")","v":0},null,""]
[null,null,null,null,{"$f":"IFERROR('[6]GESTION DSAJV'!H40,\" \")","v":0},{"$f":"IFERROR('[6]GESTION DSAJV'!I40,\" \")","v":0},{"$f":"IFERROR('[6]GESTION DSAJV'!J40,\" \")","v":0},null,""]
[null,null,null,null,{"$f":"IFERROR('[6]GESTION DSAJV'!H41,\" \")","v":0},{"$f":"IFERROR('[6]GESTION DSAJV'!I41,\" \")","v":0},{"$f":"IFERROR('[6]GESTION DSAJV'!J41,\" \")","v":0},null,""]
[null,null,null,null,{"$f":"IFERROR('[6]GESTION DSAJV'!H42,\" \")","v":0},{"$f":"IFERROR('[6]GESTION DSAJV'!I42,\" \")","v":0},{"$f":"IFERROR('[6]GESTION DSAJV'!J42,\" \")","v":0},null,""]
[null,null,null,null,{"$f":"IFERROR('[6]GESTION DSAJV'!H43,\" \")","v":0},{"$f":"IFERROR('[6]GESTION DSAJV'!I43,\" \")","v":0},{"$f":"IFERROR('[6]GESTION DSAJV'!J43,\" \")","v":0},null,""]
[null,null,null,null,{"$f":"IFERROR('[6]GESTION DSAJV'!H44,\" \")","v":0},{"$f":"IFERROR('[6]GESTION DSAJV'!I44,\" \")","v":0},{"$f":"IFERROR('[6]GESTION DSAJV'!J44,\" \")","v":0},null,""]
[null,null,null,null,{"$f":"IFERROR('[6]GESTION DSAJV'!H45,\" \")","v":0},{"$f":"IFERROR('[6]GESTION DSAJV'!I45,\" \")","v":0},{"$f":"IFERROR('[6]GESTION DSAJV'!J45,\" \")","v":0},null,""]
[null,null,"5. Impulsar el uso de mecanismos alternativos para la solución de conflictos y la ampliación de la justicia restaurativa y terapéutica y el robustecimiento de las alternativas al encarcelamiento","2. Asegurar  el cumplimiento de los objetivos institucionales, la normatividad aplicable,  la mejora del SIGCMA y la satisfacción de los usuarios, revisando de  forma continua y sistemática la planificación de la gestión y fortaleciendo la administración de riesgos y sus controles",{"$f":"IFERROR('[6]GESTION DSAJV'!H46,\" \")","v":0},{"$f":"IFERROR('[6]GESTION DSAJV'!I46,\" \")","v":0},{"$f":"IFERROR('[6]GESTION DSAJV'!J46,\" \")","v":0},null,""]
[null,null,null,null,{"$f":"IFERROR('[6]GESTION DSAJV'!H47,\" \")","v":0},{"$f":"IFERROR('[6]GESTION DSAJV'!I47,\" \")","v":0},{"$f":"IFERROR('[6]GESTION DSAJV'!J47,\" \")","v":0},null,""]
[null,null,null,null,{"$f":"IFERROR('[6]GESTION DSAJV'!H48,\" \")","v":0},{"$f":"IFERROR('[6]GESTION DSAJV'!I48,\" \")","v":0},{"$f":"IFERROR('[6]GESTION DSAJV'!J48,\" \")","v":0},null,""]
[null,null,null,null,{"$f":"IFERROR('[6]GESTION DSAJV'!H49,\" \")","v":0},{"$f":"IFERROR('[6]GESTION DSAJV'!I49,\" \")","v":0},{"$f":"IFERROR('[6]GESTION DSAJV'!J49,\" \")","v":0},null,""]
[null,null,null,null,{"$f":"IFERROR('[6]GESTION DSAJV'!H50,\" \")","v":0},{"$f":"IFERROR('[6]GESTION DSAJV'!I50,\" \")","v":0},{"$f":"IFERROR('[6]GESTION DSAJV'!J50,\" \")","v":0},null,""]
[null,null,null,null,{"$f":"IFERROR('[6]GESTION DSAJV'!H51,\" \")","v":0},{"$f":"IFERROR('[6]GESTION DSAJV'!I51,\" \")","v":0},{"$f":"IFERROR('[6]GESTION DSAJV'!J51,\" \")","v":0},null,""]
[null,null,null,null,{"$f":"IFERROR('[6]GESTION DSAJV'!H52,\" \")","v":0},{"$f":"IFERROR('[6]GESTION DSAJV'!I52,\" \")","v":0},{"$f":"IFERROR('[6]GESTION DSAJV'!J52,\" \")","v":0},null,""]
[null,null,null,null,{"$f":"IFERROR('[6]GESTION DSAJV'!H53,\" \")","v":0},{"$f":"IFERROR('[6]GESTION DSAJV'!I53,\" \")","v":0},{"$f":"IFERROR('[6]GESTION DSAJV'!J53,\" \")","v":0},null,""]
[null,null,null,null,{"$f":"IFERROR('[6]GESTION DSAJV'!H54,\" \")","v":0},{"$f":"IFERROR('[6]GESTION DSAJV'!I54,\" \")","v":0},{"$f":"IFERROR('[6]GESTION DSAJV'!J54,\" \")","v":0},null,""]
[null,null,null,null,{"$f":"IFERROR('[6]GESTION DSAJV'!H55,\" \")","v":0},{"$f":"IFERROR('[6]GESTION DSAJV'!I55,\" \")","v":0},{"$f":"IFERROR('[6]GESTION DSAJV'!J55,\" \")","v":0},null,""]
["2. Servicios digitales y de tecnología, innovación y análisis de la información.","Servicios digitales y de tecnología, innovación y análisis de la información: Consolidar una justicia integrada y soportada en servicios digitales y de tecnología, innovación y análisis de la información, con una cultura digital apropiada, segura y sensible a las realidades del territorio nacional. ","1. Ampliar el acceso a la justicia a través de la consolidación del uso de los servicios digitales que conforman el sistema único integrado de gestión judicial en todos los despachos judiciales y dependencias de apoyo y, específicamente, incluyendo el despliegue e implementación del Expediente Judicial Electrónico en todas las jurisdicciones y especialidades.","6. Proteger, preservar y administrar los activos de información  implementando acciones  para gestionar de forma adecuada los incidentes, proteger los datos personales y adoptar mecanismos  de ciberseguridad y aseguramiento de la  continuidad del negocio.",{"$f":"IFERROR('[6]GESTION DSAJV'!H56,\" \")","v":"Mejorar los canales de internet"},{"$f":"IFERROR('[6]GESTION DSAJV'!I56,\" \")","v":"Entregable"},{"$f":"IFERROR('[6]GESTION DSAJV'!J56,\" \")","v":100},null,0]
[null,null,null,null,{"$f":"IFERROR('[6]GESTION DSAJV'!H57,\" \")","v":"Renovar equipos de cómputo de funcionarios"},{"$f":"IFERROR('[6]GESTION DSAJV'!I57,\" \")","v":"Entregable"},{"$f":"IFERROR('[6]GESTION DSAJV'!J57,\" \")","v":0},null,""]
[null,null,null,null,{"$f":"IFERROR('[6]GESTION DSAJV'!H58,\" \")","v":"Realizar soporte de servidores"},{"$f":"IFERROR('[6]GESTION DSAJV'!I58,\" \")","v":"Entregable"},{"$f":"IFERROR('[6]GESTION DSAJV'!J58,\" \")","v":0},null,""]
[null,null,null,null,{"$f":"IFERROR('[6]GESTION DSAJV'!H59,\" \")","v":"Realizar soporte de servidores"},{"$f":"IFERROR('[6]GESTION DSAJV'!I59,\" \")","v":"Entregable"},{"$f":"IFERROR('[6]GESTION DSAJV'!J59,\" \")","v":0},null,""]
[null,null,null,null,{"$f":"IFERROR('[6]GESTION DSAJV'!H60,\" \")","v":"Realizar mantenimiento de equipos de computo"},{"$f":"IFERROR('[6]GESTION DSAJV'!I60,\" \")","v":"Entregable"},{"$f":"IFERROR('[6]GESTION DSAJV'!J60,\" \")","v":0},null,""]
[null,null,null,null,{"$f":"IFERROR('[6]GESTION DSAJV'!H61,\" \")","v":"Hacer seguimiento a la digitalización de expedientes judiciales"},{"$f":"IFERROR('[6]GESTION DSAJV'!I61,\" \")","v":"Entregable"},{"$f":"IFERROR('[6]GESTION DSAJV'!J61,\" \")","v":0},null,""]
[null,null,null,null,{"$f":"IFERROR('[6]GESTION DSAJV'!H62,\" \")","v":"Realizar seguimiento a la ejecución presupuestal de las apropiaciones y compromisos para la vigencia 2023."},{"$f":"IFERROR('[6]GESTION DSAJV'!I62,\" \")","v":"Meta cuantificable"},{"$f":"IFERROR('[6]GESTION DSAJV'!J62,\" \")","v":100},null,0]
[null,null,null,null,{"$f":"IFERROR('[6]GESTION DSAJV'!H63,\" \")","v":"Realizar las proyecciones históricas para la solicitud de cupo PAC y ejecutar los pagos previamente definidos de manera oportuna."},{"$f":"IFERROR('[6]GESTION DSAJV'!I63,\" \")","v":"Entregable"},{"$f":"IFERROR('[6]GESTION DSAJV'!J63,\" \")","v":0},null,""]
[null,null,null,null,{"$f":"IFERROR('[6]GESTION DSAJV'!H64,\" \")","v":0},{"$f":"IFERROR('[6]GESTION DSAJV'!I64,\" \")","v":0},{"$f":"IFERROR('[6]GESTION DSAJV'!J64,\" \")","v":0},null,""]
[null,null,null,null,{"$f":"IFERROR('[6]GESTION DSAJV'!H65,\" \")","v":0},{"$f":"IFERROR('[6]GESTION DSAJV'!I65,\" \")","v":0},{"$f":"IFERROR('[6]GESTION DSAJV'!J65,\" \")","v":0},null,""]
[null,null,"2. Integrar y hacer compatibles todos los aplicativos de transición con SIUGJ, para que la migración de los expedientes judiciales a dicha plataforma sea real y no suponga afectaciones en la prestación del servicio de justicia.",null,{"$f":"IFERROR('[6]GESTION DSAJV'!H66,\" \")","v":0},{"$f":"IFERROR('[6]GESTION DSAJV'!I66,\" \")","v":0},{"$f":"IFERROR('[6]GESTION DSAJV'!J66,\" \")","v":0},null,""]
[null,null,null,null,{"$f":"IFERROR('[6]GESTION DSAJV'!H67,\" \")","v":0},{"$f":"IFERROR('[6]GESTION DSAJV'!I67,\" \")","v":0},{"$f":"IFERROR('[6]GESTION DSAJV'!J67,\" \")","v":0},null,""]
[null,null,null,null,{"$f":"IFERROR('[6]GESTION DSAJV'!H68,\" \")","v":0},{"$f":"IFERROR('[6]GESTION DSAJV'!I68,\" \")","v":0},{"$f":"IFERROR('[6]GESTION DSAJV'!J68,\" \")","v":0},null,""]
[null,null,null,null,{"$f":"IFERROR('[6]GESTION DSAJV'!H69,\" \")","v":0},{"$f":"IFERROR('[6]GESTION DSAJV'!I69,\" \")","v":0},{"$f":"IFERROR('[6]GESTION DSAJV'!J69,\" \")","v":0},null,""]
[null,null,null,null,{"$f":"IFERROR('[6]GESTION DSAJV'!H70,\" \")","v":0},{"$f":"IFERROR('[6]GESTION DSAJV'!I70,\" \")","v":0},{"$f":"IFERROR('[6]GESTION DSAJV'!J70,\" \")","v":0},null,{"$f":"IFERROR(H70/G70,\"\")","v":""}]
[null,null,null,null,{"$f":"IFERROR('[6]GESTION DSAJV'!H71,\" \")","v":0},{"$f":"IFERROR('[6]GESTION DSAJV'!I71,\" \")","v":0},{"$f":"IFERROR('[6]GESTION DSAJV'!J71,\" \")","v":0},null,""]
[null,null,null,null,{"$f":"IFERROR('[6]GESTION DSAJV'!H72,\" \")","v":0},{"$f":"IFERROR('[6]GESTION DSAJV'!I72,\" \")","v":0},{"$f":"IFERROR('[6]GESTION DSAJV'!J72,\" \")","v":0},null,""]
[null,null,null,null,{"$f":"IFERROR('[6]GESTION DSAJV'!H73,\" \")","v":0},{"$f":"IFERROR('[6]GESTION DSAJV'!I73,\" \")","v":0},{"$f":"IFERROR('[6]GESTION DSAJV'!J73,\" \")","v":0},null,""]
[null,null,null,null,{"$f":"IFERROR('[6]GESTION DSAJV'!H74,\" \")","v":0},{"$f":"IFERROR('[6]GESTION DSAJV'!I74,\" \")","v":0},{"$f":"IFERROR('[6]GESTION DSAJV'!J74,\" \")","v":0},null,""]
[null,null,null,null,{"$f":"IFERROR('[6]GESTION DSAJV'!H75,\" \")","v":0},{"$f":"IFERROR('[6]GESTION DSAJV'!I75,\" \")","v":0},{"$f":"IFERROR('[6]GESTION DSAJV'!J75,\" \")","v":0},null,""]
[null,null,"3. Fortalecer las capacidades institucionales, adecuar el modelo operativo y de servicio, bajo un enfoque de Arquitectura Empresarial y de fortalecimiento del acceso a la justicia.",null,{"$f":"IFERROR('[6]GESTION DSAJV'!H76,\" \")","v":0},{"$f":"IFERROR('[6]GESTION DSAJV'!I76,\" \")","v":0},{"$f":"IFERROR('[6]GESTION DSAJV'!J76,\" \")","v":0},null,""]
[null,null,null,null,{"$f":"IFERROR('[6]GESTION DSAJV'!H77,\" \")","v":0},{"$f":"IFERROR('[6]GESTION DSAJV'!I77,\" \")","v":0},{"$f":"IFERROR('[6]GESTION DSAJV'!J77,\" \")","v":0},null,""]
[null,null,null,null,{"$f":"IFERROR('[6]GESTION DSAJV'!H78,\" \")","v":0},{"$f":"IFERROR('[6]GESTION DSAJV'!I78,\" \")","v":0},{"$f":"IFERROR('[6]GESTION DSAJV'!J78,\" \")","v":0},null,""]
[null,null,null,null,{"$f":"IFERROR('[6]GESTION DSAJV'!H79,\" \")","v":0},{"$f":"IFERROR('[6]GESTION DSAJV'!I79,\" \")","v":0},{"$f":"IFERROR('[6]GESTION DSAJV'!J79,\" \")","v":0},null,""]
[null,null,null,null,{"$f":"IFERROR('[6]GESTION DSAJV'!H80,\" \")","v":0},{"$f":"IFERROR('[6]GESTION DSAJV'!I80,\" \")","v":0},{"$f":"IFERROR('[6]GESTION DSAJV'!J80,\" \")","v":0},null,""]
[null,null,null,null,{"$f":"IFERROR('[6]GESTION DSAJV'!H81,\" \")","v":0},{"$f":"IFERROR('[6]GESTION DSAJV'!I81,\" \")","v":0},{"$f":"IFERROR('[6]GESTION DSAJV'!J81,\" \")","v":0},null,""]
[null,null,null,null,{"$f":"IFERROR('[6]GESTION DSAJV'!H82,\" \")","v":0},{"$f":"IFERROR('[6]GESTION DSAJV'!I82,\" \")","v":0},{"$f":"IFERROR('[6]GESTION DSAJV'!J82,\" \")","v":0},null,""]
[null,null,null,null,{"$f":"IFERROR('[6]GESTION DSAJV'!H83,\" \")","v":0},{"$f":"IFERROR('[6]GESTION DSAJV'!I83,\" \")","v":0},{"$f":"IFERROR('[6]GESTION DSAJV'!J83,\" \")","v":0},null,""]
[null,null,null,null,{"$f":"IFERROR('[6]GESTION DSAJV'!H84,\" \")","v":0},{"$f":"IFERROR('[6]GESTION DSAJV'!I84,\" \")","v":0},{"$f":"IFERROR('[6]GESTION DSAJV'!J84,\" \")","v":0},null,""]
[null,null,null,null,{"$f":"IFERROR('[6]GESTION DSAJV'!H85,\" \")","v":0},{"$f":"IFERROR('[6]GESTION DSAJV'!I85,\" \")","v":0},{"$f":"IFERROR('[6]GESTION DSAJV'!J85,\" \")","v":0},null,""]
[null,null,"4.Consolidar la cultura y apropiación de la transformación digital en los servidores y usuarios de los servicios de la Rama Judicial y reducir brechas de acceso y conocimiento, incluyendo la oferta efectiva de información sobre el uso de las nuevas herramientas virtuales implementadas en las diferentes jurisdicciones, con especial énfasis en las zonas del país donde es evidente la brecha digital.",null,{"$f":"IFERROR('[6]GESTION DSAJV'!H86,\" \")","v":0},{"$f":"IFERROR('[6]GESTION DSAJV'!I86,\" \")","v":0},{"$f":"IFERROR('[6]GESTION DSAJV'!J86,\" \")","v":0},null,""]
[null,null,null,null,{"$f":"IFERROR('[6]GESTION DSAJV'!H87,\" \")","v":0},{"$f":"IFERROR('[6]GESTION DSAJV'!I87,\" \")","v":0},{"$f":"IFERROR('[6]GESTION DSAJV'!J87,\" \")","v":0},null,""]
[null,null,null,null,{"$f":"IFERROR('[6]GESTION DSAJV'!H88,\" \")","v":0},{"$f":"IFERROR('[6]GESTION DSAJV'!I88,\" \")","v":0},{"$f":"IFERROR('[6]GESTION DSAJV'!J88,\" \")","v":0},null,""]
[null,null,null,null,{"$f":"IFERROR('[6]GESTION DSAJV'!H89,\" \")","v":0},{"$f":"IFERROR('[6]GESTION DSAJV'!I89,\" \")","v":0},{"$f":"IFERROR('[6]GESTION DSAJV'!J89,\" \")","v":0},null,""]
[null,null,null,null,{"$f":"IFERROR('[6]GESTION DSAJV'!H90,\" \")","v":0},{"$f":"IFERROR('[6]GESTION DSAJV'!I90,\" \")","v":0},{"$f":"IFERROR('[6]GESTION DSAJV'!J90,\" \")","v":0},null,""]
[null,null,null,null,{"$f":"IFERROR('[6]GESTION DSAJV'!H91,\" \")","v":0},{"$f":"IFERROR('[6]GESTION DSAJV'!I91,\" \")","v":0},{"$f":"IFERROR('[6]GESTION DSAJV'!J91,\" \")","v":0},null,""]
[null,null,null,null,{"$f":"IFERROR('[6]GESTION DSAJV'!H92,\" \")","v":0},{"$f":"IFERROR('[6]GESTION DSAJV'!I92,\" \")","v":0},{"$f":"IFERROR('[6]GESTION DSAJV'!J92,\" \")","v":0},null,""]
[null,null,null,null,{"$f":"IFERROR('[6]GESTION DSAJV'!H93,\" \")","v":0},{"$f":"IFERROR('[6]GESTION DSAJV'!I93,\" \")","v":0},{"$f":"IFERROR('[6]GESTION DSAJV'!J93,\" \")","v":0},null,""]
[null,null,null,null,{"$f":"IFERROR('[6]GESTION DSAJV'!H94,\" \")","v":0},{"$f":"IFERROR('[6]GESTION DSAJV'!I94,\" \")","v":0},{"$f":"IFERROR('[6]GESTION DSAJV'!J94,\" \")","v":0},null,""]
[null,null,null,null,{"$f":"IFERROR('[6]GESTION DSAJV'!H95,\" \")","v":0},{"$f":"IFERROR('[6]GESTION DSAJV'!I95,\" \")","v":0},{"$f":"IFERROR('[6]GESTION DSAJV'!J95,\" \")","v":0},null,""]
[null,null,"5.Consolidar la infraestructura y los recursos necesarios para la implementación exitosa de la transformación digital, incluyendo la disposición de internet de calidad en el 100% de las sedes en la Rama Judicial y modernizar los servicios tecnológicos de soporte. ",null,{"$f":"IFERROR('[6]GESTION DSAJV'!H96,\" \")","v":0},{"$f":"IFERROR('[6]GESTION DSAJV'!I96,\" \")","v":0},{"$f":"IFERROR('[6]GESTION DSAJV'!J96,\" \")","v":0},null,""]
[null,null,null,null,{"$f":"IFERROR('[6]GESTION DSAJV'!H97,\" \")","v":0},{"$f":"IFERROR('[6]GESTION DSAJV'!I97,\" \")","v":0},{"$f":"IFERROR('[6]GESTION DSAJV'!J97,\" \")","v":0},null,""]
[null,null,null,null,{"$f":"IFERROR('[6]GESTION DSAJV'!H98,\" \")","v":0},{"$f":"IFERROR('[6]GESTION DSAJV'!I98,\" \")","v":0},{"$f":"IFERROR('[6]GESTION DSAJV'!J98,\" \")","v":0},null,""]
[null,null,null,null,{"$f":"IFERROR('[6]GESTION DSAJV'!H99,\" \")","v":0},{"$f":"IFERROR('[6]GESTION DSAJV'!I99,\" \")","v":0},{"$f":"IFERROR('[6]GESTION DSAJV'!J99,\" \")","v":0},null,""]
[null,null,null,null,{"$f":"IFERROR('[6]GESTION DSAJV'!H100,\" \")","v":0},{"$f":"IFERROR('[6]GESTION DSAJV'!I100,\" \")","v":0},{"$f":"IFERROR('[6]GESTION DSAJV'!J100,\" \")","v":0},null,""]
[null,null,null,null,{"$f":"IFERROR('[6]GESTION DSAJV'!H101,\" \")","v":0},{"$f":"IFERROR('[6]GESTION DSAJV'!I101,\" \")","v":0},{"$f":"IFERROR('[6]GESTION DSAJV'!J101,\" \")","v":0},null,""]
[null,null,null,null,{"$f":"IFERROR('[6]GESTION DSAJV'!H102,\" \")","v":0},{"$f":"IFERROR('[6]GESTION DSAJV'!I102,\" \")","v":0},{"$f":"IFERROR('[6]GESTION DSAJV'!J102,\" \")","v":0},null,""]
[null,null,null,null,{"$f":"IFERROR('[6]GESTION DSAJV'!H103,\" \")","v":0},{"$f":"IFERROR('[6]GESTION DSAJV'!I103,\" \")","v":0},{"$f":"IFERROR('[6]GESTION DSAJV'!J103,\" \")","v":0},null,""]
[null,null,null,null,{"$f":"IFERROR('[6]GESTION DSAJV'!H104,\" \")","v":0},{"$f":"IFERROR('[6]GESTION DSAJV'!I104,\" \")","v":0},{"$f":"IFERROR('[6]GESTION DSAJV'!J104,\" \")","v":0},null,""]
[null,null,null,null,{"$f":"IFERROR('[6]GESTION DSAJV'!H105,\" \")","v":0},{"$f":"IFERROR('[6]GESTION DSAJV'!I105,\" \")","v":0},{"$f":"IFERROR('[6]GESTION DSAJV'!J105,\" \")","v":0},null,""]
[null,null,"6.Integrar y optimizar los servicios administrativos de la Rama Judicial bajo un enfoque de transformación digital e innovación incluyendo los componentes financiero, administrativo, talento humano, entre otros",null,{"$f":"IFERROR('[6]GESTION DSAJV'!H106,\" \")","v":0},{"$f":"IFERROR('[6]GESTION DSAJV'!I106,\" \")","v":0},{"$f":"IFERROR('[6]GESTION DSAJV'!J106,\" \")","v":0},null,""]
[null,null,null,null,{"$f":"IFERROR('[6]GESTION DSAJV'!H107,\" \")","v":0},{"$f":"IFERROR('[6]GESTION DSAJV'!I107,\" \")","v":0},{"$f":"IFERROR('[6]GESTION DSAJV'!J107,\" \")","v":0},null,""]
[null,null,null,null,{"$f":"IFERROR('[6]GESTION DSAJV'!H108,\" \")","v":0},{"$f":"IFERROR('[6]GESTION DSAJV'!I108,\" \")","v":0},{"$f":"IFERROR('[6]GESTION DSAJV'!J108,\" \")","v":0},null,""]
[null,null,null,null,{"$f":"IFERROR('[6]GESTION DSAJV'!H109,\" \")","v":0},{"$f":"IFERROR('[6]GESTION DSAJV'!I109,\" \")","v":0},{"$f":"IFERROR('[6]GESTION DSAJV'!J109,\" \")","v":0},null,""]
[null,null,null,null,{"$f":"IFERROR('[6]GESTION DSAJV'!H110,\" \")","v":0},{"$f":"IFERROR('[6]GESTION DSAJV'!I110,\" \")","v":0},{"$f":"IFERROR('[6]GESTION DSAJV'!J110,\" \")","v":0},null,""]
[null,null,null,null,{"$f":"IFERROR('[6]GESTION DSAJV'!H111,\" \")","v":0},{"$f":"IFERROR('[6]GESTION DSAJV'!I111,\" \")","v":0},{"$f":"IFERROR('[6]GESTION DSAJV'!J111,\" \")","v":0},null,""]
[null,null,null,null,{"$f":"IFERROR('[6]GESTION DSAJV'!H112,\" \")","v":0},{"$f":"IFERROR('[6]GESTION DSAJV'!I112,\" \")","v":0},{"$f":"IFERROR('[6]GESTION DSAJV'!J112,\" \")","v":0},null,""]
[null,null,null,null,{"$f":"IFERROR('[6]GESTION DSAJV'!H113,\" \")","v":0},{"$f":"IFERROR('[6]GESTION DSAJV'!I113,\" \")","v":0},{"$f":"IFERROR('[6]GESTION DSAJV'!J113,\" \")","v":0},null,""]
[null,null,null,null,{"$f":"IFERROR('[6]GESTION DSAJV'!H114,\" \")","v":0},{"$f":"IFERROR('[6]GESTION DSAJV'!I114,\" \")","v":0},{"$f":"IFERROR('[6]GESTION DSAJV'!J114,\" \")","v":0},null,""]
[null,null,null,null,{"$f":"IFERROR('[6]GESTION DSAJV'!H115,\" \")","v":0},{"$f":"IFERROR('[6]GESTION DSAJV'!I115,\" \")","v":0},{"$f":"IFERROR('[6]GESTION DSAJV'!J115,\" \")","v":0},null,""]
["3. Confianza pública, transparencia y rendición de cuentas","Confianza pública, transparencia y rendición de cuentas: Aumentar la confianza pública en la justicia a través de la transparencia, la rendición de cuentas y la participación, incluyendo la información de justicia y la producción, gestión y acceso a las fuentes de derecho, el fortalecimiento del sistema de gestión de calidad y medio ambiente (SIGCMA) y el mejoramiento de la calidad y publicidad de la información. ","1. Incrementar la cantidad, la calidad y pertinencia de los datos sobre el funcionamiento del servicio de justicia bajo un modelo de gobierno de datos y un liderazgo unificado. ","4. Hacer un uso racional de los recursos naturales aplicando los principios y fases de la Economía Circular, para prevenir, mitigar y controlar los impactos ambientales.",{"$f":"IFERROR('[6]GESTION DSAJV'!H116,\" \")","v":"Seguimiento notificacion resolucion mandamiento de pago proceso coactivo  "},{"$f":"IFERROR('[6]GESTION DSAJV'!I116,\" \")","v":"Entregable"},{"$f":"IFERROR('[6]GESTION DSAJV'!J116,\" \")","v":4},null,0]
[null,null,null,null,{"$f":"IFERROR('[6]GESTION DSAJV'!H117,\" \")","v":"Elaborar las fichas de las solicitudes de conciliación prejudicial y de los procesos que se adelantan ante la jurisdicción contencioso administrativo, para presentarlos ante el Comité Secciona de Conciliación. "},{"$f":"IFERROR('[6]GESTION DSAJV'!I117,\" \")","v":"Entregable"},{"$f":"IFERROR('[6]GESTION DSAJV'!J117,\" \")","v":0},null,""]
[null,null,null,null,{"$f":"IFERROR('[6]GESTION DSAJV'!H118,\" \")","v":"Diligenciamiento aplicativo EKOGUI"},{"$f":"IFERROR('[6]GESTION DSAJV'!I118,\" \")","v":"Entregable"},{"$f":"IFERROR('[6]GESTION DSAJV'!J118,\" \")","v":0},null,""]
[null,null,null,null,{"$f":"IFERROR('[6]GESTION DSAJV'!H119,\" \")","v":"Seguimiento de recuado de cartera vigencia año 2023"},{"$f":"IFERROR('[6]GESTION DSAJV'!I119,\" \")","v":"Meta cuantificable"},{"$f":"IFERROR('[6]GESTION DSAJV'!J119,\" \")","v":214715800},null,0]
[null,null,null,null,{"$f":"IFERROR('[6]GESTION DSAJV'!H120,\" \")","v":"Contestacion a las demandas dentro de los terminos establecidos por los despachos judiciales "},{"$f":"IFERROR('[6]GESTION DSAJV'!I120,\" \")","v":"Entregable"},{"$f":"IFERROR('[6]GESTION DSAJV'!J120,\" \")","v":0},null,""]
[null,null,null,null,{"$f":"IFERROR('[6]GESTION DSAJV'!H121,\" \")","v":"Contestacion de las acciones de tutela dentro de los terminos establecidos por los despachos judiciales "},{"$f":"IFERROR('[6]GESTION DSAJV'!I121,\" \")","v":"Entregable"},{"$f":"IFERROR('[6]GESTION DSAJV'!J121,\" \")","v":0},null,""]
[null,null,null,null,{"$f":"IFERROR('[6]GESTION DSAJV'!H122,\" \")","v":0},{"$f":"IFERROR('[6]GESTION DSAJV'!I122,\" \")","v":0},{"$f":"IFERROR('[6]GESTION DSAJV'!J122,\" \")","v":0},null,""]
[null,null,null,null,{"$f":"IFERROR('[6]GESTION DSAJV'!H123,\" \")","v":0},{"$f":"IFERROR('[6]GESTION DSAJV'!I123,\" \")","v":0},{"$f":"IFERROR('[6]GESTION DSAJV'!J123,\" \")","v":0},null,""]
[null,null,null,null,{"$f":"IFERROR('[6]GESTION DSAJV'!H124,\" \")","v":0},{"$f":"IFERROR('[6]GESTION DSAJV'!I124,\" \")","v":0},{"$f":"IFERROR('[6]GESTION DSAJV'!J124,\" \")","v":0},null,""]
[null,null,null,null,{"$f":"IFERROR('[6]GESTION DSAJV'!H125,\" \")","v":0},{"$f":"IFERROR('[6]GESTION DSAJV'!I125,\" \")","v":0},{"$f":"IFERROR('[6]GESTION DSAJV'!J125,\" \")","v":0},null,""]
[null,null,"2. Consolidar la administración de la información entendida como todas las acciones rientadas a garantizar el acceso, consulta, uso y conservación de la información de justicia de manera ágil, flexible e inteligente, bajo un enfoque de innovación.",null,{"$f":"IFERROR('[6]GESTION DSAJV'!H126,\" \")","v":0},{"$f":"IFERROR('[6]GESTION DSAJV'!I126,\" \")","v":0},{"$f":"IFERROR('[6]GESTION DSAJV'!J126,\" \")","v":0},null,""]
[null,null,null,null,{"$f":"IFERROR('[6]GESTION DSAJV'!H127,\" \")","v":0},{"$f":"IFERROR('[6]GESTION DSAJV'!I127,\" \")","v":0},{"$f":"IFERROR('[6]GESTION DSAJV'!J127,\" \")","v":0},null,""]
[null,null,null,null,{"$f":"IFERROR('[6]GESTION DSAJV'!H128,\" \")","v":0},{"$f":"IFERROR('[6]GESTION DSAJV'!I128,\" \")","v":0},{"$f":"IFERROR('[6]GESTION DSAJV'!J128,\" \")","v":0},null,""]
[null,null,null,null,{"$f":"IFERROR('[6]GESTION DSAJV'!H129,\" \")","v":0},{"$f":"IFERROR('[6]GESTION DSAJV'!I129,\" \")","v":0},{"$f":"IFERROR('[6]GESTION DSAJV'!J129,\" \")","v":0},null,""]
[null,null,null,null,{"$f":"IFERROR('[6]GESTION DSAJV'!H130,\" \")","v":0},{"$f":"IFERROR('[6]GESTION DSAJV'!I130,\" \")","v":0},{"$f":"IFERROR('[6]GESTION DSAJV'!J130,\" \")","v":0},null,""]
[null,null,null,null,{"$f":"IFERROR('[6]GESTION DSAJV'!H131,\" \")","v":0},{"$f":"IFERROR('[6]GESTION DSAJV'!I131,\" \")","v":0},{"$f":"IFERROR('[6]GESTION DSAJV'!J131,\" \")","v":0},null,""]
[null,null,null,null,{"$f":"IFERROR('[6]GESTION DSAJV'!H132,\" \")","v":0},{"$f":"IFERROR('[6]GESTION DSAJV'!I132,\" \")","v":0},{"$f":"IFERROR('[6]GESTION DSAJV'!J132,\" \")","v":0},null,""]
[null,null,null,null,{"$f":"IFERROR('[6]GESTION DSAJV'!H133,\" \")","v":0},{"$f":"IFERROR('[6]GESTION DSAJV'!I133,\" \")","v":0},{"$f":"IFERROR('[6]GESTION DSAJV'!J133,\" \")","v":0},null,""]
[null,null,null,null,{"$f":"IFERROR('[6]GESTION DSAJV'!H134,\" \")","v":0},{"$f":"IFERROR('[6]GESTION DSAJV'!I134,\" \")","v":0},{"$f":"IFERROR('[6]GESTION DSAJV'!J134,\" \")","v":0},null,{"$f":"IFERROR(H134/G134,\"\")","v":""}]
[null,null,null,null,{"$f":"IFERROR('[6]GESTION DSAJV'!H135,\" \")","v":0},{"$f":"IFERROR('[6]GESTION DSAJV'!I135,\" \")","v":0},{"$f":"IFERROR('[6]GESTION DSAJV'!J135,\" \")","v":0},null,""]
[null,null,"3. Fortalecer el Sistema integrado de Gestión de la Rama, orientado a la implementación y certificación de las normas antisoborno.","1. Gestionar el desarrollo de las competencias, la toma de conciencia , la cultura  organizacional  y el compromiso de los  servidores judiciales, contratistas, practicantes y  judicantes de contribuir a generar valor público en la administración de justicia, en el marco de  cumplimiento de los requisitos  aplicables y el comportamiento ético.\n3. Fomentar la transparencia y la participación generando lineamientos y promoviendo la rendición de cuentas ,la consulta, reporte y planteamiento de inquietudes en relación con las decisiones y aspectos del SIGCMA.",{"$f":"IFERROR('[6]GESTION DSAJV'!H136,\" \")","v":0},{"$f":"IFERROR('[6]GESTION DSAJV'!I136,\" \")","v":0},{"$f":"IFERROR('[6]GESTION DSAJV'!J136,\" \")","v":0},null,""]
[null,null,null,null,{"$f":"IFERROR('[6]GESTION DSAJV'!H137,\" \")","v":0},{"$f":"IFERROR('[6]GESTION DSAJV'!I137,\" \")","v":0},{"$f":"IFERROR('[6]GESTION DSAJV'!J137,\" \")","v":0},null,""]
[null,null,null,null,{"$f":"IFERROR('[6]GESTION DSAJV'!H138,\" \")","v":0},{"$f":"IFERROR('[6]GESTION DSAJV'!I138,\" \")","v":0},{"$f":"IFERROR('[6]GESTION DSAJV'!J138,\" \")","v":0},null,""]
[null,null,null,null,{"$f":"IFERROR('[6]GESTION DSAJV'!H139,\" \")","v":0},{"$f":"IFERROR('[6]GESTION DSAJV'!I139,\" \")","v":0},{"$f":"IFERROR('[6]GESTION DSAJV'!J139,\" \")","v":0},null,""]
[null,null,null,null,{"$f":"IFERROR('[6]GESTION DSAJV'!H140,\" \")","v":0},{"$f":"IFERROR('[6]GESTION DSAJV'!I140,\" \")","v":0},{"$f":"IFERROR('[6]GESTION DSAJV'!J140,\" \")","v":0},null,""]
[null,null,null,null,{"$f":"IFERROR('[6]GESTION DSAJV'!H141,\" \")","v":0},{"$f":"IFERROR('[6]GESTION DSAJV'!I141,\" \")","v":0},{"$f":"IFERROR('[6]GESTION DSAJV'!J141,\" \")","v":0},null,""]
[null,null,null,null,{"$f":"IFERROR('[6]GESTION DSAJV'!H142,\" \")","v":0},{"$f":"IFERROR('[6]GESTION DSAJV'!I142,\" \")","v":0},{"$f":"IFERROR('[6]GESTION DSAJV'!J142,\" \")","v":0},null,""]
[null,null,null,null,{"$f":"IFERROR('[6]GESTION DSAJV'!H143,\" \")","v":0},{"$f":"IFERROR('[6]GESTION DSAJV'!I143,\" \")","v":0},{"$f":"IFERROR('[6]GESTION DSAJV'!J143,\" \")","v":0},null,""]
[null,null,null,null,{"$f":"IFERROR('[6]GESTION DSAJV'!H144,\" \")","v":0},{"$f":"IFERROR('[6]GESTION DSAJV'!I144,\" \")","v":0},{"$f":"IFERROR('[6]GESTION DSAJV'!J144,\" \")","v":0},null,""]
[null,null,null,null,{"$f":"IFERROR('[6]GESTION DSAJV'!H145,\" \")","v":0},{"$f":"IFERROR('[6]GESTION DSAJV'!I145,\" \")","v":0},{"$f":"IFERROR('[6]GESTION DSAJV'!J145,\" \")","v":0},null,""]
[null,null,"4. Aumentar la confianza, la cercanía y acceso a los servicios de la Rama Judicial a través, entre otros, de una comunicación clara y asertiva con la ciudadanía.","3. Fomentar la transparencia y la participación generando lineamientos y promoviendo la rendición de cuentas ,la consulta, reporte y planteamiento de inquietudes en relación con las decisiones y aspectos del SIGCMA.",{"$f":"IFERROR('[6]GESTION DSAJV'!H146,\" \")","v":0},{"$f":"IFERROR('[6]GESTION DSAJV'!I146,\" \")","v":0},{"$f":"IFERROR('[6]GESTION DSAJV'!J146,\" \")","v":0},null,""]
[null,null,null,null,{"$f":"IFERROR('[6]GESTION DSAJV'!H147,\" \")","v":0},{"$f":"IFERROR('[6]GESTION DSAJV'!I147,\" \")","v":0},{"$f":"IFERROR('[6]GESTION DSAJV'!J147,\" \")","v":0},null,""]
[null,null,null,null,{"$f":"IFERROR('[6]GESTION DSAJV'!H148,\" \")","v":0},{"$f":"IFERROR('[6]GESTION DSAJV'!I148,\" \")","v":0},{"$f":"IFERROR('[6]GESTION DSAJV'!J148,\" \")","v":0},null,""]
[null,null,null,null,{"$f":"IFERROR('[6]GESTION DSAJV'!H149,\" \")","v":0},{"$f":"IFERROR('[6]GESTION DSAJV'!I149,\" \")","v":0},{"$f":"IFERROR('[6]GESTION DSAJV'!J149,\" \")","v":0},null,""]
[null,null,null,null,{"$f":"IFERROR('[6]GESTION DSAJV'!H150,\" \")","v":0},{"$f":"IFERROR('[6]GESTION DSAJV'!I150,\" \")","v":0},{"$f":"IFERROR('[6]GESTION DSAJV'!J150,\" \")","v":0},null,""]
[null,null,null,null,{"$f":"IFERROR('[6]GESTION DSAJV'!H151,\" \")","v":0},{"$f":"IFERROR('[6]GESTION DSAJV'!I151,\" \")","v":0},{"$f":"IFERROR('[6]GESTION DSAJV'!J151,\" \")","v":0},null,""]
[null,null,null,null,{"$f":"IFERROR('[6]GESTION DSAJV'!H152,\" \")","v":0},{"$f":"IFERROR('[6]GESTION DSAJV'!I152,\" \")","v":0},{"$f":"IFERROR('[6]GESTION DSAJV'!J152,\" \")","v":0},null,""]
[null,null,null,null,{"$f":"IFERROR('[6]GESTION DSAJV'!H153,\" \")","v":0},{"$f":"IFERROR('[6]GESTION DSAJV'!I153,\" \")","v":0},{"$f":"IFERROR('[6]GESTION DSAJV'!J153,\" \")","v":0},null,""]
[null,null,null,null,{"$f":"IFERROR('[6]GESTION DSAJV'!H154,\" \")","v":0},{"$f":"IFERROR('[6]GESTION DSAJV'!I154,\" \")","v":0},{"$f":"IFERROR('[6]GESTION DSAJV'!J154,\" \")","v":0},null,""]
[null,null,null,null,{"$f":"IFERROR('[6]GESTION DSAJV'!H155,\" \")","v":0},{"$f":"IFERROR('[6]GESTION DSAJV'!I155,\" \")","v":0},{"$f":"IFERROR('[6]GESTION DSAJV'!J155,\" \")","v":0},null,""]
[null,null,"5. Prevenir fenómenos asociados con actos de corrupción en la Rama Judicial y reducir las experiencias de corrupción de usuarios y servidores judiciales.",null,{"$f":"IFERROR('[6]GESTION DSAJV'!H156,\" \")","v":0},{"$f":"IFERROR('[6]GESTION DSAJV'!I156,\" \")","v":0},{"$f":"IFERROR('[6]GESTION DSAJV'!J156,\" \")","v":0},null,""]
[null,null,null,null,{"$f":"IFERROR('[6]GESTION DSAJV'!H157,\" \")","v":0},{"$f":"IFERROR('[6]GESTION DSAJV'!I157,\" \")","v":0},{"$f":"IFERROR('[6]GESTION DSAJV'!J157,\" \")","v":0},null,""]
[null,null,null,null,{"$f":"IFERROR('[6]GESTION DSAJV'!H158,\" \")","v":0},{"$f":"IFERROR('[6]GESTION DSAJV'!I158,\" \")","v":0},{"$f":"IFERROR('[6]GESTION DSAJV'!J158,\" \")","v":0},null,""]
[null,null,null,null,{"$f":"IFERROR('[6]GESTION DSAJV'!H159,\" \")","v":0},{"$f":"IFERROR('[6]GESTION DSAJV'!I159,\" \")","v":0},{"$f":"IFERROR('[6]GESTION DSAJV'!J159,\" \")","v":0},null,""]
[null,null,null,null,{"$f":"IFERROR('[6]GESTION DSAJV'!H160,\" \")","v":0},{"$f":"IFERROR('[6]GESTION DSAJV'!I160,\" \")","v":0},{"$f":"IFERROR('[6]GESTION DSAJV'!J160,\" \")","v":0},null,""]
[null,null,null,null,{"$f":"IFERROR('[6]GESTION DSAJV'!H161,\" \")","v":0},{"$f":"IFERROR('[6]GESTION DSAJV'!I161,\" \")","v":0},{"$f":"IFERROR('[6]GESTION DSAJV'!J161,\" \")","v":0},null,""]
[null,null,null,null,{"$f":"IFERROR('[6]GESTION DSAJV'!H162,\" \")","v":0},{"$f":"IFERROR('[6]GESTION DSAJV'!I162,\" \")","v":0},{"$f":"IFERROR('[6]GESTION DSAJV'!J162,\" \")","v":0},null,""]
[null,null,null,null,{"$f":"IFERROR('[6]GESTION DSAJV'!H163,\" \")","v":0},{"$f":"IFERROR('[6]GESTION DSAJV'!I163,\" \")","v":0},{"$f":"IFERROR('[6]GESTION DSAJV'!J163,\" \")","v":0},null,""]
[null,null,null,null,{"$f":"IFERROR('[6]GESTION DSAJV'!H164,\" \")","v":0},{"$f":"IFERROR('[6]GESTION DSAJV'!I164,\" \")","v":0},{"$f":"IFERROR('[6]GESTION DSAJV'!J164,\" \")","v":0},null,""]
[null,null,null,null,{"$f":"IFERROR('[6]GESTION DSAJV'!H165,\" \")","v":0},{"$f":"IFERROR('[6]GESTION DSAJV'!I165,\" \")","v":0},{"$f":"IFERROR('[6]GESTION DSAJV'!J165,\" \")","v":0},null,""]
[null,null,"6. Promover la rendición de cuentas y la colaboración real con la ciudadanía como fundamento para diseñar acciones de mejoramiento del acceso a la justicia.",null,{"$f":"IFERROR('[6]GESTION DSAJV'!H166,\" \")","v":0},{"$f":"IFERROR('[6]GESTION DSAJV'!I166,\" \")","v":0},{"$f":"IFERROR('[6]GESTION DSAJV'!J166,\" \")","v":0},null,""]
[null,null,null,null,{"$f":"IFERROR('[6]GESTION DSAJV'!H167,\" \")","v":0},{"$f":"IFERROR('[6]GESTION DSAJV'!I167,\" \")","v":0},{"$f":"IFERROR('[6]GESTION DSAJV'!J167,\" \")","v":0},null,""]
[null,null,null,null,{"$f":"IFERROR('[6]GESTION DSAJV'!H168,\" \")","v":0},{"$f":"IFERROR('[6]GESTION DSAJV'!I168,\" \")","v":0},{"$f":"IFERROR('[6]GESTION DSAJV'!J168,\" \")","v":0},null,""]
[null,null,null,null,{"$f":"IFERROR('[6]GESTION DSAJV'!H169,\" \")","v":0},{"$f":"IFERROR('[6]GESTION DSAJV'!I169,\" \")","v":0},{"$f":"IFERROR('[6]GESTION DSAJV'!J169,\" \")","v":0},null,""]
[null,null,null,null,{"$f":"IFERROR('[6]GESTION DSAJV'!H170,\" \")","v":0},{"$f":"IFERROR('[6]GESTION DSAJV'!I170,\" \")","v":0},{"$f":"IFERROR('[6]GESTION DSAJV'!J170,\" \")","v":0},null,""]
[null,null,null,null,{"$f":"IFERROR('[6]GESTION DSAJV'!H171,\" \")","v":0},{"$f":"IFERROR('[6]GESTION DSAJV'!I171,\" \")","v":0},{"$f":"IFERROR('[6]GESTION DSAJV'!J171,\" \")","v":0},null,""]
[null,null,null,null,{"$f":"IFERROR('[6]GESTION DSAJV'!H172,\" \")","v":0},{"$f":"IFERROR('[6]GESTION DSAJV'!I172,\" \")","v":0},{"$f":"IFERROR('[6]GESTION DSAJV'!J172,\" \")","v":0},null,""]
[null,null,null,null,{"$f":"IFERROR('[6]GESTION DSAJV'!H173,\" \")","v":0},{"$f":"IFERROR('[6]GESTION DSAJV'!I173,\" \")","v":0},{"$f":"IFERROR('[6]GESTION DSAJV'!J173,\" \")","v":0},null,""]
[null,null,null,null,{"$f":"IFERROR('[6]GESTION DSAJV'!H174,\" \")","v":0},{"$f":"IFERROR('[6]GESTION DSAJV'!I174,\" \")","v":0},{"$f":"IFERROR('[6]GESTION DSAJV'!J174,\" \")","v":0},null,""]
[null,null,null,null,{"$f":"IFERROR('[6]GESTION DSAJV'!H175,\" \")","v":0},{"$f":"IFERROR('[6]GESTION DSAJV'!I175,\" \")","v":0},{"$f":"IFERROR('[6]GESTION DSAJV'!J175,\" \")","v":0},null,""]
[null,null,"7. Continuar la consolidación del SIGCMA, a través de los procesos de formación en modelos de gestión, logrando la implementación y ampliación de este en los esquemas certificados de manera gradual, teniendo en cuenta las capacidades de los diferentes despachos judiciales y dependencias de la Rama Judicial y articulando el enfoque de Arquitectura Empresarial para el desarrollo del PETD a través de la gestión del conocimiento para la gestión del cambio propendiendo por una cultura de la calidad, la transparencia, la rendición de cuentas, la anticorrupción y el antisoborno","1. Gestionar el desarrollo de las competencias, la toma de conciencia , la cultura  organizacional  y el compromiso de los  servidores judiciales, contratistas, practicantes y  judicantes de contribuir a generar valor público en la administración de justicia, en el marco de  cumplimiento de los requisitos  aplicables y el comportamiento ético.\n4. Hacer un uso racional de los recursos naturales aplicando los principios y fases de la Economía Circular, para prevenir, mitigar y controlar los impactos ambientales.",{"$f":"IFERROR('[6]GESTION DSAJV'!H176,\" \")","v":0},{"$f":"IFERROR('[6]GESTION DSAJV'!I176,\" \")","v":0},{"$f":"IFERROR('[6]GESTION DSAJV'!J176,\" \")","v":0},null,""]
[null,null,null,null,{"$f":"IFERROR('[6]GESTION DSAJV'!H177,\" \")","v":0},{"$f":"IFERROR('[6]GESTION DSAJV'!I177,\" \")","v":0},{"$f":"IFERROR('[6]GESTION DSAJV'!J177,\" \")","v":0},null,""]
[null,null,null,null,{"$f":"IFERROR('[6]GESTION DSAJV'!H178,\" \")","v":0},{"$f":"IFERROR('[6]GESTION DSAJV'!I178,\" \")","v":0},{"$f":"IFERROR('[6]GESTION DSAJV'!J178,\" \")","v":0},null,""]
[null,null,null,null,{"$f":"IFERROR('[6]GESTION DSAJV'!H179,\" \")","v":0},{"$f":"IFERROR('[6]GESTION DSAJV'!I179,\" \")","v":0},{"$f":"IFERROR('[6]GESTION DSAJV'!J179,\" \")","v":0},null,""]
[null,null,null,null,{"$f":"IFERROR('[6]GESTION DSAJV'!H180,\" \")","v":0},{"$f":"IFERROR('[6]GESTION DSAJV'!I180,\" \")","v":0},{"$f":"IFERROR('[6]GESTION DSAJV'!J180,\" \")","v":0},null,""]
[null,null,null,null,{"$f":"IFERROR('[6]GESTION DSAJV'!H181,\" \")","v":0},{"$f":"IFERROR('[6]GESTION DSAJV'!I181,\" \")","v":0},{"$f":"IFERROR('[6]GESTION DSAJV'!J181,\" \")","v":0},null,""]
[null,null,null,null,{"$f":"IFERROR('[6]GESTION DSAJV'!H182,\" \")","v":0},{"$f":"IFERROR('[6]GESTION DSAJV'!I182,\" \")","v":0},{"$f":"IFERROR('[6]GESTION DSAJV'!J182,\" \")","v":0},null,""]
[null,null,null,null,{"$f":"IFERROR('[6]GESTION DSAJV'!H183,\" \")","v":0},{"$f":"IFERROR('[6]GESTION DSAJV'!I183,\" \")","v":0},{"$f":"IFERROR('[6]GESTION DSAJV'!J183,\" \")","v":0},null,""]
[null,null,null,null,{"$f":"IFERROR('[6]GESTION DSAJV'!H184,\" \")","v":0},{"$f":"IFERROR('[6]GESTION DSAJV'!I184,\" \")","v":0},{"$f":"IFERROR('[6]GESTION DSAJV'!J184,\" \")","v":0},null,""]
[null,null,null,null,{"$f":"IFERROR('[6]GESTION DSAJV'!H185,\" \")","v":0},{"$f":"IFERROR('[6]GESTION DSAJV'!I185,\" \")","v":0},{"$f":"IFERROR('[6]GESTION DSAJV'!J185,\" \")","v":0},null,""]
["4. Talento Humano","Talento Humano: Fortalecer el talento humano en la Rama Judicial para que sea eficiente, capacitado y realice su labor en ambientes saludables y seguros. Ampliar la cobertura de la carrera judicial y mejorar la oferta de formación, que esté disponible para todos los servidores judiciales e impacte positivamente el servicio de justicia y responda a las necesidades reales del ejercicio de la función judicial.","1. Ampliar la cobertura de la carrera judicial optimizando los procesos de los concursos de méritos y propender por mitigar su litigiosidad.","1. Gestionar el desarrollo de las competencias, la toma de conciencia , la cultura  organizacional  y el compromiso de los  servidores judiciales, contratistas, practicantes y  judicantes de contribuir a generar valor público en la administración de justicia, en el marco de  cumplimiento de los requisitos  aplicables y el comportamiento ético.",{"$f":"IFERROR('[6]GESTION DSAJV'!H186,\" \")","v":0},{"$f":"IFERROR('[6]GESTION DSAJV'!I186,\" \")","v":0},{"$f":"IFERROR('[6]GESTION DSAJV'!J186,\" \")","v":0},null,""]
[null,null,null,null,{"$f":"IFERROR('[6]GESTION DSAJV'!H187,\" \")","v":0},{"$f":"IFERROR('[6]GESTION DSAJV'!I187,\" \")","v":0},{"$f":"IFERROR('[6]GESTION DSAJV'!J187,\" \")","v":0},null,""]
[null,null,null,null,{"$f":"IFERROR('[6]GESTION DSAJV'!H188,\" \")","v":0},{"$f":"IFERROR('[6]GESTION DSAJV'!I188,\" \")","v":0},{"$f":"IFERROR('[6]GESTION DSAJV'!J188,\" \")","v":0},null,""]
[null,null,null,null,{"$f":"IFERROR('[6]GESTION DSAJV'!H189,\" \")","v":0},{"$f":"IFERROR('[6]GESTION DSAJV'!I189,\" \")","v":0},{"$f":"IFERROR('[6]GESTION DSAJV'!J189,\" \")","v":0},null,""]
[null,null,null,null,{"$f":"IFERROR('[6]GESTION DSAJV'!H190,\" \")","v":0},{"$f":"IFERROR('[6]GESTION DSAJV'!I190,\" \")","v":0},{"$f":"IFERROR('[6]GESTION DSAJV'!J190,\" \")","v":0},null,""]
[null,null,null,null,{"$f":"IFERROR('[6]GESTION DSAJV'!H191,\" \")","v":0},{"$f":"IFERROR('[6]GESTION DSAJV'!I191,\" \")","v":0},{"$f":"IFERROR('[6]GESTION DSAJV'!J191,\" \")","v":0},null,""]
[null,null,null,null,{"$f":"IFERROR('[6]GESTION DSAJV'!H192,\" \")","v":0},{"$f":"IFERROR('[6]GESTION DSAJV'!I192,\" \")","v":0},{"$f":"IFERROR('[6]GESTION DSAJV'!J192,\" \")","v":0},null,""]
[null,null,null,null,{"$f":"IFERROR('[6]GESTION DSAJV'!H193,\" \")","v":0},{"$f":"IFERROR('[6]GESTION DSAJV'!I193,\" \")","v":0},{"$f":"IFERROR('[6]GESTION DSAJV'!J193,\" \")","v":0},null,""]
[null,null,null,null,{"$f":"IFERROR('[6]GESTION DSAJV'!H194,\" \")","v":0},{"$f":"IFERROR('[6]GESTION DSAJV'!I194,\" \")","v":0},{"$f":"IFERROR('[6]GESTION DSAJV'!J194,\" \")","v":0},null,""]
[null,null,null,null,{"$f":"IFERROR('[6]GESTION DSAJV'!H195,\" \")","v":0},{"$f":"IFERROR('[6]GESTION DSAJV'!I195,\" \")","v":0},{"$f":"IFERROR('[6]GESTION DSAJV'!J195,\" \")","v":0},null,""]
[null,null,"2. Impactar la función y servicios que presta la Rama Judicial, a través de una formación integral desde una visión de gestión del conocimiento, relacionada con los problemas de la justicia y los problemas de gestión de quienes administran los recursos de la justicia, y potenciando el uso de medios virtuales.",null,{"$f":"IFERROR('[6]GESTION DSAJV'!H196,\" \")","v":0},{"$f":"IFERROR('[6]GESTION DSAJV'!I196,\" \")","v":0},{"$f":"IFERROR('[6]GESTION DSAJV'!J196,\" \")","v":0},null,""]
[null,null,null,null,{"$f":"IFERROR('[6]GESTION DSAJV'!H197,\" \")","v":0},{"$f":"IFERROR('[6]GESTION DSAJV'!I197,\" \")","v":0},{"$f":"IFERROR('[6]GESTION DSAJV'!J197,\" \")","v":0},null,""]
[null,null,null,null,{"$f":"IFERROR('[6]GESTION DSAJV'!H198,\" \")","v":0},{"$f":"IFERROR('[6]GESTION DSAJV'!I198,\" \")","v":0},{"$f":"IFERROR('[6]GESTION DSAJV'!J198,\" \")","v":0},null,{"$f":"IFERROR(H198/G198,\"\")","v":""}]
[null,null,null,null,{"$f":"IFERROR('[6]GESTION DSAJV'!H199,\" \")","v":0},{"$f":"IFERROR('[6]GESTION DSAJV'!I199,\" \")","v":0},{"$f":"IFERROR('[6]GESTION DSAJV'!J199,\" \")","v":0},null,""]
[null,null,null,null,{"$f":"IFERROR('[6]GESTION DSAJV'!H200,\" \")","v":0},{"$f":"IFERROR('[6]GESTION DSAJV'!I200,\" \")","v":0},{"$f":"IFERROR('[6]GESTION DSAJV'!J200,\" \")","v":0},null,""]
[null,null,null,null,{"$f":"IFERROR('[6]GESTION DSAJV'!H201,\" \")","v":0},{"$f":"IFERROR('[6]GESTION DSAJV'!I201,\" \")","v":0},{"$f":"IFERROR('[6]GESTION DSAJV'!J201,\" \")","v":0},null,""]
[null,null,null,null,{"$f":"IFERROR('[6]GESTION DSAJV'!H202,\" \")","v":0},{"$f":"IFERROR('[6]GESTION DSAJV'!I202,\" \")","v":0},{"$f":"IFERROR('[6]GESTION DSAJV'!J202,\" \")","v":0},null,""]
[null,null,null,null,{"$f":"IFERROR('[6]GESTION DSAJV'!H203,\" \")","v":0},{"$f":"IFERROR('[6]GESTION DSAJV'!I203,\" \")","v":0},{"$f":"IFERROR('[6]GESTION DSAJV'!J203,\" \")","v":0},null,""]
[null,null,null,null,{"$f":"IFERROR('[6]GESTION DSAJV'!H204,\" \")","v":0},{"$f":"IFERROR('[6]GESTION DSAJV'!I204,\" \")","v":0},{"$f":"IFERROR('[6]GESTION DSAJV'!J204,\" \")","v":0},null,""]
[null,null,null,null,{"$f":"IFERROR('[6]GESTION DSAJV'!H205,\" \")","v":0},{"$f":"IFERROR('[6]GESTION DSAJV'!I205,\" \")","v":0},{"$f":"IFERROR('[6]GESTION DSAJV'!J205,\" \")","v":0},null,""]
[null,null,"3. Promover la incorporación de la perspectiva de género y el enfoque diferencial en los fallos judiciales y en la atención a los ciudadanos, la administración de la Rama Judicial, la administración de la carrera judicial y la elaboración de listas para altas Cortes. ",null,{"$f":"IFERROR('[6]GESTION DSAJV'!H206,\" \")","v":0},{"$f":"IFERROR('[6]GESTION DSAJV'!I206,\" \")","v":0},{"$f":"IFERROR('[6]GESTION DSAJV'!J206,\" \")","v":0},null,""]
[null,null,null,null,{"$f":"IFERROR('[6]GESTION DSAJV'!H207,\" \")","v":0},{"$f":"IFERROR('[6]GESTION DSAJV'!I207,\" \")","v":0},{"$f":"IFERROR('[6]GESTION DSAJV'!J207,\" \")","v":0},null,""]
[null,null,null,null,{"$f":"IFERROR('[6]GESTION DSAJV'!H208,\" \")","v":0},{"$f":"IFERROR('[6]GESTION DSAJV'!I208,\" \")","v":0},{"$f":"IFERROR('[6]GESTION DSAJV'!J208,\" \")","v":0},null,""]
[null,null,null,null,{"$f":"IFERROR('[6]GESTION DSAJV'!H209,\" \")","v":0},{"$f":"IFERROR('[6]GESTION DSAJV'!I209,\" \")","v":0},{"$f":"IFERROR('[6]GESTION DSAJV'!J209,\" \")","v":0},null,""]
[null,null,null,null,{"$f":"IFERROR('[6]GESTION DSAJV'!H210,\" \")","v":0},{"$f":"IFERROR('[6]GESTION DSAJV'!I210,\" \")","v":0},{"$f":"IFERROR('[6]GESTION DSAJV'!J210,\" \")","v":0},null,""]
[null,null,null,null,{"$f":"IFERROR('[6]GESTION DSAJV'!H211,\" \")","v":0},{"$f":"IFERROR('[6]GESTION DSAJV'!I211,\" \")","v":0},{"$f":"IFERROR('[6]GESTION DSAJV'!J211,\" \")","v":0},null,""]
[null,null,null,null,{"$f":"IFERROR('[6]GESTION DSAJV'!H212,\" \")","v":0},{"$f":"IFERROR('[6]GESTION DSAJV'!I212,\" \")","v":0},{"$f":"IFERROR('[6]GESTION DSAJV'!J212,\" \")","v":0},null,""]
[null,null,null,null,{"$f":"IFERROR('[6]GESTION DSAJV'!H213,\" \")","v":0},{"$f":"IFERROR('[6]GESTION DSAJV'!I213,\" \")","v":0},{"$f":"IFERROR('[6]GESTION DSAJV'!J213,\" \")","v":0},null,""]
[null,null,null,null,{"$f":"IFERROR('[6]GESTION DSAJV'!H214,\" \")","v":0},{"$f":"IFERROR('[6]GESTION DSAJV'!I214,\" \")","v":0},{"$f":"IFERROR('[6]GESTION DSAJV'!J214,\" \")","v":0},null,""]
[null,null,null,null,{"$f":"IFERROR('[6]GESTION DSAJV'!H215,\" \")","v":0},{"$f":"IFERROR('[6]GESTION DSAJV'!I215,\" \")","v":0},{"$f":"IFERROR('[6]GESTION DSAJV'!J215,\" \")","v":0},null,""]
[null,null,"4. Desarrollar en los servidores judiciales y demás grupos de valor relevantes las competencias necesarias para la efectividad de la transformación digital de modo que puedan, entre otros, utilizar con solvencia las herramientas digitales dispuestas para sus respectivas funciones. Además, fortalecer y actualizar los conocimientos del personal a cargo de la gestión de proyectos de tecnología.",null,{"$f":"IFERROR('[6]GESTION DSAJV'!H216,\" \")","v":0},{"$f":"IFERROR('[6]GESTION DSAJV'!I216,\" \")","v":0},{"$f":"IFERROR('[6]GESTION DSAJV'!J216,\" \")","v":0},null,""]
[null,null,null,null,{"$f":"IFERROR('[6]GESTION DSAJV'!H217,\" \")","v":0},{"$f":"IFERROR('[6]GESTION DSAJV'!I217,\" \")","v":0},{"$f":"IFERROR('[6]GESTION DSAJV'!J217,\" \")","v":0},null,""]
[null,null,null,null,{"$f":"IFERROR('[6]GESTION DSAJV'!H218,\" \")","v":0},{"$f":"IFERROR('[6]GESTION DSAJV'!I218,\" \")","v":0},{"$f":"IFERROR('[6]GESTION DSAJV'!J218,\" \")","v":0},null,""]
[null,null,null,null,{"$f":"IFERROR('[6]GESTION DSAJV'!H219,\" \")","v":0},{"$f":"IFERROR('[6]GESTION DSAJV'!I219,\" \")","v":0},{"$f":"IFERROR('[6]GESTION DSAJV'!J219,\" \")","v":0},null,""]
[null,null,null,null,{"$f":"IFERROR('[6]GESTION DSAJV'!H220,\" \")","v":0},{"$f":"IFERROR('[6]GESTION DSAJV'!I220,\" \")","v":0},{"$f":"IFERROR('[6]GESTION DSAJV'!J220,\" \")","v":0},null,""]
[null,null,null,null,{"$f":"IFERROR('[6]GESTION DSAJV'!H221,\" \")","v":0},{"$f":"IFERROR('[6]GESTION DSAJV'!I221,\" \")","v":0},{"$f":"IFERROR('[6]GESTION DSAJV'!J221,\" \")","v":0},null,""]
[null,null,null,null,{"$f":"IFERROR('[6]GESTION DSAJV'!H222,\" \")","v":"Medición de la participación en los programas de bienestar social y desarrollo de competencias"},{"$f":"IFERROR('[6]GESTION DSAJV'!I222,\" \")","v":"Entregable"},{"$f":"IFERROR('[6]GESTION DSAJV'!J222,\" \")","v":70},null,0]
[null,null,null,null,{"$f":"IFERROR('[6]GESTION DSAJV'!H223,\" \")","v":"Medición de los reclamos justificados del cliente interno para el pago de nómina y prestaciones sociales"},{"$f":"IFERROR('[6]GESTION DSAJV'!I223,\" \")","v":"Entregable"},{"$f":"IFERROR('[6]GESTION DSAJV'!J223,\" \")","v":0},null,"","Se continua con fallas en el aplicativo EFINOMINA, algunos modulos como liquidación definitiva de prestaciones sociales y cesantias y liquidación de seguridad social no han entrado en funcionamiento al 100%.","En el segundo trimestre se presentaron 53 reclamos justificados, de un total de 26,027 registros de nómina. De lo anterior obtiene que se un  0,2% de reclamos por novedades de nómina."]
[null,null,null,null,{"$f":"IFERROR('[6]GESTION DSAJV'!H224,\" \")","v":"Medición del nivel de satisfacción del cliente interno respecto a las actividades de Gestión Humana"},{"$f":"IFERROR('[6]GESTION DSAJV'!I224,\" \")","v":"Entregable"},{"$f":"IFERROR('[6]GESTION DSAJV'!J224,\" \")","v":0},null,""]
[null,null,null,null,{"$f":"IFERROR('[6]GESTION DSAJV'!H225,\" \")","v":"Medición de la eficacia en la proyección de recursos para el pago de nomina"},{"$f":"IFERROR('[6]GESTION DSAJV'!I225,\" \")","v":"Entregable"},{"$f":"IFERROR('[6]GESTION DSAJV'!J225,\" \")","v":0},null,"",".","Durante el segundo trimestre se presentó una eficacia del 98.65%, en la proyección del presupuesto requerido para el pago de nómina , toda vez que se proyectó la suma de $25.450.000.000 y se realizó un pago efectivo de $25.106.706.124, basados en los datos historicos y en las novedades allegadas de manera anticipada."]
[null,null,"5. Promover el bienestar de todos los servidores judiciales a través de la implementación de un sistema que contemple los diferentes niveles de estrategias y acciones necesarios para mejorar el clima laboral, la salud física y mental y la calidad del tiempo de descanso.","5. Generar espacios de trabajo seguros y saludables que contribuyan a minimizar los  incidentes, accidentes y enfermedades laborales derivados de las condiciones y actos  inseguros y fomentar  el autocuidado, los  estilos de vida y el trabajo saludable en los servidores judiciales, contratistas, judicantes y practicantes",{"$f":"IFERROR('[6]GESTION DSAJV'!H226,\" \")","v":"Medición de la eficacia en la proyección de recursos para el pago de cesantías"},{"$f":"IFERROR('[6]GESTION DSAJV'!I226,\" \")","v":"Entregable"},{"$f":"IFERROR('[6]GESTION DSAJV'!J226,\" \")","v":0},null,""]
[null,null,null,null,{"$f":"IFERROR('[6]GESTION DSAJV'!H227,\" \")","v":"Ejecución de los recursos de inversion de proyectos de bienestar social y seguridad y salud en el trabajo para el mejoramiento de las condiciones laborales de los servidores judiciales, en cuanto al manejo de los factores de riesgo psicosociales"},{"$f":"IFERROR('[6]GESTION DSAJV'!I227,\" \")","v":"Meta cuantificable"},{"$f":"IFERROR('[6]GESTION DSAJV'!J227,\" \")","v":430880619},null,0]
[null,null,null,null,{"$f":"IFERROR('[6]GESTION DSAJV'!H228,\" \")","v":"Cumplimiento del plan de trabajo del SG SST"},{"$f":"IFERROR('[6]GESTION DSAJV'!I228,\" \")","v":"Meta cuantificable"},{"$f":"IFERROR('[6]GESTION DSAJV'!J228,\" \")","v":1200},null,0]
[null,null,null,null,{"$f":"IFERROR('[6]GESTION DSAJV'!H229,\" \")","v":"Cobertura del plan de trabajo del SG SST"},{"$f":"IFERROR('[6]GESTION DSAJV'!I229,\" \")","v":"Entregable"},{"$f":"IFERROR('[6]GESTION DSAJV'!J229,\" \")","v":0},null,""]
[null,null,null,null,{"$f":"IFERROR('[6]GESTION DSAJV'!H230,\" \")","v":"Frecuencia de accidentalidad laboral"},{"$f":"IFERROR('[6]GESTION DSAJV'!I230,\" \")","v":"Entregable"},{"$f":"IFERROR('[6]GESTION DSAJV'!J230,\" \")","v":0},null,""]
[null,null,null,null,{"$f":"IFERROR('[6]GESTION DSAJV'!H231,\" \")","v":"Severidad de accidentalidad laboral"},{"$f":"IFERROR('[6]GESTION DSAJV'!I231,\" \")","v":"Entregable"},{"$f":"IFERROR('[6]GESTION DSAJV'!J231,\" \")","v":0},null,""]
[null,null,null,null,{"$f":"IFERROR('[6]GESTION DSAJV'!H232,\" \")","v":"Proporción de accidentes de trabajo mortales"},{"$f":"IFERROR('[6]GESTION DSAJV'!I232,\" \")","v":"Entregable"},{"$f":"IFERROR('[6]GESTION DSAJV'!J232,\" \")","v":0},null,""]
[null,null,null,null,{"$f":"IFERROR('[6]GESTION DSAJV'!H233,\" \")","v":"Incidencia de enfermedad laboral"},{"$f":"IFERROR('[6]GESTION DSAJV'!I233,\" \")","v":"Entregable"},{"$f":"IFERROR('[6]GESTION DSAJV'!J233,\" \")","v":0},null,""]
[null,null,null,null,{"$f":"IFERROR('[6]GESTION DSAJV'!H234,\" \")","v":"Prevalencia de enfermedad laboral"},{"$f":"IFERROR('[6]GESTION DSAJV'!I234,\" \")","v":"Entregable"},{"$f":"IFERROR('[6]GESTION DSAJV'!J234,\" \")","v":0},null,""]
[null,null,null,null,{"$f":"IFERROR('[6]GESTION DSAJV'!H235,\" \")","v":"Ausentismo por incapacidades médicas"},{"$f":"IFERROR('[6]GESTION DSAJV'!I235,\" \")","v":"Entregable"},{"$f":"IFERROR('[6]GESTION DSAJV'!J235,\" \")","v":0},null,""]
["5. Gobernanza, planeación estratégica y capacidad de toma de decisiones","Gobernanza, planeación estratégica y capacidad de toma de decisiones: Fortalecer la gobernanza, la planeación estratégica y la capacidad de toma de decisiones de la Rama Judicial con base en la evidencia empírica y la articulación efectiva con las demás entidades, para que la perspectiva de género y el enfoque diferencial sean transversales en el presente plan. ","1. Implementar un nuevo modelo integrado para la planeación estratégica, el seguimiento y la medición del desempeño institucional.","2. Asegurar  el cumplimiento de los objetivos institucionales, la normatividad aplicable,  la mejora del SIGCMA y la satisfacción de los usuarios, revisando de  forma continua y sistemática la planificación de la gestión y fortaleciendo la administración de riesgos y sus controles.",{"$f":"IFERROR('[6]GESTION DSAJV'!H236,\" \")","v":0},{"$f":"IFERROR('[6]GESTION DSAJV'!I236,\" \")","v":0},{"$f":"IFERROR('[6]GESTION DSAJV'!J236,\" \")","v":0},null,""]
[null,null,null,null,{"$f":"IFERROR('[6]GESTION DSAJV'!H237,\" \")","v":0},{"$f":"IFERROR('[6]GESTION DSAJV'!I237,\" \")","v":0},{"$f":"IFERROR('[6]GESTION DSAJV'!J237,\" \")","v":0},null,""]
[null,null,null,null,{"$f":"IFERROR('[6]GESTION DSAJV'!H238,\" \")","v":0},{"$f":"IFERROR('[6]GESTION DSAJV'!I238,\" \")","v":0},{"$f":"IFERROR('[6]GESTION DSAJV'!J238,\" \")","v":0},null,""]
[null,null,null,null,{"$f":"IFERROR('[6]GESTION DSAJV'!H239,\" \")","v":0},{"$f":"IFERROR('[6]GESTION DSAJV'!I239,\" \")","v":0},{"$f":"IFERROR('[6]GESTION DSAJV'!J239,\" \")","v":0},null,""]
[null,null,null,null,{"$f":"IFERROR('[6]GESTION DSAJV'!H240,\" \")","v":0},{"$f":"IFERROR('[6]GESTION DSAJV'!I240,\" \")","v":0},{"$f":"IFERROR('[6]GESTION DSAJV'!J240,\" \")","v":0},null,""]
[null,null,null,null,{"$f":"IFERROR('[6]GESTION DSAJV'!H241,\" \")","v":0},{"$f":"IFERROR('[6]GESTION DSAJV'!I241,\" \")","v":0},{"$f":"IFERROR('[6]GESTION DSAJV'!J241,\" \")","v":0},null,""]
[null,null,null,null,{"$f":"IFERROR('[6]GESTION DSAJV'!H242,\" \")","v":0},{"$f":"IFERROR('[6]GESTION DSAJV'!I242,\" \")","v":0},{"$f":"IFERROR('[6]GESTION DSAJV'!J242,\" \")","v":0},null,""]
[null,null,null,null,{"$f":"IFERROR('[6]GESTION DSAJV'!H243,\" \")","v":0},{"$f":"IFERROR('[6]GESTION DSAJV'!I243,\" \")","v":0},{"$f":"IFERROR('[6]GESTION DSAJV'!J243,\" \")","v":0},null,""]
[null,null,null,null,{"$f":"IFERROR('[6]GESTION DSAJV'!H244,\" \")","v":0},{"$f":"IFERROR('[6]GESTION DSAJV'!I244,\" \")","v":0},{"$f":"IFERROR('[6]GESTION DSAJV'!J244,\" \")","v":0},null,""]
[null,null,null,null,{"$f":"IFERROR('[6]GESTION DSAJV'!H245,\" \")","v":0},{"$f":"IFERROR('[6]GESTION DSAJV'!I245,\" \")","v":0},{"$f":"IFERROR('[6]GESTION DSAJV'!J245,\" \")","v":0},null,""]
[null,null,"2. Definir e implementar el modelo optimizado de formulación, seguimiento y evaluación de la política pública judicial.",null,{"$f":"IFERROR('[6]GESTION DSAJV'!H246,\" \")","v":0},{"$f":"IFERROR('[6]GESTION DSAJV'!I246,\" \")","v":0},{"$f":"IFERROR('[6]GESTION DSAJV'!J246,\" \")","v":0},null,""]
[null,null,null,null,{"$f":"IFERROR('[6]GESTION DSAJV'!H247,\" \")","v":0},{"$f":"IFERROR('[6]GESTION DSAJV'!I247,\" \")","v":0},{"$f":"IFERROR('[6]GESTION DSAJV'!J247,\" \")","v":0},null,""]
[null,null,null,null,{"$f":"IFERROR('[6]GESTION DSAJV'!H248,\" \")","v":0},{"$f":"IFERROR('[6]GESTION DSAJV'!I248,\" \")","v":0},{"$f":"IFERROR('[6]GESTION DSAJV'!J248,\" \")","v":0},null,""]
[null,null,null,null,{"$f":"IFERROR('[6]GESTION DSAJV'!H249,\" \")","v":0},{"$f":"IFERROR('[6]GESTION DSAJV'!I249,\" \")","v":0},{"$f":"IFERROR('[6]GESTION DSAJV'!J249,\" \")","v":0},null,""]
[null,null,null,null,{"$f":"IFERROR('[6]GESTION DSAJV'!H250,\" \")","v":0},{"$f":"IFERROR('[6]GESTION DSAJV'!I250,\" \")","v":0},{"$f":"IFERROR('[6]GESTION DSAJV'!J250,\" \")","v":0},null,""]
[null,null,null,null,{"$f":"IFERROR('[6]GESTION DSAJV'!H251,\" \")","v":0},{"$f":"IFERROR('[6]GESTION DSAJV'!I251,\" \")","v":0},{"$f":"IFERROR('[6]GESTION DSAJV'!J251,\" \")","v":0},null,""]
[null,null,null,null,{"$f":"IFERROR('[6]GESTION DSAJV'!H252,\" \")","v":0},{"$f":"IFERROR('[6]GESTION DSAJV'!I252,\" \")","v":0},{"$f":"IFERROR('[6]GESTION DSAJV'!J252,\" \")","v":0},null,""]
[null,null,null,null,{"$f":"IFERROR('[6]GESTION DSAJV'!H253,\" \")","v":0},{"$f":"IFERROR('[6]GESTION DSAJV'!I253,\" \")","v":0},{"$f":"IFERROR('[6]GESTION DSAJV'!J253,\" \")","v":0},null,""]
[null,null,null,null,{"$f":"IFERROR('[6]GESTION DSAJV'!H254,\" \")","v":0},{"$f":"IFERROR('[6]GESTION DSAJV'!I254,\" \")","v":0},{"$f":"IFERROR('[6]GESTION DSAJV'!J254,\" \")","v":0},null,""]
[null,null,null,null,{"$f":"IFERROR('[6]GESTION DSAJV'!H255,\" \")","v":0},{"$f":"IFERROR('[6]GESTION DSAJV'!I255,\" \")","v":0},{"$f":"IFERROR('[6]GESTION DSAJV'!J255,\" \")","v":0},null,""]

{"sheet":"GESTION_SEG_1_TRIM DSAJV","index":7,"n_rows":255,"n_cols":11,"rows_kept":255,"cut":false,"hidden":false,"merged":[[205,2,214,2],[215,2,224,2],[225,2,234,2],[225,3,234,3],[235,0,254,0],[235,1,254,1],[235,2,244,2],[235,3,254,3],[245,2,254,2],[145,3,174,3],[155,2,164,2],[165,2,174,2],[175,2,184,2],[175,3,184,3],[185,0,234,0],[185,1,234,1],[185,2,194,2],[185,3,224,3],[195,2,204,2],[105,2,114,2],[115,0,184,0],[115,1,184,1],[115,2,124,2],[115,3,124,3],[125,2,134,2],[125,3,134,3],[135,2,144,2],[135,3,144,3],[145,2,154,2],[45,2,54,2],[45,3,54,3],[55,0,114,0],[55,1,114,1],[55,2,64,2],[55,3,114,3],[65,2,74,2],[75,2,84,2],[85,2,94,2],[95,2,104,2],[5,0,54,0],[5,1,54,1],[5,2,14,2],[5,3,14,3],[15,2,24,2],[15,3,24,3],[25,2,34,2],[25,3,34,3],[35,2,44,2],[35,3,44,3],[1,0,1,10],[2,0,2,3],[2,4,2,9],[2,10,4,10],[3,0,4,1],[3,2,4,2],[3,3,4,3],[3,4,3,9]]}
[]
["CONSEJO SUPERIOR DE LA JUDICATURA \nUNIDADES MISIONALES DEL CONSEJO SUPERIOR DE LA JUDICATURA - \nDIRECCIÓN EJECUTIVA DE ADMINISTRACIÓN JUDICIAL - UNIDADES MISIONALES DE LA DEAJ\nDIRECCIONES SECCIONALES DE ADMINISTRACIÓN JUDICIAL - DEPENDENCIAS JUDICIALES CERTIFICADAS"]
["PLAN SECTORIAL DE DESARROLLO 2023-2026 - OBJETIVOS SIGCMA",null,null,null,null,null,null,null,null,null," ANÁLISIS RESULTADO"]
["OBJETIVO ESTRATÉGICO",null,"OBJETIVO ESPECÍFICO PSD","OBJETIVO ESPECÍFICO SIGCMA","MEDICIÓN DE LA GESTIÓN ANUAL"]
[null,null,null,null,"ACTIVIDADES ","INDIQUE SI ES ENTREGABLE O META CUANTIFICABLE","META ANUAL","AVANCE DE LA META ","NIVEL CUMPLIMIENTO","DIFICULTADES PARA LOGRAR LA META PROPUESTA"]
["1. Acceso e Infraestructura Física","Acceso e Infraestructura Física: Ampliar, en todo el territorio nacional, el acceso a una justicia efectiva, pronta, equitativa e incluyente, reduciendo el atraso y la congestión, de acuerdo con las necesidades de la demanda de justicia por jurisdicción y especialidad, y mejorando la articulación con la justicia restaurativa y terapéutica, y otros mecanismos de solución de conflictos y consolidando una infraestructura física óptima para el acceso a la justicia.","1. Ampliar el acceso a justicia para atender las necesidades jurídicas de los ciudadanos con un enfoque diferencial, de una manera pronta, reduciendo las inequidades y las brechas territoriales de acceso.","2. Asegurar  el cumplimiento de los objetivos institucionales, la normatividad aplicable,  la mejora del SIGCMA y la satisfacción de los usuarios, revisando de  forma continua y sistemática la planificación de la gestión y fortaleciendo la administración de riesgos y sus controles",{"$f":"IFERROR('[6]GESTION DSAJV'!H6,\" \")","v":"Realizar la contratación  y ejecución de proyectos de inversión en infraestructura física de la rama judicial, para mejorar las condiciones de los inmuebles de la rama judicial "},{"$f":"IFERROR('[6]GESTION DSAJV'!I6,\" \")","v":"Entregable"},100,0,{"$f":"IFERROR(H6/G6,\"\")","v":0},null,"Los recursos fueron asignados en el mes de febrero. Se realiza etapa precontractual de planeación"]
[null,null,null,null,{"$f":"IFERROR('[6]GESTION DSAJV'!H7,\" \")","v":"Atender las necesidades de traslado de los servidores judiciales con fines administrativos. "},{"$f":"IFERROR('[6]GESTION DSAJV'!I7,\" \")","v":"Entregable"},100,10,0.1,"No se cuenta con los espacios y áreas suficientes para la atención de la necesidad","Se gestiona lo pertinente para contar con los espacios y áreas necesarias"]
[null,null,null,null,{"$f":"IFERROR('[6]GESTION DSAJV'!H8,\" \")","v":0},{"$f":"IFERROR('[6]GESTION DSAJV'!I8,\" \")","v":0},{"$f":"IFERROR('[6]GESTION DSAJV'!J8,\" \")","v":0},null,""]
[null,null,null,null,{"$f":"IFERROR('[6]GESTION DSAJV'!H9,\" \")","v":0},{"$f":"IFERROR('[6]GESTION DSAJV'!I9,\" \")","v":0},{"$f":"IFERROR('[6]GESTION DSAJV'!J9,\" \")","v":0},null,""]
[null,null,null,null,{"$f":"IFERROR('[6]GESTION DSAJV'!H10,\" \")","v":0},{"$f":"IFERROR('[6]GESTION DSAJV'!I10,\" \")","v":0},{"$f":"IFERROR('[6]GESTION DSAJV'!J10,\" \")","v":0},null,""]
[null,null,null,null,{"$f":"IFERROR('[6]GESTION DSAJV'!H11,\" \")","v":"Adelantar los procesos de contratación que permitan la ejecución de los recursos asignados para contratar los bienes y servicios necesarios para asegurar el adecuado funcionamiento de los Despachos Judiciales y Administrativos del Distrito Judicial de Villavicencio"},{"$f":"IFERROR('[6]GESTION DSAJV'!I11,\" \")","v":"Entregable"},38,15,0.39473684210526316,null,"De la meta propuesta para el primer trimestre del año 2023 se llevaron a cabo 15 procesos los cuales se encuentran en ejecución, según los recursos asignados para la meta del primer trimestre del 2023."]
[null,null,null,null,{"$f":"IFERROR('[6]GESTION DSAJV'!H12,\" \")","v":"Verificar el cumplimiento de las adquisiciones planeadas con respecto a la ejecución de procesos de contratación adelantados durante la presente vigencia"},{"$f":"IFERROR('[6]GESTION DSAJV'!I12,\" \")","v":"Entregable"},38,15,0.39473684210526316,null,"Se han realizado comités de seguimiento a los coordinadores para verificar el cumplimiento de las obligaciones de los 15 contratos que se están ejecutando en la presente vigencia."]
[null,null,null,null,{"$f":"IFERROR('[6]GESTION DSAJV'!H13,\" \")","v":"Seguimiento a la adquisición de bienes y servicios adquiridos para el funcionamiento de los Despachos Judiciales y Administrativos del Distrito Judicial de Villavicencio"},{"$f":"IFERROR('[6]GESTION DSAJV'!I13,\" \")","v":"Entregable"},38,15,0.39473684210526316,null,"Se han realizado seguimiento para la ejecución a la adquisición de los bienes y servicios adquiridos para el buen funcionamiento de los despachos judiciales del distrito para el año en curso."]
[null,null,null,null,{"$f":"IFERROR('[6]GESTION DSAJV'!H14,\" \")","v":"Ejecución del plan de adquisiciones Villavicencio"},{"$f":"IFERROR('[6]GESTION DSAJV'!I14,\" \")","v":"Entregable"},38,15,0.39473684210526316,null,"De la meta planteada para la ejecución del plan anual de adquisiciones durante el primer trimestre del año en curso se logró la ejecución del 71% debido a que el 29% corresponde a procesos terminados anormalmente."]
[null,null,null,null,{"$f":"IFERROR('[6]GESTION DSAJV'!H15,\" \")","v":0},{"$f":"IFERROR('[6]GESTION DSAJV'!I15,\" \")","v":0},{"$f":"IFERROR('[6]GESTION DSAJV'!J15,\" \")","v":0},null,""]
[null,null,"2. Mejorar los tiempos de respuesta de la Rama Judicial y reducir el inventario de procesos, identificando los retos internos y promoviendo tanto acciones articuladas específicas para abordarlos como estrategias coordinadas para enfrentar las barreras que dependen de otras entidades.","2. Asegurar  el cumplimiento de los objetivos institucionales, la normatividad aplicable,  la mejora del SIGCMA y la satisfacción de los usuarios, revisando de  forma continua y sistemática la planificación de la gestión y fortaleciendo la administración de riesgos y sus controles",{"$f":"IFERROR('[6]GESTION DSAJV'!H16,\" \")","v":"Seguimiento al consumo de Papel, Combustible y Servicios públicos "},{"$f":"IFERROR('[6]GESTION DSAJV'!I16,\" \")","v":"Entregable"},3,3,1,null,"Se presento informe de consumo de papel, combustible y servicios publicos los meses de enero, febrero y marzo."]
[null,null,null,null,{"$f":"IFERROR('[6]GESTION DSAJV'!H17,\" \")","v":"Atender las necesidades de traslado de los servidores judiciales con fines administrativos. "},{"$f":"IFERROR('[6]GESTION DSAJV'!I17,\" \")","v":"Entregable"},{"$f":"IFERROR('[6]GESTION DSAJV'!J17,\" \")","v":95},null,0]
[null,null,null,null,{"$f":"IFERROR('[6]GESTION DSAJV'!H18,\" \")","v":"Realizar seguimiento por medio de informes al mantenimiento y control del parque automotor"},{"$f":"IFERROR('[6]GESTION DSAJV'!I18,\" \")","v":"Entregable"},3,3,1,null,"Se suscribio contrato de mantenimiento de vehiculos el 11 de marzo de 2023 y se realiza el respectivo seguimiento a través del supervisor del contrato"]
[null,null,null,null,{"$f":"IFERROR('[6]GESTION DSAJV'!H19,\" \")","v":"Identificación de necesidades en materia de seguridad para las sedes judiciales asignadas al Distrito Judicial de Villavicencio y su gestión para contratación de equipos , mantenimientos y personal, para el fortalecimiento de la seguridad."},{"$f":"IFERROR('[6]GESTION DSAJV'!I19,\" \")","v":"Entregable"},{"$f":"IFERROR('[6]GESTION DSAJV'!J19,\" \")","v":100},null,0]
[null,null,null,null,{"$f":"IFERROR('[6]GESTION DSAJV'!H20,\" \")","v":"Registrar reporte mensual de novedades en bienes muebles e inmuebles."},{"$f":"IFERROR('[6]GESTION DSAJV'!I20,\" \")","v":"Entregable"},{"$f":"IFERROR('[6]GESTION DSAJV'!J20,\" \")","v":100},null,0,null,"Se presento reporte mensual de novedades a la aseguradora los meses de enero, febrero y marzo."]
[null,null,null,null,{"$f":"IFERROR('[6]GESTION DSAJV'!H21,\" \")","v":0},{"$f":"IFERROR('[6]GESTION DSAJV'!I21,\" \")","v":0},{"$f":"IFERROR('[6]GESTION DSAJV'!J21,\" \")","v":0},null,""]
[null,null,null,null,{"$f":"IFERROR('[6]GESTION DSAJV'!H22,\" \")","v":0},{"$f":"IFERROR('[6]GESTION DSAJV'!I22,\" \")","v":0},{"$f":"IFERROR('[6]GESTION DSAJV'!J22,\" \")","v":0},null,""]
[null,null,null,null,{"$f":"IFERROR('[6]GESTION DSAJV'!H23,\" \")","v":0},{"$f":"IFERROR('[6]GESTION DSAJV'!I23,\" \")","v":0},{"$f":"IFERROR('[6]GESTION DSAJV'!J23,\" \")","v":0},null,""]
[null,null,null,null,{"$f":"IFERROR('[6]GESTION DSAJV'!H24,\" \")","v":0},{"$f":"IFERROR('[6]GESTION DSAJV'!I24,\" \")","v":0},{"$f":"IFERROR('[6]GESTION DSAJV'!J24,\" \")","v":0},null,""]
[null,null,null,null,{"$f":"IFERROR('[6]GESTION DSAJV'!H25,\" \")","v":0},{"$f":"IFERROR('[6]GESTION DSAJV'!I25,\" \")","v":0},{"$f":"IFERROR('[6]GESTION DSAJV'!J25,\" \")","v":0},null,""]
[null,null,"3. Coadyuvar en la garantía de la idoneidad en el ejercicio de la profesión jurídica de acuerdo con lo establecido en la Ley 1905 de 2018","2. Asegurar  el cumplimiento de los objetivos institucionales, la normatividad aplicable,  la mejora del SIGCMA y la satisfacción de los usuarios, revisando de  forma continua y sistemática la planificación de la gestión y fortaleciendo la administración de riesgos y sus controles",{"$f":"IFERROR('[6]GESTION DSAJV'!H26,\" \")","v":0},{"$f":"IFERROR('[6]GESTION DSAJV'!I26,\" \")","v":0},{"$f":"IFERROR('[6]GESTION DSAJV'!J26,\" \")","v":0},null,""]
[null,null,null,null,{"$f":"IFERROR('[6]GESTION DSAJV'!H27,\" \")","v":0},{"$f":"IFERROR('[6]GESTION DSAJV'!I27,\" \")","v":0},{"$f":"IFERROR('[6]GESTION DSAJV'!J27,\" \")","v":0},null,""]
[null,null,null,null,{"$f":"IFERROR('[6]GESTION DSAJV'!H28,\" \")","v":0},{"$f":"IFERROR('[6]GESTION DSAJV'!I28,\" \")","v":0},{"$f":"IFERROR('[6]GESTION DSAJV'!J28,\" \")","v":0},null,""]
[null,null,null,null,{"$f":"IFERROR('[6]GESTION DSAJV'!H29,\" \")","v":0},{"$f":"IFERROR('[6]GESTION DSAJV'!I29,\" \")","v":0},{"$f":"IFERROR('[6]GESTION DSAJV'!J29,\" \")","v":0},null,""]
[null,null,null,null,{"$f":"IFERROR('[6]GESTION DSAJV'!H30,\" \")","v":0},{"$f":"IFERROR('[6]GESTION DSAJV'!I30,\" \")","v":0},{"$f":"IFERROR('[6]GESTION DSAJV'!J30,\" \")","v":0},null,""]
[null,null,null,null,{"$f":"IFERROR('[6]GESTION DSAJV'!H31,\" \")","v":0},{"$f":"IFERROR('[6]GESTION DSAJV'!I31,\" \")","v":0},{"$f":"IFERROR('[6]GESTION DSAJV'!J31,\" \")","v":0},null,""]
[null,null,null,null,{"$f":"IFERROR('[6]GESTION DSAJV'!H32,\" \")","v":0},{"$f":"IFERROR('[6]GESTION DSAJV'!I32,\" \")","v":0},{"$f":"IFERROR('[6]GESTION DSAJV'!J32,\" \")","v":0},null,""]
[null,null,null,null,{"$f":"IFERROR('[6]GESTION DSAJV'!H33,\" \")","v":0},{"$f":"IFERROR('[6]GESTION DSAJV'!I33,\" \")","v":0},{"$f":"IFERROR('[6]GESTION DSAJV'!J33,\" \")","v":0},null,""]
[null,null,null,null,{"$f":"IFERROR('[6]GESTION DSAJV'!H34,\" \")","v":0},{"$f":"IFERROR('[6]GESTION DSAJV'!I34,\" \")","v":0},{"$f":"IFERROR('[6]GESTION DSAJV'!J34,\" \")","v":0},null,""]
[null,null,null,null,{"$f":"IFERROR('[6]GESTION DSAJV'!H35,\" \")","v":0},{"$f":"IFERROR('[6]GESTION DSAJV'!I35,\" \")","v":0},{"$f":"IFERROR('[6]GESTION DSAJV'!J35,\" \")","v":0},null,""]
[null,null,"4. Avanzar en la disposición de una infraestructura óptima para el acceso a la justicia en la Rama Judicial de modo que se fortalezca la presencia territorial, teniendo en cuenta las posibilidades que ofrece la transformación digital y las necesidades que se derivan de ella, y considerando tanto las necesidades de los usuarios como las de los servidores judiciales.","4. Hacer un uso racional de los recursos naturales aplicando los principios y fases de la Economía Circular, para prevenir, mitigar y controlar los impactos ambientales",{"$f":"IFERROR('[6]GESTION DSAJV'!H36,\" \")","v":0},{"$f":"IFERROR('[6]GESTION DSAJV'!I36,\" \")","v":0},{"$f":"IFERROR('[6]GESTION DSAJV'!J36,\" \")","v":0},null,""]
[null,null,null,null,{"$f":"IFERROR('[6]GESTION DSAJV'!H37,\" \")","v":0},{"$f":"IFERROR('[6]GESTION DSAJV'!I37,\" \")","v":0},{"$f":"IFERROR('[6]GESTION DSAJV'!J37,\" \")","v":0},null,""]
[null,null,null,null,{"$f":"IFERROR('[6]GESTION DSAJV'!H38,\" \")","v":0},{"$f":"IFERROR('[6]GESTION DSAJV'!I38,\" \")","v":0},{"$f":"IFERROR('[6]GESTION DSAJV'!J38,\" \")","v":0},null,""]
[null,null,null,null,{"$f":"IFERROR('[6]GESTION DSAJV'!H39,\" \")","v":0},{"$f":"IFERROR('[6]GESTION DSAJV'!I39,\" \")","v":0},{"$f":"IFERROR('[6]GESTION DSAJV'!J39,\" \")","v":0},null,""]
[null,null,null,null,{"$f":"IFERROR('[6]GESTION DSAJV'!H40,\" \")","v":0},{"$f":"IFERROR('[6]GESTION DSAJV'!I40,\" \")","v":0},{"$f":"IFERROR('[6]GESTION DSAJV'!J40,\" \")","v":0},null,""]
[null,null,null,null,{"$f":"IFERROR('[6]GESTION DSAJV'!H41,\" \")","v":0},{"$f":"IFERROR('[6]GESTION DSAJV'!I41,\" \")","v":0},{"$f":"IFERROR('[6]GESTION DSAJV'!J41,\" \")","v":0},null,""]
[null,null,null,null,{"$f":"IFERROR('[6]GESTION DSAJV'!H42,\" \")","v":0},{"$f":"IFERROR('[6]GESTION DSAJV'!I42,\" \")","v":0},{"$f":"IFERROR('[6]GESTION DSAJV'!J42,\" \")","v":0},null,""]
[null,null,null,null,{"$f":"IFERROR('[6]GESTION DSAJV'!H43,\" \")","v":0},{"$f":"IFERROR('[6]GESTION DSAJV'!I43,\" \")","v":0},{"$f":"IFERROR('[6]GESTION DSAJV'!J43,\" \")","v":0},null,""]
[null,null,null,null,{"$f":"IFERROR('[6]GESTION DSAJV'!H44,\" \")","v":0},{"$f":"IFERROR('[6]GESTION DSAJV'!I44,\" \")","v":0},{"$f":"IFERROR('[6]GESTION DSAJV'!J44,\" \")","v":0},null,""]
[null,null,null,null,{"$f":"IFERROR('[6]GESTION DSAJV'!H45,\" \")","v":0},{"$f":"IFERROR('[6]GESTION DSAJV'!I45,\" \")","v":0},{"$f":"IFERROR('[6]GESTION DSAJV'!J45,\" \")","v":0},null,""]
[null,null,"5. Impulsar el uso de mecanismos alternativos para la solución de conflictos y la ampliación de la justicia restaurativa y terapéutica y el robustecimiento de las alternativas al encarcelamiento","2. Asegurar  el cumplimiento de los objetivos institucionales, la normatividad aplicable,  la mejora del SIGCMA y la satisfacción de los usuarios, revisando de  forma continua y sistemática la planificación de la gestión y fortaleciendo la administración de riesgos y sus controles",{"$f":"IFERROR('[6]GESTION DSAJV'!H46,\" \")","v":0},{"$f":"IFERROR('[6]GESTION DSAJV'!I46,\" \")","v":0},{"$f":"IFERROR('[6]GESTION DSAJV'!J46,\" \")","v":0},null,""]
[null,null,null,null,{"$f":"IFERROR('[6]GESTION DSAJV'!H47,\" \")","v":0},{"$f":"IFERROR('[6]GESTION DSAJV'!I47,\" \")","v":0},{"$f":"IFERROR('[6]GESTION DSAJV'!J47,\" \")","v":0},null,""]
[null,null,null,null,{"$f":"IFERROR('[6]GESTION DSAJV'!H48,\" \")","v":0},{"$f":"IFERROR('[6]GESTION DSAJV'!I48,\" \")","v":0},{"$f":"IFERROR('[6]GESTION DSAJV'!J48,\" \")","v":0},null,""]
[null,null,null,null,{"$f":"IFERROR('[6]GESTION DSAJV'!H49,\" \")","v":0},{"$f":"IFERROR('[6]GESTION DSAJV'!I49,\" \")","v":0},{"$f":"IFERROR('[6]GESTION DSAJV'!J49,\" \")","v":0},null,""]
[null,null,null,null,{"$f":"IFERROR('[6]GESTION DSAJV'!H50,\" \")","v":0},{"$f":"IFERROR('[6]GESTION DSAJV'!I50,\" \")","v":0},{"$f":"IFERROR('[6]GESTION DSAJV'!J50,\" \")","v":0},null,""]
[null,null,null,null,{"$f":"IFERROR('[6]GESTION DSAJV'!H51,\" \")","v":0},{"$f":"IFERROR('[6]GESTION DSAJV'!I51,\" \")","v":0},{"$f":"IFERROR('[6]GESTION DSAJV'!J51,\" \")","v":0},null,""]
[null,null,null,null,{"$f":"IFERROR('[6]GESTION DSAJV'!H52,\" \")","v":0},{"$f":"IFERROR('[6]GESTION DSAJV'!I52,\" \")","v":0},{"$f":"IFERROR('[6]GESTION DSAJV'!J52,\" \")","v":0},null,""]
[null,null,null,null,{"$f":"IFERROR('[6]GESTION DSAJV'!H53,\" \")","v":0},{"$f":"IFERROR('[6]GESTION DSAJV'!I53,\" \")","v":0},{"$f":"IFERROR('[6]GESTION DSAJV'!J53,\" \")","v":0},null,""]
[null,null,null,null,{"$f":"IFERROR('[6]GESTION DSAJV'!H54,\" \")","v":0},{"$f":"IFERROR('[6]GESTION DSAJV'!I54,\" \")","v":0},{"$f":"IFERROR('[6]GESTION DSAJV'!J54,\" \")","v":0},null,""]
[null,null,null,null,{"$f":"IFERROR('[6]GESTION DSAJV'!H55,\" \")","v":0},{"$f":"IFERROR('[6]GESTION DSAJV'!I55,\" \")","v":0},{"$f":"IFERROR('[6]GESTION DSAJV'!J55,\" \")","v":0},null,""]
["2. Servicios digitales y de tecnología, innovación y análisis de la información.","Servicios digitales y de tecnología, innovación y análisis de la información: Consolidar una justicia integrada y soportada en servicios digitales y de tecnología, innovación y análisis de la información, con una cultura digital apropiada, segura y sensible a las realidades del territorio nacional. ","1. Ampliar el acceso a la justicia a través de la consolidación del uso de los servicios digitales que conforman el sistema único integrado de gestión judicial en todos los despachos judiciales y dependencias de apoyo y, específicamente, incluyendo el despliegue e implementación del Expediente Judicial Electrónico en todas las jurisdicciones y especialidades.","6. Proteger, preservar y administrar los activos de información  implementando acciones  para gestionar de forma adecuada los incidentes, proteger los datos personales y adoptar mecanismos  de ciberseguridad y aseguramiento de la  continuidad del negocio.",{"$f":"IFERROR('[6]GESTION DSAJV'!H56,\" \")","v":"Mejorar los canales de internet"},{"$f":"IFERROR('[6]GESTION DSAJV'!I56,\" \")","v":"Entregable"},{"$f":"IFERROR('[6]GESTION DSAJV'!J56,\" \")","v":100},20,0.2]
[null,null,null,null,{"$f":"IFERROR('[6]GESTION DSAJV'!H57,\" \")","v":"Renovar equipos de cómputo de funcionarios"},{"$f":"IFERROR('[6]GESTION DSAJV'!I57,\" \")","v":"Entregable"},100,100,1]
[null,null,null,null,{"$f":"IFERROR('[6]GESTION DSAJV'!H58,\" \")","v":"Realizar soporte de servidores"},{"$f":"IFERROR('[6]GESTION DSAJV'!I58,\" \")","v":"Entregable"},100,30,0.3]
[null,null,null,null,{"$f":"IFERROR('[6]GESTION DSAJV'!H59,\" \")","v":"Realizar soporte de servidores"},{"$f":"IFERROR('[6]GESTION DSAJV'!I59,\" \")","v":"Entregable"},100,30,0.3]
[null,null,null,null,{"$f":"IFERROR('[6]GESTION DSAJV'!H60,\" \")","v":"Realizar mantenimiento de equipos de computo"},{"$f":"IFERROR('[6]GESTION DSAJV'!I60,\" \")","v":"Entregable"},100,25,0.25]
[null,null,null,null,{"$f":"IFERROR('[6]GESTION DSAJV'!H61,\" \")","v":"Hacer seguimiento a la digitalización de expedientes judiciales"},{"$f":"IFERROR('[6]GESTION DSAJV'!I61,\" \")","v":"Entregable"},100,20,0.2]
[null,null,null,null,{"$f":"IFERROR('[6]GESTION DSAJV'!H62,\" \")","v":"Realizar seguimiento a la ejecución presupuestal de las apropiaciones y compromisos para la vigencia 2023."},{"$f":"IFERROR('[6]GESTION DSAJV'!I62,\" \")","v":"Meta cuantificable"},{"$f":"IFERROR('[6]GESTION DSAJV'!J62,\" \")","v":100},null,0]
[null,null,null,null,{"$f":"IFERROR('[6]GESTION DSAJV'!H63,\" \")","v":"Realizar las proyecciones históricas para la solicitud de cupo PAC y ejecutar los pagos previamente definidos de manera oportuna."},{"$f":"IFERROR('[6]GESTION DSAJV'!I63,\" \")","v":"Entregable"},{"$f":"IFERROR('[6]GESTION DSAJV'!J63,\" \")","v":0},null,""]
[null,null,null,null,{"$f":"IFERROR('[6]GESTION DSAJV'!H64,\" \")","v":0},{"$f":"IFERROR('[6]GESTION DSAJV'!I64,\" \")","v":0},{"$f":"IFERROR('[6]GESTION DSAJV'!J64,\" \")","v":0},null,""]
[null,null,null,null,{"$f":"IFERROR('[6]GESTION DSAJV'!H65,\" \")","v":0},{"$f":"IFERROR('[6]GESTION DSAJV'!I65,\" \")","v":0},{"$f":"IFERROR('[6]GESTION DSAJV'!J65,\" \")","v":0},null,""]
[null,null,"2. Integrar y hacer compatibles todos los aplicativos de transición con SIUGJ, para que la migración de los expedientes judiciales a dicha plataforma sea real y no suponga afectaciones en la prestación del servicio de justicia.",null,{"$f":"IFERROR('[6]GESTION DSAJV'!H66,\" \")","v":0},{"$f":"IFERROR('[6]GESTION DSAJV'!I66,\" \")","v":0},{"$f":"IFERROR('[6]GESTION DSAJV'!J66,\" \")","v":0},null,""]
[null,null,null,null,{"$f":"IFERROR('[6]GESTION DSAJV'!H67,\" \")","v":0},{"$f":"IFERROR('[6]GESTION DSAJV'!I67,\" \")","v":0},{"$f":"IFERROR('[6]GESTION DSAJV'!J67,\" \")","v":0},null,""]
[null,null,null,null,{"$f":"IFERROR('[6]GESTION DSAJV'!H68,\" \")","v":0},{"$f":"IFERROR('[6]GESTION DSAJV'!I68,\" \")","v":0},{"$f":"IFERROR('[6]GESTION DSAJV'!J68,\" \")","v":0},null,""]
[null,null,null,null,{"$f":"IFERROR('[6]GESTION DSAJV'!H69,\" \")","v":0},{"$f":"IFERROR('[6]GESTION DSAJV'!I69,\" \")","v":0},{"$f":"IFERROR('[6]GESTION DSAJV'!J69,\" \")","v":0},null,""]
[null,null,null,null,{"$f":"IFERROR('[6]GESTION DSAJV'!H70,\" \")","v":0},{"$f":"IFERROR('[6]GESTION DSAJV'!I70,\" \")","v":0},{"$f":"IFERROR('[6]GESTION DSAJV'!J70,\" \")","v":0},null,{"$f":"IFERROR(H70/G70,\"\")","v":""}]
[null,null,null,null,{"$f":"IFERROR('[6]GESTION DSAJV'!H71,\" \")","v":0},{"$f":"IFERROR('[6]GESTION DSAJV'!I71,\" \")","v":0},{"$f":"IFERROR('[6]GESTION DSAJV'!J71,\" \")","v":0},null,""]
[null,null,null,null,{"$f":"IFERROR('[6]GESTION DSAJV'!H72,\" \")","v":0},{"$f":"IFERROR('[6]GESTION DSAJV'!I72,\" \")","v":0},{"$f":"IFERROR('[6]GESTION DSAJV'!J72,\" \")","v":0},null,""]
[null,null,null,null,{"$f":"IFERROR('[6]GESTION DSAJV'!H73,\" \")","v":0},{"$f":"IFERROR('[6]GESTION DSAJV'!I73,\" \")","v":0},{"$f":"IFERROR('[6]GESTION DSAJV'!J73,\" \")","v":0},null,""]
[null,null,null,null,{"$f":"IFERROR('[6]GESTION DSAJV'!H74,\" \")","v":0},{"$f":"IFERROR('[6]GESTION DSAJV'!I74,\" \")","v":0},{"$f":"IFERROR('[6]GESTION DSAJV'!J74,\" \")","v":0},null,""]
[null,null,null,null,{"$f":"IFERROR('[6]GESTION DSAJV'!H75,\" \")","v":0},{"$f":"IFERROR('[6]GESTION DSAJV'!I75,\" \")","v":0},{"$f":"IFERROR('[6]GESTION DSAJV'!J75,\" \")","v":0},null,""]
[null,null,"3. Fortalecer las capacidades institucionales, adecuar el modelo operativo y de servicio, bajo un enfoque de Arquitectura Empresarial y de fortalecimiento del acceso a la justicia.",null,{"$f":"IFERROR('[6]GESTION DSAJV'!H76,\" \")","v":0},{"$f":"IFERROR('[6]GESTION DSAJV'!I76,\" \")","v":0},{"$f":"IFERROR('[6]GESTION DSAJV'!J76,\" \")","v":0},null,""]
[null,null,null,null,{"$f":"IFERROR('[6]GESTION DSAJV'!H77,\" \")","v":0},{"$f":"IFERROR('[6]GESTION DSAJV'!I77,\" \")","v":0},{"$f":"IFERROR('[6]GESTION DSAJV'!J77,\" \")","v":0},null,""]
[null,null,null,null,{"$f":"IFERROR('[6]GESTION DSAJV'!H78,\" \")","v":0},{"$f":"IFERROR('[6]GESTION DSAJV'!I78,\" \")","v":0},{"$f":"IFERROR('[6]GESTION DSAJV'!J78,\" \")","v":0},null,""]
[null,null,null,null,{"$f":"IFERROR('[6]GESTION DSAJV'!H79,\" \")","v":0},{"$f":"IFERROR('[6]GESTION DSAJV'!I79,\" \")","v":0},{"$f":"IFERROR('[6]GESTION DSAJV'!J79,\" \")","v":0},null,""]
[null,null,null,null,{"$f":"IFERROR('[6]GESTION DSAJV'!H80,\" \")","v":0},{"$f":"IFERROR('[6]GESTION DSAJV'!I80,\" \")","v":0},{"$f":"IFERROR('[6]GESTION DSAJV'!J80,\" \")","v":0},null,""]
[null,null,null,null,{"$f":"IFERROR('[6]GESTION DSAJV'!H81,\" \")","v":0},{"$f":"IFERROR('[6]GESTION DSAJV'!I81,\" \")","v":0},{"$f":"IFERROR('[6]GESTION DSAJV'!J81,\" \")","v":0},null,""]
[null,null,null,null,{"$f":"IFERROR('[6]GESTION DSAJV'!H82,\" \")","v":0},{"$f":"IFERROR('[6]GESTION DSAJV'!I82,\" \")","v":0},{"$f":"IFERROR('[6]GESTION DSAJV'!J82,\" \")","v":0},null,""]
[null,null,null,null,{"$f":"IFERROR('[6]GESTION DSAJV'!H83,\" \")","v":0},{"$f":"IFERROR('[6]GESTION DSAJV'!I83,\" \")","v":0},{"$f":"IFERROR('[6]GESTION DSAJV'!J83,\" \")","v":0},null,""]
[null,null,null,null,{"$f":"IFERROR('[6]GESTION DSAJV'!H84,\" \")","v":0},{"$f":"IFERROR('[6]GESTION DSAJV'!I84,\" \")","v":0},{"$f":"IFERROR('[6]GESTION DSAJV'!J84,\" \")","v":0},null,""]
[null,null,null,null,{"$f":"IFERROR('[6]GESTION DSAJV'!H85,\" \")","v":0},{"$f":"IFERROR('[6]GESTION DSAJV'!I85,\" \")","v":0},{"$f":"IFERROR('[6]GESTION DSAJV'!J85,\" \")","v":0},null,""]
[null,null,"4.Consolidar la cultura y apropiación de la transformación digital en los servidores y usuarios de los servicios de la Rama Judicial y reducir brechas de acceso y conocimiento, incluyendo la oferta efectiva de información sobre el uso de las nuevas herramientas virtuales implementadas en las diferentes jurisdicciones, con especial énfasis en las zonas del país donde es evidente la brecha digital.",null,{"$f":"IFERROR('[6]GESTION DSAJV'!H86,\" \")","v":0},{"$f":"IFERROR('[6]GESTION DSAJV'!I86,\" \")","v":0},{"$f":"IFERROR('[6]GESTION DSAJV'!J86,\" \")","v":0},null,""]
[null,null,null,null,{"$f":"IFERROR('[6]GESTION DSAJV'!H87,\" \")","v":0},{"$f":"IFERROR('[6]GESTION DSAJV'!I87,\" \")","v":0},{"$f":"IFERROR('[6]GESTION DSAJV'!J87,\" \")","v":0},null,""]
[null,null,null,null,{"$f":"IFERROR('[6]GESTION DSAJV'!H88,\" \")","v":0},{"$f":"IFERROR('[6]GESTION DSAJV'!I88,\" \")","v":0},{"$f":"IFERROR('[6]GESTION DSAJV'!J88,\" \")","v":0},null,""]
[null,null,null,null,{"$f":"IFERROR('[6]GESTION DSAJV'!H89,\" \")","v":0},{"$f":"IFERROR('[6]GESTION DSAJV'!I89,\" \")","v":0},{"$f":"IFERROR('[6]GESTION DSAJV'!J89,\" \")","v":0},null,""]
[null,null,null,null,{"$f":"IFERROR('[6]GESTION DSAJV'!H90,\" \")","v":0},{"$f":"IFERROR('[6]GESTION DSAJV'!I90,\" \")","v":0},{"$f":"IFERROR('[6]GESTION DSAJV'!J90,\" \")","v":0},null,""]
[null,null,null,null,{"$f":"IFERROR('[6]GESTION DSAJV'!H91,\" \")","v":0},{"$f":"IFERROR('[6]GESTION DSAJV'!I91,\" \")","v":0},{"$f":"IFERROR('[6]GESTION DSAJV'!J91,\" \")","v":0},null,""]
[null,null,null,null,{"$f":"IFERROR('[6]GESTION DSAJV'!H92,\" \")","v":0},{"$f":"IFERROR('[6]GESTION DSAJV'!I92,\" \")","v":0},{"$f":"IFERROR('[6]GESTION DSAJV'!J92,\" \")","v":0},null,""]
[null,null,null,null,{"$f":"IFERROR('[6]GESTION DSAJV'!H93,\" \")","v":0},{"$f":"IFERROR('[6]GESTION DSAJV'!I93,\" \")","v":0},{"$f":"IFERROR('[6]GESTION DSAJV'!J93,\" \")","v":0},null,""]
[null,null,null,null,{"$f":"IFERROR('[6]GESTION DSAJV'!H94,\" \")","v":0},{"$f":"IFERROR('[6]GESTION DSAJV'!I94,\" \")","v":0},{"$f":"IFERROR('[6]GESTION DSAJV'!J94,\" \")","v":0},null,""]
[null,null,null,null,{"$f":"IFERROR('[6]GESTION DSAJV'!H95,\" \")","v":0},{"$f":"IFERROR('[6]GESTION DSAJV'!I95,\" \")","v":0},{"$f":"IFERROR('[6]GESTION DSAJV'!J95,\" \")","v":0},null,""]
[null,null,"5.Consolidar la infraestructura y los recursos necesarios para la implementación exitosa de la transformación digital, incluyendo la disposición de internet de calidad en el 100% de las sedes en la Rama Judicial y modernizar los servicios tecnológicos de soporte. ",null,{"$f":"IFERROR('[6]GESTION DSAJV'!H96,\" \")","v":0},{"$f":"IFERROR('[6]GESTION DSAJV'!I96,\" \")","v":0},{"$f":"IFERROR('[6]GESTION DSAJV'!J96,\" \")","v":0},null,""]
[null,null,null,null,{"$f":"IFERROR('[6]GESTION DSAJV'!H97,\" \")","v":0},{"$f":"IFERROR('[6]GESTION DSAJV'!I97,\" \")","v":0},{"$f":"IFERROR('[6]GESTION DSAJV'!J97,\" \")","v":0},null,""]
[null,null,null,null,{"$f":"IFERROR('[6]GESTION DSAJV'!H98,\" \")","v":0},{"$f":"IFERROR('[6]GESTION DSAJV'!I98,\" \")","v":0},{"$f":"IFERROR('[6]GESTION DSAJV'!J98,\" \")","v":0},null,""]
[null,null,null,null,{"$f":"IFERROR('[6]GESTION DSAJV'!H99,\" \")","v":0},{"$f":"IFERROR('[6]GESTION DSAJV'!I99,\" \")","v":0},{"$f":"IFERROR('[6]GESTION DSAJV'!J99,\" \")","v":0},null,""]
[null,null,null,null,{"$f":"IFERROR('[6]GESTION DSAJV'!H100,\" \")","v":0},{"$f":"IFERROR('[6]GESTION DSAJV'!I100,\" \")","v":0},{"$f":"IFERROR('[6]GESTION DSAJV'!J100,\" \")","v":0},null,""]
[null,null,null,null,{"$f":"IFERROR('[6]GESTION DSAJV'!H101,\" \")","v":0},{"$f":"IFERROR('[6]GESTION DSAJV'!I101,\" \")","v":0},{"$f":"IFERROR('[6]GESTION DSAJV'!J101,\" \")","v":0},null,""]
[null,null,null,null,{"$f":"IFERROR('[6]GESTION DSAJV'!H102,\" \")","v":0},{"$f":"IFERROR('[6]GESTION DSAJV'!I102,\" \")","v":0},{"$f":"IFERROR('[6]GESTION DSAJV'!J102,\" \")","v":0},null,""]
[null,null,null,null,{"$f":"IFERROR('[6]GESTION DSAJV'!H103,\" \")","v":0},{"$f":"IFERROR('[6]GESTION DSAJV'!I103,\" \")","v":0},{"$f":"IFERROR('[6]GESTION DSAJV'!J103,\" \")","v":0},null,""]
[null,null,null,null,{"$f":"IFERROR('[6]GESTION DSAJV'!H104,\" \")","v":0},{"$f":"IFERROR('[6]GESTION DSAJV'!I104,\" \")","v":0},{"$f":"IFERROR('[6]GESTION DSAJV'!J104,\" \")","v":0},null,""]
[null,null,null,null,{"$f":"IFERROR('[6]GESTION DSAJV'!H105,\" \")","v":0},{"$f":"IFERROR('[6]GESTION DSAJV'!I105,\" \")","v":0},{"$f":"IFERROR('[6]GESTION DSAJV'!J105,\" \")","v":0},null,""]
[null,null,"6.Integrar y optimizar los servicios administrativos de la Rama Judicial bajo un enfoque de transformación digital e innovación incluyendo los componentes financiero, administrativo, talento humano, entre otros",null,{"$f":"IFERROR('[6]GESTION DSAJV'!H106,\" \")","v":0},{"$f":"IFERROR('[6]GESTION DSAJV'!I106,\" \")","v":0},{"$f":"IFERROR('[6]GESTION DSAJV'!J106,\" \")","v":0},null,""]
[null,null,null,null,{"$f":"IFERROR('[6]GESTION DSAJV'!H107,\" \")","v":0},{"$f":"IFERROR('[6]GESTION DSAJV'!I107,\" \")","v":0},{"$f":"IFERROR('[6]GESTION DSAJV'!J107,\" \")","v":0},null,""]
[null,null,null,null,{"$f":"IFERROR('[6]GESTION DSAJV'!H108,\" \")","v":0},{"$f":"IFERROR('[6]GESTION DSAJV'!I108,\" \")","v":0},{"$f":"IFERROR('[6]GESTION DSAJV'!J108,\" \")","v":0},null,""]
[null,null,null,null,{"$f":"IFERROR('[6]GESTION DSAJV'!H109,\" \")","v":0},{"$f":"IFERROR('[6]GESTION DSAJV'!I109,\" \")","v":0},{"$f":"IFERROR('[6]GESTION DSAJV'!J109,\" \")","v":0},null,""]
[null,null,null,null,{"$f":"IFERROR('[6]GESTION DSAJV'!H110,\" \")","v":0},{"$f":"IFERROR('[6]GESTION DSAJV'!I110,\" \")","v":0},{"$f":"IFERROR('[6]GESTION DSAJV'!J110,\" \")","v":0},null,""]
[null,null,null,null,{"$f":"IFERROR('[6]GESTION DSAJV'!H111,\" \")","v":0},{"$f":"IFERROR('[6]GESTION DSAJV'!I111,\" \")","v":0},{"$f":"IFERROR('[6]GESTION DSAJV'!J111,\" \")","v":0},null,""]
[null,null,null,null,{"$f":"IFERROR('[6]GESTION DSAJV'!H112,\" \")","v":0},{"$f":"IFERROR('[6]GESTION DSAJV'!I112,\" \")","v":0},{"$f":"IFERROR('[6]GESTION DSAJV'!J112,\" \")","v":0},null,""]
[null,null,null,null,{"$f":"IFERROR('[6]GESTION DSAJV'!H113,\" \")","v":0},{"$f":"IFERROR('[6]GESTION DSAJV'!I113,\" \")","v":0},{"$f":"IFERROR('[6]GESTION DSAJV'!J113,\" \")","v":0},null,""]
[null,null,null,null,{"$f":"IFERROR('[6]GESTION DSAJV'!H114,\" \")","v":0},{"$f":"IFERROR('[6]GESTION DSAJV'!I114,\" \")","v":0},{"$f":"IFERROR('[6]GESTION DSAJV'!J114,\" \")","v":0},null,""]
[null,null,null,null,{"$f":"IFERROR('[6]GESTION DSAJV'!H115,\" \")","v":0},{"$f":"IFERROR('[6]GESTION DSAJV'!I115,\" \")","v":0},{"$f":"IFERROR('[6]GESTION DSAJV'!J115,\" \")","v":0},null,""]
["3. Confianza pública, transparencia y rendición de cuentas","Confianza pública, transparencia y rendición de cuentas: Aumentar la confianza pública en la justicia a través de la transparencia, la rendición de cuentas y la participación, incluyendo la información de justicia y la producción, gestión y acceso a las fuentes de derecho, el fortalecimiento del sistema de gestión de calidad y medio ambiente (SIGCMA) y el mejoramiento de la calidad y publicidad de la información. ","1. Incrementar la cantidad, la calidad y pertinencia de los datos sobre el funcionamiento del servicio de justicia bajo un modelo de gobierno de datos y un liderazgo unificado. ","4. Hacer un uso racional de los recursos naturales aplicando los principios y fases de la Economía Circular, para prevenir, mitigar y controlar los impactos ambientales.","Seguimiento notificacion resolucion mandamiento de pago proceso coactivo  ","Entregable",4,1,0.25]
[null,null,null,null,"Elaborar las fichas de las solicitudes de conciliación prejudicial y de los procesos que se adelantan ante la jurisdicción contencioso administrativo, para presentarlos ante el Comité Secciona de Conciliación. ","Entregable",100,18,0.18,null,"Para el primer trimestre de 2023, el área juridica de la Dirección Seccional de Administración Judicial, recibio 18 solicitudes de conciliación prejudicial y de estudios de conciliación, las cuales fueron presentadas ante el comité de conciliación dentro del mismo periodo de medición, lo que indica que la meta propuesta del 100% fue alcanzada en su totalidad. Con lo anterior, se muestra la gestión oportuna del área de asistencia legal de la Dirección Seccional de Admiistración Judicial de Villavicencio. No obstante el no realizar el tramite oportuno de las solicitudes de conciliación extrajudicial trae como consecuencia compulsa de copias al comite de conciliacòn por parte de la Procuradurìa."]
[null,null,null,null,"Diligenciamiento aplicativo EKOGUI","Entregable",4,1,0.25,null,"Durante el primer trimestre de 2023, se realizó un informe donde se evidencia que en el ekogui se actualizaron 83 procesos "]
[null,null,null,null,"Seguimiento de recuado de cartera vigencia año 2023","Meta cuantificable",214715800,28823114,0.13423843983535447,null,"En el primer trismestre de 2023 se logró un recaudo por el valor de $28.823.114"]
[null,null,null,null,"Contestacion a las demandas dentro de los terminos establecidos por los despachos judiciales ","Entregable",100,14,0.14000000000000001,null,"Durante el primer trimestre  de 2023, se registraron 14 demandas en contra de la entidad las cuales fueron contestadas en su totalidad"]
[null,null,null,null,"Contestacion de las acciones de tutela dentro de los terminos establecidos por los despachos judiciales ","Entregable",100,23,0.23,null,"Para el primer trimestre de 2023,  el área juridica de la Dirección Seccional de Administración Judicial, fue notificada de 23tutelas, las cuales fueron contestadas dentro del término establecido por los despachos judiciales que se encontraban a cargo de las mismas. Cabe indicar que las tutelas cuentan con un término establecido para dar  respuesta a las mismas por lo que la meta del indicador siempre debera ser 100% y el resultado debe ser el mismo."]
[null,null,null,null,{"$f":"IFERROR('[6]GESTION DSAJV'!H122,\" \")","v":0},{"$f":"IFERROR('[6]GESTION DSAJV'!I122,\" \")","v":0},{"$f":"IFERROR('[6]GESTION DSAJV'!J122,\" \")","v":0},null,""]
[null,null,null,null,{"$f":"IFERROR('[6]GESTION DSAJV'!H123,\" \")","v":0},{"$f":"IFERROR('[6]GESTION DSAJV'!I123,\" \")","v":0},{"$f":"IFERROR('[6]GESTION DSAJV'!J123,\" \")","v":0},null,""]
[null,null,null,null,{"$f":"IFERROR('[6]GESTION DSAJV'!H124,\" \")","v":0},{"$f":"IFERROR('[6]GESTION DSAJV'!I124,\" \")","v":0},{"$f":"IFERROR('[6]GESTION DSAJV'!J124,\" \")","v":0},null,""]
[null,null,null,null,{"$f":"IFERROR('[6]GESTION DSAJV'!H125,\" \")","v":0},{"$f":"IFERROR('[6]GESTION DSAJV'!I125,\" \")","v":0},{"$f":"IFERROR('[6]GESTION DSAJV'!J125,\" \")","v":0},null,""]
[null,null,"2. Consolidar la administración de la información entendida como todas las acciones rientadas a garantizar el acceso, consulta, uso y conservación de la información de justicia de manera ágil, flexible e inteligente, bajo un enfoque de innovación.",null,{"$f":"IFERROR('[6]GESTION DSAJV'!H126,\" \")","v":0},{"$f":"IFERROR('[6]GESTION DSAJV'!I126,\" \")","v":0},{"$f":"IFERROR('[6]GESTION DSAJV'!J126,\" \")","v":0},null,""]
[null,null,null,null,{"$f":"IFERROR('[6]GESTION DSAJV'!H127,\" \")","v":0},{"$f":"IFERROR('[6]GESTION DSAJV'!I127,\" \")","v":0},{"$f":"IFERROR('[6]GESTION DSAJV'!J127,\" \")","v":0},null,""]
[null,null,null,null,{"$f":"IFERROR('[6]GESTION DSAJV'!H128,\" \")","v":0},{"$f":"IFERROR('[6]GESTION DSAJV'!I128,\" \")","v":0},{"$f":"IFERROR('[6]GESTION DSAJV'!J128,\" \")","v":0},null,""]
[null,null,null,null,{"$f":"IFERROR('[6]GESTION DSAJV'!H129,\" \")","v":0},{"$f":"IFERROR('[6]GESTION DSAJV'!I129,\" \")","v":0},{"$f":"IFERROR('[6]GESTION DSAJV'!J129,\" \")","v":0},null,""]
[null,null,null,null,{"$f":"IFERROR('[6]GESTION DSAJV'!H130,\" \")","v":0},{"$f":"IFERROR('[6]GESTION DSAJV'!I130,\" \")","v":0},{"$f":"IFERROR('[6]GESTION DSAJV'!J130,\" \")","v":0},null,""]
[null,null,null,null,{"$f":"IFERROR('[6]GESTION DSAJV'!H131,\" \")","v":0},{"$f":"IFERROR('[6]GESTION DSAJV'!I131,\" \")","v":0},{"$f":"IFERROR('[6]GESTION DSAJV'!J131,\" \")","v":0},null,""]
[null,null,null,null,{"$f":"IFERROR('[6]GESTION DSAJV'!H132,\" \")","v":0},{"$f":"IFERROR('[6]GESTION DSAJV'!I132,\" \")","v":0},{"$f":"IFERROR('[6]GESTION DSAJV'!J132,\" \")","v":0},null,""]
[null,null,null,null,{"$f":"IFERROR('[6]GESTION DSAJV'!H133,\" \")","v":0},{"$f":"IFERROR('[6]GESTION DSAJV'!I133,\" \")","v":0},{"$f":"IFERROR('[6]GESTION DSAJV'!J133,\" \")","v":0},null,""]
[null,null,null,null,{"$f":"IFERROR('[6]GESTION DSAJV'!H134,\" \")","v":0},{"$f":"IFERROR('[6]GESTION DSAJV'!I134,\" \")","v":0},{"$f":"IFERROR('[6]GESTION DSAJV'!J134,\" \")","v":0},null,{"$f":"IFERROR(H134/G134,\"\")","v":""}]
[null,null,null,null,{"$f":"IFERROR('[6]GESTION DSAJV'!H135,\" \")","v":0},{"$f":"IFERROR('[6]GESTION DSAJV'!I135,\" \")","v":0},{"$f":"IFERROR('[6]GESTION DSAJV'!J135,\" \")","v":0},null,""]
[null,null,"3. Fortalecer el Sistema integrado de Gestión de la Rama, orientado a la implementación y certificación de las normas antisoborno.","1. Gestionar el desarrollo de las competencias, la toma de conciencia , la cultura  organizacional  y el compromiso de los  servidores judiciales, contratistas, practicantes y  judicantes de contribuir a generar valor público en la administración de justicia, en el marco de  cumplimiento de los requisitos  aplicables y el comportamiento ético.\n3. Fomentar la transparencia y la participación generando lineamientos y promoviendo la rendición de cuentas ,la consulta, reporte y planteamiento de inquietudes en relación con las decisiones y aspectos del SIGCMA.",{"$f":"IFERROR('[6]GESTION DSAJV'!H136,\" \")","v":0},{"$f":"IFERROR('[6]GESTION DSAJV'!I136,\" \")","v":0},{"$f":"IFERROR('[6]GESTION DSAJV'!J136,\" \")","v":0},null,""]
[null,null,null,null,{"$f":"IFERROR('[6]GESTION DSAJV'!H137,\" \")","v":0},{"$f":"IFERROR('[6]GESTION DSAJV'!I137,\" \")","v":0},{"$f":"IFERROR('[6]GESTION DSAJV'!J137,\" \")","v":0},null,""]
[null,null,null,null,{"$f":"IFERROR('[6]GESTION DSAJV'!H138,\" \")","v":0},{"$f":"IFERROR('[6]GESTION DSAJV'!I138,\" \")","v":0},{"$f":"IFERROR('[6]GESTION DSAJV'!J138,\" \")","v":0},null,""]
[null,null,null,null,{"$f":"IFERROR('[6]GESTION DSAJV'!H139,\" \")","v":0},{"$f":"IFERROR('[6]GESTION DSAJV'!I139,\" \")","v":0},{"$f":"IFERROR('[6]GESTION DSAJV'!J139,\" \")","v":0},null,""]
[null,null,null,null,{"$f":"IFERROR('[6]GESTION DSAJV'!H140,\" \")","v":0},{"$f":"IFERROR('[6]GESTION DSAJV'!I140,\" \")","v":0},{"$f":"IFERROR('[6]GESTION DSAJV'!J140,\" \")","v":0},null,""]
[null,null,null,null,{"$f":"IFERROR('[6]GESTION DSAJV'!H141,\" \")","v":0},{"$f":"IFERROR('[6]GESTION DSAJV'!I141,\" \")","v":0},{"$f":"IFERROR('[6]GESTION DSAJV'!J141,\" \")","v":0},null,""]
[null,null,null,null,{"$f":"IFERROR('[6]GESTION DSAJV'!H142,\" \")","v":0},{"$f":"IFERROR('[6]GESTION DSAJV'!I142,\" \")","v":0},{"$f":"IFERROR('[6]GESTION DSAJV'!J142,\" \")","v":0},null,""]
[null,null,null,null,{"$f":"IFERROR('[6]GESTION DSAJV'!H143,\" \")","v":0},{"$f":"IFERROR('[6]GESTION DSAJV'!I143,\" \")","v":0},{"$f":"IFERROR('[6]GESTION DSAJV'!J143,\" \")","v":0},null,""]
[null,null,null,null,{"$f":"IFERROR('[6]GESTION DSAJV'!H144,\" \")","v":0},{"$f":"IFERROR('[6]GESTION DSAJV'!I144,\" \")","v":0},{"$f":"IFERROR('[6]GESTION DSAJV'!J144,\" \")","v":0},null,""]
[null,null,null,null,{"$f":"IFERROR('[6]GESTION DSAJV'!H145,\" \")","v":0},{"$f":"IFERROR('[6]GESTION DSAJV'!I145,\" \")","v":0},{"$f":"IFERROR('[6]GESTION DSAJV'!J145,\" \")","v":0},null,""]
[null,null,"4. Aumentar la confianza, la cercanía y acceso a los servicios de la Rama Judicial a través, entre otros, de una comunicación clara y asertiva con la ciudadanía.","3. Fomentar la transparencia y la participación generando lineamientos y promoviendo la rendición de cuentas ,la consulta, reporte y planteamiento de inquietudes en relación con las decisiones y aspectos del SIGCMA.",{"$f":"IFERROR('[6]GESTION DSAJV'!H146,\" \")","v":0},{"$f":"IFERROR('[6]GESTION DSAJV'!I146,\" \")","v":0},{"$f":"IFERROR('[6]GESTION DSAJV'!J146,\" \")","v":0},null,""]
[null,null,null,null,{"$f":"IFERROR('[6]GESTION DSAJV'!H147,\" \")","v":0},{"$f":"IFERROR('[6]GESTION DSAJV'!I147,\" \")","v":0},{"$f":"IFERROR('[6]GESTION DSAJV'!J147,\" \")","v":0},null,""]
[null,null,null,null,{"$f":"IFERROR('[6]GESTION DSAJV'!H148,\" \")","v":0},{"$f":"IFERROR('[6]GESTION DSAJV'!I148,\" \")","v":0},{"$f":"IFERROR('[6]GESTION DSAJV'!J148,\" \")","v":0},null,""]
[null,null,null,null,{"$f":"IFERROR('[6]GESTION DSAJV'!H149,\" \")","v":0},{"$f":"IFERROR('[6]GESTION DSAJV'!I149,\" \")","v":0},{"$f":"IFERROR('[6]GESTION DSAJV'!J149,\" \")","v":0},null,""]
[null,null,null,null,{"$f":"IFERROR('[6]GESTION DSAJV'!H150,\" \")","v":0},{"$f":"IFERROR('[6]GESTION DSAJV'!I150,\" \")","v":0},{"$f":"IFERROR('[6]GESTION DSAJV'!J150,\" \")","v":0},null,""]
[null,null,null,null,{"$f":"IFERROR('[6]GESTION DSAJV'!H151,\" \")","v":0},{"$f":"IFERROR('[6]GESTION DSAJV'!I151,\" \")","v":0},{"$f":"IFERROR('[6]GESTION DSAJV'!J151,\" \")","v":0},null,""]
[null,null,null,null,{"$f":"IFERROR('[6]GESTION DSAJV'!H152,\" \")","v":0},{"$f":"IFERROR('[6]GESTION DSAJV'!I152,\" \")","v":0},{"$f":"IFERROR('[6]GESTION DSAJV'!J152,\" \")","v":0},null,""]
[null,null,null,null,{"$f":"IFERROR('[6]GESTION DSAJV'!H153,\" \")","v":0},{"$f":"IFERROR('[6]GESTION DSAJV'!I153,\" \")","v":0},{"$f":"IFERROR('[6]GESTION DSAJV'!J153,\" \")","v":0},null,""]
[null,null,null,null,{"$f":"IFERROR('[6]GESTION DSAJV'!H154,\" \")","v":0},{"$f":"IFERROR('[6]GESTION DSAJV'!I154,\" \")","v":0},{"$f":"IFERROR('[6]GESTION DSAJV'!J154,\" \")","v":0},null,""]
[null,null,null,null,{"$f":"IFERROR('[6]GESTION DSAJV'!H155,\" \")","v":0},{"$f":"IFERROR('[6]GESTION DSAJV'!I155,\" \")","v":0},{"$f":"IFERROR('[6]GESTION DSAJV'!J155,\" \")","v":0},null,""]
[null,null,"5. Prevenir fenómenos asociados con actos de corrupción en la Rama Judicial y reducir las experiencias de corrupción de usuarios y servidores judiciales.",null,{"$f":"IFERROR('[6]GESTION DSAJV'!H156,\" \")","v":0},{"$f":"IFERROR('[6]GESTION DSAJV'!I156,\" \")","v":0},{"$f":"IFERROR('[6]GESTION DSAJV'!J156,\" \")","v":0},null,""]
[null,null,null,null,{"$f":"IFERROR('[6]GESTION DSAJV'!H157,\" \")","v":0},{"$f":"IFERROR('[6]GESTION DSAJV'!I157,\" \")","v":0},{"$f":"IFERROR('[6]GESTION DSAJV'!J157,\" \")","v":0},null,""]
[null,null,null,null,{"$f":"IFERROR('[6]GESTION DSAJV'!H158,\" \")","v":0},{"$f":"IFERROR('[6]GESTION DSAJV'!I158,\" \")","v":0},{"$f":"IFERROR('[6]GESTION DSAJV'!J158,\" \")","v":0},null,""]
[null,null,null,null,{"$f":"IFERROR('[6]GESTION DSAJV'!H159,\" \")","v":0},{"$f":"IFERROR('[6]GESTION DSAJV'!I159,\" \")","v":0},{"$f":"IFERROR('[6]GESTION DSAJV'!J159,\" \")","v":0},null,""]
[null,null,null,null,{"$f":"IFERROR('[6]GESTION DSAJV'!H160,\" \")","v":0},{"$f":"IFERROR('[6]GESTION DSAJV'!I160,\" \")","v":0},{"$f":"IFERROR('[6]GESTION DSAJV'!J160,\" \")","v":0},null,""]
[null,null,null,null,{"$f":"IFERROR('[6]GESTION DSAJV'!H161,\" \")","v":0},{"$f":"IFERROR('[6]GESTION DSAJV'!I161,\" \")","v":0},{"$f":"IFERROR('[6]GESTION DSAJV'!J161,\" \")","v":0},null,""]
[null,null,null,null,{"$f":"IFERROR('[6]GESTION DSAJV'!H162,\" \")","v":0},{"$f":"IFERROR('[6]GESTION DSAJV'!I162,\" \")","v":0},{"$f":"IFERROR('[6]GESTION DSAJV'!J162,\" \")","v":0},null,""]
[null,null,null,null,{"$f":"IFERROR('[6]GESTION DSAJV'!H163,\" \")","v":0},{"$f":"IFERROR('[6]GESTION DSAJV'!I163,\" \")","v":0},{"$f":"IFERROR('[6]GESTION DSAJV'!J163,\" \")","v":0},null,""]
[null,null,null,null,{"$f":"IFERROR('[6]GESTION DSAJV'!H164,\" \")","v":0},{"$f":"IFERROR('[6]GESTION DSAJV'!I164,\" \")","v":0},{"$f":"IFERROR('[6]GESTION DSAJV'!J164,\" \")","v":0},null,""]
[null,null,null,null,{"$f":"IFERROR('[6]GESTION DSAJV'!H165,\" \")","v":0},{"$f":"IFERROR('[6]GESTION DSAJV'!I165,\" \")","v":0},{"$f":"IFERROR('[6]GESTION DSAJV'!J165,\" \")","v":0},null,""]
[null,null,"6. Promover la rendición de cuentas y la colaboración real con la ciudadanía como fundamento para diseñar acciones de mejoramiento del acceso a la justicia.",null,{"$f":"IFERROR('[6]GESTION DSAJV'!H166,\" \")","v":0},{"$f":"IFERROR('[6]GESTION DSAJV'!I166,\" \")","v":0},{"$f":"IFERROR('[6]GESTION DSAJV'!J166,\" \")","v":0},null,""]
[null,null,null,null,{"$f":"IFERROR('[6]GESTION DSAJV'!H167,\" \")","v":0},{"$f":"IFERROR('[6]GESTION DSAJV'!I167,\" \")","v":0},{"$f":"IFERROR('[6]GESTION DSAJV'!J167,\" \")","v":0},null,""]
[null,null,null,null,{"$f":"IFERROR('[6]GESTION DSAJV'!H168,\" \")","v":0},{"$f":"IFERROR('[6]GESTION DSAJV'!I168,\" \")","v":0},{"$f":"IFERROR('[6]GESTION DSAJV'!J168,\" \")","v":0},null,""]
[null,null,null,null,{"$f":"IFERROR('[6]GESTION DSAJV'!H169,\" \")","v":0},{"$f":"IFERROR('[6]GESTION DSAJV'!I169,\" \")","v":0},{"$f":"IFERROR('[6]GESTION DSAJV'!J169,\" \")","v":0},null,""]
[null,null,null,null,{"$f":"IFERROR('[6]GESTION DSAJV'!H170,\" \")","v":0},{"$f":"IFERROR('[6]GESTION DSAJV'!I170,\" \")","v":0},{"$f":"IFERROR('[6]GESTION DSAJV'!J170,\" \")","v":0},null,""]
[null,null,null,null,{"$f":"IFERROR('[6]GESTION DSAJV'!H171,\" \")","v":0},{"$f":"IFERROR('[6]GESTION DSAJV'!I171,\" \")","v":0},{"$f":"IFERROR('[6]GESTION DSAJV'!J171,\" \")","v":0},null,""]
[null,null,null,null,{"$f":"IFERROR('[6]GESTION DSAJV'!H172,\" \")","v":0},{"$f":"IFERROR('[6]GESTION DSAJV'!I172,\" \")","v":0},{"$f":"IFERROR('[6]GESTION DSAJV'!J172,\" \")","v":0},null,""]
[null,null,null,null,{"$f":"IFERROR('[6]GESTION DSAJV'!H173,\" \")","v":0},{"$f":"IFERROR('[6]GESTION DSAJV'!I173,\" \")","v":0},{"$f":"IFERROR('[6]GESTION DSAJV'!J173,\" \")","v":0},null,""]
[null,null,null,null,{"$f":"IFERROR('[6]GESTION DSAJV'!H174,\" \")","v":0},{"$f":"IFERROR('[6]GESTION DSAJV'!I174,\" \")","v":0},{"$f":"IFERROR('[6]GESTION DSAJV'!J174,\" \")","v":0},null,""]
[null,null,null,null,{"$f":"IFERROR('[6]GESTION DSAJV'!H175,\" \")","v":0},{"$f":"IFERROR('[6]GESTION DSAJV'!I175,\" \")","v":0},{"$f":"IFERROR('[6]GESTION DSAJV'!J175,\" \")","v":0},null,""]
[null,null,"7. Continuar la consolidación del SIGCMA, a través de los procesos de formación en modelos de gestión, logrando la implementación y ampliación de este en los esquemas certificados de manera gradual, teniendo en cuenta las capacidades de los diferentes despachos judiciales y dependencias de la Rama Judicial y articulando el enfoque de Arquitectura Empresarial para el desarrollo del PETD a través de la gestión del conocimiento para la gestión del cambio propendiendo por una cultura de la calidad, la transparencia, la rendición de cuentas, la anticorrupción y el antisoborno","1. Gestionar el desarrollo de las competencias, la toma de conciencia , la cultura  organizacional  y el compromiso de los  servidores judiciales, contratistas, practicantes y  judicantes de contribuir a generar valor público en la administración de justicia, en el marco de  cumplimiento de los requisitos  aplicables y el comportamiento ético.\n4. Hacer un uso racional de los recursos naturales aplicando los principios y fases de la Economía Circular, para prevenir, mitigar y controlar los impactos ambientales.",{"$f":"IFERROR('[6]GESTION DSAJV'!H176,\" \")","v":0},{"$f":"IFERROR('[6]GESTION DSAJV'!I176,\" \")","v":0},{"$f":"IFERROR('[6]GESTION DSAJV'!J176,\" \")","v":0},null,""]
[null,null,null,null,{"$f":"IFERROR('[6]GESTION DSAJV'!H177,\" \")","v":0},{"$f":"IFERROR('[6]GESTION DSAJV'!I177,\" \")","v":0},{"$f":"IFERROR('[6]GESTION DSAJV'!J177,\" \")","v":0},null,""]
[null,null,null,null,{"$f":"IFERROR('[6]GESTION DSAJV'!H178,\" \")","v":0},{"$f":"IFERROR('[6]GESTION DSAJV'!I178,\" \")","v":0},{"$f":"IFERROR('[6]GESTION DSAJV'!J178,\" \")","v":0},null,""]
[null,null,null,null,{"$f":"IFERROR('[6]GESTION DSAJV'!H179,\" \")","v":0},{"$f":"IFERROR('[6]GESTION DSAJV'!I179,\" \")","v":0},{"$f":"IFERROR('[6]GESTION DSAJV'!J179,\" \")","v":0},null,""]
[null,null,null,null,{"$f":"IFERROR('[6]GESTION DSAJV'!H180,\" \")","v":0},{"$f":"IFERROR('[6]GESTION DSAJV'!I180,\" \")","v":0},{"$f":"IFERROR('[6]GESTION DSAJV'!J180,\" \")","v":0},null,""]
[null,null,null,null,{"$f":"IFERROR('[6]GESTION DSAJV'!H181,\" \")","v":0},{"$f":"IFERROR('[6]GESTION DSAJV'!I181,\" \")","v":0},{"$f":"IFERROR('[6]GESTION DSAJV'!J181,\" \")","v":0},null,""]
[null,null,null,null,{"$f":"IFERROR('[6]GESTION DSAJV'!H182,\" \")","v":0},{"$f":"IFERROR('[6]GESTION DSAJV'!I182,\" \")","v":0},{"$f":"IFERROR('[6]GESTION DSAJV'!J182,\" \")","v":0},null,""]
[null,null,null,null,{"$f":"IFERROR('[6]GESTION DSAJV'!H183,\" \")","v":0},{"$f":"IFERROR('[6]GESTION DSAJV'!I183,\" \")","v":0},{"$f":"IFERROR('[6]GESTION DSAJV'!J183,\" \")","v":0},null,""]
[null,null,null,null,{"$f":"IFERROR('[6]GESTION DSAJV'!H184,\" \")","v":0},{"$f":"IFERROR('[6]GESTION DSAJV'!I184,\" \")","v":0},{"$f":"IFERROR('[6]GESTION DSAJV'!J184,\" \")","v":0},null,""]
[null,null,null,null,{"$f":"IFERROR('[6]GESTION DSAJV'!H185,\" \")","v":0},{"$f":"IFERROR('[6]GESTION DSAJV'!I185,\" \")","v":0},{"$f":"IFERROR('[6]GESTION DSAJV'!J185,\" \")","v":0},null,""]
["4. Talento Humano","Talento Humano: Fortalecer el talento humano en la Rama Judicial para que sea eficiente, capacitado y realice su labor en ambientes saludables y seguros. Ampliar la cobertura de la carrera judicial y mejorar la oferta de formación, que esté disponible para todos los servidores judiciales e impacte positivamente el servicio de justicia y responda a las necesidades reales del ejercicio de la función judicial.","1. Ampliar la cobertura de la carrera judicial optimizando los procesos de los concursos de méritos y propender por mitigar su litigiosidad.","1. Gestionar el desarrollo de las competencias, la toma de conciencia , la cultura  organizacional  y el compromiso de los  servidores judiciales, contratistas, practicantes y  judicantes de contribuir a generar valor público en la administración de justicia, en el marco de  cumplimiento de los requisitos  aplicables y el comportamiento ético.",{"$f":"IFERROR('[6]GESTION DSAJV'!H186,\" \")","v":0},{"$f":"IFERROR('[6]GESTION DSAJV'!I186,\" \")","v":0},{"$f":"IFERROR('[6]GESTION DSAJV'!J186,\" \")","v":0},null,""]
[null,null,null,null,{"$f":"IFERROR('[6]GESTION DSAJV'!H187,\" \")","v":0},{"$f":"IFERROR('[6]GESTION DSAJV'!I187,\" \")","v":0},{"$f":"IFERROR('[6]GESTION DSAJV'!J187,\" \")","v":0},null,""]
[null,null,null,null,{"$f":"IFERROR('[6]GESTION DSAJV'!H188,\" \")","v":0},{"$f":"IFERROR('[6]GESTION DSAJV'!I188,\" \")","v":0},{"$f":"IFERROR('[6]GESTION DSAJV'!J188,\" \")","v":0},null,""]
[null,null,null,null,{"$f":"IFERROR('[6]GESTION DSAJV'!H189,\" \")","v":0},{"$f":"IFERROR('[6]GESTION DSAJV'!I189,\" \")","v":0},{"$f":"IFERROR('[6]GESTION DSAJV'!J189,\" \")","v":0},null,""]
[null,null,null,null,{"$f":"IFERROR('[6]GESTION DSAJV'!H190,\" \")","v":0},{"$f":"IFERROR('[6]GESTION DSAJV'!I190,\" \")","v":0},{"$f":"IFERROR('[6]GESTION DSAJV'!J190,\" \")","v":0},null,""]
[null,null,null,null,{"$f":"IFERROR('[6]GESTION DSAJV'!H191,\" \")","v":0},{"$f":"IFERROR('[6]GESTION DSAJV'!I191,\" \")","v":0},{"$f":"IFERROR('[6]GESTION DSAJV'!J191,\" \")","v":0},null,""]
[null,null,null,null,{"$f":"IFERROR('[6]GESTION DSAJV'!H192,\" \")","v":0},{"$f":"IFERROR('[6]GESTION DSAJV'!I192,\" \")","v":0},{"$f":"IFERROR('[6]GESTION DSAJV'!J192,\" \")","v":0},null,""]
[null,null,null,null,{"$f":"IFERROR('[6]GESTION DSAJV'!H193,\" \")","v":0},{"$f":"IFERROR('[6]GESTION DSAJV'!I193,\" \")","v":0},{"$f":"IFERROR('[6]GESTION DSAJV'!J193,\" \")","v":0},null,""]
[null,null,null,null,{"$f":"IFERROR('[6]GESTION DSAJV'!H194,\" \")","v":0},{"$f":"IFERROR('[6]GESTION DSAJV'!I194,\" \")","v":0},{"$f":"IFERROR('[6]GESTION DSAJV'!J194,\" \")","v":0},null,""]
[null,null,null,null,{"$f":"IFERROR('[6]GESTION DSAJV'!H195,\" \")","v":0},{"$f":"IFERROR('[6]GESTION DSAJV'!I195,\" \")","v":0},{"$f":"IFERROR('[6]GESTION DSAJV'!J195,\" \")","v":0},null,""]
[null,null,"2. Impactar la función y servicios que presta la Rama Judicial, a través de una formación integral desde una visión de gestión del conocimiento, relacionada con los problemas de la justicia y los problemas de gestión de quienes administran los recursos de la justicia, y potenciando el uso de medios virtuales.",null,{"$f":"IFERROR('[6]GESTION DSAJV'!H196,\" \")","v":0},{"$f":"IFERROR('[6]GESTION DSAJV'!I196,\" \")","v":0},{"$f":"IFERROR('[6]GESTION DSAJV'!J196,\" \")","v":0},null,""]
[null,null,null,null,{"$f":"IFERROR('[6]GESTION DSAJV'!H197,\" \")","v":0},{"$f":"IFERROR('[6]GESTION DSAJV'!I197,\" \")","v":0},{"$f":"IFERROR('[6]GESTION DSAJV'!J197,\" \")","v":0},null,""]
[null,null,null,null,{"$f":"IFERROR('[6]GESTION DSAJV'!H198,\" \")","v":0},{"$f":"IFERROR('[6]GESTION DSAJV'!I198,\" \")","v":0},{"$f":"IFERROR('[6]GESTION DSAJV'!J198,\" \")","v":0},null,{"$f":"IFERROR(H198/G198,\"\")","v":""}]
[null,null,null,null,{"$f":"IFERROR('[6]GESTION DSAJV'!H199,\" \")","v":0},{"$f":"IFERROR('[6]GESTION DSAJV'!I199,\" \")","v":0},{"$f":"IFERROR('[6]GESTION DSAJV'!J199,\" \")","v":0},null,""]
[null,null,null,null,{"$f":"IFERROR('[6]GESTION DSAJV'!H200,\" \")","v":0},{"$f":"IFERROR('[6]GESTION DSAJV'!I200,\" \")","v":0},{"$f":"IFERROR('[6]GESTION DSAJV'!J200,\" \")","v":0},null,""]
[null,null,null,null,{"$f":"IFERROR('[6]GESTION DSAJV'!H201,\" \")","v":0},{"$f":"IFERROR('[6]GESTION DSAJV'!I201,\" \")","v":0},{"$f":"IFERROR('[6]GESTION DSAJV'!J201,\" \")","v":0},null,""]
[null,null,null,null,{"$f":"IFERROR('[6]GESTION DSAJV'!H202,\" \")","v":0},{"$f":"IFERROR('[6]GESTION DSAJV'!I202,\" \")","v":0},{"$f":"IFERROR('[6]GESTION DSAJV'!J202,\" \")","v":0},null,""]
[null,null,null,null,{"$f":"IFERROR('[6]GESTION DSAJV'!H203,\" \")","v":0},{"$f":"IFERROR('[6]GESTION DSAJV'!I203,\" \")","v":0},{"$f":"IFERROR('[6]GESTION DSAJV'!J203,\" \")","v":0},null,""]
[null,null,null,null,{"$f":"IFERROR('[6]GESTION DSAJV'!H204,\" \")","v":0},{"$f":"IFERROR('[6]GESTION DSAJV'!I204,\" \")","v":0},{"$f":"IFERROR('[6]GESTION DSAJV'!J204,\" \")","v":0},null,""]
[null,null,null,null,{"$f":"IFERROR('[6]GESTION DSAJV'!H205,\" \")","v":0},{"$f":"IFERROR('[6]GESTION DSAJV'!I205,\" \")","v":0},{"$f":"IFERROR('[6]GESTION DSAJV'!J205,\" \")","v":0},null,""]
[null,null,"3. Promover la incorporación de la perspectiva de género y el enfoque diferencial en los fallos judiciales y en la atención a los ciudadanos, la administración de la Rama Judicial, la administración de la carrera judicial y la elaboración de listas para altas Cortes. ",null,{"$f":"IFERROR('[6]GESTION DSAJV'!H206,\" \")","v":0},{"$f":"IFERROR('[6]GESTION DSAJV'!I206,\" \")","v":0},{"$f":"IFERROR('[6]GESTION DSAJV'!J206,\" \")","v":0},null,""]
[null,null,null,null,{"$f":"IFERROR('[6]GESTION DSAJV'!H207,\" \")","v":0},{"$f":"IFERROR('[6]GESTION DSAJV'!I207,\" \")","v":0},{"$f":"IFERROR('[6]GESTION DSAJV'!J207,\" \")","v":0},null,""]
[null,null,null,null,{"$f":"IFERROR('[6]GESTION DSAJV'!H208,\" \")","v":0},{"$f":"IFERROR('[6]GESTION DSAJV'!I208,\" \")","v":0},{"$f":"IFERROR('[6]GESTION DSAJV'!J208,\" \")","v":0},null,""]
[null,null,null,null,{"$f":"IFERROR('[6]GESTION DSAJV'!H209,\" \")","v":0},{"$f":"IFERROR('[6]GESTION DSAJV'!I209,\" \")","v":0},{"$f":"IFERROR('[6]GESTION DSAJV'!J209,\" \")","v":0},null,""]
[null,null,null,null,{"$f":"IFERROR('[6]GESTION DSAJV'!H210,\" \")","v":0},{"$f":"IFERROR('[6]GESTION DSAJV'!I210,\" \")","v":0},{"$f":"IFERROR('[6]GESTION DSAJV'!J210,\" \")","v":0},null,""]
[null,null,null,null,{"$f":"IFERROR('[6]GESTION DSAJV'!H211,\" \")","v":0},{"$f":"IFERROR('[6]GESTION DSAJV'!I211,\" \")","v":0},{"$f":"IFERROR('[6]GESTION DSAJV'!J211,\" \")","v":0},null,""]
[null,null,null,null,{"$f":"IFERROR('[6]GESTION DSAJV'!H212,\" \")","v":0},{"$f":"IFERROR('[6]GESTION DSAJV'!I212,\" \")","v":0},{"$f":"IFERROR('[6]GESTION DSAJV'!J212,\" \")","v":0},null,""]
[null,null,null,null,{"$f":"IFERROR('[6]GESTION DSAJV'!H213,\" \")","v":0},{"$f":"IFERROR('[6]GESTION DSAJV'!I213,\" \")","v":0},{"$f":"IFERROR('[6]GESTION DSAJV'!J213,\" \")","v":0},null,""]
[null,null,null,null,{"$f":"IFERROR('[6]GESTION DSAJV'!H214,\" \")","v":0},{"$f":"IFERROR('[6]GESTION DSAJV'!I214,\" \")","v":0},{"$f":"IFERROR('[6]GESTION DSAJV'!J214,\" \")","v":0},null,""]
[null,null,null,null,{"$f":"IFERROR('[6]GESTION DSAJV'!H215,\" \")","v":0},{"$f":"IFERROR('[6]GESTION DSAJV'!I215,\" \")","v":0},{"$f":"IFERROR('[6]GESTION DSAJV'!J215,\" \")","v":0},null,""]
[null,null,"4. Desarrollar en los servidores judiciales y demás grupos de valor relevantes las competencias necesarias para la efectividad de la transformación digital de modo que puedan, entre otros, utilizar con solvencia las herramientas digitales dispuestas para sus respectivas funciones. Además, fortalecer y actualizar los conocimientos del personal a cargo de la gestión de proyectos de tecnología.",null,{"$f":"IFERROR('[6]GESTION DSAJV'!H216,\" \")","v":0},{"$f":"IFERROR('[6]GESTION DSAJV'!I216,\" \")","v":0},{"$f":"IFERROR('[6]GESTION DSAJV'!J216,\" \")","v":0},null,""]
[null,null,null,null,{"$f":"IFERROR('[6]GESTION DSAJV'!H217,\" \")","v":0},{"$f":"IFERROR('[6]GESTION DSAJV'!I217,\" \")","v":0},{"$f":"IFERROR('[6]GESTION DSAJV'!J217,\" \")","v":0},null,""]
[null,null,null,null,{"$f":"IFERROR('[6]GESTION DSAJV'!H218,\" \")","v":0},{"$f":"IFERROR('[6]GESTION DSAJV'!I218,\" \")","v":0},{"$f":"IFERROR('[6]GESTION DSAJV'!J218,\" \")","v":0},null,""]
[null,null,null,null,{"$f":"IFERROR('[6]GESTION DSAJV'!H219,\" \")","v":0},{"$f":"IFERROR('[6]GESTION DSAJV'!I219,\" \")","v":0},{"$f":"IFERROR('[6]GESTION DSAJV'!J219,\" \")","v":0},null,""]
[null,null,null,null,{"$f":"IFERROR('[6]GESTION DSAJV'!H220,\" \")","v":0},{"$f":"IFERROR('[6]GESTION DSAJV'!I220,\" \")","v":0},{"$f":"IFERROR('[6]GESTION DSAJV'!J220,\" \")","v":0},null,""]
[null,null,null,null,{"$f":"IFERROR('[6]GESTION DSAJV'!H221,\" \")","v":0},{"$f":"IFERROR('[6]GESTION DSAJV'!I221,\" \")","v":0},{"$f":"IFERROR('[6]GESTION DSAJV'!J221,\" \")","v":0},null,""]
[null,null,null,null,{"$f":"IFERROR('[6]GESTION DSAJV'!H222,\" \")","v":"Medición de la participación en los programas de bienestar social y desarrollo de competencias"},{"$f":"IFERROR('[6]GESTION DSAJV'!I222,\" \")","v":"Entregable"},90,20,0.22222222222222221,"Los servidores judiciales no son receptivos a las actividades programadas, pese a la amplia divulgación que se realiza.","Con el apoyo de entidades como la Gobernación,Alcaldia y ARL, se logró realizar las actividades programadas."]
[null,null,null,null,{"$f":"IFERROR('[6]GESTION DSAJV'!H223,\" \")","v":"Medición de los reclamos justificados del cliente interno para el pago de nómina y prestaciones sociales"},"Entregable",0,0.14000000000000001,"","El aplicativo EFINOMINA presenta fallas en la parametrización.","En el primer trimestre se presentaron 34 reclamos justificados, de un total de 23.871 registros de nómina. De lo anterior obtiene que se un  0,1% de reclamos por novedades de nómina."]
[null,null,null,null,{"$f":"IFERROR('[6]GESTION DSAJV'!H224,\" \")","v":"Medición del nivel de satisfacción del cliente interno respecto a las actividades de Gestión Humana"},{"$f":"IFERROR('[6]GESTION DSAJV'!I224,\" \")","v":"Entregable"},90,1,1.1111111111111112E-2,"Se solicita a los servidores diligenciar la encuesta virtual, sin obtener respuesta"]
[null,null,null,null,{"$f":"IFERROR('[6]GESTION DSAJV'!H225,\" \")","v":"Medición de la eficacia en la proyección de recursos para el pago de nomina"},{"$f":"IFERROR('[6]GESTION DSAJV'!I225,\" \")","v":"Entregable"},95,98.07,1.0323157894736841,null,"Durante el primer trimestre se presentó una eficacia del 98.07%, en la proyección del presupuesto requerido para el pago de nómina , toda vez que se proyectó la suma de $19,330,000,000 y se realizó un pago efectivo de $18.996.690.127."]
[null,null,"5. Promover el bienestar de todos los servidores judiciales a través de la implementación de un sistema que contemple los diferentes niveles de estrategias y acciones necesarios para mejorar el clima laboral, la salud física y mental y la calidad del tiempo de descanso.","5. Generar espacios de trabajo seguros y saludables que contribuyan a minimizar los  incidentes, accidentes y enfermedades laborales derivados de las condiciones y actos  inseguros y fomentar  el autocuidado, los  estilos de vida y el trabajo saludable en los servidores judiciales, contratistas, judicantes y practicantes",{"$f":"IFERROR('[6]GESTION DSAJV'!H226,\" \")","v":"Medición de la eficacia en la proyección de recursos para el pago de cesantías"},{"$f":"IFERROR('[6]GESTION DSAJV'!I226,\" \")","v":"Entregable"},95,1,1.0526315789473684E-2,"No se cuenta con un aplicativo que realice la liquidación de cesantias."]
[null,null,null,null,{"$f":"IFERROR('[6]GESTION DSAJV'!H227,\" \")","v":"Ejecución de los recursos de inversion de proyectos de bienestar social y seguridad y salud en el trabajo para el mejoramiento de las condiciones laborales de los servidores judiciales, en cuanto al manejo de los factores de riesgo psicosociales"},{"$f":"IFERROR('[6]GESTION DSAJV'!I227,\" \")","v":"Meta cuantificable"},{"$f":"IFERROR('[6]GESTION DSAJV'!J227,\" \")","v":430880619},93028505,0.21590320125305984,"Se está elaborando los estudios de mercado y estudios previos ","En el primer trimestre del año 2023 se avanzó en un 21 % de avance en la ejecución de presupuesto de los proyectos de inversión de un 100% proyectado."]
[null,null,null,null,{"$f":"IFERROR('[6]GESTION DSAJV'!H228,\" \")","v":"Cumplimiento del plan de trabajo del SG SST"},{"$f":"IFERROR('[6]GESTION DSAJV'!I228,\" \")","v":"Meta cuantificable"},{"$f":"IFERROR('[6]GESTION DSAJV'!J228,\" \")","v":1200},296,0.24666666666666667,"Entrega tardía del Plan de Trabajo (28 de febrero de 2023) por parte del Nivel Nacional","En el primer trimestre del año 2023 se avanzó en un 25 % de cumplimiento de las actividades establecidas en el plan de trabajo de un 100% de actividades proyectadas."]
[null,null,null,null,{"$f":"IFERROR('[6]GESTION DSAJV'!H229,\" \")","v":"Cobertura del plan de trabajo del SG SST"},{"$f":"IFERROR('[6]GESTION DSAJV'!I229,\" \")","v":"Entregable"},{"$f":"IFERROR('[6]GESTION DSAJV'!J229,\" \")","v":0},1,"","Entrega tardía del Plan de Trabajo (28 de febrero de 2023) por parte del Nivel Nacional.\nLa poca participación de los servidores judiciales por el no permiso de los nominadores.","En el primer trimestre del año 2023 participáron un 22 % de cubrimiento en las actividades establecidas en el plan de trabajo de un 100% de actividades proyectadas."]
[null,null,null,null,{"$f":"IFERROR('[6]GESTION DSAJV'!H230,\" \")","v":"Frecuencia de accidentalidad laboral"},{"$f":"IFERROR('[6]GESTION DSAJV'!I230,\" \")","v":"Entregable"},{"$f":"IFERROR('[6]GESTION DSAJV'!J230,\" \")","v":0},1,"",null,"Durante el primer trimestre se reportaron seis (6) AT / IT, de los cuales fueron por colpe contra un objeto. Se inieron las respectivas charlas de autocuidado"]
[null,null,null,null,{"$f":"IFERROR('[6]GESTION DSAJV'!H231,\" \")","v":"Severidad de accidentalidad laboral"},{"$f":"IFERROR('[6]GESTION DSAJV'!I231,\" \")","v":"Entregable"},{"$f":"IFERROR('[6]GESTION DSAJV'!J231,\" \")","v":0},1,"",null,"Durante el primer trimestre por causas de AT / IT no se reportaron incapacidades"]
[null,null,null,null,{"$f":"IFERROR('[6]GESTION DSAJV'!H232,\" \")","v":"Proporción de accidentes de trabajo mortales"},{"$f":"IFERROR('[6]GESTION DSAJV'!I232,\" \")","v":"Entregable"},{"$f":"IFERROR('[6]GESTION DSAJV'!J232,\" \")","v":0},null,"",null,"Para el priemr trimestre no hubo AT mortales"]
[null,null,null,null,{"$f":"IFERROR('[6]GESTION DSAJV'!H233,\" \")","v":"Incidencia de enfermedad laboral"},{"$f":"IFERROR('[6]GESTION DSAJV'!I233,\" \")","v":"Entregable"},{"$f":"IFERROR('[6]GESTION DSAJV'!J233,\" \")","v":0},null,"",null,"En el primer trimestre no se diagnosticaron ningun caso de enefermedad laboral."]
[null,null,null,null,{"$f":"IFERROR('[6]GESTION DSAJV'!H234,\" \")","v":"Prevalencia de enfermedad laboral"},{"$f":"IFERROR('[6]GESTION DSAJV'!I234,\" \")","v":"Entregable"},{"$f":"IFERROR('[6]GESTION DSAJV'!J234,\" \")","v":0},null,"",null,"Para  el primer trimestre, se mantienen los 31 casos antiguos de enfermedad laboral. "]
[null,null,null,null,{"$f":"IFERROR('[6]GESTION DSAJV'!H235,\" \")","v":"Ausentismo por incapacidades médicas"},{"$f":"IFERROR('[6]GESTION DSAJV'!I235,\" \")","v":"Entregable"},{"$f":"IFERROR('[6]GESTION DSAJV'!J235,\" \")","v":0},null,"",null,"Para el primer trimestre se presentaron 1018 días de ausentismo por incapacidades, correspondientes a 75 servidores judiciales."]
["5. Gobernanza, planeación estratégica y capacidad de toma de decisiones","Gobernanza, planeación estratégica y capacidad de toma de decisiones: Fortalecer la gobernanza, la planeación estratégica y la capacidad de toma de decisiones de la Rama Judicial con base en la evidencia empírica y la articulación efectiva con las demás entidades, para que la perspectiva de género y el enfoque diferencial sean transversales en el presente plan. ","1. Implementar un nuevo modelo integrado para la planeación estratégica, el seguimiento y la medición del desempeño institucional.","2. Asegurar  el cumplimiento de los objetivos institucionales, la normatividad aplicable,  la mejora del SIGCMA y la satisfacción de los usuarios, revisando de  forma continua y sistemática la planificación de la gestión y fortaleciendo la administración de riesgos y sus controles.",{"$f":"IFERROR('[6]GESTION DSAJV'!H236,\" \")","v":0},{"$f":"IFERROR('[6]GESTION DSAJV'!I236,\" \")","v":0},{"$f":"IFERROR('[6]GESTION DSAJV'!J236,\" \")","v":0},null,""]
[null,null,null,null,{"$f":"IFERROR('[6]GESTION DSAJV'!H237,\" \")","v":0},{"$f":"IFERROR('[6]GESTION DSAJV'!I237,\" \")","v":0},{"$f":"IFERROR('[6]GESTION DSAJV'!J237,\" \")","v":0},null,""]
[null,null,null,null,{"$f":"IFERROR('[6]GESTION DSAJV'!H238,\" \")","v":0},{"$f":"IFERROR('[6]GESTION DSAJV'!I238,\" \")","v":0},{"$f":"IFERROR('[6]GESTION DSAJV'!J238,\" \")","v":0},null,""]
[null,null,null,null,{"$f":"IFERROR('[6]GESTION DSAJV'!H239,\" \")","v":0},{"$f":"IFERROR('[6]GESTION DSAJV'!I239,\" \")","v":0},{"$f":"IFERROR('[6]GESTION DSAJV'!J239,\" \")","v":0},null,""]
[null,null,null,null,{"$f":"IFERROR('[6]GESTION DSAJV'!H240,\" \")","v":0},{"$f":"IFERROR('[6]GESTION DSAJV'!I240,\" \")","v":0},{"$f":"IFERROR('[6]GESTION DSAJV'!J240,\" \")","v":0},null,""]
[null,null,null,null,{"$f":"IFERROR('[6]GESTION DSAJV'!H241,\" \")","v":0},{"$f":"IFERROR('[6]GESTION DSAJV'!I241,\" \")","v":0},{"$f":"IFERROR('[6]GESTION DSAJV'!J241,\" \")","v":0},null,""]
[null,null,null,null,{"$f":"IFERROR('[6]GESTION DSAJV'!H242,\" \")","v":0},{"$f":"IFERROR('[6]GESTION DSAJV'!I242,\" \")","v":0},{"$f":"IFERROR('[6]GESTION DSAJV'!J242,\" \")","v":0},null,""]
[null,null,null,null,{"$f":"IFERROR('[6]GESTION DSAJV'!H243,\" \")","v":0},{"$f":"IFERROR('[6]GESTION DSAJV'!I243,\" \")","v":0},{"$f":"IFERROR('[6]GESTION DSAJV'!J243,\" \")","v":0},null,""]
[null,null,null,null,{"$f":"IFERROR('[6]GESTION DSAJV'!H244,\" \")","v":0},{"$f":"IFERROR('[6]GESTION DSAJV'!I244,\" \")","v":0},{"$f":"IFERROR('[6]GESTION DSAJV'!J244,\" \")","v":0},null,""]
[null,null,null,null,{"$f":"IFERROR('[6]GESTION DSAJV'!H245,\" \")","v":0},{"$f":"IFERROR('[6]GESTION DSAJV'!I245,\" \")","v":0},{"$f":"IFERROR('[6]GESTION DSAJV'!J245,\" \")","v":0},null,""]
[null,null,"2. Definir e implementar el modelo optimizado de formulación, seguimiento y evaluación de la política pública judicial.",null,{"$f":"IFERROR('[6]GESTION DSAJV'!H246,\" \")","v":0},{"$f":"IFERROR('[6]GESTION DSAJV'!I246,\" \")","v":0},{"$f":"IFERROR('[6]GESTION DSAJV'!J246,\" \")","v":0},null,""]
[null,null,null,null,{"$f":"IFERROR('[6]GESTION DSAJV'!H247,\" \")","v":0},{"$f":"IFERROR('[6]GESTION DSAJV'!I247,\" \")","v":0},{"$f":"IFERROR('[6]GESTION DSAJV'!J247,\" \")","v":0},null,""]
[null,null,null,null,{"$f":"IFERROR('[6]GESTION DSAJV'!H248,\" \")","v":0},{"$f":"IFERROR('[6]GESTION DSAJV'!I248,\" \")","v":0},{"$f":"IFERROR('[6]GESTION DSAJV'!J248,\" \")","v":0},null,""]
[null,null,null,null,{"$f":"IFERROR('[6]GESTION DSAJV'!H249,\" \")","v":0},{"$f":"IFERROR('[6]GESTION DSAJV'!I249,\" \")","v":0},{"$f":"IFERROR('[6]GESTION DSAJV'!J249,\" \")","v":0},null,""]
[null,null,null,null,{"$f":"IFERROR('[6]GESTION DSAJV'!H250,\" \")","v":0},{"$f":"IFERROR('[6]GESTION DSAJV'!I250,\" \")","v":0},{"$f":"IFERROR('[6]GESTION DSAJV'!J250,\" \")","v":0},null,""]
[null,null,null,null,{"$f":"IFERROR('[6]GESTION DSAJV'!H251,\" \")","v":0},{"$f":"IFERROR('[6]GESTION DSAJV'!I251,\" \")","v":0},{"$f":"IFERROR('[6]GESTION DSAJV'!J251,\" \")","v":0},null,""]
[null,null,null,null,{"$f":"IFERROR('[6]GESTION DSAJV'!H252,\" \")","v":0},{"$f":"IFERROR('[6]GESTION DSAJV'!I252,\" \")","v":0},{"$f":"IFERROR('[6]GESTION DSAJV'!J252,\" \")","v":0},null,""]
[null,null,null,null,{"$f":"IFERROR('[6]GESTION DSAJV'!H253,\" \")","v":0},{"$f":"IFERROR('[6]GESTION DSAJV'!I253,\" \")","v":0},{"$f":"IFERROR('[6]GESTION DSAJV'!J253,\" \")","v":0},null,""]
[null,null,null,null,{"$f":"IFERROR('[6]GESTION DSAJV'!H254,\" \")","v":0},{"$f":"IFERROR('[6]GESTION DSAJV'!I254,\" \")","v":0},{"$f":"IFERROR('[6]GESTION DSAJV'!J254,\" \")","v":0},null,""]
[null,null,null,null,{"$f":"IFERROR('[6]GESTION DSAJV'!H255,\" \")","v":0},{"$f":"IFERROR('[6]GESTION DSAJV'!I255,\" \")","v":0},{"$f":"IFERROR('[6]GESTION DSAJV'!J255,\" \")","v":0},null,""]

{"sheet":" GESTION CSJMETA","index":8,"n_rows":255,"n_cols":20,"rows_kept":255,"cut":false,"hidden":false,"merged":[[245,2,254,2],[235,3,254,3],[235,1,254,1],[235,0,254,0],[185,3,224,3],[225,2,234,2],[225,3,234,3],[185,1,234,1],[235,2,244,2],[115,1,184,1],[115,0,184,0],[185,2,194,2],[195,2,204,2],[205,2,214,2],[185,0,234,0],[145,2,154,2],[155,2,164,2],[165,2,174,2],[215,2,224,2],[145,3,174,3],[175,2,184,2],[175,3,184,3],[115,2,124,2],[115,3,124,3],[125,2,134,2],[135,2,144,2],[135,3,144,3],[125,3,134,3],[95,2,104,2],[105,2,114,2],[55,3,114,3],[55,1,114,1],[55,0,114,0],[5,0,54,0],[55,2,64,2],[65,2,74,2],[75,2,84,2],[85,2,94,2],[35,2,44,2],[35,3,44,3],[45,2,54,2],[45,3,54,3],[5,1,54,1],[5,3,14,3],[15,2,24,2],[15,3,24,3],[25,2,34,2],[25,3,34,3],[5,2,14,2],[1,0,1,18],[1,19,1,28],[2,0,2,3],[3,0,4,1],[3,2,4,2],[3,3,4,3],[3,4,3,6],[3,7,3,17],[2,4,2,17],[2,18,4,18]]}
[]
["CONSEJO SUPERIOR DE LA JUDICATURA \nUNIDADES MISIONALES DEL CONSEJO SUPERIOR DE LA JUDICATURA - \nDIRECCIÓN EJECUTIVA DE ADMINISTRACIÓN JUDICIAL - UNIDADES MISIONALES DE LA DEAJ\nDIRECCIONES SECCIONALES DE ADMINISTRACIÓN JUDICIAL - DEPENDENCIAS JUDICIALES CERTIFICADAS",null,null,null,null,null,null,null,null,null,null,null,null,null,null,null,null,null,null,"GENERADOR DE SEGUIMIENTOS TRIMESTRALES"]
["PLAN SECTORIAL DE DESARROLLO 2023-2026 - OBJETIVOS SIGCMA",null,null,null,"PLAN DE ACCIÓN Y SEGUIMIENTO A LA GESTIÓN INSTITUCIONAL (DE ACUERDO CON LA FUNCIÓN MISIONAL ASIGNADA )",null,null,null,null,null,null,null,null,null,null,null,null,null," ANÁLISIS RESULTADO"]
["OBJETIVO ESTRATÉGICO",null,"OBJETIVO ESPECÍFICO PSD","OBJETIVO ESPECÍFICO SIGCMA","MAPA PROCESO SIGCMA",null,null,"MEDICIÓN DE LA GESTIÓN ANUAL"]
[null,null,null,null,"NOMBRE MACRO PROCESO SIGCMA","PROCESO SIGCMA","NIVEL ","ACTIVIDADES ","INDIQUE SI ES ENTREGABLE O META CUANTIFICABLE","META ANUAL","UNIDAD DE MEDIDA","RESPONSABLE DEL PROCESO ","MEDIO O MECANISMO A TRAVES DEL CUAL SE HACE EL SEGUIMIENTO\n(Producto y/o servicio principal)","INICIO \nDÍA/MES/AÑO","FIN\nDÍA/MES/AÑO","AVANCE DE LA META ","NIVEL CUMPLIMIENTO","DIFICULTADES PARA LOGRAR LA META PROPUESTA"]
["1. Acceso e Infraestructura Física","Acceso e Infraestructura Física: Ampliar, en todo el territorio nacional, el acceso a una justicia efectiva, pronta, equitativa e incluyente, reduciendo el atraso y la congestión, de acuerdo con las necesidades de la demanda de justicia por jurisdicción y especialidad, y mejorando la articulación con la justicia restaurativa y terapéutica, y otros mecanismos de solución de conflictos y consolidando una infraestructura física óptima para el acceso a la justicia.","1. Ampliar el acceso a justicia para atender las necesidades jurídicas de los ciudadanos con un enfoque diferencial, de una manera pronta, reduciendo las inequidades y las brechas territoriales de acceso.","2. Asegurar  el cumplimiento de los objetivos institucionales, la normatividad aplicable,  la mejora del SIGCMA y la satisfacción de los usuarios, revisando de  forma continua y sistemática la planificación de la gestión y fortaleciendo la administración de riesgos y sus controles","Misionales","Admin - Reordenamiento Judicial","Seccional","Realizar propuesta de adecuación del mapa judicial ","Entregable",null,null,"Líder del proceso","Informe - Oficio","2023-01-01","2023-12-31",{"$f":"IFERROR(MAX('GESTION_SEG_1_TRIM CSJMETA'!H6,'GESTION_SEG_2_TRIM CSJMETA'!H6,'GESTION_SEG_3_TRIM CSJMETA'!H6),\" \")","v":0},{"$f":"IFERROR(P6/J6,\"\")","v":""},{"$f":"IFERROR(_xlfn.CONCAT(\"Trimestre 1\",CHAR(10),'GESTION_SEG_1_TRIM CSJMETA'!J6,CHAR(10),\"Trimestre 2\",CHAR(10),'GESTION_SEG_2_TRIM CSJMETA'!J6,CHAR(10),\"Trimestre 3\",CHAR(10),'GESTION_SEG_3_TRIM CSJMETA'!J6),\" \")","v":"Trimestre 1\nSin dificultad \nTrimestre 2\nSin dificultad \nTrimestre 3\n"},{"$f":"IFERROR(_xlfn.CONCAT(\"Trimestre 1\",CHAR(10),'GESTION_SEG_1_TRIM CSJMETA'!K6,CHAR(10),\"Trimestre 2\",CHAR(10),'GESTION_SEG_2_TRIM CSJMETA'!K6,CHAR(10),\"Trimestre 3\",CHAR(10),'GESTION_SEG_3_TRIM CSJMETA'!K6),\" \")","v":"Trimestre 1\nEn el primer trimestre de 2023, se logra un cumplimiento del 100% conforme a la gestion realizada   de la escuela judicial, se difundido satisfactoriamente entre los diferentes despachos judiciales \nTrimestre 2\nEn el segundo trimestre de 2023, se logra un cumplimiento del 100% conforme a la gestion realizada de la escuela judicial, se difundido satisfactoriamente entre los diferentes despachos judiciales \nTrimestre 3\n Se recopila informacion para la propuesta anual de  Reordenamiento "}]
[null,null,null,null,"Misionales","Admin - Reordenamiento Judicial","Seccional","Realizar el seguimiento y evaluación de las medidas de descongestión implementadas a nivel seccional","Entregable",null,null,"Líder del proceso","Informe","2023-01-01","2023-12-31",{"$f":"IFERROR(MAX('GESTION_SEG_1_TRIM CSJMETA'!H7,'GESTION_SEG_2_TRIM CSJMETA'!H7,'GESTION_SEG_3_TRIM CSJMETA'!H7),\" \")","v":0},"",{"$f":"IFERROR(_xlfn.CONCAT(\"Trimestre 1\",CHAR(10),'GESTION_SEG_1_TRIM CSJMETA'!J7,CHAR(10),\"Trimestre 2\",CHAR(10),'GESTION_SEG_2_TRIM CSJMETA'!J7,CHAR(10),\"Trimestre 3\",CHAR(10),'GESTION_SEG_3_TRIM CSJMETA'!J7),\" \")","v":"Trimestre 1\nSin dificultad \nTrimestre 2\nSin dificultad \nTrimestre 3\n"},{"$f":"IFERROR(_xlfn.CONCAT(\"Trimestre 1\",CHAR(10),'GESTION_SEG_1_TRIM CSJMETA'!K7,CHAR(10),\"Trimestre 2\",CHAR(10),'GESTION_SEG_2_TRIM CSJMETA'!K7,CHAR(10),\"Trimestre 3\",CHAR(10),'GESTION_SEG_3_TRIM CSJMETA'!K7),\" \")","v":"Trimestre 1\nSe realiza el seguimiento a las medidas  presentando el primer informe bimensual\nTrimestre 2\nSe realiza el seguimiento a las medidas  presentando el primer informe bimensual\nTrimestre 3\nSe realiza el seguimiento a las medidas  presentando el primer informe bimensual"}]
[null,null,null,null,"Apoyo","Admin - Gestión de la Información Estadística","Seccional","Realizar indicadores estadísticos por medio de la recolección de la información estadística SIERJU","Entregable",null,null,"Líder del proceso","Cuadro de control","2023-01-01","2023-12-31",{"$f":"IFERROR(MAX('GESTION_SEG_1_TRIM CSJMETA'!H8,'GESTION_SEG_2_TRIM CSJMETA'!H8,'GESTION_SEG_3_TRIM CSJMETA'!H8),\" \")","v":0},null,{"$f":"IFERROR(_xlfn.CONCAT(\"Trimestre 1\",CHAR(10),'GESTION_SEG_1_TRIM CSJMETA'!J8,CHAR(10),\"Trimestre 2\",CHAR(10),'GESTION_SEG_2_TRIM CSJMETA'!J8,CHAR(10),\"Trimestre 3\",CHAR(10),'GESTION_SEG_3_TRIM CSJMETA'!J8),\" \")","v":"Trimestre 1\nSin dificultad \nTrimestre 2\nSin dificultad \nTrimestre 3\n"},{"$f":"IFERROR(_xlfn.CONCAT(\"Trimestre 1\",CHAR(10),'GESTION_SEG_1_TRIM CSJMETA'!K8,CHAR(10),\"Trimestre 2\",CHAR(10),'GESTION_SEG_2_TRIM CSJMETA'!K8,CHAR(10),\"Trimestre 3\",CHAR(10),'GESTION_SEG_3_TRIM CSJMETA'!K8),\" \")","v":"Trimestre 1\nPara el primer trimestre de 2023, el Consejo seccional de la Judicatura del Meta cumplió la meta establecida con una recolección del 95,63%, a partir de la campaña de acompañamiento previa, durante y posterior al período de reporte, para el primer trimestre la UDAE, ampliando el  plazo  para el reporte hasta el 12 de abril de 2023, debido al cambio de formatos en todas las especialidades y  las inconsistencias presentadas en la plataforma.\nTrimestre 2\nPara el segundo trimestre de 2023,  15  despachos judiciales presentaron el informe estadistico extemporaneamente,  esta seccional  tomo las acciones correctivas ,  y  compulso copias disciplinarias a dos de ellos  por los  reiterados incumplimientos.\nTrimestre 3\nPara el  tercer trimestre la UDAE, amplio el  plazo  para el reporte hasta el 18 de octubre de 2023, debido a la  suspensión de terminos por el ataque cibernetico , Esta seccional inica  acompañamiento   previo, durante y posterior al período de reporte  a los despachos."}]
[null,null,null,null,"Apoyo","Admin - Gestión de la Información Estadística","Seccional","Efectuar visita (Físicas o electrónicas) de verificación estadística Acuerdo PSAA16-10476","Entregable",null,null,"Líder del proceso","Cuadro de control - Informe","2023-01-01","2023-12-31",{"$f":"IFERROR(MAX('GESTION_SEG_1_TRIM CSJMETA'!H9,'GESTION_SEG_2_TRIM CSJMETA'!H9,'GESTION_SEG_3_TRIM CSJMETA'!H9),\" \")","v":0},null,{"$f":"IFERROR(_xlfn.CONCAT(\"Trimestre 1\",CHAR(10),'GESTION_SEG_1_TRIM CSJMETA'!J9,CHAR(10),\"Trimestre 2\",CHAR(10),'GESTION_SEG_2_TRIM CSJMETA'!J9,CHAR(10),\"Trimestre 3\",CHAR(10),'GESTION_SEG_3_TRIM CSJMETA'!J9),\" \")","v":"Trimestre 1\nSin dificultad \nTrimestre 2\nSin dificultad \nTrimestre 3\n"},{"$f":"IFERROR(_xlfn.CONCAT(\"Trimestre 1\",CHAR(10),'GESTION_SEG_1_TRIM CSJMETA'!K9,CHAR(10),\"Trimestre 2\",CHAR(10),'GESTION_SEG_2_TRIM CSJMETA'!K9,CHAR(10),\"Trimestre 3\",CHAR(10),'GESTION_SEG_3_TRIM CSJMETA'!K9),\" \")","v":"Trimestre 1\nConforme a la  información reportada por cada despacho los primeros 5 dias hábiles de cada trimestre,  se consolidad  la informacion y se reporta. \nTrimestre 2\nConforme a la  información reportada por cada despacho,    en este trimestre, 2 despachos  que reiterativamente  presntan desatencion e incumpliminetos en los reportes, lo  que conllevo a compulsa de copias  disciplinarias.\nTrimestre 3\nConforme a la  información reportada por cada despacho,    en este trimestre 2 despachos reportaron extemporaneamente, lo que conllevo a compulsa de copias  disciplinarias."}]
[null,null,null,null,null,null,null,null,null,null,null,null,null,null,null,{"$f":"IFERROR(MAX('GESTION_SEG_1_TRIM CSJMETA'!H10,'GESTION_SEG_2_TRIM CSJMETA'!H10,'GESTION_SEG_3_TRIM CSJMETA'!H10),\" \")","v":0},null,{"$f":"IFERROR(_xlfn.CONCAT(\"Trimestre 1\",CHAR(10),'GESTION_SEG_1_TRIM CSJMETA'!J10,CHAR(10),\"Trimestre 2\",CHAR(10),'GESTION_SEG_2_TRIM CSJMETA'!J10,CHAR(10),\"Trimestre 3\",CHAR(10),'GESTION_SEG_3_TRIM CSJMETA'!J10),\" \")","v":"Trimestre 1\n\nTrimestre 2\n\nTrimestre 3\n"},{"$f":"IFERROR(_xlfn.CONCAT(\"Trimestre 1\",CHAR(10),'GESTION_SEG_1_TRIM CSJMETA'!K10,CHAR(10),\"Trimestre 2\",CHAR(10),'GESTION_SEG_2_TRIM CSJMETA'!K10,CHAR(10),\"Trimestre 3\",CHAR(10),'GESTION_SEG_3_TRIM CSJMETA'!K10),\" \")","v":"Trimestre 1\n\nTrimestre 2\n\nTrimestre 3\n"}]
[null,null,null,null,null,null,null,null,null,null,null,null,null,null,null,{"$f":"IFERROR(MAX('GESTION_SEG_1_TRIM CSJMETA'!H11,'GESTION_SEG_2_TRIM CSJMETA'!H11,'GESTION_SEG_3_TRIM CSJMETA'!H11),\" \")","v":0},null,{"$f":"IFERROR(_xlfn.CONCAT(\"Trimestre 1\",CHAR(10),'GESTION_SEG_1_TRIM CSJMETA'!J11,CHAR(10),\"Trimestre 2\",CHAR(10),'GESTION_SEG_2_TRIM CSJMETA'!J11,CHAR(10),\"Trimestre 3\",CHAR(10),'GESTION_SEG_3_TRIM CSJMETA'!J11),\" \")","v":"Trimestre 1\n\nTrimestre 2\n\nTrimestre 3\n"},{"$f":"IFERROR(_xlfn.CONCAT(\"Trimestre 1\",CHAR(10),'GESTION_SEG_1_TRIM CSJMETA'!K11,CHAR(10),\"Trimestre 2\",CHAR(10),'GESTION_SEG_2_TRIM CSJMETA'!K11,CHAR(10),\"Trimestre 3\",CHAR(10),'GESTION_SEG_3_TRIM CSJMETA'!K11),\" \")","v":"Trimestre 1\n\nTrimestre 2\n\nTrimestre 3\n"}]
[null,null,null,null,null,null,null,null,null,null,null,null,null,null,null,{"$f":"IFERROR(MAX('GESTION_SEG_1_TRIM CSJMETA'!H12,'GESTION_SEG_2_TRIM CSJMETA'!H12,'GESTION_SEG_3_TRIM CSJMETA'!H12),\" \")","v":0},null,{"$f":"IFERROR(_xlfn.CONCAT(\"Trimestre 1\",CHAR(10),'GESTION_SEG_1_TRIM CSJMETA'!J12,CHAR(10),\"Trimestre 2\",CHAR(10),'GESTION_SEG_2_TRIM CSJMETA'!J12,CHAR(10),\"Trimestre 3\",CHAR(10),'GESTION_SEG_3_TRIM CSJMETA'!J12),\" \")","v":"Trimestre 1\n\nTrimestre 2\n\nTrimestre 3\n"},{"$f":"IFERROR(_xlfn.CONCAT(\"Trimestre 1\",CHAR(10),'GESTION_SEG_1_TRIM CSJMETA'!K12,CHAR(10),\"Trimestre 2\",CHAR(10),'GESTION_SEG_2_TRIM CSJMETA'!K12,CHAR(10),\"Trimestre 3\",CHAR(10),'GESTION_SEG_3_TRIM CSJMETA'!K12),\" \")","v":"Trimestre 1\n\nTrimestre 2\n\nTrimestre 3\n"}]
[null,null,null,null,null,null,null,null,null,null,null,null,null,null,null,{"$f":"IFERROR(MAX('GESTION_SEG_1_TRIM CSJMETA'!H13,'GESTION_SEG_2_TRIM CSJMETA'!H13,'GESTION_SEG_3_TRIM CSJMETA'!H13),\" \")","v":0},"",{"$f":"IFERROR(_xlfn.CONCAT(\"Trimestre 1\",CHAR(10),'GESTION_SEG_1_TRIM CSJMETA'!J13,CHAR(10),\"Trimestre 2\",CHAR(10),'GESTION_SEG_2_TRIM CSJMETA'!J13,CHAR(10),\"Trimestre 3\",CHAR(10),'GESTION_SEG_3_TRIM CSJMETA'!J13),\" \")","v":"Trimestre 1\n\nTrimestre 2\n\nTrimestre 3\n"},{"$f":"IFERROR(_xlfn.CONCAT(\"Trimestre 1\",CHAR(10),'GESTION_SEG_1_TRIM CSJMETA'!K13,CHAR(10),\"Trimestre 2\",CHAR(10),'GESTION_SEG_2_TRIM CSJMETA'!K13,CHAR(10),\"Trimestre 3\",CHAR(10),'GESTION_SEG_3_TRIM CSJMETA'!K13),\" \")","v":"Trimestre 1\n\nTrimestre 2\n\nTrimestre 3\n"}]
[null,null,null,null,null,null,null,null,null,null,null,null,null,null,null,{"$f":"IFERROR(MAX('GESTION_SEG_1_TRIM CSJMETA'!H14,'GESTION_SEG_2_TRIM CSJMETA'!H14,'GESTION_SEG_3_TRIM CSJMETA'!H14),\" \")","v":0},"",{"$f":"IFERROR(_xlfn.CONCAT(\"Trimestre 1\",CHAR(10),'GESTION_SEG_1_TRIM CSJMETA'!J14,CHAR(10),\"Trimestre 2\",CHAR(10),'GESTION_SEG_2_TRIM CSJMETA'!J14,CHAR(10),\"Trimestre 3\",CHAR(10),'GESTION_SEG_3_TRIM CSJMETA'!J14),\" \")","v":"Trimestre 1\n\nTrimestre 2\n\nTrimestre 3\n"},{"$f":"IFERROR(_xlfn.CONCAT(\"Trimestre 1\",CHAR(10),'GESTION_SEG_1_TRIM CSJMETA'!K14,CHAR(10),\"Trimestre 2\",CHAR(10),'GESTION_SEG_2_TRIM CSJMETA'!K14,CHAR(10),\"Trimestre 3\",CHAR(10),'GESTION_SEG_3_TRIM CSJMETA'!K14),\" \")","v":"Trimestre 1\n\nTrimestre 2\n\nTrimestre 3\n"}]
[null,null,null,null,null,null,null,null,null,null,null,null,null,null,null,{"$f":"IFERROR(MAX('GESTION_SEG_1_TRIM CSJMETA'!H15,'GESTION_SEG_2_TRIM CSJMETA'!H15,'GESTION_SEG_3_TRIM CSJMETA'!H15),\" \")","v":0},"",{"$f":"IFERROR(_xlfn.CONCAT(\"Trimestre 1\",CHAR(10),'GESTION_SEG_1_TRIM CSJMETA'!J15,CHAR(10),\"Trimestre 2\",CHAR(10),'GESTION_SEG_2_TRIM CSJMETA'!J15,CHAR(10),\"Trimestre 3\",CHAR(10),'GESTION_SEG_3_TRIM CSJMETA'!J15),\" \")","v":"Trimestre 1\n\nTrimestre 2\n\nTrimestre 3\n"},{"$f":"IFERROR(_xlfn.CONCAT(\"Trimestre 1\",CHAR(10),'GESTION_SEG_1_TRIM CSJMETA'!K15,CHAR(10),\"Trimestre 2\",CHAR(10),'GESTION_SEG_2_TRIM CSJMETA'!K15,CHAR(10),\"Trimestre 3\",CHAR(10),'GESTION_SEG_3_TRIM CSJMETA'!K15),\" \")","v":"Trimestre 1\n\nTrimestre 2\n\nTrimestre 3\n"}]
[null,null,"2. Mejorar los tiempos de respuesta de la Rama Judicial y reducir el inventario de procesos, identificando los retos internos y promoviendo tanto acciones articuladas específicas para abordarlos como estrategias coordinadas para enfrentar las barreras que dependen de otras entidades.","2. Asegurar  el cumplimiento de los objetivos institucionales, la normatividad aplicable,  la mejora del SIGCMA y la satisfacción de los usuarios, revisando de  forma continua y sistemática la planificación de la gestión y fortaleciendo la administración de riesgos y sus controles","Misionales","Admin - Registro y Control de Abogados y Auxiliares de la Justicia","Seccional","Seguimiento y control de la inscripción de los jueces de paz y de reconsideración en la URNA","Entregable",null,null,"Líder del proceso","Seguimiento semestral con el nivel central","2023-01-01","2023-12-31",{"$f":"IFERROR(MAX('GESTION_SEG_1_TRIM CSJMETA'!H16,'GESTION_SEG_2_TRIM CSJMETA'!H16,'GESTION_SEG_3_TRIM CSJMETA'!H16),\" \")","v":0},"",{"$f":"IFERROR(_xlfn.CONCAT(\"Trimestre 1\",CHAR(10),'GESTION_SEG_1_TRIM CSJMETA'!J16,CHAR(10),\"Trimestre 2\",CHAR(10),'GESTION_SEG_2_TRIM CSJMETA'!J16,CHAR(10),\"Trimestre 3\",CHAR(10),'GESTION_SEG_3_TRIM CSJMETA'!J16),\" \")","v":"Trimestre 1\nNo se ha logrado alcanzar la meta propuesta, pese a los constantes requerimientos\nTrimestre 2\nNo se ha logrado alcanzar la meta propuesta, pese a los constantes requerimientos\nTrimestre 3\nNo se han presentado"},{"$f":"IFERROR(_xlfn.CONCAT(\"Trimestre 1\",CHAR(10),'GESTION_SEG_1_TRIM CSJMETA'!K16,CHAR(10),\"Trimestre 2\",CHAR(10),'GESTION_SEG_2_TRIM CSJMETA'!K16,CHAR(10),\"Trimestre 3\",CHAR(10),'GESTION_SEG_3_TRIM CSJMETA'!K16),\" \")","v":"Trimestre 1\nEn el primer trimestre de 2023, se realizó el primer seguimiento del estado de la inscripción a la URNA  de los Jueces de Paz y de Reconsideración de Villavicencio, en el que se logró determinar la cantidad de ellos que aún no habían realizado o terminado el trámite de inscripción y carnetización.\nTrimestre 2\nEn el segundo trimestre de 2023, se realizó requerimiento a los jueces de paz y de reconsideración reportados por la URNA, pendientes de realizar o termina el trámite de inscripción.\nTrimestre 3\nEn el tercer trimestre de 2023, se culminó el trámite  que se inició en el segundo trimestre de 2023, de inscripción en la URNA, y la entrega de carnet a los jueces de Paz Gina Alejandra Saenz de la Comuna 8 de Villavicencio y a Héctor Cendales de la Comuna 5 de Villavicencio."}]
[null,null,null,null,"Misionales","Admin - Registro y Control de Abogados y Auxiliares de la Justicia","Seccional","Seguimiento, actualización y divulgación del listado de los Auxiliares de Justicia ","Entregable",null,null,"Líder del proceso","Resolución de auxiliares de justicia","2023-01-01","2023-12-31",{"$f":"IFERROR(MAX('GESTION_SEG_1_TRIM CSJMETA'!H17,'GESTION_SEG_2_TRIM CSJMETA'!H17,'GESTION_SEG_3_TRIM CSJMETA'!H17),\" \")","v":0},"",{"$f":"IFERROR(_xlfn.CONCAT(\"Trimestre 1\",CHAR(10),'GESTION_SEG_1_TRIM CSJMETA'!J17,CHAR(10),\"Trimestre 2\",CHAR(10),'GESTION_SEG_2_TRIM CSJMETA'!J17,CHAR(10),\"Trimestre 3\",CHAR(10),'GESTION_SEG_3_TRIM CSJMETA'!J17),\" \")","v":"Trimestre 1\nNo se ha presentado\nTrimestre 2\nNo se ha presentado\nTrimestre 3\nNo se han presentado"},{"$f":"IFERROR(_xlfn.CONCAT(\"Trimestre 1\",CHAR(10),'GESTION_SEG_1_TRIM CSJMETA'!K17,CHAR(10),\"Trimestre 2\",CHAR(10),'GESTION_SEG_2_TRIM CSJMETA'!K17,CHAR(10),\"Trimestre 3\",CHAR(10),'GESTION_SEG_3_TRIM CSJMETA'!K17),\" \")","v":"Trimestre 1\nEn el primer trimeste de 2023, se emite la Resolución No. 1128 de 2023, mediante la cual se conforma la Lista de Auxiliares de la Justicia, para el periodo comprendido entre el 1ro. de abril de 2023 y el 31 de marzo de 2025.\nTrimestre 2\nSe encuentra en vigencia la Resolución No. 1128 de 2023, mediante la cual se conforma la Lista de Auxiliares de la Justicia, para el periodo comprendido entre el 1ro. de abril de 2023 y el 31 de marzo de 2025.\nTrimestre 3\nEn el tercer trimestre, aún se encuentra en vigencia la Resolución No. 1128 de 2023, mediante la cual se conforma la Lista de Auxiliares de la Justicia, para el periodo comprendido entre el 1 de abril de 2023 y el 31 de marzo de 2025, sobre lo cual no se ha presentado novedad alguna."}]
[null,null,null,null,null,null,null,null,null,null,null,null,null,null,null,{"$f":"IFERROR(MAX('GESTION_SEG_1_TRIM CSJMETA'!H18,'GESTION_SEG_2_TRIM CSJMETA'!H18,'GESTION_SEG_3_TRIM CSJMETA'!H18),\" \")","v":0},null,{"$f":"IFERROR(_xlfn.CONCAT(\"Trimestre 1\",CHAR(10),'GESTION_SEG_1_TRIM CSJMETA'!J18,CHAR(10),\"Trimestre 2\",CHAR(10),'GESTION_SEG_2_TRIM CSJMETA'!J18,CHAR(10),\"Trimestre 3\",CHAR(10),'GESTION_SEG_3_TRIM CSJMETA'!J18),\" \")","v":"Trimestre 1\n\nTrimestre 2\n\nTrimestre 3\n"},{"$f":"IFERROR(_xlfn.CONCAT(\"Trimestre 1\",CHAR(10),'GESTION_SEG_1_TRIM CSJMETA'!K18,CHAR(10),\"Trimestre 2\",CHAR(10),'GESTION_SEG_2_TRIM CSJMETA'!K18,CHAR(10),\"Trimestre 3\",CHAR(10),'GESTION_SEG_3_TRIM CSJMETA'!K18),\" \")","v":"Trimestre 1\n\nTrimestre 2\n\nTrimestre 3\n"}]
[null,null,null,null,null,null,null,null,null,null,null,null,null,null,null,{"$f":"IFERROR(MAX('GESTION_SEG_1_TRIM CSJMETA'!H19,'GESTION_SEG_2_TRIM CSJMETA'!H19,'GESTION_SEG_3_TRIM CSJMETA'!H19),\" \")","v":0},null,{"$f":"IFERROR(_xlfn.CONCAT(\"Trimestre 1\",CHAR(10),'GESTION_SEG_1_TRIM CSJMETA'!J19,CHAR(10),\"Trimestre 2\",CHAR(10),'GESTION_SEG_2_TRIM CSJMETA'!J19,CHAR(10),\"Trimestre 3\",CHAR(10),'GESTION_SEG_3_TRIM CSJMETA'!J19),\" \")","v":"Trimestre 1\n\nTrimestre 2\n\nTrimestre 3\n"},{"$f":"IFERROR(_xlfn.CONCAT(\"Trimestre 1\",CHAR(10),'GESTION_SEG_1_TRIM CSJMETA'!K19,CHAR(10),\"Trimestre 2\",CHAR(10),'GESTION_SEG_2_TRIM CSJMETA'!K19,CHAR(10),\"Trimestre 3\",CHAR(10),'GESTION_SEG_3_TRIM CSJMETA'!K19),\" \")","v":"Trimestre 1\n\nTrimestre 2\n\nTrimestre 3\n"}]
[null,null,null,null,null,null,null,null,null,null,null,null,null,null,null,{"$f":"IFERROR(MAX('GESTION_SEG_1_TRIM CSJMETA'!H20,'GESTION_SEG_2_TRIM CSJMETA'!H20,'GESTION_SEG_3_TRIM CSJMETA'!H20),\" \")","v":0},null,{"$f":"IFERROR(_xlfn.CONCAT(\"Trimestre 1\",CHAR(10),'GESTION_SEG_1_TRIM CSJMETA'!J20,CHAR(10),\"Trimestre 2\",CHAR(10),'GESTION_SEG_2_TRIM CSJMETA'!J20,CHAR(10),\"Trimestre 3\",CHAR(10),'GESTION_SEG_3_TRIM CSJMETA'!J20),\" \")","v":"Trimestre 1\n\nTrimestre 2\n\nTrimestre 3\n"},{"$f":"IFERROR(_xlfn.CONCAT(\"Trimestre 1\",CHAR(10),'GESTION_SEG_1_TRIM CSJMETA'!K20,CHAR(10),\"Trimestre 2\",CHAR(10),'GESTION_SEG_2_TRIM CSJMETA'!K20,CHAR(10),\"Trimestre 3\",CHAR(10),'GESTION_SEG_3_TRIM CSJMETA'!K20),\" \")","v":"Trimestre 1\n\nTrimestre 2\n\nTrimestre 3\n"}]
[null,null,null,null,null,null,null,null,null,null,null,null,null,null,null,{"$f":"IFERROR(MAX('GESTION_SEG_1_TRIM CSJMETA'!H21,'GESTION_SEG_2_TRIM CSJMETA'!H21,'GESTION_SEG_3_TRIM CSJMETA'!H21),\" \")","v":0},null,{"$f":"IFERROR(_xlfn.CONCAT(\"Trimestre 1\",CHAR(10),'GESTION_SEG_1_TRIM CSJMETA'!J21,CHAR(10),\"Trimestre 2\",CHAR(10),'GESTION_SEG_2_TRIM CSJMETA'!J21,CHAR(10),\"Trimestre 3\",CHAR(10),'GESTION_SEG_3_TRIM CSJMETA'!J21),\" \")","v":"Trimestre 1\n\nTrimestre 2\n\nTrimestre 3\n"},{"$f":"IFERROR(_xlfn.CONCAT(\"Trimestre 1\",CHAR(10),'GESTION_SEG_1_TRIM CSJMETA'!K21,CHAR(10),\"Trimestre 2\",CHAR(10),'GESTION_SEG_2_TRIM CSJMETA'!K21,CHAR(10),\"Trimestre 3\",CHAR(10),'GESTION_SEG_3_TRIM CSJMETA'!K21),\" \")","v":"Trimestre 1\n\nTrimestre 2\n\nTrimestre 3\n"}]
[null,null,null,null,null,null,null,null,null,null,null,null,null,null,null,{"$f":"IFERROR(MAX('GESTION_SEG_1_TRIM CSJMETA'!H22,'GESTION_SEG_2_TRIM CSJMETA'!H22,'GESTION_SEG_3_TRIM CSJMETA'!H22),\" \")","v":0},null,{"$f":"IFERROR(_xlfn.CONCAT(\"Trimestre 1\",CHAR(10),'GESTION_SEG_1_TRIM CSJMETA'!J22,CHAR(10),\"Trimestre 2\",CHAR(10),'GESTION_SEG_2_TRIM CSJMETA'!J22,CHAR(10),\"Trimestre 3\",CHAR(10),'GESTION_SEG_3_TRIM CSJMETA'!J22),\" \")","v":"Trimestre 1\n\nTrimestre 2\n\nTrimestre 3\n"},{"$f":"IFERROR(_xlfn.CONCAT(\"Trimestre 1\",CHAR(10),'GESTION_SEG_1_TRIM CSJMETA'!K22,CHAR(10),\"Trimestre 2\",CHAR(10),'GESTION_SEG_2_TRIM CSJMETA'!K22,CHAR(10),\"Trimestre 3\",CHAR(10),'GESTION_SEG_3_TRIM CSJMETA'!K22),\" \")","v":"Trimestre 1\n\nTrimestre 2\n\nTrimestre 3\n"}]
[null,null,null,null,null,null,null,null,null,null,null,null,null,null,null,{"$f":"IFERROR(MAX('GESTION_SEG_1_TRIM CSJMETA'!H23,'GESTION_SEG_2_TRIM CSJMETA'!H23,'GESTION_SEG_3_TRIM CSJMETA'!H23),\" \")","v":0},"",{"$f":"IFERROR(_xlfn.CONCAT(\"Trimestre 1\",CHAR(10),'GESTION_SEG_1_TRIM CSJMETA'!J23,CHAR(10),\"Trimestre 2\",CHAR(10),'GESTION_SEG_2_TRIM CSJMETA'!J23,CHAR(10),\"Trimestre 3\",CHAR(10),'GESTION_SEG_3_TRIM CSJMETA'!J23),\" \")","v":"Trimestre 1\n\nTrimestre 2\n\nTrimestre 3\n"},{"$f":"IFERROR(_xlfn.CONCAT(\"Trimestre 1\",CHAR(10),'GESTION_SEG_1_TRIM CSJMETA'!K23,CHAR(10),\"Trimestre 2\",CHAR(10),'GESTION_SEG_2_TRIM CSJMETA'!K23,CHAR(10),\"Trimestre 3\",CHAR(10),'GESTION_SEG_3_TRIM CSJMETA'!K23),\" \")","v":"Trimestre 1\n\nTrimestre 2\n\nTrimestre 3\n"}]
[null,null,null,null,null,null,null,null,null,null,null,null,null,null,null,{"$f":"IFERROR(MAX('GESTION_SEG_1_TRIM CSJMETA'!H24,'GESTION_SEG_2_TRIM CSJMETA'!H24,'GESTION_SEG_3_TRIM CSJMETA'!H24),\" \")","v":0},"",{"$f":"IFERROR(_xlfn.CONCAT(\"Trimestre 1\",CHAR(10),'GESTION_SEG_1_TRIM CSJMETA'!J24,CHAR(10),\"Trimestre 2\",CHAR(10),'GESTION_SEG_2_TRIM CSJMETA'!J24,CHAR(10),\"Trimestre 3\",CHAR(10),'GESTION_SEG_3_TRIM CSJMETA'!J24),\" \")","v":"Trimestre 1\n\nTrimestre 2\n\nTrimestre 3\n"},{"$f":"IFERROR(_xlfn.CONCAT(\"Trimestre 1\",CHAR(10),'GESTION_SEG_1_TRIM CSJMETA'!K24,CHAR(10),\"Trimestre 2\",CHAR(10),'GESTION_SEG_2_TRIM CSJMETA'!K24,CHAR(10),\"Trimestre 3\",CHAR(10),'GESTION_SEG_3_TRIM CSJMETA'!K24),\" \")","v":"Trimestre 1\n\nTrimestre 2\n\nTrimestre 3\n"}]
[null,null,null,null,null,null,null,null,null,null,null,null,null,null,null,{"$f":"IFERROR(MAX('GESTION_SEG_1_TRIM CSJMETA'!H25,'GESTION_SEG_2_TRIM CSJMETA'!H25,'GESTION_SEG_3_TRIM CSJMETA'!H25),\" \")","v":0},"",{"$f":"IFERROR(_xlfn.CONCAT(\"Trimestre 1\",CHAR(10),'GESTION_SEG_1_TRIM CSJMETA'!J25,CHAR(10),\"Trimestre 2\",CHAR(10),'GESTION_SEG_2_TRIM CSJMETA'!J25,CHAR(10),\"Trimestre 3\",CHAR(10),'GESTION_SEG_3_TRIM CSJMETA'!J25),\" \")","v":"Trimestre 1\n\nTrimestre 2\n\nTrimestre 3\n"},{"$f":"IFERROR(_xlfn.CONCAT(\"Trimestre 1\",CHAR(10),'GESTION_SEG_1_TRIM CSJMETA'!K25,CHAR(10),\"Trimestre 2\",CHAR(10),'GESTION_SEG_2_TRIM CSJMETA'!K25,CHAR(10),\"Trimestre 3\",CHAR(10),'GESTION_SEG_3_TRIM CSJMETA'!K25),\" \")","v":"Trimestre 1\n\nTrimestre 2\n\nTrimestre 3\n"}]
[null,null,"3. Coadyuvar en la garantía de la idoneidad en el ejercicio de la profesión jurídica de acuerdo con lo establecido en la Ley 1905 de 2018","2. Asegurar  el cumplimiento de los objetivos institucionales, la normatividad aplicable,  la mejora del SIGCMA y la satisfacción de los usuarios, revisando de  forma continua y sistemática la planificación de la gestión y fortaleciendo la administración de riesgos y sus controles",null,null,null,null,null,null,null,null,null,null,null,{"$f":"IFERROR(MAX('GESTION_SEG_1_TRIM CSJMETA'!H26,'GESTION_SEG_2_TRIM CSJMETA'!H26,'GESTION_SEG_3_TRIM CSJMETA'!H26),\" \")","v":0},"",{"$f":"IFERROR(_xlfn.CONCAT(\"Trimestre 1\",CHAR(10),'GESTION_SEG_1_TRIM CSJMETA'!J26,CHAR(10),\"Trimestre 2\",CHAR(10),'GESTION_SEG_2_TRIM CSJMETA'!J26,CHAR(10),\"Trimestre 3\",CHAR(10),'GESTION_SEG_3_TRIM CSJMETA'!J26),\" \")","v":"Trimestre 1\n\nTrimestre 2\n\nTrimestre 3\n"},{"$f":"IFERROR(_xlfn.CONCAT(\"Trimestre 1\",CHAR(10),'GESTION_SEG_1_TRIM CSJMETA'!K26,CHAR(10),\"Trimestre 2\",CHAR(10),'GESTION_SEG_2_TRIM CSJMETA'!K26,CHAR(10),\"Trimestre 3\",CHAR(10),'GESTION_SEG_3_TRIM CSJMETA'!K26),\" \")","v":"Trimestre 1\n\nTrimestre 2\n\nTrimestre 3\n"}]
[null,null,null,null,null,null,null,null,null,null,null,null,null,null,null,{"$f":"IFERROR(MAX('GESTION_SEG_1_TRIM CSJMETA'!H27,'GESTION_SEG_2_TRIM CSJMETA'!H27,'GESTION_SEG_3_TRIM CSJMETA'!H27),\" \")","v":0},"",{"$f":"IFERROR(_xlfn.CONCAT(\"Trimestre 1\",CHAR(10),'GESTION_SEG_1_TRIM CSJMETA'!J27,CHAR(10),\"Trimestre 2\",CHAR(10),'GESTION_SEG_2_TRIM CSJMETA'!J27,CHAR(10),\"Trimestre 3\",CHAR(10),'GESTION_SEG_3_TRIM CSJMETA'!J27),\" \")","v":"Trimestre 1\n\nTrimestre 2\n\nTrimestre 3\n"},{"$f":"IFERROR(_xlfn.CONCAT(\"Trimestre 1\",CHAR(10),'GESTION_SEG_1_TRIM CSJMETA'!K27,CHAR(10),\"Trimestre 2\",CHAR(10),'GESTION_SEG_2_TRIM CSJMETA'!K27,CHAR(10),\"Trimestre 3\",CHAR(10),'GESTION_SEG_3_TRIM CSJMETA'!K27),\" \")","v":"Trimestre 1\n\nTrimestre 2\n\nTrimestre 3\n"}]
[null,null,null,null,null,null,null,null,null,null,null,null,null,null,null,{"$f":"IFERROR(MAX('GESTION_SEG_1_TRIM CSJMETA'!H28,'GESTION_SEG_2_TRIM CSJMETA'!H28,'GESTION_SEG_3_TRIM CSJMETA'!H28),\" \")","v":0},null,{"$f":"IFERROR(_xlfn.CONCAT(\"Trimestre 1\",CHAR(10),'GESTION_SEG_1_TRIM CSJMETA'!J28,CHAR(10),\"Trimestre 2\",CHAR(10),'GESTION_SEG_2_TRIM CSJMETA'!J28,CHAR(10),\"Trimestre 3\",CHAR(10),'GESTION_SEG_3_TRIM CSJMETA'!J28),\" \")","v":"Trimestre 1\n\nTrimestre 2\n\nTrimestre 3\n"},{"$f":"IFERROR(_xlfn.CONCAT(\"Trimestre 1\",CHAR(10),'GESTION_SEG_1_TRIM CSJMETA'!K28,CHAR(10),\"Trimestre 2\",CHAR(10),'GESTION_SEG_2_TRIM CSJMETA'!K28,CHAR(10),\"Trimestre 3\",CHAR(10),'GESTION_SEG_3_TRIM CSJMETA'!K28),\" \")","v":"Trimestre 1\n\nTrimestre 2\n\nTrimestre 3\n"}]
[null,null,null,null,null,null,null,null,null,null,null,null,null,null,null,{"$f":"IFERROR(MAX('GESTION_SEG_1_TRIM CSJMETA'!H29,'GESTION_SEG_2_TRIM CSJMETA'!H29,'GESTION_SEG_3_TRIM CSJMETA'!H29),\" \")","v":0},null,{"$f":"IFERROR(_xlfn.CONCAT(\"Trimestre 1\",CHAR(10),'GESTION_SEG_1_TRIM CSJMETA'!J29,CHAR(10),\"Trimestre 2\",CHAR(10),'GESTION_SEG_2_TRIM CSJMETA'!J29,CHAR(10),\"Trimestre 3\",CHAR(10),'GESTION_SEG_3_TRIM CSJMETA'!J29),\" \")","v":"Trimestre 1\n\nTrimestre 2\n\nTrimestre 3\n"},{"$f":"IFERROR(_xlfn.CONCAT(\"Trimestre 1\",CHAR(10),'GESTION_SEG_1_TRIM CSJMETA'!K29,CHAR(10),\"Trimestre 2\",CHAR(10),'GESTION_SEG_2_TRIM CSJMETA'!K29,CHAR(10),\"Trimestre 3\",CHAR(10),'GESTION_SEG_3_TRIM CSJMETA'!K29),\" \")","v":"Trimestre 1\n\nTrimestre 2\n\nTrimestre 3\n"}]
[null,null,null,null,null,null,null,null,null,null,null,null,null,null,null,{"$f":"IFERROR(MAX('GESTION_SEG_1_TRIM CSJMETA'!H30,'GESTION_SEG_2_TRIM CSJMETA'!H30,'GESTION_SEG_3_TRIM CSJMETA'!H30),\" \")","v":0},null,{"$f":"IFERROR(_xlfn.CONCAT(\"Trimestre 1\",CHAR(10),'GESTION_SEG_1_TRIM CSJMETA'!J30,CHAR(10),\"Trimestre 2\",CHAR(10),'GESTION_SEG_2_TRIM CSJMETA'!J30,CHAR(10),\"Trimestre 3\",CHAR(10),'GESTION_SEG_3_TRIM CSJMETA'!J30),\" \")","v":"Trimestre 1\n\nTrimestre 2\n\nTrimestre 3\n"},{"$f":"IFERROR(_xlfn.CONCAT(\"Trimestre 1\",CHAR(10),'GESTION_SEG_1_TRIM CSJMETA'!K30,CHAR(10),\"Trimestre 2\",CHAR(10),'GESTION_SEG_2_TRIM CSJMETA'!K30,CHAR(10),\"Trimestre 3\",CHAR(10),'GESTION_SEG_3_TRIM CSJMETA'!K30),\" \")","v":"Trimestre 1\n\nTrimestre 2\n\nTrimestre 3\n"}]
[null,null,null,null,null,null,null,null,null,null,null,null,null,null,null,{"$f":"IFERROR(MAX('GESTION_SEG_1_TRIM CSJMETA'!H31,'GESTION_SEG_2_TRIM CSJMETA'!H31,'GESTION_SEG_3_TRIM CSJMETA'!H31),\" \")","v":0},null,{"$f":"IFERROR(_xlfn.CONCAT(\"Trimestre 1\",CHAR(10),'GESTION_SEG_1_TRIM CSJMETA'!J31,CHAR(10),\"Trimestre 2\",CHAR(10),'GESTION_SEG_2_TRIM CSJMETA'!J31,CHAR(10),\"Trimestre 3\",CHAR(10),'GESTION_SEG_3_TRIM CSJMETA'!J31),\" \")","v":"Trimestre 1\n\nTrimestre 2\n\nTrimestre 3\n"},{"$f":"IFERROR(_xlfn.CONCAT(\"Trimestre 1\",CHAR(10),'GESTION_SEG_1_TRIM CSJMETA'!K31,CHAR(10),\"Trimestre 2\",CHAR(10),'GESTION_SEG_2_TRIM CSJMETA'!K31,CHAR(10),\"Trimestre 3\",CHAR(10),'GESTION_SEG_3_TRIM CSJMETA'!K31),\" \")","v":"Trimestre 1\n\nTrimestre 2\n\nTrimestre 3\n"}]
[null,null,null,null,null,null,null,null,null,null,null,null,null,null,null,{"$f":"IFERROR(MAX('GESTION_SEG_1_TRIM CSJMETA'!H32,'GESTION_SEG_2_TRIM CSJMETA'!H32,'GESTION_SEG_3_TRIM CSJMETA'!H32),\" \")","v":0},null,{"$f":"IFERROR(_xlfn.CONCAT(\"Trimestre 1\",CHAR(10),'GESTION_SEG_1_TRIM CSJMETA'!J32,CHAR(10),\"Trimestre 2\",CHAR(10),'GESTION_SEG_2_TRIM CSJMETA'!J32,CHAR(10),\"Trimestre 3\",CHAR(10),'GESTION_SEG_3_TRIM CSJMETA'!J32),\" \")","v":"Trimestre 1\n\nTrimestre 2\n\nTrimestre 3\n"},{"$f":"IFERROR(_xlfn.CONCAT(\"Trimestre 1\",CHAR(10),'GESTION_SEG_1_TRIM CSJMETA'!K32,CHAR(10),\"Trimestre 2\",CHAR(10),'GESTION_SEG_2_TRIM CSJMETA'!K32,CHAR(10),\"Trimestre 3\",CHAR(10),'GESTION_SEG_3_TRIM CSJMETA'!K32),\" \")","v":"Trimestre 1\n\nTrimestre 2\n\nTrimestre 3\n"}]
[null,null,null,null,null,null,null,null,null,null,null,null,null,null,null,{"$f":"IFERROR(MAX('GESTION_SEG_1_TRIM CSJMETA'!H33,'GESTION_SEG_2_TRIM CSJMETA'!H33,'GESTION_SEG_3_TRIM CSJMETA'!H33),\" \")","v":0},"",{"$f":"IFERROR(_xlfn.CONCAT(\"Trimestre 1\",CHAR(10),'GESTION_SEG_1_TRIM CSJMETA'!J33,CHAR(10),\"Trimestre 2\",CHAR(10),'GESTION_SEG_2_TRIM CSJMETA'!J33,CHAR(10),\"Trimestre 3\",CHAR(10),'GESTION_SEG_3_TRIM CSJMETA'!J33),\" \")","v":"Trimestre 1\n\nTrimestre 2\n\nTrimestre 3\n"},{"$f":"IFERROR(_xlfn.CONCAT(\"Trimestre 1\",CHAR(10),'GESTION_SEG_1_TRIM CSJMETA'!K33,CHAR(10),\"Trimestre 2\",CHAR(10),'GESTION_SEG_2_TRIM CSJMETA'!K33,CHAR(10),\"Trimestre 3\",CHAR(10),'GESTION_SEG_3_TRIM CSJMETA'!K33),\" \")","v":"Trimestre 1\n\nTrimestre 2\n\nTrimestre 3\n"}]
[null,null,null,null,null,null,null,null,null,null,null,null,null,null,null,{"$f":"IFERROR(MAX('GESTION_SEG_1_TRIM CSJMETA'!H34,'GESTION_SEG_2_TRIM CSJMETA'!H34,'GESTION_SEG_3_TRIM CSJMETA'!H34),\" \")","v":0},"",{"$f":"IFERROR(_xlfn.CONCAT(\"Trimestre 1\",CHAR(10),'GESTION_SEG_1_TRIM CSJMETA'!J34,CHAR(10),\"Trimestre 2\",CHAR(10),'GESTION_SEG_2_TRIM CSJMETA'!J34,CHAR(10),\"Trimestre 3\",CHAR(10),'GESTION_SEG_3_TRIM CSJMETA'!J34),\" \")","v":"Trimestre 1\n\nTrimestre 2\n\nTrimestre 3\n"},{"$f":"IFERROR(_xlfn.CONCAT(\"Trimestre 1\",CHAR(10),'GESTION_SEG_1_TRIM CSJMETA'!K34,CHAR(10),\"Trimestre 2\",CHAR(10),'GESTION_SEG_2_TRIM CSJMETA'!K34,CHAR(10),\"Trimestre 3\",CHAR(10),'GESTION_SEG_3_TRIM CSJMETA'!K34),\" \")","v":"Trimestre 1\n\nTrimestre 2\n\nTrimestre 3\n"}]
[null,null,null,null,null,null,null,null,null,null,null,null,null,null,null,{"$f":"IFERROR(MAX('GESTION_SEG_1_TRIM CSJMETA'!H35,'GESTION_SEG_2_TRIM CSJMETA'!H35,'GESTION_SEG_3_TRIM CSJMETA'!H35),\" \")","v":0},"",{"$f":"IFERROR(_xlfn.CONCAT(\"Trimestre 1\",CHAR(10),'GESTION_SEG_1_TRIM CSJMETA'!J35,CHAR(10),\"Trimestre 2\",CHAR(10),'GESTION_SEG_2_TRIM CSJMETA'!J35,CHAR(10),\"Trimestre 3\",CHAR(10),'GESTION_SEG_3_TRIM CSJMETA'!J35),\" \")","v":"Trimestre 1\n\nTrimestre 2\n\nTrimestre 3\n"},{"$f":"IFERROR(_xlfn.CONCAT(\"Trimestre 1\",CHAR(10),'GESTION_SEG_1_TRIM CSJMETA'!K35,CHAR(10),\"Trimestre 2\",CHAR(10),'GESTION_SEG_2_TRIM CSJMETA'!K35,CHAR(10),\"Trimestre 3\",CHAR(10),'GESTION_SEG_3_TRIM CSJMETA'!K35),\" \")","v":"Trimestre 1\n\nTrimestre 2\n\nTrimestre 3\n"}]
[null,null,"4. Avanzar en la disposición de una infraestructura óptima para el acceso a la justicia en la Rama Judicial de modo que se fortalezca la presencia territorial, teniendo en cuenta las posibilidades que ofrece la transformación digital y las necesidades que se derivan de ella, y considerando tanto las necesidades de los usuarios como las de los servidores judiciales.","4. Hacer un uso racional de los recursos naturales aplicando los principios y fases de la Economía Circular, para prevenir, mitigar y controlar los impactos ambientales",null,null,null,null,null,null,null,null,null,null,null,{"$f":"IFERROR(MAX('GESTION_SEG_1_TRIM CSJMETA'!H36,'GESTION_SEG_2_TRIM CSJMETA'!H36,'GESTION_SEG_3_TRIM CSJMETA'!H36),\" \")","v":0},"",{"$f":"IFERROR(_xlfn.CONCAT(\"Trimestre 1\",CHAR(10),'GESTION_SEG_1_TRIM CSJMETA'!J36,CHAR(10),\"Trimestre 2\",CHAR(10),'GESTION_SEG_2_TRIM CSJMETA'!J36,CHAR(10),\"Trimestre 3\",CHAR(10),'GESTION_SEG_3_TRIM CSJMETA'!J36),\" \")","v":"Trimestre 1\n\nTrimestre 2\n\nTrimestre 3\n"},{"$f":"IFERROR(_xlfn.CONCAT(\"Trimestre 1\",CHAR(10),'GESTION_SEG_1_TRIM CSJMETA'!K36,CHAR(10),\"Trimestre 2\",CHAR(10),'GESTION_SEG_2_TRIM CSJMETA'!K36,CHAR(10),\"Trimestre 3\",CHAR(10),'GESTION_SEG_3_TRIM CSJMETA'!K36),\" \")","v":"Trimestre 1\n\nTrimestre 2\n\nTrimestre 3\n"}]
[null,null,null,null,"Estratégicos","Admin - Comunicación Institucional","Seccional","Elaborar y presentar el informe de rendición de cuentas a la comunidad","Entregable",null,null,"Líder del proceso","Informe","2023-01-01","2023-06-30",{"$f":"IFERROR(MAX('GESTION_SEG_1_TRIM CSJMETA'!H37,'GESTION_SEG_2_TRIM CSJMETA'!H37,'GESTION_SEG_3_TRIM CSJMETA'!H37),\" \")","v":0},"",{"$f":"IFERROR(_xlfn.CONCAT(\"Trimestre 1\",CHAR(10),'GESTION_SEG_1_TRIM CSJMETA'!J37,CHAR(10),\"Trimestre 2\",CHAR(10),'GESTION_SEG_2_TRIM CSJMETA'!J37,CHAR(10),\"Trimestre 3\",CHAR(10),'GESTION_SEG_3_TRIM CSJMETA'!J37),\" \")","v":"Trimestre 1\nNo se han presentado\nTrimestre 2\nNo se han presentado\nTrimestre 3\nNo se han presentado"},{"$f":"IFERROR(_xlfn.CONCAT(\"Trimestre 1\",CHAR(10),'GESTION_SEG_1_TRIM CSJMETA'!K37,CHAR(10),\"Trimestre 2\",CHAR(10),'GESTION_SEG_2_TRIM CSJMETA'!K37,CHAR(10),\"Trimestre 3\",CHAR(10),'GESTION_SEG_3_TRIM CSJMETA'!K37),\" \")","v":"Trimestre 1\nEn el primer trimestre de 2023, se llevó a cabo la Audiencia de Rendición de cuenta de la vigencia 2022, la cual tuvo una mayor cantidad de audiencia conectada y la participación de los diferentes grupos de interés, de una forma más dinámica y activa, en relación con la presentada en el año 2021, teniendo en esta oportunidad y mayor divulgación.\nTrimestre 2\nEn el segundo trimestre de 2023, se emitió el informe de resultados de la Audiencia de Rendición de cuenta de la vigencia 2022.\nTrimestre 3\nEsta actividad tiene como fecha final el 30/06/2023, por lo tanto, no aplica para el tercer, un cuarto trimestre de 2023, toda vez que en el primero y segundo trimestre de 2023, se presentó la audiencia de rendición de cuentas y se emitió el informe de resultados de la misma."}]
[null,null,null,null,"Estratégicos","Admin - Comunicación Institucional","Seccional","Hacer seguimiento a la matriz de comunicaciones","Entregable",null,null,"Líder del proceso","Matriz de Comunicaciones","2023-01-01","2023-12-31",{"$f":"IFERROR(MAX('GESTION_SEG_1_TRIM CSJMETA'!H38,'GESTION_SEG_2_TRIM CSJMETA'!H38,'GESTION_SEG_3_TRIM CSJMETA'!H38),\" \")","v":0},"",{"$f":"IFERROR(_xlfn.CONCAT(\"Trimestre 1\",CHAR(10),'GESTION_SEG_1_TRIM CSJMETA'!J38,CHAR(10),\"Trimestre 2\",CHAR(10),'GESTION_SEG_2_TRIM CSJMETA'!J38,CHAR(10),\"Trimestre 3\",CHAR(10),'GESTION_SEG_3_TRIM CSJMETA'!J38),\" \")","v":"Trimestre 1\nNo se han presentado\nTrimestre 2\nNo se han presentado\nTrimestre 3\nNo se han presentado"},{"$f":"IFERROR(_xlfn.CONCAT(\"Trimestre 1\",CHAR(10),'GESTION_SEG_1_TRIM CSJMETA'!K38,CHAR(10),\"Trimestre 2\",CHAR(10),'GESTION_SEG_2_TRIM CSJMETA'!K38,CHAR(10),\"Trimestre 3\",CHAR(10),'GESTION_SEG_3_TRIM CSJMETA'!K38),\" \")","v":"Trimestre 1\nEn el primer trimestre de 2023, se han realizado todas las actividades previstas en la Matriz de Comunicaciones\nTrimestre 2\nEn el segundo trimestre de 2023, se han realizado todas las actividades previstas en la Matriz de Comunicaciones\nTrimestre 3\nEn el tercer trimestre de 2023, se actualiza la matriz de comunicaciones con el formato establecido por el SIGCMA el 12/07/2023, verificando que en este período todas las actividades previstas en la Matriz de comunicaciones se han ejecutado en su totalidad. "}]
[null,null,null,null,"Estratégicos","Admin - Comunicación Institucional","Seccional","Atender, gestionar y solucionar las diferentes solicitudes de usuarios internos y externos","Entregable",null,null,"Líder del proceso","Reporte de QRS","2023-01-01","2023-12-31",{"$f":"IFERROR(MAX('GESTION_SEG_1_TRIM CSJMETA'!H39,'GESTION_SEG_2_TRIM CSJMETA'!H39,'GESTION_SEG_3_TRIM CSJMETA'!H39),\" \")","v":0},null,{"$f":"IFERROR(_xlfn.CONCAT(\"Trimestre 1\",CHAR(10),'GESTION_SEG_1_TRIM CSJMETA'!J39,CHAR(10),\"Trimestre 2\",CHAR(10),'GESTION_SEG_2_TRIM CSJMETA'!J39,CHAR(10),\"Trimestre 3\",CHAR(10),'GESTION_SEG_3_TRIM CSJMETA'!J39),\" \")","v":"Trimestre 1\nNo se han presentado\nTrimestre 2\nNo se han presentado\nTrimestre 3\nNo se han presentado"},{"$f":"IFERROR(_xlfn.CONCAT(\"Trimestre 1\",CHAR(10),'GESTION_SEG_1_TRIM CSJMETA'!K39,CHAR(10),\"Trimestre 2\",CHAR(10),'GESTION_SEG_2_TRIM CSJMETA'!K39,CHAR(10),\"Trimestre 3\",CHAR(10),'GESTION_SEG_3_TRIM CSJMETA'!K39),\" \")","v":"Trimestre 1\nEn el primer trimestre de 2023, se han tramitado y resuelto de fondo de forma oportuna, todas las solicitudes que se han recibido en esta Seccional\nTrimestre 2\nEn el segundo trimestre de 2023, se han tramitado y resuelto de fondo de forma oportuna, todas las solicitudes que se han recibido en esta Seccional\nTrimestre 3\nEn el tercer trimestre de 2023, se han tramitado y resuelto de fondo de forma oportuna, todas las solicitudes que se han recibido en esta Seccional."}]
[null,null,null,null,"Estratégicos","Admin - Comunicación Institucional","Seccional","Realizar los espacios de diálogo previstos en la rendición de cuentas","Entregable",null,null,"Líder del proceso","Medio audivisual","2023-01-01","2023-12-31",{"$f":"IFERROR(MAX('GESTION_SEG_1_TRIM CSJMETA'!H40,'GESTION_SEG_2_TRIM CSJMETA'!H40,'GESTION_SEG_3_TRIM CSJMETA'!H40),\" \")","v":0},null,{"$f":"IFERROR(_xlfn.CONCAT(\"Trimestre 1\",CHAR(10),'GESTION_SEG_1_TRIM CSJMETA'!J40,CHAR(10),\"Trimestre 2\",CHAR(10),'GESTION_SEG_2_TRIM CSJMETA'!J40,CHAR(10),\"Trimestre 3\",CHAR(10),'GESTION_SEG_3_TRIM CSJMETA'!J40),\" \")","v":"Trimestre 1\nNo se han presentado\nTrimestre 2\nNo se han presentado\nTrimestre 3\nNo se han presentado"},{"$f":"IFERROR(_xlfn.CONCAT(\"Trimestre 1\",CHAR(10),'GESTION_SEG_1_TRIM CSJMETA'!K40,CHAR(10),\"Trimestre 2\",CHAR(10),'GESTION_SEG_2_TRIM CSJMETA'!K40,CHAR(10),\"Trimestre 3\",CHAR(10),'GESTION_SEG_3_TRIM CSJMETA'!K40),\" \")","v":"Trimestre 1\nEn el primer trimestre de 2023, se han realizado espacios de diálogos a través de Facebook Life\nTrimestre 2\nEn el segundo trimestre de 2023, se han realizado espacios de diálogos a través de Facebook Live\nTrimestre 3\nEn el tercer trimestre de 2023, se han realizado el espacio de diálogos a través de Facebook Live, sobre el fortalecimiento en el diligenciamiento en el Sistema de Información Estadística de la Rama Judicial - SIERJU, en cumplimiento del cronograma establecido para tal fin."}]
[null,null,null,null,"Estratégicos","Admin - Comunicación Institucional","Seccional","Realizar las Mesas Interjurisdiccionales Indígenas","Entregable",null,null,"Líder del proceso","Informe de Gestión","2023-01-01","2023-12-31",{"$f":"IFERROR(MAX('GESTION_SEG_1_TRIM CSJMETA'!H41,'GESTION_SEG_2_TRIM CSJMETA'!H41,'GESTION_SEG_3_TRIM CSJMETA'!H41),\" \")","v":0},null,{"$f":"IFERROR(_xlfn.CONCAT(\"Trimestre 1\",CHAR(10),'GESTION_SEG_1_TRIM CSJMETA'!J41,CHAR(10),\"Trimestre 2\",CHAR(10),'GESTION_SEG_2_TRIM CSJMETA'!J41,CHAR(10),\"Trimestre 3\",CHAR(10),'GESTION_SEG_3_TRIM CSJMETA'!J41),\" \")","v":"Trimestre 1\nNo se han presentado\nTrimestre 2\nNo se han presentado\nTrimestre 3\nNo se han presentado"},{"$f":"IFERROR(_xlfn.CONCAT(\"Trimestre 1\",CHAR(10),'GESTION_SEG_1_TRIM CSJMETA'!K41,CHAR(10),\"Trimestre 2\",CHAR(10),'GESTION_SEG_2_TRIM CSJMETA'!K41,CHAR(10),\"Trimestre 3\",CHAR(10),'GESTION_SEG_3_TRIM CSJMETA'!K41),\" \")","v":"Trimestre 1\nEn el primer trimestre de 2023, se realizaron 2 Mesas Interjurisdiccionales Indígenas en Meta y Guainía\nTrimestre 2\nEn el segundo trimestre de 2023, se realizaron 2 Mesas Interjurisdiccionales Indígenas en Vaupés e Guainìa\nTrimestre 3\nEn el tercer trimestre de 2023, se realizó la Mesa Departamental de Coordinación Interjurisdiccional del Vaupés, el día 13 de julio de 2023, de manera presencial en el Mitú - Vaupés en jornada de 8:00 am a 5:00 pm, la cual también fue transmitida a través del enlace streaming: https://stream.lifesizacloud.com/extrension/18582032/59c3f7b8-522d-4322-b6a3e3abd101da8a"}]
[null,null,null,null,null,null,null,null,null,null,null,null,null,null,null,{"$f":"IFERROR(MAX('GESTION_SEG_1_TRIM CSJMETA'!H42,'GESTION_SEG_2_TRIM CSJMETA'!H42,'GESTION_SEG_3_TRIM CSJMETA'!H42),\" \")","v":0},null,{"$f":"IFERROR(_xlfn.CONCAT(\"Trimestre 1\",CHAR(10),'GESTION_SEG_1_TRIM CSJMETA'!J42,CHAR(10),\"Trimestre 2\",CHAR(10),'GESTION_SEG_2_TRIM CSJMETA'!J42,CHAR(10),\"Trimestre 3\",CHAR(10),'GESTION_SEG_3_TRIM CSJMETA'!J42),\" \")","v":"Trimestre 1\n\nTrimestre 2\n\nTrimestre 3\n"},{"$f":"IFERROR(_xlfn.CONCAT(\"Trimestre 1\",CHAR(10),'GESTION_SEG_1_TRIM CSJMETA'!K42,CHAR(10),\"Trimestre 2\",CHAR(10),'GESTION_SEG_2_TRIM CSJMETA'!K42,CHAR(10),\"Trimestre 3\",CHAR(10),'GESTION_SEG_3_TRIM CSJMETA'!K42),\" \")","v":"Trimestre 1\n\nTrimestre 2\n\nTrimestre 3\n"}]
[null,null,null,null,null,null,null,null,null,null,null,null,null,null,null,{"$f":"IFERROR(MAX('GESTION_SEG_1_TRIM CSJMETA'!H43,'GESTION_SEG_2_TRIM CSJMETA'!H43,'GESTION_SEG_3_TRIM CSJMETA'!H43),\" \")","v":0},null,{"$f":"IFERROR(_xlfn.CONCAT(\"Trimestre 1\",CHAR(10),'GESTION_SEG_1_TRIM CSJMETA'!J43,CHAR(10),\"Trimestre 2\",CHAR(10),'GESTION_SEG_2_TRIM CSJMETA'!J43,CHAR(10),\"Trimestre 3\",CHAR(10),'GESTION_SEG_3_TRIM CSJMETA'!J43),\" \")","v":"Trimestre 1\n\nTrimestre 2\n\nTrimestre 3\n"},{"$f":"IFERROR(_xlfn.CONCAT(\"Trimestre 1\",CHAR(10),'GESTION_SEG_1_TRIM CSJMETA'!K43,CHAR(10),\"Trimestre 2\",CHAR(10),'GESTION_SEG_2_TRIM CSJMETA'!K43,CHAR(10),\"Trimestre 3\",CHAR(10),'GESTION_SEG_3_TRIM CSJMETA'!K43),\" \")","v":"Trimestre 1\n\nTrimestre 2\n\nTrimestre 3\n"}]
[null,null,null,null,null,null,null,null,null,null,null,null,null,null,null,{"$f":"IFERROR(MAX('GESTION_SEG_1_TRIM CSJMETA'!H44,'GESTION_SEG_2_TRIM CSJMETA'!H44,'GESTION_SEG_3_TRIM CSJMETA'!H44),\" \")","v":0},"",{"$f":"IFERROR(_xlfn.CONCAT(\"Trimestre 1\",CHAR(10),'GESTION_SEG_1_TRIM CSJMETA'!J44,CHAR(10),\"Trimestre 2\",CHAR(10),'GESTION_SEG_2_TRIM CSJMETA'!J44,CHAR(10),\"Trimestre 3\",CHAR(10),'GESTION_SEG_3_TRIM CSJMETA'!J44),\" \")","v":"Trimestre 1\n\nTrimestre 2\n\nTrimestre 3\n"},{"$f":"IFERROR(_xlfn.CONCAT(\"Trimestre 1\",CHAR(10),'GESTION_SEG_1_TRIM CSJMETA'!K44,CHAR(10),\"Trimestre 2\",CHAR(10),'GESTION_SEG_2_TRIM CSJMETA'!K44,CHAR(10),\"Trimestre 3\",CHAR(10),'GESTION_SEG_3_TRIM CSJMETA'!K44),\" \")","v":"Trimestre 1\n\nTrimestre 2\n\nTrimestre 3\n"}]
[null,null,null,null,null,null,null,null,null,null,null,null,null,null,null,{"$f":"IFERROR(MAX('GESTION_SEG_1_TRIM CSJMETA'!H45,'GESTION_SEG_2_TRIM CSJMETA'!H45,'GESTION_SEG_3_TRIM CSJMETA'!H45),\" \")","v":0},"",{"$f":"IFERROR(_xlfn.CONCAT(\"Trimestre 1\",CHAR(10),'GESTION_SEG_1_TRIM CSJMETA'!J45,CHAR(10),\"Trimestre 2\",CHAR(10),'GESTION_SEG_2_TRIM CSJMETA'!J45,CHAR(10),\"Trimestre 3\",CHAR(10),'GESTION_SEG_3_TRIM CSJMETA'!J45),\" \")","v":"Trimestre 1\n\nTrimestre 2\n\nTrimestre 3\n"},{"$f":"IFERROR(_xlfn.CONCAT(\"Trimestre 1\",CHAR(10),'GESTION_SEG_1_TRIM CSJMETA'!K45,CHAR(10),\"Trimestre 2\",CHAR(10),'GESTION_SEG_2_TRIM CSJMETA'!K45,CHAR(10),\"Trimestre 3\",CHAR(10),'GESTION_SEG_3_TRIM CSJMETA'!K45),\" \")","v":"Trimestre 1\n\nTrimestre 2\n\nTrimestre 3\n"}]
[null,null,"5. Impulsar el uso de mecanismos alternativos para la solución de conflictos y la ampliación de la justicia restaurativa y terapéutica y el robustecimiento de las alternativas al encarcelamiento","2. Asegurar  el cumplimiento de los objetivos institucionales, la normatividad aplicable,  la mejora del SIGCMA y la satisfacción de los usuarios, revisando de  forma continua y sistemática la planificación de la gestión y fortaleciendo la administración de riesgos y sus controles",null,null,null,null,null,null,null,null,null,null,null,{"$f":"IFERROR(MAX('GESTION_SEG_1_TRIM CSJMETA'!H46,'GESTION_SEG_2_TRIM CSJMETA'!H46,'GESTION_SEG_3_TRIM CSJMETA'!H46),\" \")","v":0},"",{"$f":"IFERROR(_xlfn.CONCAT(\"Trimestre 1\",CHAR(10),'GESTION_SEG_1_TRIM CSJMETA'!J46,CHAR(10),\"Trimestre 2\",CHAR(10),'GESTION_SEG_2_TRIM CSJMETA'!J46,CHAR(10),\"Trimestre 3\",CHAR(10),'GESTION_SEG_3_TRIM CSJMETA'!J46),\" \")","v":"Trimestre 1\n\nTrimestre 2\n\nTrimestre 3\n"},{"$f":"IFERROR(_xlfn.CONCAT(\"Trimestre 1\",CHAR(10),'GESTION_SEG_1_TRIM CSJMETA'!K46,CHAR(10),\"Trimestre 2\",CHAR(10),'GESTION_SEG_2_TRIM CSJMETA'!K46,CHAR(10),\"Trimestre 3\",CHAR(10),'GESTION_SEG_3_TRIM CSJMETA'!K46),\" \")","v":"Trimestre 1\n\nTrimestre 2\n\nTrimestre 3\n"}]
[null,null,null,null,null,null,null,null,null,null,null,null,null,null,null,{"$f":"IFERROR(MAX('GESTION_SEG_1_TRIM CSJMETA'!H47,'GESTION_SEG_2_TRIM CSJMETA'!H47,'GESTION_SEG_3_TRIM CSJMETA'!H47),\" \")","v":0},"",{"$f":"IFERROR(_xlfn.CONCAT(\"Trimestre 1\",CHAR(10),'GESTION_SEG_1_TRIM CSJMETA'!J47,CHAR(10),\"Trimestre 2\",CHAR(10),'GESTION_SEG_2_TRIM CSJMETA'!J47,CHAR(10),\"Trimestre 3\",CHAR(10),'GESTION_SEG_3_TRIM CSJMETA'!J47),\" \")","v":"Trimestre 1\n\nTrimestre 2\n\nTrimestre 3\n"},{"$f":"IFERROR(_xlfn.CONCAT(\"Trimestre 1\",CHAR(10),'GESTION_SEG_1_TRIM CSJMETA'!K47,CHAR(10),\"Trimestre 2\",CHAR(10),'GESTION_SEG_2_TRIM CSJMETA'!K47,CHAR(10),\"Trimestre 3\",CHAR(10),'GESTION_SEG_3_TRIM CSJMETA'!K47),\" \")","v":"Trimestre 1\n\nTrimestre 2\n\nTrimestre 3\n"}]
[null,null,null,null,null,null,null,null,null,null,null,null,null,null,null,{"$f":"IFERROR(MAX('GESTION_SEG_1_TRIM CSJMETA'!H48,'GESTION_SEG_2_TRIM CSJMETA'!H48,'GESTION_SEG_3_TRIM CSJMETA'!H48),\" \")","v":0},null,{"$f":"IFERROR(_xlfn.CONCAT(\"Trimestre 1\",CHAR(10),'GESTION_SEG_1_TRIM CSJMETA'!J48,CHAR(10),\"Trimestre 2\",CHAR(10),'GESTION_SEG_2_TRIM CSJMETA'!J48,CHAR(10),\"Trimestre 3\",CHAR(10),'GESTION_SEG_3_TRIM CSJMETA'!J48),\" \")","v":"Trimestre 1\n\nTrimestre 2\n\nTrimestre 3\n"},{"$f":"IFERROR(_xlfn.CONCAT(\"Trimestre 1\",CHAR(10),'GESTION_SEG_1_TRIM CSJMETA'!K48,CHAR(10),\"Trimestre 2\",CHAR(10),'GESTION_SEG_2_TRIM CSJMETA'!K48,CHAR(10),\"Trimestre 3\",CHAR(10),'GESTION_SEG_3_TRIM CSJMETA'!K48),\" \")","v":"Trimestre 1\n\nTrimestre 2\n\nTrimestre 3\n"}]
[null,null,null,null,null,null,null,null,null,null,null,null,null,null,null,{"$f":"IFERROR(MAX('GESTION_SEG_1_TRIM CSJMETA'!H49,'GESTION_SEG_2_TRIM CSJMETA'!H49,'GESTION_SEG_3_TRIM CSJMETA'!H49),\" \")","v":0},null,{"$f":"IFERROR(_xlfn.CONCAT(\"Trimestre 1\",CHAR(10),'GESTION_SEG_1_TRIM CSJMETA'!J49,CHAR(10),\"Trimestre 2\",CHAR(10),'GESTION_SEG_2_TRIM CSJMETA'!J49,CHAR(10),\"Trimestre 3\",CHAR(10),'GESTION_SEG_3_TRIM CSJMETA'!J49),\" \")","v":"Trimestre 1\n\nTrimestre 2\n\nTrimestre 3\n"},{"$f":"IFERROR(_xlfn.CONCAT(\"Trimestre 1\",CHAR(10),'GESTION_SEG_1_TRIM CSJMETA'!K49,CHAR(10),\"Trimestre 2\",CHAR(10),'GESTION_SEG_2_TRIM CSJMETA'!K49,CHAR(10),\"Trimestre 3\",CHAR(10),'GESTION_SEG_3_TRIM CSJMETA'!K49),\" \")","v":"Trimestre 1\n\nTrimestre 2\n\nTrimestre 3\n"}]
[null,null,null,null,null,null,null,null,null,null,null,null,null,null,null,{"$f":"IFERROR(MAX('GESTION_SEG_1_TRIM CSJMETA'!H50,'GESTION_SEG_2_TRIM CSJMETA'!H50,'GESTION_SEG_3_TRIM CSJMETA'!H50),\" \")","v":0},null,{"$f":"IFERROR(_xlfn.CONCAT(\"Trimestre 1\",CHAR(10),'GESTION_SEG_1_TRIM CSJMETA'!J50,CHAR(10),\"Trimestre 2\",CHAR(10),'GESTION_SEG_2_TRIM CSJMETA'!J50,CHAR(10),\"Trimestre 3\",CHAR(10),'GESTION_SEG_3_TRIM CSJMETA'!J50),\" \")","v":"Trimestre 1\n\nTrimestre 2\n\nTrimestre 3\n"},{"$f":"IFERROR(_xlfn.CONCAT(\"Trimestre 1\",CHAR(10),'GESTION_SEG_1_TRIM CSJMETA'!K50,CHAR(10),\"Trimestre 2\",CHAR(10),'GESTION_SEG_2_TRIM CSJMETA'!K50,CHAR(10),\"Trimestre 3\",CHAR(10),'GESTION_SEG_3_TRIM CSJMETA'!K50),\" \")","v":"Trimestre 1\n\nTrimestre 2\n\nTrimestre 3\n"}]
[null,null,null,null,null,null,null,null,null,null,null,null,null,null,null,{"$f":"IFERROR(MAX('GESTION_SEG_1_TRIM CSJMETA'!H51,'GESTION_SEG_2_TRIM CSJMETA'!H51,'GESTION_SEG_3_TRIM CSJMETA'!H51),\" \")","v":0},null,{"$f":"IFERROR(_xlfn.CONCAT(\"Trimestre 1\",CHAR(10),'GESTION_SEG_1_TRIM CSJMETA'!J51,CHAR(10),\"Trimestre 2\",CHAR(10),'GESTION_SEG_2_TRIM CSJMETA'!J51,CHAR(10),\"Trimestre 3\",CHAR(10),'GESTION_SEG_3_TRIM CSJMETA'!J51),\" \")","v":"Trimestre 1\n\nTrimestre 2\n\nTrimestre 3\n"},{"$f":"IFERROR(_xlfn.CONCAT(\"Trimestre 1\",CHAR(10),'GESTION_SEG_1_TRIM CSJMETA'!K51,CHAR(10),\"Trimestre 2\",CHAR(10),'GESTION_SEG_2_TRIM CSJMETA'!K51,CHAR(10),\"Trimestre 3\",CHAR(10),'GESTION_SEG_3_TRIM CSJMETA'!K51),\" \")","v":"Trimestre 1\n\nTrimestre 2\n\nTrimestre 3\n"}]
[null,null,null,null,null,null,null,null,null,null,null,null,null,null,null,{"$f":"IFERROR(MAX('GESTION_SEG_1_TRIM CSJMETA'!H52,'GESTION_SEG_2_TRIM CSJMETA'!H52,'GESTION_SEG_3_TRIM CSJMETA'!H52),\" \")","v":0},null,{"$f":"IFERROR(_xlfn.CONCAT(\"Trimestre 1\",CHAR(10),'GESTION_SEG_1_TRIM CSJMETA'!J52,CHAR(10),\"Trimestre 2\",CHAR(10),'GESTION_SEG_2_TRIM CSJMETA'!J52,CHAR(10),\"Trimestre 3\",CHAR(10),'GESTION_SEG_3_TRIM CSJMETA'!J52),\" \")","v":"Trimestre 1\n\nTrimestre 2\n\nTrimestre 3\n"},{"$f":"IFERROR(_xlfn.CONCAT(\"Trimestre 1\",CHAR(10),'GESTION_SEG_1_TRIM CSJMETA'!K52,CHAR(10),\"Trimestre 2\",CHAR(10),'GESTION_SEG_2_TRIM CSJMETA'!K52,CHAR(10),\"Trimestre 3\",CHAR(10),'GESTION_SEG_3_TRIM CSJMETA'!K52),\" \")","v":"Trimestre 1\n\nTrimestre 2\n\nTrimestre 3\n"}]
[null,null,null,null,null,null,null,null,null,null,null,null,null,null,null,{"$f":"IFERROR(MAX('GESTION_SEG_1_TRIM CSJMETA'!H53,'GESTION_SEG_2_TRIM CSJMETA'!H53,'GESTION_SEG_3_TRIM CSJMETA'!H53),\" \")","v":0},"",{"$f":"IFERROR(_xlfn.CONCAT(\"Trimestre 1\",CHAR(10),'GESTION_SEG_1_TRIM CSJMETA'!J53,CHAR(10),\"Trimestre 2\",CHAR(10),'GESTION_SEG_2_TRIM CSJMETA'!J53,CHAR(10),\"Trimestre 3\",CHAR(10),'GESTION_SEG_3_TRIM CSJMETA'!J53),\" \")","v":"Trimestre 1\n\nTrimestre 2\n\nTrimestre 3\n"},{"$f":"IFERROR(_xlfn.CONCAT(\"Trimestre 1\",CHAR(10),'GESTION_SEG_1_TRIM CSJMETA'!K53,CHAR(10),\"Trimestre 2\",CHAR(10),'GESTION_SEG_2_TRIM CSJMETA'!K53,CHAR(10),\"Trimestre 3\",CHAR(10),'GESTION_SEG_3_TRIM CSJMETA'!K53),\" \")","v":"Trimestre 1\n\nTrimestre 2\n\nTrimestre 3\n"}]
[null,null,null,null,null,null,null,null,null,null,null,null,null,null,null,{"$f":"IFERROR(MAX('GESTION_SEG_1_TRIM CSJMETA'!H54,'GESTION_SEG_2_TRIM CSJMETA'!H54,'GESTION_SEG_3_TRIM CSJMETA'!H54),\" \")","v":0},"",{"$f":"IFERROR(_xlfn.CONCAT(\"Trimestre 1\",CHAR(10),'GESTION_SEG_1_TRIM CSJMETA'!J54,CHAR(10),\"Trimestre 2\",CHAR(10),'GESTION_SEG_2_TRIM CSJMETA'!J54,CHAR(10),\"Trimestre 3\",CHAR(10),'GESTION_SEG_3_TRIM CSJMETA'!J54),\" \")","v":"Trimestre 1\n\nTrimestre 2\n\nTrimestre 3\n"},{"$f":"IFERROR(_xlfn.CONCAT(\"Trimestre 1\",CHAR(10),'GESTION_SEG_1_TRIM CSJMETA'!K54,CHAR(10),\"Trimestre 2\",CHAR(10),'GESTION_SEG_2_TRIM CSJMETA'!K54,CHAR(10),\"Trimestre 3\",CHAR(10),'GESTION_SEG_3_TRIM CSJMETA'!K54),\" \")","v":"Trimestre 1\n\nTrimestre 2\n\nTrimestre 3\n"}]
[null,null,null,null,null,null,null,null,null,null,null,null,null,null,null,{"$f":"IFERROR(MAX('GESTION_SEG_1_TRIM CSJMETA'!H55,'GESTION_SEG_2_TRIM CSJMETA'!H55,'GESTION_SEG_3_TRIM CSJMETA'!H55),\" \")","v":0},"",{"$f":"IFERROR(_xlfn.CONCAT(\"Trimestre 1\",CHAR(10),'GESTION_SEG_1_TRIM CSJMETA'!J55,CHAR(10),\"Trimestre 2\",CHAR(10),'GESTION_SEG_2_TRIM CSJMETA'!J55,CHAR(10),\"Trimestre 3\",CHAR(10),'GESTION_SEG_3_TRIM CSJMETA'!J55),\" \")","v":"Trimestre 1\n\nTrimestre 2\n\nTrimestre 3\n"},{"$f":"IFERROR(_xlfn.CONCAT(\"Trimestre 1\",CHAR(10),'GESTION_SEG_1_TRIM CSJMETA'!K55,CHAR(10),\"Trimestre 2\",CHAR(10),'GESTION_SEG_2_TRIM CSJMETA'!K55,CHAR(10),\"Trimestre 3\",CHAR(10),'GESTION_SEG_3_TRIM CSJMETA'!K55),\" \")","v":"Trimestre 1\n\nTrimestre 2\n\nTrimestre 3\n"}]
["2. Servicios digitales y de tecnología, innovación y análisis de la información.","Servicios digitales y de tecnología, innovación y análisis de la información: Consolidar una justicia integrada y soportada en servicios digitales y de tecnología, innovación y análisis de la información, con una cultura digital apropiada, segura y sensible a las realidades del territorio nacional. ","1. Ampliar el acceso a la justicia a través de la consolidación del uso de los servicios digitales que conforman el sistema único integrado de gestión judicial en todos los despachos judiciales y dependencias de apoyo y, específicamente, incluyendo el despliegue e implementación del Expediente Judicial Electrónico en todas las jurisdicciones y especialidades.","6. Proteger, preservar y administrar los activos de información  implementando acciones  para gestionar de forma adecuada los incidentes, proteger los datos personales y adoptar mecanismos  de ciberseguridad y aseguramiento de la  continuidad del negocio.",null,null,null,null,null,null,null,null,null,null,null,{"$f":"IFERROR(MAX('GESTION_SEG_1_TRIM CSJMETA'!H56,'GESTION_SEG_2_TRIM CSJMETA'!H56,'GESTION_SEG_3_TRIM CSJMETA'!H56),\" \")","v":0},"",{"$f":"IFERROR(_xlfn.CONCAT(\"Trimestre 1\",CHAR(10),'GESTION_SEG_1_TRIM CSJMETA'!J56,CHAR(10),\"Trimestre 2\",CHAR(10),'GESTION_SEG_2_TRIM CSJMETA'!J56,CHAR(10),\"Trimestre 3\",CHAR(10),'GESTION_SEG_3_TRIM CSJMETA'!J56),\" \")","v":"Trimestre 1\n\nTrimestre 2\n\nTrimestre 3\n"},{"$f":"IFERROR(_xlfn.CONCAT(\"Trimestre 1\",CHAR(10),'GESTION_SEG_1_TRIM CSJMETA'!K56,CHAR(10),\"Trimestre 2\",CHAR(10),'GESTION_SEG_2_TRIM CSJMETA'!K56,CHAR(10),\"Trimestre 3\",CHAR(10),'GESTION_SEG_3_TRIM CSJMETA'!K56),\" \")","v":"Trimestre 1\n\nTrimestre 2\n\nTrimestre 3\n"}]
[null,null,null,null,null,null,null,null,null,null,null,null,null,null,null,{"$f":"IFERROR(MAX('GESTION_SEG_1_TRIM CSJMETA'!H57,'GESTION_SEG_2_TRIM CSJMETA'!H57,'GESTION_SEG_3_TRIM CSJMETA'!H57),\" \")","v":0},"",{"$f":"IFERROR(_xlfn.CONCAT(\"Trimestre 1\",CHAR(10),'GESTION_SEG_1_TRIM CSJMETA'!J57,CHAR(10),\"Trimestre 2\",CHAR(10),'GESTION_SEG_2_TRIM CSJMETA'!J57,CHAR(10),\"Trimestre 3\",CHAR(10),'GESTION_SEG_3_TRIM CSJMETA'!J57),\" \")","v":"Trimestre 1\n\nTrimestre 2\n\nTrimestre 3\n"},{"$f":"IFERROR(_xlfn.CONCAT(\"Trimestre 1\",CHAR(10),'GESTION_SEG_1_TRIM CSJMETA'!K57,CHAR(10),\"Trimestre 2\",CHAR(10),'GESTION_SEG_2_TRIM CSJMETA'!K57,CHAR(10),\"Trimestre 3\",CHAR(10),'GESTION_SEG_3_TRIM CSJMETA'!K57),\" \")","v":"Trimestre 1\n\nTrimestre 2\n\nTrimestre 3\n"}]
[null,null,null,null,null,null,null,null,null,null,null,null,null,null,null,{"$f":"IFERROR(MAX('GESTION_SEG_1_TRIM CSJMETA'!H58,'GESTION_SEG_2_TRIM CSJMETA'!H58,'GESTION_SEG_3_TRIM CSJMETA'!H58),\" \")","v":0},"",{"$f":"IFERROR(_xlfn.CONCAT(\"Trimestre 1\",CHAR(10),'GESTION_SEG_1_TRIM CSJMETA'!J58,CHAR(10),\"Trimestre 2\",CHAR(10),'GESTION_SEG_2_TRIM CSJMETA'!J58,CHAR(10),\"Trimestre 3\",CHAR(10),'GESTION_SEG_3_TRIM CSJMETA'!J58),\" \")","v":"Trimestre 1\n\nTrimestre 2\n\nTrimestre 3\n"},{"$f":"IFERROR(_xlfn.CONCAT(\"Trimestre 1\",CHAR(10),'GESTION_SEG_1_TRIM CSJMETA'!K58,CHAR(10),\"Trimestre 2\",CHAR(10),'GESTION_SEG_2_TRIM CSJMETA'!K58,CHAR(10),\"Trimestre 3\",CHAR(10),'GESTION_SEG_3_TRIM CSJMETA'!K58),\" \")","v":"Trimestre 1\n\nTrimestre 2\n\nTrimestre 3\n"}]
[null,null,null,null,null,null,null,null,null,null,null,null,null,null,null,{"$f":"IFERROR(MAX('GESTION_SEG_1_TRIM CSJMETA'!H59,'GESTION_SEG_2_TRIM CSJMETA'!H59,'GESTION_SEG_3_TRIM CSJMETA'!H59),\" \")","v":0},null,{"$f":"IFERROR(_xlfn.CONCAT(\"Trimestre 1\",CHAR(10),'GESTION_SEG_1_TRIM CSJMETA'!J59,CHAR(10),\"Trimestre 2\",CHAR(10),'GESTION_SEG_2_TRIM CSJMETA'!J59,CHAR(10),\"Trimestre 3\",CHAR(10),'GESTION_SEG_3_TRIM CSJMETA'!J59),\" \")","v":"Trimestre 1\n\nTrimestre 2\n\nTrimestre 3\n"},{"$f":"IFERROR(_xlfn.CONCAT(\"Trimestre 1\",CHAR(10),'GESTION_SEG_1_TRIM CSJMETA'!K59,CHAR(10),\"Trimestre 2\",CHAR(10),'GESTION_SEG_2_TRIM CSJMETA'!K59,CHAR(10),\"Trimestre 3\",CHAR(10),'GESTION_SEG_3_TRIM CSJMETA'!K59),\" \")","v":"Trimestre 1\n\nTrimestre 2\n\nTrimestre 3\n"}]
[null,null,null,null,null,null,null,null,null,null,null,null,null,null,null,{"$f":"IFERROR(MAX('GESTION_SEG_1_TRIM CSJMETA'!H60,'GESTION_SEG_2_TRIM CSJMETA'!H60,'GESTION_SEG_3_TRIM CSJMETA'!H60),\" \")","v":0},null,{"$f":"IFERROR(_xlfn.CONCAT(\"Trimestre 1\",CHAR(10),'GESTION_SEG_1_TRIM CSJMETA'!J60,CHAR(10),\"Trimestre 2\",CHAR(10),'GESTION_SEG_2_TRIM CSJMETA'!J60,CHAR(10),\"Trimestre 3\",CHAR(10),'GESTION_SEG_3_TRIM CSJMETA'!J60),\" \")","v":"Trimestre 1\n\nTrimestre 2\n\nTrimestre 3\n"},{"$f":"IFERROR(_xlfn.CONCAT(\"Trimestre 1\",CHAR(10),'GESTION_SEG_1_TRIM CSJMETA'!K60,CHAR(10),\"Trimestre 2\",CHAR(10),'GESTION_SEG_2_TRIM CSJMETA'!K60,CHAR(10),\"Trimestre 3\",CHAR(10),'GESTION_SEG_3_TRIM CSJMETA'!K60),\" \")","v":"Trimestre 1\n\nTrimestre 2\n\nTrimestre 3\n"}]
[null,null,null,null,null,null,null,null,null,null,null,null,null,null,null,{"$f":"IFERROR(MAX('GESTION_SEG_1_TRIM CSJMETA'!H61,'GESTION_SEG_2_TRIM CSJMETA'!H61,'GESTION_SEG_3_TRIM CSJMETA'!H61),\" \")","v":0},null,{"$f":"IFERROR(_xlfn.CONCAT(\"Trimestre 1\",CHAR(10),'GESTION_SEG_1_TRIM CSJMETA'!J61,CHAR(10),\"Trimestre 2\",CHAR(10),'GESTION_SEG_2_TRIM CSJMETA'!J61,CHAR(10),\"Trimestre 3\",CHAR(10),'GESTION_SEG_3_TRIM CSJMETA'!J61),\" \")","v":"Trimestre 1\n\nTrimestre 2\n\nTrimestre 3\n"},{"$f":"IFERROR(_xlfn.CONCAT(\"Trimestre 1\",CHAR(10),'GESTION_SEG_1_TRIM CSJMETA'!K61,CHAR(10),\"Trimestre 2\",CHAR(10),'GESTION_SEG_2_TRIM CSJMETA'!K61,CHAR(10),\"Trimestre 3\",CHAR(10),'GESTION_SEG_3_TRIM CSJMETA'!K61),\" \")","v":"Trimestre 1\n\nTrimestre 2\n\nTrimestre 3\n"}]
[null,null,null,null,null,null,null,null,null,null,null,null,null,null,null,{"$f":"IFERROR(MAX('GESTION_SEG_1_TRIM CSJMETA'!H62,'GESTION_SEG_2_TRIM CSJMETA'!H62,'GESTION_SEG_3_TRIM CSJMETA'!H62),\" \")","v":0},null,{"$f":"IFERROR(_xlfn.CONCAT(\"Trimestre 1\",CHAR(10),'GESTION_SEG_1_TRIM CSJMETA'!J62,CHAR(10),\"Trimestre 2\",CHAR(10),'GESTION_SEG_2_TRIM CSJMETA'!J62,CHAR(10),\"Trimestre 3\",CHAR(10),'GESTION_SEG_3_TRIM CSJMETA'!J62),\" \")","v":"Trimestre 1\n\nTrimestre 2\n\nTrimestre 3\n"},{"$f":"IFERROR(_xlfn.CONCAT(\"Trimestre 1\",CHAR(10),'GESTION_SEG_1_TRIM CSJMETA'!K62,CHAR(10),\"Trimestre 2\",CHAR(10),'GESTION_SEG_2_TRIM CSJMETA'!K62,CHAR(10),\"Trimestre 3\",CHAR(10),'GESTION_SEG_3_TRIM CSJMETA'!K62),\" \")","v":"Trimestre 1\n\nTrimestre 2\n\nTrimestre 3\n"}]
[null,null,null,null,null,null,null,null,null,null,null,null,null,null,null,{"$f":"IFERROR(MAX('GESTION_SEG_1_TRIM CSJMETA'!H63,'GESTION_SEG_2_TRIM CSJMETA'!H63,'GESTION_SEG_3_TRIM CSJMETA'!H63),\" \")","v":0},null,{"$f":"IFERROR(_xlfn.CONCAT(\"Trimestre 1\",CHAR(10),'GESTION_SEG_1_TRIM CSJMETA'!J63,CHAR(10),\"Trimestre 2\",CHAR(10),'GESTION_SEG_2_TRIM CSJMETA'!J63,CHAR(10),\"Trimestre 3\",CHAR(10),'GESTION_SEG_3_TRIM CSJMETA'!J63),\" \")","v":"Trimestre 1\n\nTrimestre 2\n\nTrimestre 3\n"},{"$f":"IFERROR(_xlfn.CONCAT(\"Trimestre 1\",CHAR(10),'GESTION_SEG_1_TRIM CSJMETA'!K63,CHAR(10),\"Trimestre 2\",CHAR(10),'GESTION_SEG_2_TRIM CSJMETA'!K63,CHAR(10),\"Trimestre 3\",CHAR(10),'GESTION_SEG_3_TRIM CSJMETA'!K63),\" \")","v":"Trimestre 1\n\nTrimestre 2\n\nTrimestre 3\n"}]
[null,null,null,null,null,null,null,null,null,null,null,null,null,null,null,{"$f":"IFERROR(MAX('GESTION_SEG_1_TRIM CSJMETA'!H64,'GESTION_SEG_2_TRIM CSJMETA'!H64,'GESTION_SEG_3_TRIM CSJMETA'!H64),\" \")","v":0},"",{"$f":"IFERROR(_xlfn.CONCAT(\"Trimestre 1\",CHAR(10),'GESTION_SEG_1_TRIM CSJMETA'!J64,CHAR(10),\"Trimestre 2\",CHAR(10),'GESTION_SEG_2_TRIM CSJMETA'!J64,CHAR(10),\"Trimestre 3\",CHAR(10),'GESTION_SEG_3_TRIM CSJMETA'!J64),\" \")","v":"Trimestre 1\n\nTrimestre 2\n\nTrimestre 3\n"},{"$f":"IFERROR(_xlfn.CONCAT(\"Trimestre 1\",CHAR(10),'GESTION_SEG_1_TRIM CSJMETA'!K64,CHAR(10),\"Trimestre 2\",CHAR(10),'GESTION_SEG_2_TRIM CSJMETA'!K64,CHAR(10),\"Trimestre 3\",CHAR(10),'GESTION_SEG_3_TRIM CSJMETA'!K64),\" \")","v":"Trimestre 1\n\nTrimestre 2\n\nTrimestre 3\n"}]
[null,null,null,null,null,null,null,null,null,null,null,null,null,null,null,{"$f":"IFERROR(MAX('GESTION_SEG_1_TRIM CSJMETA'!H65,'GESTION_SEG_2_TRIM CSJMETA'!H65,'GESTION_SEG_3_TRIM CSJMETA'!H65),\" \")","v":0},"",{"$f":"IFERROR(_xlfn.CONCAT(\"Trimestre 1\",CHAR(10),'GESTION_SEG_1_TRIM CSJMETA'!J65,CHAR(10),\"Trimestre 2\",CHAR(10),'GESTION_SEG_2_TRIM CSJMETA'!J65,CHAR(10),\"Trimestre 3\",CHAR(10),'GESTION_SEG_3_TRIM CSJMETA'!J65),\" \")","v":"Trimestre 1\n\nTrimestre 2\n\nTrimestre 3\n"},{"$f":"IFERROR(_xlfn.CONCAT(\"Trimestre 1\",CHAR(10),'GESTION_SEG_1_TRIM CSJMETA'!K65,CHAR(10),\"Trimestre 2\",CHAR(10),'GESTION_SEG_2_TRIM CSJMETA'!K65,CHAR(10),\"Trimestre 3\",CHAR(10),'GESTION_SEG_3_TRIM CSJMETA'!K65),\" \")","v":"Trimestre 1\n\nTrimestre 2\n\nTrimestre 3\n"}]
[null,null,"2. Integrar y hacer compatibles todos los aplicativos de transición con SIUGJ, para que la migración de los expedientes judiciales a dicha plataforma sea real y no suponga afectaciones en la prestación del servicio de justicia.",null,null,null,null,null,null,null,null,null,null,null,null,{"$f":"IFERROR(MAX('GESTION_SEG_1_TRIM CSJMETA'!H66,'GESTION_SEG_2_TRIM CSJMETA'!H66,'GESTION_SEG_3_TRIM CSJMETA'!H66),\" \")","v":0},"",{"$f":"IFERROR(_xlfn.CONCAT(\"Trimestre 1\",CHAR(10),'GESTION_SEG_1_TRIM CSJMETA'!J66,CHAR(10),\"Trimestre 2\",CHAR(10),'GESTION_SEG_2_TRIM CSJMETA'!J66,CHAR(10),\"Trimestre 3\",CHAR(10),'GESTION_SEG_3_TRIM CSJMETA'!J66),\" \")","v":"Trimestre 1\n\nTrimestre 2\n\nTrimestre 3\n"},{"$f":"IFERROR(_xlfn.CONCAT(\"Trimestre 1\",CHAR(10),'GESTION_SEG_1_TRIM CSJMETA'!K66,CHAR(10),\"Trimestre 2\",CHAR(10),'GESTION_SEG_2_TRIM CSJMETA'!K66,CHAR(10),\"Trimestre 3\",CHAR(10),'GESTION_SEG_3_TRIM CSJMETA'!K66),\" \")","v":"Trimestre 1\n\nTrimestre 2\n\nTrimestre 3\n"}]
[null,null,null,null,null,null,null,null,null,null,null,null,null,null,null,{"$f":"IFERROR(MAX('GESTION_SEG_1_TRIM CSJMETA'!H67,'GESTION_SEG_2_TRIM CSJMETA'!H67,'GESTION_SEG_3_TRIM CSJMETA'!H67),\" \")","v":0},"",{"$f":"IFERROR(_xlfn.CONCAT(\"Trimestre 1\",CHAR(10),'GESTION_SEG_1_TRIM CSJMETA'!J67,CHAR(10),\"Trimestre 2\",CHAR(10),'GESTION_SEG_2_TRIM CSJMETA'!J67,CHAR(10),\"Trimestre 3\",CHAR(10),'GESTION_SEG_3_TRIM CSJMETA'!J67),\" \")","v":"Trimestre 1\n\nTrimestre 2\n\nTrimestre 3\n"},{"$f":"IFERROR(_xlfn.CONCAT(\"Trimestre 1\",CHAR(10),'GESTION_SEG_1_TRIM CSJMETA'!K67,CHAR(10),\"Trimestre 2\",CHAR(10),'GESTION_SEG_2_TRIM CSJMETA'!K67,CHAR(10),\"Trimestre 3\",CHAR(10),'GESTION_SEG_3_TRIM CSJMETA'!K67),\" \")","v":"Trimestre 1\n\nTrimestre 2\n\nTrimestre 3\n"}]
[null,null,null,null,null,null,null,null,null,null,null,null,null,null,null,{"$f":"IFERROR(MAX('GESTION_SEG_1_TRIM CSJMETA'!H68,'GESTION_SEG_2_TRIM CSJMETA'!H68,'GESTION_SEG_3_TRIM CSJMETA'!H68),\" \")","v":0},null,{"$f":"IFERROR(_xlfn.CONCAT(\"Trimestre 1\",CHAR(10),'GESTION_SEG_1_TRIM CSJMETA'!J68,CHAR(10),\"Trimestre 2\",CHAR(10),'GESTION_SEG_2_TRIM CSJMETA'!J68,CHAR(10),\"Trimestre 3\",CHAR(10),'GESTION_SEG_3_TRIM CSJMETA'!J68),\" \")","v":"Trimestre 1\n\nTrimestre 2\n\nTrimestre 3\n"},{"$f":"IFERROR(_xlfn.CONCAT(\"Trimestre 1\",CHAR(10),'GESTION_SEG_1_TRIM CSJMETA'!K68,CHAR(10),\"Trimestre 2\",CHAR(10),'GESTION_SEG_2_TRIM CSJMETA'!K68,CHAR(10),\"Trimestre 3\",CHAR(10),'GESTION_SEG_3_TRIM CSJMETA'!K68),\" \")","v":"Trimestre 1\n\nTrimestre 2\n\nTrimestre 3\n"}]
[null,null,null,null,null,null,null,null,null,null,null,null,null,null,null,{"$f":"IFERROR(MAX('GESTION_SEG_1_TRIM CSJMETA'!H69,'GESTION_SEG_2_TRIM CSJMETA'!H69,'GESTION_SEG_3_TRIM CSJMETA'!H69),\" \")","v":0},null,{"$f":"IFERROR(_xlfn.CONCAT(\"Trimestre 1\",CHAR(10),'GESTION_SEG_1_TRIM CSJMETA'!J69,CHAR(10),\"Trimestre 2\",CHAR(10),'GESTION_SEG_2_TRIM CSJMETA'!J69,CHAR(10),\"Trimestre 3\",CHAR(10),'GESTION_SEG_3_TRIM CSJMETA'!J69),\" \")","v":"Trimestre 1\n\nTrimestre 2\n\nTrimestre 3\n"},{"$f":"IFERROR(_xlfn.CONCAT(\"Trimestre 1\",CHAR(10),'GESTION_SEG_1_TRIM CSJMETA'!K69,CHAR(10),\"Trimestre 2\",CHAR(10),'GESTION_SEG_2_TRIM CSJMETA'!K69,CHAR(10),\"Trimestre 3\",CHAR(10),'GESTION_SEG_3_TRIM CSJMETA'!K69),\" \")","v":"Trimestre 1\n\nTrimestre 2\n\nTrimestre 3\n"}]
[null,null,null,null,null,null,null,null,null,null,null,null,null,null,null,{"$f":"IFERROR(MAX('GESTION_SEG_1_TRIM CSJMETA'!H70,'GESTION_SEG_2_TRIM CSJMETA'!H70,'GESTION_SEG_3_TRIM CSJMETA'!H70),\" \")","v":0},null,{"$f":"IFERROR(_xlfn.CONCAT(\"Trimestre 1\",CHAR(10),'GESTION_SEG_1_TRIM CSJMETA'!J70,CHAR(10),\"Trimestre 2\",CHAR(10),'GESTION_SEG_2_TRIM CSJMETA'!J70,CHAR(10),\"Trimestre 3\",CHAR(10),'GESTION_SEG_3_TRIM CSJMETA'!J70),\" \")","v":"Trimestre 1\n\nTrimestre 2\n\nTrimestre 3\n"},{"$f":"IFERROR(_xlfn.CONCAT(\"Trimestre 1\",CHAR(10),'GESTION_SEG_1_TRIM CSJMETA'!K70,CHAR(10),\"Trimestre 2\",CHAR(10),'GESTION_SEG_2_TRIM CSJMETA'!K70,CHAR(10),\"Trimestre 3\",CHAR(10),'GESTION_SEG_3_TRIM CSJMETA'!K70),\" \")","v":"Trimestre 1\n\nTrimestre 2\n\nTrimestre 3\n"}]
[null,null,null,null,null,null,null,null,null,null,null,null,null,null,null,{"$f":"IFERROR(MAX('GESTION_SEG_1_TRIM CSJMETA'!H71,'GESTION_SEG_2_TRIM CSJMETA'!H71,'GESTION_SEG_3_TRIM CSJMETA'!H71),\" \")","v":0},null,{"$f":"IFERROR(_xlfn.CONCAT(\"Trimestre 1\",CHAR(10),'GESTION_SEG_1_TRIM CSJMETA'!J71,CHAR(10),\"Trimestre 2\",CHAR(10),'GESTION_SEG_2_TRIM CSJMETA'!J71,CHAR(10),\"Trimestre 3\",CHAR(10),'GESTION_SEG_3_TRIM CSJMETA'!J71),\" \")","v":"Trimestre 1\n\nTrimestre 2\n\nTrimestre 3\n"},{"$f":"IFERROR(_xlfn.CONCAT(\"Trimestre 1\",CHAR(10),'GESTION_SEG_1_TRIM CSJMETA'!K71,CHAR(10),\"Trimestre 2\",CHAR(10),'GESTION_SEG_2_TRIM CSJMETA'!K71,CHAR(10),\"Trimestre 3\",CHAR(10),'GESTION_SEG_3_TRIM CSJMETA'!K71),\" \")","v":"Trimestre 1\n\nTrimestre 2\n\nTrimestre 3\n"}]
[null,null,null,null,null,null,null,null,null,null,null,null,null,null,null,{"$f":"IFERROR(MAX('GESTION_SEG_1_TRIM CSJMETA'!H72,'GESTION_SEG_2_TRIM CSJMETA'!H72,'GESTION_SEG_3_TRIM CSJMETA'!H72),\" \")","v":0},null,{"$f":"IFERROR(_xlfn.CONCAT(\"Trimestre 1\",CHAR(10),'GESTION_SEG_1_TRIM CSJMETA'!J72,CHAR(10),\"Trimestre 2\",CHAR(10),'GESTION_SEG_2_TRIM CSJMETA'!J72,CHAR(10),\"Trimestre 3\",CHAR(10),'GESTION_SEG_3_TRIM CSJMETA'!J72),\" \")","v":"Trimestre 1\n\nTrimestre 2\n\nTrimestre 3\n"},{"$f":"IFERROR(_xlfn.CONCAT(\"Trimestre 1\",CHAR(10),'GESTION_SEG_1_TRIM CSJMETA'!K72,CHAR(10),\"Trimestre 2\",CHAR(10),'GESTION_SEG_2_TRIM CSJMETA'!K72,CHAR(10),\"Trimestre 3\",CHAR(10),'GESTION_SEG_3_TRIM CSJMETA'!K72),\" \")","v":"Trimestre 1\n\nTrimestre 2\n\nTrimestre 3\n"}]
[null,null,null,null,null,null,null,null,null,null,null,null,null,null,null,{"$f":"IFERROR(MAX('GESTION_SEG_1_TRIM CSJMETA'!H73,'GESTION_SEG_2_TRIM CSJMETA'!H73,'GESTION_SEG_3_TRIM CSJMETA'!H73),\" \")","v":0},{"$f":"IFERROR(P73/J73,\"\")","v":""},{"$f":"IFERROR(_xlfn.CONCAT(\"Trimestre 1\",CHAR(10),'GESTION_SEG_1_TRIM CSJMETA'!J73,CHAR(10),\"Trimestre 2\",CHAR(10),'GESTION_SEG_2_TRIM CSJMETA'!J73,CHAR(10),\"Trimestre 3\",CHAR(10),'GESTION_SEG_3_TRIM CSJMETA'!J73),\" \")","v":"Trimestre 1\n\nTrimestre 2\n\nTrimestre 3\n"},{"$f":"IFERROR(_xlfn.CONCAT(\"Trimestre 1\",CHAR(10),'GESTION_SEG_1_TRIM CSJMETA'!K73,CHAR(10),\"Trimestre 2\",CHAR(10),'GESTION_SEG_2_TRIM CSJMETA'!K73,CHAR(10),\"Trimestre 3\",CHAR(10),'GESTION_SEG_3_TRIM CSJMETA'!K73),\" \")","v":"Trimestre 1\n\nTrimestre 2\n\nTrimestre 3\n"}]
[null,null,null,null,null,null,null,null,null,null,null,null,null,null,null,{"$f":"IFERROR(MAX('GESTION_SEG_1_TRIM CSJMETA'!H74,'GESTION_SEG_2_TRIM CSJMETA'!H74,'GESTION_SEG_3_TRIM CSJMETA'!H74),\" \")","v":0},"",{"$f":"IFERROR(_xlfn.CONCAT(\"Trimestre 1\",CHAR(10),'GESTION_SEG_1_TRIM CSJMETA'!J74,CHAR(10),\"Trimestre 2\",CHAR(10),'GESTION_SEG_2_TRIM CSJMETA'!J74,CHAR(10),\"Trimestre 3\",CHAR(10),'GESTION_SEG_3_TRIM CSJMETA'!J74),\" \")","v":"Trimestre 1\n\nTrimestre 2\n\nTrimestre 3\n"},{"$f":"IFERROR(_xlfn.CONCAT(\"Trimestre 1\",CHAR(10),'GESTION_SEG_1_TRIM CSJMETA'!K74,CHAR(10),\"Trimestre 2\",CHAR(10),'GESTION_SEG_2_TRIM CSJMETA'!K74,CHAR(10),\"Trimestre 3\",CHAR(10),'GESTION_SEG_3_TRIM CSJMETA'!K74),\" \")","v":"Trimestre 1\n\nTrimestre 2\n\nTrimestre 3\n"}]
[null,null,null,null,null,null,null,null,null,null,null,null,null,null,null,{"$f":"IFERROR(MAX('GESTION_SEG_1_TRIM CSJMETA'!H75,'GESTION_SEG_2_TRIM CSJMETA'!H75,'GESTION_SEG_3_TRIM CSJMETA'!H75),\" \")","v":0},"",{"$f":"IFERROR(_xlfn.CONCAT(\"Trimestre 1\",CHAR(10),'GESTION_SEG_1_TRIM CSJMETA'!J75,CHAR(10),\"Trimestre 2\",CHAR(10),'GESTION_SEG_2_TRIM CSJMETA'!J75,CHAR(10),\"Trimestre 3\",CHAR(10),'GESTION_SEG_3_TRIM CSJMETA'!J75),\" \")","v":"Trimestre 1\n\nTrimestre 2\n\nTrimestre 3\n"},{"$f":"IFERROR(_xlfn.CONCAT(\"Trimestre 1\",CHAR(10),'GESTION_SEG_1_TRIM CSJMETA'!K75,CHAR(10),\"Trimestre 2\",CHAR(10),'GESTION_SEG_2_TRIM CSJMETA'!K75,CHAR(10),\"Trimestre 3\",CHAR(10),'GESTION_SEG_3_TRIM CSJMETA'!K75),\" \")","v":"Trimestre 1\n\nTrimestre 2\n\nTrimestre 3\n"}]
[null,null,"3. Fortalecer las capacidades institucionales, adecuar el modelo operativo y de servicio, bajo un enfoque de Arquitectura Empresarial y de fortalecimiento del acceso a la justicia.",null,null,null,null,null,null,null,null,null,null,null,null,{"$f":"IFERROR(MAX('GESTION_SEG_1_TRIM CSJMETA'!H76,'GESTION_SEG_2_TRIM CSJMETA'!H76,'GESTION_SEG_3_TRIM CSJMETA'!H76),\" \")","v":0},"",{"$f":"IFERROR(_xlfn.CONCAT(\"Trimestre 1\",CHAR(10),'GESTION_SEG_1_TRIM CSJMETA'!J76,CHAR(10),\"Trimestre 2\",CHAR(10),'GESTION_SEG_2_TRIM CSJMETA'!J76,CHAR(10),\"Trimestre 3\",CHAR(10),'GESTION_SEG_3_TRIM CSJMETA'!J76),\" \")","v":"Trimestre 1\n\nTrimestre 2\n\nTrimestre 3\n"},{"$f":"IFERROR(_xlfn.CONCAT(\"Trimestre 1\",CHAR(10),'GESTION_SEG_1_TRIM CSJMETA'!K76,CHAR(10),\"Trimestre 2\",CHAR(10),'GESTION_SEG_2_TRIM CSJMETA'!K76,CHAR(10),\"Trimestre 3\",CHAR(10),'GESTION_SEG_3_TRIM CSJMETA'!K76),\" \")","v":"Trimestre 1\n\nTrimestre 2\n\nTrimestre 3\n"}]
[null,null,null,null,null,null,null,null,null,null,null,null,null,null,null,{"$f":"IFERROR(MAX('GESTION_SEG_1_TRIM CSJMETA'!H77,'GESTION_SEG_2_TRIM CSJMETA'!H77,'GESTION_SEG_3_TRIM CSJMETA'!H77),\" \")","v":0},"",{"$f":"IFERROR(_xlfn.CONCAT(\"Trimestre 1\",CHAR(10),'GESTION_SEG_1_TRIM CSJMETA'!J77,CHAR(10),\"Trimestre 2\",CHAR(10),'GESTION_SEG_2_TRIM CSJMETA'!J77,CHAR(10),\"Trimestre 3\",CHAR(10),'GESTION_SEG_3_TRIM CSJMETA'!J77),\" \")","v":"Trimestre 1\n\nTrimestre 2\n\nTrimestre 3\n"},{"$f":"IFERROR(_xlfn.CONCAT(\"Trimestre 1\",CHAR(10),'GESTION_SEG_1_TRIM CSJMETA'!K77,CHAR(10),\"Trimestre 2\",CHAR(10),'GESTION_SEG_2_TRIM CSJMETA'!K77,CHAR(10),\"Trimestre 3\",CHAR(10),'GESTION_SEG_3_TRIM CSJMETA'!K77),\" \")","v":"Trimestre 1\n\nTrimestre 2\n\nTrimestre 3\n"}]
[null,null,null,null,null,null,null,null,null,null,null,null,null,null,null,{"$f":"IFERROR(MAX('GESTION_SEG_1_TRIM CSJMETA'!H78,'GESTION_SEG_2_TRIM CSJMETA'!H78,'GESTION_SEG_3_TRIM CSJMETA'!H78),\" \")","v":0},null,{"$f":"IFERROR(_xlfn.CONCAT(\"Trimestre 1\",CHAR(10),'GESTION_SEG_1_TRIM CSJMETA'!J78,CHAR(10),\"Trimestre 2\",CHAR(10),'GESTION_SEG_2_TRIM CSJMETA'!J78,CHAR(10),\"Trimestre 3\",CHAR(10),'GESTION_SEG_3_TRIM CSJMETA'!J78),\" \")","v":"Trimestre 1\n\nTrimestre 2\n\nTrimestre 3\n"},{"$f":"IFERROR(_xlfn.CONCAT(\"Trimestre 1\",CHAR(10),'GESTION_SEG_1_TRIM CSJMETA'!K78,CHAR(10),\"Trimestre 2\",CHAR(10),'GESTION_SEG_2_TRIM CSJMETA'!K78,CHAR(10),\"Trimestre 3\",CHAR(10),'GESTION_SEG_3_TRIM CSJMETA'!K78),\" \")","v":"Trimestre 1\n\nTrimestre 2\n\nTrimestre 3\n"}]
[null,null,null,null,null,null,null,null,null,null,null,null,null,null,null,{"$f":"IFERROR(MAX('GESTION_SEG_1_TRIM CSJMETA'!H79,'GESTION_SEG_2_TRIM CSJMETA'!H79,'GESTION_SEG_3_TRIM CSJMETA'!H79),\" \")","v":0},null,{"$f":"IFERROR(_xlfn.CONCAT(\"Trimestre 1\",CHAR(10),'GESTION_SEG_1_TRIM CSJMETA'!J79,CHAR(10),\"Trimestre 2\",CHAR(10),'GESTION_SEG_2_TRIM CSJMETA'!J79,CHAR(10),\"Trimestre 3\",CHAR(10),'GESTION_SEG_3_TRIM CSJMETA'!J79),\" \")","v":"Trimestre 1\n\nTrimestre 2\n\nTrimestre 3\n"},{"$f":"IFERROR(_xlfn.CONCAT(\"Trimestre 1\",CHAR(10),'GESTION_SEG_1_TRIM CSJMETA'!K79,CHAR(10),\"Trimestre 2\",CHAR(10),'GESTION_SEG_2_TRIM CSJMETA'!K79,CHAR(10),\"Trimestre 3\",CHAR(10),'GESTION_SEG_3_TRIM CSJMETA'!K79),\" \")","v":"Trimestre 1\n\nTrimestre 2\n\nTrimestre 3\n"}]
[null,null,null,null,null,null,null,null,null,null,null,null,null,null,null,{"$f":"IFERROR(MAX('GESTION_SEG_1_TRIM CSJMETA'!H80,'GESTION_SEG_2_TRIM CSJMETA'!H80,'GESTION_SEG_3_TRIM CSJMETA'!H80),\" \")","v":0},null,{"$f":"IFERROR(_xlfn.CONCAT(\"Trimestre 1\",CHAR(10),'GESTION_SEG_1_TRIM CSJMETA'!J80,CHAR(10),\"Trimestre 2\",CHAR(10),'GESTION_SEG_2_TRIM CSJMETA'!J80,CHAR(10),\"Trimestre 3\",CHAR(10),'GESTION_SEG_3_TRIM CSJMETA'!J80),\" \")","v":"Trimestre 1\n\nTrimestre 2\n\nTrimestre 3\n"},{"$f":"IFERROR(_xlfn.CONCAT(\"Trimestre 1\",CHAR(10),'GESTION_SEG_1_TRIM CSJMETA'!K80,CHAR(10),\"Trimestre 2\",CHAR(10),'GESTION_SEG_2_TRIM CSJMETA'!K80,CHAR(10),\"Trimestre 3\",CHAR(10),'GESTION_SEG_3_TRIM CSJMETA'!K80),\" \")","v":"Trimestre 1\n\nTrimestre 2\n\nTrimestre 3\n"}]
[null,null,null,null,null,null,null,null,null,null,null,null,null,null,null,{"$f":"IFERROR(MAX('GESTION_SEG_1_TRIM CSJMETA'!H81,'GESTION_SEG_2_TRIM CSJMETA'!H81,'GESTION_SEG_3_TRIM CSJMETA'!H81),\" \")","v":0},null,{"$f":"IFERROR(_xlfn.CONCAT(\"Trimestre 1\",CHAR(10),'GESTION_SEG_1_TRIM CSJMETA'!J81,CHAR(10),\"Trimestre 2\",CHAR(10),'GESTION_SEG_2_TRIM CSJMETA'!J81,CHAR(10),\"Trimestre 3\",CHAR(10),'GESTION_SEG_3_TRIM CSJMETA'!J81),\" \")","v":"Trimestre 1\n\nTrimestre 2\n\nTrimestre 3\n"},{"$f":"IFERROR(_xlfn.CONCAT(\"Trimestre 1\",CHAR(10),'GESTION_SEG_1_TRIM CSJMETA'!K81,CHAR(10),\"Trimestre 2\",CHAR(10),'GESTION_SEG_2_TRIM CSJMETA'!K81,CHAR(10),\"Trimestre 3\",CHAR(10),'GESTION_SEG_3_TRIM CSJMETA'!K81),\" \")","v":"Trimestre 1\n\nTrimestre 2\n\nTrimestre 3\n"}]
[null,null,null,null,null,null,null,null,null,null,null,null,null,null,null,{"$f":"IFERROR(MAX('GESTION_SEG_1_TRIM CSJMETA'!H82,'GESTION_SEG_2_TRIM CSJMETA'!H82,'GESTION_SEG_3_TRIM CSJMETA'!H82),\" \")","v":0},null,{"$f":"IFERROR(_xlfn.CONCAT(\"Trimestre 1\",CHAR(10),'GESTION_SEG_1_TRIM CSJMETA'!J82,CHAR(10),\"Trimestre 2\",CHAR(10),'GESTION_SEG_2_TRIM CSJMETA'!J82,CHAR(10),\"Trimestre 3\",CHAR(10),'GESTION_SEG_3_TRIM CSJMETA'!J82),\" \")","v":"Trimestre 1\n\nTrimestre 2\n\nTrimestre 3\n"},{"$f":"IFERROR(_xlfn.CONCAT(\"Trimestre 1\",CHAR(10),'GESTION_SEG_1_TRIM CSJMETA'!K82,CHAR(10),\"Trimestre 2\",CHAR(10),'GESTION_SEG_2_TRIM CSJMETA'!K82,CHAR(10),\"Trimestre 3\",CHAR(10),'GESTION_SEG_3_TRIM CSJMETA'!K82),\" \")","v":"Trimestre 1\n\nTrimestre 2\n\nTrimestre 3\n"}]
[null,null,null,null,null,null,null,null,null,null,null,null,null,null,null,{"$f":"IFERROR(MAX('GESTION_SEG_1_TRIM CSJMETA'!H83,'GESTION_SEG_2_TRIM CSJMETA'!H83,'GESTION_SEG_3_TRIM CSJMETA'!H83),\" \")","v":0},"",{"$f":"IFERROR(_xlfn.CONCAT(\"Trimestre 1\",CHAR(10),'GESTION_SEG_1_TRIM CSJMETA'!J83,CHAR(10),\"Trimestre 2\",CHAR(10),'GESTION_SEG_2_TRIM CSJMETA'!J83,CHAR(10),\"Trimestre 3\",CHAR(10),'GESTION_SEG_3_TRIM CSJMETA'!J83),\" \")","v":"Trimestre 1\n\nTrimestre 2\n\nTrimestre 3\n"},{"$f":"IFERROR(_xlfn.CONCAT(\"Trimestre 1\",CHAR(10),'GESTION_SEG_1_TRIM CSJMETA'!K83,CHAR(10),\"Trimestre 2\",CHAR(10),'GESTION_SEG_2_TRIM CSJMETA'!K83,CHAR(10),\"Trimestre 3\",CHAR(10),'GESTION_SEG_3_TRIM CSJMETA'!K83),\" \")","v":"Trimestre 1\n\nTrimestre 2\n\nTrimestre 3\n"}]
[null,null,null,null,null,null,null,null,null,null,null,null,null,null,null,{"$f":"IFERROR(MAX('GESTION_SEG_1_TRIM CSJMETA'!H84,'GESTION_SEG_2_TRIM CSJMETA'!H84,'GESTION_SEG_3_TRIM CSJMETA'!H84),\" \")","v":0},"",{"$f":"IFERROR(_xlfn.CONCAT(\"Trimestre 1\",CHAR(10),'GESTION_SEG_1_TRIM CSJMETA'!J84,CHAR(10),\"Trimestre 2\",CHAR(10),'GESTION_SEG_2_TRIM CSJMETA'!J84,CHAR(10),\"Trimestre 3\",CHAR(10),'GESTION_SEG_3_TRIM CSJMETA'!J84),\" \")","v":"Trimestre 1\n\nTrimestre 2\n\nTrimestre 3\n"},{"$f":"IFERROR(_xlfn.CONCAT(\"Trimestre 1\",CHAR(10),'GESTION_SEG_1_TRIM CSJMETA'!K84,CHAR(10),\"Trimestre 2\",CHAR(10),'GESTION_SEG_2_TRIM CSJMETA'!K84,CHAR(10),\"Trimestre 3\",CHAR(10),'GESTION_SEG_3_TRIM CSJMETA'!K84),\" \")","v":"Trimestre 1\n\nTrimestre 2\n\nTrimestre 3\n"}]
[null,null,null,null,null,null,null,null,null,null,null,null,null,null,null,{"$f":"IFERROR(MAX('GESTION_SEG_1_TRIM CSJMETA'!H85,'GESTION_SEG_2_TRIM CSJMETA'!H85,'GESTION_SEG_3_TRIM CSJMETA'!H85),\" \")","v":0},"",{"$f":"IFERROR(_xlfn.CONCAT(\"Trimestre 1\",CHAR(10),'GESTION_SEG_1_TRIM CSJMETA'!J85,CHAR(10),\"Trimestre 2\",CHAR(10),'GESTION_SEG_2_TRIM CSJMETA'!J85,CHAR(10),\"Trimestre 3\",CHAR(10),'GESTION_SEG_3_TRIM CSJMETA'!J85),\" \")","v":"Trimestre 1\n\nTrimestre 2\n\nTrimestre 3\n"},{"$f":"IFERROR(_xlfn.CONCAT(\"Trimestre 1\",CHAR(10),'GESTION_SEG_1_TRIM CSJMETA'!K85,CHAR(10),\"Trimestre 2\",CHAR(10),'GESTION_SEG_2_TRIM CSJMETA'!K85,CHAR(10),\"Trimestre 3\",CHAR(10),'GESTION_SEG_3_TRIM CSJMETA'!K85),\" \")","v":"Trimestre 1\n\nTrimestre 2\n\nTrimestre 3\n"}]
[null,null,"4.Consolidar la cultura y apropiación de la transformación digital en los servidores y usuarios de los servicios de la Rama Judicial y reducir brechas de acceso y conocimiento, incluyendo la oferta efectiva de información sobre el uso de las nuevas herramientas virtuales implementadas en las diferentes jurisdicciones, con especial énfasis en las zonas del país donde es evidente la brecha digital.",null,null,null,null,null,null,null,null,null,null,null,null,{"$f":"IFERROR(MAX('GESTION_SEG_1_TRIM CSJMETA'!H86,'GESTION_SEG_2_TRIM CSJMETA'!H86,'GESTION_SEG_3_TRIM CSJMETA'!H86),\" \")","v":0},"",{"$f":"IFERROR(_xlfn.CONCAT(\"Trimestre 1\",CHAR(10),'GESTION_SEG_1_TRIM CSJMETA'!J86,CHAR(10),\"Trimestre 2\",CHAR(10),'GESTION_SEG_2_TRIM CSJMETA'!J86,CHAR(10),\"Trimestre 3\",CHAR(10),'GESTION_SEG_3_TRIM CSJMETA'!J86),\" \")","v":"Trimestre 1\n\nTrimestre 2\n\nTrimestre 3\n"},{"$f":"IFERROR(_xlfn.CONCAT(\"Trimestre 1\",CHAR(10),'GESTION_SEG_1_TRIM CSJMETA'!K86,CHAR(10),\"Trimestre 2\",CHAR(10),'GESTION_SEG_2_TRIM CSJMETA'!K86,CHAR(10),\"Trimestre 3\",CHAR(10),'GESTION_SEG_3_TRIM CSJMETA'!K86),\" \")","v":"Trimestre 1\n\nTrimestre 2\n\nTrimestre 3\n"}]
[null,null,null,null,null,null,null,null,null,null,null,null,null,null,null,{"$f":"IFERROR(MAX('GESTION_SEG_1_TRIM CSJMETA'!H87,'GESTION_SEG_2_TRIM CSJMETA'!H87,'GESTION_SEG_3_TRIM CSJMETA'!H87),\" \")","v":0},"",{"$f":"IFERROR(_xlfn.CONCAT(\"Trimestre 1\",CHAR(10),'GESTION_SEG_1_TRIM CSJMETA'!J87,CHAR(10),\"Trimestre 2\",CHAR(10),'GESTION_SEG_2_TRIM CSJMETA'!J87,CHAR(10),\"Trimestre 3\",CHAR(10),'GESTION_SEG_3_TRIM CSJMETA'!J87),\" \")","v":"Trimestre 1\n\nTrimestre 2\n\nTrimestre 3\n"},{"$f":"IFERROR(_xlfn.CONCAT(\"Trimestre 1\",CHAR(10),'GESTION_SEG_1_TRIM CSJMETA'!K87,CHAR(10),\"Trimestre 2\",CHAR(10),'GESTION_SEG_2_TRIM CSJMETA'!K87,CHAR(10),\"Trimestre 3\",CHAR(10),'GESTION_SEG_3_TRIM CSJMETA'!K87),\" \")","v":"Trimestre 1\n\nTrimestre 2\n\nTrimestre 3\n"}]
[null,null,null,null,null,null,null,null,null,null,null,null,null,null,null,{"$f":"IFERROR(MAX('GESTION_SEG_1_TRIM CSJMETA'!H88,'GESTION_SEG_2_TRIM CSJMETA'!H88,'GESTION_SEG_3_TRIM CSJMETA'!H88),\" \")","v":0},null,{"$f":"IFERROR(_xlfn.CONCAT(\"Trimestre 1\",CHAR(10),'GESTION_SEG_1_TRIM CSJMETA'!J88,CHAR(10),\"Trimestre 2\",CHAR(10),'GESTION_SEG_2_TRIM CSJMETA'!J88,CHAR(10),\"Trimestre 3\",CHAR(10),'GESTION_SEG_3_TRIM CSJMETA'!J88),\" \")","v":"Trimestre 1\n\nTrimestre 2\n\nTrimestre 3\n"},{"$f":"IFERROR(_xlfn.CONCAT(\"Trimestre 1\",CHAR(10),'GESTION_SEG_1_TRIM CSJMETA'!K88,CHAR(10),\"Trimestre 2\",CHAR(10),'GESTION_SEG_2_TRIM CSJMETA'!K88,CHAR(10),\"Trimestre 3\",CHAR(10),'GESTION_SEG_3_TRIM CSJMETA'!K88),\" \")","v":"Trimestre 1\n\nTrimestre 2\n\nTrimestre 3\n"}]
[null,null,null,null,null,null,null,null,null,null,null,null,null,null,null,{"$f":"IFERROR(MAX('GESTION_SEG_1_TRIM CSJMETA'!H89,'GESTION_SEG_2_TRIM CSJMETA'!H89,'GESTION_SEG_3_TRIM CSJMETA'!H89),\" \")","v":0},null,{"$f":"IFERROR(_xlfn.CONCAT(\"Trimestre 1\",CHAR(10),'GESTION_SEG_1_TRIM CSJMETA'!J89,CHAR(10),\"Trimestre 2\",CHAR(10),'GESTION_SEG_2_TRIM CSJMETA'!J89,CHAR(10),\"Trimestre 3\",CHAR(10),'GESTION_SEG_3_TRIM CSJMETA'!J89),\" \")","v":"Trimestre 1\n\nTrimestre 2\n\nTrimestre 3\n"},{"$f":"IFERROR(_xlfn.CONCAT(\"Trimestre 1\",CHAR(10),'GESTION_SEG_1_TRIM CSJMETA'!K89,CHAR(10),\"Trimestre 2\",CHAR(10),'GESTION_SEG_2_TRIM CSJMETA'!K89,CHAR(10),\"Trimestre 3\",CHAR(10),'GESTION_SEG_3_TRIM CSJMETA'!K89),\" \")","v":"Trimestre 1\n\nTrimestre 2\n\nTrimestre 3\n"}]
[null,null,null,null,null,null,null,null,null,null,null,null,null,null,null,{"$f":"IFERROR(MAX('GESTION_SEG_1_TRIM CSJMETA'!H90,'GESTION_SEG_2_TRIM CSJMETA'!H90,'GESTION_SEG_3_TRIM CSJMETA'!H90),\" \")","v":0},null,{"$f":"IFERROR(_xlfn.CONCAT(\"Trimestre 1\",CHAR(10),'GESTION_SEG_1_TRIM CSJMETA'!J90,CHAR(10),\"Trimestre 2\",CHAR(10),'GESTION_SEG_2_TRIM CSJMETA'!J90,CHAR(10),\"Trimestre 3\",CHAR(10),'GESTION_SEG_3_TRIM CSJMETA'!J90),\" \")","v":"Trimestre 1\n\nTrimestre 2\n\nTrimestre 3\n"},{"$f":"IFERROR(_xlfn.CONCAT(\"Trimestre 1\",CHAR(10),'GESTION_SEG_1_TRIM CSJMETA'!K90,CHAR(10),\"Trimestre 2\",CHAR(10),'GESTION_SEG_2_TRIM CSJMETA'!K90,CHAR(10),\"Trimestre 3\",CHAR(10),'GESTION_SEG_3_TRIM CSJMETA'!K90),\" \")","v":"Trimestre 1\n\nTrimestre 2\n\nTrimestre 3\n"}]
[null,null,null,null,null,null,null,null,null,null,null,null,null,null,null,{"$f":"IFERROR(MAX('GESTION_SEG_1_TRIM CSJMETA'!H91,'GESTION_SEG_2_TRIM CSJMETA'!H91,'GESTION_SEG_3_TRIM CSJMETA'!H91),\" \")","v":0},null,{"$f":"IFERROR(_xlfn.CONCAT(\"Trimestre 1\",CHAR(10),'GESTION_SEG_1_TRIM CSJMETA'!J91,CHAR(10),\"Trimestre 2\",CHAR(10),'GESTION_SEG_2_TRIM CSJMETA'!J91,CHAR(10),\"Trimestre 3\",CHAR(10),'GESTION_SEG_3_TRIM CSJMETA'!J91),\" \")","v":"Trimestre 1\n\nTrimestre 2\n\nTrimestre 3\n"},{"$f":"IFERROR(_xlfn.CONCAT(\"Trimestre 1\",CHAR(10),'GESTION_SEG_1_TRIM CSJMETA'!K91,CHAR(10),\"Trimestre 2\",CHAR(10),'GESTION_SEG_2_TRIM CSJMETA'!K91,CHAR(10),\"Trimestre 3\",CHAR(10),'GESTION_SEG_3_TRIM CSJMETA'!K91),\" \")","v":"Trimestre 1\n\nTrimestre 2\n\nTrimestre 3\n"}]
[null,null,null,null,null,null,null,null,null,null,null,null,null,null,null,{"$f":"IFERROR(MAX('GESTION_SEG_1_TRIM CSJMETA'!H92,'GESTION_SEG_2_TRIM CSJMETA'!H92,'GESTION_SEG_3_TRIM CSJMETA'!H92),\" \")","v":0},null,{"$f":"IFERROR(_xlfn.CONCAT(\"Trimestre 1\",CHAR(10),'GESTION_SEG_1_TRIM CSJMETA'!J92,CHAR(10),\"Trimestre 2\",CHAR(10),'GESTION_SEG_2_TRIM CSJMETA'!J92,CHAR(10),\"Trimestre 3\",CHAR(10),'GESTION_SEG_3_TRIM CSJMETA'!J92),\" \")","v":"Trimestre 1\n\nTrimestre 2\n\nTrimestre 3\n"},{"$f":"IFERROR(_xlfn.CONCAT(\"Trimestre 1\",CHAR(10),'GESTION_SEG_1_TRIM CSJMETA'!K92,CHAR(10),\"Trimestre 2\",CHAR(10),'GESTION_SEG_2_TRIM CSJMETA'!K92,CHAR(10),\"Trimestre 3\",CHAR(10),'GESTION_SEG_3_TRIM CSJMETA'!K92),\" \")","v":"Trimestre 1\n\nTrimestre 2\n\nTrimestre 3\n"}]
[null,null,null,null,null,null,null,null,null,null,null,null,null,null,null,{"$f":"IFERROR(MAX('GESTION_SEG_1_TRIM CSJMETA'!H93,'GESTION_SEG_2_TRIM CSJMETA'!H93,'GESTION_SEG_3_TRIM CSJMETA'!H93),\" \")","v":0},"",{"$f":"IFERROR(_xlfn.CONCAT(\"Trimestre 1\",CHAR(10),'GESTION_SEG_1_TRIM CSJMETA'!J93,CHAR(10),\"Trimestre 2\",CHAR(10),'GESTION_SEG_2_TRIM CSJMETA'!J93,CHAR(10),\"Trimestre 3\",CHAR(10),'GESTION_SEG_3_TRIM CSJMETA'!J93),\" \")","v":"Trimestre 1\n\nTrimestre 2\n\nTrimestre 3\n"},{"$f":"IFERROR(_xlfn.CONCAT(\"Trimestre 1\",CHAR(10),'GESTION_SEG_1_TRIM CSJMETA'!K93,CHAR(10),\"Trimestre 2\",CHAR(10),'GESTION_SEG_2_TRIM CSJMETA'!K93,CHAR(10),\"Trimestre 3\",CHAR(10),'GESTION_SEG_3_TRIM CSJMETA'!K93),\" \")","v":"Trimestre 1\n\nTrimestre 2\n\nTrimestre 3\n"}]
[null,null,null,null,null,null,null,null,null,null,null,null,null,null,null,{"$f":"IFERROR(MAX('GESTION_SEG_1_TRIM CSJMETA'!H94,'GESTION_SEG_2_TRIM CSJMETA'!H94,'GESTION_SEG_3_TRIM CSJMETA'!H94),\" \")","v":0},"",{"$f":"IFERROR(_xlfn.CONCAT(\"Trimestre 1\",CHAR(10),'GESTION_SEG_1_TRIM CSJMETA'!J94,CHAR(10),\"Trimestre 2\",CHAR(10),'GESTION_SEG_2_TRIM CSJMETA'!J94,CHAR(10),\"Trimestre 3\",CHAR(10),'GESTION_SEG_3_TRIM CSJMETA'!J94),\" \")","v":"Trimestre 1\n\nTrimestre 2\n\nTrimestre 3\n"},{"$f":"IFERROR(_xlfn.CONCAT(\"Trimestre 1\",CHAR(10),'GESTION_SEG_1_TRIM CSJMETA'!K94,CHAR(10),\"Trimestre 2\",CHAR(10),'GESTION_SEG_2_TRIM CSJMETA'!K94,CHAR(10),\"Trimestre 3\",CHAR(10),'GESTION_SEG_3_TRIM CSJMETA'!K94),\" \")","v":"Trimestre 1\n\nTrimestre 2\n\nTrimestre 3\n"}]
[null,null,null,null,null,null,null,null,null,null,null,null,null,null,null,{"$f":"IFERROR(MAX('GESTION_SEG_1_TRIM CSJMETA'!H95,'GESTION_SEG_2_TRIM CSJMETA'!H95,'GESTION_SEG_3_TRIM CSJMETA'!H95),\" \")","v":0},"",{"$f":"IFERROR(_xlfn.CONCAT(\"Trimestre 1\",CHAR(10),'GESTION_SEG_1_TRIM CSJMETA'!J95,CHAR(10),\"Trimestre 2\",CHAR(10),'GESTION_SEG_2_TRIM CSJMETA'!J95,CHAR(10),\"Trimestre 3\",CHAR(10),'GESTION_SEG_3_TRIM CSJMETA'!J95),\" \")","v":"Trimestre 1\n\nTrimestre 2\n\nTrimestre 3\n"},{"$f":"IFERROR(_xlfn.CONCAT(\"Trimestre 1\",CHAR(10),'GESTION_SEG_1_TRIM CSJMETA'!K95,CHAR(10),\"Trimestre 2\",CHAR(10),'GESTION_SEG_2_TRIM CSJMETA'!K95,CHAR(10),\"Trimestre 3\",CHAR(10),'GESTION_SEG_3_TRIM CSJMETA'!K95),\" \")","v":"Trimestre 1\n\nTrimestre 2\n\nTrimestre 3\n"}]
[null,null,"5.Consolidar la infraestructura y los recursos necesarios para la implementación exitosa de la transformación digital, incluyendo la disposición de internet de calidad en el 100% de las sedes en la Rama Judicial y modernizar los servicios tecnológicos de soporte. ",null,null,null,null,null,null,null,null,null,null,null,null,{"$f":"IFERROR(MAX('GESTION_SEG_1_TRIM CSJMETA'!H96,'GESTION_SEG_2_TRIM CSJMETA'!H96,'GESTION_SEG_3_TRIM CSJMETA'!H96),\" \")","v":0},"",{"$f":"IFERROR(_xlfn.CONCAT(\"Trimestre 1\",CHAR(10),'GESTION_SEG_1_TRIM CSJMETA'!J96,CHAR(10),\"Trimestre 2\",CHAR(10),'GESTION_SEG_2_TRIM CSJMETA'!J96,CHAR(10),\"Trimestre 3\",CHAR(10),'GESTION_SEG_3_TRIM CSJMETA'!J96),\" \")","v":"Trimestre 1\n\nTrimestre 2\n\nTrimestre 3\n"},{"$f":"IFERROR(_xlfn.CONCAT(\"Trimestre 1\",CHAR(10),'GESTION_SEG_1_TRIM CSJMETA'!K96,CHAR(10),\"Trimestre 2\",CHAR(10),'GESTION_SEG_2_TRIM CSJMETA'!K96,CHAR(10),\"Trimestre 3\",CHAR(10),'GESTION_SEG_3_TRIM CSJMETA'!K96),\" \")","v":"Trimestre 1\n\nTrimestre 2\n\nTrimestre 3\n"}]
[null,null,null,null,null,null,null,null,null,null,null,null,null,null,null,{"$f":"IFERROR(MAX('GESTION_SEG_1_TRIM CSJMETA'!H97,'GESTION_SEG_2_TRIM CSJMETA'!H97,'GESTION_SEG_3_TRIM CSJMETA'!H97),\" \")","v":0},"",{"$f":"IFERROR(_xlfn.CONCAT(\"Trimestre 1\",CHAR(10),'GESTION_SEG_1_TRIM CSJMETA'!J97,CHAR(10),\"Trimestre 2\",CHAR(10),'GESTION_SEG_2_TRIM CSJMETA'!J97,CHAR(10),\"Trimestre 3\",CHAR(10),'GESTION_SEG_3_TRIM CSJMETA'!J97),\" \")","v":"Trimestre 1\n\nTrimestre 2\n\nTrimestre 3\n"},{"$f":"IFERROR(_xlfn.CONCAT(\"Trimestre 1\",CHAR(10),'GESTION_SEG_1_TRIM CSJMETA'!K97,CHAR(10),\"Trimestre 2\",CHAR(10),'GESTION_SEG_2_TRIM CSJMETA'!K97,CHAR(10),\"Trimestre 3\",CHAR(10),'GESTION_SEG_3_TRIM CSJMETA'!K97),\" \")","v":"Trimestre 1\n\nTrimestre 2\n\nTrimestre 3\n"}]
[null,null,null,null,null,null,null,null,null,null,null,null,null,null,null,{"$f":"IFERROR(MAX('GESTION_SEG_1_TRIM CSJMETA'!H98,'GESTION_SEG_2_TRIM CSJMETA'!H98,'GESTION_SEG_3_TRIM CSJMETA'!H98),\" \")","v":0},null,{"$f":"IFERROR(_xlfn.CONCAT(\"Trimestre 1\",CHAR(10),'GESTION_SEG_1_TRIM CSJMETA'!J98,CHAR(10),\"Trimestre 2\",CHAR(10),'GESTION_SEG_2_TRIM CSJMETA'!J98,CHAR(10),\"Trimestre 3\",CHAR(10),'GESTION_SEG_3_TRIM CSJMETA'!J98),\" \")","v":"Trimestre 1\n\nTrimestre 2\n\nTrimestre 3\n"},{"$f":"IFERROR(_xlfn.CONCAT(\"Trimestre 1\",CHAR(10),'GESTION_SEG_1_TRIM CSJMETA'!K98,CHAR(10),\"Trimestre 2\",CHAR(10),'GESTION_SEG_2_TRIM CSJMETA'!K98,CHAR(10),\"Trimestre 3\",CHAR(10),'GESTION_SEG_3_TRIM CSJMETA'!K98),\" \")","v":"Trimestre 1\n\nTrimestre 2\n\nTrimestre 3\n"}]
[null,null,null,null,null,null,null,null,null,null,null,null,null,null,null,{"$f":"IFERROR(MAX('GESTION_SEG_1_TRIM CSJMETA'!H99,'GESTION_SEG_2_TRIM CSJMETA'!H99,'GESTION_SEG_3_TRIM CSJMETA'!H99),\" \")","v":0},null,{"$f":"IFERROR(_xlfn.CONCAT(\"Trimestre 1\",CHAR(10),'GESTION_SEG_1_TRIM CSJMETA'!J99,CHAR(10),\"Trimestre 2\",CHAR(10),'GESTION_SEG_2_TRIM CSJMETA'!J99,CHAR(10),\"Trimestre 3\",CHAR(10),'GESTION_SEG_3_TRIM CSJMETA'!J99),\" \")","v":"Trimestre 1\n\nTrimestre 2\n\nTrimestre 3\n"},{"$f":"IFERROR(_xlfn.CONCAT(\"Trimestre 1\",CHAR(10),'GESTION_SEG_1_TRIM CSJMETA'!K99,CHAR(10),\"Trimestre 2\",CHAR(10),'GESTION_SEG_2_TRIM CSJMETA'!K99,CHAR(10),\"Trimestre 3\",CHAR(10),'GESTION_SEG_3_TRIM CSJMETA'!K99),\" \")","v":"Trimestre 1\n\nTrimestre 2\n\nTrimestre 3\n"}]
[null,null,null,null,null,null,null,null,null,null,null,null,null,null,null,{"$f":"IFERROR(MAX('GESTION_SEG_1_TRIM CSJMETA'!H100,'GESTION_SEG_2_TRIM CSJMETA'!H100,'GESTION_SEG_3_TRIM CSJMETA'!H100),\" \")","v":0},null,{"$f":"IFERROR(_xlfn.CONCAT(\"Trimestre 1\",CHAR(10),'GESTION_SEG_1_TRIM CSJMETA'!J100,CHAR(10),\"Trimestre 2\",CHAR(10),'GESTION_SEG_2_TRIM CSJMETA'!J100,CHAR(10),\"Trimestre 3\",CHAR(10),'GESTION_SEG_3_TRIM CSJMETA'!J100),\" \")","v":"Trimestre 1\n\nTrimestre 2\n\nTrimestre 3\n"},{"$f":"IFERROR(_xlfn.CONCAT(\"Trimestre 1\",CHAR(10),'GESTION_SEG_1_TRIM CSJMETA'!K100,CHAR(10),\"Trimestre 2\",CHAR(10),'GESTION_SEG_2_TRIM CSJMETA'!K100,CHAR(10),\"Trimestre 3\",CHAR(10),'GESTION_SEG_3_TRIM CSJMETA'!K100),\" \")","v":"Trimestre 1\n\nTrimestre 2\n\nTrimestre 3\n"}]
[null,null,null,null,null,null,null,null,null,null,null,null,null,null,null,{"$f":"IFERROR(MAX('GESTION_SEG_1_TRIM CSJMETA'!H101,'GESTION_SEG_2_TRIM CSJMETA'!H101,'GESTION_SEG_3_TRIM CSJMETA'!H101),\" \")","v":0},null,{"$f":"IFERROR(_xlfn.CONCAT(\"Trimestre 1\",CHAR(10),'GESTION_SEG_1_TRIM CSJMETA'!J101,CHAR(10),\"Trimestre 2\",CHAR(10),'GESTION_SEG_2_TRIM CSJMETA'!J101,CHAR(10),\"Trimestre 3\",CHAR(10),'GESTION_SEG_3_TRIM CSJMETA'!J101),\" \")","v":"Trimestre 1\n\nTrimestre 2\n\nTrimestre 3\n"},{"$f":"IFERROR(_xlfn.CONCAT(\"Trimestre 1\",CHAR(10),'GESTION_SEG_1_TRIM CSJMETA'!K101,CHAR(10),\"Trimestre 2\",CHAR(10),'GESTION_SEG_2_TRIM CSJMETA'!K101,CHAR(10),\"Trimestre 3\",CHAR(10),'GESTION_SEG_3_TRIM CSJMETA'!K101),\" \")","v":"Trimestre 1\n\nTrimestre 2\n\nTrimestre 3\n"}]
[null,null,null,null,null,null,null,null,null,null,null,null,null,null,null,{"$f":"IFERROR(MAX('GESTION_SEG_1_TRIM CSJMETA'!H102,'GESTION_SEG_2_TRIM CSJMETA'!H102,'GESTION_SEG_3_TRIM CSJMETA'!H102),\" \")","v":0},null,{"$f":"IFERROR(_xlfn.CONCAT(\"Trimestre 1\",CHAR(10),'GESTION_SEG_1_TRIM CSJMETA'!J102,CHAR(10),\"Trimestre 2\",CHAR(10),'GESTION_SEG_2_TRIM CSJMETA'!J102,CHAR(10),\"Trimestre 3\",CHAR(10),'GESTION_SEG_3_TRIM CSJMETA'!J102),\" \")","v":"Trimestre 1\n\nTrimestre 2\n\nTrimestre 3\n"},{"$f":"IFERROR(_xlfn.CONCAT(\"Trimestre 1\",CHAR(10),'GESTION_SEG_1_TRIM CSJMETA'!K102,CHAR(10),\"Trimestre 2\",CHAR(10),'GESTION_SEG_2_TRIM CSJMETA'!K102,CHAR(10),\"Trimestre 3\",CHAR(10),'GESTION_SEG_3_TRIM CSJMETA'!K102),\" \")","v":"Trimestre 1\n\nTrimestre 2\n\nTrimestre 3\n"}]
[null,null,null,null,null,null,null,null,null,null,null,null,null,null,null,{"$f":"IFERROR(MAX('GESTION_SEG_1_TRIM CSJMETA'!H103,'GESTION_SEG_2_TRIM CSJMETA'!H103,'GESTION_SEG_3_TRIM CSJMETA'!H103),\" \")","v":0},"",{"$f":"IFERROR(_xlfn.CONCAT(\"Trimestre 1\",CHAR(10),'GESTION_SEG_1_TRIM CSJMETA'!J103,CHAR(10),\"Trimestre 2\",CHAR(10),'GESTION_SEG_2_TRIM CSJMETA'!J103,CHAR(10),\"Trimestre 3\",CHAR(10),'GESTION_SEG_3_TRIM CSJMETA'!J103),\" \")","v":"Trimestre 1\n\nTrimestre 2\n\nTrimestre 3\n"},{"$f":"IFERROR(_xlfn.CONCAT(\"Trimestre 1\",CHAR(10),'GESTION_SEG_1_TRIM CSJMETA'!K103,CHAR(10),\"Trimestre 2\",CHAR(10),'GESTION_SEG_2_TRIM CSJMETA'!K103,CHAR(10),\"Trimestre 3\",CHAR(10),'GESTION_SEG_3_TRIM CSJMETA'!K103),\" \")","v":"Trimestre 1\n\nTrimestre 2\n\nTrimestre 3\n"}]
[null,null,null,null,null,null,null,null,null,null,null,null,null,null,null,{"$f":"IFERROR(MAX('GESTION_SEG_1_TRIM CSJMETA'!H104,'GESTION_SEG_2_TRIM CSJMETA'!H104,'GESTION_SEG_3_TRIM CSJMETA'!H104),\" \")","v":0},"",{"$f":"IFERROR(_xlfn.CONCAT(\"Trimestre 1\",CHAR(10),'GESTION_SEG_1_TRIM CSJMETA'!J104,CHAR(10),\"Trimestre 2\",CHAR(10),'GESTION_SEG_2_TRIM CSJMETA'!J104,CHAR(10),\"Trimestre 3\",CHAR(10),'GESTION_SEG_3_TRIM CSJMETA'!J104),\" \")","v":"Trimestre 1\n\nTrimestre 2\n\nTrimestre 3\n"},{"$f":"IFERROR(_xlfn.CONCAT(\"Trimestre 1\",CHAR(10),'GESTION_SEG_1_TRIM CSJMETA'!K104,CHAR(10),\"Trimestre 2\",CHAR(10),'GESTION_SEG_2_TRIM CSJMETA'!K104,CHAR(10),\"Trimestre 3\",CHAR(10),'GESTION_SEG_3_TRIM CSJMETA'!K104),\" \")","v":"Trimestre 1\n\nTrimestre 2\n\nTrimestre 3\n"}]
[null,null,null,null,null,null,null,null,null,null,null,null,null,null,null,{"$f":"IFERROR(MAX('GESTION_SEG_1_TRIM CSJMETA'!H105,'GESTION_SEG_2_TRIM CSJMETA'!H105,'GESTION_SEG_3_TRIM CSJMETA'!H105),\" \")","v":0},"",{"$f":"IFERROR(_xlfn.CONCAT(\"Trimestre 1\",CHAR(10),'GESTION_SEG_1_TRIM CSJMETA'!J105,CHAR(10),\"Trimestre 2\",CHAR(10),'GESTION_SEG_2_TRIM CSJMETA'!J105,CHAR(10),\"Trimestre 3\",CHAR(10),'GESTION_SEG_3_TRIM CSJMETA'!J105),\" \")","v":"Trimestre 1\n\nTrimestre 2\n\nTrimestre 3\n"},{"$f":"IFERROR(_xlfn.CONCAT(\"Trimestre 1\",CHAR(10),'GESTION_SEG_1_TRIM CSJMETA'!K105,CHAR(10),\"Trimestre 2\",CHAR(10),'GESTION_SEG_2_TRIM CSJMETA'!K105,CHAR(10),\"Trimestre 3\",CHAR(10),'GESTION_SEG_3_TRIM CSJMETA'!K105),\" \")","v":"Trimestre 1\n\nTrimestre 2\n\nTrimestre 3\n"}]
[null,null,"6.Integrar y optimizar los servicios administrativos de la Rama Judicial bajo un enfoque de transformación digital e innovación incluyendo los componentes financiero, administrativo, talento humano, entre otros",null,null,null,null,null,null,null,null,null,null,null,null,{"$f":"IFERROR(MAX('GESTION_SEG_1_TRIM CSJMETA'!H106,'GESTION_SEG_2_TRIM CSJMETA'!H106,'GESTION_SEG_3_TRIM CSJMETA'!H106),\" \")","v":0},"",{"$f":"IFERROR(_xlfn.CONCAT(\"Trimestre 1\",CHAR(10),'GESTION_SEG_1_TRIM CSJMETA'!J106,CHAR(10),\"Trimestre 2\",CHAR(10),'GESTION_SEG_2_TRIM CSJMETA'!J106,CHAR(10),\"Trimestre 3\",CHAR(10),'GESTION_SEG_3_TRIM CSJMETA'!J106),\" \")","v":"Trimestre 1\n\nTrimestre 2\n\nTrimestre 3\n"},{"$f":"IFERROR(_xlfn.CONCAT(\"Trimestre 1\",CHAR(10),'GESTION_SEG_1_TRIM CSJMETA'!K106,CHAR(10),\"Trimestre 2\",CHAR(10),'GESTION_SEG_2_TRIM CSJMETA'!K106,CHAR(10),\"Trimestre 3\",CHAR(10),'GESTION_SEG_3_TRIM CSJMETA'!K106),\" \")","v":"Trimestre 1\n\nTrimestre 2\n\nTrimestre 3\n"}]
[null,null,null,null,null,null,null,null,null,null,null,null,null,null,null,{"$f":"IFERROR(MAX('GESTION_SEG_1_TRIM CSJMETA'!H107,'GESTION_SEG_2_TRIM CSJMETA'!H107,'GESTION_SEG_3_TRIM CSJMETA'!H107),\" \")","v":0},null,{"$f":"IFERROR(_xlfn.CONCAT(\"Trimestre 1\",CHAR(10),'GESTION_SEG_1_TRIM CSJMETA'!J107,CHAR(10),\"Trimestre 2\",CHAR(10),'GESTION_SEG_2_TRIM CSJMETA'!J107,CHAR(10),\"Trimestre 3\",CHAR(10),'GESTION_SEG_3_TRIM CSJMETA'!J107),\" \")","v":"Trimestre 1\n\nTrimestre 2\n\nTrimestre 3\n"},{"$f":"IFERROR(_xlfn.CONCAT(\"Trimestre 1\",CHAR(10),'GESTION_SEG_1_TRIM CSJMETA'!K107,CHAR(10),\"Trimestre 2\",CHAR(10),'GESTION_SEG_2_TRIM CSJMETA'!K107,CHAR(10),\"Trimestre 3\",CHAR(10),'GESTION_SEG_3_TRIM CSJMETA'!K107),\" \")","v":"Trimestre 1\n\nTrimestre 2\n\nTrimestre 3\n"}]
[null,null,null,null,null,null,null,null,null,null,null,null,null,null,null,{"$f":"IFERROR(MAX('GESTION_SEG_1_TRIM CSJMETA'!H108,'GESTION_SEG_2_TRIM CSJMETA'!H108,'GESTION_SEG_3_TRIM CSJMETA'!H108),\" \")","v":0},null,{"$f":"IFERROR(_xlfn.CONCAT(\"Trimestre 1\",CHAR(10),'GESTION_SEG_1_TRIM CSJMETA'!J108,CHAR(10),\"Trimestre 2\",CHAR(10),'GESTION_SEG_2_TRIM CSJMETA'!J108,CHAR(10),\"Trimestre 3\",CHAR(10),'GESTION_SEG_3_TRIM CSJMETA'!J108),\" \")","v":"Trimestre 1\n\nTrimestre 2\n\nTrimestre 3\n"},{"$f":"IFERROR(_xlfn.CONCAT(\"Trimestre 1\",CHAR(10),'GESTION_SEG_1_TRIM CSJMETA'!K108,CHAR(10),\"Trimestre 2\",CHAR(10),'GESTION_SEG_2_TRIM CSJMETA'!K108,CHAR(10),\"Trimestre 3\",CHAR(10),'GESTION_SEG_3_TRIM CSJMETA'!K108),\" \")","v":"Trimestre 1\n\nTrimestre 2\n\nTrimestre 3\n"}]
[null,null,null,null,null,null,null,null,null,null,null,null,null,null,null,{"$f":"IFERROR(MAX('GESTION_SEG_1_TRIM CSJMETA'!H109,'GESTION_SEG_2_TRIM CSJMETA'!H109,'GESTION_SEG_3_TRIM CSJMETA'!H109),\" \")","v":0},null,{"$f":"IFERROR(_xlfn.CONCAT(\"Trimestre 1\",CHAR(10),'GESTION_SEG_1_TRIM CSJMETA'!J109,CHAR(10),\"Trimestre 2\",CHAR(10),'GESTION_SEG_2_TRIM CSJMETA'!J109,CHAR(10),\"Trimestre 3\",CHAR(10),'GESTION_SEG_3_TRIM CSJMETA'!J109),\" \")","v":"Trimestre 1\n\nTrimestre 2\n\nTrimestre 3\n"},{"$f":"IFERROR(_xlfn.CONCAT(\"Trimestre 1\",CHAR(10),'GESTION_SEG_1_TRIM CSJMETA'!K109,CHAR(10),\"Trimestre 2\",CHAR(10),'GESTION_SEG_2_TRIM CSJMETA'!K109,CHAR(10),\"Trimestre 3\",CHAR(10),'GESTION_SEG_3_TRIM CSJMETA'!K109),\" \")","v":"Trimestre 1\n\nTrimestre 2\n\nTrimestre 3\n"}]
[null,null,null,null,null,null,null,null,null,null,null,null,null,null,null,{"$f":"IFERROR(MAX('GESTION_SEG_1_TRIM CSJMETA'!H110,'GESTION_SEG_2_TRIM CSJMETA'!H110,'GESTION_SEG_3_TRIM CSJMETA'!H110),\" \")","v":0},null,{"$f":"IFERROR(_xlfn.CONCAT(\"Trimestre 1\",CHAR(10),'GESTION_SEG_1_TRIM CSJMETA'!J110,CHAR(10),\"Trimestre 2\",CHAR(10),'GESTION_SEG_2_TRIM CSJMETA'!J110,CHAR(10),\"Trimestre 3\",CHAR(10),'GESTION_SEG_3_TRIM CSJMETA'!J110),\" \")","v":"Trimestre 1\n\nTrimestre 2\n\nTrimestre 3\n"},{"$f":"IFERROR(_xlfn.CONCAT(\"Trimestre 1\",CHAR(10),'GESTION_SEG_1_TRIM CSJMETA'!K110,CHAR(10),\"Trimestre 2\",CHAR(10),'GESTION_SEG_2_TRIM CSJMETA'!K110,CHAR(10),\"Trimestre 3\",CHAR(10),'GESTION_SEG_3_TRIM CSJMETA'!K110),\" \")","v":"Trimestre 1\n\nTrimestre 2\n\nTrimestre 3\n"}]
[null,null,null,null,null,null,null,null,null,null,null,null,null,null,null,{"$f":"IFERROR(MAX('GESTION_SEG_1_TRIM CSJMETA'!H111,'GESTION_SEG_2_TRIM CSJMETA'!H111,'GESTION_SEG_3_TRIM CSJMETA'!H111),\" \")","v":0},null,{"$f":"IFERROR(_xlfn.CONCAT(\"Trimestre 1\",CHAR(10),'GESTION_SEG_1_TRIM CSJMETA'!J111,CHAR(10),\"Trimestre 2\",CHAR(10),'GESTION_SEG_2_TRIM CSJMETA'!J111,CHAR(10),\"Trimestre 3\",CHAR(10),'GESTION_SEG_3_TRIM CSJMETA'!J111),\" \")","v":"Trimestre 1\n\nTrimestre 2\n\nTrimestre 3\n"},{"$f":"IFERROR(_xlfn.CONCAT(\"Trimestre 1\",CHAR(10),'GESTION_SEG_1_TRIM CSJMETA'!K111,CHAR(10),\"Trimestre 2\",CHAR(10),'GESTION_SEG_2_TRIM CSJMETA'!K111,CHAR(10),\"Trimestre 3\",CHAR(10),'GESTION_SEG_3_TRIM CSJMETA'!K111),\" \")","v":"Trimestre 1\n\nTrimestre 2\n\nTrimestre 3\n"}]
[null,null,null,null,null,null,null,null,null,null,null,null,null,null,null,{"$f":"IFERROR(MAX('GESTION_SEG_1_TRIM CSJMETA'!H112,'GESTION_SEG_2_TRIM CSJMETA'!H112,'GESTION_SEG_3_TRIM CSJMETA'!H112),\" \")","v":0},"",{"$f":"IFERROR(_xlfn.CONCAT(\"Trimestre 1\",CHAR(10),'GESTION_SEG_1_TRIM CSJMETA'!J112,CHAR(10),\"Trimestre 2\",CHAR(10),'GESTION_SEG_2_TRIM CSJMETA'!J112,CHAR(10),\"Trimestre 3\",CHAR(10),'GESTION_SEG_3_TRIM CSJMETA'!J112),\" \")","v":"Trimestre 1\n\nTrimestre 2\n\nTrimestre 3\n"},{"$f":"IFERROR(_xlfn.CONCAT(\"Trimestre 1\",CHAR(10),'GESTION_SEG_1_TRIM CSJMETA'!K112,CHAR(10),\"Trimestre 2\",CHAR(10),'GESTION_SEG_2_TRIM CSJMETA'!K112,CHAR(10),\"Trimestre 3\",CHAR(10),'GESTION_SEG_3_TRIM CSJMETA'!K112),\" \")","v":"Trimestre 1\n\nTrimestre 2\n\nTrimestre 3\n"}]
[null,null,null,null,null,null,null,null,null,null,null,null,null,null,null,{"$f":"IFERROR(MAX('GESTION_SEG_1_TRIM CSJMETA'!H113,'GESTION_SEG_2_TRIM CSJMETA'!H113,'GESTION_SEG_3_TRIM CSJMETA'!H113),\" \")","v":0},"",{"$f":"IFERROR(_xlfn.CONCAT(\"Trimestre 1\",CHAR(10),'GESTION_SEG_1_TRIM CSJMETA'!J113,CHAR(10),\"Trimestre 2\",CHAR(10),'GESTION_SEG_2_TRIM CSJMETA'!J113,CHAR(10),\"Trimestre 3\",CHAR(10),'GESTION_SEG_3_TRIM CSJMETA'!J113),\" \")","v":"Trimestre 1\n\nTrimestre 2\n\nTrimestre 3\n"},{"$f":"IFERROR(_xlfn.CONCAT(\"Trimestre 1\",CHAR(10),'GESTION_SEG_1_TRIM CSJMETA'!K113,CHAR(10),\"Trimestre 2\",CHAR(10),'GESTION_SEG_2_TRIM CSJMETA'!K113,CHAR(10),\"Trimestre 3\",CHAR(10),'GESTION_SEG_3_TRIM CSJMETA'!K113),\" \")","v":"Trimestre 1\n\nTrimestre 2\n\nTrimestre 3\n"}]
[null,null,null,null,null,null,null,null,null,null,null,null,null,null,null,{"$f":"IFERROR(MAX('GESTION_SEG_1_TRIM CSJMETA'!H114,'GESTION_SEG_2_TRIM CSJMETA'!H114,'GESTION_SEG_3_TRIM CSJMETA'!H114),\" \")","v":0},"",{"$f":"IFERROR(_xlfn.CONCAT(\"Trimestre 1\",CHAR(10),'GESTION_SEG_1_TRIM CSJMETA'!J114,CHAR(10),\"Trimestre 2\",CHAR(10),'GESTION_SEG_2_TRIM CSJMETA'!J114,CHAR(10),\"Trimestre 3\",CHAR(10),'GESTION_SEG_3_TRIM CSJMETA'!J114),\" \")","v":"Trimestre 1\n\nTrimestre 2\n\nTrimestre 3\n"},{"$f":"IFERROR(_xlfn.CONCAT(\"Trimestre 1\",CHAR(10),'GESTION_SEG_1_TRIM CSJMETA'!K114,CHAR(10),\"Trimestre 2\",CHAR(10),'GESTION_SEG_2_TRIM CSJMETA'!K114,CHAR(10),\"Trimestre 3\",CHAR(10),'GESTION_SEG_3_TRIM CSJMETA'!K114),\" \")","v":"Trimestre 1\n\nTrimestre 2\n\nTrimestre 3\n"}]
[null,null,null,null,null,null,null,null,null,null,null,null,null,null,null,{"$f":"IFERROR(MAX('GESTION_SEG_1_TRIM CSJMETA'!H115,'GESTION_SEG_2_TRIM CSJMETA'!H115,'GESTION_SEG_3_TRIM CSJMETA'!H115),\" \")","v":0},"",{"$f":"IFERROR(_xlfn.CONCAT(\"Trimestre 1\",CHAR(10),'GESTION_SEG_1_TRIM CSJMETA'!J115,CHAR(10),\"Trimestre 2\",CHAR(10),'GESTION_SEG_2_TRIM CSJMETA'!J115,CHAR(10),\"Trimestre 3\",CHAR(10),'GESTION_SEG_3_TRIM CSJMETA'!J115),\" \")","v":"Trimestre 1\n\nTrimestre 2\n\nTrimestre 3\n"},{"$f":"IFERROR(_xlfn.CONCAT(\"Trimestre 1\",CHAR(10),'GESTION_SEG_1_TRIM CSJMETA'!K115,CHAR(10),\"Trimestre 2\",CHAR(10),'GESTION_SEG_2_TRIM CSJMETA'!K115,CHAR(10),\"Trimestre 3\",CHAR(10),'GESTION_SEG_3_TRIM CSJMETA'!K115),\" \")","v":"Trimestre 1\n\nTrimestre 2\n\nTrimestre 3\n"}]
["3. Confianza pública, transparencia y rendición de cuentas","Confianza pública, transparencia y rendición de cuentas: Aumentar la confianza pública en la justicia a través de la transparencia, la rendición de cuentas y la participación, incluyendo la información de justicia y la producción, gestión y acceso a las fuentes de derecho, el fortalecimiento del sistema de gestión de calidad y medio ambiente (SIGCMA) y el mejoramiento de la calidad y publicidad de la información. ","1. Incrementar la cantidad, la calidad y pertinencia de los datos sobre el funcionamiento del servicio de justicia bajo un modelo de gobierno de datos y un liderazgo unificado. ","4. Hacer un uso racional de los recursos naturales aplicando los principios y fases de la Economía Circular, para prevenir, mitigar y controlar los impactos ambientales.",null,null,null,null,null,null,null,null,null,null,null,{"$f":"IFERROR(MAX('GESTION_SEG_1_TRIM CSJMETA'!H116,'GESTION_SEG_2_TRIM CSJMETA'!H116,'GESTION_SEG_3_TRIM CSJMETA'!H116),\" \")","v":0},"",{"$f":"IFERROR(_xlfn.CONCAT(\"Trimestre 1\",CHAR(10),'GESTION_SEG_1_TRIM CSJMETA'!J116,CHAR(10),\"Trimestre 2\",CHAR(10),'GESTION_SEG_2_TRIM CSJMETA'!J116,CHAR(10),\"Trimestre 3\",CHAR(10),'GESTION_SEG_3_TRIM CSJMETA'!J116),\" \")","v":"Trimestre 1\n\nTrimestre 2\n\nTrimestre 3\n"},{"$f":"IFERROR(_xlfn.CONCAT(\"Trimestre 1\",CHAR(10),'GESTION_SEG_1_TRIM CSJMETA'!K116,CHAR(10),\"Trimestre 2\",CHAR(10),'GESTION_SEG_2_TRIM CSJMETA'!K116,CHAR(10),\"Trimestre 3\",CHAR(10),'GESTION_SEG_3_TRIM CSJMETA'!K116),\" \")","v":"Trimestre 1\n\nTrimestre 2\n\nTrimestre 3\n"}]
[null,null,null,null,null,null,null,null,null,null,null,null,null,null,null,{"$f":"IFERROR(MAX('GESTION_SEG_1_TRIM CSJMETA'!H117,'GESTION_SEG_2_TRIM CSJMETA'!H117,'GESTION_SEG_3_TRIM CSJMETA'!H117),\" \")","v":0},"",{"$f":"IFERROR(_xlfn.CONCAT(\"Trimestre 1\",CHAR(10),'GESTION_SEG_1_TRIM CSJMETA'!J117,CHAR(10),\"Trimestre 2\",CHAR(10),'GESTION_SEG_2_TRIM CSJMETA'!J117,CHAR(10),\"Trimestre 3\",CHAR(10),'GESTION_SEG_3_TRIM CSJMETA'!J117),\" \")","v":"Trimestre 1\n\nTrimestre 2\n\nTrimestre 3\n"},{"$f":"IFERROR(_xlfn.CONCAT(\"Trimestre 1\",CHAR(10),'GESTION_SEG_1_TRIM CSJMETA'!K117,CHAR(10),\"Trimestre 2\",CHAR(10),'GESTION_SEG_2_TRIM CSJMETA'!K117,CHAR(10),\"Trimestre 3\",CHAR(10),'GESTION_SEG_3_TRIM CSJMETA'!K117),\" \")","v":"Trimestre 1\n\nTrimestre 2\n\nTrimestre 3\n"}]
[null,null,null,null,null,null,null,null,null,null,null,null,null,null,null,{"$f":"IFERROR(MAX('GESTION_SEG_1_TRIM CSJMETA'!H118,'GESTION_SEG_2_TRIM CSJMETA'!H118,'GESTION_SEG_3_TRIM CSJMETA'!H118),\" \")","v":0},null,{"$f":"IFERROR(_xlfn.CONCAT(\"Trimestre 1\",CHAR(10),'GESTION_SEG_1_TRIM CSJMETA'!J118,CHAR(10),\"Trimestre 2\",CHAR(10),'GESTION_SEG_2_TRIM CSJMETA'!J118,CHAR(10),\"Trimestre 3\",CHAR(10),'GESTION_SEG_3_TRIM CSJMETA'!J118),\" \")","v":"Trimestre 1\n\nTrimestre 2\n\nTrimestre 3\n"},{"$f":"IFERROR(_xlfn.CONCAT(\"Trimestre 1\",CHAR(10),'GESTION_SEG_1_TRIM CSJMETA'!K118,CHAR(10),\"Trimestre 2\",CHAR(10),'GESTION_SEG_2_TRIM CSJMETA'!K118,CHAR(10),\"Trimestre 3\",CHAR(10),'GESTION_SEG_3_TRIM CSJMETA'!K118),\" \")","v":"Trimestre 1\n\nTrimestre 2\n\nTrimestre 3\n"}]
[null,null,null,null,null,null,null,null,null,null,null,null,null,null,null,{"$f":"IFERROR(MAX('GESTION_SEG_1_TRIM CSJMETA'!H119,'GESTION_SEG_2_TRIM CSJMETA'!H119,'GESTION_SEG_3_TRIM CSJMETA'!H119),\" \")","v":0},null,{"$f":"IFERROR(_xlfn.CONCAT(\"Trimestre 1\",CHAR(10),'GESTION_SEG_1_TRIM CSJMETA'!J119,CHAR(10),\"Trimestre 2\",CHAR(10),'GESTION_SEG_2_TRIM CSJMETA'!J119,CHAR(10),\"Trimestre 3\",CHAR(10),'GESTION_SEG_3_TRIM CSJMETA'!J119),\" \")","v":"Trimestre 1\n\nTrimestre 2\n\nTrimestre 3\n"},{"$f":"IFERROR(_xlfn.CONCAT(\"Trimestre 1\",CHAR(10),'GESTION_SEG_1_TRIM CSJMETA'!K119,CHAR(10),\"Trimestre 2\",CHAR(10),'GESTION_SEG_2_TRIM CSJMETA'!K119,CHAR(10),\"Trimestre 3\",CHAR(10),'GESTION_SEG_3_TRIM CSJMETA'!K119),\" \")","v":"Trimestre 1\n\nTrimestre 2\n\nTrimestre 3\n"}]
[null,null,null,null,null,null,null,null,null,null,null,null,null,null,null,{"$f":"IFERROR(MAX('GESTION_SEG_1_TRIM CSJMETA'!H120,'GESTION_SEG_2_TRIM CSJMETA'!H120,'GESTION_SEG_3_TRIM CSJMETA'!H120),\" \")","v":0},null,{"$f":"IFERROR(_xlfn.CONCAT(\"Trimestre 1\",CHAR(10),'GESTION_SEG_1_TRIM CSJMETA'!J120,CHAR(10),\"Trimestre 2\",CHAR(10),'GESTION_SEG_2_TRIM CSJMETA'!J120,CHAR(10),\"Trimestre 3\",CHAR(10),'GESTION_SEG_3_TRIM CSJMETA'!J120),\" \")","v":"Trimestre 1\n\nTrimestre 2\n\nTrimestre 3\n"},{"$f":"IFERROR(_xlfn.CONCAT(\"Trimestre 1\",CHAR(10),'GESTION_SEG_1_TRIM CSJMETA'!K120,CHAR(10),\"Trimestre 2\",CHAR(10),'GESTION_SEG_2_TRIM CSJMETA'!K120,CHAR(10),\"Trimestre 3\",CHAR(10),'GESTION_SEG_3_TRIM CSJMETA'!K120),\" \")","v":"Trimestre 1\n\nTrimestre 2\n\nTrimestre 3\n"}]
[null,null,null,null,null,null,null,null,null,null,null,null,null,null,null,{"$f":"IFERROR(MAX('GESTION_SEG_1_TRIM CSJMETA'!H121,'GESTION_SEG_2_TRIM CSJMETA'!H121,'GESTION_SEG_3_TRIM CSJMETA'!H121),\" \")","v":0},null,{"$f":"IFERROR(_xlfn.CONCAT(\"Trimestre 1\",CHAR(10),'GESTION_SEG_1_TRIM CSJMETA'!J121,CHAR(10),\"Trimestre 2\",CHAR(10),'GESTION_SEG_2_TRIM CSJMETA'!J121,CHAR(10),\"Trimestre 3\",CHAR(10),'GESTION_SEG_3_TRIM CSJMETA'!J121),\" \")","v":"Trimestre 1\n\nTrimestre 2\n\nTrimestre 3\n"},{"$f":"IFERROR(_xlfn.CONCAT(\"Trimestre 1\",CHAR(10),'GESTION_SEG_1_TRIM CSJMETA'!K121,CHAR(10),\"Trimestre 2\",CHAR(10),'GESTION_SEG_2_TRIM CSJMETA'!K121,CHAR(10),\"Trimestre 3\",CHAR(10),'GESTION_SEG_3_TRIM CSJMETA'!K121),\" \")","v":"Trimestre 1\n\nTrimestre 2\n\nTrimestre 3\n"}]
[null,null,null,null,null,null,null,null,null,null,null,null,null,null,null,{"$f":"IFERROR(MAX('GESTION_SEG_1_TRIM CSJMETA'!H122,'GESTION_SEG_2_TRIM CSJMETA'!H122,'GESTION_SEG_3_TRIM CSJMETA'!H122),\" \")","v":0},null,{"$f":"IFERROR(_xlfn.CONCAT(\"Trimestre 1\",CHAR(10),'GESTION_SEG_1_TRIM CSJMETA'!J122,CHAR(10),\"Trimestre 2\",CHAR(10),'GESTION_SEG_2_TRIM CSJMETA'!J122,CHAR(10),\"Trimestre 3\",CHAR(10),'GESTION_SEG_3_TRIM CSJMETA'!J122),\" \")","v":"Trimestre 1\n\nTrimestre 2\n\nTrimestre 3\n"},{"$f":"IFERROR(_xlfn.CONCAT(\"Trimestre 1\",CHAR(10),'GESTION_SEG_1_TRIM CSJMETA'!K122,CHAR(10),\"Trimestre 2\",CHAR(10),'GESTION_SEG_2_TRIM CSJMETA'!K122,CHAR(10),\"Trimestre 3\",CHAR(10),'GESTION_SEG_3_TRIM CSJMETA'!K122),\" \")","v":"Trimestre 1\n\nTrimestre 2\n\nTrimestre 3\n"}]
[null,null,null,null,null,null,null,null,null,null,null,null,null,null,null,{"$f":"IFERROR(MAX('GESTION_SEG_1_TRIM CSJMETA'!H123,'GESTION_SEG_2_TRIM CSJMETA'!H123,'GESTION_SEG_3_TRIM CSJMETA'!H123),\" \")","v":0},"",{"$f":"IFERROR(_xlfn.CONCAT(\"Trimestre 1\",CHAR(10),'GESTION_SEG_1_TRIM CSJMETA'!J123,CHAR(10),\"Trimestre 2\",CHAR(10),'GESTION_SEG_2_TRIM CSJMETA'!J123,CHAR(10),\"Trimestre 3\",CHAR(10),'GESTION_SEG_3_TRIM CSJMETA'!J123),\" \")","v":"Trimestre 1\n\nTrimestre 2\n\nTrimestre 3\n"},{"$f":"IFERROR(_xlfn.CONCAT(\"Trimestre 1\",CHAR(10),'GESTION_SEG_1_TRIM CSJMETA'!K123,CHAR(10),\"Trimestre 2\",CHAR(10),'GESTION_SEG_2_TRIM CSJMETA'!K123,CHAR(10),\"Trimestre 3\",CHAR(10),'GESTION_SEG_3_TRIM CSJMETA'!K123),\" \")","v":"Trimestre 1\n\nTrimestre 2\n\nTrimestre 3\n"}]
[null,null,null,null,null,null,null,null,null,null,null,null,null,null,null,{"$f":"IFERROR(MAX('GESTION_SEG_1_TRIM CSJMETA'!H124,'GESTION_SEG_2_TRIM CSJMETA'!H124,'GESTION_SEG_3_TRIM CSJMETA'!H124),\" \")","v":0},"",{"$f":"IFERROR(_xlfn.CONCAT(\"Trimestre 1\",CHAR(10),'GESTION_SEG_1_TRIM CSJMETA'!J124,CHAR(10),\"Trimestre 2\",CHAR(10),'GESTION_SEG_2_TRIM CSJMETA'!J124,CHAR(10),\"Trimestre 3\",CHAR(10),'GESTION_SEG_3_TRIM CSJMETA'!J124),\" \")","v":"Trimestre 1\n\nTrimestre 2\n\nTrimestre 3\n"},{"$f":"IFERROR(_xlfn.CONCAT(\"Trimestre 1\",CHAR(10),'GESTION_SEG_1_TRIM CSJMETA'!K124,CHAR(10),\"Trimestre 2\",CHAR(10),'GESTION_SEG_2_TRIM CSJMETA'!K124,CHAR(10),\"Trimestre 3\",CHAR(10),'GESTION_SEG_3_TRIM CSJMETA'!K124),\" \")","v":"Trimestre 1\n\nTrimestre 2\n\nTrimestre 3\n"}]
[null,null,null,null,null,null,null,null,null,null,null,null,null,null,null,{"$f":"IFERROR(MAX('GESTION_SEG_1_TRIM CSJMETA'!H125,'GESTION_SEG_2_TRIM CSJMETA'!H125,'GESTION_SEG_3_TRIM CSJMETA'!H125),\" \")","v":0},"",{"$f":"IFERROR(_xlfn.CONCAT(\"Trimestre 1\",CHAR(10),'GESTION_SEG_1_TRIM CSJMETA'!J125,CHAR(10),\"Trimestre 2\",CHAR(10),'GESTION_SEG_2_TRIM CSJMETA'!J125,CHAR(10),\"Trimestre 3\",CHAR(10),'GESTION_SEG_3_TRIM CSJMETA'!J125),\" \")","v":"Trimestre 1\n\nTrimestre 2\n\nTrimestre 3\n"},{"$f":"IFERROR(_xlfn.CONCAT(\"Trimestre 1\",CHAR(10),'GESTION_SEG_1_TRIM CSJMETA'!K125,CHAR(10),\"Trimestre 2\",CHAR(10),'GESTION_SEG_2_TRIM CSJMETA'!K125,CHAR(10),\"Trimestre 3\",CHAR(10),'GESTION_SEG_3_TRIM CSJMETA'!K125),\" \")","v":"Trimestre 1\n\nTrimestre 2\n\nTrimestre 3\n"}]
[null,null,"2. Consolidar la administración de la información entendida como todas las acciones rientadas a garantizar el acceso, consulta, uso y conservación de la información de justicia de manera ágil, flexible e inteligente, bajo un enfoque de innovación.",null,null,null,null,null,null,null,null,null,null,null,null,{"$f":"IFERROR(MAX('GESTION_SEG_1_TRIM CSJMETA'!H126,'GESTION_SEG_2_TRIM CSJMETA'!H126,'GESTION_SEG_3_TRIM CSJMETA'!H126),\" \")","v":0},"",{"$f":"IFERROR(_xlfn.CONCAT(\"Trimestre 1\",CHAR(10),'GESTION_SEG_1_TRIM CSJMETA'!J126,CHAR(10),\"Trimestre 2\",CHAR(10),'GESTION_SEG_2_TRIM CSJMETA'!J126,CHAR(10),\"Trimestre 3\",CHAR(10),'GESTION_SEG_3_TRIM CSJMETA'!J126),\" \")","v":"Trimestre 1\n\nTrimestre 2\n\nTrimestre 3\n"},{"$f":"IFERROR(_xlfn.CONCAT(\"Trimestre 1\",CHAR(10),'GESTION_SEG_1_TRIM CSJMETA'!K126,CHAR(10),\"Trimestre 2\",CHAR(10),'GESTION_SEG_2_TRIM CSJMETA'!K126,CHAR(10),\"Trimestre 3\",CHAR(10),'GESTION_SEG_3_TRIM CSJMETA'!K126),\" \")","v":"Trimestre 1\n\nTrimestre 2\n\nTrimestre 3\n"}]
[null,null,null,null,null,null,null,null,null,null,null,null,null,null,null,{"$f":"IFERROR(MAX('GESTION_SEG_1_TRIM CSJMETA'!H127,'GESTION_SEG_2_TRIM CSJMETA'!H127,'GESTION_SEG_3_TRIM CSJMETA'!H127),\" \")","v":0},"",{"$f":"IFERROR(_xlfn.CONCAT(\"Trimestre 1\",CHAR(10),'GESTION_SEG_1_TRIM CSJMETA'!J127,CHAR(10),\"Trimestre 2\",CHAR(10),'GESTION_SEG_2_TRIM CSJMETA'!J127,CHAR(10),\"Trimestre 3\",CHAR(10),'GESTION_SEG_3_TRIM CSJMETA'!J127),\" \")","v":"Trimestre 1\n\nTrimestre 2\n\nTrimestre 3\n"},{"$f":"IFERROR(_xlfn.CONCAT(\"Trimestre 1\",CHAR(10),'GESTION_SEG_1_TRIM CSJMETA'!K127,CHAR(10),\"Trimestre 2\",CHAR(10),'GESTION_SEG_2_TRIM CSJMETA'!K127,CHAR(10),\"Trimestre 3\",CHAR(10),'GESTION_SEG_3_TRIM CSJMETA'!K127),\" \")","v":"Trimestre 1\n\nTrimestre 2\n\nTrimestre 3\n"}]
[null,null,null,null,null,null,null,null,null,null,null,null,null,null,null,{"$f":"IFERROR(MAX('GESTION_SEG_1_TRIM CSJMETA'!H128,'GESTION_SEG_2_TRIM CSJMETA'!H128,'GESTION_SEG_3_TRIM CSJMETA'!H128),\" \")","v":0},null,{"$f":"IFERROR(_xlfn.CONCAT(\"Trimestre 1\",CHAR(10),'GESTION_SEG_1_TRIM CSJMETA'!J128,CHAR(10),\"Trimestre 2\",CHAR(10),'GESTION_SEG_2_TRIM CSJMETA'!J128,CHAR(10),\"Trimestre 3\",CHAR(10),'GESTION_SEG_3_TRIM CSJMETA'!J128),\" \")","v":"Trimestre 1\n\nTrimestre 2\n\nTrimestre 3\n"},{"$f":"IFERROR(_xlfn.CONCAT(\"Trimestre 1\",CHAR(10),'GESTION_SEG_1_TRIM CSJMETA'!K128,CHAR(10),\"Trimestre 2\",CHAR(10),'GESTION_SEG_2_TRIM CSJMETA'!K128,CHAR(10),\"Trimestre 3\",CHAR(10),'GESTION_SEG_3_TRIM CSJMETA'!K128),\" \")","v":"Trimestre 1\n\nTrimestre 2\n\nTrimestre 3\n"}]
[null,null,null,null,null,null,null,null,null,null,null,null,null,null,null,{"$f":"IFERROR(MAX('GESTION_SEG_1_TRIM CSJMETA'!H129,'GESTION_SEG_2_TRIM CSJMETA'!H129,'GESTION_SEG_3_TRIM CSJMETA'!H129),\" \")","v":0},null,{"$f":"IFERROR(_xlfn.CONCAT(\"Trimestre 1\",CHAR(10),'GESTION_SEG_1_TRIM CSJMETA'!J129,CHAR(10),\"Trimestre 2\",CHAR(10),'GESTION_SEG_2_TRIM CSJMETA'!J129,CHAR(10),\"Trimestre 3\",CHAR(10),'GESTION_SEG_3_TRIM CSJMETA'!J129),\" \")","v":"Trimestre 1\n\nTrimestre 2\n\nTrimestre 3\n"},{"$f":"IFERROR(_xlfn.CONCAT(\"Trimestre 1\",CHAR(10),'GESTION_SEG_1_TRIM CSJMETA'!K129,CHAR(10),\"Trimestre 2\",CHAR(10),'GESTION_SEG_2_TRIM CSJMETA'!K129,CHAR(10),\"Trimestre 3\",CHAR(10),'GESTION_SEG_3_TRIM CSJMETA'!K129),\" \")","v":"Trimestre 1\n\nTrimestre 2\n\nTrimestre 3\n"}]
[null,null,null,null,null,null,null,null,null,null,null,null,null,null,null,{"$f":"IFERROR(MAX('GESTION_SEG_1_TRIM CSJMETA'!H130,'GESTION_SEG_2_TRIM CSJMETA'!H130,'GESTION_SEG_3_TRIM CSJMETA'!H130),\" \")","v":0},null,{"$f":"IFERROR(_xlfn.CONCAT(\"Trimestre 1\",CHAR(10),'GESTION_SEG_1_TRIM CSJMETA'!J130,CHAR(10),\"Trimestre 2\",CHAR(10),'GESTION_SEG_2_TRIM CSJMETA'!J130,CHAR(10),\"Trimestre 3\",CHAR(10),'GESTION_SEG_3_TRIM CSJMETA'!J130),\" \")","v":"Trimestre 1\n\nTrimestre 2\n\nTrimestre 3\n"},{"$f":"IFERROR(_xlfn.CONCAT(\"Trimestre 1\",CHAR(10),'GESTION_SEG_1_TRIM CSJMETA'!K130,CHAR(10),\"Trimestre 2\",CHAR(10),'GESTION_SEG_2_TRIM CSJMETA'!K130,CHAR(10),\"Trimestre 3\",CHAR(10),'GESTION_SEG_3_TRIM CSJMETA'!K130),\" \")","v":"Trimestre 1\n\nTrimestre 2\n\nTrimestre 3\n"}]
[null,null,null,null,null,null,null,null,null,null,null,null,null,null,null,{"$f":"IFERROR(MAX('GESTION_SEG_1_TRIM CSJMETA'!H131,'GESTION_SEG_2_TRIM CSJMETA'!H131,'GESTION_SEG_3_TRIM CSJMETA'!H131),\" \")","v":0},null,{"$f":"IFERROR(_xlfn.CONCAT(\"Trimestre 1\",CHAR(10),'GESTION_SEG_1_TRIM CSJMETA'!J131,CHAR(10),\"Trimestre 2\",CHAR(10),'GESTION_SEG_2_TRIM CSJMETA'!J131,CHAR(10),\"Trimestre 3\",CHAR(10),'GESTION_SEG_3_TRIM CSJMETA'!J131),\" \")","v":"Trimestre 1\n\nTrimestre 2\n\nTrimestre 3\n"},{"$f":"IFERROR(_xlfn.CONCAT(\"Trimestre 1\",CHAR(10),'GESTION_SEG_1_TRIM CSJMETA'!K131,CHAR(10),\"Trimestre 2\",CHAR(10),'GESTION_SEG_2_TRIM CSJMETA'!K131,CHAR(10),\"Trimestre 3\",CHAR(10),'GESTION_SEG_3_TRIM CSJMETA'!K131),\" \")","v":"Trimestre 1\n\nTrimestre 2\n\nTrimestre 3\n"}]
[null,null,null,null,null,null,null,null,null,null,null,null,null,null,null,{"$f":"IFERROR(MAX('GESTION_SEG_1_TRIM CSJMETA'!H132,'GESTION_SEG_2_TRIM CSJMETA'!H132,'GESTION_SEG_3_TRIM CSJMETA'!H132),\" \")","v":0},null,{"$f":"IFERROR(_xlfn.CONCAT(\"Trimestre 1\",CHAR(10),'GESTION_SEG_1_TRIM CSJMETA'!J132,CHAR(10),\"Trimestre 2\",CHAR(10),'GESTION_SEG_2_TRIM CSJMETA'!J132,CHAR(10),\"Trimestre 3\",CHAR(10),'GESTION_SEG_3_TRIM CSJMETA'!J132),\" \")","v":"Trimestre 1\n\nTrimestre 2\n\nTrimestre 3\n"},{"$f":"IFERROR(_xlfn.CONCAT(\"Trimestre 1\",CHAR(10),'GESTION_SEG_1_TRIM CSJMETA'!K132,CHAR(10),\"Trimestre 2\",CHAR(10),'GESTION_SEG_2_TRIM CSJMETA'!K132,CHAR(10),\"Trimestre 3\",CHAR(10),'GESTION_SEG_3_TRIM CSJMETA'!K132),\" \")","v":"Trimestre 1\n\nTrimestre 2\n\nTrimestre 3\n"}]
[null,null,null,null,null,null,null,null,null,null,null,null,null,null,null,{"$f":"IFERROR(MAX('GESTION_SEG_1_TRIM CSJMETA'!H133,'GESTION_SEG_2_TRIM CSJMETA'!H133,'GESTION_SEG_3_TRIM CSJMETA'!H133),\" \")","v":0},"",{"$f":"IFERROR(_xlfn.CONCAT(\"Trimestre 1\",CHAR(10),'GESTION_SEG_1_TRIM CSJMETA'!J133,CHAR(10),\"Trimestre 2\",CHAR(10),'GESTION_SEG_2_TRIM CSJMETA'!J133,CHAR(10),\"Trimestre 3\",CHAR(10),'GESTION_SEG_3_TRIM CSJMETA'!J133),\" \")","v":"Trimestre 1\n\nTrimestre 2\n\nTrimestre 3\n"},{"$f":"IFERROR(_xlfn.CONCAT(\"Trimestre 1\",CHAR(10),'GESTION_SEG_1_TRIM CSJMETA'!K133,CHAR(10),\"Trimestre 2\",CHAR(10),'GESTION_SEG_2_TRIM CSJMETA'!K133,CHAR(10),\"Trimestre 3\",CHAR(10),'GESTION_SEG_3_TRIM CSJMETA'!K133),\" \")","v":"Trimestre 1\n\nTrimestre 2\n\nTrimestre 3\n"}]
[null,null,null,null,null,null,null,null,null,null,null,null,null,null,null,{"$f":"IFERROR(MAX('GESTION_SEG_1_TRIM CSJMETA'!H134,'GESTION_SEG_2_TRIM CSJMETA'!H134,'GESTION_SEG_3_TRIM CSJMETA'!H134),\" \")","v":0},"",{"$f":"IFERROR(_xlfn.CONCAT(\"Trimestre 1\",CHAR(10),'GESTION_SEG_1_TRIM CSJMETA'!J134,CHAR(10),\"Trimestre 2\",CHAR(10),'GESTION_SEG_2_TRIM CSJMETA'!J134,CHAR(10),\"Trimestre 3\",CHAR(10),'GESTION_SEG_3_TRIM CSJMETA'!J134),\" \")","v":"Trimestre 1\n\nTrimestre 2\n\nTrimestre 3\n"},{"$f":"IFERROR(_xlfn.CONCAT(\"Trimestre 1\",CHAR(10),'GESTION_SEG_1_TRIM CSJMETA'!K134,CHAR(10),\"Trimestre 2\",CHAR(10),'GESTION_SEG_2_TRIM CSJMETA'!K134,CHAR(10),\"Trimestre 3\",CHAR(10),'GESTION_SEG_3_TRIM CSJMETA'!K134),\" \")","v":"Trimestre 1\n\nTrimestre 2\n\nTrimestre 3\n"}]
[null,null,null,null,null,null,null,null,null,null,null,null,null,null,null,{"$f":"IFERROR(MAX('GESTION_SEG_1_TRIM CSJMETA'!H135,'GESTION_SEG_2_TRIM CSJMETA'!H135,'GESTION_SEG_3_TRIM CSJMETA'!H135),\" \")","v":0},{"$f":"IFERROR(P135/J135,\"\")","v":""},{"$f":"IFERROR(_xlfn.CONCAT(\"Trimestre 1\",CHAR(10),'GESTION_SEG_1_TRIM CSJMETA'!J135,CHAR(10),\"Trimestre 2\",CHAR(10),'GESTION_SEG_2_TRIM CSJMETA'!J135,CHAR(10),\"Trimestre 3\",CHAR(10),'GESTION_SEG_3_TRIM CSJMETA'!J135),\" \")","v":"Trimestre 1\n\nTrimestre 2\n\nTrimestre 3\n"},{"$f":"IFERROR(_xlfn.CONCAT(\"Trimestre 1\",CHAR(10),'GESTION_SEG_1_TRIM CSJMETA'!K135,CHAR(10),\"Trimestre 2\",CHAR(10),'GESTION_SEG_2_TRIM CSJMETA'!K135,CHAR(10),\"Trimestre 3\",CHAR(10),'GESTION_SEG_3_TRIM CSJMETA'!K135),\" \")","v":"Trimestre 1\n\nTrimestre 2\n\nTrimestre 3\n"}]
[null,null,"3. Fortalecer el Sistema integrado de Gestión de la Rama, orientado a la implementación y certificación de las normas antisoborno.","1. Gestionar el desarrollo de las competencias, la toma de conciencia , la cultura  organizacional  y el compromiso de los  servidores judiciales, contratistas, practicantes y  judicantes de contribuir a generar valor público en la administración de justicia, en el marco de  cumplimiento de los requisitos  aplicables y el comportamiento ético.\n3. Fomentar la transparencia y la participación generando lineamientos y promoviendo la rendición de cuentas ,la consulta, reporte y planteamiento de inquietudes en relación con las decisiones y aspectos del SIGCMA.",null,null,null,null,null,null,null,null,null,null,null,{"$f":"IFERROR(MAX('GESTION_SEG_1_TRIM CSJMETA'!H136,'GESTION_SEG_2_TRIM CSJMETA'!H136,'GESTION_SEG_3_TRIM CSJMETA'!H136),\" \")","v":0},"",{"$f":"IFERROR(_xlfn.CONCAT(\"Trimestre 1\",CHAR(10),'GESTION_SEG_1_TRIM CSJMETA'!J136,CHAR(10),\"Trimestre 2\",CHAR(10),'GESTION_SEG_2_TRIM CSJMETA'!J136,CHAR(10),\"Trimestre 3\",CHAR(10),'GESTION_SEG_3_TRIM CSJMETA'!J136),\" \")","v":"Trimestre 1\n\nTrimestre 2\n\nTrimestre 3\n"},{"$f":"IFERROR(_xlfn.CONCAT(\"Trimestre 1\",CHAR(10),'GESTION_SEG_1_TRIM CSJMETA'!K136,CHAR(10),\"Trimestre 2\",CHAR(10),'GESTION_SEG_2_TRIM CSJMETA'!K136,CHAR(10),\"Trimestre 3\",CHAR(10),'GESTION_SEG_3_TRIM CSJMETA'!K136),\" \")","v":"Trimestre 1\n\nTrimestre 2\n\nTrimestre 3\n"}]
[null,null,null,null,null,null,null,null,null,null,null,null,null,null,null,{"$f":"IFERROR(MAX('GESTION_SEG_1_TRIM CSJMETA'!H137,'GESTION_SEG_2_TRIM CSJMETA'!H137,'GESTION_SEG_3_TRIM CSJMETA'!H137),\" \")","v":0},"",{"$f":"IFERROR(_xlfn.CONCAT(\"Trimestre 1\",CHAR(10),'GESTION_SEG_1_TRIM CSJMETA'!J137,CHAR(10),\"Trimestre 2\",CHAR(10),'GESTION_SEG_2_TRIM CSJMETA'!J137,CHAR(10),\"Trimestre 3\",CHAR(10),'GESTION_SEG_3_TRIM CSJMETA'!J137),\" \")","v":"Trimestre 1\n\nTrimestre 2\n\nTrimestre 3\n"},{"$f":"IFERROR(_xlfn.CONCAT(\"Trimestre 1\",CHAR(10),'GESTION_SEG_1_TRIM CSJMETA'!K137,CHAR(10),\"Trimestre 2\",CHAR(10),'GESTION_SEG_2_TRIM CSJMETA'!K137,CHAR(10),\"Trimestre 3\",CHAR(10),'GESTION_SEG_3_TRIM CSJMETA'!K137),\" \")","v":"Trimestre 1\n\nTrimestre 2\n\nTrimestre 3\n"}]
[null,null,null,null,null,null,null,null,null,null,null,null,null,null,null,{"$f":"IFERROR(MAX('GESTION_SEG_1_TRIM CSJMETA'!H138,'GESTION_SEG_2_TRIM CSJMETA'!H138,'GESTION_SEG_3_TRIM CSJMETA'!H138),\" \")","v":0},null,{"$f":"IFERROR(_xlfn.CONCAT(\"Trimestre 1\",CHAR(10),'GESTION_SEG_1_TRIM CSJMETA'!J138,CHAR(10),\"Trimestre 2\",CHAR(10),'GESTION_SEG_2_TRIM CSJMETA'!J138,CHAR(10),\"Trimestre 3\",CHAR(10),'GESTION_SEG_3_TRIM CSJMETA'!J138),\" \")","v":"Trimestre 1\n\nTrimestre 2\n\nTrimestre 3\n"},{"$f":"IFERROR(_xlfn.CONCAT(\"Trimestre 1\",CHAR(10),'GESTION_SEG_1_TRIM CSJMETA'!K138,CHAR(10),\"Trimestre 2\",CHAR(10),'GESTION_SEG_2_TRIM CSJMETA'!K138,CHAR(10),\"Trimestre 3\",CHAR(10),'GESTION_SEG_3_TRIM CSJMETA'!K138),\" \")","v":"Trimestre 1\n\nTrimestre 2\n\nTrimestre 3\n"}]
[null,null,null,null,null,null,null,null,null,null,null,null,null,null,null,{"$f":"IFERROR(MAX('GESTION_SEG_1_TRIM CSJMETA'!H139,'GESTION_SEG_2_TRIM CSJMETA'!H139,'GESTION_SEG_3_TRIM CSJMETA'!H139),\" \")","v":0},null,{"$f":"IFERROR(_xlfn.CONCAT(\"Trimestre 1\",CHAR(10),'GESTION_SEG_1_TRIM CSJMETA'!J139,CHAR(10),\"Trimestre 2\",CHAR(10),'GESTION_SEG_2_TRIM CSJMETA'!J139,CHAR(10),\"Trimestre 3\",CHAR(10),'GESTION_SEG_3_TRIM CSJMETA'!J139),\" \")","v":"Trimestre 1\n\nTrimestre 2\n\nTrimestre 3\n"},{"$f":"IFERROR(_xlfn.CONCAT(\"Trimestre 1\",CHAR(10),'GESTION_SEG_1_TRIM CSJMETA'!K139,CHAR(10),\"Trimestre 2\",CHAR(10),'GESTION_SEG_2_TRIM CSJMETA'!K139,CHAR(10),\"Trimestre 3\",CHAR(10),'GESTION_SEG_3_TRIM CSJMETA'!K139),\" \")","v":"Trimestre 1\n\nTrimestre 2\n\nTrimestre 3\n"}]
[null,null,null,null,null,null,null,null,null,null,null,null,null,null,null,{"$f":"IFERROR(MAX('GESTION_SEG_1_TRIM CSJMETA'!H140,'GESTION_SEG_2_TRIM CSJMETA'!H140,'GESTION_SEG_3_TRIM CSJMETA'!H140),\" \")","v":0},null,{"$f":"IFERROR(_xlfn.CONCAT(\"Trimestre 1\",CHAR(10),'GESTION_SEG_1_TRIM CSJMETA'!J140,CHAR(10),\"Trimestre 2\",CHAR(10),'GESTION_SEG_2_TRIM CSJMETA'!J140,CHAR(10),\"Trimestre 3\",CHAR(10),'GESTION_SEG_3_TRIM CSJMETA'!J140),\" \")","v":"Trimestre 1\n\nTrimestre 2\n\nTrimestre 3\n"},{"$f":"IFERROR(_xlfn.CONCAT(\"Trimestre 1\",CHAR(10),'GESTION_SEG_1_TRIM CSJMETA'!K140,CHAR(10),\"Trimestre 2\",CHAR(10),'GESTION_SEG_2_TRIM CSJMETA'!K140,CHAR(10),\"Trimestre 3\",CHAR(10),'GESTION_SEG_3_TRIM CSJMETA'!K140),\" \")","v":"Trimestre 1\n\nTrimestre 2\n\nTrimestre 3\n"}]
[null,null,null,null,null,null,null,null,null,null,null,null,null,null,null,{"$f":"IFERROR(MAX('GESTION_SEG_1_TRIM CSJMETA'!H141,'GESTION_SEG_2_TRIM CSJMETA'!H141,'GESTION_SEG_3_TRIM CSJMETA'!H141),\" \")","v":0},null,{"$f":"IFERROR(_xlfn.CONCAT(\"Trimestre 1\",CHAR(10),'GESTION_SEG_1_TRIM CSJMETA'!J141,CHAR(10),\"Trimestre 2\",CHAR(10),'GESTION_SEG_2_TRIM CSJMETA'!J141,CHAR(10),\"Trimestre 3\",CHAR(10),'GESTION_SEG_3_TRIM CSJMETA'!J141),\" \")","v":"Trimestre 1\n\nTrimestre 2\n\nTrimestre 3\n"},{"$f":"IFERROR(_xlfn.CONCAT(\"Trimestre 1\",CHAR(10),'GESTION_SEG_1_TRIM CSJMETA'!K141,CHAR(10),\"Trimestre 2\",CHAR(10),'GESTION_SEG_2_TRIM CSJMETA'!K141,CHAR(10),\"Trimestre 3\",CHAR(10),'GESTION_SEG_3_TRIM CSJMETA'!K141),\" \")","v":"Trimestre 1\n\nTrimestre 2\n\nTrimestre 3\n"}]
[null,null,null,null,null,null,null,null,null,null,null,null,null,null,null,{"$f":"IFERROR(MAX('GESTION_SEG_1_TRIM CSJMETA'!H142,'GESTION_SEG_2_TRIM CSJMETA'!H142,'GESTION_SEG_3_TRIM CSJMETA'!H142),\" \")","v":0},null,{"$f":"IFERROR(_xlfn.CONCAT(\"Trimestre 1\",CHAR(10),'GESTION_SEG_1_TRIM CSJMETA'!J142,CHAR(10),\"Trimestre 2\",CHAR(10),'GESTION_SEG_2_TRIM CSJMETA'!J142,CHAR(10),\"Trimestre 3\",CHAR(10),'GESTION_SEG_3_TRIM CSJMETA'!J142),\" \")","v":"Trimestre 1\n\nTrimestre 2\n\nTrimestre 3\n"},{"$f":"IFERROR(_xlfn.CONCAT(\"Trimestre 1\",CHAR(10),'GESTION_SEG_1_TRIM CSJMETA'!K142,CHAR(10),\"Trimestre 2\",CHAR(10),'GESTION_SEG_2_TRIM CSJMETA'!K142,CHAR(10),\"Trimestre 3\",CHAR(10),'GESTION_SEG_3_TRIM CSJMETA'!K142),\" \")","v":"Trimestre 1\n\nTrimestre 2\n\nTrimestre 3\n"}]
[null,null,null,null,null,null,null,null,null,null,null,null,null,null,null,{"$f":"IFERROR(MAX('GESTION_SEG_1_TRIM CSJMETA'!H143,'GESTION_SEG_2_TRIM CSJMETA'!H143,'GESTION_SEG_3_TRIM CSJMETA'!H143),\" \")","v":0},"",{"$f":"IFERROR(_xlfn.CONCAT(\"Trimestre 1\",CHAR(10),'GESTION_SEG_1_TRIM CSJMETA'!J143,CHAR(10),\"Trimestre 2\",CHAR(10),'GESTION_SEG_2_TRIM CSJMETA'!J143,CHAR(10),\"Trimestre 3\",CHAR(10),'GESTION_SEG_3_TRIM CSJMETA'!J143),\" \")","v":"Trimestre 1\n\nTrimestre 2\n\nTrimestre 3\n"},{"$f":"IFERROR(_xlfn.CONCAT(\"Trimestre 1\",CHAR(10),'GESTION_SEG_1_TRIM CSJMETA'!K143,CHAR(10),\"Trimestre 2\",CHAR(10),'GESTION_SEG_2_TRIM CSJMETA'!K143,CHAR(10),\"Trimestre 3\",CHAR(10),'GESTION_SEG_3_TRIM CSJMETA'!K143),\" \")","v":"Trimestre 1\n\nTrimestre 2\n\nTrimestre 3\n"}]
[null,null,null,null,null,null,null,null,null,null,null,null,null,null,null,{"$f":"IFERROR(MAX('GESTION_SEG_1_TRIM CSJMETA'!H144,'GESTION_SEG_2_TRIM CSJMETA'!H144,'GESTION_SEG_3_TRIM CSJMETA'!H144),\" \")","v":0},"",{"$f":"IFERROR(_xlfn.CONCAT(\"Trimestre 1\",CHAR(10),'GESTION_SEG_1_TRIM CSJMETA'!J144,CHAR(10),\"Trimestre 2\",CHAR(10),'GESTION_SEG_2_TRIM CSJMETA'!J144,CHAR(10),\"Trimestre 3\",CHAR(10),'GESTION_SEG_3_TRIM CSJMETA'!J144),\" \")","v":"Trimestre 1\n\nTrimestre 2\n\nTrimestre 3\n"},{"$f":"IFERROR(_xlfn.CONCAT(\"Trimestre 1\",CHAR(10),'GESTION_SEG_1_TRIM CSJMETA'!K144,CHAR(10),\"Trimestre 2\",CHAR(10),'GESTION_SEG_2_TRIM CSJMETA'!K144,CHAR(10),\"Trimestre 3\",CHAR(10),'GESTION_SEG_3_TRIM CSJMETA'!K144),\" \")","v":"Trimestre 1\n\nTrimestre 2\n\nTrimestre 3\n"}]
[null,null,null,null,null,null,null,null,null,null,null,null,null,null,null,{"$f":"IFERROR(MAX('GESTION_SEG_1_TRIM CSJMETA'!H145,'GESTION_SEG_2_TRIM CSJMETA'!H145,'GESTION_SEG_3_TRIM CSJMETA'!H145),\" \")","v":0},"",{"$f":"IFERROR(_xlfn.CONCAT(\"Trimestre 1\",CHAR(10),'GESTION_SEG_1_TRIM CSJMETA'!J145,CHAR(10),\"Trimestre 2\",CHAR(10),'GESTION_SEG_2_TRIM CSJMETA'!J145,CHAR(10),\"Trimestre 3\",CHAR(10),'GESTION_SEG_3_TRIM CSJMETA'!J145),\" \")","v":"Trimestre 1\n\nTrimestre 2\n\nTrimestre 3\n"},{"$f":"IFERROR(_xlfn.CONCAT(\"Trimestre 1\",CHAR(10),'GESTION_SEG_1_TRIM CSJMETA'!K145,CHAR(10),\"Trimestre 2\",CHAR(10),'GESTION_SEG_2_TRIM CSJMETA'!K145,CHAR(10),\"Trimestre 3\",CHAR(10),'GESTION_SEG_3_TRIM CSJMETA'!K145),\" \")","v":"Trimestre 1\n\nTrimestre 2\n\nTrimestre 3\n"}]
[null,null,"4. Aumentar la confianza, la cercanía y acceso a los servicios de la Rama Judicial a través, entre otros, de una comunicación clara y asertiva con la ciudadanía.","3. Fomentar la transparencia y la participación generando lineamientos y promoviendo la rendición de cuentas ,la consulta, reporte y planteamiento de inquietudes en relación con las decisiones y aspectos del SIGCMA.",null,null,null,null,null,null,null,null,null,null,null,{"$f":"IFERROR(MAX('GESTION_SEG_1_TRIM CSJMETA'!H146,'GESTION_SEG_2_TRIM CSJMETA'!H146,'GESTION_SEG_3_TRIM CSJMETA'!H146),\" \")","v":0},"",{"$f":"IFERROR(_xlfn.CONCAT(\"Trimestre 1\",CHAR(10),'GESTION_SEG_1_TRIM CSJMETA'!J146,CHAR(10),\"Trimestre 2\",CHAR(10),'GESTION_SEG_2_TRIM CSJMETA'!J146,CHAR(10),\"Trimestre 3\",CHAR(10),'GESTION_SEG_3_TRIM CSJMETA'!J146),\" \")","v":"Trimestre 1\n\nTrimestre 2\n\nTrimestre 3\n"},{"$f":"IFERROR(_xlfn.CONCAT(\"Trimestre 1\",CHAR(10),'GESTION_SEG_1_TRIM CSJMETA'!K146,CHAR(10),\"Trimestre 2\",CHAR(10),'GESTION_SEG_2_TRIM CSJMETA'!K146,CHAR(10),\"Trimestre 3\",CHAR(10),'GESTION_SEG_3_TRIM CSJMETA'!K146),\" \")","v":"Trimestre 1\n\nTrimestre 2\n\nTrimestre 3\n"}]
[null,null,null,null,null,null,null,null,null,null,null,null,null,null,null,{"$f":"IFERROR(MAX('GESTION_SEG_1_TRIM CSJMETA'!H147,'GESTION_SEG_2_TRIM CSJMETA'!H147,'GESTION_SEG_3_TRIM CSJMETA'!H147),\" \")","v":0},"",{"$f":"IFERROR(_xlfn.CONCAT(\"Trimestre 1\",CHAR(10),'GESTION_SEG_1_TRIM CSJMETA'!J147,CHAR(10),\"Trimestre 2\",CHAR(10),'GESTION_SEG_2_TRIM CSJMETA'!J147,CHAR(10),\"Trimestre 3\",CHAR(10),'GESTION_SEG_3_TRIM CSJMETA'!J147),\" \")","v":"Trimestre 1\n\nTrimestre 2\n\nTrimestre 3\n"},{"$f":"IFERROR(_xlfn.CONCAT(\"Trimestre 1\",CHAR(10),'GESTION_SEG_1_TRIM CSJMETA'!K147,CHAR(10),\"Trimestre 2\",CHAR(10),'GESTION_SEG_2_TRIM CSJMETA'!K147,CHAR(10),\"Trimestre 3\",CHAR(10),'GESTION_SEG_3_TRIM CSJMETA'!K147),\" \")","v":"Trimestre 1\n\nTrimestre 2\n\nTrimestre 3\n"}]
[null,null,null,null,null,null,null,null,null,null,null,null,null,null,null,{"$f":"IFERROR(MAX('GESTION_SEG_1_TRIM CSJMETA'!H148,'GESTION_SEG_2_TRIM CSJMETA'!H148,'GESTION_SEG_3_TRIM CSJMETA'!H148),\" \")","v":0},null,{"$f":"IFERROR(_xlfn.CONCAT(\"Trimestre 1\",CHAR(10),'GESTION_SEG_1_TRIM CSJMETA'!J148,CHAR(10),\"Trimestre 2\",CHAR(10),'GESTION_SEG_2_TRIM CSJMETA'!J148,CHAR(10),\"Trimestre 3\",CHAR(10),'GESTION_SEG_3_TRIM CSJMETA'!J148),\" \")","v":"Trimestre 1\n\nTrimestre 2\n\nTrimestre 3\n"},{"$f":"IFERROR(_xlfn.CONCAT(\"Trimestre 1\",CHAR(10),'GESTION_SEG_1_TRIM CSJMETA'!K148,CHAR(10),\"Trimestre 2\",CHAR(10),'GESTION_SEG_2_TRIM CSJMETA'!K148,CHAR(10),\"Trimestre 3\",CHAR(10),'GESTION_SEG_3_TRIM CSJMETA'!K148),\" \")","v":"Trimestre 1\n\nTrimestre 2\n\nTrimestre 3\n"}]
[null,null,null,null,null,null,null,null,null,null,null,null,null,null,null,{"$f":"IFERROR(MAX('GESTION_SEG_1_TRIM CSJMETA'!H149,'GESTION_SEG_2_TRIM CSJMETA'!H149,'GESTION_SEG_3_TRIM CSJMETA'!H149),\" \")","v":0},null,{"$f":"IFERROR(_xlfn.CONCAT(\"Trimestre 1\",CHAR(10),'GESTION_SEG_1_TRIM CSJMETA'!J149,CHAR(10),\"Trimestre 2\",CHAR(10),'GESTION_SEG_2_TRIM CSJMETA'!J149,CHAR(10),\"Trimestre 3\",CHAR(10),'GESTION_SEG_3_TRIM CSJMETA'!J149),\" \")","v":"Trimestre 1\n\nTrimestre 2\n\nTrimestre 3\n"},{"$f":"IFERROR(_xlfn.CONCAT(\"Trimestre 1\",CHAR(10),'GESTION_SEG_1_TRIM CSJMETA'!K149,CHAR(10),\"Trimestre 2\",CHAR(10),'GESTION_SEG_2_TRIM CSJMETA'!K149,CHAR(10),\"Trimestre 3\",CHAR(10),'GESTION_SEG_3_TRIM CSJMETA'!K149),\" \")","v":"Trimestre 1\n\nTrimestre 2\n\nTrimestre 3\n"}]
[null,null,null,null,null,null,null,null,null,null,null,null,null,null,null,{"$f":"IFERROR(MAX('GESTION_SEG_1_TRIM CSJMETA'!H150,'GESTION_SEG_2_TRIM CSJMETA'!H150,'GESTION_SEG_3_TRIM CSJMETA'!H150),\" \")","v":0},null,{"$f":"IFERROR(_xlfn.CONCAT(\"Trimestre 1\",CHAR(10),'GESTION_SEG_1_TRIM CSJMETA'!J150,CHAR(10),\"Trimestre 2\",CHAR(10),'GESTION_SEG_2_TRIM CSJMETA'!J150,CHAR(10),\"Trimestre 3\",CHAR(10),'GESTION_SEG_3_TRIM CSJMETA'!J150),\" \")","v":"Trimestre 1\n\nTrimestre 2\n\nTrimestre 3\n"},{"$f":"IFERROR(_xlfn.CONCAT(\"Trimestre 1\",CHAR(10),'GESTION_SEG_1_TRIM CSJMETA'!K150,CHAR(10),\"Trimestre 2\",CHAR(10),'GESTION_SEG_2_TRIM CSJMETA'!K150,CHAR(10),\"Trimestre 3\",CHAR(10),'GESTION_SEG_3_TRIM CSJMETA'!K150),\" \")","v":"Trimestre 1\n\nTrimestre 2\n\nTrimestre 3\n"}]
[null,null,null,null,null,null,null,null,null,null,null,null,null,null,null,{"$f":"IFERROR(MAX('GESTION_SEG_1_TRIM CSJMETA'!H151,'GESTION_SEG_2_TRIM CSJMETA'!H151,'GESTION_SEG_3_TRIM CSJMETA'!H151),\" \")","v":0},null,{"$f":"IFERROR(_xlfn.CONCAT(\"Trimestre 1\",CHAR(10),'GESTION_SEG_1_TRIM CSJMETA'!J151,CHAR(10),\"Trimestre 2\",CHAR(10),'GESTION_SEG_2_TRIM CSJMETA'!J151,CHAR(10),\"Trimestre 3\",CHAR(10),'GESTION_SEG_3_TRIM CSJMETA'!J151),\" \")","v":"Trimestre 1\n\nTrimestre 2\n\nTrimestre 3\n"},{"$f":"IFERROR(_xlfn.CONCAT(\"Trimestre 1\",CHAR(10),'GESTION_SEG_1_TRIM CSJMETA'!K151,CHAR(10),\"Trimestre 2\",CHAR(10),'GESTION_SEG_2_TRIM CSJMETA'!K151,CHAR(10),\"Trimestre 3\",CHAR(10),'GESTION_SEG_3_TRIM CSJMETA'!K151),\" \")","v":"Trimestre 1\n\nTrimestre 2\n\nTrimestre 3\n"}]
[null,null,null,null,null,null,null,null,null,null,null,null,null,null,null,{"$f":"IFERROR(MAX('GESTION_SEG_1_TRIM CSJMETA'!H152,'GESTION_SEG_2_TRIM CSJMETA'!H152,'GESTION_SEG_3_TRIM CSJMETA'!H152),\" \")","v":0},null,{"$f":"IFERROR(_xlfn.CONCAT(\"Trimestre 1\",CHAR(10),'GESTION_SEG_1_TRIM CSJMETA'!J152,CHAR(10),\"Trimestre 2\",CHAR(10),'GESTION_SEG_2_TRIM CSJMETA'!J152,CHAR(10),\"Trimestre 3\",CHAR(10),'GESTION_SEG_3_TRIM CSJMETA'!J152),\" \")","v":"Trimestre 1\n\nTrimestre 2\n\nTrimestre 3\n"},{"$f":"IFERROR(_xlfn.CONCAT(\"Trimestre 1\",CHAR(10),'GESTION_SEG_1_TRIM CSJMETA'!K152,CHAR(10),\"Trimestre 2\",CHAR(10),'GESTION_SEG_2_TRIM CSJMETA'!K152,CHAR(10),\"Trimestre 3\",CHAR(10),'GESTION_SEG_3_TRIM CSJMETA'!K152),\" \")","v":"Trimestre 1\n\nTrimestre 2\n\nTrimestre 3\n"}]
[null,null,null,null,null,null,null,null,null,null,null,null,null,null,null,{"$f":"IFERROR(MAX('GESTION_SEG_1_TRIM CSJMETA'!H153,'GESTION_SEG_2_TRIM CSJMETA'!H153,'GESTION_SEG_3_TRIM CSJMETA'!H153),\" \")","v":0},"",{"$f":"IFERROR(_xlfn.CONCAT(\"Trimestre 1\",CHAR(10),'GESTION_SEG_1_TRIM CSJMETA'!J153,CHAR(10),\"Trimestre 2\",CHAR(10),'GESTION_SEG_2_TRIM CSJMETA'!J153,CHAR(10),\"Trimestre 3\",CHAR(10),'GESTION_SEG_3_TRIM CSJMETA'!J153),\" \")","v":"Trimestre 1\n\nTrimestre 2\n\nTrimestre 3\n"},{"$f":"IFERROR(_xlfn.CONCAT(\"Trimestre 1\",CHAR(10),'GESTION_SEG_1_TRIM CSJMETA'!K153,CHAR(10),\"Trimestre 2\",CHAR(10),'GESTION_SEG_2_TRIM CSJMETA'!K153,CHAR(10),\"Trimestre 3\",CHAR(10),'GESTION_SEG_3_TRIM CSJMETA'!K153),\" \")","v":"Trimestre 1\n\nTrimestre 2\n\nTrimestre 3\n"}]
[null,null,null,null,null,null,null,null,null,null,null,null,null,null,null,{"$f":"IFERROR(MAX('GESTION_SEG_1_TRIM CSJMETA'!H154,'GESTION_SEG_2_TRIM CSJMETA'!H154,'GESTION_SEG_3_TRIM CSJMETA'!H154),\" \")","v":0},"",{"$f":"IFERROR(_xlfn.CONCAT(\"Trimestre 1\",CHAR(10),'GESTION_SEG_1_TRIM CSJMETA'!J154,CHAR(10),\"Trimestre 2\",CHAR(10),'GESTION_SEG_2_TRIM CSJMETA'!J154,CHAR(10),\"Trimestre 3\",CHAR(10),'GESTION_SEG_3_TRIM CSJMETA'!J154),\" \")","v":"Trimestre 1\n\nTrimestre 2\n\nTrimestre 3\n"},{"$f":"IFERROR(_xlfn.CONCAT(\"Trimestre 1\",CHAR(10),'GESTION_SEG_1_TRIM CSJMETA'!K154,CHAR(10),\"Trimestre 2\",CHAR(10),'GESTION_SEG_2_TRIM CSJMETA'!K154,CHAR(10),\"Trimestre 3\",CHAR(10),'GESTION_SEG_3_TRIM CSJMETA'!K154),\" \")","v":"Trimestre 1\n\nTrimestre 2\n\nTrimestre 3\n"}]
[null,null,null,null,null,null,null,null,null,null,null,null,null,null,null,{"$f":"IFERROR(MAX('GESTION_SEG_1_TRIM CSJMETA'!H155,'GESTION_SEG_2_TRIM CSJMETA'!H155,'GESTION_SEG_3_TRIM CSJMETA'!H155),\" \")","v":0},"",{"$f":"IFERROR(_xlfn.CONCAT(\"Trimestre 1\",CHAR(10),'GESTION_SEG_1_TRIM CSJMETA'!J155,CHAR(10),\"Trimestre 2\",CHAR(10),'GESTION_SEG_2_TRIM CSJMETA'!J155,CHAR(10),\"Trimestre 3\",CHAR(10),'GESTION_SEG_3_TRIM CSJMETA'!J155),\" \")","v":"Trimestre 1\n\nTrimestre 2\n\nTrimestre 3\n"},{"$f":"IFERROR(_xlfn.CONCAT(\"Trimestre 1\",CHAR(10),'GESTION_SEG_1_TRIM CSJMETA'!K155,CHAR(10),\"Trimestre 2\",CHAR(10),'GESTION_SEG_2_TRIM CSJMETA'!K155,CHAR(10),\"Trimestre 3\",CHAR(10),'GESTION_SEG_3_TRIM CSJMETA'!K155),\" \")","v":"Trimestre 1\n\nTrimestre 2\n\nTrimestre 3\n"}]
[null,null,"5. Prevenir fenómenos asociados con actos de corrupción en la Rama Judicial y reducir las experiencias de corrupción de usuarios y servidores judiciales.",null,null,null,null,null,null,null,null,null,null,null,null,{"$f":"IFERROR(MAX('GESTION_SEG_1_TRIM CSJMETA'!H156,'GESTION_SEG_2_TRIM CSJMETA'!H156,'GESTION_SEG_3_TRIM CSJMETA'!H156),\" \")","v":0},"",{"$f":"IFERROR(_xlfn.CONCAT(\"Trimestre 1\",CHAR(10),'GESTION_SEG_1_TRIM CSJMETA'!J156,CHAR(10),\"Trimestre 2\",CHAR(10),'GESTION_SEG_2_TRIM CSJMETA'!J156,CHAR(10),\"Trimestre 3\",CHAR(10),'GESTION_SEG_3_TRIM CSJMETA'!J156),\" \")","v":"Trimestre 1\n\nTrimestre 2\n\nTrimestre 3\n"},{"$f":"IFERROR(_xlfn.CONCAT(\"Trimestre 1\",CHAR(10),'GESTION_SEG_1_TRIM CSJMETA'!K156,CHAR(10),\"Trimestre 2\",CHAR(10),'GESTION_SEG_2_TRIM CSJMETA'!K156,CHAR(10),\"Trimestre 3\",CHAR(10),'GESTION_SEG_3_TRIM CSJMETA'!K156),\" \")","v":"Trimestre 1\n\nTrimestre 2\n\nTrimestre 3\n"}]
[null,null,null,null,null,null,null,null,null,null,null,null,null,null,null,{"$f":"IFERROR(MAX('GESTION_SEG_1_TRIM CSJMETA'!H157,'GESTION_SEG_2_TRIM CSJMETA'!H157,'GESTION_SEG_3_TRIM CSJMETA'!H157),\" \")","v":0},"",{"$f":"IFERROR(_xlfn.CONCAT(\"Trimestre 1\",CHAR(10),'GESTION_SEG_1_TRIM CSJMETA'!J157,CHAR(10),\"Trimestre 2\",CHAR(10),'GESTION_SEG_2_TRIM CSJMETA'!J157,CHAR(10),\"Trimestre 3\",CHAR(10),'GESTION_SEG_3_TRIM CSJMETA'!J157),\" \")","v":"Trimestre 1\n\nTrimestre 2\n\nTrimestre 3\n"},{"$f":"IFERROR(_xlfn.CONCAT(\"Trimestre 1\",CHAR(10),'GESTION_SEG_1_TRIM CSJMETA'!K157,CHAR(10),\"Trimestre 2\",CHAR(10),'GESTION_SEG_2_TRIM CSJMETA'!K157,CHAR(10),\"Trimestre 3\",CHAR(10),'GESTION_SEG_3_TRIM CSJMETA'!K157),\" \")","v":"Trimestre 1\n\nTrimestre 2\n\nTrimestre 3\n"}]
[null,null,null,null,null,null,null,null,null,null,null,null,null,null,null,{"$f":"IFERROR(MAX('GESTION_SEG_1_TRIM CSJMETA'!H158,'GESTION_SEG_2_TRIM CSJMETA'!H158,'GESTION_SEG_3_TRIM CSJMETA'!H158),\" \")","v":0},null,{"$f":"IFERROR(_xlfn.CONCAT(\"Trimestre 1\",CHAR(10),'GESTION_SEG_1_TRIM CSJMETA'!J158,CHAR(10),\"Trimestre 2\",CHAR(10),'GESTION_SEG_2_TRIM CSJMETA'!J158,CHAR(10),\"Trimestre 3\",CHAR(10),'GESTION_SEG_3_TRIM CSJMETA'!J158),\" \")","v":"Trimestre 1\n\nTrimestre 2\n\nTrimestre 3\n"},{"$f":"IFERROR(_xlfn.CONCAT(\"Trimestre 1\",CHAR(10),'GESTION_SEG_1_TRIM CSJMETA'!K158,CHAR(10),\"Trimestre 2\",CHAR(10),'GESTION_SEG_2_TRIM CSJMETA'!K158,CHAR(10),\"Trimestre 3\",CHAR(10),'GESTION_SEG_3_TRIM CSJMETA'!K158),\" \")","v":"Trimestre 1\n\nTrimestre 2\n\nTrimestre 3\n"}]
[null,null,null,null,null,null,null,null,null,null,null,null,null,null,null,{"$f":"IFERROR(MAX('GESTION_SEG_1_TRIM CSJMETA'!H159,'GESTION_SEG_2_TRIM CSJMETA'!H159,'GESTION_SEG_3_TRIM CSJMETA'!H159),\" \")","v":0},null,{"$f":"IFERROR(_xlfn.CONCAT(\"Trimestre 1\",CHAR(10),'GESTION_SEG_1_TRIM CSJMETA'!J159,CHAR(10),\"Trimestre 2\",CHAR(10),'GESTION_SEG_2_TRIM CSJMETA'!J159,CHAR(10),\"Trimestre 3\",CHAR(10),'GESTION_SEG_3_TRIM CSJMETA'!J159),\" \")","v":"Trimestre 1\n\nTrimestre 2\n\nTrimestre 3\n"},{"$f":"IFERROR(_xlfn.CONCAT(\"Trimestre 1\",CHAR(10),'GESTION_SEG_1_TRIM CSJMETA'!K159,CHAR(10),\"Trimestre 2\",CHAR(10),'GESTION_SEG_2_TRIM CSJMETA'!K159,CHAR(10),\"Trimestre 3\",CHAR(10),'GESTION_SEG_3_TRIM CSJMETA'!K159),\" \")","v":"Trimestre 1\n\nTrimestre 2\n\nTrimestre 3\n"}]
[null,null,null,null,null,null,null,null,null,null,null,null,null,null,null,{"$f":"IFERROR(MAX('GESTION_SEG_1_TRIM CSJMETA'!H160,'GESTION_SEG_2_TRIM CSJMETA'!H160,'GESTION_SEG_3_TRIM CSJMETA'!H160),\" \")","v":0},null,{"$f":"IFERROR(_xlfn.CONCAT(\"Trimestre 1\",CHAR(10),'GESTION_SEG_1_TRIM CSJMETA'!J160,CHAR(10),\"Trimestre 2\",CHAR(10),'GESTION_SEG_2_TRIM CSJMETA'!J160,CHAR(10),\"Trimestre 3\",CHAR(10),'GESTION_SEG_3_TRIM CSJMETA'!J160),\" \")","v":"Trimestre 1\n\nTrimestre 2\n\nTrimestre 3\n"},{"$f":"IFERROR(_xlfn.CONCAT(\"Trimestre 1\",CHAR(10),'GESTION_SEG_1_TRIM CSJMETA'!K160,CHAR(10),\"Trimestre 2\",CHAR(10),'GESTION_SEG_2_TRIM CSJMETA'!K160,CHAR(10),\"Trimestre 3\",CHAR(10),'GESTION_SEG_3_TRIM CSJMETA'!K160),\" \")","v":"Trimestre 1\n\nTrimestre 2\n\nTrimestre 3\n"}]
[null,null,null,null,null,null,null,null,null,null,null,null,null,null,null,{"$f":"IFERROR(MAX('GESTION_SEG_1_TRIM CSJMETA'!H161,'GESTION_SEG_2_TRIM CSJMETA'!H161,'GESTION_SEG_3_TRIM CSJMETA'!H161),\" \")","v":0},null,{"$f":"IFERROR(_xlfn.CONCAT(\"Trimestre 1\",CHAR(10),'GESTION_SEG_1_TRIM CSJMETA'!J161,CHAR(10),\"Trimestre 2\",CHAR(10),'GESTION_SEG_2_TRIM CSJMETA'!J161,CHAR(10),\"Trimestre 3\",CHAR(10),'GESTION_SEG_3_TRIM CSJMETA'!J161),\" \")","v":"Trimestre 1\n\nTrimestre 2\n\nTrimestre 3\n"},{"$f":"IFERROR(_xlfn.CONCAT(\"Trimestre 1\",CHAR(10),'GESTION_SEG_1_TRIM CSJMETA'!K161,CHAR(10),\"Trimestre 2\",CHAR(10),'GESTION_SEG_2_TRIM CSJMETA'!K161,CHAR(10),\"Trimestre 3\",CHAR(10),'GESTION_SEG_3_TRIM CSJMETA'!K161),\" \")","v":"Trimestre 1\n\nTrimestre 2\n\nTrimestre 3\n"}]
[null,null,null,null,null,null,null,null,null,null,null,null,null,null,null,{"$f":"IFERROR(MAX('GESTION_SEG_1_TRIM CSJMETA'!H162,'GESTION_SEG_2_TRIM CSJMETA'!H162,'GESTION_SEG_3_TRIM CSJMETA'!H162),\" \")","v":0},null,{"$f":"IFERROR(_xlfn.CONCAT(\"Trimestre 1\",CHAR(10),'GESTION_SEG_1_TRIM CSJMETA'!J162,CHAR(10),\"Trimestre 2\",CHAR(10),'GESTION_SEG_2_TRIM CSJMETA'!J162,CHAR(10),\"Trimestre 3\",CHAR(10),'GESTION_SEG_3_TRIM CSJMETA'!J162),\" \")","v":"Trimestre 1\n\nTrimestre 2\n\nTrimestre 3\n"},{"$f":"IFERROR(_xlfn.CONCAT(\"Trimestre 1\",CHAR(10),'GESTION_SEG_1_TRIM CSJMETA'!K162,CHAR(10),\"Trimestre 2\",CHAR(10),'GESTION_SEG_2_TRIM CSJMETA'!K162,CHAR(10),\"Trimestre 3\",CHAR(10),'GESTION_SEG_3_TRIM CSJMETA'!K162),\" \")","v":"Trimestre 1\n\nTrimestre 2\n\nTrimestre 3\n"}]
[null,null,null,null,null,null,null,null,null,null,null,null,null,null,null,{"$f":"IFERROR(MAX('GESTION_SEG_1_TRIM CSJMETA'!H163,'GESTION_SEG_2_TRIM CSJMETA'!H163,'GESTION_SEG_3_TRIM CSJMETA'!H163),\" \")","v":0},"",{"$f":"IFERROR(_xlfn.CONCAT(\"Trimestre 1\",CHAR(10),'GESTION_SEG_1_TRIM CSJMETA'!J163,CHAR(10),\"Trimestre 2\",CHAR(10),'GESTION_SEG_2_TRIM CSJMETA'!J163,CHAR(10),\"Trimestre 3\",CHAR(10),'GESTION_SEG_3_TRIM CSJMETA'!J163),\" \")","v":"Trimestre 1\n\nTrimestre 2\n\nTrimestre 3\n"},{"$f":"IFERROR(_xlfn.CONCAT(\"Trimestre 1\",CHAR(10),'GESTION_SEG_1_TRIM CSJMETA'!K163,CHAR(10),\"Trimestre 2\",CHAR(10),'GESTION_SEG_2_TRIM CSJMETA'!K163,CHAR(10),\"Trimestre 3\",CHAR(10),'GESTION_SEG_3_TRIM CSJMETA'!K163),\" \")","v":"Trimestre 1\n\nTrimestre 2\n\nTrimestre 3\n"}]
[null,null,null,null,null,null,null,null,null,null,null,null,null,null,null,{"$f":"IFERROR(MAX('GESTION_SEG_1_TRIM CSJMETA'!H164,'GESTION_SEG_2_TRIM CSJMETA'!H164,'GESTION_SEG_3_TRIM CSJMETA'!H164),\" \")","v":0},"",{"$f":"IFERROR(_xlfn.CONCAT(\"Trimestre 1\",CHAR(10),'GESTION_SEG_1_TRIM CSJMETA'!J164,CHAR(10),\"Trimestre 2\",CHAR(10),'GESTION_SEG_2_TRIM CSJMETA'!J164,CHAR(10),\"Trimestre 3\",CHAR(10),'GESTION_SEG_3_TRIM CSJMETA'!J164),\" \")","v":"Trimestre 1\n\nTrimestre 2\n\nTrimestre 3\n"},{"$f":"IFERROR(_xlfn.CONCAT(\"Trimestre 1\",CHAR(10),'GESTION_SEG_1_TRIM CSJMETA'!K164,CHAR(10),\"Trimestre 2\",CHAR(10),'GESTION_SEG_2_TRIM CSJMETA'!K164,CHAR(10),\"Trimestre 3\",CHAR(10),'GESTION_SEG_3_TRIM CSJMETA'!K164),\" \")","v":"Trimestre 1\n\nTrimestre 2\n\nTrimestre 3\n"}]
[null,null,null,null,null,null,null,null,null,null,null,null,null,null,null,{"$f":"IFERROR(MAX('GESTION_SEG_1_TRIM CSJMETA'!H165,'GESTION_SEG_2_TRIM CSJMETA'!H165,'GESTION_SEG_3_TRIM CSJMETA'!H165),\" \")","v":0},"",{"$f":"IFERROR(_xlfn.CONCAT(\"Trimestre 1\",CHAR(10),'GESTION_SEG_1_TRIM CSJMETA'!J165,CHAR(10),\"Trimestre 2\",CHAR(10),'GESTION_SEG_2_TRIM CSJMETA'!J165,CHAR(10),\"Trimestre 3\",CHAR(10),'GESTION_SEG_3_TRIM CSJMETA'!J165),\" \")","v":"Trimestre 1\n\nTrimestre 2\n\nTrimestre 3\n"},{"$f":"IFERROR(_xlfn.CONCAT(\"Trimestre 1\",CHAR(10),'GESTION_SEG_1_TRIM CSJMETA'!K165,CHAR(10),\"Trimestre 2\",CHAR(10),'GESTION_SEG_2_TRIM CSJMETA'!K165,CHAR(10),\"Trimestre 3\",CHAR(10),'GESTION_SEG_3_TRIM CSJMETA'!K165),\" \")","v":"Trimestre 1\n\nTrimestre 2\n\nTrimestre 3\n"}]
[null,null,"6. Promover la rendición de cuentas y la colaboración real con la ciudadanía como fundamento para diseñar acciones de mejoramiento del acceso a la justicia.",null,null,null,null,null,null,null,null,null,null,null,null,{"$f":"IFERROR(MAX('GESTION_SEG_1_TRIM CSJMETA'!H166,'GESTION_SEG_2_TRIM CSJMETA'!H166,'GESTION_SEG_3_TRIM CSJMETA'!H166),\" \")","v":0},"",{"$f":"IFERROR(_xlfn.CONCAT(\"Trimestre 1\",CHAR(10),'GESTION_SEG_1_TRIM CSJMETA'!J166,CHAR(10),\"Trimestre 2\",CHAR(10),'GESTION_SEG_2_TRIM CSJMETA'!J166,CHAR(10),\"Trimestre 3\",CHAR(10),'GESTION_SEG_3_TRIM CSJMETA'!J166),\" \")","v":"Trimestre 1\n\nTrimestre 2\n\nTrimestre 3\n"},{"$f":"IFERROR(_xlfn.CONCAT(\"Trimestre 1\",CHAR(10),'GESTION_SEG_1_TRIM CSJMETA'!K166,CHAR(10),\"Trimestre 2\",CHAR(10),'GESTION_SEG_2_TRIM CSJMETA'!K166,CHAR(10),\"Trimestre 3\",CHAR(10),'GESTION_SEG_3_TRIM CSJMETA'!K166),\" \")","v":"Trimestre 1\n\nTrimestre 2\n\nTrimestre 3\n"}]
[null,null,null,null,null,null,null,null,null,null,null,null,null,null,null,{"$f":"IFERROR(MAX('GESTION_SEG_1_TRIM CSJMETA'!H167,'GESTION_SEG_2_TRIM CSJMETA'!H167,'GESTION_SEG_3_TRIM CSJMETA'!H167),\" \")","v":0},"",{"$f":"IFERROR(_xlfn.CONCAT(\"Trimestre 1\",CHAR(10),'GESTION_SEG_1_TRIM CSJMETA'!J167,CHAR(10),\"Trimestre 2\",CHAR(10),'GESTION_SEG_2_TRIM CSJMETA'!J167,CHAR(10),\"Trimestre 3\",CHAR(10),'GESTION_SEG_3_TRIM CSJMETA'!J167),\" \")","v":"Trimestre 1\n\nTrimestre 2\n\nTrimestre 3\n"},{"$f":"IFERROR(_xlfn.CONCAT(\"Trimestre 1\",CHAR(10),'GESTION_SEG_1_TRIM CSJMETA'!K167,CHAR(10),\"Trimestre 2\",CHAR(10),'GESTION_SEG_2_TRIM CSJMETA'!K167,CHAR(10),\"Trimestre 3\",CHAR(10),'GESTION_SEG_3_TRIM CSJMETA'!K167),\" \")","v":"Trimestre 1\n\nTrimestre 2\n\nTrimestre 3\n"}]
[null,null,null,null,null,null,null,null,null,null,null,null,null,null,null,{"$f":"IFERROR(MAX('GESTION_SEG_1_TRIM CSJMETA'!H168,'GESTION_SEG_2_TRIM CSJMETA'!H168,'GESTION_SEG_3_TRIM CSJMETA'!H168),\" \")","v":0},null,{"$f":"IFERROR(_xlfn.CONCAT(\"Trimestre 1\",CHAR(10),'GESTION_SEG_1_TRIM CSJMETA'!J168,CHAR(10),\"Trimestre 2\",CHAR(10),'GESTION_SEG_2_TRIM CSJMETA'!J168,CHAR(10),\"Trimestre 3\",CHAR(10),'GESTION_SEG_3_TRIM CSJMETA'!J168),\" \")","v":"Trimestre 1\n\nTrimestre 2\n\nTrimestre 3\n"},{"$f":"IFERROR(_xlfn.CONCAT(\"Trimestre 1\",CHAR(10),'GESTION_SEG_1_TRIM CSJMETA'!K168,CHAR(10),\"Trimestre 2\",CHAR(10),'GESTION_SEG_2_TRIM CSJMETA'!K168,CHAR(10),\"Trimestre 3\",CHAR(10),'GESTION_SEG_3_TRIM CSJMETA'!K168),\" \")","v":"Trimestre 1\n\nTrimestre 2\n\nTrimestre 3\n"}]
[null,null,null,null,null,null,null,null,null,null,null,null,null,null,null,{"$f":"IFERROR(MAX('GESTION_SEG_1_TRIM CSJMETA'!H169,'GESTION_SEG_2_TRIM CSJMETA'!H169,'GESTION_SEG_3_TRIM CSJMETA'!H169),\" \")","v":0},null,{"$f":"IFERROR(_xlfn.CONCAT(\"Trimestre 1\",CHAR(10),'GESTION_SEG_1_TRIM CSJMETA'!J169,CHAR(10),\"Trimestre 2\",CHAR(10),'GESTION_SEG_2_TRIM CSJMETA'!J169,CHAR(10),\"Trimestre 3\",CHAR(10),'GESTION_SEG_3_TRIM CSJMETA'!J169),\" \")","v":"Trimestre 1\n\nTrimestre 2\n\nTrimestre 3\n"},{"$f":"IFERROR(_xlfn.CONCAT(\"Trimestre 1\",CHAR(10),'GESTION_SEG_1_TRIM CSJMETA'!K169,CHAR(10),\"Trimestre 2\",CHAR(10),'GESTION_SEG_2_TRIM CSJMETA'!K169,CHAR(10),\"Trimestre 3\",CHAR(10),'GESTION_SEG_3_TRIM CSJMETA'!K169),\" \")","v":"Trimestre 1\n\nTrimestre 2\n\nTrimestre 3\n"}]
[null,null,null,null,null,null,null,null,null,null,null,null,null,null,null,{"$f":"IFERROR(MAX('GESTION_SEG_1_TRIM CSJMETA'!H170,'GESTION_SEG_2_TRIM CSJMETA'!H170,'GESTION_SEG_3_TRIM CSJMETA'!H170),\" \")","v":0},null,{"$f":"IFERROR(_xlfn.CONCAT(\"Trimestre 1\",CHAR(10),'GESTION_SEG_1_TRIM CSJMETA'!J170,CHAR(10),\"Trimestre 2\",CHAR(10),'GESTION_SEG_2_TRIM CSJMETA'!J170,CHAR(10),\"Trimestre 3\",CHAR(10),'GESTION_SEG_3_TRIM CSJMETA'!J170),\" \")","v":"Trimestre 1\n\nTrimestre 2\n\nTrimestre 3\n"},{"$f":"IFERROR(_xlfn.CONCAT(\"Trimestre 1\",CHAR(10),'GESTION_SEG_1_TRIM CSJMETA'!K170,CHAR(10),\"Trimestre 2\",CHAR(10),'GESTION_SEG_2_TRIM CSJMETA'!K170,CHAR(10),\"Trimestre 3\",CHAR(10),'GESTION_SEG_3_TRIM CSJMETA'!K170),\" \")","v":"Trimestre 1\n\nTrimestre 2\n\nTrimestre 3\n"}]
[null,null,null,null,null,null,null,null,null,null,null,null,null,null,null,{"$f":"IFERROR(MAX('GESTION_SEG_1_TRIM CSJMETA'!H171,'GESTION_SEG_2_TRIM CSJMETA'!H171,'GESTION_SEG_3_TRIM CSJMETA'!H171),\" \")","v":0},null,{"$f":"IFERROR(_xlfn.CONCAT(\"Trimestre 1\",CHAR(10),'GESTION_SEG_1_TRIM CSJMETA'!J171,CHAR(10),\"Trimestre 2\",CHAR(10),'GESTION_SEG_2_TRIM CSJMETA'!J171,CHAR(10),\"Trimestre 3\",CHAR(10),'GESTION_SEG_3_TRIM CSJMETA'!J171),\" \")","v":"Trimestre 1\n\nTrimestre 2\n\nTrimestre 3\n"},{"$f":"IFERROR(_xlfn.CONCAT(\"Trimestre 1\",CHAR(10),'GESTION_SEG_1_TRIM CSJMETA'!K171,CHAR(10),\"Trimestre 2\",CHAR(10),'GESTION_SEG_2_TRIM CSJMETA'!K171,CHAR(10),\"Trimestre 3\",CHAR(10),'GESTION_SEG_3_TRIM CSJMETA'!K171),\" \")","v":"Trimestre 1\n\nTrimestre 2\n\nTrimestre 3\n"}]
[null,null,null,null,null,null,null,null,null,null,null,null,null,null,null,{"$f":"IFERROR(MAX('GESTION_SEG_1_TRIM CSJMETA'!H172,'GESTION_SEG_2_TRIM CSJMETA'!H172,'GESTION_SEG_3_TRIM CSJMETA'!H172),\" \")","v":0},null,{"$f":"IFERROR(_xlfn.CONCAT(\"Trimestre 1\",CHAR(10),'GESTION_SEG_1_TRIM CSJMETA'!J172,CHAR(10),\"Trimestre 2\",CHAR(10),'GESTION_SEG_2_TRIM CSJMETA'!J172,CHAR(10),\"Trimestre 3\",CHAR(10),'GESTION_SEG_3_TRIM CSJMETA'!J172),\" \")","v":"Trimestre 1\n\nTrimestre 2\n\nTrimestre 3\n"},{"$f":"IFERROR(_xlfn.CONCAT(\"Trimestre 1\",CHAR(10),'GESTION_SEG_1_TRIM CSJMETA'!K172,CHAR(10),\"Trimestre 2\",CHAR(10),'GESTION_SEG_2_TRIM CSJMETA'!K172,CHAR(10),\"Trimestre 3\",CHAR(10),'GESTION_SEG_3_TRIM CSJMETA'!K172),\" \")","v":"Trimestre 1\n\nTrimestre 2\n\nTrimestre 3\n"}]
[null,null,null,null,null,null,null,null,null,null,null,null,null,null,null,{"$f":"IFERROR(MAX('GESTION_SEG_1_TRIM CSJMETA'!H173,'GESTION_SEG_2_TRIM CSJMETA'!H173,'GESTION_SEG_3_TRIM CSJMETA'!H173),\" \")","v":0},"",{"$f":"IFERROR(_xlfn.CONCAT(\"Trimestre 1\",CHAR(10),'GESTION_SEG_1_TRIM CSJMETA'!J173,CHAR(10),\"Trimestre 2\",CHAR(10),'GESTION_SEG_2_TRIM CSJMETA'!J173,CHAR(10),\"Trimestre 3\",CHAR(10),'GESTION_SEG_3_TRIM CSJMETA'!J173),\" \")","v":"Trimestre 1\n\nTrimestre 2\n\nTrimestre 3\n"},{"$f":"IFERROR(_xlfn.CONCAT(\"Trimestre 1\",CHAR(10),'GESTION_SEG_1_TRIM CSJMETA'!K173,CHAR(10),\"Trimestre 2\",CHAR(10),'GESTION_SEG_2_TRIM CSJMETA'!K173,CHAR(10),\"Trimestre 3\",CHAR(10),'GESTION_SEG_3_TRIM CSJMETA'!K173),\" \")","v":"Trimestre 1\n\nTrimestre 2\n\nTrimestre 3\n"}]
[null,null,null,null,null,null,null,null,null,null,null,null,null,null,null,{"$f":"IFERROR(MAX('GESTION_SEG_1_TRIM CSJMETA'!H174,'GESTION_SEG_2_TRIM CSJMETA'!H174,'GESTION_SEG_3_TRIM CSJMETA'!H174),\" \")","v":0},"",{"$f":"IFERROR(_xlfn.CONCAT(\"Trimestre 1\",CHAR(10),'GESTION_SEG_1_TRIM CSJMETA'!J174,CHAR(10),\"Trimestre 2\",CHAR(10),'GESTION_SEG_2_TRIM CSJMETA'!J174,CHAR(10),\"Trimestre 3\",CHAR(10),'GESTION_SEG_3_TRIM CSJMETA'!J174),\" \")","v":"Trimestre 1\n\nTrimestre 2\n\nTrimestre 3\n"},{"$f":"IFERROR(_xlfn.CONCAT(\"Trimestre 1\",CHAR(10),'GESTION_SEG_1_TRIM CSJMETA'!K174,CHAR(10),\"Trimestre 2\",CHAR(10),'GESTION_SEG_2_TRIM CSJMETA'!K174,CHAR(10),\"Trimestre 3\",CHAR(10),'GESTION_SEG_3_TRIM CSJMETA'!K174),\" \")","v":"Trimestre 1\n\nTrimestre 2\n\nTrimestre 3\n"}]
[null,null,null,null,null,null,null,null,null,null,null,null,null,null,null,{"$f":"IFERROR(MAX('GESTION_SEG_1_TRIM CSJMETA'!H175,'GESTION_SEG_2_TRIM CSJMETA'!H175,'GESTION_SEG_3_TRIM CSJMETA'!H175),\" \")","v":0},"",{"$f":"IFERROR(_xlfn.CONCAT(\"Trimestre 1\",CHAR(10),'GESTION_SEG_1_TRIM CSJMETA'!J175,CHAR(10),\"Trimestre 2\",CHAR(10),'GESTION_SEG_2_TRIM CSJMETA'!J175,CHAR(10),\"Trimestre 3\",CHAR(10),'GESTION_SEG_3_TRIM CSJMETA'!J175),\" \")","v":"Trimestre 1\n\nTrimestre 2\n\nTrimestre 3\n"},{"$f":"IFERROR(_xlfn.CONCAT(\"Trimestre 1\",CHAR(10),'GESTION_SEG_1_TRIM CSJMETA'!K175,CHAR(10),\"Trimestre 2\",CHAR(10),'GESTION_SEG_2_TRIM CSJMETA'!K175,CHAR(10),\"Trimestre 3\",CHAR(10),'GESTION_SEG_3_TRIM CSJMETA'!K175),\" \")","v":"Trimestre 1\n\nTrimestre 2\n\nTrimestre 3\n"}]
[null,null,"7. Continuar la consolidación del SIGCMA, a través de los procesos de formación en modelos de gestión, logrando la implementación y ampliación de este en los esquemas certificados de manera gradual, teniendo en cuenta las capacidades de los diferentes despachos judiciales y dependencias de la Rama Judicial y articulando el enfoque de Arquitectura Empresarial para el desarrollo del PETD a través de la gestión del conocimiento para la gestión del cambio propendiendo por una cultura de la calidad, la transparencia, la rendición de cuentas, la anticorrupción y el antisoborno","1. Gestionar el desarrollo de las competencias, la toma de conciencia , la cultura  organizacional  y el compromiso de los  servidores judiciales, contratistas, practicantes y  judicantes de contribuir a generar valor público en la administración de justicia, en el marco de  cumplimiento de los requisitos  aplicables y el comportamiento ético.\n4. Hacer un uso racional de los recursos naturales aplicando los principios y fases de la Economía Circular, para prevenir, mitigar y controlar los impactos ambientales.",null,null,null,null,null,null,null,null,null,null,null,{"$f":"IFERROR(MAX('GESTION_SEG_1_TRIM CSJMETA'!H176,'GESTION_SEG_2_TRIM CSJMETA'!H176,'GESTION_SEG_3_TRIM CSJMETA'!H176),\" \")","v":0},"",{"$f":"IFERROR(_xlfn.CONCAT(\"Trimestre 1\",CHAR(10),'GESTION_SEG_1_TRIM CSJMETA'!J176,CHAR(10),\"Trimestre 2\",CHAR(10),'GESTION_SEG_2_TRIM CSJMETA'!J176,CHAR(10),\"Trimestre 3\",CHAR(10),'GESTION_SEG_3_TRIM CSJMETA'!J176),\" \")","v":"Trimestre 1\n\nTrimestre 2\n\nTrimestre 3\n"},{"$f":"IFERROR(_xlfn.CONCAT(\"Trimestre 1\",CHAR(10),'GESTION_SEG_1_TRIM CSJMETA'!K176,CHAR(10),\"Trimestre 2\",CHAR(10),'GESTION_SEG_2_TRIM CSJMETA'!K176,CHAR(10),\"Trimestre 3\",CHAR(10),'GESTION_SEG_3_TRIM CSJMETA'!K176),\" \")","v":"Trimestre 1\n\nTrimestre 2\n\nTrimestre 3\n"}]
[null,null,null,null,"Misionales","Admin - Administración de la Carrera Judicial","Seccional","Desarrollar labor pedagógica y de control para obtener oportunamente de los tribunales y jueces de instancia  las fichas de calidad para  consolidar el factor  calidad.","Entregable",null,null,"Líder del proceso","Informe - Cuadro de control","2023-01-01","2023-12-31",{"$f":"IFERROR(MAX('GESTION_SEG_1_TRIM CSJMETA'!H177,'GESTION_SEG_2_TRIM CSJMETA'!H177,'GESTION_SEG_3_TRIM CSJMETA'!H177),\" \")","v":0},null,{"$f":"IFERROR(_xlfn.CONCAT(\"Trimestre 1\",CHAR(10),'GESTION_SEG_1_TRIM CSJMETA'!J177,CHAR(10),\"Trimestre 2\",CHAR(10),'GESTION_SEG_2_TRIM CSJMETA'!J177,CHAR(10),\"Trimestre 3\",CHAR(10),'GESTION_SEG_3_TRIM CSJMETA'!J177),\" \")","v":"Trimestre 1\n\nTrimestre 2\n\nTrimestre 3\nNo se han presentado"},{"$f":"IFERROR(_xlfn.CONCAT(\"Trimestre 1\",CHAR(10),'GESTION_SEG_1_TRIM CSJMETA'!K177,CHAR(10),\"Trimestre 2\",CHAR(10),'GESTION_SEG_2_TRIM CSJMETA'!K177,CHAR(10),\"Trimestre 3\",CHAR(10),'GESTION_SEG_3_TRIM CSJMETA'!K177),\" \")","v":"Trimestre 1\n\nPara el primer trimestre de 2023, el Consejo Seccional de la Judicatura del Meta, dio cumplimiento  al  98,00%, se implemento  acompañamiento durante y posterior al período de reporte, para el primer trimestre la UDAE amplió el plazo de reporte hasta el 12 de abril de 2023, debido al cambio de formatos en todas las especialidades.\nTrimestre 2\nDe conformidad con lo dispuesto por esta Seccional y dando cumplimiento a los artículos 28 y 29 del Acuerdo PSAA16-10618, se inicia  la complementacion del mínimo de formatos de evaluación para la consolidación del puntaje correspondiente al factor calidad de la calificación de servicios del año 2022,   por lo anterior  se solicita listado de procesos para que sean objeto de evaluación ante el superior \nTrimestre 3\nEl el tercer trimestre , se recopilo información  que se tendra como insumo   en el consolidado  de calificacion de sercivicios de los servidores de este Distrito\n"}]
[null,null,null,null,"Misionales","Admin - Administración de la Carrera Judicial","Seccional","Realizar las calificaciones de servicios de los servidores judiciales ","Entregable",null,null,"Líder del proceso","Informe - Cuadro de control","2023-01-01","2023-12-31",{"$f":"IFERROR(MAX('GESTION_SEG_1_TRIM CSJMETA'!H178,'GESTION_SEG_2_TRIM CSJMETA'!H178,'GESTION_SEG_3_TRIM CSJMETA'!H178),\" \")","v":0},null,{"$f":"IFERROR(_xlfn.CONCAT(\"Trimestre 1\",CHAR(10),'GESTION_SEG_1_TRIM CSJMETA'!J178,CHAR(10),\"Trimestre 2\",CHAR(10),'GESTION_SEG_2_TRIM CSJMETA'!J178,CHAR(10),\"Trimestre 3\",CHAR(10),'GESTION_SEG_3_TRIM CSJMETA'!J178),\" \")","v":"Trimestre 1\n\nTrimestre 2\n\nTrimestre 3\nNo se han presentado"},{"$f":"IFERROR(_xlfn.CONCAT(\"Trimestre 1\",CHAR(10),'GESTION_SEG_1_TRIM CSJMETA'!K178,CHAR(10),\"Trimestre 2\",CHAR(10),'GESTION_SEG_2_TRIM CSJMETA'!K178,CHAR(10),\"Trimestre 3\",CHAR(10),'GESTION_SEG_3_TRIM CSJMETA'!K178),\" \")","v":"Trimestre 1\nEn el primer trimestre se  expidico  circular CSJCIR23-06, requerimientos reglamentarios respecto al deber del suministro de información por parte de los superiores funcionales y calificados\npara la consolidación de los tres (3) factores necesarios que comprende la calificación\nintegral de servicios de los jueces de este Distrito Judicial.\nTrimestre 2\nSe realiza  Visita de factor Organizacion de Trabajo  en los despachos judiciales. \nTrimestre 3\nEn el tercer  trimestre de 2023, se dio atención a la totalidad de solicitudes del estalafón relacionadas con inscripción, exclusión y actualización, logrando un avance en el cumplimiento de 100%  de 18 solicitudes recibidas al 30 deseptiembre hogaño"}]
[null,null,null,null,"Misionales","Admin - Administración de la Carrera Judicial","Seccional","Registrar y actualizar las novedades de la seccional en el aplicativo de escalafón.","Entregable",null,null,"Líder del proceso","Cuadro de control","2023-01-01","2023-12-31",{"$f":"IFERROR(MAX('GESTION_SEG_1_TRIM CSJMETA'!H179,'GESTION_SEG_2_TRIM CSJMETA'!H179,'GESTION_SEG_3_TRIM CSJMETA'!H179),\" \")","v":0},null,{"$f":"IFERROR(_xlfn.CONCAT(\"Trimestre 1\",CHAR(10),'GESTION_SEG_1_TRIM CSJMETA'!J179,CHAR(10),\"Trimestre 2\",CHAR(10),'GESTION_SEG_2_TRIM CSJMETA'!J179,CHAR(10),\"Trimestre 3\",CHAR(10),'GESTION_SEG_3_TRIM CSJMETA'!J179),\" \")","v":"Trimestre 1\n\nTrimestre 2\n\nTrimestre 3\nNo se han presentado"},{"$f":"IFERROR(_xlfn.CONCAT(\"Trimestre 1\",CHAR(10),'GESTION_SEG_1_TRIM CSJMETA'!K179,CHAR(10),\"Trimestre 2\",CHAR(10),'GESTION_SEG_2_TRIM CSJMETA'!K179,CHAR(10),\"Trimestre 3\",CHAR(10),'GESTION_SEG_3_TRIM CSJMETA'!K179),\" \")","v":"Trimestre 1\nEn el primer trimestre de 2023, se dio atención a la totalidad de solicitudes de escalafón relacionados con inscripción, exclusión y actualización, logrando un avance en el cumplimiento de 100% \nTrimestre 2\nEn el Segundo trimestre de 2023, se dio atención a la totalidad de solicitudes del estalafón relacionadas con inscripción, exclusión y actualización, logrando un avance en el cumplimiento de 100% de 6 solicitudes recibidas al 30 de junio hogaño\nTrimestre 3\nEn el tercer  trimestre de 2023,   fueron  notificados y publicados  oportunamente  en el micrositio  de la pagina web ramaJudicial  diseñada para este distrito 35  Acuerdos de lista de elegibles"}]
[null,null,null,null,"Misionales","Admin - Administración de la Carrera Judicial","Seccional","Actualización mensual del registro de elegibles y opciones de sedes de la Convocatoria No. 4","Entregable",null,null,"Líder del proceso","Informe - Cuadro de control","2023-01-01","2023-12-31",{"$f":"IFERROR(MAX('GESTION_SEG_1_TRIM CSJMETA'!H180,'GESTION_SEG_2_TRIM CSJMETA'!H180,'GESTION_SEG_3_TRIM CSJMETA'!H180),\" \")","v":0},null,{"$f":"IFERROR(_xlfn.CONCAT(\"Trimestre 1\",CHAR(10),'GESTION_SEG_1_TRIM CSJMETA'!J180,CHAR(10),\"Trimestre 2\",CHAR(10),'GESTION_SEG_2_TRIM CSJMETA'!J180,CHAR(10),\"Trimestre 3\",CHAR(10),'GESTION_SEG_3_TRIM CSJMETA'!J180),\" \")","v":"Trimestre 1\n\nTrimestre 2\n\nTrimestre 3\nNo se han presentado"},{"$f":"IFERROR(_xlfn.CONCAT(\"Trimestre 1\",CHAR(10),'GESTION_SEG_1_TRIM CSJMETA'!K180,CHAR(10),\"Trimestre 2\",CHAR(10),'GESTION_SEG_2_TRIM CSJMETA'!K180,CHAR(10),\"Trimestre 3\",CHAR(10),'GESTION_SEG_3_TRIM CSJMETA'!K180),\" \")","v":"Trimestre 1\nEn el primer trimestre de 2023, se dio atención a la totalidad de novedades del estalafón relacionadas con inscripción, exclusión y actualización, logrando un avance en el cumplimiento de 100% \nTrimestre 2\nEn el segundo trimestre de 2023, se dio atención a la totalidad de novedades del estalafón relacionadas con inscripción, exclusión y actualización, logrando un avance en el cumplimiento de 100% \nTrimestre 3\nEl seguimineto se realiza mensualmente y la actualizacion cada vez  que se presente novedades,  en el tercer trimestre  se  presentaron actualizacion  al Escalfon Seccional "}]
[null,null,null,null,"Misionales","Admin - Administración de la Carrera Judicial","Seccional","Supervisión del reporte oportuno de vacantes que deberán ser provistas por el sistema de carrera judicial","Entregable",null,null,"Líder del proceso","Cuadro de control","2023-01-01","2023-12-31",{"$f":"IFERROR(MAX('GESTION_SEG_1_TRIM CSJMETA'!H181,'GESTION_SEG_2_TRIM CSJMETA'!H181,'GESTION_SEG_3_TRIM CSJMETA'!H181),\" \")","v":0},null,{"$f":"IFERROR(_xlfn.CONCAT(\"Trimestre 1\",CHAR(10),'GESTION_SEG_1_TRIM CSJMETA'!J181,CHAR(10),\"Trimestre 2\",CHAR(10),'GESTION_SEG_2_TRIM CSJMETA'!J181,CHAR(10),\"Trimestre 3\",CHAR(10),'GESTION_SEG_3_TRIM CSJMETA'!J181),\" \")","v":"Trimestre 1\n\nTrimestre 2\n\nTrimestre 3\nNo se han presentado"},{"$f":"IFERROR(_xlfn.CONCAT(\"Trimestre 1\",CHAR(10),'GESTION_SEG_1_TRIM CSJMETA'!K181,CHAR(10),\"Trimestre 2\",CHAR(10),'GESTION_SEG_2_TRIM CSJMETA'!K181,CHAR(10),\"Trimestre 3\",CHAR(10),'GESTION_SEG_3_TRIM CSJMETA'!K181),\" \")","v":"Trimestre 1\nEn el primer trimestre de 2023, se adelantaron los respectivos escalafones, cuya mayor cantidad de actos administrativos se dieron con la inscripción en el escalafón seccional, en especial como resultado de la Convocatoria No. 4.\nTrimestre 2\nSe realiza  verificación  conforme a la planta de personal apoyandonos en nomina, y se actualiza el cuadro de control. \nTrimestre 3\n"}]
[null,null,null,null,null,null,null,null,null,null,null,null,null,null,null,{"$f":"IFERROR(MAX('GESTION_SEG_1_TRIM CSJMETA'!H182,'GESTION_SEG_2_TRIM CSJMETA'!H182,'GESTION_SEG_3_TRIM CSJMETA'!H182),\" \")","v":0},"",{"$f":"IFERROR(_xlfn.CONCAT(\"Trimestre 1\",CHAR(10),'GESTION_SEG_1_TRIM CSJMETA'!J182,CHAR(10),\"Trimestre 2\",CHAR(10),'GESTION_SEG_2_TRIM CSJMETA'!J182,CHAR(10),\"Trimestre 3\",CHAR(10),'GESTION_SEG_3_TRIM CSJMETA'!J182),\" \")","v":"Trimestre 1\n\nTrimestre 2\n\nTrimestre 3\n"},{"$f":"IFERROR(_xlfn.CONCAT(\"Trimestre 1\",CHAR(10),'GESTION_SEG_1_TRIM CSJMETA'!K182,CHAR(10),\"Trimestre 2\",CHAR(10),'GESTION_SEG_2_TRIM CSJMETA'!K182,CHAR(10),\"Trimestre 3\",CHAR(10),'GESTION_SEG_3_TRIM CSJMETA'!K182),\" \")","v":"Trimestre 1\n\nTrimestre 2\n\nTrimestre 3\n"}]
[null,null,null,null,null,null,null,null,null,null,null,null,null,null,null,{"$f":"IFERROR(MAX('GESTION_SEG_1_TRIM CSJMETA'!H183,'GESTION_SEG_2_TRIM CSJMETA'!H183,'GESTION_SEG_3_TRIM CSJMETA'!H183),\" \")","v":0},"",{"$f":"IFERROR(_xlfn.CONCAT(\"Trimestre 1\",CHAR(10),'GESTION_SEG_1_TRIM CSJMETA'!J183,CHAR(10),\"Trimestre 2\",CHAR(10),'GESTION_SEG_2_TRIM CSJMETA'!J183,CHAR(10),\"Trimestre 3\",CHAR(10),'GESTION_SEG_3_TRIM CSJMETA'!J183),\" \")","v":"Trimestre 1\n\nTrimestre 2\n\nTrimestre 3\n"},{"$f":"IFERROR(_xlfn.CONCAT(\"Trimestre 1\",CHAR(10),'GESTION_SEG_1_TRIM CSJMETA'!K183,CHAR(10),\"Trimestre 2\",CHAR(10),'GESTION_SEG_2_TRIM CSJMETA'!K183,CHAR(10),\"Trimestre 3\",CHAR(10),'GESTION_SEG_3_TRIM CSJMETA'!K183),\" \")","v":"Trimestre 1\n\nTrimestre 2\n\nTrimestre 3\n"}]
[null,null,null,null,null,null,null,null,null,null,null,null,null,null,null,{"$f":"IFERROR(MAX('GESTION_SEG_1_TRIM CSJMETA'!H184,'GESTION_SEG_2_TRIM CSJMETA'!H184,'GESTION_SEG_3_TRIM CSJMETA'!H184),\" \")","v":0},"",{"$f":"IFERROR(_xlfn.CONCAT(\"Trimestre 1\",CHAR(10),'GESTION_SEG_1_TRIM CSJMETA'!J184,CHAR(10),\"Trimestre 2\",CHAR(10),'GESTION_SEG_2_TRIM CSJMETA'!J184,CHAR(10),\"Trimestre 3\",CHAR(10),'GESTION_SEG_3_TRIM CSJMETA'!J184),\" \")","v":"Trimestre 1\n\nTrimestre 2\n\nTrimestre 3\n"},{"$f":"IFERROR(_xlfn.CONCAT(\"Trimestre 1\",CHAR(10),'GESTION_SEG_1_TRIM CSJMETA'!K184,CHAR(10),\"Trimestre 2\",CHAR(10),'GESTION_SEG_2_TRIM CSJMETA'!K184,CHAR(10),\"Trimestre 3\",CHAR(10),'GESTION_SEG_3_TRIM CSJMETA'!K184),\" \")","v":"Trimestre 1\n\nTrimestre 2\n\nTrimestre 3\n"}]
[null,null,null,null,null,null,null,null,null,null,null,null,null,null,null,{"$f":"IFERROR(MAX('GESTION_SEG_1_TRIM CSJMETA'!H185,'GESTION_SEG_2_TRIM CSJMETA'!H185,'GESTION_SEG_3_TRIM CSJMETA'!H185),\" \")","v":0},"",{"$f":"IFERROR(_xlfn.CONCAT(\"Trimestre 1\",CHAR(10),'GESTION_SEG_1_TRIM CSJMETA'!J185,CHAR(10),\"Trimestre 2\",CHAR(10),'GESTION_SEG_2_TRIM CSJMETA'!J185,CHAR(10),\"Trimestre 3\",CHAR(10),'GESTION_SEG_3_TRIM CSJMETA'!J185),\" \")","v":"Trimestre 1\n\nTrimestre 2\n\nTrimestre 3\n"},{"$f":"IFERROR(_xlfn.CONCAT(\"Trimestre 1\",CHAR(10),'GESTION_SEG_1_TRIM CSJMETA'!K185,CHAR(10),\"Trimestre 2\",CHAR(10),'GESTION_SEG_2_TRIM CSJMETA'!K185,CHAR(10),\"Trimestre 3\",CHAR(10),'GESTION_SEG_3_TRIM CSJMETA'!K185),\" \")","v":"Trimestre 1\n\nTrimestre 2\n\nTrimestre 3\n"}]
["4. Talento Humano","Talento Humano: Fortalecer el talento humano en la Rama Judicial para que sea eficiente, capacitado y realice su labor en ambientes saludables y seguros. Ampliar la cobertura de la carrera judicial y mejorar la oferta de formación, que esté disponible para todos los servidores judiciales e impacte positivamente el servicio de justicia y responda a las necesidades reales del ejercicio de la función judicial.","1. Ampliar la cobertura de la carrera judicial optimizando los procesos de los concursos de méritos y propender por mitigar su litigiosidad.","1. Gestionar el desarrollo de las competencias, la toma de conciencia , la cultura  organizacional  y el compromiso de los  servidores judiciales, contratistas, practicantes y  judicantes de contribuir a generar valor público en la administración de justicia, en el marco de  cumplimiento de los requisitos  aplicables y el comportamiento ético.",null,null,null,null,null,null,null,null,null,null,null,{"$f":"IFERROR(MAX('GESTION_SEG_1_TRIM CSJMETA'!H186,'GESTION_SEG_2_TRIM CSJMETA'!H186,'GESTION_SEG_3_TRIM CSJMETA'!H186),\" \")","v":0},"",{"$f":"IFERROR(_xlfn.CONCAT(\"Trimestre 1\",CHAR(10),'GESTION_SEG_1_TRIM CSJMETA'!J186,CHAR(10),\"Trimestre 2\",CHAR(10),'GESTION_SEG_2_TRIM CSJMETA'!J186,CHAR(10),\"Trimestre 3\",CHAR(10),'GESTION_SEG_3_TRIM CSJMETA'!J186),\" \")","v":"Trimestre 1\n\nTrimestre 2\n\nTrimestre 3\n"},{"$f":"IFERROR(_xlfn.CONCAT(\"Trimestre 1\",CHAR(10),'GESTION_SEG_1_TRIM CSJMETA'!K186,CHAR(10),\"Trimestre 2\",CHAR(10),'GESTION_SEG_2_TRIM CSJMETA'!K186,CHAR(10),\"Trimestre 3\",CHAR(10),'GESTION_SEG_3_TRIM CSJMETA'!K186),\" \")","v":"Trimestre 1\n\nTrimestre 2\n\nTrimestre 3\n"}]
[null,null,null,null,null,null,null,null,null,null,null,null,null,null,null,{"$f":"IFERROR(MAX('GESTION_SEG_1_TRIM CSJMETA'!H187,'GESTION_SEG_2_TRIM CSJMETA'!H187,'GESTION_SEG_3_TRIM CSJMETA'!H187),\" \")","v":0},"",{"$f":"IFERROR(_xlfn.CONCAT(\"Trimestre 1\",CHAR(10),'GESTION_SEG_1_TRIM CSJMETA'!J187,CHAR(10),\"Trimestre 2\",CHAR(10),'GESTION_SEG_2_TRIM CSJMETA'!J187,CHAR(10),\"Trimestre 3\",CHAR(10),'GESTION_SEG_3_TRIM CSJMETA'!J187),\" \")","v":"Trimestre 1\n\nTrimestre 2\n\nTrimestre 3\n"},{"$f":"IFERROR(_xlfn.CONCAT(\"Trimestre 1\",CHAR(10),'GESTION_SEG_1_TRIM CSJMETA'!K187,CHAR(10),\"Trimestre 2\",CHAR(10),'GESTION_SEG_2_TRIM CSJMETA'!K187,CHAR(10),\"Trimestre 3\",CHAR(10),'GESTION_SEG_3_TRIM CSJMETA'!K187),\" \")","v":"Trimestre 1\n\nTrimestre 2\n\nTrimestre 3\n"}]
[null,null,null,null,"Misionales","Admin - Gestión de la Formación Judicial","Seccional","Difundir y divulgar la oferta académica","Entregable",null,null,"Líder del proceso","Correos electrónicos","2023-01-01","2023-12-31",{"$f":"IFERROR(MAX('GESTION_SEG_1_TRIM CSJMETA'!H188,'GESTION_SEG_2_TRIM CSJMETA'!H188,'GESTION_SEG_3_TRIM CSJMETA'!H188),\" \")","v":0},null,{"$f":"IFERROR(_xlfn.CONCAT(\"Trimestre 1\",CHAR(10),'GESTION_SEG_1_TRIM CSJMETA'!J188,CHAR(10),\"Trimestre 2\",CHAR(10),'GESTION_SEG_2_TRIM CSJMETA'!J188,CHAR(10),\"Trimestre 3\",CHAR(10),'GESTION_SEG_3_TRIM CSJMETA'!J188),\" \")","v":"Trimestre 1\nNo se ha presentado\nTrimestre 2\nNo se ha presentado\nTrimestre 3\nNo se han presentado"},{"$f":"IFERROR(_xlfn.CONCAT(\"Trimestre 1\",CHAR(10),'GESTION_SEG_1_TRIM CSJMETA'!K188,CHAR(10),\"Trimestre 2\",CHAR(10),'GESTION_SEG_2_TRIM CSJMETA'!K188,CHAR(10),\"Trimestre 3\",CHAR(10),'GESTION_SEG_3_TRIM CSJMETA'!K188),\" \")","v":"Trimestre 1\nEn el primer trimestre se han divulgado todas las actividades programadas por la Escuela Judicial Rodrigo Lara Bonilla\nTrimestre 2\nEn el segundo trimestre se han divulgado todas las actividades programadas por la Escuela Judicial Rodrigo Lara Bonilla\nTrimestre 3\nEn el tercer trimestre se han divulgado a través de los correos electrónicos institucionales a todas las dependencias judiciales y administrativas de los Distritos Judiciales de Villavicencio, San José del Guaviare y Administrativo del Meta, las actividades programadas por la Escuela Judicial Rodrigo Lara Bonilla, para un total de 13 convocatorias."}]
[null,null,null,null,"Misionales","Admin - Gestión de la Formación Judicial","Seccional","Realizar reuniones con el Grupo Seccional de Apoyo","Entregable",null,null,"Líder del proceso","Actas de reunión","2023-01-01","2023-12-31",{"$f":"IFERROR(MAX('GESTION_SEG_1_TRIM CSJMETA'!H189,'GESTION_SEG_2_TRIM CSJMETA'!H189,'GESTION_SEG_3_TRIM CSJMETA'!H189),\" \")","v":0},null,{"$f":"IFERROR(_xlfn.CONCAT(\"Trimestre 1\",CHAR(10),'GESTION_SEG_1_TRIM CSJMETA'!J189,CHAR(10),\"Trimestre 2\",CHAR(10),'GESTION_SEG_2_TRIM CSJMETA'!J189,CHAR(10),\"Trimestre 3\",CHAR(10),'GESTION_SEG_3_TRIM CSJMETA'!J189),\" \")","v":"Trimestre 1\nNo se ha presentado\nTrimestre 2\nNo se ha presentado\nTrimestre 3\nNo se han presentado"},{"$f":"IFERROR(_xlfn.CONCAT(\"Trimestre 1\",CHAR(10),'GESTION_SEG_1_TRIM CSJMETA'!K189,CHAR(10),\"Trimestre 2\",CHAR(10),'GESTION_SEG_2_TRIM CSJMETA'!K189,CHAR(10),\"Trimestre 3\",CHAR(10),'GESTION_SEG_3_TRIM CSJMETA'!K189),\" \")","v":"Trimestre 1\nEn el primer trimestre se llevaron a cabo las 3 reuniones mensuales correspondientes a enero, febrero y marzo de 2023\nTrimestre 2\nEn el segundo trimestre se llevaron a cabo las 3 reuniones mensuales correspondientes a abril, mayo y junio de 2023\nTrimestre 3\nEn el tercer trimestre se llevaron a cabo las reuniones mensuales correspondientes a julio y agosto de 2023, toda vez que en el mes de septiembre de 2023, la misma no se realizó debido a que fue programada la Auditoria externa de ICONTEC, para el Consejo Seccional de la Judicatura del Meta, la Dirección Seccional de Administración Judicial de Villavicencio y las Salas Penal, Civil Familia y Laboral del Tribunal Superior de Villavicencio, aunado a que el Presidente del Grupo Seccional se encontraba en vacaciones, de lo cual se dejó la respectiva constancia para el seguimiento. "}]
[null,null,null,null,null,null,null,null,null,null,null,null,null,null,null,{"$f":"IFERROR(MAX('GESTION_SEG_1_TRIM CSJMETA'!H190,'GESTION_SEG_2_TRIM CSJMETA'!H190,'GESTION_SEG_3_TRIM CSJMETA'!H190),\" \")","v":0},null,{"$f":"IFERROR(_xlfn.CONCAT(\"Trimestre 1\",CHAR(10),'GESTION_SEG_1_TRIM CSJMETA'!J190,CHAR(10),\"Trimestre 2\",CHAR(10),'GESTION_SEG_2_TRIM CSJMETA'!J190,CHAR(10),\"Trimestre 3\",CHAR(10),'GESTION_SEG_3_TRIM CSJMETA'!J190),\" \")","v":"Trimestre 1\n\nTrimestre 2\n\nTrimestre 3\n"},{"$f":"IFERROR(_xlfn.CONCAT(\"Trimestre 1\",CHAR(10),'GESTION_SEG_1_TRIM CSJMETA'!K190,CHAR(10),\"Trimestre 2\",CHAR(10),'GESTION_SEG_2_TRIM CSJMETA'!K190,CHAR(10),\"Trimestre 3\",CHAR(10),'GESTION_SEG_3_TRIM CSJMETA'!K190),\" \")","v":"Trimestre 1\n\nTrimestre 2\n\nTrimestre 3\n"}]
[null,null,null,null,null,null,null,null,null,null,null,null,null,null,null,{"$f":"IFERROR(MAX('GESTION_SEG_1_TRIM CSJMETA'!H191,'GESTION_SEG_2_TRIM CSJMETA'!H191,'GESTION_SEG_3_TRIM CSJMETA'!H191),\" \")","v":0},null,{"$f":"IFERROR(_xlfn.CONCAT(\"Trimestre 1\",CHAR(10),'GESTION_SEG_1_TRIM CSJMETA'!J191,CHAR(10),\"Trimestre 2\",CHAR(10),'GESTION_SEG_2_TRIM CSJMETA'!J191,CHAR(10),\"Trimestre 3\",CHAR(10),'GESTION_SEG_3_TRIM CSJMETA'!J191),\" \")","v":"Trimestre 1\n\nTrimestre 2\n\nTrimestre 3\n"},{"$f":"IFERROR(_xlfn.CONCAT(\"Trimestre 1\",CHAR(10),'GESTION_SEG_1_TRIM CSJMETA'!K191,CHAR(10),\"Trimestre 2\",CHAR(10),'GESTION_SEG_2_TRIM CSJMETA'!K191,CHAR(10),\"Trimestre 3\",CHAR(10),'GESTION_SEG_3_TRIM CSJMETA'!K191),\" \")","v":"Trimestre 1\n\nTrimestre 2\n\nTrimestre 3\n"}]
[null,null,null,null,null,null,null,null,null,null,null,null,null,null,null,{"$f":"IFERROR(MAX('GESTION_SEG_1_TRIM CSJMETA'!H192,'GESTION_SEG_2_TRIM CSJMETA'!H192,'GESTION_SEG_3_TRIM CSJMETA'!H192),\" \")","v":0},null,{"$f":"IFERROR(_xlfn.CONCAT(\"Trimestre 1\",CHAR(10),'GESTION_SEG_1_TRIM CSJMETA'!J192,CHAR(10),\"Trimestre 2\",CHAR(10),'GESTION_SEG_2_TRIM CSJMETA'!J192,CHAR(10),\"Trimestre 3\",CHAR(10),'GESTION_SEG_3_TRIM CSJMETA'!J192),\" \")","v":"Trimestre 1\n\nTrimestre 2\n\nTrimestre 3\n"},{"$f":"IFERROR(_xlfn.CONCAT(\"Trimestre 1\",CHAR(10),'GESTION_SEG_1_TRIM CSJMETA'!K192,CHAR(10),\"Trimestre 2\",CHAR(10),'GESTION_SEG_2_TRIM CSJMETA'!K192,CHAR(10),\"Trimestre 3\",CHAR(10),'GESTION_SEG_3_TRIM CSJMETA'!K192),\" \")","v":"Trimestre 1\n\nTrimestre 2\n\nTrimestre 3\n"}]
[null,null,null,null,null,null,null,null,null,null,null,null,null,null,null,{"$f":"IFERROR(MAX('GESTION_SEG_1_TRIM CSJMETA'!H193,'GESTION_SEG_2_TRIM CSJMETA'!H193,'GESTION_SEG_3_TRIM CSJMETA'!H193),\" \")","v":0},"",{"$f":"IFERROR(_xlfn.CONCAT(\"Trimestre 1\",CHAR(10),'GESTION_SEG_1_TRIM CSJMETA'!J193,CHAR(10),\"Trimestre 2\",CHAR(10),'GESTION_SEG_2_TRIM CSJMETA'!J193,CHAR(10),\"Trimestre 3\",CHAR(10),'GESTION_SEG_3_TRIM CSJMETA'!J193),\" \")","v":"Trimestre 1\n\nTrimestre 2\n\nTrimestre 3\n"},{"$f":"IFERROR(_xlfn.CONCAT(\"Trimestre 1\",CHAR(10),'GESTION_SEG_1_TRIM CSJMETA'!K193,CHAR(10),\"Trimestre 2\",CHAR(10),'GESTION_SEG_2_TRIM CSJMETA'!K193,CHAR(10),\"Trimestre 3\",CHAR(10),'GESTION_SEG_3_TRIM CSJMETA'!K193),\" \")","v":"Trimestre 1\n\nTrimestre 2\n\nTrimestre 3\n"}]
[null,null,null,null,null,null,null,null,null,null,null,null,null,null,null,{"$f":"IFERROR(MAX('GESTION_SEG_1_TRIM CSJMETA'!H194,'GESTION_SEG_2_TRIM CSJMETA'!H194,'GESTION_SEG_3_TRIM CSJMETA'!H194),\" \")","v":0},"",{"$f":"IFERROR(_xlfn.CONCAT(\"Trimestre 1\",CHAR(10),'GESTION_SEG_1_TRIM CSJMETA'!J194,CHAR(10),\"Trimestre 2\",CHAR(10),'GESTION_SEG_2_TRIM CSJMETA'!J194,CHAR(10),\"Trimestre 3\",CHAR(10),'GESTION_SEG_3_TRIM CSJMETA'!J194),\" \")","v":"Trimestre 1\n\nTrimestre 2\n\nTrimestre 3\n"},{"$f":"IFERROR(_xlfn.CONCAT(\"Trimestre 1\",CHAR(10),'GESTION_SEG_1_TRIM CSJMETA'!K194,CHAR(10),\"Trimestre 2\",CHAR(10),'GESTION_SEG_2_TRIM CSJMETA'!K194,CHAR(10),\"Trimestre 3\",CHAR(10),'GESTION_SEG_3_TRIM CSJMETA'!K194),\" \")","v":"Trimestre 1\n\nTrimestre 2\n\nTrimestre 3\n"}]
[null,null,null,null,null,null,null,null,null,null,null,null,null,null,null,{"$f":"IFERROR(MAX('GESTION_SEG_1_TRIM CSJMETA'!H195,'GESTION_SEG_2_TRIM CSJMETA'!H195,'GESTION_SEG_3_TRIM CSJMETA'!H195),\" \")","v":0},"",{"$f":"IFERROR(_xlfn.CONCAT(\"Trimestre 1\",CHAR(10),'GESTION_SEG_1_TRIM CSJMETA'!J195,CHAR(10),\"Trimestre 2\",CHAR(10),'GESTION_SEG_2_TRIM CSJMETA'!J195,CHAR(10),\"Trimestre 3\",CHAR(10),'GESTION_SEG_3_TRIM CSJMETA'!J195),\" \")","v":"Trimestre 1\n\nTrimestre 2\n\nTrimestre 3\n"},{"$f":"IFERROR(_xlfn.CONCAT(\"Trimestre 1\",CHAR(10),'GESTION_SEG_1_TRIM CSJMETA'!K195,CHAR(10),\"Trimestre 2\",CHAR(10),'GESTION_SEG_2_TRIM CSJMETA'!K195,CHAR(10),\"Trimestre 3\",CHAR(10),'GESTION_SEG_3_TRIM CSJMETA'!K195),\" \")","v":"Trimestre 1\n\nTrimestre 2\n\nTrimestre 3\n"}]
[null,null,"2. Impactar la función y servicios que presta la Rama Judicial, a través de una formación integral desde una visión de gestión del conocimiento, relacionada con los problemas de la justicia y los problemas de gestión de quienes administran los recursos de la justicia, y potenciando el uso de medios virtuales.",null,null,null,null,null,null,null,null,null,null,null,null,{"$f":"IFERROR(MAX('GESTION_SEG_1_TRIM CSJMETA'!H196,'GESTION_SEG_2_TRIM CSJMETA'!H196,'GESTION_SEG_3_TRIM CSJMETA'!H196),\" \")","v":0},"",{"$f":"IFERROR(_xlfn.CONCAT(\"Trimestre 1\",CHAR(10),'GESTION_SEG_1_TRIM CSJMETA'!J196,CHAR(10),\"Trimestre 2\",CHAR(10),'GESTION_SEG_2_TRIM CSJMETA'!J196,CHAR(10),\"Trimestre 3\",CHAR(10),'GESTION_SEG_3_TRIM CSJMETA'!J196),\" \")","v":"Trimestre 1\n\nTrimestre 2\n\nTrimestre 3\n"},{"$f":"IFERROR(_xlfn.CONCAT(\"Trimestre 1\",CHAR(10),'GESTION_SEG_1_TRIM CSJMETA'!K196,CHAR(10),\"Trimestre 2\",CHAR(10),'GESTION_SEG_2_TRIM CSJMETA'!K196,CHAR(10),\"Trimestre 3\",CHAR(10),'GESTION_SEG_3_TRIM CSJMETA'!K196),\" \")","v":"Trimestre 1\n\nTrimestre 2\n\nTrimestre 3\n"}]
[null,null,null,null,null,null,null,null,null,null,null,null,null,null,null,{"$f":"IFERROR(MAX('GESTION_SEG_1_TRIM CSJMETA'!H197,'GESTION_SEG_2_TRIM CSJMETA'!H197,'GESTION_SEG_3_TRIM CSJMETA'!H197),\" \")","v":0},{"$f":"IFERROR(P197/J197,\"\")","v":""},{"$f":"IFERROR(_xlfn.CONCAT(\"Trimestre 1\",CHAR(10),'GESTION_SEG_1_TRIM CSJMETA'!J197,CHAR(10),\"Trimestre 2\",CHAR(10),'GESTION_SEG_2_TRIM CSJMETA'!J197,CHAR(10),\"Trimestre 3\",CHAR(10),'GESTION_SEG_3_TRIM CSJMETA'!J197),\" \")","v":"Trimestre 1\n\nTrimestre 2\n\nTrimestre 3\n"},{"$f":"IFERROR(_xlfn.CONCAT(\"Trimestre 1\",CHAR(10),'GESTION_SEG_1_TRIM CSJMETA'!K197,CHAR(10),\"Trimestre 2\",CHAR(10),'GESTION_SEG_2_TRIM CSJMETA'!K197,CHAR(10),\"Trimestre 3\",CHAR(10),'GESTION_SEG_3_TRIM CSJMETA'!K197),\" \")","v":"Trimestre 1\n\nTrimestre 2\n\nTrimestre 3\n"}]
[null,null,null,null,null,null,null,null,null,null,null,null,null,null,null,{"$f":"IFERROR(MAX('GESTION_SEG_1_TRIM CSJMETA'!H198,'GESTION_SEG_2_TRIM CSJMETA'!H198,'GESTION_SEG_3_TRIM CSJMETA'!H198),\" \")","v":0},null,{"$f":"IFERROR(_xlfn.CONCAT(\"Trimestre 1\",CHAR(10),'GESTION_SEG_1_TRIM CSJMETA'!J198,CHAR(10),\"Trimestre 2\",CHAR(10),'GESTION_SEG_2_TRIM CSJMETA'!J198,CHAR(10),\"Trimestre 3\",CHAR(10),'GESTION_SEG_3_TRIM CSJMETA'!J198),\" \")","v":"Trimestre 1\n\nTrimestre 2\n\nTrimestre 3\n"},{"$f":"IFERROR(_xlfn.CONCAT(\"Trimestre 1\",CHAR(10),'GESTION_SEG_1_TRIM CSJMETA'!K198,CHAR(10),\"Trimestre 2\",CHAR(10),'GESTION_SEG_2_TRIM CSJMETA'!K198,CHAR(10),\"Trimestre 3\",CHAR(10),'GESTION_SEG_3_TRIM CSJMETA'!K198),\" \")","v":"Trimestre 1\n\nTrimestre 2\n\nTrimestre 3\n"}]
[null,null,null,null,null,null,null,null,null,null,null,null,null,null,null,{"$f":"IFERROR(MAX('GESTION_SEG_1_TRIM CSJMETA'!H199,'GESTION_SEG_2_TRIM CSJMETA'!H199,'GESTION_SEG_3_TRIM CSJMETA'!H199),\" \")","v":0},null,{"$f":"IFERROR(_xlfn.CONCAT(\"Trimestre 1\",CHAR(10),'GESTION_SEG_1_TRIM CSJMETA'!J199,CHAR(10),\"Trimestre 2\",CHAR(10),'GESTION_SEG_2_TRIM CSJMETA'!J199,CHAR(10),\"Trimestre 3\",CHAR(10),'GESTION_SEG_3_TRIM CSJMETA'!J199),\" \")","v":"Trimestre 1\n\nTrimestre 2\n\nTrimestre 3\n"},{"$f":"IFERROR(_xlfn.CONCAT(\"Trimestre 1\",CHAR(10),'GESTION_SEG_1_TRIM CSJMETA'!K199,CHAR(10),\"Trimestre 2\",CHAR(10),'GESTION_SEG_2_TRIM CSJMETA'!K199,CHAR(10),\"Trimestre 3\",CHAR(10),'GESTION_SEG_3_TRIM CSJMETA'!K199),\" \")","v":"Trimestre 1\n\nTrimestre 2\n\nTrimestre 3\n"}]
[null,null,null,null,null,null,null,null,null,null,null,null,null,null,null,{"$f":"IFERROR(MAX('GESTION_SEG_1_TRIM CSJMETA'!H200,'GESTION_SEG_2_TRIM CSJMETA'!H200,'GESTION_SEG_3_TRIM CSJMETA'!H200),\" \")","v":0},null,{"$f":"IFERROR(_xlfn.CONCAT(\"Trimestre 1\",CHAR(10),'GESTION_SEG_1_TRIM CSJMETA'!J200,CHAR(10),\"Trimestre 2\",CHAR(10),'GESTION_SEG_2_TRIM CSJMETA'!J200,CHAR(10),\"Trimestre 3\",CHAR(10),'GESTION_SEG_3_TRIM CSJMETA'!J200),\" \")","v":"Trimestre 1\n\nTrimestre 2\n\nTrimestre 3\n"},{"$f":"IFERROR(_xlfn.CONCAT(\"Trimestre 1\",CHAR(10),'GESTION_SEG_1_TRIM CSJMETA'!K200,CHAR(10),\"Trimestre 2\",CHAR(10),'GESTION_SEG_2_TRIM CSJMETA'!K200,CHAR(10),\"Trimestre 3\",CHAR(10),'GESTION_SEG_3_TRIM CSJMETA'!K200),\" \")","v":"Trimestre 1\n\nTrimestre 2\n\nTrimestre 3\n"}]
[null,null,null,null,null,null,null,null,null,null,null,null,null,null,null,{"$f":"IFERROR(MAX('GESTION_SEG_1_TRIM CSJMETA'!H201,'GESTION_SEG_2_TRIM CSJMETA'!H201,'GESTION_SEG_3_TRIM CSJMETA'!H201),\" \")","v":0},null,{"$f":"IFERROR(_xlfn.CONCAT(\"Trimestre 1\",CHAR(10),'GESTION_SEG_1_TRIM CSJMETA'!J201,CHAR(10),\"Trimestre 2\",CHAR(10),'GESTION_SEG_2_TRIM CSJMETA'!J201,CHAR(10),\"Trimestre 3\",CHAR(10),'GESTION_SEG_3_TRIM CSJMETA'!J201),\" \")","v":"Trimestre 1\n\nTrimestre 2\n\nTrimestre 3\n"},{"$f":"IFERROR(_xlfn.CONCAT(\"Trimestre 1\",CHAR(10),'GESTION_SEG_1_TRIM CSJMETA'!K201,CHAR(10),\"Trimestre 2\",CHAR(10),'GESTION_SEG_2_TRIM CSJMETA'!K201,CHAR(10),\"Trimestre 3\",CHAR(10),'GESTION_SEG_3_TRIM CSJMETA'!K201),\" \")","v":"Trimestre 1\n\nTrimestre 2\n\nTrimestre 3\n"}]
[null,null,null,null,null,null,null,null,null,null,null,null,null,null,null,{"$f":"IFERROR(MAX('GESTION_SEG_1_TRIM CSJMETA'!H202,'GESTION_SEG_2_TRIM CSJMETA'!H202,'GESTION_SEG_3_TRIM CSJMETA'!H202),\" \")","v":0},null,{"$f":"IFERROR(_xlfn.CONCAT(\"Trimestre 1\",CHAR(10),'GESTION_SEG_1_TRIM CSJMETA'!J202,CHAR(10),\"Trimestre 2\",CHAR(10),'GESTION_SEG_2_TRIM CSJMETA'!J202,CHAR(10),\"Trimestre 3\",CHAR(10),'GESTION_SEG_3_TRIM CSJMETA'!J202),\" \")","v":"Trimestre 1\n\nTrimestre 2\n\nTrimestre 3\n"},{"$f":"IFERROR(_xlfn.CONCAT(\"Trimestre 1\",CHAR(10),'GESTION_SEG_1_TRIM CSJMETA'!K202,CHAR(10),\"Trimestre 2\",CHAR(10),'GESTION_SEG_2_TRIM CSJMETA'!K202,CHAR(10),\"Trimestre 3\",CHAR(10),'GESTION_SEG_3_TRIM CSJMETA'!K202),\" \")","v":"Trimestre 1\n\nTrimestre 2\n\nTrimestre 3\n"}]
[null,null,null,null,null,null,null,null,null,null,null,null,null,null,null,{"$f":"IFERROR(MAX('GESTION_SEG_1_TRIM CSJMETA'!H203,'GESTION_SEG_2_TRIM CSJMETA'!H203,'GESTION_SEG_3_TRIM CSJMETA'!H203),\" \")","v":0},"",{"$f":"IFERROR(_xlfn.CONCAT(\"Trimestre 1\",CHAR(10),'GESTION_SEG_1_TRIM CSJMETA'!J203,CHAR(10),\"Trimestre 2\",CHAR(10),'GESTION_SEG_2_TRIM CSJMETA'!J203,CHAR(10),\"Trimestre 3\",CHAR(10),'GESTION_SEG_3_TRIM CSJMETA'!J203),\" \")","v":"Trimestre 1\n\nTrimestre 2\n\nTrimestre 3\n"},{"$f":"IFERROR(_xlfn.CONCAT(\"Trimestre 1\",CHAR(10),'GESTION_SEG_1_TRIM CSJMETA'!K203,CHAR(10),\"Trimestre 2\",CHAR(10),'GESTION_SEG_2_TRIM CSJMETA'!K203,CHAR(10),\"Trimestre 3\",CHAR(10),'GESTION_SEG_3_TRIM CSJMETA'!K203),\" \")","v":"Trimestre 1\n\nTrimestre 2\n\nTrimestre 3\n"}]
[null,null,null,null,null,null,null,null,null,null,null,null,null,null,null,{"$f":"IFERROR(MAX('GESTION_SEG_1_TRIM CSJMETA'!H204,'GESTION_SEG_2_TRIM CSJMETA'!H204,'GESTION_SEG_3_TRIM CSJMETA'!H204),\" \")","v":0},"",{"$f":"IFERROR(_xlfn.CONCAT(\"Trimestre 1\",CHAR(10),'GESTION_SEG_1_TRIM CSJMETA'!J204,CHAR(10),\"Trimestre 2\",CHAR(10),'GESTION_SEG_2_TRIM CSJMETA'!J204,CHAR(10),\"Trimestre 3\",CHAR(10),'GESTION_SEG_3_TRIM CSJMETA'!J204),\" \")","v":"Trimestre 1\n\nTrimestre 2\n\nTrimestre 3\n"},{"$f":"IFERROR(_xlfn.CONCAT(\"Trimestre 1\",CHAR(10),'GESTION_SEG_1_TRIM CSJMETA'!K204,CHAR(10),\"Trimestre 2\",CHAR(10),'GESTION_SEG_2_TRIM CSJMETA'!K204,CHAR(10),\"Trimestre 3\",CHAR(10),'GESTION_SEG_3_TRIM CSJMETA'!K204),\" \")","v":"Trimestre 1\n\nTrimestre 2\n\nTrimestre 3\n"}]
[null,null,null,null,null,null,null,null,null,null,null,null,null,null,null,{"$f":"IFERROR(MAX('GESTION_SEG_1_TRIM CSJMETA'!H205,'GESTION_SEG_2_TRIM CSJMETA'!H205,'GESTION_SEG_3_TRIM CSJMETA'!H205),\" \")","v":0},"",{"$f":"IFERROR(_xlfn.CONCAT(\"Trimestre 1\",CHAR(10),'GESTION_SEG_1_TRIM CSJMETA'!J205,CHAR(10),\"Trimestre 2\",CHAR(10),'GESTION_SEG_2_TRIM CSJMETA'!J205,CHAR(10),\"Trimestre 3\",CHAR(10),'GESTION_SEG_3_TRIM CSJMETA'!J205),\" \")","v":"Trimestre 1\n\nTrimestre 2\n\nTrimestre 3\n"},{"$f":"IFERROR(_xlfn.CONCAT(\"Trimestre 1\",CHAR(10),'GESTION_SEG_1_TRIM CSJMETA'!K205,CHAR(10),\"Trimestre 2\",CHAR(10),'GESTION_SEG_2_TRIM CSJMETA'!K205,CHAR(10),\"Trimestre 3\",CHAR(10),'GESTION_SEG_3_TRIM CSJMETA'!K205),\" \")","v":"Trimestre 1\n\nTrimestre 2\n\nTrimestre 3\n"}]
[null,null,"3. Promover la incorporación de la perspectiva de género y el enfoque diferencial en los fallos judiciales y en la atención a los ciudadanos, la administración de la Rama Judicial, la administración de la carrera judicial y la elaboración de listas para altas Cortes. ",null,null,null,null,null,null,null,null,null,null,null,null,{"$f":"IFERROR(MAX('GESTION_SEG_1_TRIM CSJMETA'!H206,'GESTION_SEG_2_TRIM CSJMETA'!H206,'GESTION_SEG_3_TRIM CSJMETA'!H206),\" \")","v":0},"",{"$f":"IFERROR(_xlfn.CONCAT(\"Trimestre 1\",CHAR(10),'GESTION_SEG_1_TRIM CSJMETA'!J206,CHAR(10),\"Trimestre 2\",CHAR(10),'GESTION_SEG_2_TRIM CSJMETA'!J206,CHAR(10),\"Trimestre 3\",CHAR(10),'GESTION_SEG_3_TRIM CSJMETA'!J206),\" \")","v":"Trimestre 1\n\nTrimestre 2\n\nTrimestre 3\n"},{"$f":"IFERROR(_xlfn.CONCAT(\"Trimestre 1\",CHAR(10),'GESTION_SEG_1_TRIM CSJMETA'!K206,CHAR(10),\"Trimestre 2\",CHAR(10),'GESTION_SEG_2_TRIM CSJMETA'!K206,CHAR(10),\"Trimestre 3\",CHAR(10),'GESTION_SEG_3_TRIM CSJMETA'!K206),\" \")","v":"Trimestre 1\n\nTrimestre 2\n\nTrimestre 3\n"}]
[null,null,null,null,null,null,null,null,null,null,null,null,null,null,null,{"$f":"IFERROR(MAX('GESTION_SEG_1_TRIM CSJMETA'!H207,'GESTION_SEG_2_TRIM CSJMETA'!H207,'GESTION_SEG_3_TRIM CSJMETA'!H207),\" \")","v":0},"",{"$f":"IFERROR(_xlfn.CONCAT(\"Trimestre 1\",CHAR(10),'GESTION_SEG_1_TRIM CSJMETA'!J207,CHAR(10),\"Trimestre 2\",CHAR(10),'GESTION_SEG_2_TRIM CSJMETA'!J207,CHAR(10),\"Trimestre 3\",CHAR(10),'GESTION_SEG_3_TRIM CSJMETA'!J207),\" \")","v":"Trimestre 1\n\nTrimestre 2\n\nTrimestre 3\n"},{"$f":"IFERROR(_xlfn.CONCAT(\"Trimestre 1\",CHAR(10),'GESTION_SEG_1_TRIM CSJMETA'!K207,CHAR(10),\"Trimestre 2\",CHAR(10),'GESTION_SEG_2_TRIM CSJMETA'!K207,CHAR(10),\"Trimestre 3\",CHAR(10),'GESTION_SEG_3_TRIM CSJMETA'!K207),\" \")","v":"Trimestre 1\n\nTrimestre 2\n\nTrimestre 3\n"}]
[null,null,null,null,null,null,null,null,null,null,null,null,null,null,null,{"$f":"IFERROR(MAX('GESTION_SEG_1_TRIM CSJMETA'!H208,'GESTION_SEG_2_TRIM CSJMETA'!H208,'GESTION_SEG_3_TRIM CSJMETA'!H208),\" \")","v":0},null,{"$f":"IFERROR(_xlfn.CONCAT(\"Trimestre 1\",CHAR(10),'GESTION_SEG_1_TRIM CSJMETA'!J208,CHAR(10),\"Trimestre 2\",CHAR(10),'GESTION_SEG_2_TRIM CSJMETA'!J208,CHAR(10),\"Trimestre 3\",CHAR(10),'GESTION_SEG_3_TRIM CSJMETA'!J208),\" \")","v":"Trimestre 1\n\nTrimestre 2\n\nTrimestre 3\n"},{"$f":"IFERROR(_xlfn.CONCAT(\"Trimestre 1\",CHAR(10),'GESTION_SEG_1_TRIM CSJMETA'!K208,CHAR(10),\"Trimestre 2\",CHAR(10),'GESTION_SEG_2_TRIM CSJMETA'!K208,CHAR(10),\"Trimestre 3\",CHAR(10),'GESTION_SEG_3_TRIM CSJMETA'!K208),\" \")","v":"Trimestre 1\n\nTrimestre 2\n\nTrimestre 3\n"}]
[null,null,null,null,null,null,null,null,null,null,null,null,null,null,null,{"$f":"IFERROR(MAX('GESTION_SEG_1_TRIM CSJMETA'!H209,'GESTION_SEG_2_TRIM CSJMETA'!H209,'GESTION_SEG_3_TRIM CSJMETA'!H209),\" \")","v":0},null,{"$f":"IFERROR(_xlfn.CONCAT(\"Trimestre 1\",CHAR(10),'GESTION_SEG_1_TRIM CSJMETA'!J209,CHAR(10),\"Trimestre 2\",CHAR(10),'GESTION_SEG_2_TRIM CSJMETA'!J209,CHAR(10),\"Trimestre 3\",CHAR(10),'GESTION_SEG_3_TRIM CSJMETA'!J209),\" \")","v":"Trimestre 1\n\nTrimestre 2\n\nTrimestre 3\n"},{"$f":"IFERROR(_xlfn.CONCAT(\"Trimestre 1\",CHAR(10),'GESTION_SEG_1_TRIM CSJMETA'!K209,CHAR(10),\"Trimestre 2\",CHAR(10),'GESTION_SEG_2_TRIM CSJMETA'!K209,CHAR(10),\"Trimestre 3\",CHAR(10),'GESTION_SEG_3_TRIM CSJMETA'!K209),\" \")","v":"Trimestre 1\n\nTrimestre 2\n\nTrimestre 3\n"}]
[null,null,null,null,null,null,null,null,null,null,null,null,null,null,null,{"$f":"IFERROR(MAX('GESTION_SEG_1_TRIM CSJMETA'!H210,'GESTION_SEG_2_TRIM CSJMETA'!H210,'GESTION_SEG_3_TRIM CSJMETA'!H210),\" \")","v":0},null,{"$f":"IFERROR(_xlfn.CONCAT(\"Trimestre 1\",CHAR(10),'GESTION_SEG_1_TRIM CSJMETA'!J210,CHAR(10),\"Trimestre 2\",CHAR(10),'GESTION_SEG_2_TRIM CSJMETA'!J210,CHAR(10),\"Trimestre 3\",CHAR(10),'GESTION_SEG_3_TRIM CSJMETA'!J210),\" \")","v":"Trimestre 1\n\nTrimestre 2\n\nTrimestre 3\n"},{"$f":"IFERROR(_xlfn.CONCAT(\"Trimestre 1\",CHAR(10),'GESTION_SEG_1_TRIM CSJMETA'!K210,CHAR(10),\"Trimestre 2\",CHAR(10),'GESTION_SEG_2_TRIM CSJMETA'!K210,CHAR(10),\"Trimestre 3\",CHAR(10),'GESTION_SEG_3_TRIM CSJMETA'!K210),\" \")","v":"Trimestre 1\n\nTrimestre 2\n\nTrimestre 3\n"}]
[null,null,null,null,null,null,null,null,null,null,null,null,null,null,null,{"$f":"IFERROR(MAX('GESTION_SEG_1_TRIM CSJMETA'!H211,'GESTION_SEG_2_TRIM CSJMETA'!H211,'GESTION_SEG_3_TRIM CSJMETA'!H211),\" \")","v":0},null,{"$f":"IFERROR(_xlfn.CONCAT(\"Trimestre 1\",CHAR(10),'GESTION_SEG_1_TRIM CSJMETA'!J211,CHAR(10),\"Trimestre 2\",CHAR(10),'GESTION_SEG_2_TRIM CSJMETA'!J211,CHAR(10),\"Trimestre 3\",CHAR(10),'GESTION_SEG_3_TRIM CSJMETA'!J211),\" \")","v":"Trimestre 1\n\nTrimestre 2\n\nTrimestre 3\n"},{"$f":"IFERROR(_xlfn.CONCAT(\"Trimestre 1\",CHAR(10),'GESTION_SEG_1_TRIM CSJMETA'!K211,CHAR(10),\"Trimestre 2\",CHAR(10),'GESTION_SEG_2_TRIM CSJMETA'!K211,CHAR(10),\"Trimestre 3\",CHAR(10),'GESTION_SEG_3_TRIM CSJMETA'!K211),\" \")","v":"Trimestre 1\n\nTrimestre 2\n\nTrimestre 3\n"}]
[null,null,null,null,null,null,null,null,null,null,null,null,null,null,null,{"$f":"IFERROR(MAX('GESTION_SEG_1_TRIM CSJMETA'!H212,'GESTION_SEG_2_TRIM CSJMETA'!H212,'GESTION_SEG_3_TRIM CSJMETA'!H212),\" \")","v":0},null,{"$f":"IFERROR(_xlfn.CONCAT(\"Trimestre 1\",CHAR(10),'GESTION_SEG_1_TRIM CSJMETA'!J212,CHAR(10),\"Trimestre 2\",CHAR(10),'GESTION_SEG_2_TRIM CSJMETA'!J212,CHAR(10),\"Trimestre 3\",CHAR(10),'GESTION_SEG_3_TRIM CSJMETA'!J212),\" \")","v":"Trimestre 1\n\nTrimestre 2\n\nTrimestre 3\n"},{"$f":"IFERROR(_xlfn.CONCAT(\"Trimestre 1\",CHAR(10),'GESTION_SEG_1_TRIM CSJMETA'!K212,CHAR(10),\"Trimestre 2\",CHAR(10),'GESTION_SEG_2_TRIM CSJMETA'!K212,CHAR(10),\"Trimestre 3\",CHAR(10),'GESTION_SEG_3_TRIM CSJMETA'!K212),\" \")","v":"Trimestre 1\n\nTrimestre 2\n\nTrimestre 3\n"}]
[null,null,null,null,null,null,null,null,null,null,null,null,null,null,null,{"$f":"IFERROR(MAX('GESTION_SEG_1_TRIM CSJMETA'!H213,'GESTION_SEG_2_TRIM CSJMETA'!H213,'GESTION_SEG_3_TRIM CSJMETA'!H213),\" \")","v":0},"",{"$f":"IFERROR(_xlfn.CONCAT(\"Trimestre 1\",CHAR(10),'GESTION_SEG_1_TRIM CSJMETA'!J213,CHAR(10),\"Trimestre 2\",CHAR(10),'GESTION_SEG_2_TRIM CSJMETA'!J213,CHAR(10),\"Trimestre 3\",CHAR(10),'GESTION_SEG_3_TRIM CSJMETA'!J213),\" \")","v":"Trimestre 1\n\nTrimestre 2\n\nTrimestre 3\n"},{"$f":"IFERROR(_xlfn.CONCAT(\"Trimestre 1\",CHAR(10),'GESTION_SEG_1_TRIM CSJMETA'!K213,CHAR(10),\"Trimestre 2\",CHAR(10),'GESTION_SEG_2_TRIM CSJMETA'!K213,CHAR(10),\"Trimestre 3\",CHAR(10),'GESTION_SEG_3_TRIM CSJMETA'!K213),\" \")","v":"Trimestre 1\n\nTrimestre 2\n\nTrimestre 3\n"}]
[null,null,null,null,null,null,null,null,null,null,null,null,null,null,null,{"$f":"IFERROR(MAX('GESTION_SEG_1_TRIM CSJMETA'!H214,'GESTION_SEG_2_TRIM CSJMETA'!H214,'GESTION_SEG_3_TRIM CSJMETA'!H214),\" \")","v":0},"",{"$f":"IFERROR(_xlfn.CONCAT(\"Trimestre 1\",CHAR(10),'GESTION_SEG_1_TRIM CSJMETA'!J214,CHAR(10),\"Trimestre 2\",CHAR(10),'GESTION_SEG_2_TRIM CSJMETA'!J214,CHAR(10),\"Trimestre 3\",CHAR(10),'GESTION_SEG_3_TRIM CSJMETA'!J214),\" \")","v":"Trimestre 1\n\nTrimestre 2\n\nTrimestre 3\n"},{"$f":"IFERROR(_xlfn.CONCAT(\"Trimestre 1\",CHAR(10),'GESTION_SEG_1_TRIM CSJMETA'!K214,CHAR(10),\"Trimestre 2\",CHAR(10),'GESTION_SEG_2_TRIM CSJMETA'!K214,CHAR(10),\"Trimestre 3\",CHAR(10),'GESTION_SEG_3_TRIM CSJMETA'!K214),\" \")","v":"Trimestre 1\n\nTrimestre 2\n\nTrimestre 3\n"}]
[null,null,null,null,null,null,null,null,null,null,null,null,null,null,null,{"$f":"IFERROR(MAX('GESTION_SEG_1_TRIM CSJMETA'!H215,'GESTION_SEG_2_TRIM CSJMETA'!H215,'GESTION_SEG_3_TRIM CSJMETA'!H215),\" \")","v":0},"",{"$f":"IFERROR(_xlfn.CONCAT(\"Trimestre 1\",CHAR(10),'GESTION_SEG_1_TRIM CSJMETA'!J215,CHAR(10),\"Trimestre 2\",CHAR(10),'GESTION_SEG_2_TRIM CSJMETA'!J215,CHAR(10),\"Trimestre 3\",CHAR(10),'GESTION_SEG_3_TRIM CSJMETA'!J215),\" \")","v":"Trimestre 1\n\nTrimestre 2\n\nTrimestre 3\n"},{"$f":"IFERROR(_xlfn.CONCAT(\"Trimestre 1\",CHAR(10),'GESTION_SEG_1_TRIM CSJMETA'!K215,CHAR(10),\"Trimestre 2\",CHAR(10),'GESTION_SEG_2_TRIM CSJMETA'!K215,CHAR(10),\"Trimestre 3\",CHAR(10),'GESTION_SEG_3_TRIM CSJMETA'!K215),\" \")","v":"Trimestre 1\n\nTrimestre 2\n\nTrimestre 3\n"}]
[null,null,"4. Desarrollar en los servidores judiciales y demás grupos de valor relevantes las competencias necesarias para la efectividad de la transformación digital de modo que puedan, entre otros, utilizar con solvencia las herramientas digitales dispuestas para sus respectivas funciones. Además, fortalecer y actualizar los conocimientos del personal a cargo de la gestión de proyectos de tecnología.",null,null,null,null,null,null,null,null,null,null,null,null,{"$f":"IFERROR(MAX('GESTION_SEG_1_TRIM CSJMETA'!H216,'GESTION_SEG_2_TRIM CSJMETA'!H216,'GESTION_SEG_3_TRIM CSJMETA'!H216),\" \")","v":0},"",{"$f":"IFERROR(_xlfn.CONCAT(\"Trimestre 1\",CHAR(10),'GESTION_SEG_1_TRIM CSJMETA'!J216,CHAR(10),\"Trimestre 2\",CHAR(10),'GESTION_SEG_2_TRIM CSJMETA'!J216,CHAR(10),\"Trimestre 3\",CHAR(10),'GESTION_SEG_3_TRIM CSJMETA'!J216),\" \")","v":"Trimestre 1\n\nTrimestre 2\n\nTrimestre 3\n"},{"$f":"IFERROR(_xlfn.CONCAT(\"Trimestre 1\",CHAR(10),'GESTION_SEG_1_TRIM CSJMETA'!K216,CHAR(10),\"Trimestre 2\",CHAR(10),'GESTION_SEG_2_TRIM CSJMETA'!K216,CHAR(10),\"Trimestre 3\",CHAR(10),'GESTION_SEG_3_TRIM CSJMETA'!K216),\" \")","v":"Trimestre 1\n\nTrimestre 2\n\nTrimestre 3\n"}]
[null,null,null,null,null,null,null,null,null,null,null,null,null,null,null,{"$f":"IFERROR(MAX('GESTION_SEG_1_TRIM CSJMETA'!H217,'GESTION_SEG_2_TRIM CSJMETA'!H217,'GESTION_SEG_3_TRIM CSJMETA'!H217),\" \")","v":0},"",{"$f":"IFERROR(_xlfn.CONCAT(\"Trimestre 1\",CHAR(10),'GESTION_SEG_1_TRIM CSJMETA'!J217,CHAR(10),\"Trimestre 2\",CHAR(10),'GESTION_SEG_2_TRIM CSJMETA'!J217,CHAR(10),\"Trimestre 3\",CHAR(10),'GESTION_SEG_3_TRIM CSJMETA'!J217),\" \")","v":"Trimestre 1\n\nTrimestre 2\n\nTrimestre 3\n"},{"$f":"IFERROR(_xlfn.CONCAT(\"Trimestre 1\",CHAR(10),'GESTION_SEG_1_TRIM CSJMETA'!K217,CHAR(10),\"Trimestre 2\",CHAR(10),'GESTION_SEG_2_TRIM CSJMETA'!K217,CHAR(10),\"Trimestre 3\",CHAR(10),'GESTION_SEG_3_TRIM CSJMETA'!K217),\" \")","v":"Trimestre 1\n\nTrimestre 2\n\nTrimestre 3\n"}]
[null,null,null,null,null,null,null,null,null,null,null,null,null,null,null,{"$f":"IFERROR(MAX('GESTION_SEG_1_TRIM CSJMETA'!H218,'GESTION_SEG_2_TRIM CSJMETA'!H218,'GESTION_SEG_3_TRIM CSJMETA'!H218),\" \")","v":0},null,{"$f":"IFERROR(_xlfn.CONCAT(\"Trimestre 1\",CHAR(10),'GESTION_SEG_1_TRIM CSJMETA'!J218,CHAR(10),\"Trimestre 2\",CHAR(10),'GESTION_SEG_2_TRIM CSJMETA'!J218,CHAR(10),\"Trimestre 3\",CHAR(10),'GESTION_SEG_3_TRIM CSJMETA'!J218),\" \")","v":"Trimestre 1\n\nTrimestre 2\n\nTrimestre 3\n"},{"$f":"IFERROR(_xlfn.CONCAT(\"Trimestre 1\",CHAR(10),'GESTION_SEG_1_TRIM CSJMETA'!K218,CHAR(10),\"Trimestre 2\",CHAR(10),'GESTION_SEG_2_TRIM CSJMETA'!K218,CHAR(10),\"Trimestre 3\",CHAR(10),'GESTION_SEG_3_TRIM CSJMETA'!K218),\" \")","v":"Trimestre 1\n\nTrimestre 2\n\nTrimestre 3\n"}]
[null,null,null,null,null,null,null,null,null,null,null,null,null,null,null,{"$f":"IFERROR(MAX('GESTION_SEG_1_TRIM CSJMETA'!H219,'GESTION_SEG_2_TRIM CSJMETA'!H219,'GESTION_SEG_3_TRIM CSJMETA'!H219),\" \")","v":0},null,{"$f":"IFERROR(_xlfn.CONCAT(\"Trimestre 1\",CHAR(10),'GESTION_SEG_1_TRIM CSJMETA'!J219,CHAR(10),\"Trimestre 2\",CHAR(10),'GESTION_SEG_2_TRIM CSJMETA'!J219,CHAR(10),\"Trimestre 3\",CHAR(10),'GESTION_SEG_3_TRIM CSJMETA'!J219),\" \")","v":"Trimestre 1\n\nTrimestre 2\n\nTrimestre 3\n"},{"$f":"IFERROR(_xlfn.CONCAT(\"Trimestre 1\",CHAR(10),'GESTION_SEG_1_TRIM CSJMETA'!K219,CHAR(10),\"Trimestre 2\",CHAR(10),'GESTION_SEG_2_TRIM CSJMETA'!K219,CHAR(10),\"Trimestre 3\",CHAR(10),'GESTION_SEG_3_TRIM CSJMETA'!K219),\" \")","v":"Trimestre 1\n\nTrimestre 2\n\nTrimestre 3\n"}]
[null,null,null,null,null,null,null,null,null,null,null,null,null,null,null,{"$f":"IFERROR(MAX('GESTION_SEG_1_TRIM CSJMETA'!H220,'GESTION_SEG_2_TRIM CSJMETA'!H220,'GESTION_SEG_3_TRIM CSJMETA'!H220),\" \")","v":0},null,{"$f":"IFERROR(_xlfn.CONCAT(\"Trimestre 1\",CHAR(10),'GESTION_SEG_1_TRIM CSJMETA'!J220,CHAR(10),\"Trimestre 2\",CHAR(10),'GESTION_SEG_2_TRIM CSJMETA'!J220,CHAR(10),\"Trimestre 3\",CHAR(10),'GESTION_SEG_3_TRIM CSJMETA'!J220),\" \")","v":"Trimestre 1\n\nTrimestre 2\n\nTrimestre 3\n"},{"$f":"IFERROR(_xlfn.CONCAT(\"Trimestre 1\",CHAR(10),'GESTION_SEG_1_TRIM CSJMETA'!K220,CHAR(10),\"Trimestre 2\",CHAR(10),'GESTION_SEG_2_TRIM CSJMETA'!K220,CHAR(10),\"Trimestre 3\",CHAR(10),'GESTION_SEG_3_TRIM CSJMETA'!K220),\" \")","v":"Trimestre 1\n\nTrimestre 2\n\nTrimestre 3\n"}]
[null,null,null,null,null,null,null,null,null,null,null,null,null,null,null,{"$f":"IFERROR(MAX('GESTION_SEG_1_TRIM CSJMETA'!H221,'GESTION_SEG_2_TRIM CSJMETA'!H221,'GESTION_SEG_3_TRIM CSJMETA'!H221),\" \")","v":0},null,{"$f":"IFERROR(_xlfn.CONCAT(\"Trimestre 1\",CHAR(10),'GESTION_SEG_1_TRIM CSJMETA'!J221,CHAR(10),\"Trimestre 2\",CHAR(10),'GESTION_SEG_2_TRIM CSJMETA'!J221,CHAR(10),\"Trimestre 3\",CHAR(10),'GESTION_SEG_3_TRIM CSJMETA'!J221),\" \")","v":"Trimestre 1\n\nTrimestre 2\n\nTrimestre 3\n"},{"$f":"IFERROR(_xlfn.CONCAT(\"Trimestre 1\",CHAR(10),'GESTION_SEG_1_TRIM CSJMETA'!K221,CHAR(10),\"Trimestre 2\",CHAR(10),'GESTION_SEG_2_TRIM CSJMETA'!K221,CHAR(10),\"Trimestre 3\",CHAR(10),'GESTION_SEG_3_TRIM CSJMETA'!K221),\" \")","v":"Trimestre 1\n\nTrimestre 2\n\nTrimestre 3\n"}]
[null,null,null,null,null,null,null,null,null,null,null,null,null,null,null,{"$f":"IFERROR(MAX('GESTION_SEG_1_TRIM CSJMETA'!H222,'GESTION_SEG_2_TRIM CSJMETA'!H222,'GESTION_SEG_3_TRIM CSJMETA'!H222),\" \")","v":0},null,{"$f":"IFERROR(_xlfn.CONCAT(\"Trimestre 1\",CHAR(10),'GESTION_SEG_1_TRIM CSJMETA'!J222,CHAR(10),\"Trimestre 2\",CHAR(10),'GESTION_SEG_2_TRIM CSJMETA'!J222,CHAR(10),\"Trimestre 3\",CHAR(10),'GESTION_SEG_3_TRIM CSJMETA'!J222),\" \")","v":"Trimestre 1\n\nTrimestre 2\n\nTrimestre 3\n"},{"$f":"IFERROR(_xlfn.CONCAT(\"Trimestre 1\",CHAR(10),'GESTION_SEG_1_TRIM CSJMETA'!K222,CHAR(10),\"Trimestre 2\",CHAR(10),'GESTION_SEG_2_TRIM CSJMETA'!K222,CHAR(10),\"Trimestre 3\",CHAR(10),'GESTION_SEG_3_TRIM CSJMETA'!K222),\" \")","v":"Trimestre 1\n\nTrimestre 2\n\nTrimestre 3\n"}]
[null,null,null,null,null,null,null,null,null,null,null,null,null,null,null,{"$f":"IFERROR(MAX('GESTION_SEG_1_TRIM CSJMETA'!H223,'GESTION_SEG_2_TRIM CSJMETA'!H223,'GESTION_SEG_3_TRIM CSJMETA'!H223),\" \")","v":0},"",{"$f":"IFERROR(_xlfn.CONCAT(\"Trimestre 1\",CHAR(10),'GESTION_SEG_1_TRIM CSJMETA'!J223,CHAR(10),\"Trimestre 2\",CHAR(10),'GESTION_SEG_2_TRIM CSJMETA'!J223,CHAR(10),\"Trimestre 3\",CHAR(10),'GESTION_SEG_3_TRIM CSJMETA'!J223),\" \")","v":"Trimestre 1\n\nTrimestre 2\n\nTrimestre 3\n"},{"$f":"IFERROR(_xlfn.CONCAT(\"Trimestre 1\",CHAR(10),'GESTION_SEG_1_TRIM CSJMETA'!K223,CHAR(10),\"Trimestre 2\",CHAR(10),'GESTION_SEG_2_TRIM CSJMETA'!K223,CHAR(10),\"Trimestre 3\",CHAR(10),'GESTION_SEG_3_TRIM CSJMETA'!K223),\" \")","v":"Trimestre 1\n\nTrimestre 2\n\nTrimestre 3\n"}]
[null,null,null,null,null,null,null,null,null,null,null,null,null,null,null,{"$f":"IFERROR(MAX('GESTION_SEG_1_TRIM CSJMETA'!H224,'GESTION_SEG_2_TRIM CSJMETA'!H224,'GESTION_SEG_3_TRIM CSJMETA'!H224),\" \")","v":0},"",{"$f":"IFERROR(_xlfn.CONCAT(\"Trimestre 1\",CHAR(10),'GESTION_SEG_1_TRIM CSJMETA'!J224,CHAR(10),\"Trimestre 2\",CHAR(10),'GESTION_SEG_2_TRIM CSJMETA'!J224,CHAR(10),\"Trimestre 3\",CHAR(10),'GESTION_SEG_3_TRIM CSJMETA'!J224),\" \")","v":"Trimestre 1\n\nTrimestre 2\n\nTrimestre 3\n"},{"$f":"IFERROR(_xlfn.CONCAT(\"Trimestre 1\",CHAR(10),'GESTION_SEG_1_TRIM CSJMETA'!K224,CHAR(10),\"Trimestre 2\",CHAR(10),'GESTION_SEG_2_TRIM CSJMETA'!K224,CHAR(10),\"Trimestre 3\",CHAR(10),'GESTION_SEG_3_TRIM CSJMETA'!K224),\" \")","v":"Trimestre 1\n\nTrimestre 2\n\nTrimestre 3\n"}]
[null,null,null,null,null,null,null,null,null,null,null,null,null,null,null,{"$f":"IFERROR(MAX('GESTION_SEG_1_TRIM CSJMETA'!H225,'GESTION_SEG_2_TRIM CSJMETA'!H225,'GESTION_SEG_3_TRIM CSJMETA'!H225),\" \")","v":0},"",{"$f":"IFERROR(_xlfn.CONCAT(\"Trimestre 1\",CHAR(10),'GESTION_SEG_1_TRIM CSJMETA'!J225,CHAR(10),\"Trimestre 2\",CHAR(10),'GESTION_SEG_2_TRIM CSJMETA'!J225,CHAR(10),\"Trimestre 3\",CHAR(10),'GESTION_SEG_3_TRIM CSJMETA'!J225),\" \")","v":"Trimestre 1\n\nTrimestre 2\n\nTrimestre 3\n"},{"$f":"IFERROR(_xlfn.CONCAT(\"Trimestre 1\",CHAR(10),'GESTION_SEG_1_TRIM CSJMETA'!K225,CHAR(10),\"Trimestre 2\",CHAR(10),'GESTION_SEG_2_TRIM CSJMETA'!K225,CHAR(10),\"Trimestre 3\",CHAR(10),'GESTION_SEG_3_TRIM CSJMETA'!K225),\" \")","v":"Trimestre 1\n\nTrimestre 2\n\nTrimestre 3\n"}]
[null,null,"5. Promover el bienestar de todos los servidores judiciales a través de la implementación de un sistema que contemple los diferentes niveles de estrategias y acciones necesarios para mejorar el clima laboral, la salud física y mental y la calidad del tiempo de descanso.","5. Generar espacios de trabajo seguros y saludables que contribuyan a minimizar los  incidentes, accidentes y enfermedades laborales derivados de las condiciones y actos  inseguros y fomentar  el autocuidado, los  estilos de vida y el trabajo saludable en los servidores judiciales, contratistas, judicantes y practicantes",null,null,null,null,null,null,null,null,null,null,null,{"$f":"IFERROR(MAX('GESTION_SEG_1_TRIM CSJMETA'!H226,'GESTION_SEG_2_TRIM CSJMETA'!H226,'GESTION_SEG_3_TRIM CSJMETA'!H226),\" \")","v":0},"",{"$f":"IFERROR(_xlfn.CONCAT(\"Trimestre 1\",CHAR(10),'GESTION_SEG_1_TRIM CSJMETA'!J226,CHAR(10),\"Trimestre 2\",CHAR(10),'GESTION_SEG_2_TRIM CSJMETA'!J226,CHAR(10),\"Trimestre 3\",CHAR(10),'GESTION_SEG_3_TRIM CSJMETA'!J226),\" \")","v":"Trimestre 1\n\nTrimestre 2\n\nTrimestre 3\n"},{"$f":"IFERROR(_xlfn.CONCAT(\"Trimestre 1\",CHAR(10),'GESTION_SEG_1_TRIM CSJMETA'!K226,CHAR(10),\"Trimestre 2\",CHAR(10),'GESTION_SEG_2_TRIM CSJMETA'!K226,CHAR(10),\"Trimestre 3\",CHAR(10),'GESTION_SEG_3_TRIM CSJMETA'!K226),\" \")","v":"Trimestre 1\n\nTrimestre 2\n\nTrimestre 3\n"}]
[null,null,null,null,null,null,null,null,null,null,null,null,null,null,null,{"$f":"IFERROR(MAX('GESTION_SEG_1_TRIM CSJMETA'!H227,'GESTION_SEG_2_TRIM CSJMETA'!H227,'GESTION_SEG_3_TRIM CSJMETA'!H227),\" \")","v":0},"",{"$f":"IFERROR(_xlfn.CONCAT(\"Trimestre 1\",CHAR(10),'GESTION_SEG_1_TRIM CSJMETA'!J227,CHAR(10),\"Trimestre 2\",CHAR(10),'GESTION_SEG_2_TRIM CSJMETA'!J227,CHAR(10),\"Trimestre 3\",CHAR(10),'GESTION_SEG_3_TRIM CSJMETA'!J227),\" \")","v":"Trimestre 1\n\nTrimestre 2\n\nTrimestre 3\n"},{"$f":"IFERROR(_xlfn.CONCAT(\"Trimestre 1\",CHAR(10),'GESTION_SEG_1_TRIM CSJMETA'!K227,CHAR(10),\"Trimestre 2\",CHAR(10),'GESTION_SEG_2_TRIM CSJMETA'!K227,CHAR(10),\"Trimestre 3\",CHAR(10),'GESTION_SEG_3_TRIM CSJMETA'!K227),\" \")","v":"Trimestre 1\n\nTrimestre 2\n\nTrimestre 3\n"}]
[null,null,null,null,null,null,null,null,null,null,null,null,null,null,null,{"$f":"IFERROR(MAX('GESTION_SEG_1_TRIM CSJMETA'!H228,'GESTION_SEG_2_TRIM CSJMETA'!H228,'GESTION_SEG_3_TRIM CSJMETA'!H228),\" \")","v":0},null,{"$f":"IFERROR(_xlfn.CONCAT(\"Trimestre 1\",CHAR(10),'GESTION_SEG_1_TRIM CSJMETA'!J228,CHAR(10),\"Trimestre 2\",CHAR(10),'GESTION_SEG_2_TRIM CSJMETA'!J228,CHAR(10),\"Trimestre 3\",CHAR(10),'GESTION_SEG_3_TRIM CSJMETA'!J228),\" \")","v":"Trimestre 1\n\nTrimestre 2\n\nTrimestre 3\n"},{"$f":"IFERROR(_xlfn.CONCAT(\"Trimestre 1\",CHAR(10),'GESTION_SEG_1_TRIM CSJMETA'!K228,CHAR(10),\"Trimestre 2\",CHAR(10),'GESTION_SEG_2_TRIM CSJMETA'!K228,CHAR(10),\"Trimestre 3\",CHAR(10),'GESTION_SEG_3_TRIM CSJMETA'!K228),\" \")","v":"Trimestre 1\n\nTrimestre 2\n\nTrimestre 3\n"}]
[null,null,null,null,null,null,null,null,null,null,null,null,null,null,null,{"$f":"IFERROR(MAX('GESTION_SEG_1_TRIM CSJMETA'!H229,'GESTION_SEG_2_TRIM CSJMETA'!H229,'GESTION_SEG_3_TRIM CSJMETA'!H229),\" \")","v":0},null,{"$f":"IFERROR(_xlfn.CONCAT(\"Trimestre 1\",CHAR(10),'GESTION_SEG_1_TRIM CSJMETA'!J229,CHAR(10),\"Trimestre 2\",CHAR(10),'GESTION_SEG_2_TRIM CSJMETA'!J229,CHAR(10),\"Trimestre 3\",CHAR(10),'GESTION_SEG_3_TRIM CSJMETA'!J229),\" \")","v":"Trimestre 1\n\nTrimestre 2\n\nTrimestre 3\n"},{"$f":"IFERROR(_xlfn.CONCAT(\"Trimestre 1\",CHAR(10),'GESTION_SEG_1_TRIM CSJMETA'!K229,CHAR(10),\"Trimestre 2\",CHAR(10),'GESTION_SEG_2_TRIM CSJMETA'!K229,CHAR(10),\"Trimestre 3\",CHAR(10),'GESTION_SEG_3_TRIM CSJMETA'!K229),\" \")","v":"Trimestre 1\n\nTrimestre 2\n\nTrimestre 3\n"}]
[null,null,null,null,null,null,null,null,null,null,null,null,null,null,null,{"$f":"IFERROR(MAX('GESTION_SEG_1_TRIM CSJMETA'!H230,'GESTION_SEG_2_TRIM CSJMETA'!H230,'GESTION_SEG_3_TRIM CSJMETA'!H230),\" \")","v":0},null,{"$f":"IFERROR(_xlfn.CONCAT(\"Trimestre 1\",CHAR(10),'GESTION_SEG_1_TRIM CSJMETA'!J230,CHAR(10),\"Trimestre 2\",CHAR(10),'GESTION_SEG_2_TRIM CSJMETA'!J230,CHAR(10),\"Trimestre 3\",CHAR(10),'GESTION_SEG_3_TRIM CSJMETA'!J230),\" \")","v":"Trimestre 1\n\nTrimestre 2\n\nTrimestre 3\n"},{"$f":"IFERROR(_xlfn.CONCAT(\"Trimestre 1\",CHAR(10),'GESTION_SEG_1_TRIM CSJMETA'!K230,CHAR(10),\"Trimestre 2\",CHAR(10),'GESTION_SEG_2_TRIM CSJMETA'!K230,CHAR(10),\"Trimestre 3\",CHAR(10),'GESTION_SEG_3_TRIM CSJMETA'!K230),\" \")","v":"Trimestre 1\n\nTrimestre 2\n\nTrimestre 3\n"}]
[null,null,null,null,null,null,null,null,null,null,null,null,null,null,null,{"$f":"IFERROR(MAX('GESTION_SEG_1_TRIM CSJMETA'!H231,'GESTION_SEG_2_TRIM CSJMETA'!H231,'GESTION_SEG_3_TRIM CSJMETA'!H231),\" \")","v":0},null,{"$f":"IFERROR(_xlfn.CONCAT(\"Trimestre 1\",CHAR(10),'GESTION_SEG_1_TRIM CSJMETA'!J231,CHAR(10),\"Trimestre 2\",CHAR(10),'GESTION_SEG_2_TRIM CSJMETA'!J231,CHAR(10),\"Trimestre 3\",CHAR(10),'GESTION_SEG_3_TRIM CSJMETA'!J231),\" \")","v":"Trimestre 1\n\nTrimestre 2\n\nTrimestre 3\n"},{"$f":"IFERROR(_xlfn.CONCAT(\"Trimestre 1\",CHAR(10),'GESTION_SEG_1_TRIM CSJMETA'!K231,CHAR(10),\"Trimestre 2\",CHAR(10),'GESTION_SEG_2_TRIM CSJMETA'!K231,CHAR(10),\"Trimestre 3\",CHAR(10),'GESTION_SEG_3_TRIM CSJMETA'!K231),\" \")","v":"Trimestre 1\n\nTrimestre 2\n\nTrimestre 3\n"}]
[null,null,null,null,null,null,null,null,null,null,null,null,null,null,null,{"$f":"IFERROR(MAX('GESTION_SEG_1_TRIM CSJMETA'!H232,'GESTION_SEG_2_TRIM CSJMETA'!H232,'GESTION_SEG_3_TRIM CSJMETA'!H232),\" \")","v":0},null,{"$f":"IFERROR(_xlfn.CONCAT(\"Trimestre 1\",CHAR(10),'GESTION_SEG_1_TRIM CSJMETA'!J232,CHAR(10),\"Trimestre 2\",CHAR(10),'GESTION_SEG_2_TRIM CSJMETA'!J232,CHAR(10),\"Trimestre 3\",CHAR(10),'GESTION_SEG_3_TRIM CSJMETA'!J232),\" \")","v":"Trimestre 1\n\nTrimestre 2\n\nTrimestre 3\n"},{"$f":"IFERROR(_xlfn.CONCAT(\"Trimestre 1\",CHAR(10),'GESTION_SEG_1_TRIM CSJMETA'!K232,CHAR(10),\"Trimestre 2\",CHAR(10),'GESTION_SEG_2_TRIM CSJMETA'!K232,CHAR(10),\"Trimestre 3\",CHAR(10),'GESTION_SEG_3_TRIM CSJMETA'!K232),\" \")","v":"Trimestre 1\n\nTrimestre 2\n\nTrimestre 3\n"}]
[null,null,null,null,null,null,null,null,null,null,null,null,null,null,null,{"$f":"IFERROR(MAX('GESTION_SEG_1_TRIM CSJMETA'!H233,'GESTION_SEG_2_TRIM CSJMETA'!H233,'GESTION_SEG_3_TRIM CSJMETA'!H233),\" \")","v":0},"",{"$f":"IFERROR(_xlfn.CONCAT(\"Trimestre 1\",CHAR(10),'GESTION_SEG_1_TRIM CSJMETA'!J233,CHAR(10),\"Trimestre 2\",CHAR(10),'GESTION_SEG_2_TRIM CSJMETA'!J233,CHAR(10),\"Trimestre 3\",CHAR(10),'GESTION_SEG_3_TRIM CSJMETA'!J233),\" \")","v":"Trimestre 1\n\nTrimestre 2\n\nTrimestre 3\n"},{"$f":"IFERROR(_xlfn.CONCAT(\"Trimestre 1\",CHAR(10),'GESTION_SEG_1_TRIM CSJMETA'!K233,CHAR(10),\"Trimestre 2\",CHAR(10),'GESTION_SEG_2_TRIM CSJMETA'!K233,CHAR(10),\"Trimestre 3\",CHAR(10),'GESTION_SEG_3_TRIM CSJMETA'!K233),\" \")","v":"Trimestre 1\n\nTrimestre 2\n\nTrimestre 3\n"}]
[null,null,null,null,null,null,null,null,null,null,null,null,null,null,null,{"$f":"IFERROR(MAX('GESTION_SEG_1_TRIM CSJMETA'!H234,'GESTION_SEG_2_TRIM CSJMETA'!H234,'GESTION_SEG_3_TRIM CSJMETA'!H234),\" \")","v":0},"",{"$f":"IFERROR(_xlfn.CONCAT(\"Trimestre 1\",CHAR(10),'GESTION_SEG_1_TRIM CSJMETA'!J234,CHAR(10),\"Trimestre 2\",CHAR(10),'GESTION_SEG_2_TRIM CSJMETA'!J234,CHAR(10),\"Trimestre 3\",CHAR(10),'GESTION_SEG_3_TRIM CSJMETA'!J234),\" \")","v":"Trimestre 1\n\nTrimestre 2\n\nTrimestre 3\n"},{"$f":"IFERROR(_xlfn.CONCAT(\"Trimestre 1\",CHAR(10),'GESTION_SEG_1_TRIM CSJMETA'!K234,CHAR(10),\"Trimestre 2\",CHAR(10),'GESTION_SEG_2_TRIM CSJMETA'!K234,CHAR(10),\"Trimestre 3\",CHAR(10),'GESTION_SEG_3_TRIM CSJMETA'!K234),\" \")","v":"Trimestre 1\n\nTrimestre 2\n\nTrimestre 3\n"}]
[null,null,null,null,null,null,null,null,null,null,null,null,null,null,null,{"$f":"IFERROR(MAX('GESTION_SEG_1_TRIM CSJMETA'!H235,'GESTION_SEG_2_TRIM CSJMETA'!H235,'GESTION_SEG_3_TRIM CSJMETA'!H235),\" \")","v":0},"",{"$f":"IFERROR(_xlfn.CONCAT(\"Trimestre 1\",CHAR(10),'GESTION_SEG_1_TRIM CSJMETA'!J235,CHAR(10),\"Trimestre 2\",CHAR(10),'GESTION_SEG_2_TRIM CSJMETA'!J235,CHAR(10),\"Trimestre 3\",CHAR(10),'GESTION_SEG_3_TRIM CSJMETA'!J235),\" \")","v":"Trimestre 1\n\nTrimestre 2\n\nTrimestre 3\n"},{"$f":"IFERROR(_xlfn.CONCAT(\"Trimestre 1\",CHAR(10),'GESTION_SEG_1_TRIM CSJMETA'!K235,CHAR(10),\"Trimestre 2\",CHAR(10),'GESTION_SEG_2_TRIM CSJMETA'!K235,CHAR(10),\"Trimestre 3\",CHAR(10),'GESTION_SEG_3_TRIM CSJMETA'!K235),\" \")","v":"Trimestre 1\n\nTrimestre 2\n\nTrimestre 3\n"}]
["5. Gobernanza, planeación estratégica y capacidad de toma de decisiones","Gobernanza, planeación estratégica y capacidad de toma de decisiones: Fortalecer la gobernanza, la planeación estratégica y la capacidad de toma de decisiones de la Rama Judicial con base en la evidencia empírica y la articulación efectiva con las demás entidades, para que la perspectiva de género y el enfoque diferencial sean transversales en el presente plan. ","1. Implementar un nuevo modelo integrado para la planeación estratégica, el seguimiento y la medición del desempeño institucional.","2. Asegurar  el cumplimiento de los objetivos institucionales, la normatividad aplicable,  la mejora del SIGCMA y la satisfacción de los usuarios, revisando de  forma continua y sistemática la planificación de la gestión y fortaleciendo la administración de riesgos y sus controles.","Estratégicos","Admin - Planeación Estratégica","Seccional","Realizar seguimiento a los instrumentos de calidad","Entregable",null,null,"Líder del proceso","Actas de reunión","2023-01-01","2023-12-31",{"$f":"IFERROR(MAX('GESTION_SEG_1_TRIM CSJMETA'!H236,'GESTION_SEG_2_TRIM CSJMETA'!H236,'GESTION_SEG_3_TRIM CSJMETA'!H236),\" \")","v":0},"",{"$f":"IFERROR(_xlfn.CONCAT(\"Trimestre 1\",CHAR(10),'GESTION_SEG_1_TRIM CSJMETA'!J236,CHAR(10),\"Trimestre 2\",CHAR(10),'GESTION_SEG_2_TRIM CSJMETA'!J236,CHAR(10),\"Trimestre 3\",CHAR(10),'GESTION_SEG_3_TRIM CSJMETA'!J236),\" \")","v":"Trimestre 1\nNo se ha presentado\nTrimestre 2\n\nTrimestre 3\nNo se han presentado"},{"$f":"IFERROR(_xlfn.CONCAT(\"Trimestre 1\",CHAR(10),'GESTION_SEG_1_TRIM CSJMETA'!K236,CHAR(10),\"Trimestre 2\",CHAR(10),'GESTION_SEG_2_TRIM CSJMETA'!K236,CHAR(10),\"Trimestre 3\",CHAR(10),'GESTION_SEG_3_TRIM CSJMETA'!K236),\" \")","v":"Trimestre 1\nEn el primer trimestre de 2023, se consolidó la información de calidad del último trimestre de 2022 y se inicio el trabajo de planificación del Sistema de Calidad\nTrimestre 2\nEn el segundo trimestre de 2023, se actualizaron las actividades del Plan de Acción \nTrimestre 3\nEn el tercer trimestre de 2023, se actualizó la actividad del proceso de Registro y Control de Abogados y Auxiliares de Justicia, dentro del Plan de Acción, correspondiente al seguimiento y control de los convenios para las prácticas jurídicas, toda vez que es una actividad relevante para el proceso y a la cual se le puede hacer un seguimiento. "}]
[null,null,null,null,"Evaluación_y_Mejora","Admin - Mejoramiento del Sistema Integrado de Gestión y Control de la Calidad y del Medio Ambiente","Seccional","Realizar el Informe de la Alta Dirección","Entregable",null,null,"Líder del proceso","Informe de la Alta Dirección","2023-01-01","2023-06-30",{"$f":"IFERROR(MAX('GESTION_SEG_1_TRIM CSJMETA'!H237,'GESTION_SEG_2_TRIM CSJMETA'!H237,'GESTION_SEG_3_TRIM CSJMETA'!H237),\" \")","v":0},null,{"$f":"IFERROR(_xlfn.CONCAT(\"Trimestre 1\",CHAR(10),'GESTION_SEG_1_TRIM CSJMETA'!J237,CHAR(10),\"Trimestre 2\",CHAR(10),'GESTION_SEG_2_TRIM CSJMETA'!J237,CHAR(10),\"Trimestre 3\",CHAR(10),'GESTION_SEG_3_TRIM CSJMETA'!J237),\" \")","v":"Trimestre 1\nNo se ha presentado\nTrimestre 2\n\nTrimestre 3\nNo se han presentado"},{"$f":"IFERROR(_xlfn.CONCAT(\"Trimestre 1\",CHAR(10),'GESTION_SEG_1_TRIM CSJMETA'!K237,CHAR(10),\"Trimestre 2\",CHAR(10),'GESTION_SEG_2_TRIM CSJMETA'!K237,CHAR(10),\"Trimestre 3\",CHAR(10),'GESTION_SEG_3_TRIM CSJMETA'!K237),\" \")","v":"Trimestre 1\nEn el primer trimestre de 2023, se inició la elaboración del Informe de Revisión por la Alta Dirección.\nTrimestre 2\nEn el segundo trimestre de 2023, sy se aprobó el Informe de Revisión por la Alta Dirección.\nTrimestre 3\nEsta actividad tiene como fecha final el 30/06/2023, por lo tanto, no aplica para el tercer, un cuarto trimestre de 2023, toda vez que en el primero y segundo trimestre de 2023, se elaboró y se aprobó el Informe de Revisión por la Alta Dirección 2022."}]
[null,null,null,null,"Evaluación_y_Mejora","Admin - Mejoramiento del Sistema Integrado de Gestión y Control de la Calidad y del Medio Ambiente","Seccional","Participación en los Comités Nacionales del SIGCMA","Entregable",null,null,"Líder del proceso","Informe","2023-01-01","2023-12-31",{"$f":"IFERROR(MAX('GESTION_SEG_1_TRIM CSJMETA'!H238,'GESTION_SEG_2_TRIM CSJMETA'!H238,'GESTION_SEG_3_TRIM CSJMETA'!H238),\" \")","v":0},null,{"$f":"IFERROR(_xlfn.CONCAT(\"Trimestre 1\",CHAR(10),'GESTION_SEG_1_TRIM CSJMETA'!J238,CHAR(10),\"Trimestre 2\",CHAR(10),'GESTION_SEG_2_TRIM CSJMETA'!J238,CHAR(10),\"Trimestre 3\",CHAR(10),'GESTION_SEG_3_TRIM CSJMETA'!J238),\" \")","v":"Trimestre 1\nNo nos convocaron a las reuniones ni Comités Nacionales del SIGCMA, desarrollados en este período\nTrimestre 2\nNo nos convocaron a las reuniones ni Comités Nacionales del SIGCMA, desarrollados en este período\nTrimestre 3\nNo se han presentado"},{"$f":"IFERROR(_xlfn.CONCAT(\"Trimestre 1\",CHAR(10),'GESTION_SEG_1_TRIM CSJMETA'!K238,CHAR(10),\"Trimestre 2\",CHAR(10),'GESTION_SEG_2_TRIM CSJMETA'!K238,CHAR(10),\"Trimestre 3\",CHAR(10),'GESTION_SEG_3_TRIM CSJMETA'!K238),\" \")","v":"Trimestre 1\nEn el primer trimestre de 2023, solo participamos en el primer Comité Nacional del SIGCMA, puesto no fuimos convocados.\nTrimestre 2\nEn el segundo trimestre de 2023, luego de haber reportado a la Coordinación Nacional, la falta de convocatoria a las reuniones y Comités, se ha participado en cada uno de ellos.\nTrimestre 3\nEn el tercer trimestre de 2023, se participó en los 10 Comités Nacional del SIGCMA, programados por la Coordinación Nacional del SIGCMA, de los cuales 6 de ellos, se realizaron en el mes de julio de 2023, como preparación a las Auditorias Internas, 4 en agosto de 2023, como capacitaciones en antisoborno y seguridad de la información y en septiembre de 2023, se suspendieron dichas reuniones, dado el período de Auditorias Externas de ICONTEC."}]
[null,null,null,null,null,null,null,null,null,null,null,null,null,null,null,{"$f":"IFERROR(MAX('GESTION_SEG_1_TRIM CSJMETA'!H239,'GESTION_SEG_2_TRIM CSJMETA'!H239,'GESTION_SEG_3_TRIM CSJMETA'!H239),\" \")","v":0},null,{"$f":"IFERROR(_xlfn.CONCAT(\"Trimestre 1\",CHAR(10),'GESTION_SEG_1_TRIM CSJMETA'!J239,CHAR(10),\"Trimestre 2\",CHAR(10),'GESTION_SEG_2_TRIM CSJMETA'!J239,CHAR(10),\"Trimestre 3\",CHAR(10),'GESTION_SEG_3_TRIM CSJMETA'!J239),\" \")","v":"Trimestre 1\n\nTrimestre 2\n\nTrimestre 3\n"},{"$f":"IFERROR(_xlfn.CONCAT(\"Trimestre 1\",CHAR(10),'GESTION_SEG_1_TRIM CSJMETA'!K239,CHAR(10),\"Trimestre 2\",CHAR(10),'GESTION_SEG_2_TRIM CSJMETA'!K239,CHAR(10),\"Trimestre 3\",CHAR(10),'GESTION_SEG_3_TRIM CSJMETA'!K239),\" \")","v":"Trimestre 1\n\nTrimestre 2\n\nTrimestre 3\n"}]
[null,null,null,null,null,null,null,null,null,null,null,null,null,null,null,{"$f":"IFERROR(MAX('GESTION_SEG_1_TRIM CSJMETA'!H240,'GESTION_SEG_2_TRIM CSJMETA'!H240,'GESTION_SEG_3_TRIM CSJMETA'!H240),\" \")","v":0},null,{"$f":"IFERROR(_xlfn.CONCAT(\"Trimestre 1\",CHAR(10),'GESTION_SEG_1_TRIM CSJMETA'!J240,CHAR(10),\"Trimestre 2\",CHAR(10),'GESTION_SEG_2_TRIM CSJMETA'!J240,CHAR(10),\"Trimestre 3\",CHAR(10),'GESTION_SEG_3_TRIM CSJMETA'!J240),\" \")","v":"Trimestre 1\n\nTrimestre 2\n\nTrimestre 3\n"},{"$f":"IFERROR(_xlfn.CONCAT(\"Trimestre 1\",CHAR(10),'GESTION_SEG_1_TRIM CSJMETA'!K240,CHAR(10),\"Trimestre 2\",CHAR(10),'GESTION_SEG_2_TRIM CSJMETA'!K240,CHAR(10),\"Trimestre 3\",CHAR(10),'GESTION_SEG_3_TRIM CSJMETA'!K240),\" \")","v":"Trimestre 1\n\nTrimestre 2\n\nTrimestre 3\n"}]
[null,null,null,null,null,null,null,null,null,null,null,null,null,null,null,{"$f":"IFERROR(MAX('GESTION_SEG_1_TRIM CSJMETA'!H241,'GESTION_SEG_2_TRIM CSJMETA'!H241,'GESTION_SEG_3_TRIM CSJMETA'!H241),\" \")","v":0},null,{"$f":"IFERROR(_xlfn.CONCAT(\"Trimestre 1\",CHAR(10),'GESTION_SEG_1_TRIM CSJMETA'!J241,CHAR(10),\"Trimestre 2\",CHAR(10),'GESTION_SEG_2_TRIM CSJMETA'!J241,CHAR(10),\"Trimestre 3\",CHAR(10),'GESTION_SEG_3_TRIM CSJMETA'!J241),\" \")","v":"Trimestre 1\n\nTrimestre 2\n\nTrimestre 3\n"},{"$f":"IFERROR(_xlfn.CONCAT(\"Trimestre 1\",CHAR(10),'GESTION_SEG_1_TRIM CSJMETA'!K241,CHAR(10),\"Trimestre 2\",CHAR(10),'GESTION_SEG_2_TRIM CSJMETA'!K241,CHAR(10),\"Trimestre 3\",CHAR(10),'GESTION_SEG_3_TRIM CSJMETA'!K241),\" \")","v":"Trimestre 1\n\nTrimestre 2\n\nTrimestre 3\n"}]
[null,null,null,null,null,null,null,null,null,null,null,null,null,null,null,{"$f":"IFERROR(MAX('GESTION_SEG_1_TRIM CSJMETA'!H242,'GESTION_SEG_2_TRIM CSJMETA'!H242,'GESTION_SEG_3_TRIM CSJMETA'!H242),\" \")","v":0},"",{"$f":"IFERROR(_xlfn.CONCAT(\"Trimestre 1\",CHAR(10),'GESTION_SEG_1_TRIM CSJMETA'!J242,CHAR(10),\"Trimestre 2\",CHAR(10),'GESTION_SEG_2_TRIM CSJMETA'!J242,CHAR(10),\"Trimestre 3\",CHAR(10),'GESTION_SEG_3_TRIM CSJMETA'!J242),\" \")","v":"Trimestre 1\n\nTrimestre 2\n\nTrimestre 3\n"},{"$f":"IFERROR(_xlfn.CONCAT(\"Trimestre 1\",CHAR(10),'GESTION_SEG_1_TRIM CSJMETA'!K242,CHAR(10),\"Trimestre 2\",CHAR(10),'GESTION_SEG_2_TRIM CSJMETA'!K242,CHAR(10),\"Trimestre 3\",CHAR(10),'GESTION_SEG_3_TRIM CSJMETA'!K242),\" \")","v":"Trimestre 1\n\nTrimestre 2\n\nTrimestre 3\n"}]
[null,null,null,null,null,null,null,null,null,null,null,null,null,null,null,{"$f":"IFERROR(MAX('GESTION_SEG_1_TRIM CSJMETA'!H243,'GESTION_SEG_2_TRIM CSJMETA'!H243,'GESTION_SEG_3_TRIM CSJMETA'!H243),\" \")","v":0},"",{"$f":"IFERROR(_xlfn.CONCAT(\"Trimestre 1\",CHAR(10),'GESTION_SEG_1_TRIM CSJMETA'!J243,CHAR(10),\"Trimestre 2\",CHAR(10),'GESTION_SEG_2_TRIM CSJMETA'!J243,CHAR(10),\"Trimestre 3\",CHAR(10),'GESTION_SEG_3_TRIM CSJMETA'!J243),\" \")","v":"Trimestre 1\n\nTrimestre 2\n\nTrimestre 3\n"},{"$f":"IFERROR(_xlfn.CONCAT(\"Trimestre 1\",CHAR(10),'GESTION_SEG_1_TRIM CSJMETA'!K243,CHAR(10),\"Trimestre 2\",CHAR(10),'GESTION_SEG_2_TRIM CSJMETA'!K243,CHAR(10),\"Trimestre 3\",CHAR(10),'GESTION_SEG_3_TRIM CSJMETA'!K243),\" \")","v":"Trimestre 1\n\nTrimestre 2\n\nTrimestre 3\n"}]
[null,null,null,null,null,null,null,null,null,null,null,null,null,null,null,{"$f":"IFERROR(MAX('GESTION_SEG_1_TRIM CSJMETA'!H244,'GESTION_SEG_2_TRIM CSJMETA'!H244,'GESTION_SEG_3_TRIM CSJMETA'!H244),\" \")","v":0},"",{"$f":"IFERROR(_xlfn.CONCAT(\"Trimestre 1\",CHAR(10),'GESTION_SEG_1_TRIM CSJMETA'!J244,CHAR(10),\"Trimestre 2\",CHAR(10),'GESTION_SEG_2_TRIM CSJMETA'!J244,CHAR(10),\"Trimestre 3\",CHAR(10),'GESTION_SEG_3_TRIM CSJMETA'!J244),\" \")","v":"Trimestre 1\n\nTrimestre 2\n\nTrimestre 3\n"},{"$f":"IFERROR(_xlfn.CONCAT(\"Trimestre 1\",CHAR(10),'GESTION_SEG_1_TRIM CSJMETA'!K244,CHAR(10),\"Trimestre 2\",CHAR(10),'GESTION_SEG_2_TRIM CSJMETA'!K244,CHAR(10),\"Trimestre 3\",CHAR(10),'GESTION_SEG_3_TRIM CSJMETA'!K244),\" \")","v":"Trimestre 1\n\nTrimestre 2\n\nTrimestre 3\n"}]
[null,null,null,null,null,null,null,null,null,null,null,null,null,null,null,{"$f":"IFERROR(MAX('GESTION_SEG_1_TRIM CSJMETA'!H245,'GESTION_SEG_2_TRIM CSJMETA'!H245,'GESTION_SEG_3_TRIM CSJMETA'!H245),\" \")","v":0},"",{"$f":"IFERROR(_xlfn.CONCAT(\"Trimestre 1\",CHAR(10),'GESTION_SEG_1_TRIM CSJMETA'!J245,CHAR(10),\"Trimestre 2\",CHAR(10),'GESTION_SEG_2_TRIM CSJMETA'!J245,CHAR(10),\"Trimestre 3\",CHAR(10),'GESTION_SEG_3_TRIM CSJMETA'!J245),\" \")","v":"Trimestre 1\n\nTrimestre 2\n\nTrimestre 3\n"},{"$f":"IFERROR(_xlfn.CONCAT(\"Trimestre 1\",CHAR(10),'GESTION_SEG_1_TRIM CSJMETA'!K245,CHAR(10),\"Trimestre 2\",CHAR(10),'GESTION_SEG_2_TRIM CSJMETA'!K245,CHAR(10),\"Trimestre 3\",CHAR(10),'GESTION_SEG_3_TRIM CSJMETA'!K245),\" \")","v":"Trimestre 1\n\nTrimestre 2\n\nTrimestre 3\n"}]
[null,null,"2. Definir e implementar el modelo optimizado de formulación, seguimiento y evaluación de la política pública judicial.",null,null,null,null,null,null,null,null,null,null,null,null,{"$f":"IFERROR(MAX('GESTION_SEG_1_TRIM CSJMETA'!H246,'GESTION_SEG_2_TRIM CSJMETA'!H246,'GESTION_SEG_3_TRIM CSJMETA'!H246),\" \")","v":0},"",{"$f":"IFERROR(_xlfn.CONCAT(\"Trimestre 1\",CHAR(10),'GESTION_SEG_1_TRIM CSJMETA'!J246,CHAR(10),\"Trimestre 2\",CHAR(10),'GESTION_SEG_2_TRIM CSJMETA'!J246,CHAR(10),\"Trimestre 3\",CHAR(10),'GESTION_SEG_3_TRIM CSJMETA'!J246),\" \")","v":"Trimestre 1\n\nTrimestre 2\n\nTrimestre 3\n"},{"$f":"IFERROR(_xlfn.CONCAT(\"Trimestre 1\",CHAR(10),'GESTION_SEG_1_TRIM CSJMETA'!K246,CHAR(10),\"Trimestre 2\",CHAR(10),'GESTION_SEG_2_TRIM CSJMETA'!K246,CHAR(10),\"Trimestre 3\",CHAR(10),'GESTION_SEG_3_TRIM CSJMETA'!K246),\" \")","v":"Trimestre 1\n\nTrimestre 2\n\nTrimestre 3\n"}]
[null,null,null,null,null,null,null,null,null,null,null,null,null,null,null,{"$f":"IFERROR(MAX('GESTION_SEG_1_TRIM CSJMETA'!H247,'GESTION_SEG_2_TRIM CSJMETA'!H247,'GESTION_SEG_3_TRIM CSJMETA'!H247),\" \")","v":0},"",{"$f":"IFERROR(_xlfn.CONCAT(\"Trimestre 1\",CHAR(10),'GESTION_SEG_1_TRIM CSJMETA'!J247,CHAR(10),\"Trimestre 2\",CHAR(10),'GESTION_SEG_2_TRIM CSJMETA'!J247,CHAR(10),\"Trimestre 3\",CHAR(10),'GESTION_SEG_3_TRIM CSJMETA'!J247),\" \")","v":"Trimestre 1\n\nTrimestre 2\n\nTrimestre 3\n"},{"$f":"IFERROR(_xlfn.CONCAT(\"Trimestre 1\",CHAR(10),'GESTION_SEG_1_TRIM CSJMETA'!K247,CHAR(10),\"Trimestre 2\",CHAR(10),'GESTION_SEG_2_TRIM CSJMETA'!K247,CHAR(10),\"Trimestre 3\",CHAR(10),'GESTION_SEG_3_TRIM CSJMETA'!K247),\" \")","v":"Trimestre 1\n\nTrimestre 2\n\nTrimestre 3\n"}]
[null,null,null,null,null,null,null,null,null,null,null,null,null,null,null,{"$f":"IFERROR(MAX('GESTION_SEG_1_TRIM CSJMETA'!H248,'GESTION_SEG_2_TRIM CSJMETA'!H248,'GESTION_SEG_3_TRIM CSJMETA'!H248),\" \")","v":0},null,{"$f":"IFERROR(_xlfn.CONCAT(\"Trimestre 1\",CHAR(10),'GESTION_SEG_1_TRIM CSJMETA'!J248,CHAR(10),\"Trimestre 2\",CHAR(10),'GESTION_SEG_2_TRIM CSJMETA'!J248,CHAR(10),\"Trimestre 3\",CHAR(10),'GESTION_SEG_3_TRIM CSJMETA'!J248),\" \")","v":"Trimestre 1\n\nTrimestre 2\n\nTrimestre 3\n"},{"$f":"IFERROR(_xlfn.CONCAT(\"Trimestre 1\",CHAR(10),'GESTION_SEG_1_TRIM CSJMETA'!K248,CHAR(10),\"Trimestre 2\",CHAR(10),'GESTION_SEG_2_TRIM CSJMETA'!K248,CHAR(10),\"Trimestre 3\",CHAR(10),'GESTION_SEG_3_TRIM CSJMETA'!K248),\" \")","v":"Trimestre 1\n\nTrimestre 2\n\nTrimestre 3\n"}]
[null,null,null,null,null,null,null,null,null,null,null,null,null,null,null,{"$f":"IFERROR(MAX('GESTION_SEG_1_TRIM CSJMETA'!H249,'GESTION_SEG_2_TRIM CSJMETA'!H249,'GESTION_SEG_3_TRIM CSJMETA'!H249),\" \")","v":0},null,{"$f":"IFERROR(_xlfn.CONCAT(\"Trimestre 1\",CHAR(10),'GESTION_SEG_1_TRIM CSJMETA'!J249,CHAR(10),\"Trimestre 2\",CHAR(10),'GESTION_SEG_2_TRIM CSJMETA'!J249,CHAR(10),\"Trimestre 3\",CHAR(10),'GESTION_SEG_3_TRIM CSJMETA'!J249),\" \")","v":"Trimestre 1\n\nTrimestre 2\n\nTrimestre 3\n"},{"$f":"IFERROR(_xlfn.CONCAT(\"Trimestre 1\",CHAR(10),'GESTION_SEG_1_TRIM CSJMETA'!K249,CHAR(10),\"Trimestre 2\",CHAR(10),'GESTION_SEG_2_TRIM CSJMETA'!K249,CHAR(10),\"Trimestre 3\",CHAR(10),'GESTION_SEG_3_TRIM CSJMETA'!K249),\" \")","v":"Trimestre 1\n\nTrimestre 2\n\nTrimestre 3\n"}]
[null,null,null,null,null,null,null,null,null,null,null,null,null,null,null,{"$f":"IFERROR(MAX('GESTION_SEG_1_TRIM CSJMETA'!H250,'GESTION_SEG_2_TRIM CSJMETA'!H250,'GESTION_SEG_3_TRIM CSJMETA'!H250),\" \")","v":0},null,{"$f":"IFERROR(_xlfn.CONCAT(\"Trimestre 1\",CHAR(10),'GESTION_SEG_1_TRIM CSJMETA'!J250,CHAR(10),\"Trimestre 2\",CHAR(10),'GESTION_SEG_2_TRIM CSJMETA'!J250,CHAR(10),\"Trimestre 3\",CHAR(10),'GESTION_SEG_3_TRIM CSJMETA'!J250),\" \")","v":"Trimestre 1\n\nTrimestre 2\n\nTrimestre 3\n"},{"$f":"IFERROR(_xlfn.CONCAT(\"Trimestre 1\",CHAR(10),'GESTION_SEG_1_TRIM CSJMETA'!K250,CHAR(10),\"Trimestre 2\",CHAR(10),'GESTION_SEG_2_TRIM CSJMETA'!K250,CHAR(10),\"Trimestre 3\",CHAR(10),'GESTION_SEG_3_TRIM CSJMETA'!K250),\" \")","v":"Trimestre 1\n\nTrimestre 2\n\nTrimestre 3\n"}]
[null,null,null,null,null,null,null,null,null,null,null,null,null,null,null,{"$f":"IFERROR(MAX('GESTION_SEG_1_TRIM CSJMETA'!H251,'GESTION_SEG_2_TRIM CSJMETA'!H251,'GESTION_SEG_3_TRIM CSJMETA'!H251),\" \")","v":0},null,{"$f":"IFERROR(_xlfn.CONCAT(\"Trimestre 1\",CHAR(10),'GESTION_SEG_1_TRIM CSJMETA'!J251,CHAR(10),\"Trimestre 2\",CHAR(10),'GESTION_SEG_2_TRIM CSJMETA'!J251,CHAR(10),\"Trimestre 3\",CHAR(10),'GESTION_SEG_3_TRIM CSJMETA'!J251),\" \")","v":"Trimestre 1\n\nTrimestre 2\n\nTrimestre 3\n"},{"$f":"IFERROR(_xlfn.CONCAT(\"Trimestre 1\",CHAR(10),'GESTION_SEG_1_TRIM CSJMETA'!K251,CHAR(10),\"Trimestre 2\",CHAR(10),'GESTION_SEG_2_TRIM CSJMETA'!K251,CHAR(10),\"Trimestre 3\",CHAR(10),'GESTION_SEG_3_TRIM CSJMETA'!K251),\" \")","v":"Trimestre 1\n\nTrimestre 2\n\nTrimestre 3\n"}]
[null,null,null,null,null,null,null,null,null,null,null,null,null,null,null,{"$f":"IFERROR(MAX('GESTION_SEG_1_TRIM CSJMETA'!H252,'GESTION_SEG_2_TRIM CSJMETA'!H252,'GESTION_SEG_3_TRIM CSJMETA'!H252),\" \")","v":0},null,{"$f":"IFERROR(_xlfn.CONCAT(\"Trimestre 1\",CHAR(10),'GESTION_SEG_1_TRIM CSJMETA'!J252,CHAR(10),\"Trimestre 2\",CHAR(10),'GESTION_SEG_2_TRIM CSJMETA'!J252,CHAR(10),\"Trimestre 3\",CHAR(10),'GESTION_SEG_3_TRIM CSJMETA'!J252),\" \")","v":"Trimestre 1\n\nTrimestre 2\n\nTrimestre 3\n"},{"$f":"IFERROR(_xlfn.CONCAT(\"Trimestre 1\",CHAR(10),'GESTION_SEG_1_TRIM CSJMETA'!K252,CHAR(10),\"Trimestre 2\",CHAR(10),'GESTION_SEG_2_TRIM CSJMETA'!K252,CHAR(10),\"Trimestre 3\",CHAR(10),'GESTION_SEG_3_TRIM CSJMETA'!K252),\" \")","v":"Trimestre 1\n\nTrimestre 2\n\nTrimestre 3\n"}]
[null,null,null,null,null,null,null,null,null,null,null,null,null,null,null,{"$f":"IFERROR(MAX('GESTION_SEG_1_TRIM CSJMETA'!H253,'GESTION_SEG_2_TRIM CSJMETA'!H253,'GESTION_SEG_3_TRIM CSJMETA'!H253),\" \")","v":0},"",{"$f":"IFERROR(_xlfn.CONCAT(\"Trimestre 1\",CHAR(10),'GESTION_SEG_1_TRIM CSJMETA'!J253,CHAR(10),\"Trimestre 2\",CHAR(10),'GESTION_SEG_2_TRIM CSJMETA'!J253,CHAR(10),\"Trimestre 3\",CHAR(10),'GESTION_SEG_3_TRIM CSJMETA'!J253),\" \")","v":"Trimestre 1\n\nTrimestre 2\n\nTrimestre 3\n"},{"$f":"IFERROR(_xlfn.CONCAT(\"Trimestre 1\",CHAR(10),'GESTION_SEG_1_TRIM CSJMETA'!K253,CHAR(10),\"Trimestre 2\",CHAR(10),'GESTION_SEG_2_TRIM CSJMETA'!K253,CHAR(10),\"Trimestre 3\",CHAR(10),'GESTION_SEG_3_TRIM CSJMETA'!K253),\" \")","v":"Trimestre 1\n\nTrimestre 2\n\nTrimestre 3\n"}]
[null,null,null,null,null,null,null,null,null,null,null,null,null,null,null,{"$f":"IFERROR(MAX('GESTION_SEG_1_TRIM CSJMETA'!H254,'GESTION_SEG_2_TRIM CSJMETA'!H254,'GESTION_SEG_3_TRIM CSJMETA'!H254),\" \")","v":0},"",{"$f":"IFERROR(_xlfn.CONCAT(\"Trimestre 1\",CHAR(10),'GESTION_SEG_1_TRIM CSJMETA'!J254,CHAR(10),\"Trimestre 2\",CHAR(10),'GESTION_SEG_2_TRIM CSJMETA'!J254,CHAR(10),\"Trimestre 3\",CHAR(10),'GESTION_SEG_3_TRIM CSJMETA'!J254),\" \")","v":"Trimestre 1\n\nTrimestre 2\n\nTrimestre 3\n"},{"$f":"IFERROR(_xlfn.CONCAT(\"Trimestre 1\",CHAR(10),'GESTION_SEG_1_TRIM CSJMETA'!K254,CHAR(10),\"Trimestre 2\",CHAR(10),'GESTION_SEG_2_TRIM CSJMETA'!K254,CHAR(10),\"Trimestre 3\",CHAR(10),'GESTION_SEG_3_TRIM CSJMETA'!K254),\" \")","v":"Trimestre 1\n\nTrimestre 2\n\nTrimestre 3\n"}]
[null,null,null,null,null,null,null,null,null,null,null,null,null,null,null,{"$f":"IFERROR(MAX('GESTION_SEG_1_TRIM CSJMETA'!H255,'GESTION_SEG_2_TRIM CSJMETA'!H255,'GESTION_SEG_3_TRIM CSJMETA'!H255),\" \")","v":0},"",{"$f":"IFERROR(_xlfn.CONCAT(\"Trimestre 1\",CHAR(10),'GESTION_SEG_1_TRIM CSJMETA'!J255,CHAR(10),\"Trimestre 2\",CHAR(10),'GESTION_SEG_2_TRIM CSJMETA'!J255,CHAR(10),\"Trimestre 3\",CHAR(10),'GESTION_SEG_3_TRIM CSJMETA'!J255),\" \")","v":"Trimestre 1\n\nTrimestre 2\n\nTrimestre 3\n"},{"$f":"IFERROR(_xlfn.CONCAT(\"Trimestre 1\",CHAR(10),'GESTION_SEG_1_TRIM CSJMETA'!K255,CHAR(10),\"Trimestre 2\",CHAR(10),'GESTION_SEG_2_TRIM CSJMETA'!K255,CHAR(10),\"Trimestre 3\",CHAR(10),'GESTION_SEG_3_TRIM CSJMETA'!K255),\" \")","v":"Trimestre 1\n\nTrimestre 2\n\nTrimestre 3\n"}]

{"sheet":"GESTION_SEG_3_TRIM CSJMETA","index":9,"n_rows":255,"n_cols":11,"rows_kept":255,"cut":false,"hidden":false,"merged":[[205,2,214,2],[215,2,224,2],[225,2,234,2],[225,3,234,3],[235,0,254,0],[235,1,254,1],[235,2,244,2],[235,3,254,3],[245,2,254,2],[185,0,234,0],[185,1,234,1],[185,2,194,2],[185,3,224,3],[195,2,204,2],[105,2,114,2],[115,0,184,0],[115,1,184,1],[115,2,124,2],[115,3,124,3],[125,2,134,2],[125,3,134,3],[135,2,144,2],[135,3,144,3],[145,2,154,2],[145,3,174,3],[155,2,164,2],[165,2,174,2],[175,2,184,2],[175,3,184,3],[45,2,54,2],[45,3,54,3],[55,0,114,0],[55,1,114,1],[55,2,64,2],[55,3,114,3],[65,2,74,2],[75,2,84,2],[85,2,94,2],[95,2,104,2],[5,0,54,0],[5,1,54,1],[5,2,14,2],[5,3,14,3],[15,2,24,2],[15,3,24,3],[25,2,34,2],[25,3,34,3],[35,2,44,2],[35,3,44,3],[1,0,1,10],[2,0,2,3],[2,4,2,9],[2,10,4,10],[3,0,4,1],[3,2,4,2],[3,3,4,3],[3,4,3,9]]}
[]
["CONSEJO SUPERIOR DE LA JUDICATURA \nUNIDADES MISIONALES DEL CONSEJO SUPERIOR DE LA JUDICATURA - \nDIRECCIÓN EJECUTIVA DE ADMINISTRACIÓN JUDICIAL - UNIDADES MISIONALES DE LA DEAJ\nDIRECCIONES SECCIONALES DE ADMINISTRACIÓN JUDICIAL - DEPENDENCIAS JUDICIALES CERTIFICADAS"]
["PLAN SECTORIAL DE DESARROLLO 2023-2026 - OBJETIVOS SIGCMA",null,null,null,null,null,null,null,null,null," ANÁLISIS RESULTADO"]
["OBJETIVO ESTRATÉGICO",null,"OBJETIVO ESPECÍFICO PSD","OBJETIVO ESPECÍFICO SIGCMA","MEDICIÓN DE LA GESTIÓN ANUAL"]
[null,null,null,null,"ACTIVIDADES ","INDIQUE SI ES ENTREGABLE O META CUANTIFICABLE","META ANUAL","AVANCE DE LA META ","NIVEL CUMPLIMIENTO","DIFICULTADES PARA LOGRAR LA META PROPUESTA"]
["1. Acceso e Infraestructura Física","Acceso e Infraestructura Física: Ampliar, en todo el territorio nacional, el acceso a una justicia efectiva, pronta, equitativa e incluyente, reduciendo el atraso y la congestión, de acuerdo con las necesidades de la demanda de justicia por jurisdicción y especialidad, y mejorando la articulación con la justicia restaurativa y terapéutica, y otros mecanismos de solución de conflictos y consolidando una infraestructura física óptima para el acceso a la justicia.","1. Ampliar el acceso a justicia para atender las necesidades jurídicas de los ciudadanos con un enfoque diferencial, de una manera pronta, reduciendo las inequidades y las brechas territoriales de acceso.","2. Asegurar  el cumplimiento de los objetivos institucionales, la normatividad aplicable,  la mejora del SIGCMA y la satisfacción de los usuarios, revisando de  forma continua y sistemática la planificación de la gestión y fortaleciendo la administración de riesgos y sus controles",{"$f":"IFERROR(' GESTION CSJMETA'!H6,\" \")","v":"Realizar propuesta de adecuación del mapa judicial "},{"$f":"IFERROR(' GESTION CSJMETA'!I6,\" \")","v":"Entregable"},{"$f":"IFERROR(' GESTION CSJMETA'!J6,\" \")","v":0},null,{"$f":"IFERROR(H6/G6,\"\")","v":""},null," Se recopila informacion para la propuesta anual de  Reordenamiento "]
[null,null,null,null,{"$f":"IFERROR(' GESTION CSJMETA'!H7,\" \")","v":"Realizar el seguimiento y evaluación de las medidas de descongestión implementadas a nivel seccional"},{"$f":"IFERROR(' GESTION CSJMETA'!I7,\" \")","v":"Entregable"},{"$f":"IFERROR(' GESTION CSJMETA'!J7,\" \")","v":0},null,"",null,"Se realiza el seguimiento a las medidas  presentando el primer informe bimensual"]
[null,null,null,null,{"$f":"IFERROR(' GESTION CSJMETA'!H8,\" \")","v":"Realizar indicadores estadísticos por medio de la recolección de la información estadística SIERJU"},{"$f":"IFERROR(' GESTION CSJMETA'!I8,\" \")","v":"Entregable"},{"$f":"IFERROR(' GESTION CSJMETA'!J8,\" \")","v":0},null,"",null,"Para el  tercer trimestre la UDAE, amplio el  plazo  para el reporte hasta el 18 de octubre de 2023, debido a la  suspensión de terminos por el ataque cibernetico , Esta seccional inica  acompañamiento   previo, durante y posterior al período de reporte  a los despachos."]
[null,null,null,null,{"$f":"IFERROR(' GESTION CSJMETA'!H9,\" \")","v":"Efectuar visita (Físicas o electrónicas) de verificación estadística Acuerdo PSAA16-10476"},{"$f":"IFERROR(' GESTION CSJMETA'!I9,\" \")","v":"Entregable"},{"$f":"IFERROR(' GESTION CSJMETA'!J9,\" \")","v":0},null,"",null,"Conforme a la  información reportada por cada despacho,    en este trimestre 2 despachos reportaron extemporaneamente, lo que conllevo a compulsa de copias  disciplinarias."]
[null,null,null,null,{"$f":"IFERROR(' GESTION CSJMETA'!H10,\" \")","v":0},{"$f":"IFERROR(' GESTION CSJMETA'!I10,\" \")","v":0},{"$f":"IFERROR(' GESTION CSJMETA'!J10,\" \")","v":0},null,""]
[null,null,null,null,{"$f":"IFERROR(' GESTION CSJMETA'!H11,\" \")","v":0},{"$f":"IFERROR(' GESTION CSJMETA'!I11,\" \")","v":0},{"$f":"IFERROR(' GESTION CSJMETA'!J11,\" \")","v":0},null,""]
[null,null,null,null,{"$f":"IFERROR(' GESTION CSJMETA'!H12,\" \")","v":0},{"$f":"IFERROR(' GESTION CSJMETA'!I12,\" \")","v":0},{"$f":"IFERROR(' GESTION CSJMETA'!J12,\" \")","v":0},null,""]
[null,null,null,null,{"$f":"IFERROR(' GESTION CSJMETA'!H13,\" \")","v":0},{"$f":"IFERROR(' GESTION CSJMETA'!I13,\" \")","v":0},{"$f":"IFERROR(' GESTION CSJMETA'!J13,\" \")","v":0},null,""]
[null,null,null,null,{"$f":"IFERROR(' GESTION CSJMETA'!H14,\" \")","v":0},{"$f":"IFERROR(' GESTION CSJMETA'!I14,\" \")","v":0},{"$f":"IFERROR(' GESTION CSJMETA'!J14,\" \")","v":0},null,""]
[null,null,null,null,{"$f":"IFERROR(' GESTION CSJMETA'!H15,\" \")","v":0},{"$f":"IFERROR(' GESTION CSJMETA'!I15,\" \")","v":0},{"$f":"IFERROR(' GESTION CSJMETA'!J15,\" \")","v":0},null,""]
[null,null,"2. Mejorar los tiempos de respuesta de la Rama Judicial y reducir el inventario de procesos, identificando los retos internos y promoviendo tanto acciones articuladas específicas para abordarlos como estrategias coordinadas para enfrentar las barreras que dependen de otras entidades.","2. Asegurar  el cumplimiento de los objetivos institucionales, la normatividad aplicable,  la mejora del SIGCMA y la satisfacción de los usuarios, revisando de  forma continua y sistemática la planificación de la gestión y fortaleciendo la administración de riesgos y sus controles",{"$f":"IFERROR(' GESTION CSJMETA'!H16,\" \")","v":"Seguimiento y control de la inscripción de los jueces de paz y de reconsideración en la URNA"},{"$f":"IFERROR(' GESTION CSJMETA'!I16,\" \")","v":"Entregable"},{"$f":"IFERROR(' GESTION CSJMETA'!J16,\" \")","v":0},null,"","No se han presentado","En el tercer trimestre de 2023, se culminó el trámite  que se inició en el segundo trimestre de 2023, de inscripción en la URNA, y la entrega de carnet a los jueces de Paz Gina Alejandra Saenz de la Comuna 8 de Villavicencio y a Héctor Cendales de la Comuna 5 de Villavicencio."]
[null,null,null,null,{"$f":"IFERROR(' GESTION CSJMETA'!H17,\" \")","v":"Seguimiento, actualización y divulgación del listado de los Auxiliares de Justicia "},{"$f":"IFERROR(' GESTION CSJMETA'!I17,\" \")","v":"Entregable"},{"$f":"IFERROR(' GESTION CSJMETA'!J17,\" \")","v":0},null,"","No se han presentado","En el tercer trimestre, aún se encuentra en vigencia la Resolución No. 1128 de 2023, mediante la cual se conforma la Lista de Auxiliares de la Justicia, para el periodo comprendido entre el 1 de abril de 2023 y el 31 de marzo de 2025, sobre lo cual no se ha presentado novedad alguna."]
[null,null,null,null,{"$f":"IFERROR(' GESTION CSJMETA'!H18,\" \")","v":0},{"$f":"IFERROR(' GESTION CSJMETA'!I18,\" \")","v":0},{"$f":"IFERROR(' GESTION CSJMETA'!J18,\" \")","v":0},null,""]
[null,null,null,null,{"$f":"IFERROR(' GESTION CSJMETA'!H19,\" \")","v":0},{"$f":"IFERROR(' GESTION CSJMETA'!I19,\" \")","v":0},{"$f":"IFERROR(' GESTION CSJMETA'!J19,\" \")","v":0},null,""]
[null,null,null,null,{"$f":"IFERROR(' GESTION CSJMETA'!H20,\" \")","v":0},{"$f":"IFERROR(' GESTION CSJMETA'!I20,\" \")","v":0},{"$f":"IFERROR(' GESTION CSJMETA'!J20,\" \")","v":0},null,""]
[null,null,null,null,{"$f":"IFERROR(' GESTION CSJMETA'!H21,\" \")","v":0},{"$f":"IFERROR(' GESTION CSJMETA'!I21,\" \")","v":0},{"$f":"IFERROR(' GESTION CSJMETA'!J21,\" \")","v":0},null,""]
[null,null,null,null,{"$f":"IFERROR(' GESTION CSJMETA'!H22,\" \")","v":0},{"$f":"IFERROR(' GESTION CSJMETA'!I22,\" \")","v":0},{"$f":"IFERROR(' GESTION CSJMETA'!J22,\" \")","v":0},null,""]
[null,null,null,null,{"$f":"IFERROR(' GESTION CSJMETA'!H23,\" \")","v":0},{"$f":"IFERROR(' GESTION CSJMETA'!I23,\" \")","v":0},{"$f":"IFERROR(' GESTION CSJMETA'!J23,\" \")","v":0},null,""]
[null,null,null,null,{"$f":"IFERROR(' GESTION CSJMETA'!H24,\" \")","v":0},{"$f":"IFERROR(' GESTION CSJMETA'!I24,\" \")","v":0},{"$f":"IFERROR(' GESTION CSJMETA'!J24,\" \")","v":0},null,""]
[null,null,null,null,{"$f":"IFERROR(' GESTION CSJMETA'!H25,\" \")","v":0},{"$f":"IFERROR(' GESTION CSJMETA'!I25,\" \")","v":0},{"$f":"IFERROR(' GESTION CSJMETA'!J25,\" \")","v":0},null,""]
[null,null,"3. Coadyuvar en la garantía de la idoneidad en el ejercicio de la profesión jurídica de acuerdo con lo establecido en la Ley 1905 de 2018","2. Asegurar  el cumplimiento de los objetivos institucionales, la normatividad aplicable,  la mejora del SIGCMA y la satisfacción de los usuarios, revisando de  forma continua y sistemática la planificación de la gestión y fortaleciendo la administración de riesgos y sus controles",{"$f":"IFERROR(' GESTION CSJMETA'!H26,\" \")","v":0},{"$f":"IFERROR(' GESTION CSJMETA'!I26,\" \")","v":0},{"$f":"IFERROR(' GESTION CSJMETA'!J26,\" \")","v":0},null,""]
[null,null,null,null,{"$f":"IFERROR(' GESTION CSJMETA'!H27,\" \")","v":0},{"$f":"IFERROR(' GESTION CSJMETA'!I27,\" \")","v":0},{"$f":"IFERROR(' GESTION CSJMETA'!J27,\" \")","v":0},null,""]
[null,null,null,null,{"$f":"IFERROR(' GESTION CSJMETA'!H28,\" \")","v":0},{"$f":"IFERROR(' GESTION CSJMETA'!I28,\" \")","v":0},{"$f":"IFERROR(' GESTION CSJMETA'!J28,\" \")","v":0},null,""]
[null,null,null,null,{"$f":"IFERROR(' GESTION CSJMETA'!H29,\" \")","v":0},{"$f":"IFERROR(' GESTION CSJMETA'!I29,\" \")","v":0},{"$f":"IFERROR(' GESTION CSJMETA'!J29,\" \")","v":0},null,""]
[null,null,null,null,{"$f":"IFERROR(' GESTION CSJMETA'!H30,\" \")","v":0},{"$f":"IFERROR(' GESTION CSJMETA'!I30,\" \")","v":0},{"$f":"IFERROR(' GESTION CSJMETA'!J30,\" \")","v":0},null,""]
[null,null,null,null,{"$f":"IFERROR(' GESTION CSJMETA'!H31,\" \")","v":0},{"$f":"IFERROR(' GESTION CSJMETA'!I31,\" \")","v":0},{"$f":"IFERROR(' GESTION CSJMETA'!J31,\" \")","v":0},null,""]
[null,null,null,null,{"$f":"IFERROR(' GESTION CSJMETA'!H32,\" \")","v":0},{"$f":"IFERROR(' GESTION CSJMETA'!I32,\" \")","v":0},{"$f":"IFERROR(' GESTION CSJMETA'!J32,\" \")","v":0},null,""]
[null,null,null,null,{"$f":"IFERROR(' GESTION CSJMETA'!H33,\" \")","v":0},{"$f":"IFERROR(' GESTION CSJMETA'!I33,\" \")","v":0},{"$f":"IFERROR(' GESTION CSJMETA'!J33,\" \")","v":0},null,""]
[null,null,null,null,{"$f":"IFERROR(' GESTION CSJMETA'!H34,\" \")","v":0},{"$f":"IFERROR(' GESTION CSJMETA'!I34,\" \")","v":0},{"$f":"IFERROR(' GESTION CSJMETA'!J34,\" \")","v":0},null,""]
[null,null,null,null,{"$f":"IFERROR(' GESTION CSJMETA'!H35,\" \")","v":0},{"$f":"IFERROR(' GESTION CSJMETA'!I35,\" \")","v":0},{"$f":"IFERROR(' GESTION CSJMETA'!J35,\" \")","v":0},null,""]
[null,null,"4. Avanzar en la disposición de una infraestructura óptima para el acceso a la justicia en la Rama Judicial de modo que se fortalezca la presencia territorial, teniendo en cuenta las posibilidades que ofrece la transformación digital y las necesidades que se derivan de ella, y considerando tanto las necesidades de los usuarios como las de los servidores judiciales.","4. Hacer un uso racional de los recursos naturales aplicando los principios y fases de la Economía Circular, para prevenir, mitigar y controlar los impactos ambientales",{"$f":"IFERROR(' GESTION CSJMETA'!H36,\" \")","v":0},{"$f":"IFERROR(' GESTION CSJMETA'!I36,\" \")","v":0},{"$f":"IFERROR(' GESTION CSJMETA'!J36,\" \")","v":0},null,""]
[null,null,null,null,{"$f":"IFERROR(' GESTION CSJMETA'!H37,\" \")","v":"Elaborar y presentar el informe de rendición de cuentas a la comunidad"},{"$f":"IFERROR(' GESTION CSJMETA'!I37,\" \")","v":"Entregable"},{"$f":"IFERROR(' GESTION CSJMETA'!J37,\" \")","v":0},null,"","No se han presentado","Esta actividad tiene como fecha final el 30/06/2023, por lo tanto, no aplica para el tercer, un cuarto trimestre de 2023, toda vez que en el primero y segundo trimestre de 2023, se presentó la audiencia de rendición de cuentas y se emitió el informe de resultados de la misma."]
[null,null,null,null,{"$f":"IFERROR(' GESTION CSJMETA'!H38,\" \")","v":"Hacer seguimiento a la matriz de comunicaciones"},{"$f":"IFERROR(' GESTION CSJMETA'!I38,\" \")","v":"Entregable"},{"$f":"IFERROR(' GESTION CSJMETA'!J38,\" \")","v":0},null,"","No se han presentado","En el tercer trimestre de 2023, se actualiza la matriz de comunicaciones con el formato establecido por el SIGCMA el 12/07/2023, verificando que en este período todas las actividades previstas en la Matriz de comunicaciones se han ejecutado en su totalidad. "]
[null,null,null,null,{"$f":"IFERROR(' GESTION CSJMETA'!H39,\" \")","v":"Atender, gestionar y solucionar las diferentes solicitudes de usuarios internos y externos"},{"$f":"IFERROR(' GESTION CSJMETA'!I39,\" \")","v":"Entregable"},{"$f":"IFERROR(' GESTION CSJMETA'!J39,\" \")","v":0},null,"","No se han presentado","En el tercer trimestre de 2023, se han tramitado y resuelto de fondo de forma oportuna, todas las solicitudes que se han recibido en esta Seccional."]
[null,null,null,null,{"$f":"IFERROR(' GESTION CSJMETA'!H40,\" \")","v":"Realizar los espacios de diálogo previstos en la rendición de cuentas"},{"$f":"IFERROR(' GESTION CSJMETA'!I40,\" \")","v":"Entregable"},{"$f":"IFERROR(' GESTION CSJMETA'!J40,\" \")","v":0},null,"","No se han presentado","En el tercer trimestre de 2023, se han realizado el espacio de diálogos a través de Facebook Live, sobre el fortalecimiento en el diligenciamiento en el Sistema de Información Estadística de la Rama Judicial - SIERJU, en cumplimiento del cronograma establecido para tal fin."]
[null,null,null,null,{"$f":"IFERROR(' GESTION CSJMETA'!H41,\" \")","v":"Realizar las Mesas Interjurisdiccionales Indígenas"},{"$f":"IFERROR(' GESTION CSJMETA'!I41,\" \")","v":"Entregable"},{"$f":"IFERROR(' GESTION CSJMETA'!J41,\" \")","v":0},null,"","No se han presentado","En el tercer trimestre de 2023, se realizó la Mesa Departamental de Coordinación Interjurisdiccional del Vaupés, el día 13 de julio de 2023, de manera presencial en el Mitú - Vaupés en jornada de 8:00 am a 5:00 pm, la cual también fue transmitida a través del enlace streaming: https://stream.lifesizacloud.com/extrension/18582032/59c3f7b8-522d-4322-b6a3e3abd101da8a"]
[null,null,null,null,{"$f":"IFERROR(' GESTION CSJMETA'!H42,\" \")","v":0},{"$f":"IFERROR(' GESTION CSJMETA'!I42,\" \")","v":0},{"$f":"IFERROR(' GESTION CSJMETA'!J42,\" \")","v":0},null,""]
[null,null,null,null,{"$f":"IFERROR(' GESTION CSJMETA'!H43,\" \")","v":0},{"$f":"IFERROR(' GESTION CSJMETA'!I43,\" \")","v":0},{"$f":"IFERROR(' GESTION CSJMETA'!J43,\" \")","v":0},null,""]
[null,null,null,null,{"$f":"IFERROR(' GESTION CSJMETA'!H44,\" \")","v":0},{"$f":"IFERROR(' GESTION CSJMETA'!I44,\" \")","v":0},{"$f":"IFERROR(' GESTION CSJMETA'!J44,\" \")","v":0},null,""]
[null,null,null,null,{"$f":"IFERROR(' GESTION CSJMETA'!H45,\" \")","v":0},{"$f":"IFERROR(' GESTION CSJMETA'!I45,\" \")","v":0},{"$f":"IFERROR(' GESTION CSJMETA'!J45,\" \")","v":0},null,""]
[null,null,"5. Impulsar el uso de mecanismos alternativos para la solución de conflictos y la ampliación de la justicia restaurativa y terapéutica y el robustecimiento de las alternativas al encarcelamiento","2. Asegurar  el cumplimiento de los objetivos institucionales, la normatividad aplicable,  la mejora del SIGCMA y la satisfacción de los usuarios, revisando de  forma continua y sistemática la planificación de la gestión y fortaleciendo la administración de riesgos y sus controles",{"$f":"IFERROR(' GESTION CSJMETA'!H46,\" \")","v":0},{"$f":"IFERROR(' GESTION CSJMETA'!I46,\" \")","v":0},{"$f":"IFERROR(' GESTION CSJMETA'!J46,\" \")","v":0},null,""]
[null,null,null,null,{"$f":"IFERROR(' GESTION CSJMETA'!H47,\" \")","v":0},{"$f":"IFERROR(' GESTION CSJMETA'!I47,\" \")","v":0},{"$f":"IFERROR(' GESTION CSJMETA'!J47,\" \")","v":0},null,""]
[null,null,null,null,{"$f":"IFERROR(' GESTION CSJMETA'!H48,\" \")","v":0},{"$f":"IFERROR(' GESTION CSJMETA'!I48,\" \")","v":0},{"$f":"IFERROR(' GESTION CSJMETA'!J48,\" \")","v":0},null,""]
[null,null,null,null,{"$f":"IFERROR(' GESTION CSJMETA'!H49,\" \")","v":0},{"$f":"IFERROR(' GESTION CSJMETA'!I49,\" \")","v":0},{"$f":"IFERROR(' GESTION CSJMETA'!J49,\" \")","v":0},null,""]
[null,null,null,null,{"$f":"IFERROR(' GESTION CSJMETA'!H50,\" \")","v":0},{"$f":"IFERROR(' GESTION CSJMETA'!I50,\" \")","v":0},{"$f":"IFERROR(' GESTION CSJMETA'!J50,\" \")","v":0},null,""]
[null,null,null,null,{"$f":"IFERROR(' GESTION CSJMETA'!H51,\" \")","v":0},{"$f":"IFERROR(' GESTION CSJMETA'!I51,\" \")","v":0},{"$f":"IFERROR(' GESTION CSJMETA'!J51,\" \")","v":0},null,""]
[null,null,null,null,{"$f":"IFERROR(' GESTION CSJMETA'!H52,\" \")","v":0},{"$f":"IFERROR(' GESTION CSJMETA'!I52,\" \")","v":0},{"$f":"IFERROR(' GESTION CSJMETA'!J52,\" \")","v":0},null,""]
[null,null,null,null,{"$f":"IFERROR(' GESTION CSJMETA'!H53,\" \")","v":0},{"$f":"IFERROR(' GESTION CSJMETA'!I53,\" \")","v":0},{"$f":"IFERROR(' GESTION CSJMETA'!J53,\" \")","v":0},null,""]
[null,null,null,null,{"$f":"IFERROR(' GESTION CSJMETA'!H54,\" \")","v":0},{"$f":"IFERROR(' GESTION CSJMETA'!I54,\" \")","v":0},{"$f":"IFERROR(' GESTION CSJMETA'!J54,\" \")","v":0},null,""]
[null,null,null,null,{"$f":"IFERROR(' GESTION CSJMETA'!H55,\" \")","v":0},{"$f":"IFERROR(' GESTION CSJMETA'!I55,\" \")","v":0},{"$f":"IFERROR(' GESTION CSJMETA'!J55,\" \")","v":0},null,""]
["2. Servicios digitales y de tecnología, innovación y análisis de la información.","Servicios digitales y de tecnología, innovación y análisis de la información: Consolidar una justicia integrada y soportada en servicios digitales y de tecnología, innovación y análisis de la información, con una cultura digital apropiada, segura y sensible a las realidades del territorio nacional. ","1. Ampliar el acceso a la justicia a través de la consolidación del uso de los servicios digitales que conforman el sistema único integrado de gestión judicial en todos los despachos judiciales y dependencias de apoyo y, específicamente, incluyendo el despliegue e implementación del Expediente Judicial Electrónico en todas las jurisdicciones y especialidades.","6. Proteger, preservar y administrar los activos de información  implementando acciones  para gestionar de forma adecuada los incidentes, proteger los datos personales y adoptar mecanismos  de ciberseguridad y aseguramiento de la  continuidad del negocio.",{"$f":"IFERROR(' GESTION CSJMETA'!H56,\" \")","v":0},{"$f":"IFERROR(' GESTION CSJMETA'!I56,\" \")","v":0},{"$f":"IFERROR(' GESTION CSJMETA'!J56,\" \")","v":0},null,""]
[null,null,null,null,{"$f":"IFERROR(' GESTION CSJMETA'!H57,\" \")","v":0},{"$f":"IFERROR(' GESTION CSJMETA'!I57,\" \")","v":0},{"$f":"IFERROR(' GESTION CSJMETA'!J57,\" \")","v":0},null,""]
[null,null,null,null,{"$f":"IFERROR(' GESTION CSJMETA'!H58,\" \")","v":0},{"$f":"IFERROR(' GESTION CSJMETA'!I58,\" \")","v":0},{"$f":"IFERROR(' GESTION CSJMETA'!J58,\" \")","v":0},null,""]
[null,null,null,null,{"$f":"IFERROR(' GESTION CSJMETA'!H59,\" \")","v":0},{"$f":"IFERROR(' GESTION CSJMETA'!I59,\" \")","v":0},{"$f":"IFERROR(' GESTION CSJMETA'!J59,\" \")","v":0},null,""]
[null,null,null,null,{"$f":"IFERROR(' GESTION CSJMETA'!H60,\" \")","v":0},{"$f":"IFERROR(' GESTION CSJMETA'!I60,\" \")","v":0},{"$f":"IFERROR(' GESTION CSJMETA'!J60,\" \")","v":0},null,""]
[null,null,null,null,{"$f":"IFERROR(' GESTION CSJMETA'!H61,\" \")","v":0},{"$f":"IFERROR(' GESTION CSJMETA'!I61,\" \")","v":0},{"$f":"IFERROR(' GESTION CSJMETA'!J61,\" \")","v":0},null,""]
[null,null,null,null,{"$f":"IFERROR(' GESTION CSJMETA'!H62,\" \")","v":0},{"$f":"IFERROR(' GESTION CSJMETA'!I62,\" \")","v":0},{"$f":"IFERROR(' GESTION CSJMETA'!J62,\" \")","v":0},null,""]
[null,null,null,null,{"$f":"IFERROR(' GESTION CSJMETA'!H63,\" \")","v":0},{"$f":"IFERROR(' GESTION CSJMETA'!I63,\" \")","v":0},{"$f":"IFERROR(' GESTION CSJMETA'!J63,\" \")","v":0},null,""]
[null,null,null,null,{"$f":"IFERROR(' GESTION CSJMETA'!H64,\" \")","v":0},{"$f":"IFERROR(' GESTION CSJMETA'!I64,\" \")","v":0},{"$f":"IFERROR(' GESTION CSJMETA'!J64,\" \")","v":0},null,""]
[null,null,null,null,{"$f":"IFERROR(' GESTION CSJMETA'!H65,\" \")","v":0},{"$f":"IFERROR(' GESTION CSJMETA'!I65,\" \")","v":0},{"$f":"IFERROR(' GESTION CSJMETA'!J65,\" \")","v":0},null,""]
[null,null,"2. Integrar y hacer compatibles todos los aplicativos de transición con SIUGJ, para que la migración de los expedientes judiciales a dicha plataforma sea real y no suponga afectaciones en la prestación del servicio de justicia.",null,{"$f":"IFERROR(' GESTION CSJMETA'!H66,\" \")","v":0},{"$f":"IFERROR(' GESTION CSJMETA'!I66,\" \")","v":0},{"$f":"IFERROR(' GESTION CSJMETA'!J66,\" \")","v":0},null,""]
[null,null,null,null,{"$f":"IFERROR(' GESTION CSJMETA'!H67,\" \")","v":0},{"$f":"IFERROR(' GESTION CSJMETA'!I67,\" \")","v":0},{"$f":"IFERROR(' GESTION CSJMETA'!J67,\" \")","v":0},null,""]
[null,null,null,null,{"$f":"IFERROR(' GESTION CSJMETA'!H68,\" \")","v":0},{"$f":"IFERROR(' GESTION CSJMETA'!I68,\" \")","v":0},{"$f":"IFERROR(' GESTION CSJMETA'!J68,\" \")","v":0},null,""]
[null,null,null,null,{"$f":"IFERROR(' GESTION CSJMETA'!H69,\" \")","v":0},{"$f":"IFERROR(' GESTION CSJMETA'!I69,\" \")","v":0},{"$f":"IFERROR(' GESTION CSJMETA'!J69,\" \")","v":0},null,""]
[null,null,null,null,{"$f":"IFERROR(' GESTION CSJMETA'!H70,\" \")","v":0},{"$f":"IFERROR(' GESTION CSJMETA'!I70,\" \")","v":0},{"$f":"IFERROR(' GESTION CSJMETA'!J70,\" \")","v":0},null,{"$f":"IFERROR(H70/G70,\"\")","v":""}]
[null,null,null,null,{"$f":"IFERROR(' GESTION CSJMETA'!H71,\" \")","v":0},{"$f":"IFERROR(' GESTION CSJMETA'!I71,\" \")","v":0},{"$f":"IFERROR(' GESTION CSJMETA'!J71,\" \")","v":0},null,""]
[null,null,null,null,{"$f":"IFERROR(' GESTION CSJMETA'!H72,\" \")","v":0},{"$f":"IFERROR(' GESTION CSJMETA'!I72,\" \")","v":0},{"$f":"IFERROR(' GESTION CSJMETA'!J72,\" \")","v":0},null,""]
[null,null,null,null,{"$f":"IFERROR(' GESTION CSJMETA'!H73,\" \")","v":0},{"$f":"IFERROR(' GESTION CSJMETA'!I73,\" \")","v":0},{"$f":"IFERROR(' GESTION CSJMETA'!J73,\" \")","v":0},null,""]
[null,null,null,null,{"$f":"IFERROR(' GESTION CSJMETA'!H74,\" \")","v":0},{"$f":"IFERROR(' GESTION CSJMETA'!I74,\" \")","v":0},{"$f":"IFERROR(' GESTION CSJMETA'!J74,\" \")","v":0},null,""]
[null,null,null,null,{"$f":"IFERROR(' GESTION CSJMETA'!H75,\" \")","v":0},{"$f":"IFERROR(' GESTION CSJMETA'!I75,\" \")","v":0},{"$f":"IFERROR(' GESTION CSJMETA'!J75,\" \")","v":0},null,""]
[null,null,"3. Fortalecer las capacidades institucionales, adecuar el modelo operativo y de servicio, bajo un enfoque de Arquitectura Empresarial y de fortalecimiento del acceso a la justicia.",null,{"$f":"IFERROR(' GESTION CSJMETA'!H76,\" \")","v":0},{"$f":"IFERROR(' GESTION CSJMETA'!I76,\" \")","v":0},{"$f":"IFERROR(' GESTION CSJMETA'!J76,\" \")","v":0},null,""]
[null,null,null,null,{"$f":"IFERROR(' GESTION CSJMETA'!H77,\" \")","v":0},{"$f":"IFERROR(' GESTION CSJMETA'!I77,\" \")","v":0},{"$f":"IFERROR(' GESTION CSJMETA'!J77,\" \")","v":0},null,""]
[null,null,null,null,{"$f":"IFERROR(' GESTION CSJMETA'!H78,\" \")","v":0},{"$f":"IFERROR(' GESTION CSJMETA'!I78,\" \")","v":0},{"$f":"IFERROR(' GESTION CSJMETA'!J78,\" \")","v":0},null,""]
[null,null,null,null,{"$f":"IFERROR(' GESTION CSJMETA'!H79,\" \")","v":0},{"$f":"IFERROR(' GESTION CSJMETA'!I79,\" \")","v":0},{"$f":"IFERROR(' GESTION CSJMETA'!J79,\" \")","v":0},null,""]
[null,null,null,null,{"$f":"IFERROR(' GESTION CSJMETA'!H80,\" \")","v":0},{"$f":"IFERROR(' GESTION CSJMETA'!I80,\" \")","v":0},{"$f":"IFERROR(' GESTION CSJMETA'!J80,\" \")","v":0},null,""]
[null,null,null,null,{"$f":"IFERROR(' GESTION CSJMETA'!H81,\" \")","v":0},{"$f":"IFERROR(' GESTION CSJMETA'!I81,\" \")","v":0},{"$f":"IFERROR(' GESTION CSJMETA'!J81,\" \")","v":0},null,""]
[null,null,null,null,{"$f":"IFERROR(' GESTION CSJMETA'!H82,\" \")","v":0},{"$f":"IFERROR(' GESTION CSJMETA'!I82,\" \")","v":0},{"$f":"IFERROR(' GESTION CSJMETA'!J82,\" \")","v":0},null,""]
[null,null,null,null,{"$f":"IFERROR(' GESTION CSJMETA'!H83,\" \")","v":0},{"$f":"IFERROR(' GESTION CSJMETA'!I83,\" \")","v":0},{"$f":"IFERROR(' GESTION CSJMETA'!J83,\" \")","v":0},null,""]
[null,null,null,null,{"$f":"IFERROR(' GESTION CSJMETA'!H84,\" \")","v":0},{"$f":"IFERROR(' GESTION CSJMETA'!I84,\" \")","v":0},{"$f":"IFERROR(' GESTION CSJMETA'!J84,\" \")","v":0},null,""]
[null,null,null,null,{"$f":"IFERROR(' GESTION CSJMETA'!H85,\" \")","v":0},{"$f":"IFERROR(' GESTION CSJMETA'!I85,\" \")","v":0},{"$f":"IFERROR(' GESTION CSJMETA'!J85,\" \")","v":0},null,""]
[null,null,"4.Consolidar la cultura y apropiación de la transformación digital en los servidores y usuarios de los servicios de la Rama Judicial y reducir brechas de acceso y conocimiento, incluyendo la oferta efectiva de información sobre el uso de las nuevas herramientas virtuales implementadas en las diferentes jurisdicciones, con especial énfasis en las zonas del país donde es evidente la brecha digital.",null,{"$f":"IFERROR(' GESTION CSJMETA'!H86,\" \")","v":0},{"$f":"IFERROR(' GESTION CSJMETA'!I86,\" \")","v":0},{"$f":"IFERROR(' GESTION CSJMETA'!J86,\" \")","v":0},null,""]
[null,null,null,null,{"$f":"IFERROR(' GESTION CSJMETA'!H87,\" \")","v":0},{"$f":"IFERROR(' GESTION CSJMETA'!I87,\" \")","v":0},{"$f":"IFERROR(' GESTION CSJMETA'!J87,\" \")","v":0},null,""]
[null,null,null,null,{"$f":"IFERROR(' GESTION CSJMETA'!H88,\" \")","v":0},{"$f":"IFERROR(' GESTION CSJMETA'!I88,\" \")","v":0},{"$f":"IFERROR(' GESTION CSJMETA'!J88,\" \")","v":0},null,""]
[null,null,null,null,{"$f":"IFERROR(' GESTION CSJMETA'!H89,\" \")","v":0},{"$f":"IFERROR(' GESTION CSJMETA'!I89,\" \")","v":0},{"$f":"IFERROR(' GESTION CSJMETA'!J89,\" \")","v":0},null,""]
[null,null,null,null,{"$f":"IFERROR(' GESTION CSJMETA'!H90,\" \")","v":0},{"$f":"IFERROR(' GESTION CSJMETA'!I90,\" \")","v":0},{"$f":"IFERROR(' GESTION CSJMETA'!J90,\" \")","v":0},null,""]
[null,null,null,null,{"$f":"IFERROR(' GESTION CSJMETA'!H91,\" \")","v":0},{"$f":"IFERROR(' GESTION CSJMETA'!I91,\" \")","v":0},{"$f":"IFERROR(' GESTION CSJMETA'!J91,\" \")","v":0},null,""]
[null,null,null,null,{"$f":"IFERROR(' GESTION CSJMETA'!H92,\" \")","v":0},{"$f":"IFERROR(' GESTION CSJMETA'!I92,\" \")","v":0},{"$f":"IFERROR(' GESTION CSJMETA'!J92,\" \")","v":0},null,""]
[null,null,null,null,{"$f":"IFERROR(' GESTION CSJMETA'!H93,\" \")","v":0},{"$f":"IFERROR(' GESTION CSJMETA'!I93,\" \")","v":0},{"$f":"IFERROR(' GESTION CSJMETA'!J93,\" \")","v":0},null,""]
[null,null,null,null,{"$f":"IFERROR(' GESTION CSJMETA'!H94,\" \")","v":0},{"$f":"IFERROR(' GESTION CSJMETA'!I94,\" \")","v":0},{"$f":"IFERROR(' GESTION CSJMETA'!J94,\" \")","v":0},null,""]
[null,null,null,null,{"$f":"IFERROR(' GESTION CSJMETA'!H95,\" \")","v":0},{"$f":"IFERROR(' GESTION CSJMETA'!I95,\" \")","v":0},{"$f":"IFERROR(' GESTION CSJMETA'!J95,\" \")","v":0},null,""]
[null,null,"5.Consolidar la infraestructura y los recursos necesarios para la implementación exitosa de la transformación digital, incluyendo la disposición de internet de calidad en el 100% de las sedes en la Rama Judicial y modernizar los servicios tecnológicos de soporte. ",null,{"$f":"IFERROR(' GESTION CSJMETA'!H96,\" \")","v":0},{"$f":"IFERROR(' GESTION CSJMETA'!I96,\" \")","v":0},{"$f":"IFERROR(' GESTION CSJMETA'!J96,\" \")","v":0},null,""]
[null,null,null,null,{"$f":"IFERROR(' GESTION CSJMETA'!H97,\" \")","v":0},{"$f":"IFERROR(' GESTION CSJMETA'!I97,\" \")","v":0},{"$f":"IFERROR(' GESTION CSJMETA'!J97,\" \")","v":0},null,""]
[null,null,null,null,{"$f":"IFERROR(' GESTION CSJMETA'!H98,\" \")","v":0},{"$f":"IFERROR(' GESTION CSJMETA'!I98,\" \")","v":0},{"$f":"IFERROR(' GESTION CSJMETA'!J98,\" \")","v":0},null,""]
[null,null,null,null,{"$f":"IFERROR(' GESTION CSJMETA'!H99,\" \")","v":0},{"$f":"IFERROR(' GESTION CSJMETA'!I99,\" \")","v":0},{"$f":"IFERROR(' GESTION CSJMETA'!J99,\" \")","v":0},null,""]
[null,null,null,null,{"$f":"IFERROR(' GESTION CSJMETA'!H100,\" \")","v":0},{"$f":"IFERROR(' GESTION CSJMETA'!I100,\" \")","v":0},{"$f":"IFERROR(' GESTION CSJMETA'!J100,\" \")","v":0},null,""]
[null,null,null,null,{"$f":"IFERROR(' GESTION CSJMETA'!H101,\" \")","v":0},{"$f":"IFERROR(' GESTION CSJMETA'!I101,\" \")","v":0},{"$f":"IFERROR(' GESTION CSJMETA'!J101,\" \")","v":0},null,""]
[null,null,null,null,{"$f":"IFERROR(' GESTION CSJMETA'!H102,\" \")","v":0},{"$f":"IFERROR(' GESTION CSJMETA'!I102,\" \")","v":0},{"$f":"IFERROR(' GESTION CSJMETA'!J102,\" \")","v":0},null,""]
[null,null,null,null,{"$f":"IFERROR(' GESTION CSJMETA'!H103,\" \")","v":0},{"$f":"IFERROR(' GESTION CSJMETA'!I103,\" \")","v":0},{"$f":"IFERROR(' GESTION CSJMETA'!J103,\" \")","v":0},null,""]
[null,null,null,null,{"$f":"IFERROR(' GESTION CSJMETA'!H104,\" \")","v":0},{"$f":"IFERROR(' GESTION CSJMETA'!I104,\" \")","v":0},{"$f":"IFERROR(' GESTION CSJMETA'!J104,\" \")","v":0},null,""]
[null,null,null,null,{"$f":"IFERROR(' GESTION CSJMETA'!H105,\" \")","v":0},{"$f":"IFERROR(' GESTION CSJMETA'!I105,\" \")","v":0},{"$f":"IFERROR(' GESTION CSJMETA'!J105,\" \")","v":0},null,""]
[null,null,"6.Integrar y optimizar los servicios administrativos de la Rama Judicial bajo un enfoque de transformación digital e innovación incluyendo los componentes financiero, administrativo, talento humano, entre otros",null,{"$f":"IFERROR(' GESTION CSJMETA'!H106,\" \")","v":0},{"$f":"IFERROR(' GESTION CSJMETA'!I106,\" \")","v":0},{"$f":"IFERROR(' GESTION CSJMETA'!J106,\" \")","v":0},null,""]
[null,null,null,null,{"$f":"IFERROR(' GESTION CSJMETA'!H107,\" \")","v":0},{"$f":"IFERROR(' GESTION CSJMETA'!I107,\" \")","v":0},{"$f":"IFERROR(' GESTION CSJMETA'!J107,\" \")","v":0},null,""]
[null,null,null,null,{"$f":"IFERROR(' GESTION CSJMETA'!H108,\" \")","v":0},{"$f":"IFERROR(' GESTION CSJMETA'!I108,\" \")","v":0},{"$f":"IFERROR(' GESTION CSJMETA'!J108,\" \")","v":0},null,""]
[null,null,null,null,{"$f":"IFERROR(' GESTION CSJMETA'!H109,\" \")","v":0},{"$f":"IFERROR(' GESTION CSJMETA'!I109,\" \")","v":0},{"$f":"IFERROR(' GESTION CSJMETA'!J109,\" \")","v":0},null,""]
[null,null,null,null,{"$f":"IFERROR(' GESTION CSJMETA'!H110,\" \")","v":0},{"$f":"IFERROR(' GESTION CSJMETA'!I110,\" \")","v":0},{"$f":"IFERROR(' GESTION CSJMETA'!J110,\" \")","v":0},null,""]
[null,null,null,null,{"$f":"IFERROR(' GESTION CSJMETA'!H111,\" \")","v":0},{"$f":"IFERROR(' GESTION CSJMETA'!I111,\" \")","v":0},{"$f":"IFERROR(' GESTION CSJMETA'!J111,\" \")","v":0},null,""]
[null,null,null,null,{"$f":"IFERROR(' GESTION CSJMETA'!H112,\" \")","v":0},{"$f":"IFERROR(' GESTION CSJMETA'!I112,\" \")","v":0},{"$f":"IFERROR(' GESTION CSJMETA'!J112,\" \")","v":0},null,""]
[null,null,null,null,{"$f":"IFERROR(' GESTION CSJMETA'!H113,\" \")","v":0},{"$f":"IFERROR(' GESTION CSJMETA'!I113,\" \")","v":0},{"$f":"IFERROR(' GESTION CSJMETA'!J113,\" \")","v":0},null,""]
[null,null,null,null,{"$f":"IFERROR(' GESTION CSJMETA'!H114,\" \")","v":0},{"$f":"IFERROR(' GESTION CSJMETA'!I114,\" \")","v":0},{"$f":"IFERROR(' GESTION CSJMETA'!J114,\" \")","v":0},null,""]
[null,null,null,null,{"$f":"IFERROR(' GESTION CSJMETA'!H115,\" \")","v":0},{"$f":"IFERROR(' GESTION CSJMETA'!I115,\" \")","v":0},{"$f":"IFERROR(' GESTION CSJMETA'!J115,\" \")","v":0},null,""]
["3. Confianza pública, transparencia y rendición de cuentas","Confianza pública, transparencia y rendición de cuentas: Aumentar la confianza pública en la justicia a través de la transparencia, la rendición de cuentas y la participación, incluyendo la información de justicia y la producción, gestión y acceso a las fuentes de derecho, el fortalecimiento del sistema de gestión de calidad y medio ambiente (SIGCMA) y el mejoramiento de la calidad y publicidad de la información. ","1. Incrementar la cantidad, la calidad y pertinencia de los datos sobre el funcionamiento del servicio de justicia bajo un modelo de gobierno de datos y un liderazgo unificado. ","4. Hacer un uso racional de los recursos naturales aplicando los principios y fases de la Economía Circular, para prevenir, mitigar y controlar los impactos ambientales.",{"$f":"IFERROR(' GESTION CSJMETA'!H116,\" \")","v":0},{"$f":"IFERROR(' GESTION CSJMETA'!I116,\" \")","v":0},{"$f":"IFERROR(' GESTION CSJMETA'!J116,\" \")","v":0},null,""]
[null,null,null,null,{"$f":"IFERROR(' GESTION CSJMETA'!H117,\" \")","v":0},{"$f":"IFERROR(' GESTION CSJMETA'!I117,\" \")","v":0},{"$f":"IFERROR(' GESTION CSJMETA'!J117,\" \")","v":0},null,""]
[null,null,null,null,{"$f":"IFERROR(' GESTION CSJMETA'!H118,\" \")","v":0},{"$f":"IFERROR(' GESTION CSJMETA'!I118,\" \")","v":0},{"$f":"IFERROR(' GESTION CSJMETA'!J118,\" \")","v":0},null,""]
[null,null,null,null,{"$f":"IFERROR(' GESTION CSJMETA'!H119,\" \")","v":0},{"$f":"IFERROR(' GESTION CSJMETA'!I119,\" \")","v":0},{"$f":"IFERROR(' GESTION CSJMETA'!J119,\" \")","v":0},null,""]
[null,null,null,null,{"$f":"IFERROR(' GESTION CSJMETA'!H120,\" \")","v":0},{"$f":"IFERROR(' GESTION CSJMETA'!I120,\" \")","v":0},{"$f":"IFERROR(' GESTION CSJMETA'!J120,\" \")","v":0},null,""]
[null,null,null,null,{"$f":"IFERROR(' GESTION CSJMETA'!H121,\" \")","v":0},{"$f":"IFERROR(' GESTION CSJMETA'!I121,\" \")","v":0},{"$f":"IFERROR(' GESTION CSJMETA'!J121,\" \")","v":0},null,""]
[null,null,null,null,{"$f":"IFERROR(' GESTION CSJMETA'!H122,\" \")","v":0},{"$f":"IFERROR(' GESTION CSJMETA'!I122,\" \")","v":0},{"$f":"IFERROR(' GESTION CSJMETA'!J122,\" \")","v":0},null,""]
[null,null,null,null,{"$f":"IFERROR(' GESTION CSJMETA'!H123,\" \")","v":0},{"$f":"IFERROR(' GESTION CSJMETA'!I123,\" \")","v":0},{"$f":"IFERROR(' GESTION CSJMETA'!J123,\" \")","v":0},null,""]
[null,null,null,null,{"$f":"IFERROR(' GESTION CSJMETA'!H124,\" \")","v":0},{"$f":"IFERROR(' GESTION CSJMETA'!I124,\" \")","v":0},{"$f":"IFERROR(' GESTION CSJMETA'!J124,\" \")","v":0},null,""]
[null,null,null,null,{"$f":"IFERROR(' GESTION CSJMETA'!H125,\" \")","v":0},{"$f":"IFERROR(' GESTION CSJMETA'!I125,\" \")","v":0},{"$f":"IFERROR(' GESTION CSJMETA'!J125,\" \")","v":0},null,""]
[null,null,"2. Consolidar la administración de la información entendida como todas las acciones rientadas a garantizar el acceso, consulta, uso y conservación de la información de justicia de manera ágil, flexible e inteligente, bajo un enfoque de innovación.",null,{"$f":"IFERROR(' GESTION CSJMETA'!H126,\" \")","v":0},{"$f":"IFERROR(' GESTION CSJMETA'!I126,\" \")","v":0},{"$f":"IFERROR(' GESTION CSJMETA'!J126,\" \")","v":0},null,""]
[null,null,null,null,{"$f":"IFERROR(' GESTION CSJMETA'!H127,\" \")","v":0},{"$f":"IFERROR(' GESTION CSJMETA'!I127,\" \")","v":0},{"$f":"IFERROR(' GESTION CSJMETA'!J127,\" \")","v":0},null,""]
[null,null,null,null,{"$f":"IFERROR(' GESTION CSJMETA'!H128,\" \")","v":0},{"$f":"IFERROR(' GESTION CSJMETA'!I128,\" \")","v":0},{"$f":"IFERROR(' GESTION CSJMETA'!J128,\" \")","v":0},null,""]
[null,null,null,null,{"$f":"IFERROR(' GESTION CSJMETA'!H129,\" \")","v":0},{"$f":"IFERROR(' GESTION CSJMETA'!I129,\" \")","v":0},{"$f":"IFERROR(' GESTION CSJMETA'!J129,\" \")","v":0},null,""]
[null,null,null,null,{"$f":"IFERROR(' GESTION CSJMETA'!H130,\" \")","v":0},{"$f":"IFERROR(' GESTION CSJMETA'!I130,\" \")","v":0},{"$f":"IFERROR(' GESTION CSJMETA'!J130,\" \")","v":0},null,""]
[null,null,null,null,{"$f":"IFERROR(' GESTION CSJMETA'!H131,\" \")","v":0},{"$f":"IFERROR(' GESTION CSJMETA'!I131,\" \")","v":0},{"$f":"IFERROR(' GESTION CSJMETA'!J131,\" \")","v":0},null,""]
[null,null,null,null,{"$f":"IFERROR(' GESTION CSJMETA'!H132,\" \")","v":0},{"$f":"IFERROR(' GESTION CSJMETA'!I132,\" \")","v":0},{"$f":"IFERROR(' GESTION CSJMETA'!J132,\" \")","v":0},null,""]
[null,null,null,null,{"$f":"IFERROR(' GESTION CSJMETA'!H133,\" \")","v":0},{"$f":"IFERROR(' GESTION CSJMETA'!I133,\" \")","v":0},{"$f":"IFERROR(' GESTION CSJMETA'!J133,\" \")","v":0},null,""]
[null,null,null,null,{"$f":"IFERROR(' GESTION CSJMETA'!H134,\" \")","v":0},{"$f":"IFERROR(' GESTION CSJMETA'!I134,\" \")","v":0},{"$f":"IFERROR(' GESTION CSJMETA'!J134,\" \")","v":0},null,{"$f":"IFERROR(H134/G134,\"\")","v":""}]
[null,null,null,null,{"$f":"IFERROR(' GESTION CSJMETA'!H135,\" \")","v":0},{"$f":"IFERROR(' GESTION CSJMETA'!I135,\" \")","v":0},{"$f":"IFERROR(' GESTION CSJMETA'!J135,\" \")","v":0},null,""]
[null,null,"3. Fortalecer el Sistema integrado de Gestión de la Rama, orientado a la implementación y certificación de las normas antisoborno.","1. Gestionar el desarrollo de las competencias, la toma de conciencia , la cultura  organizacional  y el compromiso de los  servidores judiciales, contratistas, practicantes y  judicantes de contribuir a generar valor público en la administración de justicia, en el marco de  cumplimiento de los requisitos  aplicables y el comportamiento ético.\n3. Fomentar la transparencia y la participación generando lineamientos y promoviendo la rendición de cuentas ,la consulta, reporte y planteamiento de inquietudes en relación con las decisiones y aspectos del SIGCMA.",{"$f":"IFERROR(' GESTION CSJMETA'!H136,\" \")","v":0},{"$f":"IFERROR(' GESTION CSJMETA'!I136,\" \")","v":0},{"$f":"IFERROR(' GESTION CSJMETA'!J136,\" \")","v":0},null,""]
[null,null,null,null,{"$f":"IFERROR(' GESTION CSJMETA'!H137,\" \")","v":0},{"$f":"IFERROR(' GESTION CSJMETA'!I137,\" \")","v":0},{"$f":"IFERROR(' GESTION CSJMETA'!J137,\" \")","v":0},null,""]
[null,null,null,null,{"$f":"IFERROR(' GESTION CSJMETA'!H138,\" \")","v":0},{"$f":"IFERROR(' GESTION CSJMETA'!I138,\" \")","v":0},{"$f":"IFERROR(' GESTION CSJMETA'!J138,\" \")","v":0},null,""]
[null,null,null,null,{"$f":"IFERROR(' GESTION CSJMETA'!H139,\" \")","v":0},{"$f":"IFERROR(' GESTION CSJMETA'!I139,\" \")","v":0},{"$f":"IFERROR(' GESTION CSJMETA'!J139,\" \")","v":0},null,""]
[null,null,null,null,{"$f":"IFERROR(' GESTION CSJMETA'!H140,\" \")","v":0},{"$f":"IFERROR(' GESTION CSJMETA'!I140,\" \")","v":0},{"$f":"IFERROR(' GESTION CSJMETA'!J140,\" \")","v":0},null,""]
[null,null,null,null,{"$f":"IFERROR(' GESTION CSJMETA'!H141,\" \")","v":0},{"$f":"IFERROR(' GESTION CSJMETA'!I141,\" \")","v":0},{"$f":"IFERROR(' GESTION CSJMETA'!J141,\" \")","v":0},null,""]
[null,null,null,null,{"$f":"IFERROR(' GESTION CSJMETA'!H142,\" \")","v":0},{"$f":"IFERROR(' GESTION CSJMETA'!I142,\" \")","v":0},{"$f":"IFERROR(' GESTION CSJMETA'!J142,\" \")","v":0},null,""]
[null,null,null,null,{"$f":"IFERROR(' GESTION CSJMETA'!H143,\" \")","v":0},{"$f":"IFERROR(' GESTION CSJMETA'!I143,\" \")","v":0},{"$f":"IFERROR(' GESTION CSJMETA'!J143,\" \")","v":0},null,""]
[null,null,null,null,{"$f":"IFERROR(' GESTION CSJMETA'!H144,\" \")","v":0},{"$f":"IFERROR(' GESTION CSJMETA'!I144,\" \")","v":0},{"$f":"IFERROR(' GESTION CSJMETA'!J144,\" \")","v":0},null,""]
[null,null,null,null,{"$f":"IFERROR(' GESTION CSJMETA'!H145,\" \")","v":0},{"$f":"IFERROR(' GESTION CSJMETA'!I145,\" \")","v":0},{"$f":"IFERROR(' GESTION CSJMETA'!J145,\" \")","v":0},null,""]
[null,null,"4. Aumentar la confianza, la cercanía y acceso a los servicios de la Rama Judicial a través, entre otros, de una comunicación clara y asertiva con la ciudadanía.","3. Fomentar la transparencia y la participación generando lineamientos y promoviendo la rendición de cuentas ,la consulta, reporte y planteamiento de inquietudes en relación con las decisiones y aspectos del SIGCMA.",{"$f":"IFERROR(' GESTION CSJMETA'!H146,\" \")","v":0},{"$f":"IFERROR(' GESTION CSJMETA'!I146,\" \")","v":0},{"$f":"IFERROR(' GESTION CSJMETA'!J146,\" \")","v":0},null,""]
[null,null,null,null,{"$f":"IFERROR(' GESTION CSJMETA'!H147,\" \")","v":0},{"$f":"IFERROR(' GESTION CSJMETA'!I147,\" \")","v":0},{"$f":"IFERROR(' GESTION CSJMETA'!J147,\" \")","v":0},null,""]
[null,null,null,null,{"$f":"IFERROR(' GESTION CSJMETA'!H148,\" \")","v":0},{"$f":"IFERROR(' GESTION CSJMETA'!I148,\" \")","v":0},{"$f":"IFERROR(' GESTION CSJMETA'!J148,\" \")","v":0},null,""]
[null,null,null,null,{"$f":"IFERROR(' GESTION CSJMETA'!H149,\" \")","v":0},{"$f":"IFERROR(' GESTION CSJMETA'!I149,\" \")","v":0},{"$f":"IFERROR(' GESTION CSJMETA'!J149,\" \")","v":0},null,""]
[null,null,null,null,{"$f":"IFERROR(' GESTION CSJMETA'!H150,\" \")","v":0},{"$f":"IFERROR(' GESTION CSJMETA'!I150,\" \")","v":0},{"$f":"IFERROR(' GESTION CSJMETA'!J150,\" \")","v":0},null,""]
[null,null,null,null,{"$f":"IFERROR(' GESTION CSJMETA'!H151,\" \")","v":0},{"$f":"IFERROR(' GESTION CSJMETA'!I151,\" \")","v":0},{"$f":"IFERROR(' GESTION CSJMETA'!J151,\" \")","v":0},null,""]
[null,null,null,null,{"$f":"IFERROR(' GESTION CSJMETA'!H152,\" \")","v":0},{"$f":"IFERROR(' GESTION CSJMETA'!I152,\" \")","v":0},{"$f":"IFERROR(' GESTION CSJMETA'!J152,\" \")","v":0},null,""]
[null,null,null,null,{"$f":"IFERROR(' GESTION CSJMETA'!H153,\" \")","v":0},{"$f":"IFERROR(' GESTION CSJMETA'!I153,\" \")","v":0},{"$f":"IFERROR(' GESTION CSJMETA'!J153,\" \")","v":0},null,""]
[null,null,null,null,{"$f":"IFERROR(' GESTION CSJMETA'!H154,\" \")","v":0},{"$f":"IFERROR(' GESTION CSJMETA'!I154,\" \")","v":0},{"$f":"IFERROR(' GESTION CSJMETA'!J154,\" \")","v":0},null,""]
[null,null,null,null,{"$f":"IFERROR(' GESTION CSJMETA'!H155,\" \")","v":0},{"$f":"IFERROR(' GESTION CSJMETA'!I155,\" \")","v":0},{"$f":"IFERROR(' GESTION CSJMETA'!J155,\" \")","v":0},null,""]
[null,null,"5. Prevenir fenómenos asociados con actos de corrupción en la Rama Judicial y reducir las experiencias de corrupción de usuarios y servidores judiciales.",null,{"$f":"IFERROR(' GESTION CSJMETA'!H156,\" \")","v":0},{"$f":"IFERROR(' GESTION CSJMETA'!I156,\" \")","v":0},{"$f":"IFERROR(' GESTION CSJMETA'!J156,\" \")","v":0},null,""]
[null,null,null,null,{"$f":"IFERROR(' GESTION CSJMETA'!H157,\" \")","v":0},{"$f":"IFERROR(' GESTION CSJMETA'!I157,\" \")","v":0},{"$f":"IFERROR(' GESTION CSJMETA'!J157,\" \")","v":0},null,""]
[null,null,null,null,{"$f":"IFERROR(' GESTION CSJMETA'!H158,\" \")","v":0},{"$f":"IFERROR(' GESTION CSJMETA'!I158,\" \")","v":0},{"$f":"IFERROR(' GESTION CSJMETA'!J158,\" \")","v":0},null,""]
[null,null,null,null,{"$f":"IFERROR(' GESTION CSJMETA'!H159,\" \")","v":0},{"$f":"IFERROR(' GESTION CSJMETA'!I159,\" \")","v":0},{"$f":"IFERROR(' GESTION CSJMETA'!J159,\" \")","v":0},null,""]
[null,null,null,null,{"$f":"IFERROR(' GESTION CSJMETA'!H160,\" \")","v":0},{"$f":"IFERROR(' GESTION CSJMETA'!I160,\" \")","v":0},{"$f":"IFERROR(' GESTION CSJMETA'!J160,\" \")","v":0},null,""]
[null,null,null,null,{"$f":"IFERROR(' GESTION CSJMETA'!H161,\" \")","v":0},{"$f":"IFERROR(' GESTION CSJMETA'!I161,\" \")","v":0},{"$f":"IFERROR(' GESTION CSJMETA'!J161,\" \")","v":0},null,""]
[null,null,null,null,{"$f":"IFERROR(' GESTION CSJMETA'!H162,\" \")","v":0},{"$f":"IFERROR(' GESTION CSJMETA'!I162,\" \")","v":0},{"$f":"IFERROR(' GESTION CSJMETA'!J162,\" \")","v":0},null,""]
[null,null,null,null,{"$f":"IFERROR(' GESTION CSJMETA'!H163,\" \")","v":0},{"$f":"IFERROR(' GESTION CSJMETA'!I163,\" \")","v":0},{"$f":"IFERROR(' GESTION CSJMETA'!J163,\" \")","v":0},null,""]
[null,null,null,null,{"$f":"IFERROR(' GESTION CSJMETA'!H164,\" \")","v":0},{"$f":"IFERROR(' GESTION CSJMETA'!I164,\" \")","v":0},{"$f":"IFERROR(' GESTION CSJMETA'!J164,\" \")","v":0},null,""]
[null,null,null,null,{"$f":"IFERROR(' GESTION CSJMETA'!H165,\" \")","v":0},{"$f":"IFERROR(' GESTION CSJMETA'!I165,\" \")","v":0},{"$f":"IFERROR(' GESTION CSJMETA'!J165,\" \")","v":0},null,""]
[null,null,"6. Promover la rendición de cuentas y la colaboración real con la ciudadanía como fundamento para diseñar acciones de mejoramiento del acceso a la justicia.",null,{"$f":"IFERROR(' GESTION CSJMETA'!H166,\" \")","v":0},{"$f":"IFERROR(' GESTION CSJMETA'!I166,\" \")","v":0},{"$f":"IFERROR(' GESTION CSJMETA'!J166,\" \")","v":0},null,""]
[null,null,null,null,{"$f":"IFERROR(' GESTION CSJMETA'!H167,\" \")","v":0},{"$f":"IFERROR(' GESTION CSJMETA'!I167,\" \")","v":0},{"$f":"IFERROR(' GESTION CSJMETA'!J167,\" \")","v":0},null,""]
[null,null,null,null,{"$f":"IFERROR(' GESTION CSJMETA'!H168,\" \")","v":0},{"$f":"IFERROR(' GESTION CSJMETA'!I168,\" \")","v":0},{"$f":"IFERROR(' GESTION CSJMETA'!J168,\" \")","v":0},null,""]
[null,null,null,null,{"$f":"IFERROR(' GESTION CSJMETA'!H169,\" \")","v":0},{"$f":"IFERROR(' GESTION CSJMETA'!I169,\" \")","v":0},{"$f":"IFERROR(' GESTION CSJMETA'!J169,\" \")","v":0},null,""]
[null,null,null,null,{"$f":"IFERROR(' GESTION CSJMETA'!H170,\" \")","v":0},{"$f":"IFERROR(' GESTION CSJMETA'!I170,\" \")","v":0},{"$f":"IFERROR(' GESTION CSJMETA'!J170,\" \")","v":0},null,""]
[null,null,null,null,{"$f":"IFERROR(' GESTION CSJMETA'!H171,\" \")","v":0},{"$f":"IFERROR(' GESTION CSJMETA'!I171,\" \")","v":0},{"$f":"IFERROR(' GESTION CSJMETA'!J171,\" \")","v":0},null,""]
[null,null,null,null,{"$f":"IFERROR(' GESTION CSJMETA'!H172,\" \")","v":0},{"$f":"IFERROR(' GESTION CSJMETA'!I172,\" \")","v":0},{"$f":"IFERROR(' GESTION CSJMETA'!J172,\" \")","v":0},null,""]
[null,null,null,null,{"$f":"IFERROR(' GESTION CSJMETA'!H173,\" \")","v":0},{"$f":"IFERROR(' GESTION CSJMETA'!I173,\" \")","v":0},{"$f":"IFERROR(' GESTION CSJMETA'!J173,\" \")","v":0},null,""]
[null,null,null,null,{"$f":"IFERROR(' GESTION CSJMETA'!H174,\" \")","v":0},{"$f":"IFERROR(' GESTION CSJMETA'!I174,\" \")","v":0},{"$f":"IFERROR(' GESTION CSJMETA'!J174,\" \")","v":0},null,""]
[null,null,null,null,{"$f":"IFERROR(' GESTION CSJMETA'!H175,\" \")","v":0},{"$f":"IFERROR(' GESTION CSJMETA'!I175,\" \")","v":0},{"$f":"IFERROR(' GESTION CSJMETA'!J175,\" \")","v":0},null,""]
[null,null,"7. Continuar la consolidación del SIGCMA, a través de los procesos de formación en modelos de gestión, logrando la implementación y ampliación de este en los esquemas certificados de manera gradual, teniendo en cuenta las capacidades de los diferentes despachos judiciales y dependencias de la Rama Judicial y articulando el enfoque de Arquitectura Empresarial para el desarrollo del PETD a través de la gestión del conocimiento para la gestión del cambio propendiendo por una cultura de la calidad, la transparencia, la rendición de cuentas, la anticorrupción y el antisoborno","1. Gestionar el desarrollo de las competencias, la toma de conciencia , la cultura  organizacional  y el compromiso de los  servidores judiciales, contratistas, practicantes y  judicantes de contribuir a generar valor público en la administración de justicia, en el marco de  cumplimiento de los requisitos  aplicables y el comportamiento ético.\n4. Hacer un uso racional de los recursos naturales aplicando los principios y fases de la Economía Circular, para prevenir, mitigar y controlar los impactos ambientales.",{"$f":"IFERROR(' GESTION CSJMETA'!H176,\" \")","v":0},{"$f":"IFERROR(' GESTION CSJMETA'!I176,\" \")","v":0},{"$f":"IFERROR(' GESTION CSJMETA'!J176,\" \")","v":0},null,""]
[null,null,null,null,{"$f":"IFERROR(' GESTION CSJMETA'!H177,\" \")","v":"Desarrollar labor pedagógica y de control para obtener oportunamente de los tribunales y jueces de instancia  las fichas de calidad para  consolidar el factor  calidad."},{"$f":"IFERROR(' GESTION CSJMETA'!I177,\" \")","v":"Entregable"},{"$f":"IFERROR(' GESTION CSJMETA'!J177,\" \")","v":0},null,"","No se han presentado","El el tercer trimestre , se recopilo información  que se tendra como insumo   en el consolidado  de calificacion de sercivicios de los servidores de este Distrito\n"]
[null,null,null,null,{"$f":"IFERROR(' GESTION CSJMETA'!H178,\" \")","v":"Realizar las calificaciones de servicios de los servidores judiciales "},{"$f":"IFERROR(' GESTION CSJMETA'!I178,\" \")","v":"Entregable"},{"$f":"IFERROR(' GESTION CSJMETA'!J178,\" \")","v":0},null,"","No se han presentado","En el tercer  trimestre de 2023, se dio atención a la totalidad de solicitudes del estalafón relacionadas con inscripción, exclusión y actualización, logrando un avance en el cumplimiento de 100%  de 18 solicitudes recibidas al 30 deseptiembre hogaño"]
[null,null,null,null,{"$f":"IFERROR(' GESTION CSJMETA'!H179,\" \")","v":"Registrar y actualizar las novedades de la seccional en el aplicativo de escalafón."},{"$f":"IFERROR(' GESTION CSJMETA'!I179,\" \")","v":"Entregable"},{"$f":"IFERROR(' GESTION CSJMETA'!J179,\" \")","v":0},null,"","No se han presentado","En el tercer  trimestre de 2023,   fueron  notificados y publicados  oportunamente  en el micrositio  de la pagina web ramaJudicial  diseñada para este distrito 35  Acuerdos de lista de elegibles"]
[null,null,null,null,{"$f":"IFERROR(' GESTION CSJMETA'!H180,\" \")","v":"Actualización mensual del registro de elegibles y opciones de sedes de la Convocatoria No. 4"},{"$f":"IFERROR(' GESTION CSJMETA'!I180,\" \")","v":"Entregable"},{"$f":"IFERROR(' GESTION CSJMETA'!J180,\" \")","v":0},null,"","No se han presentado","El seguimineto se realiza mensualmente y la actualizacion cada vez  que se presente novedades,  en el tercer trimestre  se  presentaron actualizacion  al Escalfon Seccional "]
[null,null,null,null,{"$f":"IFERROR(' GESTION CSJMETA'!H181,\" \")","v":"Supervisión del reporte oportuno de vacantes que deberán ser provistas por el sistema de carrera judicial"},{"$f":"IFERROR(' GESTION CSJMETA'!I181,\" \")","v":"Entregable"},{"$f":"IFERROR(' GESTION CSJMETA'!J181,\" \")","v":0},null,"","No se han presentado"]
[null,null,null,null,{"$f":"IFERROR(' GESTION CSJMETA'!H182,\" \")","v":0},{"$f":"IFERROR(' GESTION CSJMETA'!I182,\" \")","v":0},{"$f":"IFERROR(' GESTION CSJMETA'!J182,\" \")","v":0},null,""]
[null,null,null,null,{"$f":"IFERROR(' GESTION CSJMETA'!H183,\" \")","v":0},{"$f":"IFERROR(' GESTION CSJMETA'!I183,\" \")","v":0},{"$f":"IFERROR(' GESTION CSJMETA'!J183,\" \")","v":0},null,""]
[null,null,null,null,{"$f":"IFERROR(' GESTION CSJMETA'!H184,\" \")","v":0},{"$f":"IFERROR(' GESTION CSJMETA'!I184,\" \")","v":0},{"$f":"IFERROR(' GESTION CSJMETA'!J184,\" \")","v":0},null,""]
[null,null,null,null,{"$f":"IFERROR(' GESTION CSJMETA'!H185,\" \")","v":0},{"$f":"IFERROR(' GESTION CSJMETA'!I185,\" \")","v":0},{"$f":"IFERROR(' GESTION CSJMETA'!J185,\" \")","v":0},null,""]
["4. Talento Humano","Talento Humano: Fortalecer el talento humano en la Rama Judicial para que sea eficiente, capacitado y realice su labor en ambientes saludables y seguros. Ampliar la cobertura de la carrera judicial y mejorar la oferta de formación, que esté disponible para todos los servidores judiciales e impacte positivamente el servicio de justicia y responda a las necesidades reales del ejercicio de la función judicial.","1. Ampliar la cobertura de la carrera judicial optimizando los procesos de los concursos de méritos y propender por mitigar su litigiosidad.","1. Gestionar el desarrollo de las competencias, la toma de conciencia , la cultura  organizacional  y el compromiso de los  servidores judiciales, contratistas, practicantes y  judicantes de contribuir a generar valor público en la administración de justicia, en el marco de  cumplimiento de los requisitos  aplicables y el comportamiento ético.",{"$f":"IFERROR(' GESTION CSJMETA'!H186,\" \")","v":0},{"$f":"IFERROR(' GESTION CSJMETA'!I186,\" \")","v":0},{"$f":"IFERROR(' GESTION CSJMETA'!J186,\" \")","v":0},null,""]
[null,null,null,null,{"$f":"IFERROR(' GESTION CSJMETA'!H187,\" \")","v":0},{"$f":"IFERROR(' GESTION CSJMETA'!I187,\" \")","v":0},{"$f":"IFERROR(' GESTION CSJMETA'!J187,\" \")","v":0},null,""]
[null,null,null,null,{"$f":"IFERROR(' GESTION CSJMETA'!H188,\" \")","v":"Difundir y divulgar la oferta académica"},{"$f":"IFERROR(' GESTION CSJMETA'!I188,\" \")","v":"Entregable"},{"$f":"IFERROR(' GESTION CSJMETA'!J188,\" \")","v":0},null,"","No se han presentado","En el tercer trimestre se han divulgado a través de los correos electrónicos institucionales a todas las dependencias judiciales y administrativas de los Distritos Judiciales de Villavicencio, San José del Guaviare y Administrativo del Meta, las actividades programadas por la Escuela Judicial Rodrigo Lara Bonilla, para un total de 13 convocatorias."]
[null,null,null,null,{"$f":"IFERROR(' GESTION CSJMETA'!H189,\" \")","v":"Realizar reuniones con el Grupo Seccional de Apoyo"},{"$f":"IFERROR(' GESTION CSJMETA'!I189,\" \")","v":"Entregable"},{"$f":"IFERROR(' GESTION CSJMETA'!J189,\" \")","v":0},null,"","No se han presentado","En el tercer trimestre se llevaron a cabo las reuniones mensuales correspondientes a julio y agosto de 2023, toda vez que en el mes de septiembre de 2023, la misma no se realizó debido a que fue programada la Auditoria externa de ICONTEC, para el Consejo Seccional de la Judicatura del Meta, la Dirección Seccional de Administración Judicial de Villavicencio y las Salas Penal, Civil Familia y Laboral del Tribunal Superior de Villavicencio, aunado a que el Presidente del Grupo Seccional se encontraba en vacaciones, de lo cual se dejó la respectiva constancia para el seguimiento. "]
[null,null,null,null,{"$f":"IFERROR(' GESTION CSJMETA'!H190,\" \")","v":0},{"$f":"IFERROR(' GESTION CSJMETA'!I190,\" \")","v":0},{"$f":"IFERROR(' GESTION CSJMETA'!J190,\" \")","v":0},null,""]
[null,null,null,null,{"$f":"IFERROR(' GESTION CSJMETA'!H191,\" \")","v":0},{"$f":"IFERROR(' GESTION CSJMETA'!I191,\" \")","v":0},{"$f":"IFERROR(' GESTION CSJMETA'!J191,\" \")","v":0},null,""]
[null,null,null,null,{"$f":"IFERROR(' GESTION CSJMETA'!H192,\" \")","v":0},{"$f":"IFERROR(' GESTION CSJMETA'!I192,\" \")","v":0},{"$f":"IFERROR(' GESTION CSJMETA'!J192,\" \")","v":0},null,""]
[null,null,null,null,{"$f":"IFERROR(' GESTION CSJMETA'!H193,\" \")","v":0},{"$f":"IFERROR(' GESTION CSJMETA'!I193,\" \")","v":0},{"$f":"IFERROR(' GESTION CSJMETA'!J193,\" \")","v":0},null,""]
[null,null,null,null,{"$f":"IFERROR(' GESTION CSJMETA'!H194,\" \")","v":0},{"$f":"IFERROR(' GESTION CSJMETA'!I194,\" \")","v":0},{"$f":"IFERROR(' GESTION CSJMETA'!J194,\" \")","v":0},null,""]
[null,null,null,null,{"$f":"IFERROR(' GESTION CSJMETA'!H195,\" \")","v":0},{"$f":"IFERROR(' GESTION CSJMETA'!I195,\" \")","v":0},{"$f":"IFERROR(' GESTION CSJMETA'!J195,\" \")","v":0},null,""]
[null,null,"2. Impactar la función y servicios que presta la Rama Judicial, a través de una formación integral desde una visión de gestión del conocimiento, relacionada con los problemas de la justicia y los problemas de gestión de quienes administran los recursos de la justicia, y potenciando el uso de medios virtuales.",null,{"$f":"IFERROR(' GESTION CSJMETA'!H196,\" \")","v":0},{"$f":"IFERROR(' GESTION CSJMETA'!I196,\" \")","v":0},{"$f":"IFERROR(' GESTION CSJMETA'!J196,\" \")","v":0},null,""]
[null,null,null,null,{"$f":"IFERROR(' GESTION CSJMETA'!H197,\" \")","v":0},{"$f":"IFERROR(' GESTION CSJMETA'!I197,\" \")","v":0},{"$f":"IFERROR(' GESTION CSJMETA'!J197,\" \")","v":0},null,""]
[null,null,null,null,{"$f":"IFERROR(' GESTION CSJMETA'!H198,\" \")","v":0},{"$f":"IFERROR(' GESTION CSJMETA'!I198,\" \")","v":0},{"$f":"IFERROR(' GESTION CSJMETA'!J198,\" \")","v":0},null,{"$f":"IFERROR(H198/G198,\"\")","v":""}]
[null,null,null,null,{"$f":"IFERROR(' GESTION CSJMETA'!H199,\" \")","v":0},{"$f":"IFERROR(' GESTION CSJMETA'!I199,\" \")","v":0},{"$f":"IFERROR(' GESTION CSJMETA'!J199,\" \")","v":0},null,""]
[null,null,null,null,{"$f":"IFERROR(' GESTION CSJMETA'!H200,\" \")","v":0},{"$f":"IFERROR(' GESTION CSJMETA'!I200,\" \")","v":0},{"$f":"IFERROR(' GESTION CSJMETA'!J200,\" \")","v":0},null,""]
[null,null,null,null,{"$f":"IFERROR(' GESTION CSJMETA'!H201,\" \")","v":0},{"$f":"IFERROR(' GESTION CSJMETA'!I201,\" \")","v":0},{"$f":"IFERROR(' GESTION CSJMETA'!J201,\" \")","v":0},null,""]
[null,null,null,null,{"$f":"IFERROR(' GESTION CSJMETA'!H202,\" \")","v":0},{"$f":"IFERROR(' GESTION CSJMETA'!I202,\" \")","v":0},{"$f":"IFERROR(' GESTION CSJMETA'!J202,\" \")","v":0},null,""]
[null,null,null,null,{"$f":"IFERROR(' GESTION CSJMETA'!H203,\" \")","v":0},{"$f":"IFERROR(' GESTION CSJMETA'!I203,\" \")","v":0},{"$f":"IFERROR(' GESTION CSJMETA'!J203,\" \")","v":0},null,""]
[null,null,null,null,{"$f":"IFERROR(' GESTION CSJMETA'!H204,\" \")","v":0},{"$f":"IFERROR(' GESTION CSJMETA'!I204,\" \")","v":0},{"$f":"IFERROR(' GESTION CSJMETA'!J204,\" \")","v":0},null,""]
[null,null,null,null,{"$f":"IFERROR(' GESTION CSJMETA'!H205,\" \")","v":0},{"$f":"IFERROR(' GESTION CSJMETA'!I205,\" \")","v":0},{"$f":"IFERROR(' GESTION CSJMETA'!J205,\" \")","v":0},null,""]
[null,null,"3. Promover la incorporación de la perspectiva de género y el enfoque diferencial en los fallos judiciales y en la atención a los ciudadanos, la administración de la Rama Judicial, la administración de la carrera judicial y la elaboración de listas para altas Cortes. ",null,{"$f":"IFERROR(' GESTION CSJMETA'!H206,\" \")","v":0},{"$f":"IFERROR(' GESTION CSJMETA'!I206,\" \")","v":0},{"$f":"IFERROR(' GESTION CSJMETA'!J206,\" \")","v":0},null,""]
[null,null,null,null,{"$f":"IFERROR(' GESTION CSJMETA'!H207,\" \")","v":0},{"$f":"IFERROR(' GESTION CSJMETA'!I207,\" \")","v":0},{"$f":"IFERROR(' GESTION CSJMETA'!J207,\" \")","v":0},null,""]
[null,null,null,null,{"$f":"IFERROR(' GESTION CSJMETA'!H208,\" \")","v":0},{"$f":"IFERROR(' GESTION CSJMETA'!I208,\" \")","v":0},{"$f":"IFERROR(' GESTION CSJMETA'!J208,\" \")","v":0},null,""]
[null,null,null,null,{"$f":"IFERROR(' GESTION CSJMETA'!H209,\" \")","v":0},{"$f":"IFERROR(' GESTION CSJMETA'!I209,\" \")","v":0},{"$f":"IFERROR(' GESTION CSJMETA'!J209,\" \")","v":0},null,""]
[null,null,null,null,{"$f":"IFERROR(' GESTION CSJMETA'!H210,\" \")","v":0},{"$f":"IFERROR(' GESTION CSJMETA'!I210,\" \")","v":0},{"$f":"IFERROR(' GESTION CSJMETA'!J210,\" \")","v":0},null,""]
[null,null,null,null,{"$f":"IFERROR(' GESTION CSJMETA'!H211,\" \")","v":0},{"$f":"IFERROR(' GESTION CSJMETA'!I211,\" \")","v":0},{"$f":"IFERROR(' GESTION CSJMETA'!J211,\" \")","v":0},null,""]
[null,null,null,null,{"$f":"IFERROR(' GESTION CSJMETA'!H212,\" \")","v":0},{"$f":"IFERROR(' GESTION CSJMETA'!I212,\" \")","v":0},{"$f":"IFERROR(' GESTION CSJMETA'!J212,\" \")","v":0},null,""]
[null,null,null,null,{"$f":"IFERROR(' GESTION CSJMETA'!H213,\" \")","v":0},{"$f":"IFERROR(' GESTION CSJMETA'!I213,\" \")","v":0},{"$f":"IFERROR(' GESTION CSJMETA'!J213,\" \")","v":0},null,""]
[null,null,null,null,{"$f":"IFERROR(' GESTION CSJMETA'!H214,\" \")","v":0},{"$f":"IFERROR(' GESTION CSJMETA'!I214,\" \")","v":0},{"$f":"IFERROR(' GESTION CSJMETA'!J214,\" \")","v":0},null,""]
[null,null,null,null,{"$f":"IFERROR(' GESTION CSJMETA'!H215,\" \")","v":0},{"$f":"IFERROR(' GESTION CSJMETA'!I215,\" \")","v":0},{"$f":"IFERROR(' GESTION CSJMETA'!J215,\" \")","v":0},null,""]
[null,null,"4. Desarrollar en los servidores judiciales y demás grupos de valor relevantes las competencias necesarias para la efectividad de la transformación digital de modo que puedan, entre otros, utilizar con solvencia las herramientas digitales dispuestas para sus respectivas funciones. Además, fortalecer y actualizar los conocimientos del personal a cargo de la gestión de proyectos de tecnología.",null,{"$f":"IFERROR(' GESTION CSJMETA'!H216,\" \")","v":0},{"$f":"IFERROR(' GESTION CSJMETA'!I216,\" \")","v":0},{"$f":"IFERROR(' GESTION CSJMETA'!J216,\" \")","v":0},null,""]
[null,null,null,null,{"$f":"IFERROR(' GESTION CSJMETA'!H217,\" \")","v":0},{"$f":"IFERROR(' GESTION CSJMETA'!I217,\" \")","v":0},{"$f":"IFERROR(' GESTION CSJMETA'!J217,\" \")","v":0},null,""]
[null,null,null,null,{"$f":"IFERROR(' GESTION CSJMETA'!H218,\" \")","v":0},{"$f":"IFERROR(' GESTION CSJMETA'!I218,\" \")","v":0},{"$f":"IFERROR(' GESTION CSJMETA'!J218,\" \")","v":0},null,""]
[null,null,null,null,{"$f":"IFERROR(' GESTION CSJMETA'!H219,\" \")","v":0},{"$f":"IFERROR(' GESTION CSJMETA'!I219,\" \")","v":0},{"$f":"IFERROR(' GESTION CSJMETA'!J219,\" \")","v":0},null,""]
[null,null,null,null,{"$f":"IFERROR(' GESTION CSJMETA'!H220,\" \")","v":0},{"$f":"IFERROR(' GESTION CSJMETA'!I220,\" \")","v":0},{"$f":"IFERROR(' GESTION CSJMETA'!J220,\" \")","v":0},null,""]
[null,null,null,null,{"$f":"IFERROR(' GESTION CSJMETA'!H221,\" \")","v":0},{"$f":"IFERROR(' GESTION CSJMETA'!I221,\" \")","v":0},{"$f":"IFERROR(' GESTION CSJMETA'!J221,\" \")","v":0},null,""]
[null,null,null,null,{"$f":"IFERROR(' GESTION CSJMETA'!H222,\" \")","v":0},{"$f":"IFERROR(' GESTION CSJMETA'!I222,\" \")","v":0},{"$f":"IFERROR(' GESTION CSJMETA'!J222,\" \")","v":0},null,""]
[null,null,null,null,{"$f":"IFERROR(' GESTION CSJMETA'!H223,\" \")","v":0},{"$f":"IFERROR(' GESTION CSJMETA'!I223,\" \")","v":0},{"$f":"IFERROR(' GESTION CSJMETA'!J223,\" \")","v":0},null,""]
[null,null,null,null,{"$f":"IFERROR(' GESTION CSJMETA'!H224,\" \")","v":0},{"$f":"IFERROR(' GESTION CSJMETA'!I224,\" \")","v":0},{"$f":"IFERROR(' GESTION CSJMETA'!J224,\" \")","v":0},null,""]
[null,null,null,null,{"$f":"IFERROR(' GESTION CSJMETA'!H225,\" \")","v":0},{"$f":"IFERROR(' GESTION CSJMETA'!I225,\" \")","v":0},{"$f":"IFERROR(' GESTION CSJMETA'!J225,\" \")","v":0},null,""]
[null,null,"5. Promover el bienestar de todos los servidores judiciales a través de la implementación de un sistema que contemple los diferentes niveles de estrategias y acciones necesarios para mejorar el clima laboral, la salud física y mental y la calidad del tiempo de descanso.","5. Generar espacios de trabajo seguros y saludables que contribuyan a minimizar los  incidentes, accidentes y enfermedades laborales derivados de las condiciones y actos  inseguros y fomentar  el autocuidado, los  estilos de vida y el trabajo saludable en los servidores judiciales, contratistas, judicantes y practicantes",{"$f":"IFERROR(' GESTION CSJMETA'!H226,\" \")","v":0},{"$f":"IFERROR(' GESTION CSJMETA'!I226,\" \")","v":0},{"$f":"IFERROR(' GESTION CSJMETA'!J226,\" \")","v":0},null,""]
[null,null,null,null,{"$f":"IFERROR(' GESTION CSJMETA'!H227,\" \")","v":0},{"$f":"IFERROR(' GESTION CSJMETA'!I227,\" \")","v":0},{"$f":"IFERROR(' GESTION CSJMETA'!J227,\" \")","v":0},null,""]
[null,null,null,null,{"$f":"IFERROR(' GESTION CSJMETA'!H228,\" \")","v":0},{"$f":"IFERROR(' GESTION CSJMETA'!I228,\" \")","v":0},{"$f":"IFERROR(' GESTION CSJMETA'!J228,\" \")","v":0},null,""]
[null,null,null,null,{"$f":"IFERROR(' GESTION CSJMETA'!H229,\" \")","v":0},{"$f":"IFERROR(' GESTION CSJMETA'!I229,\" \")","v":0},{"$f":"IFERROR(' GESTION CSJMETA'!J229,\" \")","v":0},null,""]
[null,null,null,null,{"$f":"IFERROR(' GESTION CSJMETA'!H230,\" \")","v":0},{"$f":"IFERROR(' GESTION CSJMETA'!I230,\" \")","v":0},{"$f":"IFERROR(' GESTION CSJMETA'!J230,\" \")","v":0},null,""]
[null,null,null,null,{"$f":"IFERROR(' GESTION CSJMETA'!H231,\" \")","v":0},{"$f":"IFERROR(' GESTION CSJMETA'!I231,\" \")","v":0},{"$f":"IFERROR(' GESTION CSJMETA'!J231,\" \")","v":0},null,""]
[null,null,null,null,{"$f":"IFERROR(' GESTION CSJMETA'!H232,\" \")","v":0},{"$f":"IFERROR(' GESTION CSJMETA'!I232,\" \")","v":0},{"$f":"IFERROR(' GESTION CSJMETA'!J232,\" \")","v":0},null,""]
[null,null,null,null,{"$f":"IFERROR(' GESTION CSJMETA'!H233,\" \")","v":0},{"$f":"IFERROR(' GESTION CSJMETA'!I233,\" \")","v":0},{"$f":"IFERROR(' GESTION CSJMETA'!J233,\" \")","v":0},null,""]
[null,null,null,null,{"$f":"IFERROR(' GESTION CSJMETA'!H234,\" \")","v":0},{"$f":"IFERROR(' GESTION CSJMETA'!I234,\" \")","v":0},{"$f":"IFERROR(' GESTION CSJMETA'!J234,\" \")","v":0},null,""]
[null,null,null,null,{"$f":"IFERROR(' GESTION CSJMETA'!H235,\" \")","v":0},{"$f":"IFERROR(' GESTION CSJMETA'!I235,\" \")","v":0},{"$f":"IFERROR(' GESTION CSJMETA'!J235,\" \")","v":0},null,""]
["5. Gobernanza, planeación estratégica y capacidad de toma de decisiones","Gobernanza, planeación estratégica y capacidad de toma de decisiones: Fortalecer la gobernanza, la planeación estratégica y la capacidad de toma de decisiones de la Rama Judicial con base en la evidencia empírica y la articulación efectiva con las demás entidades, para que la perspectiva de género y el enfoque diferencial sean transversales en el presente plan. ","1. Implementar un nuevo modelo integrado para la planeación estratégica, el seguimiento y la medición del desempeño institucional.","2. Asegurar  el cumplimiento de los objetivos institucionales, la normatividad aplicable,  la mejora del SIGCMA y la satisfacción de los usuarios, revisando de  forma continua y sistemática la planificación de la gestión y fortaleciendo la administración de riesgos y sus controles.",{"$f":"IFERROR(' GESTION CSJMETA'!H236,\" \")","v":"Realizar seguimiento a los instrumentos de calidad"},{"$f":"IFERROR(' GESTION CSJMETA'!I236,\" \")","v":"Entregable"},{"$f":"IFERROR(' GESTION CSJMETA'!J236,\" \")","v":0},null,"","No se han presentado","En el tercer trimestre de 2023, se actualizó la actividad del proceso de Registro y Control de Abogados y Auxiliares de Justicia, dentro del Plan de Acción, correspondiente al seguimiento y control de los convenios para las prácticas jurídicas, toda vez que es una actividad relevante para el proceso y a la cual se le puede hacer un seguimiento. "]
[null,null,null,null,{"$f":"IFERROR(' GESTION CSJMETA'!H237,\" \")","v":"Realizar el Informe de la Alta Dirección"},{"$f":"IFERROR(' GESTION CSJMETA'!I237,\" \")","v":"Entregable"},{"$f":"IFERROR(' GESTION CSJMETA'!J237,\" \")","v":0},null,"","No se han presentado","Esta actividad tiene como fecha final el 30/06/2023, por lo tanto, no aplica para el tercer, un cuarto trimestre de 2023, toda vez que en el primero y segundo trimestre de 2023, se elaboró y se aprobó el Informe de Revisión por la Alta Dirección 2022."]
[null,null,null,null,{"$f":"IFERROR(' GESTION CSJMETA'!H238,\" \")","v":"Participación en los Comités Nacionales del SIGCMA"},{"$f":"IFERROR(' GESTION CSJMETA'!I238,\" \")","v":"Entregable"},{"$f":"IFERROR(' GESTION CSJMETA'!J238,\" \")","v":0},null,"","No se han presentado","En el tercer trimestre de 2023, se participó en los 10 Comités Nacional del SIGCMA, programados por la Coordinación Nacional del SIGCMA, de los cuales 6 de ellos, se realizaron en el mes de julio de 2023, como preparación a las Auditorias Internas, 4 en agosto de 2023, como capacitaciones en antisoborno y seguridad de la información y en septiembre de 2023, se suspendieron dichas reuniones, dado el período de Auditorias Externas de ICONTEC."]
[null,null,null,null,{"$f":"IFERROR(' GESTION CSJMETA'!H239,\" \")","v":0},{"$f":"IFERROR(' GESTION CSJMETA'!I239,\" \")","v":0},{"$f":"IFERROR(' GESTION CSJMETA'!J239,\" \")","v":0},null,""]
[null,null,null,null,{"$f":"IFERROR(' GESTION CSJMETA'!H240,\" \")","v":0},{"$f":"IFERROR(' GESTION CSJMETA'!I240,\" \")","v":0},{"$f":"IFERROR(' GESTION CSJMETA'!J240,\" \")","v":0},null,""]
[null,null,null,null,{"$f":"IFERROR(' GESTION CSJMETA'!H241,\" \")","v":0},{"$f":"IFERROR(' GESTION CSJMETA'!I241,\" \")","v":0},{"$f":"IFERROR(' GESTION CSJMETA'!J241,\" \")","v":0},null,""]
[null,null,null,null,{"$f":"IFERROR(' GESTION CSJMETA'!H242,\" \")","v":0},{"$f":"IFERROR(' GESTION CSJMETA'!I242,\" \")","v":0},{"$f":"IFERROR(' GESTION CSJMETA'!J242,\" \")","v":0},null,""]
[null,null,null,null,{"$f":"IFERROR(' GESTION CSJMETA'!H243,\" \")","v":0},{"$f":"IFERROR(' GESTION CSJMETA'!I243,\" \")","v":0},{"$f":"IFERROR(' GESTION CSJMETA'!J243,\" \")","v":0},null,""]
[null,null,null,null,{"$f":"IFERROR(' GESTION CSJMETA'!H244,\" \")","v":0},{"$f":"IFERROR(' GESTION CSJMETA'!I244,\" \")","v":0},{"$f":"IFERROR(' GESTION CSJMETA'!J244,\" \")","v":0},null,""]
[null,null,null,null,{"$f":"IFERROR(' GESTION CSJMETA'!H245,\" \")","v":0},{"$f":"IFERROR(' GESTION CSJMETA'!I245,\" \")","v":0},{"$f":"IFERROR(' GESTION CSJMETA'!J245,\" \")","v":0},null,""]
[null,null,"2. Definir e implementar el modelo optimizado de formulación, seguimiento y evaluación de la política pública judicial.",null,{"$f":"IFERROR(' GESTION CSJMETA'!H246,\" \")","v":0},{"$f":"IFERROR(' GESTION CSJMETA'!I246,\" \")","v":0},{"$f":"IFERROR(' GESTION CSJMETA'!J246,\" \")","v":0},null,""]
[null,null,null,null,{"$f":"IFERROR(' GESTION CSJMETA'!H247,\" \")","v":0},{"$f":"IFERROR(' GESTION CSJMETA'!I247,\" \")","v":0},{"$f":"IFERROR(' GESTION CSJMETA'!J247,\" \")","v":0},null,""]
[null,null,null,null,{"$f":"IFERROR(' GESTION CSJMETA'!H248,\" \")","v":0},{"$f":"IFERROR(' GESTION CSJMETA'!I248,\" \")","v":0},{"$f":"IFERROR(' GESTION CSJMETA'!J248,\" \")","v":0},null,""]
[null,null,null,null,{"$f":"IFERROR(' GESTION CSJMETA'!H249,\" \")","v":0},{"$f":"IFERROR(' GESTION CSJMETA'!I249,\" \")","v":0},{"$f":"IFERROR(' GESTION CSJMETA'!J249,\" \")","v":0},null,""]
[null,null,null,null,{"$f":"IFERROR(' GESTION CSJMETA'!H250,\" \")","v":0},{"$f":"IFERROR(' GESTION CSJMETA'!I250,\" \")","v":0},{"$f":"IFERROR(' GESTION CSJMETA'!J250,\" \")","v":0},null,""]
[null,null,null,null,{"$f":"IFERROR(' GESTION CSJMETA'!H251,\" \")","v":0},{"$f":"IFERROR(' GESTION CSJMETA'!I251,\" \")","v":0},{"$f":"IFERROR(' GESTION CSJMETA'!J251,\" \")","v":0},null,""]
[null,null,null,null,{"$f":"IFERROR(' GESTION CSJMETA'!H252,\" \")","v":0},{"$f":"IFERROR(' GESTION CSJMETA'!I252,\" \")","v":0},{"$f":"IFERROR(' GESTION CSJMETA'!J252,\" \")","v":0},null,""]
[null,null,null,null,{"$f":"IFERROR(' GESTION CSJMETA'!H253,\" \")","v":0},{"$f":"IFERROR(' GESTION CSJMETA'!I253,\" \")","v":0},{"$f":"IFERROR(' GESTION CSJMETA'!J253,\" \")","v":0},null,""]
[null,null,null,null,{"$f":"IFERROR(' GESTION CSJMETA'!H254,\" \")","v":0},{"$f":"IFERROR(' GESTION CSJMETA'!I254,\" \")","v":0},{"$f":"IFERROR(' GESTION CSJMETA'!J254,\" \")","v":0},null,""]
[null,null,null,null,{"$f":"IFERROR(' GESTION CSJMETA'!H255,\" \")","v":0},{"$f":"IFERROR(' GESTION CSJMETA'!I255,\" \")","v":0},{"$f":"IFERROR(' GESTION CSJMETA'!J255,\" \")","v":0},null,""]

{"sheet":"GESTION_SEG_2_TRIM CSJMETA","index":10,"n_rows":255,"n_cols":11,"rows_kept":255,"cut":false,"hidden":false,"merged":[[205,2,214,2],[215,2,224,2],[225,2,234,2],[225,3,234,3],[235,0,254,0],[235,1,254,1],[235,2,244,2],[235,3,254,3],[245,2,254,2],[185,0,234,0],[185,1,234,1],[185,2,194,2],[185,3,224,3],[195,2,204,2],[105,2,114,2],[115,0,184,0],[115,1,184,1],[115,2,124,2],[115,3,124,3],[125,2,134,2],[125,3,134,3],[135,2,144,2],[135,3,144,3],[145,2,154,2],[145,3,174,3],[155,2,164,2],[165,2,174,2],[175,2,184,2],[175,3,184,3],[45,2,54,2],[45,3,54,3],[55,0,114,0],[55,1,114,1],[55,2,64,2],[55,3,114,3],[65,2,74,2],[75,2,84,2],[85,2,94,2],[95,2,104,2],[5,0,54,0],[5,1,54,1],[5,2,14,2],[5,3,14,3],[15,2,24,2],[15,3,24,3],[25,2,34,2],[25,3,34,3],[35,2,44,2],[35,3,44,3],[1,0,1,10],[2,0,2,3],[2,4,2,9],[2,10,4,10],[3,0,4,1],[3,2,4,2],[3,3,4,3],[3,4,3,9]]}
[]
["CONSEJO SUPERIOR DE LA JUDICATURA \nUNIDADES MISIONALES DEL CONSEJO SUPERIOR DE LA JUDICATURA - \nDIRECCIÓN EJECUTIVA DE ADMINISTRACIÓN JUDICIAL - UNIDADES MISIONALES DE LA DEAJ\nDIRECCIONES SECCIONALES DE ADMINISTRACIÓN JUDICIAL - DEPENDENCIAS JUDICIALES CERTIFICADAS"]
["PLAN SECTORIAL DE DESARROLLO 2023-2026 - OBJETIVOS SIGCMA",null,null,null,null,null,null,null,null,null," ANÁLISIS RESULTADO"]
["OBJETIVO ESTRATÉGICO",null,"OBJETIVO ESPECÍFICO PSD","OBJETIVO ESPECÍFICO SIGCMA","MEDICIÓN DE LA GESTIÓN ANUAL"]
[null,null,null,null,"ACTIVIDADES ","INDIQUE SI ES ENTREGABLE O META CUANTIFICABLE","META ANUAL","AVANCE DE LA META ","NIVEL CUMPLIMIENTO","DIFICULTADES PARA LOGRAR LA META PROPUESTA"]
["1. Acceso e Infraestructura Física","Acceso e Infraestructura Física: Ampliar, en todo el territorio nacional, el acceso a una justicia efectiva, pronta, equitativa e incluyente, reduciendo el atraso y la congestión, de acuerdo con las necesidades de la demanda de justicia por jurisdicción y especialidad, y mejorando la articulación con la justicia restaurativa y terapéutica, y otros mecanismos de solución de conflictos y consolidando una infraestructura física óptima para el acceso a la justicia.","1. Ampliar el acceso a justicia para atender las necesidades jurídicas de los ciudadanos con un enfoque diferencial, de una manera pronta, reduciendo las inequidades y las brechas territoriales de acceso.","2. Asegurar  el cumplimiento de los objetivos institucionales, la normatividad aplicable,  la mejora del SIGCMA y la satisfacción de los usuarios, revisando de  forma continua y sistemática la planificación de la gestión y fortaleciendo la administración de riesgos y sus controles",{"$f":"IFERROR(' GESTION CSJMETA'!H6,\" \")","v":"Realizar propuesta de adecuación del mapa judicial "},{"$f":"IFERROR(' GESTION CSJMETA'!I6,\" \")","v":"Entregable"},{"$f":"IFERROR(' GESTION CSJMETA'!J6,\" \")","v":0},null,{"$f":"IFERROR(H6/G6,\"\")","v":""},"Sin dificultad ","En el segundo trimestre de 2023, se logra un cumplimiento del 100% conforme a la gestion realizada de la escuela judicial, se difundido satisfactoriamente entre los diferentes despachos judiciales "]
[null,null,null,null,{"$f":"IFERROR(' GESTION CSJMETA'!H7,\" \")","v":"Realizar el seguimiento y evaluación de las medidas de descongestión implementadas a nivel seccional"},{"$f":"IFERROR(' GESTION CSJMETA'!I7,\" \")","v":"Entregable"},{"$f":"IFERROR(' GESTION CSJMETA'!J7,\" \")","v":0},null,"","Sin dificultad ","Se realiza el seguimiento a las medidas  presentando el primer informe bimensual"]
[null,null,null,null,{"$f":"IFERROR(' GESTION CSJMETA'!H8,\" \")","v":"Realizar indicadores estadísticos por medio de la recolección de la información estadística SIERJU"},{"$f":"IFERROR(' GESTION CSJMETA'!I8,\" \")","v":"Entregable"},{"$f":"IFERROR(' GESTION CSJMETA'!J8,\" \")","v":0},null,"","Sin dificultad ","Para el segundo trimestre de 2023,  15  despachos judiciales presentaron el informe estadistico extemporaneamente,  esta seccional  tomo las acciones correctivas ,  y  compulso copias disciplinarias a dos de ellos  por los  reiterados incumplimientos."]
[null,null,null,null,{"$f":"IFERROR(' GESTION CSJMETA'!H9,\" \")","v":"Efectuar visita (Físicas o electrónicas) de verificación estadística Acuerdo PSAA16-10476"},{"$f":"IFERROR(' GESTION CSJMETA'!I9,\" \")","v":"Entregable"},{"$f":"IFERROR(' GESTION CSJMETA'!J9,\" \")","v":0},null,"","Sin dificultad ","Conforme a la  información reportada por cada despacho,    en este trimestre, 2 despachos  que reiterativamente  presntan desatencion e incumpliminetos en los reportes, lo  que conllevo a compulsa de copias  disciplinarias."]
[null,null,null,null,{"$f":"IFERROR(' GESTION CSJMETA'!H10,\" \")","v":0},{"$f":"IFERROR(' GESTION CSJMETA'!I10,\" \")","v":0},{"$f":"IFERROR(' GESTION CSJMETA'!J10,\" \")","v":0},null,""]
[null,null,null,null,{"$f":"IFERROR(' GESTION CSJMETA'!H11,\" \")","v":0},{"$f":"IFERROR(' GESTION CSJMETA'!I11,\" \")","v":0},{"$f":"IFERROR(' GESTION CSJMETA'!J11,\" \")","v":0},null,""]
[null,null,null,null,{"$f":"IFERROR(' GESTION CSJMETA'!H12,\" \")","v":0},{"$f":"IFERROR(' GESTION CSJMETA'!I12,\" \")","v":0},{"$f":"IFERROR(' GESTION CSJMETA'!J12,\" \")","v":0},null,""]
[null,null,null,null,{"$f":"IFERROR(' GESTION CSJMETA'!H13,\" \")","v":0},{"$f":"IFERROR(' GESTION CSJMETA'!I13,\" \")","v":0},{"$f":"IFERROR(' GESTION CSJMETA'!J13,\" \")","v":0},null,""]
[null,null,null,null,{"$f":"IFERROR(' GESTION CSJMETA'!H14,\" \")","v":0},{"$f":"IFERROR(' GESTION CSJMETA'!I14,\" \")","v":0},{"$f":"IFERROR(' GESTION CSJMETA'!J14,\" \")","v":0},null,""]
[null,null,null,null,{"$f":"IFERROR(' GESTION CSJMETA'!H15,\" \")","v":0},{"$f":"IFERROR(' GESTION CSJMETA'!I15,\" \")","v":0},{"$f":"IFERROR(' GESTION CSJMETA'!J15,\" \")","v":0},null,""]
[null,null,"2. Mejorar los tiempos de respuesta de la Rama Judicial y reducir el inventario de procesos, identificando los retos internos y promoviendo tanto acciones articuladas específicas para abordarlos como estrategias coordinadas para enfrentar las barreras que dependen de otras entidades.","2. Asegurar  el cumplimiento de los objetivos institucionales, la normatividad aplicable,  la mejora del SIGCMA y la satisfacción de los usuarios, revisando de  forma continua y sistemática la planificación de la gestión y fortaleciendo la administración de riesgos y sus controles",{"$f":"IFERROR(' GESTION CSJMETA'!H16,\" \")","v":"Seguimiento y control de la inscripción de los jueces de paz y de reconsideración en la URNA"},{"$f":"IFERROR(' GESTION CSJMETA'!I16,\" \")","v":"Entregable"},{"$f":"IFERROR(' GESTION CSJMETA'!J16,\" \")","v":0},null,"","No se ha logrado alcanzar la meta propuesta, pese a los constantes requerimientos","En el segundo trimestre de 2023, se realizó requerimiento a los jueces de paz y de reconsideración reportados por la URNA, pendientes de realizar o termina el trámite de inscripción."]
[null,null,null,null,{"$f":"IFERROR(' GESTION CSJMETA'!H17,\" \")","v":"Seguimiento, actualización y divulgación del listado de los Auxiliares de Justicia "},{"$f":"IFERROR(' GESTION CSJMETA'!I17,\" \")","v":"Entregable"},{"$f":"IFERROR(' GESTION CSJMETA'!J17,\" \")","v":0},null,"","No se ha presentado","Se encuentra en vigencia la Resolución No. 1128 de 2023, mediante la cual se conforma la Lista de Auxiliares de la Justicia, para el periodo comprendido entre el 1ro. de abril de 2023 y el 31 de marzo de 2025."]
[null,null,null,null,{"$f":"IFERROR(' GESTION CSJMETA'!H18,\" \")","v":0},{"$f":"IFERROR(' GESTION CSJMETA'!I18,\" \")","v":0},{"$f":"IFERROR(' GESTION CSJMETA'!J18,\" \")","v":0},null,""]
[null,null,null,null,{"$f":"IFERROR(' GESTION CSJMETA'!H19,\" \")","v":0},{"$f":"IFERROR(' GESTION CSJMETA'!I19,\" \")","v":0},{"$f":"IFERROR(' GESTION CSJMETA'!J19,\" \")","v":0},null,""]
[null,null,null,null,{"$f":"IFERROR(' GESTION CSJMETA'!H20,\" \")","v":0},{"$f":"IFERROR(' GESTION CSJMETA'!I20,\" \")","v":0},{"$f":"IFERROR(' GESTION CSJMETA'!J20,\" \")","v":0},null,""]
[null,null,null,null,{"$f":"IFERROR(' GESTION CSJMETA'!H21,\" \")","v":0},{"$f":"IFERROR(' GESTION CSJMETA'!I21,\" \")","v":0},{"$f":"IFERROR(' GESTION CSJMETA'!J21,\" \")","v":0},null,""]
[null,null,null,null,{"$f":"IFERROR(' GESTION CSJMETA'!H22,\" \")","v":0},{"$f":"IFERROR(' GESTION CSJMETA'!I22,\" \")","v":0},{"$f":"IFERROR(' GESTION CSJMETA'!J22,\" \")","v":0},null,""]
[null,null,null,null,{"$f":"IFERROR(' GESTION CSJMETA'!H23,\" \")","v":0},{"$f":"IFERROR(' GESTION CSJMETA'!I23,\" \")","v":0},{"$f":"IFERROR(' GESTION CSJMETA'!J23,\" \")","v":0},null,""]
[null,null,null,null,{"$f":"IFERROR(' GESTION CSJMETA'!H24,\" \")","v":0},{"$f":"IFERROR(' GESTION CSJMETA'!I24,\" \")","v":0},{"$f":"IFERROR(' GESTION CSJMETA'!J24,\" \")","v":0},null,""]
[null,null,null,null,{"$f":"IFERROR(' GESTION CSJMETA'!H25,\" \")","v":0},{"$f":"IFERROR(' GESTION CSJMETA'!I25,\" \")","v":0},{"$f":"IFERROR(' GESTION CSJMETA'!J25,\" \")","v":0},null,""]
[null,null,"3. Coadyuvar en la garantía de la idoneidad en el ejercicio de la profesión jurídica de acuerdo con lo establecido en la Ley 1905 de 2018","2. Asegurar  el cumplimiento de los objetivos institucionales, la normatividad aplicable,  la mejora del SIGCMA y la satisfacción de los usuarios, revisando de  forma continua y sistemática la planificación de la gestión y fortaleciendo la administración de riesgos y sus controles",{"$f":"IFERROR(' GESTION CSJMETA'!H26,\" \")","v":0},{"$f":"IFERROR(' GESTION CSJMETA'!I26,\" \")","v":0},{"$f":"IFERROR(' GESTION CSJMETA'!J26,\" \")","v":0},null,""]
[null,null,null,null,{"$f":"IFERROR(' GESTION CSJMETA'!H27,\" \")","v":0},{"$f":"IFERROR(' GESTION CSJMETA'!I27,\" \")","v":0},{"$f":"IFERROR(' GESTION CSJMETA'!J27,\" \")","v":0},null,""]
[null,null,null,null,{"$f":"IFERROR(' GESTION CSJMETA'!H28,\" \")","v":0},{"$f":"IFERROR(' GESTION CSJMETA'!I28,\" \")","v":0},{"$f":"IFERROR(' GESTION CSJMETA'!J28,\" \")","v":0},null,""]
[null,null,null,null,{"$f":"IFERROR(' GESTION CSJMETA'!H29,\" \")","v":0},{"$f":"IFERROR(' GESTION CSJMETA'!I29,\" \")","v":0},{"$f":"IFERROR(' GESTION CSJMETA'!J29,\" \")","v":0},null,""]
[null,null,null,null,{"$f":"IFERROR(' GESTION CSJMETA'!H30,\" \")","v":0},{"$f":"IFERROR(' GESTION CSJMETA'!I30,\" \")","v":0},{"$f":"IFERROR(' GESTION CSJMETA'!J30,\" \")","v":0},null,""]
[null,null,null,null,{"$f":"IFERROR(' GESTION CSJMETA'!H31,\" \")","v":0},{"$f":"IFERROR(' GESTION CSJMETA'!I31,\" \")","v":0},{"$f":"IFERROR(' GESTION CSJMETA'!J31,\" \")","v":0},null,""]
[null,null,null,null,{"$f":"IFERROR(' GESTION CSJMETA'!H32,\" \")","v":0},{"$f":"IFERROR(' GESTION CSJMETA'!I32,\" \")","v":0},{"$f":"IFERROR(' GESTION CSJMETA'!J32,\" \")","v":0},null,""]
[null,null,null,null,{"$f":"IFERROR(' GESTION CSJMETA'!H33,\" \")","v":0},{"$f":"IFERROR(' GESTION CSJMETA'!I33,\" \")","v":0},{"$f":"IFERROR(' GESTION CSJMETA'!J33,\" \")","v":0},null,""]
[null,null,null,null,{"$f":"IFERROR(' GESTION CSJMETA'!H34,\" \")","v":0},{"$f":"IFERROR(' GESTION CSJMETA'!I34,\" \")","v":0},{"$f":"IFERROR(' GESTION CSJMETA'!J34,\" \")","v":0},null,""]
[null,null,null,null,{"$f":"IFERROR(' GESTION CSJMETA'!H35,\" \")","v":0},{"$f":"IFERROR(' GESTION CSJMETA'!I35,\" \")","v":0},{"$f":"IFERROR(' GESTION CSJMETA'!J35,\" \")","v":0},null,""]
[null,null,"4. Avanzar en la disposición de una infraestructura óptima para el acceso a la justicia en la Rama Judicial de modo que se fortalezca la presencia territorial, teniendo en cuenta las posibilidades que ofrece la transformación digital y las necesidades que se derivan de ella, y considerando tanto las necesidades de los usuarios como las de los servidores judiciales.","4. Hacer un uso racional de los recursos naturales aplicando los principios y fases de la Economía Circular, para prevenir, mitigar y controlar los impactos ambientales",{"$f":"IFERROR(' GESTION CSJMETA'!H36,\" \")","v":0},{"$f":"IFERROR(' GESTION CSJMETA'!I36,\" \")","v":0},{"$f":"IFERROR(' GESTION CSJMETA'!J36,\" \")","v":0},null,""]
[null,null,null,null,{"$f":"IFERROR(' GESTION CSJMETA'!H37,\" \")","v":"Elaborar y presentar el informe de rendición de cuentas a la comunidad"},{"$f":"IFERROR(' GESTION CSJMETA'!I37,\" \")","v":"Entregable"},{"$f":"IFERROR(' GESTION CSJMETA'!J37,\" \")","v":0},null,"","No se han presentado","En el segundo trimestre de 2023, se emitió el informe de resultados de la Audiencia de Rendición de cuenta de la vigencia 2022."]
[null,null,null,null,{"$f":"IFERROR(' GESTION CSJMETA'!H38,\" \")","v":"Hacer seguimiento a la matriz de comunicaciones"},{"$f":"IFERROR(' GESTION CSJMETA'!I38,\" \")","v":"Entregable"},{"$f":"IFERROR(' GESTION CSJMETA'!J38,\" \")","v":0},null,"","No se han presentado","En el segundo trimestre de 2023, se han realizado todas las actividades previstas en la Matriz de Comunicaciones"]
[null,null,null,null,{"$f":"IFERROR(' GESTION CSJMETA'!H39,\" \")","v":"Atender, gestionar y solucionar las diferentes solicitudes de usuarios internos y externos"},{"$f":"IFERROR(' GESTION CSJMETA'!I39,\" \")","v":"Entregable"},{"$f":"IFERROR(' GESTION CSJMETA'!J39,\" \")","v":0},null,"","No se han presentado","En el segundo trimestre de 2023, se han tramitado y resuelto de fondo de forma oportuna, todas las solicitudes que se han recibido en esta Seccional"]
[null,null,null,null,{"$f":"IFERROR(' GESTION CSJMETA'!H40,\" \")","v":"Realizar los espacios de diálogo previstos en la rendición de cuentas"},{"$f":"IFERROR(' GESTION CSJMETA'!I40,\" \")","v":"Entregable"},{"$f":"IFERROR(' GESTION CSJMETA'!J40,\" \")","v":0},null,"","No se han presentado","En el segundo trimestre de 2023, se han realizado espacios de diálogos a través de Facebook Live"]
[null,null,null,null,{"$f":"IFERROR(' GESTION CSJMETA'!H41,\" \")","v":"Realizar las Mesas Interjurisdiccionales Indígenas"},{"$f":"IFERROR(' GESTION CSJMETA'!I41,\" \")","v":"Entregable"},{"$f":"IFERROR(' GESTION CSJMETA'!J41,\" \")","v":0},null,"","No se han presentado","En el segundo trimestre de 2023, se realizaron 2 Mesas Interjurisdiccionales Indígenas en Vaupés e Guainìa"]
[null,null,null,null,{"$f":"IFERROR(' GESTION CSJMETA'!H42,\" \")","v":0},{"$f":"IFERROR(' GESTION CSJMETA'!I42,\" \")","v":0},{"$f":"IFERROR(' GESTION CSJMETA'!J42,\" \")","v":0},null,""]
[null,null,null,null,{"$f":"IFERROR(' GESTION CSJMETA'!H43,\" \")","v":0},{"$f":"IFERROR(' GESTION CSJMETA'!I43,\" \")","v":0},{"$f":"IFERROR(' GESTION CSJMETA'!J43,\" \")","v":0},null,""]
[null,null,null,null,{"$f":"IFERROR(' GESTION CSJMETA'!H44,\" \")","v":0},{"$f":"IFERROR(' GESTION CSJMETA'!I44,\" \")","v":0},{"$f":"IFERROR(' GESTION CSJMETA'!J44,\" \")","v":0},null,""]
[null,null,null,null,{"$f":"IFERROR(' GESTION CSJMETA'!H45,\" \")","v":0},{"$f":"IFERROR(' GESTION CSJMETA'!I45,\" \")","v":0},{"$f":"IFERROR(' GESTION CSJMETA'!J45,\" \")","v":0},null,""]
[null,null,"5. Impulsar el uso de mecanismos alternativos para la solución de conflictos y la ampliación de la justicia restaurativa y terapéutica y el robustecimiento de las alternativas al encarcelamiento","2. Asegurar  el cumplimiento de los objetivos institucionales, la normatividad aplicable,  la mejora del SIGCMA y la satisfacción de los usuarios, revisando de  forma continua y sistemática la planificación de la gestión y fortaleciendo la administración de riesgos y sus controles",{"$f":"IFERROR(' GESTION CSJMETA'!H46,\" \")","v":0},{"$f":"IFERROR(' GESTION CSJMETA'!I46,\" \")","v":0},{"$f":"IFERROR(' GESTION CSJMETA'!J46,\" \")","v":0},null,""]
[null,null,null,null,{"$f":"IFERROR(' GESTION CSJMETA'!H47,\" \")","v":0},{"$f":"IFERROR(' GESTION CSJMETA'!I47,\" \")","v":0},{"$f":"IFERROR(' GESTION CSJMETA'!J47,\" \")","v":0},null,""]
[null,null,null,null,{"$f":"IFERROR(' GESTION CSJMETA'!H48,\" \")","v":0},{"$f":"IFERROR(' GESTION CSJMETA'!I48,\" \")","v":0},{"$f":"IFERROR(' GESTION CSJMETA'!J48,\" \")","v":0},null,""]
[null,null,null,null,{"$f":"IFERROR(' GESTION CSJMETA'!H49,\" \")","v":0},{"$f":"IFERROR(' GESTION CSJMETA'!I49,\" \")","v":0},{"$f":"IFERROR(' GESTION CSJMETA'!J49,\" \")","v":0},null,""]
[null,null,null,null,{"$f":"IFERROR(' GESTION CSJMETA'!H50,\" \")","v":0},{"$f":"IFERROR(' GESTION CSJMETA'!I50,\" \")","v":0},{"$f":"IFERROR(' GESTION CSJMETA'!J50,\" \")","v":0},null,""]
[null,null,null,null,{"$f":"IFERROR(' GESTION CSJMETA'!H51,\" \")","v":0},{"$f":"IFERROR(' GESTION CSJMETA'!I51,\" \")","v":0},{"$f":"IFERROR(' GESTION CSJMETA'!J51,\" \")","v":0},null,""]
[null,null,null,null,{"$f":"IFERROR(' GESTION CSJMETA'!H52,\" \")","v":0},{"$f":"IFERROR(' GESTION CSJMETA'!I52,\" \")","v":0},{"$f":"IFERROR(' GESTION CSJMETA'!J52,\" \")","v":0},null,""]
[null,null,null,null,{"$f":"IFERROR(' GESTION CSJMETA'!H53,\" \")","v":0},{"$f":"IFERROR(' GESTION CSJMETA'!I53,\" \")","v":0},{"$f":"IFERROR(' GESTION CSJMETA'!J53,\" \")","v":0},null,""]
[null,null,null,null,{"$f":"IFERROR(' GESTION CSJMETA'!H54,\" \")","v":0},{"$f":"IFERROR(' GESTION CSJMETA'!I54,\" \")","v":0},{"$f":"IFERROR(' GESTION CSJMETA'!J54,\" \")","v":0},null,""]
[null,null,null,null,{"$f":"IFERROR(' GESTION CSJMETA'!H55,\" \")","v":0},{"$f":"IFERROR(' GESTION CSJMETA'!I55,\" \")","v":0},{"$f":"IFERROR(' GESTION CSJMETA'!J55,\" \")","v":0},null,""]
["2. Servicios digitales y de tecnología, innovación y análisis de la información.","Servicios digitales y de tecnología, innovación y análisis de la información: Consolidar una justicia integrada y soportada en servicios digitales y de tecnología, innovación y análisis de la información, con una cultura digital apropiada, segura y sensible a las realidades del territorio nacional. ","1. Ampliar el acceso a la justicia a través de la consolidación del uso de los servicios digitales que conforman el sistema único integrado de gestión judicial en todos los despachos judiciales y dependencias de apoyo y, específicamente, incluyendo el despliegue e implementación del Expediente Judicial Electrónico en todas las jurisdicciones y especialidades.","6. Proteger, preservar y administrar los activos de información  implementando acciones  para gestionar de forma adecuada los incidentes, proteger los datos personales y adoptar mecanismos  de ciberseguridad y aseguramiento de la  continuidad del negocio.",{"$f":"IFERROR(' GESTION CSJMETA'!H56,\" \")","v":0},{"$f":"IFERROR(' GESTION CSJMETA'!I56,\" \")","v":0},{"$f":"IFERROR(' GESTION CSJMETA'!J56,\" \")","v":0},null,""]
[null,null,null,null,{"$f":"IFERROR(' GESTION CSJMETA'!H57,\" \")","v":0},{"$f":"IFERROR(' GESTION CSJMETA'!I57,\" \")","v":0},{"$f":"IFERROR(' GESTION CSJMETA'!J57,\" \")","v":0},null,""]
[null,null,null,null,{"$f":"IFERROR(' GESTION CSJMETA'!H58,\" \")","v":0},{"$f":"IFERROR(' GESTION CSJMETA'!I58,\" \")","v":0},{"$f":"IFERROR(' GESTION CSJMETA'!J58,\" \")","v":0},null,""]
[null,null,null,null,{"$f":"IFERROR(' GESTION CSJMETA'!H59,\" \")","v":0},{"$f":"IFERROR(' GESTION CSJMETA'!I59,\" \")","v":0},{"$f":"IFERROR(' GESTION CSJMETA'!J59,\" \")","v":0},null,""]
[null,null,null,null,{"$f":"IFERROR(' GESTION CSJMETA'!H60,\" \")","v":0},{"$f":"IFERROR(' GESTION CSJMETA'!I60,\" \")","v":0},{"$f":"IFERROR(' GESTION CSJMETA'!J60,\" \")","v":0},null,""]
[null,null,null,null,{"$f":"IFERROR(' GESTION CSJMETA'!H61,\" \")","v":0},{"$f":"IFERROR(' GESTION CSJMETA'!I61,\" \")","v":0},{"$f":"IFERROR(' GESTION CSJMETA'!J61,\" \")","v":0},null,""]
[null,null,null,null,{"$f":"IFERROR(' GESTION CSJMETA'!H62,\" \")","v":0},{"$f":"IFERROR(' GESTION CSJMETA'!I62,\" \")","v":0},{"$f":"IFERROR(' GESTION CSJMETA'!J62,\" \")","v":0},null,""]
[null,null,null,null,{"$f":"IFERROR(' GESTION CSJMETA'!H63,\" \")","v":0},{"$f":"IFERROR(' GESTION CSJMETA'!I63,\" \")","v":0},{"$f":"IFERROR(' GESTION CSJMETA'!J63,\" \")","v":0},null,""]
[null,null,null,null,{"$f":"IFERROR(' GESTION CSJMETA'!H64,\" \")","v":0},{"$f":"IFERROR(' GESTION CSJMETA'!I64,\" \")","v":0},{"$f":"IFERROR(' GESTION CSJMETA'!J64,\" \")","v":0},null,""]
[null,null,null,null,{"$f":"IFERROR(' GESTION CSJMETA'!H65,\" \")","v":0},{"$f":"IFERROR(' GESTION CSJMETA'!I65,\" \")","v":0},{"$f":"IFERROR(' GESTION CSJMETA'!J65,\" \")","v":0},null,""]
[null,null,"2. Integrar y hacer compatibles todos los aplicativos de transición con SIUGJ, para que la migración de los expedientes judiciales a dicha plataforma sea real y no suponga afectaciones en la prestación del servicio de justicia.",null,{"$f":"IFERROR(' GESTION CSJMETA'!H66,\" \")","v":0},{"$f":"IFERROR(' GESTION CSJMETA'!I66,\" \")","v":0},{"$f":"IFERROR(' GESTION CSJMETA'!J66,\" \")","v":0},null,""]
[null,null,null,null,{"$f":"IFERROR(' GESTION CSJMETA'!H67,\" \")","v":0},{"$f":"IFERROR(' GESTION CSJMETA'!I67,\" \")","v":0},{"$f":"IFERROR(' GESTION CSJMETA'!J67,\" \")","v":0},null,""]
[null,null,null,null,{"$f":"IFERROR(' GESTION CSJMETA'!H68,\" \")","v":0},{"$f":"IFERROR(' GESTION CSJMETA'!I68,\" \")","v":0},{"$f":"IFERROR(' GESTION CSJMETA'!J68,\" \")","v":0},null,""]
[null,null,null,null,{"$f":"IFERROR(' GESTION CSJMETA'!H69,\" \")","v":0},{"$f":"IFERROR(' GESTION CSJMETA'!I69,\" \")","v":0},{"$f":"IFERROR(' GESTION CSJMETA'!J69,\" \")","v":0},null,""]
[null,null,null,null,{"$f":"IFERROR(' GESTION CSJMETA'!H70,\" \")","v":0},{"$f":"IFERROR(' GESTION CSJMETA'!I70,\" \")","v":0},{"$f":"IFERROR(' GESTION CSJMETA'!J70,\" \")","v":0},null,{"$f":"IFERROR(H70/G70,\"\")","v":""}]
[null,null,null,null,{"$f":"IFERROR(' GESTION CSJMETA'!H71,\" \")","v":0},{"$f":"IFERROR(' GESTION CSJMETA'!I71,\" \")","v":0},{"$f":"IFERROR(' GESTION CSJMETA'!J71,\" \")","v":0},null,""]
[null,null,null,null,{"$f":"IFERROR(' GESTION CSJMETA'!H72,\" \")","v":0},{"$f":"IFERROR(' GESTION CSJMETA'!I72,\" \")","v":0},{"$f":"IFERROR(' GESTION CSJMETA'!J72,\" \")","v":0},null,""]
[null,null,null,null,{"$f":"IFERROR(' GESTION CSJMETA'!H73,\" \")","v":0},{"$f":"IFERROR(' GESTION CSJMETA'!I73,\" \")","v":0},{"$f":"IFERROR(' GESTION CSJMETA'!J73,\" \")","v":0},null,""]
[null,null,null,null,{"$f":"IFERROR(' GESTION CSJMETA'!H74,\" \")","v":0},{"$f":"IFERROR(' GESTION CSJMETA'!I74,\" \")","v":0},{"$f":"IFERROR(' GESTION CSJMETA'!J74,\" \")","v":0},null,""]
[null,null,null,null,{"$f":"IFERROR(' GESTION CSJMETA'!H75,\" \")","v":0},{"$f":"IFERROR(' GESTION CSJMETA'!I75,\" \")","v":0},{"$f":"IFERROR(' GESTION CSJMETA'!J75,\" \")","v":0},null,""]
[null,null,"3. Fortalecer las capacidades institucionales, adecuar el modelo operativo y de servicio, bajo un enfoque de Arquitectura Empresarial y de fortalecimiento del acceso a la justicia.",null,{"$f":"IFERROR(' GESTION CSJMETA'!H76,\" \")","v":0},{"$f":"IFERROR(' GESTION CSJMETA'!I76,\" \")","v":0},{"$f":"IFERROR(' GESTION CSJMETA'!J76,\" \")","v":0},null,""]
[null,null,null,null,{"$f":"IFERROR(' GESTION CSJMETA'!H77,\" \")","v":0},{"$f":"IFERROR(' GESTION CSJMETA'!I77,\" \")","v":0},{"$f":"IFERROR(' GESTION CSJMETA'!J77,\" \")","v":0},null,""]
[null,null,null,null,{"$f":"IFERROR(' GESTION CSJMETA'!H78,\" \")","v":0},{"$f":"IFERROR(' GESTION CSJMETA'!I78,\" \")","v":0},{"$f":"IFERROR(' GESTION CSJMETA'!J78,\" \")","v":0},null,""]
[null,null,null,null,{"$f":"IFERROR(' GESTION CSJMETA'!H79,\" \")","v":0},{"$f":"IFERROR(' GESTION CSJMETA'!I79,\" \")","v":0},{"$f":"IFERROR(' GESTION CSJMETA'!J79,\" \")","v":0},null,""]
[null,null,null,null,{"$f":"IFERROR(' GESTION CSJMETA'!H80,\" \")","v":0},{"$f":"IFERROR(' GESTION CSJMETA'!I80,\" \")","v":0},{"$f":"IFERROR(' GESTION CSJMETA'!J80,\" \")","v":0},null,""]
[null,null,null,null,{"$f":"IFERROR(' GESTION CSJMETA'!H81,\" \")","v":0},{"$f":"IFERROR(' GESTION CSJMETA'!I81,\" \")","v":0},{"$f":"IFERROR(' GESTION CSJMETA'!J81,\" \")","v":0},null,""]
[null,null,null,null,{"$f":"IFERROR(' GESTION CSJMETA'!H82,\" \")","v":0},{"$f":"IFERROR(' GESTION CSJMETA'!I82,\" \")","v":0},{"$f":"IFERROR(' GESTION CSJMETA'!J82,\" \")","v":0},null,""]
[null,null,null,null,{"$f":"IFERROR(' GESTION CSJMETA'!H83,\" \")","v":0},{"$f":"IFERROR(' GESTION CSJMETA'!I83,\" \")","v":0},{"$f":"IFERROR(' GESTION CSJMETA'!J83,\" \")","v":0},null,""]
[null,null,null,null,{"$f":"IFERROR(' GESTION CSJMETA'!H84,\" \")","v":0},{"$f":"IFERROR(' GESTION CSJMETA'!I84,\" \")","v":0},{"$f":"IFERROR(' GESTION CSJMETA'!J84,\" \")","v":0},null,""]
[null,null,null,null,{"$f":"IFERROR(' GESTION CSJMETA'!H85,\" \")","v":0},{"$f":"IFERROR(' GESTION CSJMETA'!I85,\" \")","v":0},{"$f":"IFERROR(' GESTION CSJMETA'!J85,\" \")","v":0},null,""]
[null,null,"4.Consolidar la cultura y apropiación de la transformación digital en los servidores y usuarios de los servicios de la Rama Judicial y reducir brechas de acceso y conocimiento, incluyendo la oferta efectiva de información sobre el uso de las nuevas herramientas virtuales implementadas en las diferentes jurisdicciones, con especial énfasis en las zonas del país donde es evidente la brecha digital.",null,{"$f":"IFERROR(' GESTION CSJMETA'!H86,\" \")","v":0},{"$f":"IFERROR(' GESTION CSJMETA'!I86,\" \")","v":0},{"$f":"IFERROR(' GESTION CSJMETA'!J86,\" \")","v":0},null,""]
[null,null,null,null,{"$f":"IFERROR(' GESTION CSJMETA'!H87,\" \")","v":0},{"$f":"IFERROR(' GESTION CSJMETA'!I87,\" \")","v":0},{"$f":"IFERROR(' GESTION CSJMETA'!J87,\" \")","v":0},null,""]
[null,null,null,null,{"$f":"IFERROR(' GESTION CSJMETA'!H88,\" \")","v":0},{"$f":"IFERROR(' GESTION CSJMETA'!I88,\" \")","v":0},{"$f":"IFERROR(' GESTION CSJMETA'!J88,\" \")","v":0},null,""]
[null,null,null,null,{"$f":"IFERROR(' GESTION CSJMETA'!H89,\" \")","v":0},{"$f":"IFERROR(' GESTION CSJMETA'!I89,\" \")","v":0},{"$f":"IFERROR(' GESTION CSJMETA'!J89,\" \")","v":0},null,""]
[null,null,null,null,{"$f":"IFERROR(' GESTION CSJMETA'!H90,\" \")","v":0},{"$f":"IFERROR(' GESTION CSJMETA'!I90,\" \")","v":0},{"$f":"IFERROR(' GESTION CSJMETA'!J90,\" \")","v":0},null,""]
[null,null,null,null,{"$f":"IFERROR(' GESTION CSJMETA'!H91,\" \")","v":0},{"$f":"IFERROR(' GESTION CSJMETA'!I91,\" \")","v":0},{"$f":"IFERROR(' GESTION CSJMETA'!J91,\" \")","v":0},null,""]
[null,null,null,null,{"$f":"IFERROR(' GESTION CSJMETA'!H92,\" \")","v":0},{"$f":"IFERROR(' GESTION CSJMETA'!I92,\" \")","v":0},{"$f":"IFERROR(' GESTION CSJMETA'!J92,\" \")","v":0},null,""]
[null,null,null,null,{"$f":"IFERROR(' GESTION CSJMETA'!H93,\" \")","v":0},{"$f":"IFERROR(' GESTION CSJMETA'!I93,\" \")","v":0},{"$f":"IFERROR(' GESTION CSJMETA'!J93,\" \")","v":0},null,""]
[null,null,null,null,{"$f":"IFERROR(' GESTION CSJMETA'!H94,\" \")","v":0},{"$f":"IFERROR(' GESTION CSJMETA'!I94,\" \")","v":0},{"$f":"IFERROR(' GESTION CSJMETA'!J94,\" \")","v":0},null,""]
[null,null,null,null,{"$f":"IFERROR(' GESTION CSJMETA'!H95,\" \")","v":0},{"$f":"IFERROR(' GESTION CSJMETA'!I95,\" \")","v":0},{"$f":"IFERROR(' GESTION CSJMETA'!J95,\" \")","v":0},null,""]
[null,null,"5.Consolidar la infraestructura y los recursos necesarios para la implementación exitosa de la transformación digital, incluyendo la disposición de internet de calidad en el 100% de las sedes en la Rama Judicial y modernizar los servicios tecnológicos de soporte. ",null,{"$f":"IFERROR(' GESTION CSJMETA'!H96,\" \")","v":0},{"$f":"IFERROR(' GESTION CSJMETA'!I96,\" \")","v":0},{"$f":"IFERROR(' GESTION CSJMETA'!J96,\" \")","v":0},null,""]
[null,null,null,null,{"$f":"IFERROR(' GESTION CSJMETA'!H97,\" \")","v":0},{"$f":"IFERROR(' GESTION CSJMETA'!I97,\" \")","v":0},{"$f":"IFERROR(' GESTION CSJMETA'!J97,\" \")","v":0},null,""]
[null,null,null,null,{"$f":"IFERROR(' GESTION CSJMETA'!H98,\" \")","v":0},{"$f":"IFERROR(' GESTION CSJMETA'!I98,\" \")","v":0},{"$f":"IFERROR(' GESTION CSJMETA'!J98,\" \")","v":0},null,""]
[null,null,null,null,{"$f":"IFERROR(' GESTION CSJMETA'!H99,\" \")","v":0},{"$f":"IFERROR(' GESTION CSJMETA'!I99,\" \")","v":0},{"$f":"IFERROR(' GESTION CSJMETA'!J99,\" \")","v":0},null,""]
[null,null,null,null,{"$f":"IFERROR(' GESTION CSJMETA'!H100,\" \")","v":0},{"$f":"IFERROR(' GESTION CSJMETA'!I100,\" \")","v":0},{"$f":"IFERROR(' GESTION CSJMETA'!J100,\" \")","v":0},null,""]
[null,null,null,null,{"$f":"IFERROR(' GESTION CSJMETA'!H101,\" \")","v":0},{"$f":"IFERROR(' GESTION CSJMETA'!I101,\" \")","v":0},{"$f":"IFERROR(' GESTION CSJMETA'!J101,\" \")","v":0},null,""]
[null,null,null,null,{"$f":"IFERROR(' GESTION CSJMETA'!H102,\" \")","v":0},{"$f":"IFERROR(' GESTION CSJMETA'!I102,\" \")","v":0},{"$f":"IFERROR(' GESTION CSJMETA'!J102,\" \")","v":0},null,""]
[null,null,null,null,{"$f":"IFERROR(' GESTION CSJMETA'!H103,\" \")","v":0},{"$f":"IFERROR(' GESTION CSJMETA'!I103,\" \")","v":0},{"$f":"IFERROR(' GESTION CSJMETA'!J103,\" \")","v":0},null,""]
[null,null,null,null,{"$f":"IFERROR(' GESTION CSJMETA'!H104,\" \")","v":0},{"$f":"IFERROR(' GESTION CSJMETA'!I104,\" \")","v":0},{"$f":"IFERROR(' GESTION CSJMETA'!J104,\" \")","v":0},null,""]
[null,null,null,null,{"$f":"IFERROR(' GESTION CSJMETA'!H105,\" \")","v":0},{"$f":"IFERROR(' GESTION CSJMETA'!I105,\" \")","v":0},{"$f":"IFERROR(' GESTION CSJMETA'!J105,\" \")","v":0},null,""]
[null,null,"6.Integrar y optimizar los servicios administrativos de la Rama Judicial bajo un enfoque de transformación digital e innovación incluyendo los componentes financiero, administrativo, talento humano, entre otros",null,{"$f":"IFERROR(' GESTION CSJMETA'!H106,\" \")","v":0},{"$f":"IFERROR(' GESTION CSJMETA'!I106,\" \")","v":0},{"$f":"IFERROR(' GESTION CSJMETA'!J106,\" \")","v":0},null,""]
[null,null,null,null,{"$f":"IFERROR(' GESTION CSJMETA'!H107,\" \")","v":0},{"$f":"IFERROR(' GESTION CSJMETA'!I107,\" \")","v":0},{"$f":"IFERROR(' GESTION CSJMETA'!J107,\" \")","v":0},null,""]
[null,null,null,null,{"$f":"IFERROR(' GESTION CSJMETA'!H108,\" \")","v":0},{"$f":"IFERROR(' GESTION CSJMETA'!I108,\" \")","v":0},{"$f":"IFERROR(' GESTION CSJMETA'!J108,\" \")","v":0},null,""]
[null,null,null,null,{"$f":"IFERROR(' GESTION CSJMETA'!H109,\" \")","v":0},{"$f":"IFERROR(' GESTION CSJMETA'!I109,\" \")","v":0},{"$f":"IFERROR(' GESTION CSJMETA'!J109,\" \")","v":0},null,""]
[null,null,null,null,{"$f":"IFERROR(' GESTION CSJMETA'!H110,\" \")","v":0},{"$f":"IFERROR(' GESTION CSJMETA'!I110,\" \")","v":0},{"$f":"IFERROR(' GESTION CSJMETA'!J110,\" \")","v":0},null,""]
[null,null,null,null,{"$f":"IFERROR(' GESTION CSJMETA'!H111,\" \")","v":0},{"$f":"IFERROR(' GESTION CSJMETA'!I111,\" \")","v":0},{"$f":"IFERROR(' GESTION CSJMETA'!J111,\" \")","v":0},null,""]
[null,null,null,null,{"$f":"IFERROR(' GESTION CSJMETA'!H112,\" \")","v":0},{"$f":"IFERROR(' GESTION CSJMETA'!I112,\" \")","v":0},{"$f":"IFERROR(' GESTION CSJMETA'!J112,\" \")","v":0},null,""]
[null,null,null,null,{"$f":"IFERROR(' GESTION CSJMETA'!H113,\" \")","v":0},{"$f":"IFERROR(' GESTION CSJMETA'!I113,\" \")","v":0},{"$f":"IFERROR(' GESTION CSJMETA'!J113,\" \")","v":0},null,""]
[null,null,null,null,{"$f":"IFERROR(' GESTION CSJMETA'!H114,\" \")","v":0},{"$f":"IFERROR(' GESTION CSJMETA'!I114,\" \")","v":0},{"$f":"IFERROR(' GESTION CSJMETA'!J114,\" \")","v":0},null,""]
[null,null,null,null,{"$f":"IFERROR(' GESTION CSJMETA'!H115,\" \")","v":0},{"$f":"IFERROR(' GESTION CSJMETA'!I115,\" \")","v":0},{"$f":"IFERROR(' GESTION CSJMETA'!J115,\" \")","v":0},null,""]
["3. Confianza pública, transparencia y rendición de cuentas","Confianza pública, transparencia y rendición de cuentas: Aumentar la confianza pública en la justicia a través de la transparencia, la rendición de cuentas y la participación, incluyendo la información de justicia y la producción, gestión y acceso a las fuentes de derecho, el fortalecimiento del sistema de gestión de calidad y medio ambiente (SIGCMA) y el mejoramiento de la calidad y publicidad de la información. ","1. Incrementar la cantidad, la calidad y pertinencia de los datos sobre el funcionamiento del servicio de justicia bajo un modelo de gobierno de datos y un liderazgo unificado. ","4. Hacer un uso racional de los recursos naturales aplicando los principios y fases de la Economía Circular, para prevenir, mitigar y controlar los impactos ambientales.",{"$f":"IFERROR(' GESTION CSJMETA'!H116,\" \")","v":0},{"$f":"IFERROR(' GESTION CSJMETA'!I116,\" \")","v":0},{"$f":"IFERROR(' GESTION CSJMETA'!J116,\" \")","v":0},null,""]
[null,null,null,null,{"$f":"IFERROR(' GESTION CSJMETA'!H117,\" \")","v":0},{"$f":"IFERROR(' GESTION CSJMETA'!I117,\" \")","v":0},{"$f":"IFERROR(' GESTION CSJMETA'!J117,\" \")","v":0},null,""]
[null,null,null,null,{"$f":"IFERROR(' GESTION CSJMETA'!H118,\" \")","v":0},{"$f":"IFERROR(' GESTION CSJMETA'!I118,\" \")","v":0},{"$f":"IFERROR(' GESTION CSJMETA'!J118,\" \")","v":0},null,""]
[null,null,null,null,{"$f":"IFERROR(' GESTION CSJMETA'!H119,\" \")","v":0},{"$f":"IFERROR(' GESTION CSJMETA'!I119,\" \")","v":0},{"$f":"IFERROR(' GESTION CSJMETA'!J119,\" \")","v":0},null,""]
[null,null,null,null,{"$f":"IFERROR(' GESTION CSJMETA'!H120,\" \")","v":0},{"$f":"IFERROR(' GESTION CSJMETA'!I120,\" \")","v":0},{"$f":"IFERROR(' GESTION CSJMETA'!J120,\" \")","v":0},null,""]
[null,null,null,null,{"$f":"IFERROR(' GESTION CSJMETA'!H121,\" \")","v":0},{"$f":"IFERROR(' GESTION CSJMETA'!I121,\" \")","v":0},{"$f":"IFERROR(' GESTION CSJMETA'!J121,\" \")","v":0},null,""]
[null,null,null,null,{"$f":"IFERROR(' GESTION CSJMETA'!H122,\" \")","v":0},{"$f":"IFERROR(' GESTION CSJMETA'!I122,\" \")","v":0},{"$f":"IFERROR(' GESTION CSJMETA'!J122,\" \")","v":0},null,""]
[null,null,null,null,{"$f":"IFERROR(' GESTION CSJMETA'!H123,\" \")","v":0},{"$f":"IFERROR(' GESTION CSJMETA'!I123,\" \")","v":0},{"$f":"IFERROR(' GESTION CSJMETA'!J123,\" \")","v":0},null,""]
[null,null,null,null,{"$f":"IFERROR(' GESTION CSJMETA'!H124,\" \")","v":0},{"$f":"IFERROR(' GESTION CSJMETA'!I124,\" \")","v":0},{"$f":"IFERROR(' GESTION CSJMETA'!J124,\" \")","v":0},null,""]
[null,null,null,null,{"$f":"IFERROR(' GESTION CSJMETA'!H125,\" \")","v":0},{"$f":"IFERROR(' GESTION CSJMETA'!I125,\" \")","v":0},{"$f":"IFERROR(' GESTION CSJMETA'!J125,\" \")","v":0},null,""]
[null,null,"2. Consolidar la administración de la información entendida como todas las acciones rientadas a garantizar el acceso, consulta, uso y conservación de la información de justicia de manera ágil, flexible e inteligente, bajo un enfoque de innovación.",null,{"$f":"IFERROR(' GESTION CSJMETA'!H126,\" \")","v":0},{"$f":"IFERROR(' GESTION CSJMETA'!I126,\" \")","v":0},{"$f":"IFERROR(' GESTION CSJMETA'!J126,\" \")","v":0},null,""]
[null,null,null,null,{"$f":"IFERROR(' GESTION CSJMETA'!H127,\" \")","v":0},{"$f":"IFERROR(' GESTION CSJMETA'!I127,\" \")","v":0},{"$f":"IFERROR(' GESTION CSJMETA'!J127,\" \")","v":0},null,""]
[null,null,null,null,{"$f":"IFERROR(' GESTION CSJMETA'!H128,\" \")","v":0},{"$f":"IFERROR(' GESTION CSJMETA'!I128,\" \")","v":0},{"$f":"IFERROR(' GESTION CSJMETA'!J128,\" \")","v":0},null,""]
[null,null,null,null,{"$f":"IFERROR(' GESTION CSJMETA'!H129,\" \")","v":0},{"$f":"IFERROR(' GESTION CSJMETA'!I129,\" \")","v":0},{"$f":"IFERROR(' GESTION CSJMETA'!J129,\" \")","v":0},null,""]
[null,null,null,null,{"$f":"IFERROR(' GESTION CSJMETA'!H130,\" \")","v":0},{"$f":"IFERROR(' GESTION CSJMETA'!I130,\" \")","v":0},{"$f":"IFERROR(' GESTION CSJMETA'!J130,\" \")","v":0},null,""]
[null,null,null,null,{"$f":"IFERROR(' GESTION CSJMETA'!H131,\" \")","v":0},{"$f":"IFERROR(' GESTION CSJMETA'!I131,\" \")","v":0},{"$f":"IFERROR(' GESTION CSJMETA'!J131,\" \")","v":0},null,""]
[null,null,null,null,{"$f":"IFERROR(' GESTION CSJMETA'!H132,\" \")","v":0},{"$f":"IFERROR(' GESTION CSJMETA'!I132,\" \")","v":0},{"$f":"IFERROR(' GESTION CSJMETA'!J132,\" \")","v":0},null,""]
[null,null,null,null,{"$f":"IFERROR(' GESTION CSJMETA'!H133,\" \")","v":0},{"$f":"IFERROR(' GESTION CSJMETA'!I133,\" \")","v":0},{"$f":"IFERROR(' GESTION CSJMETA'!J133,\" \")","v":0},null,""]
[null,null,null,null,{"$f":"IFERROR(' GESTION CSJMETA'!H134,\" \")","v":0},{"$f":"IFERROR(' GESTION CSJMETA'!I134,\" \")","v":0},{"$f":"IFERROR(' GESTION CSJMETA'!J134,\" \")","v":0},null,{"$f":"IFERROR(H134/G134,\"\")","v":""}]
[null,null,null,null,{"$f":"IFERROR(' GESTION CSJMETA'!H135,\" \")","v":0},{"$f":"IFERROR(' GESTION CSJMETA'!I135,\" \")","v":0},{"$f":"IFERROR(' GESTION CSJMETA'!J135,\" \")","v":0},null,""]
[null,null,"3. Fortalecer el Sistema integrado de Gestión de la Rama, orientado a la implementación y certificación de las normas antisoborno.","1. Gestionar el desarrollo de las competencias, la toma de conciencia , la cultura  organizacional  y el compromiso de los  servidores judiciales, contratistas, practicantes y  judicantes de contribuir a generar valor público en la administración de justicia, en el marco de  cumplimiento de los requisitos  aplicables y el comportamiento ético.\n3. Fomentar la transparencia y la participación generando lineamientos y promoviendo la rendición de cuentas ,la consulta, reporte y planteamiento de inquietudes en relación con las decisiones y aspectos del SIGCMA.",{"$f":"IFERROR(' GESTION CSJMETA'!H136,\" \")","v":0},{"$f":"IFERROR(' GESTION CSJMETA'!I136,\" \")","v":0},{"$f":"IFERROR(' GESTION CSJMETA'!J136,\" \")","v":0},null,""]
[null,null,null,null,{"$f":"IFERROR(' GESTION CSJMETA'!H137,\" \")","v":0},{"$f":"IFERROR(' GESTION CSJMETA'!I137,\" \")","v":0},{"$f":"IFERROR(' GESTION CSJMETA'!J137,\" \")","v":0},null,""]
[null,null,null,null,{"$f":"IFERROR(' GESTION CSJMETA'!H138,\" \")","v":0},{"$f":"IFERROR(' GESTION CSJMETA'!I138,\" \")","v":0},{"$f":"IFERROR(' GESTION CSJMETA'!J138,\" \")","v":0},null,""]
[null,null,null,null,{"$f":"IFERROR(' GESTION CSJMETA'!H139,\" \")","v":0},{"$f":"IFERROR(' GESTION CSJMETA'!I139,\" \")","v":0},{"$f":"IFERROR(' GESTION CSJMETA'!J139,\" \")","v":0},null,""]
[null,null,null,null,{"$f":"IFERROR(' GESTION CSJMETA'!H140,\" \")","v":0},{"$f":"IFERROR(' GESTION CSJMETA'!I140,\" \")","v":0},{"$f":"IFERROR(' GESTION CSJMETA'!J140,\" \")","v":0},null,""]
[null,null,null,null,{"$f":"IFERROR(' GESTION CSJMETA'!H141,\" \")","v":0},{"$f":"IFERROR(' GESTION CSJMETA'!I141,\" \")","v":0},{"$f":"IFERROR(' GESTION CSJMETA'!J141,\" \")","v":0},null,""]
[null,null,null,null,{"$f":"IFERROR(' GESTION CSJMETA'!H142,\" \")","v":0},{"$f":"IFERROR(' GESTION CSJMETA'!I142,\" \")","v":0},{"$f":"IFERROR(' GESTION CSJMETA'!J142,\" \")","v":0},null,""]
[null,null,null,null,{"$f":"IFERROR(' GESTION CSJMETA'!H143,\" \")","v":0},{"$f":"IFERROR(' GESTION CSJMETA'!I143,\" \")","v":0},{"$f":"IFERROR(' GESTION CSJMETA'!J143,\" \")","v":0},null,""]
[null,null,null,null,{"$f":"IFERROR(' GESTION CSJMETA'!H144,\" \")","v":0},{"$f":"IFERROR(' GESTION CSJMETA'!I144,\" \")","v":0},{"$f":"IFERROR(' GESTION CSJMETA'!J144,\" \")","v":0},null,""]
[null,null,null,null,{"$f":"IFERROR(' GESTION CSJMETA'!H145,\" \")","v":0},{"$f":"IFERROR(' GESTION CSJMETA'!I145,\" \")","v":0},{"$f":"IFERROR(' GESTION CSJMETA'!J145,\" \")","v":0},null,""]
[null,null,"4. Aumentar la confianza, la cercanía y acceso a los servicios de la Rama Judicial a través, entre otros, de una comunicación clara y asertiva con la ciudadanía.","3. Fomentar la transparencia y la participación generando lineamientos y promoviendo la rendición de cuentas ,la consulta, reporte y planteamiento de inquietudes en relación con las decisiones y aspectos del SIGCMA.",{"$f":"IFERROR(' GESTION CSJMETA'!H146,\" \")","v":0},{"$f":"IFERROR(' GESTION CSJMETA'!I146,\" \")","v":0},{"$f":"IFERROR(' GESTION CSJMETA'!J146,\" \")","v":0},null,""]
[null,null,null,null,{"$f":"IFERROR(' GESTION CSJMETA'!H147,\" \")","v":0},{"$f":"IFERROR(' GESTION CSJMETA'!I147,\" \")","v":0},{"$f":"IFERROR(' GESTION CSJMETA'!J147,\" \")","v":0},null,""]
[null,null,null,null,{"$f":"IFERROR(' GESTION CSJMETA'!H148,\" \")","v":0},{"$f":"IFERROR(' GESTION CSJMETA'!I148,\" \")","v":0},{"$f":"IFERROR(' GESTION CSJMETA'!J148,\" \")","v":0},null,""]
[null,null,null,null,{"$f":"IFERROR(' GESTION CSJMETA'!H149,\" \")","v":0},{"$f":"IFERROR(' GESTION CSJMETA'!I149,\" \")","v":0},{"$f":"IFERROR(' GESTION CSJMETA'!J149,\" \")","v":0},null,""]
[null,null,null,null,{"$f":"IFERROR(' GESTION CSJMETA'!H150,\" \")","v":0},{"$f":"IFERROR(' GESTION CSJMETA'!I150,\" \")","v":0},{"$f":"IFERROR(' GESTION CSJMETA'!J150,\" \")","v":0},null,""]
[null,null,null,null,{"$f":"IFERROR(' GESTION CSJMETA'!H151,\" \")","v":0},{"$f":"IFERROR(' GESTION CSJMETA'!I151,\" \")","v":0},{"$f":"IFERROR(' GESTION CSJMETA'!J151,\" \")","v":0},null,""]
[null,null,null,null,{"$f":"IFERROR(' GESTION CSJMETA'!H152,\" \")","v":0},{"$f":"IFERROR(' GESTION CSJMETA'!I152,\" \")","v":0},{"$f":"IFERROR(' GESTION CSJMETA'!J152,\" \")","v":0},null,""]
[null,null,null,null,{"$f":"IFERROR(' GESTION CSJMETA'!H153,\" \")","v":0},{"$f":"IFERROR(' GESTION CSJMETA'!I153,\" \")","v":0},{"$f":"IFERROR(' GESTION CSJMETA'!J153,\" \")","v":0},null,""]
[null,null,null,null,{"$f":"IFERROR(' GESTION CSJMETA'!H154,\" \")","v":0},{"$f":"IFERROR(' GESTION CSJMETA'!I154,\" \")","v":0},{"$f":"IFERROR(' GESTION CSJMETA'!J154,\" \")","v":0},null,""]
[null,null,null,null,{"$f":"IFERROR(' GESTION CSJMETA'!H155,\" \")","v":0},{"$f":"IFERROR(' GESTION CSJMETA'!I155,\" \")","v":0},{"$f":"IFERROR(' GESTION CSJMETA'!J155,\" \")","v":0},null,""]
[null,null,"5. Prevenir fenómenos asociados con actos de corrupción en la Rama Judicial y reducir las experiencias de corrupción de usuarios y servidores judiciales.",null,{"$f":"IFERROR(' GESTION CSJMETA'!H156,\" \")","v":0},{"$f":"IFERROR(' GESTION CSJMETA'!I156,\" \")","v":0},{"$f":"IFERROR(' GESTION CSJMETA'!J156,\" \")","v":0},null,""]
[null,null,null,null,{"$f":"IFERROR(' GESTION CSJMETA'!H157,\" \")","v":0},{"$f":"IFERROR(' GESTION CSJMETA'!I157,\" \")","v":0},{"$f":"IFERROR(' GESTION CSJMETA'!J157,\" \")","v":0},null,""]
[null,null,null,null,{"$f":"IFERROR(' GESTION CSJMETA'!H158,\" \")","v":0},{"$f":"IFERROR(' GESTION CSJMETA'!I158,\" \")","v":0},{"$f":"IFERROR(' GESTION CSJMETA'!J158,\" \")","v":0},null,""]
[null,null,null,null,{"$f":"IFERROR(' GESTION CSJMETA'!H159,\" \")","v":0},{"$f":"IFERROR(' GESTION CSJMETA'!I159,\" \")","v":0},{"$f":"IFERROR(' GESTION CSJMETA'!J159,\" \")","v":0},null,""]
[null,null,null,null,{"$f":"IFERROR(' GESTION CSJMETA'!H160,\" \")","v":0},{"$f":"IFERROR(' GESTION CSJMETA'!I160,\" \")","v":0},{"$f":"IFERROR(' GESTION CSJMETA'!J160,\" \")","v":0},null,""]
[null,null,null,null,{"$f":"IFERROR(' GESTION CSJMETA'!H161,\" \")","v":0},{"$f":"IFERROR(' GESTION CSJMETA'!I161,\" \")","v":0},{"$f":"IFERROR(' GESTION CSJMETA'!J161,\" \")","v":0},null,""]
[null,null,null,null,{"$f":"IFERROR(' GESTION CSJMETA'!H162,\" \")","v":0},{"$f":"IFERROR(' GESTION CSJMETA'!I162,\" \")","v":0},{"$f":"IFERROR(' GESTION CSJMETA'!J162,\" \")","v":0},null,""]
[null,null,null,null,{"$f":"IFERROR(' GESTION CSJMETA'!H163,\" \")","v":0},{"$f":"IFERROR(' GESTION CSJMETA'!I163,\" \")","v":0},{"$f":"IFERROR(' GESTION CSJMETA'!J163,\" \")","v":0},null,""]
[null,null,null,null,{"$f":"IFERROR(' GESTION CSJMETA'!H164,\" \")","v":0},{"$f":"IFERROR(' GESTION CSJMETA'!I164,\" \")","v":0},{"$f":"IFERROR(' GESTION CSJMETA'!J164,\" \")","v":0},null,""]
[null,null,null,null,{"$f":"IFERROR(' GESTION CSJMETA'!H165,\" \")","v":0},{"$f":"IFERROR(' GESTION CSJMETA'!I165,\" \")","v":0},{"$f":"IFERROR(' GESTION CSJMETA'!J165,\" \")","v":0},null,""]
[null,null,"6. Promover la rendición de cuentas y la colaboración real con la ciudadanía como fundamento para diseñar acciones de mejoramiento del acceso a la justicia.",null,{"$f":"IFERROR(' GESTION CSJMETA'!H166,\" \")","v":0},{"$f":"IFERROR(' GESTION CSJMETA'!I166,\" \")","v":0},{"$f":"IFERROR(' GESTION CSJMETA'!J166,\" \")","v":0},null,""]
[null,null,null,null,{"$f":"IFERROR(' GESTION CSJMETA'!H167,\" \")","v":0},{"$f":"IFERROR(' GESTION CSJMETA'!I167,\" \")","v":0},{"$f":"IFERROR(' GESTION CSJMETA'!J167,\" \")","v":0},null,""]
[null,null,null,null,{"$f":"IFERROR(' GESTION CSJMETA'!H168,\" \")","v":0},{"$f":"IFERROR(' GESTION CSJMETA'!I168,\" \")","v":0},{"$f":"IFERROR(' GESTION CSJMETA'!J168,\" \")","v":0},null,""]
[null,null,null,null,{"$f":"IFERROR(' GESTION CSJMETA'!H169,\" \")","v":0},{"$f":"IFERROR(' GESTION CSJMETA'!I169,\" \")","v":0},{"$f":"IFERROR(' GESTION CSJMETA'!J169,\" \")","v":0},null,""]
[null,null,null,null,{"$f":"IFERROR(' GESTION CSJMETA'!H170,\" \")","v":0},{"$f":"IFERROR(' GESTION CSJMETA'!I170,\" \")","v":0},{"$f":"IFERROR(' GESTION CSJMETA'!J170,\" \")","v":0},null,""]
[null,null,null,null,{"$f":"IFERROR(' GESTION CSJMETA'!H171,\" \")","v":0},{"$f":"IFERROR(' GESTION CSJMETA'!I171,\" \")","v":0},{"$f":"IFERROR(' GESTION CSJMETA'!J171,\" \")","v":0},null,""]
[null,null,null,null,{"$f":"IFERROR(' GESTION CSJMETA'!H172,\" \")","v":0},{"$f":"IFERROR(' GESTION CSJMETA'!I172,\" \")","v":0},{"$f":"IFERROR(' GESTION CSJMETA'!J172,\" \")","v":0},null,""]
[null,null,null,null,{"$f":"IFERROR(' GESTION CSJMETA'!H173,\" \")","v":0},{"$f":"IFERROR(' GESTION CSJMETA'!I173,\" \")","v":0},{"$f":"IFERROR(' GESTION CSJMETA'!J173,\" \")","v":0},null,""]
[null,null,null,null,{"$f":"IFERROR(' GESTION CSJMETA'!H174,\" \")","v":0},{"$f":"IFERROR(' GESTION CSJMETA'!I174,\" \")","v":0},{"$f":"IFERROR(' GESTION CSJMETA'!J174,\" \")","v":0},null,""]
[null,null,null,null,{"$f":"IFERROR(' GESTION CSJMETA'!H175,\" \")","v":0},{"$f":"IFERROR(' GESTION CSJMETA'!I175,\" \")","v":0},{"$f":"IFERROR(' GESTION CSJMETA'!J175,\" \")","v":0},null,""]
[null,null,"7. Continuar la consolidación del SIGCMA, a través de los procesos de formación en modelos de gestión, logrando la implementación y ampliación de este en los esquemas certificados de manera gradual, teniendo en cuenta las capacidades de los diferentes despachos judiciales y dependencias de la Rama Judicial y articulando el enfoque de Arquitectura Empresarial para el desarrollo del PETD a través de la gestión del conocimiento para la gestión del cambio propendiendo por una cultura de la calidad, la transparencia, la rendición de cuentas, la anticorrupción y el antisoborno","1. Gestionar el desarrollo de las competencias, la toma de conciencia , la cultura  organizacional  y el compromiso de los  servidores judiciales, contratistas, practicantes y  judicantes de contribuir a generar valor público en la administración de justicia, en el marco de  cumplimiento de los requisitos  aplicables y el comportamiento ético.\n4. Hacer un uso racional de los recursos naturales aplicando los principios y fases de la Economía Circular, para prevenir, mitigar y controlar los impactos ambientales.",{"$f":"IFERROR(' GESTION CSJMETA'!H176,\" \")","v":0},{"$f":"IFERROR(' GESTION CSJMETA'!I176,\" \")","v":0},{"$f":"IFERROR(' GESTION CSJMETA'!J176,\" \")","v":0},null,""]
[null,null,null,null,{"$f":"IFERROR(' GESTION CSJMETA'!H177,\" \")","v":"Desarrollar labor pedagógica y de control para obtener oportunamente de los tribunales y jueces de instancia  las fichas de calidad para  consolidar el factor  calidad."},{"$f":"IFERROR(' GESTION CSJMETA'!I177,\" \")","v":"Entregable"},{"$f":"IFERROR(' GESTION CSJMETA'!J177,\" \")","v":0},null,"",null,"De conformidad con lo dispuesto por esta Seccional y dando cumplimiento a los artículos 28 y 29 del Acuerdo PSAA16-10618, se inicia  la complementacion del mínimo de formatos de evaluación para la consolidación del puntaje correspondiente al factor calidad de la calificación de servicios del año 2022,   por lo anterior  se solicita listado de procesos para que sean objeto de evaluación ante el superior "]
[null,null,null,null,{"$f":"IFERROR(' GESTION CSJMETA'!H178,\" \")","v":"Realizar las calificaciones de servicios de los servidores judiciales "},{"$f":"IFERROR(' GESTION CSJMETA'!I178,\" \")","v":"Entregable"},{"$f":"IFERROR(' GESTION CSJMETA'!J178,\" \")","v":0},null,"",null,"Se realiza  Visita de factor Organizacion de Trabajo  en los despachos judiciales. "]
[null,null,null,null,{"$f":"IFERROR(' GESTION CSJMETA'!H179,\" \")","v":"Registrar y actualizar las novedades de la seccional en el aplicativo de escalafón."},{"$f":"IFERROR(' GESTION CSJMETA'!I179,\" \")","v":"Entregable"},{"$f":"IFERROR(' GESTION CSJMETA'!J179,\" \")","v":0},null,"",null,"En el Segundo trimestre de 2023, se dio atención a la totalidad de solicitudes del estalafón relacionadas con inscripción, exclusión y actualización, logrando un avance en el cumplimiento de 100% de 6 solicitudes recibidas al 30 de junio hogaño"]
[null,null,null,null,{"$f":"IFERROR(' GESTION CSJMETA'!H180,\" \")","v":"Actualización mensual del registro de elegibles y opciones de sedes de la Convocatoria No. 4"},{"$f":"IFERROR(' GESTION CSJMETA'!I180,\" \")","v":"Entregable"},{"$f":"IFERROR(' GESTION CSJMETA'!J180,\" \")","v":0},null,"",null,"En el segundo trimestre de 2023, se dio atención a la totalidad de novedades del estalafón relacionadas con inscripción, exclusión y actualización, logrando un avance en el cumplimiento de 100% "]
[null,null,null,null,{"$f":"IFERROR(' GESTION CSJMETA'!H181,\" \")","v":"Supervisión del reporte oportuno de vacantes que deberán ser provistas por el sistema de carrera judicial"},{"$f":"IFERROR(' GESTION CSJMETA'!I181,\" \")","v":"Entregable"},{"$f":"IFERROR(' GESTION CSJMETA'!J181,\" \")","v":0},null,"",null,"Se realiza  verificación  conforme a la planta de personal apoyandonos en nomina, y se actualiza el cuadro de control. "]
[null,null,null,null,{"$f":"IFERROR(' GESTION CSJMETA'!H182,\" \")","v":0},{"$f":"IFERROR(' GESTION CSJMETA'!I182,\" \")","v":0},{"$f":"IFERROR(' GESTION CSJMETA'!J182,\" \")","v":0},null,""]
[null,null,null,null,{"$f":"IFERROR(' GESTION CSJMETA'!H183,\" \")","v":0},{"$f":"IFERROR(' GESTION CSJMETA'!I183,\" \")","v":0},{"$f":"IFERROR(' GESTION CSJMETA'!J183,\" \")","v":0},null,""]
[null,null,null,null,{"$f":"IFERROR(' GESTION CSJMETA'!H184,\" \")","v":0},{"$f":"IFERROR(' GESTION CSJMETA'!I184,\" \")","v":0},{"$f":"IFERROR(' GESTION CSJMETA'!J184,\" \")","v":0},null,""]
[null,null,null,null,{"$f":"IFERROR(' GESTION CSJMETA'!H185,\" \")","v":0},{"$f":"IFERROR(' GESTION CSJMETA'!I185,\" \")","v":0},{"$f":"IFERROR(' GESTION CSJMETA'!J185,\" \")","v":0},null,""]
["4. Talento Humano","Talento Humano: Fortalecer el talento humano en la Rama Judicial para que sea eficiente, capacitado y realice su labor en ambientes saludables y seguros. Ampliar la cobertura de la carrera judicial y mejorar la oferta de formación, que esté disponible para todos los servidores judiciales e impacte positivamente el servicio de justicia y responda a las necesidades reales del ejercicio de la función judicial.","1. Ampliar la cobertura de la carrera judicial optimizando los procesos de los concursos de méritos y propender por mitigar su litigiosidad.","1. Gestionar el desarrollo de las competencias, la toma de conciencia , la cultura  organizacional  y el compromiso de los  servidores judiciales, contratistas, practicantes y  judicantes de contribuir a generar valor público en la administración de justicia, en el marco de  cumplimiento de los requisitos  aplicables y el comportamiento ético.",{"$f":"IFERROR(' GESTION CSJMETA'!H186,\" \")","v":0},{"$f":"IFERROR(' GESTION CSJMETA'!I186,\" \")","v":0},{"$f":"IFERROR(' GESTION CSJMETA'!J186,\" \")","v":0},null,""]
[null,null,null,null,{"$f":"IFERROR(' GESTION CSJMETA'!H187,\" \")","v":0},{"$f":"IFERROR(' GESTION CSJMETA'!I187,\" \")","v":0},{"$f":"IFERROR(' GESTION CSJMETA'!J187,\" \")","v":0},null,""]
[null,null,null,null,{"$f":"IFERROR(' GESTION CSJMETA'!H188,\" \")","v":"Difundir y divulgar la oferta académica"},{"$f":"IFERROR(' GESTION CSJMETA'!I188,\" \")","v":"Entregable"},{"$f":"IFERROR(' GESTION CSJMETA'!J188,\" \")","v":0},null,"","No se ha presentado","En el segundo trimestre se han divulgado todas las actividades programadas por la Escuela Judicial Rodrigo Lara Bonilla"]
[null,null,null,null,{"$f":"IFERROR(' GESTION CSJMETA'!H189,\" \")","v":"Realizar reuniones con el Grupo Seccional de Apoyo"},{"$f":"IFERROR(' GESTION CSJMETA'!I189,\" \")","v":"Entregable"},{"$f":"IFERROR(' GESTION CSJMETA'!J189,\" \")","v":0},null,"","No se ha presentado","En el segundo trimestre se llevaron a cabo las 3 reuniones mensuales correspondientes a abril, mayo y junio de 2023"]
[null,null,null,null,{"$f":"IFERROR(' GESTION CSJMETA'!H190,\" \")","v":0},{"$f":"IFERROR(' GESTION CSJMETA'!I190,\" \")","v":0},{"$f":"IFERROR(' GESTION CSJMETA'!J190,\" \")","v":0},null,""]
[null,null,null,null,{"$f":"IFERROR(' GESTION CSJMETA'!H191,\" \")","v":0},{"$f":"IFERROR(' GESTION CSJMETA'!I191,\" \")","v":0},{"$f":"IFERROR(' GESTION CSJMETA'!J191,\" \")","v":0},null,""]
[null,null,null,null,{"$f":"IFERROR(' GESTION CSJMETA'!H192,\" \")","v":0},{"$f":"IFERROR(' GESTION CSJMETA'!I192,\" \")","v":0},{"$f":"IFERROR(' GESTION CSJMETA'!J192,\" \")","v":0},null,""]
[null,null,null,null,{"$f":"IFERROR(' GESTION CSJMETA'!H193,\" \")","v":0},{"$f":"IFERROR(' GESTION CSJMETA'!I193,\" \")","v":0},{"$f":"IFERROR(' GESTION CSJMETA'!J193,\" \")","v":0},null,""]
[null,null,null,null,{"$f":"IFERROR(' GESTION CSJMETA'!H194,\" \")","v":0},{"$f":"IFERROR(' GESTION CSJMETA'!I194,\" \")","v":0},{"$f":"IFERROR(' GESTION CSJMETA'!J194,\" \")","v":0},null,""]
[null,null,null,null,{"$f":"IFERROR(' GESTION CSJMETA'!H195,\" \")","v":0},{"$f":"IFERROR(' GESTION CSJMETA'!I195,\" \")","v":0},{"$f":"IFERROR(' GESTION CSJMETA'!J195,\" \")","v":0},null,""]
[null,null,"2. Impactar la función y servicios que presta la Rama Judicial, a través de una formación integral desde una visión de gestión del conocimiento, relacionada con los problemas de la justicia y los problemas de gestión de quienes administran los recursos de la justicia, y potenciando el uso de medios virtuales.",null,{"$f":"IFERROR(' GESTION CSJMETA'!H196,\" \")","v":0},{"$f":"IFERROR(' GESTION CSJMETA'!I196,\" \")","v":0},{"$f":"IFERROR(' GESTION CSJMETA'!J196,\" \")","v":0},null,""]
[null,null,null,null,{"$f":"IFERROR(' GESTION CSJMETA'!H197,\" \")","v":0},{"$f":"IFERROR(' GESTION CSJMETA'!I197,\" \")","v":0},{"$f":"IFERROR(' GESTION CSJMETA'!J197,\" \")","v":0},null,""]
[null,null,null,null,{"$f":"IFERROR(' GESTION CSJMETA'!H198,\" \")","v":0},{"$f":"IFERROR(' GESTION CSJMETA'!I198,\" \")","v":0},{"$f":"IFERROR(' GESTION CSJMETA'!J198,\" \")","v":0},null,{"$f":"IFERROR(H198/G198,\"\")","v":""}]
[null,null,null,null,{"$f":"IFERROR(' GESTION CSJMETA'!H199,\" \")","v":0},{"$f":"IFERROR(' GESTION CSJMETA'!I199,\" \")","v":0},{"$f":"IFERROR(' GESTION CSJMETA'!J199,\" \")","v":0},null,""]
[null,null,null,null,{"$f":"IFERROR(' GESTION CSJMETA'!H200,\" \")","v":0},{"$f":"IFERROR(' GESTION CSJMETA'!I200,\" \")","v":0},{"$f":"IFERROR(' GESTION CSJMETA'!J200,\" \")","v":0},null,""]
[null,null,null,null,{"$f":"IFERROR(' GESTION CSJMETA'!H201,\" \")","v":0},{"$f":"IFERROR(' GESTION CSJMETA'!I201,\" \")","v":0},{"$f":"IFERROR(' GESTION CSJMETA'!J201,\" \")","v":0},null,""]
[null,null,null,null,{"$f":"IFERROR(' GESTION CSJMETA'!H202,\" \")","v":0},{"$f":"IFERROR(' GESTION CSJMETA'!I202,\" \")","v":0},{"$f":"IFERROR(' GESTION CSJMETA'!J202,\" \")","v":0},null,""]
[null,null,null,null,{"$f":"IFERROR(' GESTION CSJMETA'!H203,\" \")","v":0},{"$f":"IFERROR(' GESTION CSJMETA'!I203,\" \")","v":0},{"$f":"IFERROR(' GESTION CSJMETA'!J203,\" \")","v":0},null,""]
[null,null,null,null,{"$f":"IFERROR(' GESTION CSJMETA'!H204,\" \")","v":0},{"$f":"IFERROR(' GESTION CSJMETA'!I204,\" \")","v":0},{"$f":"IFERROR(' GESTION CSJMETA'!J204,\" \")","v":0},null,""]
[null,null,null,null,{"$f":"IFERROR(' GESTION CSJMETA'!H205,\" \")","v":0},{"$f":"IFERROR(' GESTION CSJMETA'!I205,\" \")","v":0},{"$f":"IFERROR(' GESTION CSJMETA'!J205,\" \")","v":0},null,""]
[null,null,"3. Promover la incorporación de la perspectiva de género y el enfoque diferencial en los fallos judiciales y en la atención a los ciudadanos, la administración de la Rama Judicial, la administración de la carrera judicial y la elaboración de listas para altas Cortes. ",null,{"$f":"IFERROR(' GESTION CSJMETA'!H206,\" \")","v":0},{"$f":"IFERROR(' GESTION CSJMETA'!I206,\" \")","v":0},{"$f":"IFERROR(' GESTION CSJMETA'!J206,\" \")","v":0},null,""]
[null,null,null,null,{"$f":"IFERROR(' GESTION CSJMETA'!H207,\" \")","v":0},{"$f":"IFERROR(' GESTION CSJMETA'!I207,\" \")","v":0},{"$f":"IFERROR(' GESTION CSJMETA'!J207,\" \")","v":0},null,""]
[null,null,null,null,{"$f":"IFERROR(' GESTION CSJMETA'!H208,\" \")","v":0},{"$f":"IFERROR(' GESTION CSJMETA'!I208,\" \")","v":0},{"$f":"IFERROR(' GESTION CSJMETA'!J208,\" \")","v":0},null,""]
[null,null,null,null,{"$f":"IFERROR(' GESTION CSJMETA'!H209,\" \")","v":0},{"$f":"IFERROR(' GESTION CSJMETA'!I209,\" \")","v":0},{"$f":"IFERROR(' GESTION CSJMETA'!J209,\" \")","v":0},null,""]
[null,null,null,null,{"$f":"IFERROR(' GESTION CSJMETA'!H210,\" \")","v":0},{"$f":"IFERROR(' GESTION CSJMETA'!I210,\" \")","v":0},{"$f":"IFERROR(' GESTION CSJMETA'!J210,\" \")","v":0},null,""]
[null,null,null,null,{"$f":"IFERROR(' GESTION CSJMETA'!H211,\" \")","v":0},{"$f":"IFERROR(' GESTION CSJMETA'!I211,\" \")","v":0},{"$f":"IFERROR(' GESTION CSJMETA'!J211,\" \")","v":0},null,""]
[null,null,null,null,{"$f":"IFERROR(' GESTION CSJMETA'!H212,\" \")","v":0},{"$f":"IFERROR(' GESTION CSJMETA'!I212,\" \")","v":0},{"$f":"IFERROR(' GESTION CSJMETA'!J212,\" \")","v":0},null,""]
[null,null,null,null,{"$f":"IFERROR(' GESTION CSJMETA'!H213,\" \")","v":0},{"$f":"IFERROR(' GESTION CSJMETA'!I213,\" \")","v":0},{"$f":"IFERROR(' GESTION CSJMETA'!J213,\" \")","v":0},null,""]
[null,null,null,null,{"$f":"IFERROR(' GESTION CSJMETA'!H214,\" \")","v":0},{"$f":"IFERROR(' GESTION CSJMETA'!I214,\" \")","v":0},{"$f":"IFERROR(' GESTION CSJMETA'!J214,\" \")","v":0},null,""]
[null,null,null,null,{"$f":"IFERROR(' GESTION CSJMETA'!H215,\" \")","v":0},{"$f":"IFERROR(' GESTION CSJMETA'!I215,\" \")","v":0},{"$f":"IFERROR(' GESTION CSJMETA'!J215,\" \")","v":0},null,""]
[null,null,"4. Desarrollar en los servidores judiciales y demás grupos de valor relevantes las competencias necesarias para la efectividad de la transformación digital de modo que puedan, entre otros, utilizar con solvencia las herramientas digitales dispuestas para sus respectivas funciones. Además, fortalecer y actualizar los conocimientos del personal a cargo de la gestión de proyectos de tecnología.",null,{"$f":"IFERROR(' GESTION CSJMETA'!H216,\" \")","v":0},{"$f":"IFERROR(' GESTION CSJMETA'!I216,\" \")","v":0},{"$f":"IFERROR(' GESTION CSJMETA'!J216,\" \")","v":0},null,""]
[null,null,null,null,{"$f":"IFERROR(' GESTION CSJMETA'!H217,\" \")","v":0},{"$f":"IFERROR(' GESTION CSJMETA'!I217,\" \")","v":0},{"$f":"IFERROR(' GESTION CSJMETA'!J217,\" \")","v":0},null,""]
[null,null,null,null,{"$f":"IFERROR(' GESTION CSJMETA'!H218,\" \")","v":0},{"$f":"IFERROR(' GESTION CSJMETA'!I218,\" \")","v":0},{"$f":"IFERROR(' GESTION CSJMETA'!J218,\" \")","v":0},null,""]
[null,null,null,null,{"$f":"IFERROR(' GESTION CSJMETA'!H219,\" \")","v":0},{"$f":"IFERROR(' GESTION CSJMETA'!I219,\" \")","v":0},{"$f":"IFERROR(' GESTION CSJMETA'!J219,\" \")","v":0},null,""]
[null,null,null,null,{"$f":"IFERROR(' GESTION CSJMETA'!H220,\" \")","v":0},{"$f":"IFERROR(' GESTION CSJMETA'!I220,\" \")","v":0},{"$f":"IFERROR(' GESTION CSJMETA'!J220,\" \")","v":0},null,""]
[null,null,null,null,{"$f":"IFERROR(' GESTION CSJMETA'!H221,\" \")","v":0},{"$f":"IFERROR(' GESTION CSJMETA'!I221,\" \")","v":0},{"$f":"IFERROR(' GESTION CSJMETA'!J221,\" \")","v":0},null,""]
[null,null,null,null,{"$f":"IFERROR(' GESTION CSJMETA'!H222,\" \")","v":0},{"$f":"IFERROR(' GESTION CSJMETA'!I222,\" \")","v":0},{"$f":"IFERROR(' GESTION CSJMETA'!J222,\" \")","v":0},null,""]
[null,null,null,null,{"$f":"IFERROR(' GESTION CSJMETA'!H223,\" \")","v":0},{"$f":"IFERROR(' GESTION CSJMETA'!I223,\" \")","v":0},{"$f":"IFERROR(' GESTION CSJMETA'!J223,\" \")","v":0},null,""]
[null,null,null,null,{"$f":"IFERROR(' GESTION CSJMETA'!H224,\" \")","v":0},{"$f":"IFERROR(' GESTION CSJMETA'!I224,\" \")","v":0},{"$f":"IFERROR(' GESTION CSJMETA'!J224,\" \")","v":0},null,""]
[null,null,null,null,{"$f":"IFERROR(' GESTION CSJMETA'!H225,\" \")","v":0},{"$f":"IFERROR(' GESTION CSJMETA'!I225,\" \")","v":0},{"$f":"IFERROR(' GESTION CSJMETA'!J225,\" \")","v":0},null,""]
[null,null,"5. Promover el bienestar de todos los servidores judiciales a través de la implementación de un sistema que contemple los diferentes niveles de estrategias y acciones necesarios para mejorar el clima laboral, la salud física y mental y la calidad del tiempo de descanso.","5. Generar espacios de trabajo seguros y saludables que contribuyan a minimizar los  incidentes, accidentes y enfermedades laborales derivados de las condiciones y actos  inseguros y fomentar  el autocuidado, los  estilos de vida y el trabajo saludable en los servidores judiciales, contratistas, judicantes y practicantes",{"$f":"IFERROR(' GESTION CSJMETA'!H226,\" \")","v":0},{"$f":"IFERROR(' GESTION CSJMETA'!I226,\" \")","v":0},{"$f":"IFERROR(' GESTION CSJMETA'!J226,\" \")","v":0},null,""]
[null,null,null,null,{"$f":"IFERROR(' GESTION CSJMETA'!H227,\" \")","v":0},{"$f":"IFERROR(' GESTION CSJMETA'!I227,\" \")","v":0},{"$f":"IFERROR(' GESTION CSJMETA'!J227,\" \")","v":0},null,""]
[null,null,null,null,{"$f":"IFERROR(' GESTION CSJMETA'!H228,\" \")","v":0},{"$f":"IFERROR(' GESTION CSJMETA'!I228,\" \")","v":0},{"$f":"IFERROR(' GESTION CSJMETA'!J228,\" \")","v":0},null,""]
[null,null,null,null,{"$f":"IFERROR(' GESTION CSJMETA'!H229,\" \")","v":0},{"$f":"IFERROR(' GESTION CSJMETA'!I229,\" \")","v":0},{"$f":"IFERROR(' GESTION CSJMETA'!J229,\" \")","v":0},null,""]
[null,null,null,null,{"$f":"IFERROR(' GESTION CSJMETA'!H230,\" \")","v":0},{"$f":"IFERROR(' GESTION CSJMETA'!I230,\" \")","v":0},{"$f":"IFERROR(' GESTION CSJMETA'!J230,\" \")","v":0},null,""]
[null,null,null,null,{"$f":"IFERROR(' GESTION CSJMETA'!H231,\" \")","v":0},{"$f":"IFERROR(' GESTION CSJMETA'!I231,\" \")","v":0},{"$f":"IFERROR(' GESTION CSJMETA'!J231,\" \")","v":0},null,""]
[null,null,null,null,{"$f":"IFERROR(' GESTION CSJMETA'!H232,\" \")","v":0},{"$f":"IFERROR(' GESTION CSJMETA'!I232,\" \")","v":0},{"$f":"IFERROR(' GESTION CSJMETA'!J232,\" \")","v":0},null,""]
[null,null,null,null,{"$f":"IFERROR(' GESTION CSJMETA'!H233,\" \")","v":0},{"$f":"IFERROR(' GESTION CSJMETA'!I233,\" \")","v":0},{"$f":"IFERROR(' GESTION CSJMETA'!J233,\" \")","v":0},null,""]
[null,null,null,null,{"$f":"IFERROR(' GESTION CSJMETA'!H234,\" \")","v":0},{"$f":"IFERROR(' GESTION CSJMETA'!I234,\" \")","v":0},{"$f":"IFERROR(' GESTION CSJMETA'!J234,\" \")","v":0},null,""]
[null,null,null,null,{"$f":"IFERROR(' GESTION CSJMETA'!H235,\" \")","v":0},{"$f":"IFERROR(' GESTION CSJMETA'!I235,\" \")","v":0},{"$f":"IFERROR(' GESTION CSJMETA'!J235,\" \")","v":0},null,""]
["5. Gobernanza, planeación estratégica y capacidad de toma de decisiones","Gobernanza, planeación estratégica y capacidad de toma de decisiones: Fortalecer la gobernanza, la planeación estratégica y la capacidad de toma de decisiones de la Rama Judicial con base en la evidencia empírica y la articulación efectiva con las demás entidades, para que la perspectiva de género y el enfoque diferencial sean transversales en el presente plan. ","1. Implementar un nuevo modelo integrado para la planeación estratégica, el seguimiento y la medición del desempeño institucional.","2. Asegurar  el cumplimiento de los objetivos institucionales, la normatividad aplicable,  la mejora del SIGCMA y la satisfacción de los usuarios, revisando de  forma continua y sistemática la planificación de la gestión y fortaleciendo la administración de riesgos y sus controles.",{"$f":"IFERROR(' GESTION CSJMETA'!H236,\" \")","v":"Realizar seguimiento a los instrumentos de calidad"},{"$f":"IFERROR(' GESTION CSJMETA'!I236,\" \")","v":"Entregable"},{"$f":"IFERROR(' GESTION CSJMETA'!J236,\" \")","v":0},null,"",null,"En el segundo trimestre de 2023, se actualizaron las actividades del Plan de Acción "]
[null,null,null,null,{"$f":"IFERROR(' GESTION CSJMETA'!H237,\" \")","v":"Realizar el Informe de la Alta Dirección"},{"$f":"IFERROR(' GESTION CSJMETA'!I237,\" \")","v":"Entregable"},{"$f":"IFERROR(' GESTION CSJMETA'!J237,\" \")","v":0},null,"",null,"En el segundo trimestre de 2023, sy se aprobó el Informe de Revisión por la Alta Dirección."]
[null,null,null,null,{"$f":"IFERROR(' GESTION CSJMETA'!H238,\" \")","v":"Participación en los Comités Nacionales del SIGCMA"},{"$f":"IFERROR(' GESTION CSJMETA'!I238,\" \")","v":"Entregable"},{"$f":"IFERROR(' GESTION CSJMETA'!J238,\" \")","v":0},null,"","No nos convocaron a las reuniones ni Comités Nacionales del SIGCMA, desarrollados en este período","En el segundo trimestre de 2023, luego de haber reportado a la Coordinación Nacional, la falta de convocatoria a las reuniones y Comités, se ha participado en cada uno de ellos."]
[null,null,null,null,{"$f":"IFERROR(' GESTION CSJMETA'!H239,\" \")","v":0},{"$f":"IFERROR(' GESTION CSJMETA'!I239,\" \")","v":0},{"$f":"IFERROR(' GESTION CSJMETA'!J239,\" \")","v":0},null,""]
[null,null,null,null,{"$f":"IFERROR(' GESTION CSJMETA'!H240,\" \")","v":0},{"$f":"IFERROR(' GESTION CSJMETA'!I240,\" \")","v":0},{"$f":"IFERROR(' GESTION CSJMETA'!J240,\" \")","v":0},null,""]
[null,null,null,null,{"$f":"IFERROR(' GESTION CSJMETA'!H241,\" \")","v":0},{"$f":"IFERROR(' GESTION CSJMETA'!I241,\" \")","v":0},{"$f":"IFERROR(' GESTION CSJMETA'!J241,\" \")","v":0},null,""]
[null,null,null,null,{"$f":"IFERROR(' GESTION CSJMETA'!H242,\" \")","v":0},{"$f":"IFERROR(' GESTION CSJMETA'!I242,\" \")","v":0},{"$f":"IFERROR(' GESTION CSJMETA'!J242,\" \")","v":0},null,""]
[null,null,null,null,{"$f":"IFERROR(' GESTION CSJMETA'!H243,\" \")","v":0},{"$f":"IFERROR(' GESTION CSJMETA'!I243,\" \")","v":0},{"$f":"IFERROR(' GESTION CSJMETA'!J243,\" \")","v":0},null,""]
[null,null,null,null,{"$f":"IFERROR(' GESTION CSJMETA'!H244,\" \")","v":0},{"$f":"IFERROR(' GESTION CSJMETA'!I244,\" \")","v":0},{"$f":"IFERROR(' GESTION CSJMETA'!J244,\" \")","v":0},null,""]
[null,null,null,null,{"$f":"IFERROR(' GESTION CSJMETA'!H245,\" \")","v":0},{"$f":"IFERROR(' GESTION CSJMETA'!I245,\" \")","v":0},{"$f":"IFERROR(' GESTION CSJMETA'!J245,\" \")","v":0},null,""]
[null,null,"2. Definir e implementar el modelo optimizado de formulación, seguimiento y evaluación de la política pública judicial.",null,{"$f":"IFERROR(' GESTION CSJMETA'!H246,\" \")","v":0},{"$f":"IFERROR(' GESTION CSJMETA'!I246,\" \")","v":0},{"$f":"IFERROR(' GESTION CSJMETA'!J246,\" \")","v":0},null,""]
[null,null,null,null,{"$f":"IFERROR(' GESTION CSJMETA'!H247,\" \")","v":0},{"$f":"IFERROR(' GESTION CSJMETA'!I247,\" \")","v":0},{"$f":"IFERROR(' GESTION CSJMETA'!J247,\" \")","v":0},null,""]
[null,null,null,null,{"$f":"IFERROR(' GESTION CSJMETA'!H248,\" \")","v":0},{"$f":"IFERROR(' GESTION CSJMETA'!I248,\" \")","v":0},{"$f":"IFERROR(' GESTION CSJMETA'!J248,\" \")","v":0},null,""]
[null,null,null,null,{"$f":"IFERROR(' GESTION CSJMETA'!H249,\" \")","v":0},{"$f":"IFERROR(' GESTION CSJMETA'!I249,\" \")","v":0},{"$f":"IFERROR(' GESTION CSJMETA'!J249,\" \")","v":0},null,""]
[null,null,null,null,{"$f":"IFERROR(' GESTION CSJMETA'!H250,\" \")","v":0},{"$f":"IFERROR(' GESTION CSJMETA'!I250,\" \")","v":0},{"$f":"IFERROR(' GESTION CSJMETA'!J250,\" \")","v":0},null,""]
[null,null,null,null,{"$f":"IFERROR(' GESTION CSJMETA'!H251,\" \")","v":0},{"$f":"IFERROR(' GESTION CSJMETA'!I251,\" \")","v":0},{"$f":"IFERROR(' GESTION CSJMETA'!J251,\" \")","v":0},null,""]
[null,null,null,null,{"$f":"IFERROR(' GESTION CSJMETA'!H252,\" \")","v":0},{"$f":"IFERROR(' GESTION CSJMETA'!I252,\" \")","v":0},{"$f":"IFERROR(' GESTION CSJMETA'!J252,\" \")","v":0},null,""]
[null,null,null,null,{"$f":"IFERROR(' GESTION CSJMETA'!H253,\" \")","v":0},{"$f":"IFERROR(' GESTION CSJMETA'!I253,\" \")","v":0},{"$f":"IFERROR(' GESTION CSJMETA'!J253,\" \")","v":0},null,""]
[null,null,null,null,{"$f":"IFERROR(' GESTION CSJMETA'!H254,\" \")","v":0},{"$f":"IFERROR(' GESTION CSJMETA'!I254,\" \")","v":0},{"$f":"IFERROR(' GESTION CSJMETA'!J254,\" \")","v":0},null,""]
[null,null,null,null,{"$f":"IFERROR(' GESTION CSJMETA'!H255,\" \")","v":0},{"$f":"IFERROR(' GESTION CSJMETA'!I255,\" \")","v":0},{"$f":"IFERROR(' GESTION CSJMETA'!J255,\" \")","v":0},null,""]

{"sheet":"GESTION_SEG_1_TRIM CSJMETA","index":11,"n_rows":255,"n_cols":11,"rows_kept":255,"cut":false,"hidden":false,"merged":[[205,2,214,2],[215,2,224,2],[225,2,234,2],[225,3,234,3],[235,0,254,0],[235,1,254,1],[235,2,244,2],[235,3,254,3],[245,2,254,2],[185,0,234,0],[185,1,234,1],[185,2,194,2],[185,3,224,3],[195,2,204,2],[105,2,114,2],[115,0,184,0],[115,1,184,1],[115,2,124,2],[115,3,124,3],[125,2,134,2],[125,3,134,3],[135,2,144,2],[135,3,144,3],[145,2,154,2],[145,3,174,3],[155,2,164,2],[165,2,174,2],[175,2,184,2],[175,3,184,3],[45,2,54,2],[45,3,54,3],[55,0,114,0],[55,1,114,1],[55,2,64,2],[55,3,114,3],[65,2,74,2],[75,2,84,2],[85,2,94,2],[95,2,104,2],[5,0,54,0],[5,1,54,1],[5,2,14,2],[5,3,14,3],[15,2,24,2],[15,3,24,3],[25,2,34,2],[25,3,34,3],[35,2,44,2],[35,3,44,3],[1,0,1,10],[2,0,2,3],[2,4,2,9],[2,10,4,10],[3,0,4,1],[3,2,4,2],[3,3,4,3],[3,4,3,9]]}
[]
["CONSEJO SUPERIOR DE LA JUDICATURA \nUNIDADES MISIONALES DEL CONSEJO SUPERIOR DE LA JUDICATURA - \nDIRECCIÓN EJECUTIVA DE ADMINISTRACIÓN JUDICIAL - UNIDADES MISIONALES DE LA DEAJ\nDIRECCIONES SECCIONALES DE ADMINISTRACIÓN JUDICIAL - DEPENDENCIAS JUDICIALES CERTIFICADAS"]
["PLAN SECTORIAL DE DESARROLLO 2023-2026 - OBJETIVOS SIGCMA",null,null,null,null,null,null,null,null,null," ANÁLISIS RESULTADO"]
["OBJETIVO ESTRATÉGICO",null,"OBJETIVO ESPECÍFICO PSD","OBJETIVO ESPECÍFICO SIGCMA","MEDICIÓN DE LA GESTIÓN ANUAL"]
[null,null,null,null,"ACTIVIDADES ","INDIQUE SI ES ENTREGABLE O META CUANTIFICABLE","META ANUAL","AVANCE DE LA META ","NIVEL CUMPLIMIENTO","DIFICULTADES PARA LOGRAR LA META PROPUESTA"]
["1. Acceso e Infraestructura Física","Acceso e Infraestructura Física: Ampliar, en todo el territorio nacional, el acceso a una justicia efectiva, pronta, equitativa e incluyente, reduciendo el atraso y la congestión, de acuerdo con las necesidades de la demanda de justicia por jurisdicción y especialidad, y mejorando la articulación con la justicia restaurativa y terapéutica, y otros mecanismos de solución de conflictos y consolidando una infraestructura física óptima para el acceso a la justicia.","1. Ampliar el acceso a justicia para atender las necesidades jurídicas de los ciudadanos con un enfoque diferencial, de una manera pronta, reduciendo las inequidades y las brechas territoriales de acceso.","2. Asegurar  el cumplimiento de los objetivos institucionales, la normatividad aplicable,  la mejora del SIGCMA y la satisfacción de los usuarios, revisando de  forma continua y sistemática la planificación de la gestión y fortaleciendo la administración de riesgos y sus controles",{"$f":"IFERROR(' GESTION CSJMETA'!H6,\" \")","v":"Realizar propuesta de adecuación del mapa judicial "},{"$f":"IFERROR(' GESTION CSJMETA'!I6,\" \")","v":"Entregable"},{"$f":"IFERROR(' GESTION CSJMETA'!J6,\" \")","v":0},null,{"$f":"IFERROR(H6/G6,\"\")","v":""},"Sin dificultad ","En el primer trimestre de 2023, se logra un cumplimiento del 100% conforme a la gestion realizada   de la escuela judicial, se difundido satisfactoriamente entre los diferentes despachos judiciales "]
[null,null,null,null,{"$f":"IFERROR(' GESTION CSJMETA'!H7,\" \")","v":"Realizar el seguimiento y evaluación de las medidas de descongestión implementadas a nivel seccional"},{"$f":"IFERROR(' GESTION CSJMETA'!I7,\" \")","v":"Entregable"},{"$f":"IFERROR(' GESTION CSJMETA'!J7,\" \")","v":0},null,"","Sin dificultad ","Se realiza el seguimiento a las medidas  presentando el primer informe bimensual"]
[null,null,null,null,{"$f":"IFERROR(' GESTION CSJMETA'!H8,\" \")","v":"Realizar indicadores estadísticos por medio de la recolección de la información estadística SIERJU"},{"$f":"IFERROR(' GESTION CSJMETA'!I8,\" \")","v":"Entregable"},{"$f":"IFERROR(' GESTION CSJMETA'!J8,\" \")","v":0},null,"","Sin dificultad ","Para el primer trimestre de 2023, el Consejo seccional de la Judicatura del Meta cumplió la meta establecida con una recolección del 95,63%, a partir de la campaña de acompañamiento previa, durante y posterior al período de reporte, para el primer trimestre la UDAE, ampliando el  plazo  para el reporte hasta el 12 de abril de 2023, debido al cambio de formatos en todas las especialidades y  las inconsistencias presentadas en la plataforma."]
[null,null,null,null,{"$f":"IFERROR(' GESTION CSJMETA'!H9,\" \")","v":"Efectuar visita (Físicas o electrónicas) de verificación estadística Acuerdo PSAA16-10476"},{"$f":"IFERROR(' GESTION CSJMETA'!I9,\" \")","v":"Entregable"},{"$f":"IFERROR(' GESTION CSJMETA'!J9,\" \")","v":0},null,"","Sin dificultad ","Conforme a la  información reportada por cada despacho los primeros 5 dias hábiles de cada trimestre,  se consolidad  la informacion y se reporta. "]
[null,null,null,null,{"$f":"IFERROR(' GESTION CSJMETA'!H10,\" \")","v":0},{"$f":"IFERROR(' GESTION CSJMETA'!I10,\" \")","v":0},{"$f":"IFERROR(' GESTION CSJMETA'!J10,\" \")","v":0},null,""]
[null,null,null,null,{"$f":"IFERROR(' GESTION CSJMETA'!H11,\" \")","v":0},{"$f":"IFERROR(' GESTION CSJMETA'!I11,\" \")","v":0},{"$f":"IFERROR(' GESTION CSJMETA'!J11,\" \")","v":0},null,""]
[null,null,null,null,{"$f":"IFERROR(' GESTION CSJMETA'!H12,\" \")","v":0},{"$f":"IFERROR(' GESTION CSJMETA'!I12,\" \")","v":0},{"$f":"IFERROR(' GESTION CSJMETA'!J12,\" \")","v":0},null,""]
[null,null,null,null,{"$f":"IFERROR(' GESTION CSJMETA'!H13,\" \")","v":0},{"$f":"IFERROR(' GESTION CSJMETA'!I13,\" \")","v":0},{"$f":"IFERROR(' GESTION CSJMETA'!J13,\" \")","v":0},null,""]
[null,null,null,null,{"$f":"IFERROR(' GESTION CSJMETA'!H14,\" \")","v":0},{"$f":"IFERROR(' GESTION CSJMETA'!I14,\" \")","v":0},{"$f":"IFERROR(' GESTION CSJMETA'!J14,\" \")","v":0},null,""]
[null,null,null,null,{"$f":"IFERROR(' GESTION CSJMETA'!H15,\" \")","v":0},{"$f":"IFERROR(' GESTION CSJMETA'!I15,\" \")","v":0},{"$f":"IFERROR(' GESTION CSJMETA'!J15,\" \")","v":0},null,""]
[null,null,"2. Mejorar los tiempos de respuesta de la Rama Judicial y reducir el inventario de procesos, identificando los retos internos y promoviendo tanto acciones articuladas específicas para abordarlos como estrategias coordinadas para enfrentar las barreras que dependen de otras entidades.","2. Asegurar  el cumplimiento de los objetivos institucionales, la normatividad aplicable,  la mejora del SIGCMA y la satisfacción de los usuarios, revisando de  forma continua y sistemática la planificación de la gestión y fortaleciendo la administración de riesgos y sus controles",{"$f":"IFERROR(' GESTION CSJMETA'!H16,\" \")","v":"Seguimiento y control de la inscripción de los jueces de paz y de reconsideración en la URNA"},{"$f":"IFERROR(' GESTION CSJMETA'!I16,\" \")","v":"Entregable"},{"$f":"IFERROR(' GESTION CSJMETA'!J16,\" \")","v":0},null,"","No se ha logrado alcanzar la meta propuesta, pese a los constantes requerimientos","En el primer trimestre de 2023, se realizó el primer seguimiento del estado de la inscripción a la URNA  de los Jueces de Paz y de Reconsideración de Villavicencio, en el que se logró determinar la cantidad de ellos que aún no habían realizado o terminado el trámite de inscripción y carnetización."]
[null,null,null,null,{"$f":"IFERROR(' GESTION CSJMETA'!H17,\" \")","v":"Seguimiento, actualización y divulgación del listado de los Auxiliares de Justicia "},{"$f":"IFERROR(' GESTION CSJMETA'!I17,\" \")","v":"Entregable"},{"$f":"IFERROR(' GESTION CSJMETA'!J17,\" \")","v":0},null,"","No se ha presentado","En el primer trimeste de 2023, se emite la Resolución No. 1128 de 2023, mediante la cual se conforma la Lista de Auxiliares de la Justicia, para el periodo comprendido entre el 1ro. de abril de 2023 y el 31 de marzo de 2025."]
[null,null,null,null,{"$f":"IFERROR(' GESTION CSJMETA'!H18,\" \")","v":0},{"$f":"IFERROR(' GESTION CSJMETA'!I18,\" \")","v":0},{"$f":"IFERROR(' GESTION CSJMETA'!J18,\" \")","v":0},null,""]
[null,null,null,null,{"$f":"IFERROR(' GESTION CSJMETA'!H19,\" \")","v":0},{"$f":"IFERROR(' GESTION CSJMETA'!I19,\" \")","v":0},{"$f":"IFERROR(' GESTION CSJMETA'!J19,\" \")","v":0},null,""]
[null,null,null,null,{"$f":"IFERROR(' GESTION CSJMETA'!H20,\" \")","v":0},{"$f":"IFERROR(' GESTION CSJMETA'!I20,\" \")","v":0},{"$f":"IFERROR(' GESTION CSJMETA'!J20,\" \")","v":0},null,""]
[null,null,null,null,{"$f":"IFERROR(' GESTION CSJMETA'!H21,\" \")","v":0},{"$f":"IFERROR(' GESTION CSJMETA'!I21,\" \")","v":0},{"$f":"IFERROR(' GESTION CSJMETA'!J21,\" \")","v":0},null,""]
[null,null,null,null,{"$f":"IFERROR(' GESTION CSJMETA'!H22,\" \")","v":0},{"$f":"IFERROR(' GESTION CSJMETA'!I22,\" \")","v":0},{"$f":"IFERROR(' GESTION CSJMETA'!J22,\" \")","v":0},null,""]
[null,null,null,null,{"$f":"IFERROR(' GESTION CSJMETA'!H23,\" \")","v":0},{"$f":"IFERROR(' GESTION CSJMETA'!I23,\" \")","v":0},{"$f":"IFERROR(' GESTION CSJMETA'!J23,\" \")","v":0},null,""]
[null,null,null,null,{"$f":"IFERROR(' GESTION CSJMETA'!H24,\" \")","v":0},{"$f":"IFERROR(' GESTION CSJMETA'!I24,\" \")","v":0},{"$f":"IFERROR(' GESTION CSJMETA'!J24,\" \")","v":0},null,""]
[null,null,null,null,{"$f":"IFERROR(' GESTION CSJMETA'!H25,\" \")","v":0},{"$f":"IFERROR(' GESTION CSJMETA'!I25,\" \")","v":0},{"$f":"IFERROR(' GESTION CSJMETA'!J25,\" \")","v":0},null,""]
[null,null,"3. Coadyuvar en la garantía de la idoneidad en el ejercicio de la profesión jurídica de acuerdo con lo establecido en la Ley 1905 de 2018","2. Asegurar  el cumplimiento de los objetivos institucionales, la normatividad aplicable,  la mejora del SIGCMA y la satisfacción de los usuarios, revisando de  forma continua y sistemática la planificación de la gestión y fortaleciendo la administración de riesgos y sus controles",{"$f":"IFERROR(' GESTION CSJMETA'!H26,\" \")","v":0},{"$f":"IFERROR(' GESTION CSJMETA'!I26,\" \")","v":0},{"$f":"IFERROR(' GESTION CSJMETA'!J26,\" \")","v":0},null,""]
[null,null,null,null,{"$f":"IFERROR(' GESTION CSJMETA'!H27,\" \")","v":0},{"$f":"IFERROR(' GESTION CSJMETA'!I27,\" \")","v":0},{"$f":"IFERROR(' GESTION CSJMETA'!J27,\" \")","v":0},null,""]
[null,null,null,null,{"$f":"IFERROR(' GESTION CSJMETA'!H28,\" \")","v":0},{"$f":"IFERROR(' GESTION CSJMETA'!I28,\" \")","v":0},{"$f":"IFERROR(' GESTION CSJMETA'!J28,\" \")","v":0},null,""]
[null,null,null,null,{"$f":"IFERROR(' GESTION CSJMETA'!H29,\" \")","v":0},{"$f":"IFERROR(' GESTION CSJMETA'!I29,\" \")","v":0},{"$f":"IFERROR(' GESTION CSJMETA'!J29,\" \")","v":0},null,""]
[null,null,null,null,{"$f":"IFERROR(' GESTION CSJMETA'!H30,\" \")","v":0},{"$f":"IFERROR(' GESTION CSJMETA'!I30,\" \")","v":0},{"$f":"IFERROR(' GESTION CSJMETA'!J30,\" \")","v":0},null,""]
[null,null,null,null,{"$f":"IFERROR(' GESTION CSJMETA'!H31,\" \")","v":0},{"$f":"IFERROR(' GESTION CSJMETA'!I31,\" \")","v":0},{"$f":"IFERROR(' GESTION CSJMETA'!J31,\" \")","v":0},null,""]
[null,null,null,null,{"$f":"IFERROR(' GESTION CSJMETA'!H32,\" \")","v":0},{"$f":"IFERROR(' GESTION CSJMETA'!I32,\" \")","v":0},{"$f":"IFERROR(' GESTION CSJMETA'!J32,\" \")","v":0},null,""]
[null,null,null,null,{"$f":"IFERROR(' GESTION CSJMETA'!H33,\" \")","v":0},{"$f":"IFERROR(' GESTION CSJMETA'!I33,\" \")","v":0},{"$f":"IFERROR(' GESTION CSJMETA'!J33,\" \")","v":0},null,""]
[null,null,null,null,{"$f":"IFERROR(' GESTION CSJMETA'!H34,\" \")","v":0},{"$f":"IFERROR(' GESTION CSJMETA'!I34,\" \")","v":0},{"$f":"IFERROR(' GESTION CSJMETA'!J34,\" \")","v":0},null,""]
[null,null,null,null,{"$f":"IFERROR(' GESTION CSJMETA'!H35,\" \")","v":0},{"$f":"IFERROR(' GESTION CSJMETA'!I35,\" \")","v":0},{"$f":"IFERROR(' GESTION CSJMETA'!J35,\" \")","v":0},null,""]
[null,null,"4. Avanzar en la disposición de una infraestructura óptima para el acceso a la justicia en la Rama Judicial de modo que se fortalezca la presencia territorial, teniendo en cuenta las posibilidades que ofrece la transformación digital y las necesidades que se derivan de ella, y considerando tanto las necesidades de los usuarios como las de los servidores judiciales.","4. Hacer un uso racional de los recursos naturales aplicando los principios y fases de la Economía Circular, para prevenir, mitigar y controlar los impactos ambientales",{"$f":"IFERROR(' GESTION CSJMETA'!H36,\" \")","v":0},{"$f":"IFERROR(' GESTION CSJMETA'!I36,\" \")","v":0},{"$f":"IFERROR(' GESTION CSJMETA'!J36,\" \")","v":0},null,""]
[null,null,null,null,{"$f":"IFERROR(' GESTION CSJMETA'!H37,\" \")","v":"Elaborar y presentar el informe de rendición de cuentas a la comunidad"},{"$f":"IFERROR(' GESTION CSJMETA'!I37,\" \")","v":"Entregable"},{"$f":"IFERROR(' GESTION CSJMETA'!J37,\" \")","v":0},null,"","No se han presentado","En el primer trimestre de 2023, se llevó a cabo la Audiencia de Rendición de cuenta de la vigencia 2022, la cual tuvo una mayor cantidad de audiencia conectada y la participación de los diferentes grupos de interés, de una forma más dinámica y activa, en relación con la presentada en el año 2021, teniendo en esta oportunidad y mayor divulgación."]
[null,null,null,null,{"$f":"IFERROR(' GESTION CSJMETA'!H38,\" \")","v":"Hacer seguimiento a la matriz de comunicaciones"},{"$f":"IFERROR(' GESTION CSJMETA'!I38,\" \")","v":"Entregable"},{"$f":"IFERROR(' GESTION CSJMETA'!J38,\" \")","v":0},null,"","No se han presentado","En el primer trimestre de 2023, se han realizado todas las actividades previstas en la Matriz de Comunicaciones"]
[null,null,null,null,{"$f":"IFERROR(' GESTION CSJMETA'!H39,\" \")","v":"Atender, gestionar y solucionar las diferentes solicitudes de usuarios internos y externos"},{"$f":"IFERROR(' GESTION CSJMETA'!I39,\" \")","v":"Entregable"},{"$f":"IFERROR(' GESTION CSJMETA'!J39,\" \")","v":0},null,"","No se han presentado","En el primer trimestre de 2023, se han tramitado y resuelto de fondo de forma oportuna, todas las solicitudes que se han recibido en esta Seccional"]
[null,null,null,null,{"$f":"IFERROR(' GESTION CSJMETA'!H40,\" \")","v":"Realizar los espacios de diálogo previstos en la rendición de cuentas"},{"$f":"IFERROR(' GESTION CSJMETA'!I40,\" \")","v":"Entregable"},{"$f":"IFERROR(' GESTION CSJMETA'!J40,\" \")","v":0},null,"","No se han presentado","En el primer trimestre de 2023, se han realizado espacios de diálogos a través de Facebook Life"]
[null,null,null,null,{"$f":"IFERROR(' GESTION CSJMETA'!H41,\" \")","v":"Realizar las Mesas Interjurisdiccionales Indígenas"},{"$f":"IFERROR(' GESTION CSJMETA'!I41,\" \")","v":"Entregable"},{"$f":"IFERROR(' GESTION CSJMETA'!J41,\" \")","v":0},null,"","No se han presentado","En el primer trimestre de 2023, se realizaron 2 Mesas Interjurisdiccionales Indígenas en Meta y Guainía"]
[null,null,null,null,{"$f":"IFERROR(' GESTION CSJMETA'!H42,\" \")","v":0},{"$f":"IFERROR(' GESTION CSJMETA'!I42,\" \")","v":0},{"$f":"IFERROR(' GESTION CSJMETA'!J42,\" \")","v":0},null,""]
[null,null,null,null,{"$f":"IFERROR(' GESTION CSJMETA'!H43,\" \")","v":0},{"$f":"IFERROR(' GESTION CSJMETA'!I43,\" \")","v":0},{"$f":"IFERROR(' GESTION CSJMETA'!J43,\" \")","v":0},null,""]
[null,null,null,null,{"$f":"IFERROR(' GESTION CSJMETA'!H44,\" \")","v":0},{"$f":"IFERROR(' GESTION CSJMETA'!I44,\" \")","v":0},{"$f":"IFERROR(' GESTION CSJMETA'!J44,\" \")","v":0},null,""]
[null,null,null,null,{"$f":"IFERROR(' GESTION CSJMETA'!H45,\" \")","v":0},{"$f":"IFERROR(' GESTION CSJMETA'!I45,\" \")","v":0},{"$f":"IFERROR(' GESTION CSJMETA'!J45,\" \")","v":0},null,""]
[null,null,"5. Impulsar el uso de mecanismos alternativos para la solución de conflictos y la ampliación de la justicia restaurativa y terapéutica y el robustecimiento de las alternativas al encarcelamiento","2. Asegurar  el cumplimiento de los objetivos institucionales, la normatividad aplicable,  la mejora del SIGCMA y la satisfacción de los usuarios, revisando de  forma continua y sistemática la planificación de la gestión y fortaleciendo la administración de riesgos y sus controles",{"$f":"IFERROR(' GESTION CSJMETA'!H46,\" \")","v":0},{"$f":"IFERROR(' GESTION CSJMETA'!I46,\" \")","v":0},{"$f":"IFERROR(' GESTION CSJMETA'!J46,\" \")","v":0},null,""]
[null,null,null,null,{"$f":"IFERROR(' GESTION CSJMETA'!H47,\" \")","v":0},{"$f":"IFERROR(' GESTION CSJMETA'!I47,\" \")","v":0},{"$f":"IFERROR(' GESTION CSJMETA'!J47,\" \")","v":0},null,""]
[null,null,null,null,{"$f":"IFERROR(' GESTION CSJMETA'!H48,\" \")","v":0},{"$f":"IFERROR(' GESTION CSJMETA'!I48,\" \")","v":0},{"$f":"IFERROR(' GESTION CSJMETA'!J48,\" \")","v":0},null,""]
[null,null,null,null,{"$f":"IFERROR(' GESTION CSJMETA'!H49,\" \")","v":0},{"$f":"IFERROR(' GESTION CSJMETA'!I49,\" \")","v":0},{"$f":"IFERROR(' GESTION CSJMETA'!J49,\" \")","v":0},null,""]
[null,null,null,null,{"$f":"IFERROR(' GESTION CSJMETA'!H50,\" \")","v":0},{"$f":"IFERROR(' GESTION CSJMETA'!I50,\" \")","v":0},{"$f":"IFERROR(' GESTION CSJMETA'!J50,\" \")","v":0},null,""]
[null,null,null,null,{"$f":"IFERROR(' GESTION CSJMETA'!H51,\" \")","v":0},{"$f":"IFERROR(' GESTION CSJMETA'!I51,\" \")","v":0},{"$f":"IFERROR(' GESTION CSJMETA'!J51,\" \")","v":0},null,""]
[null,null,null,null,{"$f":"IFERROR(' GESTION CSJMETA'!H52,\" \")","v":0},{"$f":"IFERROR(' GESTION CSJMETA'!I52,\" \")","v":0},{"$f":"IFERROR(' GESTION CSJMETA'!J52,\" \")","v":0},null,""]
[null,null,null,null,{"$f":"IFERROR(' GESTION CSJMETA'!H53,\" \")","v":0},{"$f":"IFERROR(' GESTION CSJMETA'!I53,\" \")","v":0},{"$f":"IFERROR(' GESTION CSJMETA'!J53,\" \")","v":0},null,""]
[null,null,null,null,{"$f":"IFERROR(' GESTION CSJMETA'!H54,\" \")","v":0},{"$f":"IFERROR(' GESTION CSJMETA'!I54,\" \")","v":0},{"$f":"IFERROR(' GESTION CSJMETA'!J54,\" \")","v":0},null,""]
[null,null,null,null,{"$f":"IFERROR(' GESTION CSJMETA'!H55,\" \")","v":0},{"$f":"IFERROR(' GESTION CSJMETA'!I55,\" \")","v":0},{"$f":"IFERROR(' GESTION CSJMETA'!J55,\" \")","v":0},null,""]
["2. Servicios digitales y de tecnología, innovación y análisis de la información.","Servicios digitales y de tecnología, innovación y análisis de la información: Consolidar una justicia integrada y soportada en servicios digitales y de tecnología, innovación y análisis de la información, con una cultura digital apropiada, segura y sensible a las realidades del territorio nacional. ","1. Ampliar el acceso a la justicia a través de la consolidación del uso de los servicios digitales que conforman el sistema único integrado de gestión judicial en todos los despachos judiciales y dependencias de apoyo y, específicamente, incluyendo el despliegue e implementación del Expediente Judicial Electrónico en todas las jurisdicciones y especialidades.","6. Proteger, preservar y administrar los activos de información  implementando acciones  para gestionar de forma adecuada los incidentes, proteger los datos personales y adoptar mecanismos  de ciberseguridad y aseguramiento de la  continuidad del negocio.",{"$f":"IFERROR(' GESTION CSJMETA'!H56,\" \")","v":0},{"$f":"IFERROR(' GESTION CSJMETA'!I56,\" \")","v":0},{"$f":"IFERROR(' GESTION CSJMETA'!J56,\" \")","v":0},null,""]
[null,null,null,null,{"$f":"IFERROR(' GESTION CSJMETA'!H57,\" \")","v":0},{"$f":"IFERROR(' GESTION CSJMETA'!I57,\" \")","v":0},{"$f":"IFERROR(' GESTION CSJMETA'!J57,\" \")","v":0},null,""]
[null,null,null,null,{"$f":"IFERROR(' GESTION CSJMETA'!H58,\" \")","v":0},{"$f":"IFERROR(' GESTION CSJMETA'!I58,\" \")","v":0},{"$f":"IFERROR(' GESTION CSJMETA'!J58,\" \")","v":0},null,""]
[null,null,null,null,{"$f":"IFERROR(' GESTION CSJMETA'!H59,\" \")","v":0},{"$f":"IFERROR(' GESTION CSJMETA'!I59,\" \")","v":0},{"$f":"IFERROR(' GESTION CSJMETA'!J59,\" \")","v":0},null,""]
[null,null,null,null,{"$f":"IFERROR(' GESTION CSJMETA'!H60,\" \")","v":0},{"$f":"IFERROR(' GESTION CSJMETA'!I60,\" \")","v":0},{"$f":"IFERROR(' GESTION CSJMETA'!J60,\" \")","v":0},null,""]
[null,null,null,null,{"$f":"IFERROR(' GESTION CSJMETA'!H61,\" \")","v":0},{"$f":"IFERROR(' GESTION CSJMETA'!I61,\" \")","v":0},{"$f":"IFERROR(' GESTION CSJMETA'!J61,\" \")","v":0},null,""]
[null,null,null,null,{"$f":"IFERROR(' GESTION CSJMETA'!H62,\" \")","v":0},{"$f":"IFERROR(' GESTION CSJMETA'!I62,\" \")","v":0},{"$f":"IFERROR(' GESTION CSJMETA'!J62,\" \")","v":0},null,""]
[null,null,null,null,{"$f":"IFERROR(' GESTION CSJMETA'!H63,\" \")","v":0},{"$f":"IFERROR(' GESTION CSJMETA'!I63,\" \")","v":0},{"$f":"IFERROR(' GESTION CSJMETA'!J63,\" \")","v":0},null,""]
[null,null,null,null,{"$f":"IFERROR(' GESTION CSJMETA'!H64,\" \")","v":0},{"$f":"IFERROR(' GESTION CSJMETA'!I64,\" \")","v":0},{"$f":"IFERROR(' GESTION CSJMETA'!J64,\" \")","v":0},null,""]
[null,null,null,null,{"$f":"IFERROR(' GESTION CSJMETA'!H65,\" \")","v":0},{"$f":"IFERROR(' GESTION CSJMETA'!I65,\" \")","v":0},{"$f":"IFERROR(' GESTION CSJMETA'!J65,\" \")","v":0},null,""]
[null,null,"2. Integrar y hacer compatibles todos los aplicativos de transición con SIUGJ, para que la migración de los expedientes judiciales a dicha plataforma sea real y no suponga afectaciones en la prestación del servicio de justicia.",null,{"$f":"IFERROR(' GESTION CSJMETA'!H66,\" \")","v":0},{"$f":"IFERROR(' GESTION CSJMETA'!I66,\" \")","v":0},{"$f":"IFERROR(' GESTION CSJMETA'!J66,\" \")","v":0},null,""]
[null,null,null,null,{"$f":"IFERROR(' GESTION CSJMETA'!H67,\" \")","v":0},{"$f":"IFERROR(' GESTION CSJMETA'!I67,\" \")","v":0},{"$f":"IFERROR(' GESTION CSJMETA'!J67,\" \")","v":0},null,""]
[null,null,null,null,{"$f":"IFERROR(' GESTION CSJMETA'!H68,\" \")","v":0},{"$f":"IFERROR(' GESTION CSJMETA'!I68,\" \")","v":0},{"$f":"IFERROR(' GESTION CSJMETA'!J68,\" \")","v":0},null,""]
[null,null,null,null,{"$f":"IFERROR(' GESTION CSJMETA'!H69,\" \")","v":0},{"$f":"IFERROR(' GESTION CSJMETA'!I69,\" \")","v":0},{"$f":"IFERROR(' GESTION CSJMETA'!J69,\" \")","v":0},null,""]
[null,null,null,null,{"$f":"IFERROR(' GESTION CSJMETA'!H70,\" \")","v":0},{"$f":"IFERROR(' GESTION CSJMETA'!I70,\" \")","v":0},{"$f":"IFERROR(' GESTION CSJMETA'!J70,\" \")","v":0},null,{"$f":"IFERROR(H70/G70,\"\")","v":""}]
[null,null,null,null,{"$f":"IFERROR(' GESTION CSJMETA'!H71,\" \")","v":0},{"$f":"IFERROR(' GESTION CSJMETA'!I71,\" \")","v":0},{"$f":"IFERROR(' GESTION CSJMETA'!J71,\" \")","v":0},null,""]
[null,null,null,null,{"$f":"IFERROR(' GESTION CSJMETA'!H72,\" \")","v":0},{"$f":"IFERROR(' GESTION CSJMETA'!I72,\" \")","v":0},{"$f":"IFERROR(' GESTION CSJMETA'!J72,\" \")","v":0},null,""]
[null,null,null,null,{"$f":"IFERROR(' GESTION CSJMETA'!H73,\" \")","v":0},{"$f":"IFERROR(' GESTION CSJMETA'!I73,\" \")","v":0},{"$f":"IFERROR(' GESTION CSJMETA'!J73,\" \")","v":0},null,""]
[null,null,null,null,{"$f":"IFERROR(' GESTION CSJMETA'!H74,\" \")","v":0},{"$f":"IFERROR(' GESTION CSJMETA'!I74,\" \")","v":0},{"$f":"IFERROR(' GESTION CSJMETA'!J74,\" \")","v":0},null,""]
[null,null,null,null,{"$f":"IFERROR(' GESTION CSJMETA'!H75,\" \")","v":0},{"$f":"IFERROR(' GESTION CSJMETA'!I75,\" \")","v":0},{"$f":"IFERROR(' GESTION CSJMETA'!J75,\" \")","v":0},null,""]
[null,null,"3. Fortalecer las capacidades institucionales, adecuar el modelo operativo y de servicio, bajo un enfoque de Arquitectura Empresarial y de fortalecimiento del acceso a la justicia.",null,{"$f":"IFERROR(' GESTION CSJMETA'!H76,\" \")","v":0},{"$f":"IFERROR(' GESTION CSJMETA'!I76,\" \")","v":0},{"$f":"IFERROR(' GESTION CSJMETA'!J76,\" \")","v":0},null,""]
[null,null,null,null,{"$f":"IFERROR(' GESTION CSJMETA'!H77,\" \")","v":0},{"$f":"IFERROR(' GESTION CSJMETA'!I77,\" \")","v":0},{"$f":"IFERROR(' GESTION CSJMETA'!J77,\" \")","v":0},null,""]
[null,null,null,null,{"$f":"IFERROR(' GESTION CSJMETA'!H78,\" \")","v":0},{"$f":"IFERROR(' GESTION CSJMETA'!I78,\" \")","v":0},{"$f":"IFERROR(' GESTION CSJMETA'!J78,\" \")","v":0},null,""]
[null,null,null,null,{"$f":"IFERROR(' GESTION CSJMETA'!H79,\" \")","v":0},{"$f":"IFERROR(' GESTION CSJMETA'!I79,\" \")","v":0},{"$f":"IFERROR(' GESTION CSJMETA'!J79,\" \")","v":0},null,""]
[null,null,null,null,{"$f":"IFERROR(' GESTION CSJMETA'!H80,\" \")","v":0},{"$f":"IFERROR(' GESTION CSJMETA'!I80,\" \")","v":0},{"$f":"IFERROR(' GESTION CSJMETA'!J80,\" \")","v":0},null,""]
[null,null,null,null,{"$f":"IFERROR(' GESTION CSJMETA'!H81,\" \")","v":0},{"$f":"IFERROR(' GESTION CSJMETA'!I81,\" \")","v":0},{"$f":"IFERROR(' GESTION CSJMETA'!J81,\" \")","v":0},null,""]
[null,null,null,null,{"$f":"IFERROR(' GESTION CSJMETA'!H82,\" \")","v":0},{"$f":"IFERROR(' GESTION CSJMETA'!I82,\" \")","v":0},{"$f":"IFERROR(' GESTION CSJMETA'!J82,\" \")","v":0},null,""]
[null,null,null,null,{"$f":"IFERROR(' GESTION CSJMETA'!H83,\" \")","v":0},{"$f":"IFERROR(' GESTION CSJMETA'!I83,\" \")","v":0},{"$f":"IFERROR(' GESTION CSJMETA'!J83,\" \")","v":0},null,""]
[null,null,null,null,{"$f":"IFERROR(' GESTION CSJMETA'!H84,\" \")","v":0},{"$f":"IFERROR(' GESTION CSJMETA'!I84,\" \")","v":0},{"$f":"IFERROR(' GESTION CSJMETA'!J84,\" \")","v":0},null,""]
[null,null,null,null,{"$f":"IFERROR(' GESTION CSJMETA'!H85,\" \")","v":0},{"$f":"IFERROR(' GESTION CSJMETA'!I85,\" \")","v":0},{"$f":"IFERROR(' GESTION CSJMETA'!J85,\" \")","v":0},null,""]
[null,null,"4.Consolidar la cultura y apropiación de la transformación digital en los servidores y usuarios de los servicios de la Rama Judicial y reducir brechas de acceso y conocimiento, incluyendo la oferta efectiva de información sobre el uso de las nuevas herramientas virtuales implementadas en las diferentes jurisdicciones, con especial énfasis en las zonas del país donde es evidente la brecha digital.",null,{"$f":"IFERROR(' GESTION CSJMETA'!H86,\" \")","v":0},{"$f":"IFERROR(' GESTION CSJMETA'!I86,\" \")","v":0},{"$f":"IFERROR(' GESTION CSJMETA'!J86,\" \")","v":0},null,""]
[null,null,null,null,{"$f":"IFERROR(' GESTION CSJMETA'!H87,\" \")","v":0},{"$f":"IFERROR(' GESTION CSJMETA'!I87,\" \")","v":0},{"$f":"IFERROR(' GESTION CSJMETA'!J87,\" \")","v":0},null,""]
[null,null,null,null,{"$f":"IFERROR(' GESTION CSJMETA'!H88,\" \")","v":0},{"$f":"IFERROR(' GESTION CSJMETA'!I88,\" \")","v":0},{"$f":"IFERROR(' GESTION CSJMETA'!J88,\" \")","v":0},null,""]
[null,null,null,null,{"$f":"IFERROR(' GESTION CSJMETA'!H89,\" \")","v":0},{"$f":"IFERROR(' GESTION CSJMETA'!I89,\" \")","v":0},{"$f":"IFERROR(' GESTION CSJMETA'!J89,\" \")","v":0},null,""]
[null,null,null,null,{"$f":"IFERROR(' GESTION CSJMETA'!H90,\" \")","v":0},{"$f":"IFERROR(' GESTION CSJMETA'!I90,\" \")","v":0},{"$f":"IFERROR(' GESTION CSJMETA'!J90,\" \")","v":0},null,""]
[null,null,null,null,{"$f":"IFERROR(' GESTION CSJMETA'!H91,\" \")","v":0},{"$f":"IFERROR(' GESTION CSJMETA'!I91,\" \")","v":0},{"$f":"IFERROR(' GESTION CSJMETA'!J91,\" \")","v":0},null,""]
[null,null,null,null,{"$f":"IFERROR(' GESTION CSJMETA'!H92,\" \")","v":0},{"$f":"IFERROR(' GESTION CSJMETA'!I92,\" \")","v":0},{"$f":"IFERROR(' GESTION CSJMETA'!J92,\" \")","v":0},null,""]
[null,null,null,null,{"$f":"IFERROR(' GESTION CSJMETA'!H93,\" \")","v":0},{"$f":"IFERROR(' GESTION CSJMETA'!I93,\" \")","v":0},{"$f":"IFERROR(' GESTION CSJMETA'!J93,\" \")","v":0},null,""]
[null,null,null,null,{"$f":"IFERROR(' GESTION CSJMETA'!H94,\" \")","v":0},{"$f":"IFERROR(' GESTION CSJMETA'!I94,\" \")","v":0},{"$f":"IFERROR(' GESTION CSJMETA'!J94,\" \")","v":0},null,""]
[null,null,null,null,{"$f":"IFERROR(' GESTION CSJMETA'!H95,\" \")","v":0},{"$f":"IFERROR(' GESTION CSJMETA'!I95,\" \")","v":0},{"$f":"IFERROR(' GESTION CSJMETA'!J95,\" \")","v":0},null,""]
[null,null,"5.Consolidar la infraestructura y los recursos necesarios para la implementación exitosa de la transformación digital, incluyendo la disposición de internet de calidad en el 100% de las sedes en la Rama Judicial y modernizar los servicios tecnológicos de soporte. ",null,{"$f":"IFERROR(' GESTION CSJMETA'!H96,\" \")","v":0},{"$f":"IFERROR(' GESTION CSJMETA'!I96,\" \")","v":0},{"$f":"IFERROR(' GESTION CSJMETA'!J96,\" \")","v":0},null,""]
[null,null,null,null,{"$f":"IFERROR(' GESTION CSJMETA'!H97,\" \")","v":0},{"$f":"IFERROR(' GESTION CSJMETA'!I97,\" \")","v":0},{"$f":"IFERROR(' GESTION CSJMETA'!J97,\" \")","v":0},null,""]
[null,null,null,null,{"$f":"IFERROR(' GESTION CSJMETA'!H98,\" \")","v":0},{"$f":"IFERROR(' GESTION CSJMETA'!I98,\" \")","v":0},{"$f":"IFERROR(' GESTION CSJMETA'!J98,\" \")","v":0},null,""]
[null,null,null,null,{"$f":"IFERROR(' GESTION CSJMETA'!H99,\" \")","v":0},{"$f":"IFERROR(' GESTION CSJMETA'!I99,\" \")","v":0},{"$f":"IFERROR(' GESTION CSJMETA'!J99,\" \")","v":0},null,""]
[null,null,null,null,{"$f":"IFERROR(' GESTION CSJMETA'!H100,\" \")","v":0},{"$f":"IFERROR(' GESTION CSJMETA'!I100,\" \")","v":0},{"$f":"IFERROR(' GESTION CSJMETA'!J100,\" \")","v":0},null,""]
[null,null,null,null,{"$f":"IFERROR(' GESTION CSJMETA'!H101,\" \")","v":0},{"$f":"IFERROR(' GESTION CSJMETA'!I101,\" \")","v":0},{"$f":"IFERROR(' GESTION CSJMETA'!J101,\" \")","v":0},null,""]
[null,null,null,null,{"$f":"IFERROR(' GESTION CSJMETA'!H102,\" \")","v":0},{"$f":"IFERROR(' GESTION CSJMETA'!I102,\" \")","v":0},{"$f":"IFERROR(' GESTION CSJMETA'!J102,\" \")","v":0},null,""]
[null,null,null,null,{"$f":"IFERROR(' GESTION CSJMETA'!H103,\" \")","v":0},{"$f":"IFERROR(' GESTION CSJMETA'!I103,\" \")","v":0},{"$f":"IFERROR(' GESTION CSJMETA'!J103,\" \")","v":0},null,""]
[null,null,null,null,{"$f":"IFERROR(' GESTION CSJMETA'!H104,\" \")","v":0},{"$f":"IFERROR(' GESTION CSJMETA'!I104,\" \")","v":0},{"$f":"IFERROR(' GESTION CSJMETA'!J104,\" \")","v":0},null,""]
[null,null,null,null,{"$f":"IFERROR(' GESTION CSJMETA'!H105,\" \")","v":0},{"$f":"IFERROR(' GESTION CSJMETA'!I105,\" \")","v":0},{"$f":"IFERROR(' GESTION CSJMETA'!J105,\" \")","v":0},null,""]
[null,null,"6.Integrar y optimizar los servicios administrativos de la Rama Judicial bajo un enfoque de transformación digital e innovación incluyendo los componentes financiero, administrativo, talento humano, entre otros",null,{"$f":"IFERROR(' GESTION CSJMETA'!H106,\" \")","v":0},{"$f":"IFERROR(' GESTION CSJMETA'!I106,\" \")","v":0},{"$f":"IFERROR(' GESTION CSJMETA'!J106,\" \")","v":0},null,""]
[null,null,null,null,{"$f":"IFERROR(' GESTION CSJMETA'!H107,\" \")","v":0},{"$f":"IFERROR(' GESTION CSJMETA'!I107,\" \")","v":0},{"$f":"IFERROR(' GESTION CSJMETA'!J107,\" \")","v":0},null,""]
[null,null,null,null,{"$f":"IFERROR(' GESTION CSJMETA'!H108,\" \")","v":0},{"$f":"IFERROR(' GESTION CSJMETA'!I108,\" \")","v":0},{"$f":"IFERROR(' GESTION CSJMETA'!J108,\" \")","v":0},null,""]
[null,null,null,null,{"$f":"IFERROR(' GESTION CSJMETA'!H109,\" \")","v":0},{"$f":"IFERROR(' GESTION CSJMETA'!I109,\" \")","v":0},{"$f":"IFERROR(' GESTION CSJMETA'!J109,\" \")","v":0},null,""]
[null,null,null,null,{"$f":"IFERROR(' GESTION CSJMETA'!H110,\" \")","v":0},{"$f":"IFERROR(' GESTION CSJMETA'!I110,\" \")","v":0},{"$f":"IFERROR(' GESTION CSJMETA'!J110,\" \")","v":0},null,""]
[null,null,null,null,{"$f":"IFERROR(' GESTION CSJMETA'!H111,\" \")","v":0},{"$f":"IFERROR(' GESTION CSJMETA'!I111,\" \")","v":0},{"$f":"IFERROR(' GESTION CSJMETA'!J111,\" \")","v":0},null,""]
[null,null,null,null,{"$f":"IFERROR(' GESTION CSJMETA'!H112,\" \")","v":0},{"$f":"IFERROR(' GESTION CSJMETA'!I112,\" \")","v":0},{"$f":"IFERROR(' GESTION CSJMETA'!J112,\" \")","v":0},null,""]
[null,null,null,null,{"$f":"IFERROR(' GESTION CSJMETA'!H113,\" \")","v":0},{"$f":"IFERROR(' GESTION CSJMETA'!I113,\" \")","v":0},{"$f":"IFERROR(' GESTION CSJMETA'!J113,\" \")","v":0},null,""]
[null,null,null,null,{"$f":"IFERROR(' GESTION CSJMETA'!H114,\" \")","v":0},{"$f":"IFERROR(' GESTION CSJMETA'!I114,\" \")","v":0},{"$f":"IFERROR(' GESTION CSJMETA'!J114,\" \")","v":0},null,""]
[null,null,null,null,{"$f":"IFERROR(' GESTION CSJMETA'!H115,\" \")","v":0},{"$f":"IFERROR(' GESTION CSJMETA'!I115,\" \")","v":0},{"$f":"IFERROR(' GESTION CSJMETA'!J115,\" \")","v":0},null,""]
["3. Confianza pública, transparencia y rendición de cuentas","Confianza pública, transparencia y rendición de cuentas: Aumentar la confianza pública en la justicia a través de la transparencia, la rendición de cuentas y la participación, incluyendo la información de justicia y la producción, gestión y acceso a las fuentes de derecho, el fortalecimiento del sistema de gestión de calidad y medio ambiente (SIGCMA) y el mejoramiento de la calidad y publicidad de la información. ","1. Incrementar la cantidad, la calidad y pertinencia de los datos sobre el funcionamiento del servicio de justicia bajo un modelo de gobierno de datos y un liderazgo unificado. ","4. Hacer un uso racional de los recursos naturales aplicando los principios y fases de la Economía Circular, para prevenir, mitigar y controlar los impactos ambientales.",{"$f":"IFERROR(' GESTION CSJMETA'!H116,\" \")","v":0},{"$f":"IFERROR(' GESTION CSJMETA'!I116,\" \")","v":0},{"$f":"IFERROR(' GESTION CSJMETA'!J116,\" \")","v":0},null,""]
[null,null,null,null,{"$f":"IFERROR(' GESTION CSJMETA'!H117,\" \")","v":0},{"$f":"IFERROR(' GESTION CSJMETA'!I117,\" \")","v":0},{"$f":"IFERROR(' GESTION CSJMETA'!J117,\" \")","v":0},null,""]
[null,null,null,null,{"$f":"IFERROR(' GESTION CSJMETA'!H118,\" \")","v":0},{"$f":"IFERROR(' GESTION CSJMETA'!I118,\" \")","v":0},{"$f":"IFERROR(' GESTION CSJMETA'!J118,\" \")","v":0},null,""]
[null,null,null,null,{"$f":"IFERROR(' GESTION CSJMETA'!H119,\" \")","v":0},{"$f":"IFERROR(' GESTION CSJMETA'!I119,\" \")","v":0},{"$f":"IFERROR(' GESTION CSJMETA'!J119,\" \")","v":0},null,""]
[null,null,null,null,{"$f":"IFERROR(' GESTION CSJMETA'!H120,\" \")","v":0},{"$f":"IFERROR(' GESTION CSJMETA'!I120,\" \")","v":0},{"$f":"IFERROR(' GESTION CSJMETA'!J120,\" \")","v":0},null,""]
[null,null,null,null,{"$f":"IFERROR(' GESTION CSJMETA'!H121,\" \")","v":0},{"$f":"IFERROR(' GESTION CSJMETA'!I121,\" \")","v":0},{"$f":"IFERROR(' GESTION CSJMETA'!J121,\" \")","v":0},null,""]
[null,null,null,null,{"$f":"IFERROR(' GESTION CSJMETA'!H122,\" \")","v":0},{"$f":"IFERROR(' GESTION CSJMETA'!I122,\" \")","v":0},{"$f":"IFERROR(' GESTION CSJMETA'!J122,\" \")","v":0},null,""]
[null,null,null,null,{"$f":"IFERROR(' GESTION CSJMETA'!H123,\" \")","v":0},{"$f":"IFERROR(' GESTION CSJMETA'!I123,\" \")","v":0},{"$f":"IFERROR(' GESTION CSJMETA'!J123,\" \")","v":0},null,""]
[null,null,null,null,{"$f":"IFERROR(' GESTION CSJMETA'!H124,\" \")","v":0},{"$f":"IFERROR(' GESTION CSJMETA'!I124,\" \")","v":0},{"$f":"IFERROR(' GESTION CSJMETA'!J124,\" \")","v":0},null,""]
[null,null,null,null,{"$f":"IFERROR(' GESTION CSJMETA'!H125,\" \")","v":0},{"$f":"IFERROR(' GESTION CSJMETA'!I125,\" \")","v":0},{"$f":"IFERROR(' GESTION CSJMETA'!J125,\" \")","v":0},null,""]
[null,null,"2. Consolidar la administración de la información entendida como todas las acciones rientadas a garantizar el acceso, consulta, uso y conservación de la información de justicia de manera ágil, flexible e inteligente, bajo un enfoque de innovación.",null,{"$f":"IFERROR(' GESTION CSJMETA'!H126,\" \")","v":0},{"$f":"IFERROR(' GESTION CSJMETA'!I126,\" \")","v":0},{"$f":"IFERROR(' GESTION CSJMETA'!J126,\" \")","v":0},null,""]
[null,null,null,null,{"$f":"IFERROR(' GESTION CSJMETA'!H127,\" \")","v":0},{"$f":"IFERROR(' GESTION CSJMETA'!I127,\" \")","v":0},{"$f":"IFERROR(' GESTION CSJMETA'!J127,\" \")","v":0},null,""]
[null,null,null,null,{"$f":"IFERROR(' GESTION CSJMETA'!H128,\" \")","v":0},{"$f":"IFERROR(' GESTION CSJMETA'!I128,\" \")","v":0},{"$f":"IFERROR(' GESTION CSJMETA'!J128,\" \")","v":0},null,""]
[null,null,null,null,{"$f":"IFERROR(' GESTION CSJMETA'!H129,\" \")","v":0},{"$f":"IFERROR(' GESTION CSJMETA'!I129,\" \")","v":0},{"$f":"IFERROR(' GESTION CSJMETA'!J129,\" \")","v":0},null,""]
[null,null,null,null,{"$f":"IFERROR(' GESTION CSJMETA'!H130,\" \")","v":0},{"$f":"IFERROR(' GESTION CSJMETA'!I130,\" \")","v":0},{"$f":"IFERROR(' GESTION CSJMETA'!J130,\" \")","v":0},null,""]
[null,null,null,null,{"$f":"IFERROR(' GESTION CSJMETA'!H131,\" \")","v":0},{"$f":"IFERROR(' GESTION CSJMETA'!I131,\" \")","v":0},{"$f":"IFERROR(' GESTION CSJMETA'!J131,\" \")","v":0},null,""]
[null,null,null,null,{"$f":"IFERROR(' GESTION CSJMETA'!H132,\" \")","v":0},{"$f":"IFERROR(' GESTION CSJMETA'!I132,\" \")","v":0},{"$f":"IFERROR(' GESTION CSJMETA'!J132,\" \")","v":0},null,""]
[null,null,null,null,{"$f":"IFERROR(' GESTION CSJMETA'!H133,\" \")","v":0},{"$f":"IFERROR(' GESTION CSJMETA'!I133,\" \")","v":0},{"$f":"IFERROR(' GESTION CSJMETA'!J133,\" \")","v":0},null,""]
[null,null,null,null,{"$f":"IFERROR(' GESTION CSJMETA'!H134,\" \")","v":0},{"$f":"IFERROR(' GESTION CSJMETA'!I134,\" \")","v":0},{"$f":"IFERROR(' GESTION CSJMETA'!J134,\" \")","v":0},null,{"$f":"IFERROR(H134/G134,\"\")","v":""}]
[null,null,null,null,{"$f":"IFERROR(' GESTION CSJMETA'!H135,\" \")","v":0},{"$f":"IFERROR(' GESTION CSJMETA'!I135,\" \")","v":0},{"$f":"IFERROR(' GESTION CSJMETA'!J135,\" \")","v":0},null,""]
[null,null,"3. Fortalecer el Sistema integrado de Gestión de la Rama, orientado a la implementación y certificación de las normas antisoborno.","1. Gestionar el desarrollo de las competencias, la toma de conciencia , la cultura  organizacional  y el compromiso de los  servidores judiciales, contratistas, practicantes y  judicantes de contribuir a generar valor público en la administración de justicia, en el marco de  cumplimiento de los requisitos  aplicables y el comportamiento ético.\n3. Fomentar la transparencia y la participación generando lineamientos y promoviendo la rendición de cuentas ,la consulta, reporte y planteamiento de inquietudes en relación con las decisiones y aspectos del SIGCMA.",{"$f":"IFERROR(' GESTION CSJMETA'!H136,\" \")","v":0},{"$f":"IFERROR(' GESTION CSJMETA'!I136,\" \")","v":0},{"$f":"IFERROR(' GESTION CSJMETA'!J136,\" \")","v":0},null,""]
[null,null,null,null,{"$f":"IFERROR(' GESTION CSJMETA'!H137,\" \")","v":0},{"$f":"IFERROR(' GESTION CSJMETA'!I137,\" \")","v":0},{"$f":"IFERROR(' GESTION CSJMETA'!J137,\" \")","v":0},null,""]
[null,null,null,null,{"$f":"IFERROR(' GESTION CSJMETA'!H138,\" \")","v":0},{"$f":"IFERROR(' GESTION CSJMETA'!I138,\" \")","v":0},{"$f":"IFERROR(' GESTION CSJMETA'!J138,\" \")","v":0},null,""]
[null,null,null,null,{"$f":"IFERROR(' GESTION CSJMETA'!H139,\" \")","v":0},{"$f":"IFERROR(' GESTION CSJMETA'!I139,\" \")","v":0},{"$f":"IFERROR(' GESTION CSJMETA'!J139,\" \")","v":0},null,""]
[null,null,null,null,{"$f":"IFERROR(' GESTION CSJMETA'!H140,\" \")","v":0},{"$f":"IFERROR(' GESTION CSJMETA'!I140,\" \")","v":0},{"$f":"IFERROR(' GESTION CSJMETA'!J140,\" \")","v":0},null,""]
[null,null,null,null,{"$f":"IFERROR(' GESTION CSJMETA'!H141,\" \")","v":0},{"$f":"IFERROR(' GESTION CSJMETA'!I141,\" \")","v":0},{"$f":"IFERROR(' GESTION CSJMETA'!J141,\" \")","v":0},null,""]
[null,null,null,null,{"$f":"IFERROR(' GESTION CSJMETA'!H142,\" \")","v":0},{"$f":"IFERROR(' GESTION CSJMETA'!I142,\" \")","v":0},{"$f":"IFERROR(' GESTION CSJMETA'!J142,\" \")","v":0},null,""]
[null,null,null,null,{"$f":"IFERROR(' GESTION CSJMETA'!H143,\" \")","v":0},{"$f":"IFERROR(' GESTION CSJMETA'!I143,\" \")","v":0},{"$f":"IFERROR(' GESTION CSJMETA'!J143,\" \")","v":0},null,""]
[null,null,null,null,{"$f":"IFERROR(' GESTION CSJMETA'!H144,\" \")","v":0},{"$f":"IFERROR(' GESTION CSJMETA'!I144,\" \")","v":0},{"$f":"IFERROR(' GESTION CSJMETA'!J144,\" \")","v":0},null,""]
[null,null,null,null,{"$f":"IFERROR(' GESTION CSJMETA'!H145,\" \")","v":0},{"$f":"IFERROR(' GESTION CSJMETA'!I145,\" \")","v":0},{"$f":"IFERROR(' GESTION CSJMETA'!J145,\" \")","v":0},null,""]
[null,null,"4. Aumentar la confianza, la cercanía y acceso a los servicios de la Rama Judicial a través, entre otros, de una comunicación clara y asertiva con la ciudadanía.","3. Fomentar la transparencia y la participación generando lineamientos y promoviendo la rendición de cuentas ,la consulta, reporte y planteamiento de inquietudes en relación con las decisiones y aspectos del SIGCMA.",{"$f":"IFERROR(' GESTION CSJMETA'!H146,\" \")","v":0},{"$f":"IFERROR(' GESTION CSJMETA'!I146,\" \")","v":0},{"$f":"IFERROR(' GESTION CSJMETA'!J146,\" \")","v":0},null,""]
[null,null,null,null,{"$f":"IFERROR(' GESTION CSJMETA'!H147,\" \")","v":0},{"$f":"IFERROR(' GESTION CSJMETA'!I147,\" \")","v":0},{"$f":"IFERROR(' GESTION CSJMETA'!J147,\" \")","v":0},null,""]
[null,null,null,null,{"$f":"IFERROR(' GESTION CSJMETA'!H148,\" \")","v":0},{"$f":"IFERROR(' GESTION CSJMETA'!I148,\" \")","v":0},{"$f":"IFERROR(' GESTION CSJMETA'!J148,\" \")","v":0},null,""]
[null,null,null,null,{"$f":"IFERROR(' GESTION CSJMETA'!H149,\" \")","v":0},{"$f":"IFERROR(' GESTION CSJMETA'!I149,\" \")","v":0},{"$f":"IFERROR(' GESTION CSJMETA'!J149,\" \")","v":0},null,""]
[null,null,null,null,{"$f":"IFERROR(' GESTION CSJMETA'!H150,\" \")","v":0},{"$f":"IFERROR(' GESTION CSJMETA'!I150,\" \")","v":0},{"$f":"IFERROR(' GESTION CSJMETA'!J150,\" \")","v":0},null,""]
[null,null,null,null,{"$f":"IFERROR(' GESTION CSJMETA'!H151,\" \")","v":0},{"$f":"IFERROR(' GESTION CSJMETA'!I151,\" \")","v":0},{"$f":"IFERROR(' GESTION CSJMETA'!J151,\" \")","v":0},null,""]
[null,null,null,null,{"$f":"IFERROR(' GESTION CSJMETA'!H152,\" \")","v":0},{"$f":"IFERROR(' GESTION CSJMETA'!I152,\" \")","v":0},{"$f":"IFERROR(' GESTION CSJMETA'!J152,\" \")","v":0},null,""]
[null,null,null,null,{"$f":"IFERROR(' GESTION CSJMETA'!H153,\" \")","v":0},{"$f":"IFERROR(' GESTION CSJMETA'!I153,\" \")","v":0},{"$f":"IFERROR(' GESTION CSJMETA'!J153,\" \")","v":0},null,""]
[null,null,null,null,{"$f":"IFERROR(' GESTION CSJMETA'!H154,\" \")","v":0},{"$f":"IFERROR(' GESTION CSJMETA'!I154,\" \")","v":0},{"$f":"IFERROR(' GESTION CSJMETA'!J154,\" \")","v":0},null,""]
[null,null,null,null,{"$f":"IFERROR(' GESTION CSJMETA'!H155,\" \")","v":0},{"$f":"IFERROR(' GESTION CSJMETA'!I155,\" \")","v":0},{"$f":"IFERROR(' GESTION CSJMETA'!J155,\" \")","v":0},null,""]
[null,null,"5. Prevenir fenómenos asociados con actos de corrupción en la Rama Judicial y reducir las experiencias de corrupción de usuarios y servidores judiciales.",null,{"$f":"IFERROR(' GESTION CSJMETA'!H156,\" \")","v":0},{"$f":"IFERROR(' GESTION CSJMETA'!I156,\" \")","v":0},{"$f":"IFERROR(' GESTION CSJMETA'!J156,\" \")","v":0},null,""]
[null,null,null,null,{"$f":"IFERROR(' GESTION CSJMETA'!H157,\" \")","v":0},{"$f":"IFERROR(' GESTION CSJMETA'!I157,\" \")","v":0},{"$f":"IFERROR(' GESTION CSJMETA'!J157,\" \")","v":0},null,""]
[null,null,null,null,{"$f":"IFERROR(' GESTION CSJMETA'!H158,\" \")","v":0},{"$f":"IFERROR(' GESTION CSJMETA'!I158,\" \")","v":0},{"$f":"IFERROR(' GESTION CSJMETA'!J158,\" \")","v":0},null,""]
[null,null,null,null,{"$f":"IFERROR(' GESTION CSJMETA'!H159,\" \")","v":0},{"$f":"IFERROR(' GESTION CSJMETA'!I159,\" \")","v":0},{"$f":"IFERROR(' GESTION CSJMETA'!J159,\" \")","v":0},null,""]
[null,null,null,null,{"$f":"IFERROR(' GESTION CSJMETA'!H160,\" \")","v":0},{"$f":"IFERROR(' GESTION CSJMETA'!I160,\" \")","v":0},{"$f":"IFERROR(' GESTION CSJMETA'!J160,\" \")","v":0},null,""]
[null,null,null,null,{"$f":"IFERROR(' GESTION CSJMETA'!H161,\" \")","v":0},{"$f":"IFERROR(' GESTION CSJMETA'!I161,\" \")","v":0},{"$f":"IFERROR(' GESTION CSJMETA'!J161,\" \")","v":0},null,""]
[null,null,null,null,{"$f":"IFERROR(' GESTION CSJMETA'!H162,\" \")","v":0},{"$f":"IFERROR(' GESTION CSJMETA'!I162,\" \")","v":0},{"$f":"IFERROR(' GESTION CSJMETA'!J162,\" \")","v":0},null,""]
[null,null,null,null,{"$f":"IFERROR(' GESTION CSJMETA'!H163,\" \")","v":0},{"$f":"IFERROR(' GESTION CSJMETA'!I163,\" \")","v":0},{"$f":"IFERROR(' GESTION CSJMETA'!J163,\" \")","v":0},null,""]
[null,null,null,null,{"$f":"IFERROR(' GESTION CSJMETA'!H164,\" \")","v":0},{"$f":"IFERROR(' GESTION CSJMETA'!I164,\" \")","v":0},{"$f":"IFERROR(' GESTION CSJMETA'!J164,\" \")","v":0},null,""]
[null,null,null,null,{"$f":"IFERROR(' GESTION CSJMETA'!H165,\" \")","v":0},{"$f":"IFERROR(' GESTION CSJMETA'!I165,\" \")","v":0},{"$f":"IFERROR(' GESTION CSJMETA'!J165,\" \")","v":0},null,""]
[null,null,"6. Promover la rendición de cuentas y la colaboración real con la ciudadanía como fundamento para diseñar acciones de mejoramiento del acceso a la justicia.",null,{"$f":"IFERROR(' GESTION CSJMETA'!H166,\" \")","v":0},{"$f":"IFERROR(' GESTION CSJMETA'!I166,\" \")","v":0},{"$f":"IFERROR(' GESTION CSJMETA'!J166,\" \")","v":0},null,""]
[null,null,null,null,{"$f":"IFERROR(' GESTION CSJMETA'!H167,\" \")","v":0},{"$f":"IFERROR(' GESTION CSJMETA'!I167,\" \")","v":0},{"$f":"IFERROR(' GESTION CSJMETA'!J167,\" \")","v":0},null,""]
[null,null,null,null,{"$f":"IFERROR(' GESTION CSJMETA'!H168,\" \")","v":0},{"$f":"IFERROR(' GESTION CSJMETA'!I168,\" \")","v":0},{"$f":"IFERROR(' GESTION CSJMETA'!J168,\" \")","v":0},null,""]
[null,null,null,null,{"$f":"IFERROR(' GESTION CSJMETA'!H169,\" \")","v":0},{"$f":"IFERROR(' GESTION CSJMETA'!I169,\" \")","v":0},{"$f":"IFERROR(' GESTION CSJMETA'!J169,\" \")","v":0},null,""]
[null,null,null,null,{"$f":"IFERROR(' GESTION CSJMETA'!H170,\" \")","v":0},{"$f":"IFERROR(' GESTION CSJMETA'!I170,\" \")","v":0},{"$f":"IFERROR(' GESTION CSJMETA'!J170,\" \")","v":0},null,""]
[null,null,null,null,{"$f":"IFERROR(' GESTION CSJMETA'!H171,\" \")","v":0},{"$f":"IFERROR(' GESTION CSJMETA'!I171,\" \")","v":0},{"$f":"IFERROR(' GESTION CSJMETA'!J171,\" \")","v":0},null,""]
[null,null,null,null,{"$f":"IFERROR(' GESTION CSJMETA'!H172,\" \")","v":0},{"$f":"IFERROR(' GESTION CSJMETA'!I172,\" \")","v":0},{"$f":"IFERROR(' GESTION CSJMETA'!J172,\" \")","v":0},null,""]
[null,null,null,null,{"$f":"IFERROR(' GESTION CSJMETA'!H173,\" \")","v":0},{"$f":"IFERROR(' GESTION CSJMETA'!I173,\" \")","v":0},{"$f":"IFERROR(' GESTION CSJMETA'!J173,\" \")","v":0},null,""]
[null,null,null,null,{"$f":"IFERROR(' GESTION CSJMETA'!H174,\" \")","v":0},{"$f":"IFERROR(' GESTION CSJMETA'!I174,\" \")","v":0},{"$f":"IFERROR(' GESTION CSJMETA'!J174,\" \")","v":0},null,""]
[null,null,null,null,{"$f":"IFERROR(' GESTION CSJMETA'!H175,\" \")","v":0},{"$f":"IFERROR(' GESTION CSJMETA'!I175,\" \")","v":0},{"$f":"IFERROR(' GESTION CSJMETA'!J175,\" \")","v":0},null,""]
[null,null,"7. Continuar la consolidación del SIGCMA, a través de los procesos de formación en modelos de gestión, logrando la implementación y ampliación de este en los esquemas certificados de manera gradual, teniendo en cuenta las capacidades de los diferentes despachos judiciales y dependencias de la Rama Judicial y articulando el enfoque de Arquitectura Empresarial para el desarrollo del PETD a través de la gestión del conocimiento para la gestión del cambio propendiendo por una cultura de la calidad, la transparencia, la rendición de cuentas, la anticorrupción y el antisoborno","1. Gestionar el desarrollo de las competencias, la toma de conciencia , la cultura  organizacional  y el compromiso de los  servidores judiciales, contratistas, practicantes y  judicantes de contribuir a generar valor público en la administración de justicia, en el marco de  cumplimiento de los requisitos  aplicables y el comportamiento ético.\n4. Hacer un uso racional de los recursos naturales aplicando los principios y fases de la Economía Circular, para prevenir, mitigar y controlar los impactos ambientales.",{"$f":"IFERROR(' GESTION CSJMETA'!H176,\" \")","v":0},{"$f":"IFERROR(' GESTION CSJMETA'!I176,\" \")","v":0},{"$f":"IFERROR(' GESTION CSJMETA'!J176,\" \")","v":0},null,""]
[null,null,null,null,{"$f":"IFERROR(' GESTION CSJMETA'!H177,\" \")","v":"Desarrollar labor pedagógica y de control para obtener oportunamente de los tribunales y jueces de instancia  las fichas de calidad para  consolidar el factor  calidad."},{"$f":"IFERROR(' GESTION CSJMETA'!I177,\" \")","v":"Entregable"},{"$f":"IFERROR(' GESTION CSJMETA'!J177,\" \")","v":0},null,"",null,"\nPara el primer trimestre de 2023, el Consejo Seccional de la Judicatura del Meta, dio cumplimiento  al  98,00%, se implemento  acompañamiento durante y posterior al período de reporte, para el primer trimestre la UDAE amplió el plazo de reporte hasta el 12 de abril de 2023, debido al cambio de formatos en todas las especialidades."]
[null,null,null,null,{"$f":"IFERROR(' GESTION CSJMETA'!H178,\" \")","v":"Realizar las calificaciones de servicios de los servidores judiciales "},{"$f":"IFERROR(' GESTION CSJMETA'!I178,\" \")","v":"Entregable"},{"$f":"IFERROR(' GESTION CSJMETA'!J178,\" \")","v":0},null,"",null,"En el primer trimestre se  expidico  circular CSJCIR23-06, requerimientos reglamentarios respecto al deber del suministro de información por parte de los superiores funcionales y calificados\npara la consolidación de los tres (3) factores necesarios que comprende la calificación\nintegral de servicios de los jueces de este Distrito Judicial."]
[null,null,null,null,{"$f":"IFERROR(' GESTION CSJMETA'!H179,\" \")","v":"Registrar y actualizar las novedades de la seccional en el aplicativo de escalafón."},{"$f":"IFERROR(' GESTION CSJMETA'!I179,\" \")","v":"Entregable"},{"$f":"IFERROR(' GESTION CSJMETA'!J179,\" \")","v":0},null,"",null,"En el primer trimestre de 2023, se dio atención a la totalidad de solicitudes de escalafón relacionados con inscripción, exclusión y actualización, logrando un avance en el cumplimiento de 100% "]
[null,null,null,null,{"$f":"IFERROR(' GESTION CSJMETA'!H180,\" \")","v":"Actualización mensual del registro de elegibles y opciones de sedes de la Convocatoria No. 4"},{"$f":"IFERROR(' GESTION CSJMETA'!I180,\" \")","v":"Entregable"},{"$f":"IFERROR(' GESTION CSJMETA'!J180,\" \")","v":0},null,"",null,"En el primer trimestre de 2023, se dio atención a la totalidad de novedades del estalafón relacionadas con inscripción, exclusión y actualización, logrando un avance en el cumplimiento de 100% "]
[null,null,null,null,{"$f":"IFERROR(' GESTION CSJMETA'!H181,\" \")","v":"Supervisión del reporte oportuno de vacantes que deberán ser provistas por el sistema de carrera judicial"},{"$f":"IFERROR(' GESTION CSJMETA'!I181,\" \")","v":"Entregable"},{"$f":"IFERROR(' GESTION CSJMETA'!J181,\" \")","v":0},null,"",null,"En el primer trimestre de 2023, se adelantaron los respectivos escalafones, cuya mayor cantidad de actos administrativos se dieron con la inscripción en el escalafón seccional, en especial como resultado de la Convocatoria No. 4."]
[null,null,null,null,{"$f":"IFERROR(' GESTION CSJMETA'!H182,\" \")","v":0},{"$f":"IFERROR(' GESTION CSJMETA'!I182,\" \")","v":0},{"$f":"IFERROR(' GESTION CSJMETA'!J182,\" \")","v":0},null,""]
[null,null,null,null,{"$f":"IFERROR(' GESTION CSJMETA'!H183,\" \")","v":0},{"$f":"IFERROR(' GESTION CSJMETA'!I183,\" \")","v":0},{"$f":"IFERROR(' GESTION CSJMETA'!J183,\" \")","v":0},null,""]
[null,null,null,null,{"$f":"IFERROR(' GESTION CSJMETA'!H184,\" \")","v":0},{"$f":"IFERROR(' GESTION CSJMETA'!I184,\" \")","v":0},{"$f":"IFERROR(' GESTION CSJMETA'!J184,\" \")","v":0},null,""]
[null,null,null,null,{"$f":"IFERROR(' GESTION CSJMETA'!H185,\" \")","v":0},{"$f":"IFERROR(' GESTION CSJMETA'!I185,\" \")","v":0},{"$f":"IFERROR(' GESTION CSJMETA'!J185,\" \")","v":0},null,""]
["4. Talento Humano","Talento Humano: Fortalecer el talento humano en la Rama Judicial para que sea eficiente, capacitado y realice su labor en ambientes saludables y seguros. Ampliar la cobertura de la carrera judicial y mejorar la oferta de formación, que esté disponible para todos los servidores judiciales e impacte positivamente el servicio de justicia y responda a las necesidades reales del ejercicio de la función judicial.","1. Ampliar la cobertura de la carrera judicial optimizando los procesos de los concursos de méritos y propender por mitigar su litigiosidad.","1. Gestionar el desarrollo de las competencias, la toma de conciencia , la cultura  organizacional  y el compromiso de los  servidores judiciales, contratistas, practicantes y  judicantes de contribuir a generar valor público en la administración de justicia, en el marco de  cumplimiento de los requisitos  aplicables y el comportamiento ético.",{"$f":"IFERROR(' GESTION CSJMETA'!H186,\" \")","v":0},{"$f":"IFERROR(' GESTION CSJMETA'!I186,\" \")","v":0},{"$f":"IFERROR(' GESTION CSJMETA'!J186,\" \")","v":0},null,""]
[null,null,null,null,{"$f":"IFERROR(' GESTION CSJMETA'!H187,\" \")","v":0},{"$f":"IFERROR(' GESTION CSJMETA'!I187,\" \")","v":0},{"$f":"IFERROR(' GESTION CSJMETA'!J187,\" \")","v":0},null,""]
[null,null,null,null,{"$f":"IFERROR(' GESTION CSJMETA'!H188,\" \")","v":"Difundir y divulgar la oferta académica"},{"$f":"IFERROR(' GESTION CSJMETA'!I188,\" \")","v":"Entregable"},{"$f":"IFERROR(' GESTION CSJMETA'!J188,\" \")","v":0},null,"","No se ha presentado","En el primer trimestre se han divulgado todas las actividades programadas por la Escuela Judicial Rodrigo Lara Bonilla"]
[null,null,null,null,{"$f":"IFERROR(' GESTION CSJMETA'!H189,\" \")","v":"Realizar reuniones con el Grupo Seccional de Apoyo"},{"$f":"IFERROR(' GESTION CSJMETA'!I189,\" \")","v":"Entregable"},{"$f":"IFERROR(' GESTION CSJMETA'!J189,\" \")","v":0},null,"","No se ha presentado","En el primer trimestre se llevaron a cabo las 3 reuniones mensuales correspondientes a enero, febrero y marzo de 2023"]
[null,null,null,null,{"$f":"IFERROR(' GESTION CSJMETA'!H190,\" \")","v":0},{"$f":"IFERROR(' GESTION CSJMETA'!I190,\" \")","v":0},{"$f":"IFERROR(' GESTION CSJMETA'!J190,\" \")","v":0},null,""]
[null,null,null,null,{"$f":"IFERROR(' GESTION CSJMETA'!H191,\" \")","v":0},{"$f":"IFERROR(' GESTION CSJMETA'!I191,\" \")","v":0},{"$f":"IFERROR(' GESTION CSJMETA'!J191,\" \")","v":0},null,""]
[null,null,null,null,{"$f":"IFERROR(' GESTION CSJMETA'!H192,\" \")","v":0},{"$f":"IFERROR(' GESTION CSJMETA'!I192,\" \")","v":0},{"$f":"IFERROR(' GESTION CSJMETA'!J192,\" \")","v":0},null,""]
[null,null,null,null,{"$f":"IFERROR(' GESTION CSJMETA'!H193,\" \")","v":0},{"$f":"IFERROR(' GESTION CSJMETA'!I193,\" \")","v":0},{"$f":"IFERROR(' GESTION CSJMETA'!J193,\" \")","v":0},null,""]
[null,null,null,null,{"$f":"IFERROR(' GESTION CSJMETA'!H194,\" \")","v":0},{"$f":"IFERROR(' GESTION CSJMETA'!I194,\" \")","v":0},{"$f":"IFERROR(' GESTION CSJMETA'!J194,\" \")","v":0},null,""]
[null,null,null,null,{"$f":"IFERROR(' GESTION CSJMETA'!H195,\" \")","v":0},{"$f":"IFERROR(' GESTION CSJMETA'!I195,\" \")","v":0},{"$f":"IFERROR(' GESTION CSJMETA'!J195,\" \")","v":0},null,""]
[null,null,"2. Impactar la función y servicios que presta la Rama Judicial, a través de una formación integral desde una visión de gestión del conocimiento, relacionada con los problemas de la justicia y los problemas de gestión de quienes administran los recursos de la justicia, y potenciando el uso de medios virtuales.",null,{"$f":"IFERROR(' GESTION CSJMETA'!H196,\" \")","v":0},{"$f":"IFERROR(' GESTION CSJMETA'!I196,\" \")","v":0},{"$f":"IFERROR(' GESTION CSJMETA'!J196,\" \")","v":0},null,""]
[null,null,null,null,{"$f":"IFERROR(' GESTION CSJMETA'!H197,\" \")","v":0},{"$f":"IFERROR(' GESTION CSJMETA'!I197,\" \")","v":0},{"$f":"IFERROR(' GESTION CSJMETA'!J197,\" \")","v":0},null,""]
[null,null,null,null,{"$f":"IFERROR(' GESTION CSJMETA'!H198,\" \")","v":0},{"$f":"IFERROR(' GESTION CSJMETA'!I198,\" \")","v":0},{"$f":"IFERROR(' GESTION CSJMETA'!J198,\" \")","v":0},null,{"$f":"IFERROR(H198/G198,\"\")","v":""}]
[null,null,null,null,{"$f":"IFERROR(' GESTION CSJMETA'!H199,\" \")","v":0},{"$f":"IFERROR(' GESTION CSJMETA'!I199,\" \")","v":0},{"$f":"IFERROR(' GESTION CSJMETA'!J199,\" \")","v":0},null,""]
[null,null,null,null,{"$f":"IFERROR(' GESTION CSJMETA'!H200,\" \")","v":0},{"$f":"IFERROR(' GESTION CSJMETA'!I200,\" \")","v":0},{"$f":"IFERROR(' GESTION CSJMETA'!J200,\" \")","v":0},null,""]
[null,null,null,null,{"$f":"IFERROR(' GESTION CSJMETA'!H201,\" \")","v":0},{"$f":"IFERROR(' GESTION CSJMETA'!I201,\" \")","v":0},{"$f":"IFERROR(' GESTION CSJMETA'!J201,\" \")","v":0},null,""]
[null,null,null,null,{"$f":"IFERROR(' GESTION CSJMETA'!H202,\" \")","v":0},{"$f":"IFERROR(' GESTION CSJMETA'!I202,\" \")","v":0},{"$f":"IFERROR(' GESTION CSJMETA'!J202,\" \")","v":0},null,""]
[null,null,null,null,{"$f":"IFERROR(' GESTION CSJMETA'!H203,\" \")","v":0},{"$f":"IFERROR(' GESTION CSJMETA'!I203,\" \")","v":0},{"$f":"IFERROR(' GESTION CSJMETA'!J203,\" \")","v":0},null,""]
[null,null,null,null,{"$f":"IFERROR(' GESTION CSJMETA'!H204,\" \")","v":0},{"$f":"IFERROR(' GESTION CSJMETA'!I204,\" \")","v":0},{"$f":"IFERROR(' GESTION CSJMETA'!J204,\" \")","v":0},null,""]
[null,null,null,null,{"$f":"IFERROR(' GESTION CSJMETA'!H205,\" \")","v":0},{"$f":"IFERROR(' GESTION CSJMETA'!I205,\" \")","v":0},{"$f":"IFERROR(' GESTION CSJMETA'!J205,\" \")","v":0},null,""]
[null,null,"3. Promover la incorporación de la perspectiva de género y el enfoque diferencial en los fallos judiciales y en la atención a los ciudadanos, la administración de la Rama Judicial, la administración de la carrera judicial y la elaboración de listas para altas Cortes. ",null,{"$f":"IFERROR(' GESTION CSJMETA'!H206,\" \")","v":0},{"$f":"IFERROR(' GESTION CSJMETA'!I206,\" \")","v":0},{"$f":"IFERROR(' GESTION CSJMETA'!J206,\" \")","v":0},null,""]
[null,null,null,null,{"$f":"IFERROR(' GESTION CSJMETA'!H207,\" \")","v":0},{"$f":"IFERROR(' GESTION CSJMETA'!I207,\" \")","v":0},{"$f":"IFERROR(' GESTION CSJMETA'!J207,\" \")","v":0},null,""]
[null,null,null,null,{"$f":"IFERROR(' GESTION CSJMETA'!H208,\" \")","v":0},{"$f":"IFERROR(' GESTION CSJMETA'!I208,\" \")","v":0},{"$f":"IFERROR(' GESTION CSJMETA'!J208,\" \")","v":0},null,""]
[null,null,null,null,{"$f":"IFERROR(' GESTION CSJMETA'!H209,\" \")","v":0},{"$f":"IFERROR(' GESTION CSJMETA'!I209,\" \")","v":0},{"$f":"IFERROR(' GESTION CSJMETA'!J209,\" \")","v":0},null,""]
[null,null,null,null,{"$f":"IFERROR(' GESTION CSJMETA'!H210,\" \")","v":0},{"$f":"IFERROR(' GESTION CSJMETA'!I210,\" \")","v":0},{"$f":"IFERROR(' GESTION CSJMETA'!J210,\" \")","v":0},null,""]
[null,null,null,null,{"$f":"IFERROR(' GESTION CSJMETA'!H211,\" \")","v":0},{"$f":"IFERROR(' GESTION CSJMETA'!I211,\" \")","v":0},{"$f":"IFERROR(' GESTION CSJMETA'!J211,\" \")","v":0},null,""]
[null,null,null,null,{"$f":"IFERROR(' GESTION CSJMETA'!H212,\" \")","v":0},{"$f":"IFERROR(' GESTION CSJMETA'!I212,\" \")","v":0},{"$f":"IFERROR(' GESTION CSJMETA'!J212,\" \")","v":0},null,""]
[null,null,null,null,{"$f":"IFERROR(' GESTION CSJMETA'!H213,\" \")","v":0},{"$f":"IFERROR(' GESTION CSJMETA'!I213,\" \")","v":0},{"$f":"IFERROR(' GESTION CSJMETA'!J213,\" \")","v":0},null,""]
[null,null,null,null,{"$f":"IFERROR(' GESTION CSJMETA'!H214,\" \")","v":0},{"$f":"IFERROR(' GESTION CSJMETA'!I214,\" \")","v":0},{"$f":"IFERROR(' GESTION CSJMETA'!J214,\" \")","v":0},null,""]
[null,null,null,null,{"$f":"IFERROR(' GESTION CSJMETA'!H215,\" \")","v":0},{"$f":"IFERROR(' GESTION CSJMETA'!I215,\" \")","v":0},{"$f":"IFERROR(' GESTION CSJMETA'!J215,\" \")","v":0},null,""]
[null,null,"4. Desarrollar en los servidores judiciales y demás grupos de valor relevantes las competencias necesarias para la efectividad de la transformación digital de modo que puedan, entre otros, utilizar con solvencia las herramientas digitales dispuestas para sus respectivas funciones. Además, fortalecer y actualizar los conocimientos del personal a cargo de la gestión de proyectos de tecnología.",null,{"$f":"IFERROR(' GESTION CSJMETA'!H216,\" \")","v":0},{"$f":"IFERROR(' GESTION CSJMETA'!I216,\" \")","v":0},{"$f":"IFERROR(' GESTION CSJMETA'!J216,\" \")","v":0},null,""]
[null,null,null,null,{"$f":"IFERROR(' GESTION CSJMETA'!H217,\" \")","v":0},{"$f":"IFERROR(' GESTION CSJMETA'!I217,\" \")","v":0},{"$f":"IFERROR(' GESTION CSJMETA'!J217,\" \")","v":0},null,""]
[null,null,null,null,{"$f":"IFERROR(' GESTION CSJMETA'!H218,\" \")","v":0},{"$f":"IFERROR(' GESTION CSJMETA'!I218,\" \")","v":0},{"$f":"IFERROR(' GESTION CSJMETA'!J218,\" \")","v":0},null,""]
[null,null,null,null,{"$f":"IFERROR(' GESTION CSJMETA'!H219,\" \")","v":0},{"$f":"IFERROR(' GESTION CSJMETA'!I219,\" \")","v":0},{"$f":"IFERROR(' GESTION CSJMETA'!J219,\" \")","v":0},null,""]
[null,null,null,null,{"$f":"IFERROR(' GESTION CSJMETA'!H220,\" \")","v":0},{"$f":"IFERROR(' GESTION CSJMETA'!I220,\" \")","v":0},{"$f":"IFERROR(' GESTION CSJMETA'!J220,\" \")","v":0},null,""]
[null,null,null,null,{"$f":"IFERROR(' GESTION CSJMETA'!H221,\" \")","v":0},{"$f":"IFERROR(' GESTION CSJMETA'!I221,\" \")","v":0},{"$f":"IFERROR(' GESTION CSJMETA'!J221,\" \")","v":0},null,""]
[null,null,null,null,{"$f":"IFERROR(' GESTION CSJMETA'!H222,\" \")","v":0},{"$f":"IFERROR(' GESTION CSJMETA'!I222,\" \")","v":0},{"$f":"IFERROR(' GESTION CSJMETA'!J222,\" \")","v":0},null,""]
[null,null,null,null,{"$f":"IFERROR(' GESTION CSJMETA'!H223,\" \")","v":0},{"$f":"IFERROR(' GESTION CSJMETA'!I223,\" \")","v":0},{"$f":"IFERROR(' GESTION CSJMETA'!J223,\" \")","v":0},null,""]
[null,null,null,null,{"$f":"IFERROR(' GESTION CSJMETA'!H224,\" \")","v":0},{"$f":"IFERROR(' GESTION CSJMETA'!I224,\" \")","v":0},{"$f":"IFERROR(' GESTION CSJMETA'!J224,\" \")","v":0},null,""]
[null,null,null,null,{"$f":"IFERROR(' GESTION CSJMETA'!H225,\" \")","v":0},{"$f":"IFERROR(' GESTION CSJMETA'!I225,\" \")","v":0},{"$f":"IFERROR(' GESTION CSJMETA'!J225,\" \")","v":0},null,""]
[null,null,"5. Promover el bienestar de todos los servidores judiciales a través de la implementación de un sistema que contemple los diferentes niveles de estrategias y acciones necesarios para mejorar el clima laboral, la salud física y mental y la calidad del tiempo de descanso.","5. Generar espacios de trabajo seguros y saludables que contribuyan a minimizar los  incidentes, accidentes y enfermedades laborales derivados de las condiciones y actos  inseguros y fomentar  el autocuidado, los  estilos de vida y el trabajo saludable en los servidores judiciales, contratistas, judicantes y practicantes",{"$f":"IFERROR(' GESTION CSJMETA'!H226,\" \")","v":0},{"$f":"IFERROR(' GESTION CSJMETA'!I226,\" \")","v":0},{"$f":"IFERROR(' GESTION CSJMETA'!J226,\" \")","v":0},null,""]
[null,null,null,null,{"$f":"IFERROR(' GESTION CSJMETA'!H227,\" \")","v":0},{"$f":"IFERROR(' GESTION CSJMETA'!I227,\" \")","v":0},{"$f":"IFERROR(' GESTION CSJMETA'!J227,\" \")","v":0},null,""]
[null,null,null,null,{"$f":"IFERROR(' GESTION CSJMETA'!H228,\" \")","v":0},{"$f":"IFERROR(' GESTION CSJMETA'!I228,\" \")","v":0},{"$f":"IFERROR(' GESTION CSJMETA'!J228,\" \")","v":0},null,""]
[null,null,null,null,{"$f":"IFERROR(' GESTION CSJMETA'!H229,\" \")","v":0},{"$f":"IFERROR(' GESTION CSJMETA'!I229,\" \")","v":0},{"$f":"IFERROR(' GESTION CSJMETA'!J229,\" \")","v":0},null,""]
[null,null,null,null,{"$f":"IFERROR(' GESTION CSJMETA'!H230,\" \")","v":0},{"$f":"IFERROR(' GESTION CSJMETA'!I230,\" \")","v":0},{"$f":"IFERROR(' GESTION CSJMETA'!J230,\" \")","v":0},null,""]
[null,null,null,null,{"$f":"IFERROR(' GESTION CSJMETA'!H231,\" \")","v":0},{"$f":"IFERROR(' GESTION CSJMETA'!I231,\" \")","v":0},{"$f":"IFERROR(' GESTION CSJMETA'!J231,\" \")","v":0},null,""]
[null,null,null,null,{"$f":"IFERROR(' GESTION CSJMETA'!H232,\" \")","v":0},{"$f":"IFERROR(' GESTION CSJMETA'!I232,\" \")","v":0},{"$f":"IFERROR(' GESTION CSJMETA'!J232,\" \")","v":0},null,""]
[null,null,null,null,{"$f":"IFERROR(' GESTION CSJMETA'!H233,\" \")","v":0},{"$f":"IFERROR(' GESTION CSJMETA'!I233,\" \")","v":0},{"$f":"IFERROR(' GESTION CSJMETA'!J233,\" \")","v":0},null,""]
[null,null,null,null,{"$f":"IFERROR(' GESTION CSJMETA'!H234,\" \")","v":0},{"$f":"IFERROR(' GESTION CSJMETA'!I234,\" \")","v":0},{"$f":"IFERROR(' GESTION CSJMETA'!J234,\" \")","v":0},null,""]
[null,null,null,null,{"$f":"IFERROR(' GESTION CSJMETA'!H235,\" \")","v":0},{"$f":"IFERROR(' GESTION CSJMETA'!I235,\" \")","v":0},{"$f":"IFERROR(' GESTION CSJMETA'!J235,\" \")","v":0},null,""]
["5. Gobernanza, planeación estratégica y capacidad de toma de decisiones","Gobernanza, planeación estratégica y capacidad de toma de decisiones: Fortalecer la gobernanza, la planeación estratégica y la capacidad de toma de decisiones de la Rama Judicial con base en la evidencia empírica y la articulación efectiva con las demás entidades, para que la perspectiva de género y el enfoque diferencial sean transversales en el presente plan. ","1. Implementar un nuevo modelo integrado para la planeación estratégica, el seguimiento y la medición del desempeño institucional.","2. Asegurar  el cumplimiento de los objetivos institucionales, la normatividad aplicable,  la mejora del SIGCMA y la satisfacción de los usuarios, revisando de  forma continua y sistemática la planificación de la gestión y fortaleciendo la administración de riesgos y sus controles.",{"$f":"IFERROR(' GESTION CSJMETA'!H236,\" \")","v":"Realizar seguimiento a los instrumentos de calidad"},{"$f":"IFERROR(' GESTION CSJMETA'!I236,\" \")","v":"Entregable"},{"$f":"IFERROR(' GESTION CSJMETA'!J236,\" \")","v":0},null,"","No se ha presentado","En el primer trimestre de 2023, se consolidó la información de calidad del último trimestre de 2022 y se inicio el trabajo de planificación del Sistema de Calidad"]
[null,null,null,null,{"$f":"IFERROR(' GESTION CSJMETA'!H237,\" \")","v":"Realizar el Informe de la Alta Dirección"},{"$f":"IFERROR(' GESTION CSJMETA'!I237,\" \")","v":"Entregable"},{"$f":"IFERROR(' GESTION CSJMETA'!J237,\" \")","v":0},null,"","No se ha presentado","En el primer trimestre de 2023, se inició la elaboración del Informe de Revisión por la Alta Dirección."]
[null,null,null,null,{"$f":"IFERROR(' GESTION CSJMETA'!H238,\" \")","v":"Participación en los Comités Nacionales del SIGCMA"},{"$f":"IFERROR(' GESTION CSJMETA'!I238,\" \")","v":"Entregable"},{"$f":"IFERROR(' GESTION CSJMETA'!J238,\" \")","v":0},null,"","No nos convocaron a las reuniones ni Comités Nacionales del SIGCMA, desarrollados en este período","En el primer trimestre de 2023, solo participamos en el primer Comité Nacional del SIGCMA, puesto no fuimos convocados."]
[null,null,null,null,{"$f":"IFERROR(' GESTION CSJMETA'!H239,\" \")","v":0},{"$f":"IFERROR(' GESTION CSJMETA'!I239,\" \")","v":0},{"$f":"IFERROR(' GESTION CSJMETA'!J239,\" \")","v":0},null,""]
[null,null,null,null,{"$f":"IFERROR(' GESTION CSJMETA'!H240,\" \")","v":0},{"$f":"IFERROR(' GESTION CSJMETA'!I240,\" \")","v":0},{"$f":"IFERROR(' GESTION CSJMETA'!J240,\" \")","v":0},null,""]
[null,null,null,null,{"$f":"IFERROR(' GESTION CSJMETA'!H241,\" \")","v":0},{"$f":"IFERROR(' GESTION CSJMETA'!I241,\" \")","v":0},{"$f":"IFERROR(' GESTION CSJMETA'!J241,\" \")","v":0},null,""]
[null,null,null,null,{"$f":"IFERROR(' GESTION CSJMETA'!H242,\" \")","v":0},{"$f":"IFERROR(' GESTION CSJMETA'!I242,\" \")","v":0},{"$f":"IFERROR(' GESTION CSJMETA'!J242,\" \")","v":0},null,""]
[null,null,null,null,{"$f":"IFERROR(' GESTION CSJMETA'!H243,\" \")","v":0},{"$f":"IFERROR(' GESTION CSJMETA'!I243,\" \")","v":0},{"$f":"IFERROR(' GESTION CSJMETA'!J243,\" \")","v":0},null,""]
[null,null,null,null,{"$f":"IFERROR(' GESTION CSJMETA'!H244,\" \")","v":0},{"$f":"IFERROR(' GESTION CSJMETA'!I244,\" \")","v":0},{"$f":"IFERROR(' GESTION CSJMETA'!J244,\" \")","v":0},null,""]
[null,null,null,null,{"$f":"IFERROR(' GESTION CSJMETA'!H245,\" \")","v":0},{"$f":"IFERROR(' GESTION CSJMETA'!I245,\" \")","v":0},{"$f":"IFERROR(' GESTION CSJMETA'!J245,\" \")","v":0},null,""]
[null,null,"2. Definir e implementar el modelo optimizado de formulación, seguimiento y evaluación de la política pública judicial.",null,{"$f":"IFERROR(' GESTION CSJMETA'!H246,\" \")","v":0},{"$f":"IFERROR(' GESTION CSJMETA'!I246,\" \")","v":0},{"$f":"IFERROR(' GESTION CSJMETA'!J246,\" \")","v":0},null,""]
[null,null,null,null,{"$f":"IFERROR(' GESTION CSJMETA'!H247,\" \")","v":0},{"$f":"IFERROR(' GESTION CSJMETA'!I247,\" \")","v":0},{"$f":"IFERROR(' GESTION CSJMETA'!J247,\" \")","v":0},null,""]
[null,null,null,null,{"$f":"IFERROR(' GESTION CSJMETA'!H248,\" \")","v":0},{"$f":"IFERROR(' GESTION CSJMETA'!I248,\" \")","v":0},{"$f":"IFERROR(' GESTION CSJMETA'!J248,\" \")","v":0},null,""]
[null,null,null,null,{"$f":"IFERROR(' GESTION CSJMETA'!H249,\" \")","v":0},{"$f":"IFERROR(' GESTION CSJMETA'!I249,\" \")","v":0},{"$f":"IFERROR(' GESTION CSJMETA'!J249,\" \")","v":0},null,""]
[null,null,null,null,{"$f":"IFERROR(' GESTION CSJMETA'!H250,\" \")","v":0},{"$f":"IFERROR(' GESTION CSJMETA'!I250,\" \")","v":0},{"$f":"IFERROR(' GESTION CSJMETA'!J250,\" \")","v":0},null,""]
[null,null,null,null,{"$f":"IFERROR(' GESTION CSJMETA'!H251,\" \")","v":0},{"$f":"IFERROR(' GESTION CSJMETA'!I251,\" \")","v":0},{"$f":"IFERROR(' GESTION CSJMETA'!J251,\" \")","v":0},null,""]
[null,null,null,null,{"$f":"IFERROR(' GESTION CSJMETA'!H252,\" \")","v":0},{"$f":"IFERROR(' GESTION CSJMETA'!I252,\" \")","v":0},{"$f":"IFERROR(' GESTION CSJMETA'!J252,\" \")","v":0},null,""]
[null,null,null,null,{"$f":"IFERROR(' GESTION CSJMETA'!H253,\" \")","v":0},{"$f":"IFERROR(' GESTION CSJMETA'!I253,\" \")","v":0},{"$f":"IFERROR(' GESTION CSJMETA'!J253,\" \")","v":0},null,""]
[null,null,null,null,{"$f":"IFERROR(' GESTION CSJMETA'!H254,\" \")","v":0},{"$f":"IFERROR(' GESTION CSJMETA'!I254,\" \")","v":0},{"$f":"IFERROR(' GESTION CSJMETA'!J254,\" \")","v":0},null,""]
[null,null,null,null,{"$f":"IFERROR(' GESTION CSJMETA'!H255,\" \")","v":0},{"$f":"IFERROR(' GESTION CSJMETA'!I255,\" \")","v":0},{"$f":"IFERROR(' GESTION CSJMETA'!J255,\" \")","v":0},null,""]

{"sheet":"INVERSION","index":12,"n_rows":255,"n_cols":40,"rows_kept":255,"cut":false,"hidden":false,"merged":[[1,39,1,48],[1,0,1,17],[1,18,1,38],[2,25,2,37],[2,38,4,38],[3,0,4,1],[3,2,4,2],[3,5,4,5],[3,6,3,11],[3,12,3,22],[3,23,3,24],[2,0,2,5],[2,6,2,24],[3,32,3,37],[3,25,3,31],[3,3,4,3],[45,2,54,2],[45,3,54,3],[45,4,54,4],[75,3,84,3],[75,4,84,4],[85,2,94,2],[85,3,94,3],[85,4,94,4],[95,2,104,2],[95,3,104,3],[95,4,104,4],[15,4,24,4],[15,5,24,5],[3,4,4,4],[5,2,14,2],[5,3,14,3],[5,4,14,4],[25,2,34,2],[25,3,34,3],[25,4,34,4],[55,0,114,0],[55,1,114,1],[45,5,54,5],[5,0,54,0],[5,1,54,1],[105,2,114,2],[105,3,114,3],[105,4,114,4],[55,5,114,5],[55,2,64,2],[55,3,64,3],[55,4,64,4],[65,2,74,2],[65,3,74,3],[65,4,74,4],[75,2,84,2],[25,5,34,5],[35,2,44,2],[35,3,44,3],[35,4,44,4],[35,5,44,5],[5,5,14,5],[15,2,24,2],[15,3,24,3],[135,5,144,5],[115,1,184,1],[145,5,174,5],[125,2,134,2],[125,3,134,3],[125,4,134,4],[125,5,134,5],[115,2,124,2],[115,3,124,3],[115,4,124,4],[115,5,124,5],[155,2,164,2],[155,3,164,3],[155,4,164,4],[145,2,154,2],[145,3,154,3],[145,4,154,4],[175,2,184,2],[175,3,184,3],[175,4,184,4],[175,5,184,5],[165,4,174,4],[165,2,174,2],[165,3,174,3],[115,0,184,0],[185,2,194,2],[185,3,194,3],[185,4,194,4],[195,2,204,2],[195,3,204,3],[195,4,204,4],[135,2,144,2],[135,3,144,3],[135,4,144,4],[185,5,224,5],[225,5,234,5],[185,1,234,1],[185,0,234,0],[235,5,254,5],[245,2,254,2],[245,3,254,3],[245,4,254,4],[235,1,254,1],[235,0,254,0],[225,2,234,2],[225,3,234,3],[225,4,234,4],[235,2,244,2],[235,3,244,3],[235,4,244,4],[215,2,224,2],[215,3,224,3],[215,4,224,4],[205,2,214,2],[205,3,214,3],[205,4,214,4]]}
[]
["CONSEJO SUPERIOR DE LA JUDICATURA \nUNIDADES MISIONALES DEL CONSEJO SUPERIOR DE LA JUDICATURA \nDIRECCIÓN EJECUTIVA DE ADMINISTRACIÓN JUDICIAL (DEAJ) - UNIDADES MISIONALES DE LA DEAJ\nDIRECCIONES SECCIONALES DE ADMINISTRACIÓN JUDICIAL ",null,null,null,null,null,null,null,null,null,null,null,null,null,null,null,null,null,null,null,null,null,null,null,null,null,null,null,null,null,null,null,null,null,null,null,null,null,null,"GENERADOR DE SEGUIMIENTOS TRIMESTALES"]
["PLAN SECTORIAL DE DESARROLLO 2023-2026 - OBJETIVOS SIGCMA",null,null,null,null,null,"PLAN DE ACCIÓN Y SEGUIMIENTO A LA INVERSIÓN INSTITUCIONAL ",null,null,null,null,null,null,null,null,null,null,null,null,null,null,null,null,null,null,"AVANCE PLAN DE ACCIÓN ANUAL",null,null,null,null,null,null,null,null,null,null,null,null," ANÁLISIS RESULTADO\nFINAL - ACUMULADO"]
["OBJETIVO ESTRATÉGICO",null,"OBJETIVO ESPECÍFICO PSD","NOMBRE DEL INDICADOR PSD","DEFINICIÓN DEL INDICADOR","OBJETIVO ESPECÍFICO SIGCMA","IDENTIFICACIÓN PROYECTO DE INVERSIÓN",null,null,null,null,null,"PARÁMETROS DE MEDICIÓN ",null,null,null,null,null,null,null,null,null,null,"INFORMACIÓN FINANCIERA",null,"SEGUIMIENTO - CUMPLIMIENTO ANUAL ",null,null,null,null,null,null,"INFORMACIÓN COMPLEMENTARIA FINAL"]
[null,null,null,null,null,null,"PROGRAMA DE INVERSIÓN","SUBPROGRAMA DE INVERSIÓN","RUBRO PRESUPUESTAL","CÓDIGO BPIN","NOMBRE DE PROYECTO","OBJETIVO ESPECÍFICO FORMULADO DEL PROYECTO BPIN","NOMBRE ACTIVIDAD DE INVERSIÓN (POAI)","JUSTIFICACIÓN DE LA ACTIVIDAD","DESCRIBA EL ENTREGABLE \n(Producto y/o servicio principal)","META ANUALIDAD","UNIDAD DE MEDIDA","TIPO DE INDICADOR (GESTIÓN O PRODUCTO)","FECHA DE INICIO DE LA ACTIVIDAD\nDÍA/MES/AÑO","FECHA TERMINACIÓN ACTIVIDAD\nDÍA/MES/AÑO \n(Sí supera anualidad, favor dejar 31/12/20xx)","NÚMERO DE BENEFICIARIOS INTERNOS (Servidores Judiciales)","NÚMERO DE BENEFICIARIOS EXTERNOS (Usuarios)"," DEPENDENCIA RESPONSABLE ","ACTO ADMINISTRATIVO (INDICAR EL ACUERDO INICIAL Y MODIFICACIONES)","RECURSOS ASIGNADOS ($)","DETALLE DE LAS ACTIVIDADES REALIZADAS PARA EL LOGRO DE LA INVERSIÓN (Periodo de reporte acumulado) ","COMPROMISO PRESUPUESTAL (VALOR DEL CONTRATO)","AVANCE DE LA META","% AVANCE ANUAL DE LA ACTIVIDAD"," % AVANCE PRESUPUESTAL ANUAL","AVANCE  DE LA ACTIVIDAD - % EN TIEMPO ANUAL","REZAGO","NÚMERO DE BENEFICIADOS INTERNOS","NÚMERO DE BENEFICIADOS EXTERNOS","DIFICULTADES PARA LOGRAR LA META PROPUESTA","EL PRODUCTO FINAL OBTENIDO ¿CÓMO IMPACTÓ SOBRE EL OBJETIVO ESTRATÉGICO?","RECOMENDACIONES PARA LOGRAR LA META","OBSERVACIONES"]
["1. Acceso e Infraestructura Física","Acceso e Infraestructura Física: Ampliar, en todo el territorio nacional, el acceso a una justicia efectiva, pronta, equitativa e incluyente, reduciendo el atraso y la congestión, de acuerdo con las necesidades de la demanda de justicia por jurisdicción y especialidad, y mejorando la articulación con la justicia restaurativa y terapéutica, y otros mecanismos de solución de conflictos y consolidando una infraestructura física óptima para el acceso a la justicia.","1. Ampliar el acceso a justicia para atender las necesidades jurídicas de los ciudadanos con un enfoque diferencial, de una manera pronta, reduciendo las inequidades y las brechas territoriales de acceso.","Estrategias implementadas por la Rama Judicial para ampliar el acceso a la justicia considerando el enfoque diferencial y territorial\n\nÍndice de dispersión en la calificación del factor calidad","# de estrategias establecida s en la meta implementa das durante la vigencia del plan\n\nDispersión en la calificación del factor de calidad por jurisdicción y nivel de competencia.","2. Asegurar  el cumplimiento de los objetivos institucionales, la normatividad aplicable,  la mejora del SIGCMA y la satisfacción de los usuarios, revisando de  forma continua y sistemática la planificación de la gestión y fortaleciendo la administración de riesgos y sus controles",null,null,null,null,null,null,null,null,null,null,null,null,null,null,null,null,null,null,null,{"$f":"IFERROR(#REF!,\" \")","v":" "},{"$f":"IFERROR(#REF!,\"\")","v":""},{"$f":"IFERROR(#REF!,\"\")","v":""},{"$f":"IFERROR(AB6/P6,\"\")","v":""},{"$f":"IFERROR(AA6/Y6,\"\")","v":""},{"$f":"IFERROR(#REF!,\"\")","v":""},{"$f":"IFERROR(P6-AB6,\"\")","v":""},{"$f":"IFERROR(#REF!,\"\")","v":""},{"$f":"IFERROR(#REF!,\"\")","v":""},{"$f":"_xlfn.CONCAT(\"Trimestre 1\",CHAR(10),IFERROR(#REF!,\"\"))","v":"Trimestre 1\n"},{"$f":"_xlfn.CONCAT(\"Trimestre 1\",CHAR(10),IFERROR(#REF!,\"\"))","v":"Trimestre 1\n"},{"$f":"_xlfn.CONCAT(\"Trimestre 1\",CHAR(10),IFERROR(#REF!,\"\"))","v":"Trimestre 1\n"},{"$f":"_xlfn.CONCAT(\"Trimestre 1\",CHAR(10),IFERROR(#REF!,\"\"))","v":"Trimestre 1\n"},{"$f":"_xlfn.CONCAT(\"Trimestre 1\",CHAR(10),IFERROR(#REF!,\"\"))","v":"Trimestre 1\n"}]
[null,null,null,null,null,null,null,null,null,null,null,null,null,null,null,null,null,null,null,null,null,null,null,null,null,{"$f":"IFERROR(#REF!,\" \")","v":" "},{"$f":"IFERROR(#REF!,\"\")","v":""},{"$f":"IFERROR(#REF!,\"\")","v":""},{"$f":"IFERROR(AB7/P7,\"\")","v":""},{"$f":"IFERROR(AA7/Y7,\"\")","v":""},{"$f":"IFERROR(#REF!,\"\")","v":""},{"$f":"IFERROR(P7-AB7,\"\")","v":""},{"$f":"IFERROR(#REF!,\"\")","v":""},{"$f":"IFERROR(#REF!,\"\")","v":""},{"$f":"_xlfn.CONCAT(\"Trimestre 1\",CHAR(10),IFERROR(#REF!,\"\"))","v":"Trimestre 1\n"},{"$f":"_xlfn.CONCAT(\"Trimestre 1\",CHAR(10),IFERROR(#REF!,\"\"))","v":"Trimestre 1\n"},{"$f":"_xlfn.CONCAT(\"Trimestre 1\",CHAR(10),IFERROR(#REF!,\"\"))","v":"Trimestre 1\n"},{"$f":"_xlfn.CONCAT(\"Trimestre 1\",CHAR(10),IFERROR(#REF!,\"\"))","v":"Trimestre 1\n"},{"$f":"_xlfn.CONCAT(\"Trimestre 1\",CHAR(10),IFERROR(#REF!,\"\"))","v":"Trimestre 1\n"}]
[null,null,null,null,null,null,null,null,null,null,null,null,null,null,null,null,null,null,null,null,null,null,null,null,null,{"$f":"IFERROR(#REF!,\" \")","v":" "},{"$f":"IFERROR(#REF!,\"\")","v":""},{"$f":"IFERROR(#REF!,\"\")","v":""},"","",{"$f":"IFERROR(#REF!,\"\")","v":""},"",{"$f":"IFERROR(#REF!,\"\")","v":""},{"$f":"IFERROR(#REF!,\"\")","v":""},{"$f":"_xlfn.CONCAT(\"Trimestre 1\",CHAR(10),IFERROR(#REF!,\"\"))","v":"Trimestre 1\n"},{"$f":"_xlfn.CONCAT(\"Trimestre 1\",CHAR(10),IFERROR(#REF!,\"\"))","v":"Trimestre 1\n"},{"$f":"_xlfn.CONCAT(\"Trimestre 1\",CHAR(10),IFERROR(#REF!,\"\"))","v":"Trimestre 1\n"},{"$f":"_xlfn.CONCAT(\"Trimestre 1\",CHAR(10),IFERROR(#REF!,\"\"))","v":"Trimestre 1\n"},{"$f":"_xlfn.CONCAT(\"Trimestre 1\",CHAR(10),IFERROR(#REF!,\"\"))","v":"Trimestre 1\n"}]
[null,null,null,null,null,null,null,null,null,null,null,null,null,null,null,null,null,null,null,null,null,null,null,null,null,{"$f":"IFERROR(#REF!,\" \")","v":" "},{"$f":"IFERROR(#REF!,\"\")","v":""},{"$f":"IFERROR(#REF!,\"\")","v":""},"","",{"$f":"IFERROR(#REF!,\"\")","v":""},"",{"$f":"IFERROR(#REF!,\"\")","v":""},{"$f":"IFERROR(#REF!,\"\")","v":""},{"$f":"_xlfn.CONCAT(\"Trimestre 1\",CHAR(10),IFERROR(#REF!,\"\"))","v":"Trimestre 1\n"},{"$f":"_xlfn.CONCAT(\"Trimestre 1\",CHAR(10),IFERROR(#REF!,\"\"))","v":"Trimestre 1\n"},{"$f":"_xlfn.CONCAT(\"Trimestre 1\",CHAR(10),IFERROR(#REF!,\"\"))","v":"Trimestre 1\n"},{"$f":"_xlfn.CONCAT(\"Trimestre 1\",CHAR(10),IFERROR(#REF!,\"\"))","v":"Trimestre 1\n"},{"$f":"_xlfn.CONCAT(\"Trimestre 1\",CHAR(10),IFERROR(#REF!,\"\"))","v":"Trimestre 1\n"}]
[null,null,null,null,null,null,null,null,null,null,null,null,null,null,null,null,null,null,null,null,null,null,null,null,null,{"$f":"IFERROR(#REF!,\" \")","v":" "},{"$f":"IFERROR(#REF!,\"\")","v":""},{"$f":"IFERROR(#REF!,\"\")","v":""},"","",{"$f":"IFERROR(#REF!,\"\")","v":""},"",{"$f":"IFERROR(#REF!,\"\")","v":""},{"$f":"IFERROR(#REF!,\"\")","v":""},{"$f":"_xlfn.CONCAT(\"Trimestre 1\",CHAR(10),IFERROR(#REF!,\"\"))","v":"Trimestre 1\n"},{"$f":"_xlfn.CONCAT(\"Trimestre 1\",CHAR(10),IFERROR(#REF!,\"\"))","v":"Trimestre 1\n"},{"$f":"_xlfn.CONCAT(\"Trimestre 1\",CHAR(10),IFERROR(#REF!,\"\"))","v":"Trimestre 1\n"},{"$f":"_xlfn.CONCAT(\"Trimestre 1\",CHAR(10),IFERROR(#REF!,\"\"))","v":"Trimestre 1\n"},{"$f":"_xlfn.CONCAT(\"Trimestre 1\",CHAR(10),IFERROR(#REF!,\"\"))","v":"Trimestre 1\n"}]
[null,null,null,null,null,null,null,null,null,null,null,null,null,null,null,null,null,null,null,null,null,null,null,null,null,{"$f":"IFERROR(#REF!,\" \")","v":" "},{"$f":"IFERROR(#REF!,\"\")","v":""},{"$f":"IFERROR(#REF!,\"\")","v":""},"","",{"$f":"IFERROR(#REF!,\"\")","v":""},"",{"$f":"IFERROR(#REF!,\"\")","v":""},{"$f":"IFERROR(#REF!,\"\")","v":""},{"$f":"_xlfn.CONCAT(\"Trimestre 1\",CHAR(10),IFERROR(#REF!,\"\"))","v":"Trimestre 1\n"},{"$f":"_xlfn.CONCAT(\"Trimestre 1\",CHAR(10),IFERROR(#REF!,\"\"))","v":"Trimestre 1\n"},{"$f":"_xlfn.CONCAT(\"Trimestre 1\",CHAR(10),IFERROR(#REF!,\"\"))","v":"Trimestre 1\n"},{"$f":"_xlfn.CONCAT(\"Trimestre 1\",CHAR(10),IFERROR(#REF!,\"\"))","v":"Trimestre 1\n"},{"$f":"_xlfn.CONCAT(\"Trimestre 1\",CHAR(10),IFERROR(#REF!,\"\"))","v":"Trimestre 1\n"}]
[null,null,null,null,null,null,null,null,null,null,null,null,null,null,null,null,null,null,null,null,null,null,null,null,null,{"$f":"IFERROR(#REF!,\" \")","v":" "},{"$f":"IFERROR(#REF!,\"\")","v":""},{"$f":"IFERROR(#REF!,\"\")","v":""},"","",{"$f":"IFERROR(#REF!,\"\")","v":""},"",{"$f":"IFERROR(#REF!,\"\")","v":""},{"$f":"IFERROR(#REF!,\"\")","v":""},{"$f":"_xlfn.CONCAT(\"Trimestre 1\",CHAR(10),IFERROR(#REF!,\"\"))","v":"Trimestre 1\n"},{"$f":"_xlfn.CONCAT(\"Trimestre 1\",CHAR(10),IFERROR(#REF!,\"\"))","v":"Trimestre 1\n"},{"$f":"_xlfn.CONCAT(\"Trimestre 1\",CHAR(10),IFERROR(#REF!,\"\"))","v":"Trimestre 1\n"},{"$f":"_xlfn.CONCAT(\"Trimestre 1\",CHAR(10),IFERROR(#REF!,\"\"))","v":"Trimestre 1\n"},{"$f":"_xlfn.CONCAT(\"Trimestre 1\",CHAR(10),IFERROR(#REF!,\"\"))","v":"Trimestre 1\n"}]
[null,null,null,null,null,null,null,null,null,null,null,null,null,null,null,null,null,null,null,null,null,null,null,null,null,{"$f":"IFERROR(#REF!,\" \")","v":" "},{"$f":"IFERROR(#REF!,\"\")","v":""},{"$f":"IFERROR(#REF!,\"\")","v":""},"","",{"$f":"IFERROR(#REF!,\"\")","v":""},"",{"$f":"IFERROR(#REF!,\"\")","v":""},{"$f":"IFERROR(#REF!,\"\")","v":""},{"$f":"_xlfn.CONCAT(\"Trimestre 1\",CHAR(10),IFERROR(#REF!,\"\"))","v":"Trimestre 1\n"},{"$f":"_xlfn.CONCAT(\"Trimestre 1\",CHAR(10),IFERROR(#REF!,\"\"))","v":"Trimestre 1\n"},{"$f":"_xlfn.CONCAT(\"Trimestre 1\",CHAR(10),IFERROR(#REF!,\"\"))","v":"Trimestre 1\n"},{"$f":"_xlfn.CONCAT(\"Trimestre 1\",CHAR(10),IFERROR(#REF!,\"\"))","v":"Trimestre 1\n"},{"$f":"_xlfn.CONCAT(\"Trimestre 1\",CHAR(10),IFERROR(#REF!,\"\"))","v":"Trimestre 1\n"}]
[null,null,null,null,null,null,null,null,null,null,null,null,null,null,null,null,null,null,null,null,null,null,null,null,null,{"$f":"IFERROR(#REF!,\" \")","v":" "},{"$f":"IFERROR(#REF!,\"\")","v":""},{"$f":"IFERROR(#REF!,\"\")","v":""},"","",{"$f":"IFERROR(#REF!,\"\")","v":""},"",{"$f":"IFERROR(#REF!,\"\")","v":""},{"$f":"IFERROR(#REF!,\"\")","v":""},{"$f":"_xlfn.CONCAT(\"Trimestre 1\",CHAR(10),IFERROR(#REF!,\"\"))","v":"Trimestre 1\n"},{"$f":"_xlfn.CONCAT(\"Trimestre 1\",CHAR(10),IFERROR(#REF!,\"\"))","v":"Trimestre 1\n"},{"$f":"_xlfn.CONCAT(\"Trimestre 1\",CHAR(10),IFERROR(#REF!,\"\"))","v":"Trimestre 1\n"},{"$f":"_xlfn.CONCAT(\"Trimestre 1\",CHAR(10),IFERROR(#REF!,\"\"))","v":"Trimestre 1\n"},{"$f":"_xlfn.CONCAT(\"Trimestre 1\",CHAR(10),IFERROR(#REF!,\"\"))","v":"Trimestre 1\n"}]
[null,null,null,null,null,null,null,null,null,null,null,null,null,null,null,null,null,null,null,null,null,null,null,null,null,{"$f":"IFERROR(#REF!,\" \")","v":" "},{"$f":"IFERROR(#REF!,\"\")","v":""},{"$f":"IFERROR(#REF!,\"\")","v":""},"","",{"$f":"IFERROR(#REF!,\"\")","v":""},"",{"$f":"IFERROR(#REF!,\"\")","v":""},{"$f":"IFERROR(#REF!,\"\")","v":""},{"$f":"_xlfn.CONCAT(\"Trimestre 1\",CHAR(10),IFERROR(#REF!,\"\"))","v":"Trimestre 1\n"},{"$f":"_xlfn.CONCAT(\"Trimestre 1\",CHAR(10),IFERROR(#REF!,\"\"))","v":"Trimestre 1\n"},{"$f":"_xlfn.CONCAT(\"Trimestre 1\",CHAR(10),IFERROR(#REF!,\"\"))","v":"Trimestre 1\n"},{"$f":"_xlfn.CONCAT(\"Trimestre 1\",CHAR(10),IFERROR(#REF!,\"\"))","v":"Trimestre 1\n"},{"$f":"_xlfn.CONCAT(\"Trimestre 1\",CHAR(10),IFERROR(#REF!,\"\"))","v":"Trimestre 1\n"}]
[null,null,"2. Mejorar los tiempos de respuesta de la Rama Judicial y reducir el inventario de procesos, identificando los retos internos y promoviendo tanto acciones articuladas específicas para abordarlos como estrategias coordinadas para enfrentar las barreras que dependen de otras entidades.","Reducción de tiempos de respuesta en los despachos en los que se implemente el sistema de gestión judicial","% Reducción del promedio de días de duración de los procesos judiciales en los despachos en los que se implemente el sistema de gestión judicial","2. Asegurar  el cumplimiento de los objetivos institucionales, la normatividad aplicable,  la mejora del SIGCMA y la satisfacción de los usuarios, revisando de  forma continua y sistemática la planificación de la gestión y fortaleciendo la administración de riesgos y sus controles",null,null,null,null,null,null,null,null,null,null,null,null,null,null,null,null,null,null,null,{"$f":"IFERROR(#REF!,\" \")","v":" "},{"$f":"IFERROR(#REF!,\"\")","v":""},{"$f":"IFERROR(#REF!,\"\")","v":""},"","",{"$f":"IFERROR(#REF!,\"\")","v":""},"",{"$f":"IFERROR(#REF!,\"\")","v":""},{"$f":"IFERROR(#REF!,\"\")","v":""},{"$f":"_xlfn.CONCAT(\"Trimestre 1\",CHAR(10),IFERROR(#REF!,\"\"))","v":"Trimestre 1\n"},{"$f":"_xlfn.CONCAT(\"Trimestre 1\",CHAR(10),IFERROR(#REF!,\"\"))","v":"Trimestre 1\n"},{"$f":"_xlfn.CONCAT(\"Trimestre 1\",CHAR(10),IFERROR(#REF!,\"\"))","v":"Trimestre 1\n"},{"$f":"_xlfn.CONCAT(\"Trimestre 1\",CHAR(10),IFERROR(#REF!,\"\"))","v":"Trimestre 1\n"},{"$f":"_xlfn.CONCAT(\"Trimestre 1\",CHAR(10),IFERROR(#REF!,\"\"))","v":"Trimestre 1\n"}]
[null,null,null,null,null,null,null,null,null,null,null,null,null,null,null,null,null,null,null,null,null,null,null,null,null,{"$f":"IFERROR(#REF!,\" \")","v":" "},{"$f":"IFERROR(#REF!,\"\")","v":""},{"$f":"IFERROR(#REF!,\"\")","v":""},"","",{"$f":"IFERROR(#REF!,\"\")","v":""},"",{"$f":"IFERROR(#REF!,\"\")","v":""},{"$f":"IFERROR(#REF!,\"\")","v":""},{"$f":"_xlfn.CONCAT(\"Trimestre 1\",CHAR(10),IFERROR(#REF!,\"\"))","v":"Trimestre 1\n"},{"$f":"_xlfn.CONCAT(\"Trimestre 1\",CHAR(10),IFERROR(#REF!,\"\"))","v":"Trimestre 1\n"},{"$f":"_xlfn.CONCAT(\"Trimestre 1\",CHAR(10),IFERROR(#REF!,\"\"))","v":"Trimestre 1\n"},{"$f":"_xlfn.CONCAT(\"Trimestre 1\",CHAR(10),IFERROR(#REF!,\"\"))","v":"Trimestre 1\n"},{"$f":"_xlfn.CONCAT(\"Trimestre 1\",CHAR(10),IFERROR(#REF!,\"\"))","v":"Trimestre 1\n"}]
[null,null,null,null,null,null,null,null,null,null,null,null,null,null,null,null,null,null,null,null,null,null,null,null,null,{"$f":"IFERROR(#REF!,\" \")","v":" "},{"$f":"IFERROR(#REF!,\"\")","v":""},{"$f":"IFERROR(#REF!,\"\")","v":""},"","",{"$f":"IFERROR(#REF!,\"\")","v":""},"",{"$f":"IFERROR(#REF!,\"\")","v":""},{"$f":"IFERROR(#REF!,\"\")","v":""},{"$f":"_xlfn.CONCAT(\"Trimestre 1\",CHAR(10),IFERROR(#REF!,\"\"))","v":"Trimestre 1\n"},{"$f":"_xlfn.CONCAT(\"Trimestre 1\",CHAR(10),IFERROR(#REF!,\"\"))","v":"Trimestre 1\n"},{"$f":"_xlfn.CONCAT(\"Trimestre 1\",CHAR(10),IFERROR(#REF!,\"\"))","v":"Trimestre 1\n"},{"$f":"_xlfn.CONCAT(\"Trimestre 1\",CHAR(10),IFERROR(#REF!,\"\"))","v":"Trimestre 1\n"},{"$f":"_xlfn.CONCAT(\"Trimestre 1\",CHAR(10),IFERROR(#REF!,\"\"))","v":"Trimestre 1\n"}]
[null,null,null,null,null,null,null,null,null,null,null,null,null,null,null,null,null,null,null,null,null,null,null,null,null,{"$f":"IFERROR(#REF!,\" \")","v":" "},{"$f":"IFERROR(#REF!,\"\")","v":""},{"$f":"IFERROR(#REF!,\"\")","v":""},"","",{"$f":"IFERROR(#REF!,\"\")","v":""},"",{"$f":"IFERROR(#REF!,\"\")","v":""},{"$f":"IFERROR(#REF!,\"\")","v":""},{"$f":"_xlfn.CONCAT(\"Trimestre 1\",CHAR(10),IFERROR(#REF!,\"\"))","v":"Trimestre 1\n"},{"$f":"_xlfn.CONCAT(\"Trimestre 1\",CHAR(10),IFERROR(#REF!,\"\"))","v":"Trimestre 1\n"},{"$f":"_xlfn.CONCAT(\"Trimestre 1\",CHAR(10),IFERROR(#REF!,\"\"))","v":"Trimestre 1\n"},{"$f":"_xlfn.CONCAT(\"Trimestre 1\",CHAR(10),IFERROR(#REF!,\"\"))","v":"Trimestre 1\n"},{"$f":"_xlfn.CONCAT(\"Trimestre 1\",CHAR(10),IFERROR(#REF!,\"\"))","v":"Trimestre 1\n"}]
[null,null,null,null,null,null,null,null,null,null,null,null,null,null,null,null,null,null,null,null,null,null,null,null,null,{"$f":"IFERROR(#REF!,\" \")","v":" "},{"$f":"IFERROR(#REF!,\"\")","v":""},{"$f":"IFERROR(#REF!,\"\")","v":""},"","",{"$f":"IFERROR(#REF!,\"\")","v":""},"",{"$f":"IFERROR(#REF!,\"\")","v":""},{"$f":"IFERROR(#REF!,\"\")","v":""},{"$f":"_xlfn.CONCAT(\"Trimestre 1\",CHAR(10),IFERROR(#REF!,\"\"))","v":"Trimestre 1\n"},{"$f":"_xlfn.CONCAT(\"Trimestre 1\",CHAR(10),IFERROR(#REF!,\"\"))","v":"Trimestre 1\n"},{"$f":"_xlfn.CONCAT(\"Trimestre 1\",CHAR(10),IFERROR(#REF!,\"\"))","v":"Trimestre 1\n"},{"$f":"_xlfn.CONCAT(\"Trimestre 1\",CHAR(10),IFERROR(#REF!,\"\"))","v":"Trimestre 1\n"},{"$f":"_xlfn.CONCAT(\"Trimestre 1\",CHAR(10),IFERROR(#REF!,\"\"))","v":"Trimestre 1\n"}]
[null,null,null,null,null,null,null,null,null,null,null,null,null,null,null,null,null,null,null,null,null,null,null,null,null,{"$f":"IFERROR(#REF!,\" \")","v":" "},{"$f":"IFERROR(#REF!,\"\")","v":""},{"$f":"IFERROR(#REF!,\"\")","v":""},"","",{"$f":"IFERROR(#REF!,\"\")","v":""},"",{"$f":"IFERROR(#REF!,\"\")","v":""},{"$f":"IFERROR(#REF!,\"\")","v":""},{"$f":"_xlfn.CONCAT(\"Trimestre 1\",CHAR(10),IFERROR(#REF!,\"\"))","v":"Trimestre 1\n"},{"$f":"_xlfn.CONCAT(\"Trimestre 1\",CHAR(10),IFERROR(#REF!,\"\"))","v":"Trimestre 1\n"},{"$f":"_xlfn.CONCAT(\"Trimestre 1\",CHAR(10),IFERROR(#REF!,\"\"))","v":"Trimestre 1\n"},{"$f":"_xlfn.CONCAT(\"Trimestre 1\",CHAR(10),IFERROR(#REF!,\"\"))","v":"Trimestre 1\n"},{"$f":"_xlfn.CONCAT(\"Trimestre 1\",CHAR(10),IFERROR(#REF!,\"\"))","v":"Trimestre 1\n"}]
[null,null,null,null,null,null,null,null,null,null,null,null,null,null,null,null,null,null,null,null,null,null,null,null,null,{"$f":"IFERROR(#REF!,\" \")","v":" "},{"$f":"IFERROR(#REF!,\"\")","v":""},{"$f":"IFERROR(#REF!,\"\")","v":""},"","",{"$f":"IFERROR(#REF!,\"\")","v":""},"",{"$f":"IFERROR(#REF!,\"\")","v":""},{"$f":"IFERROR(#REF!,\"\")","v":""},{"$f":"_xlfn.CONCAT(\"Trimestre 1\",CHAR(10),IFERROR(#REF!,\"\"))","v":"Trimestre 1\n"},{"$f":"_xlfn.CONCAT(\"Trimestre 1\",CHAR(10),IFERROR(#REF!,\"\"))","v":"Trimestre 1\n"},{"$f":"_xlfn.CONCAT(\"Trimestre 1\",CHAR(10),IFERROR(#REF!,\"\"))","v":"Trimestre 1\n"},{"$f":"_xlfn.CONCAT(\"Trimestre 1\",CHAR(10),IFERROR(#REF!,\"\"))","v":"Trimestre 1\n"},{"$f":"_xlfn.CONCAT(\"Trimestre 1\",CHAR(10),IFERROR(#REF!,\"\"))","v":"Trimestre 1\n"}]
[null,null,null,null,null,null,null,null,null,null,null,null,null,null,null,null,null,null,null,null,null,null,null,null,null,{"$f":"IFERROR(#REF!,\" \")","v":" "},{"$f":"IFERROR(#REF!,\"\")","v":""},{"$f":"IFERROR(#REF!,\"\")","v":""},"","",{"$f":"IFERROR(#REF!,\"\")","v":""},"",{"$f":"IFERROR(#REF!,\"\")","v":""},{"$f":"IFERROR(#REF!,\"\")","v":""},{"$f":"_xlfn.CONCAT(\"Trimestre 1\",CHAR(10),IFERROR(#REF!,\"\"))","v":"Trimestre 1\n"},{"$f":"_xlfn.CONCAT(\"Trimestre 1\",CHAR(10),IFERROR(#REF!,\"\"))","v":"Trimestre 1\n"},{"$f":"_xlfn.CONCAT(\"Trimestre 1\",CHAR(10),IFERROR(#REF!,\"\"))","v":"Trimestre 1\n"},{"$f":"_xlfn.CONCAT(\"Trimestre 1\",CHAR(10),IFERROR(#REF!,\"\"))","v":"Trimestre 1\n"},{"$f":"_xlfn.CONCAT(\"Trimestre 1\",CHAR(10),IFERROR(#REF!,\"\"))","v":"Trimestre 1\n"}]
[null,null,null,null,null,null,null,null,null,null,null,null,null,null,null,null,null,null,null,null,null,null,null,null,null,{"$f":"IFERROR(#REF!,\" \")","v":" "},{"$f":"IFERROR(#REF!,\"\")","v":""},{"$f":"IFERROR(#REF!,\"\")","v":""},"","",{"$f":"IFERROR(#REF!,\"\")","v":""},"",{"$f":"IFERROR(#REF!,\"\")","v":""},{"$f":"IFERROR(#REF!,\"\")","v":""},{"$f":"_xlfn.CONCAT(\"Trimestre 1\",CHAR(10),IFERROR(#REF!,\"\"))","v":"Trimestre 1\n"},{"$f":"_xlfn.CONCAT(\"Trimestre 1\",CHAR(10),IFERROR(#REF!,\"\"))","v":"Trimestre 1\n"},{"$f":"_xlfn.CONCAT(\"Trimestre 1\",CHAR(10),IFERROR(#REF!,\"\"))","v":"Trimestre 1\n"},{"$f":"_xlfn.CONCAT(\"Trimestre 1\",CHAR(10),IFERROR(#REF!,\"\"))","v":"Trimestre 1\n"},{"$f":"_xlfn.CONCAT(\"Trimestre 1\",CHAR(10),IFERROR(#REF!,\"\"))","v":"Trimestre 1\n"}]
[null,null,null,null,null,null,null,null,null,null,null,null,null,null,null,null,null,null,null,null,null,null,null,null,null,{"$f":"IFERROR(#REF!,\" \")","v":" "},{"$f":"IFERROR(#REF!,\"\")","v":""},{"$f":"IFERROR(#REF!,\"\")","v":""},"","",{"$f":"IFERROR(#REF!,\"\")","v":""},"",{"$f":"IFERROR(#REF!,\"\")","v":""},{"$f":"IFERROR(#REF!,\"\")","v":""},{"$f":"_xlfn.CONCAT(\"Trimestre 1\",CHAR(10),IFERROR(#REF!,\"\"))","v":"Trimestre 1\n"},{"$f":"_xlfn.CONCAT(\"Trimestre 1\",CHAR(10),IFERROR(#REF!,\"\"))","v":"Trimestre 1\n"},{"$f":"_xlfn.CONCAT(\"Trimestre 1\",CHAR(10),IFERROR(#REF!,\"\"))","v":"Trimestre 1\n"},{"$f":"_xlfn.CONCAT(\"Trimestre 1\",CHAR(10),IFERROR(#REF!,\"\"))","v":"Trimestre 1\n"},{"$f":"_xlfn.CONCAT(\"Trimestre 1\",CHAR(10),IFERROR(#REF!,\"\"))","v":"Trimestre 1\n"}]
[null,null,"3. Coadyuvar en la garantía de la idoneidad en el ejercicio de la profesión jurídica de acuerdo con lo establecido en la Ley 1905 de 2018.",null,null,"2. Asegurar  el cumplimiento de los objetivos institucionales, la normatividad aplicable,  la mejora del SIGCMA y la satisfacción de los usuarios, revisando de  forma continua y sistemática la planificación de la gestión y fortaleciendo la administración de riesgos y sus controles",null,null,null,null,null,null,null,null,null,null,null,null,null,null,null,null,null,null,null,{"$f":"IFERROR(#REF!,\" \")","v":" "},{"$f":"IFERROR(#REF!,\"\")","v":""},{"$f":"IFERROR(#REF!,\"\")","v":""},"","",{"$f":"IFERROR(#REF!,\"\")","v":""},"",{"$f":"IFERROR(#REF!,\"\")","v":""},{"$f":"IFERROR(#REF!,\"\")","v":""},{"$f":"_xlfn.CONCAT(\"Trimestre 1\",CHAR(10),IFERROR(#REF!,\"\"))","v":"Trimestre 1\n"},{"$f":"_xlfn.CONCAT(\"Trimestre 1\",CHAR(10),IFERROR(#REF!,\"\"))","v":"Trimestre 1\n"},{"$f":"_xlfn.CONCAT(\"Trimestre 1\",CHAR(10),IFERROR(#REF!,\"\"))","v":"Trimestre 1\n"},{"$f":"_xlfn.CONCAT(\"Trimestre 1\",CHAR(10),IFERROR(#REF!,\"\"))","v":"Trimestre 1\n"},{"$f":"_xlfn.CONCAT(\"Trimestre 1\",CHAR(10),IFERROR(#REF!,\"\"))","v":"Trimestre 1\n"}]
[null,null,null,null,null,null,null,null,null,null,null,null,null,null,null,null,null,null,null,null,null,null,null,null,null,{"$f":"IFERROR(#REF!,\" \")","v":" "},{"$f":"IFERROR(#REF!,\"\")","v":""},{"$f":"IFERROR(#REF!,\"\")","v":""},"","",{"$f":"IFERROR(#REF!,\"\")","v":""},"",{"$f":"IFERROR(#REF!,\"\")","v":""},{"$f":"IFERROR(#REF!,\"\")","v":""},{"$f":"_xlfn.CONCAT(\"Trimestre 1\",CHAR(10),IFERROR(#REF!,\"\"))","v":"Trimestre 1\n"},{"$f":"_xlfn.CONCAT(\"Trimestre 1\",CHAR(10),IFERROR(#REF!,\"\"))","v":"Trimestre 1\n"},{"$f":"_xlfn.CONCAT(\"Trimestre 1\",CHAR(10),IFERROR(#REF!,\"\"))","v":"Trimestre 1\n"},{"$f":"_xlfn.CONCAT(\"Trimestre 1\",CHAR(10),IFERROR(#REF!,\"\"))","v":"Trimestre 1\n"},{"$f":"_xlfn.CONCAT(\"Trimestre 1\",CHAR(10),IFERROR(#REF!,\"\"))","v":"Trimestre 1\n"}]
[null,null,null,null,null,null,null,null,null,null,null,null,null,null,null,null,null,null,null,null,null,null,null,null,null,{"$f":"IFERROR(#REF!,\" \")","v":" "},{"$f":"IFERROR(#REF!,\"\")","v":""},{"$f":"IFERROR(#REF!,\"\")","v":""},"","",{"$f":"IFERROR(#REF!,\"\")","v":""},"",{"$f":"IFERROR(#REF!,\"\")","v":""},{"$f":"IFERROR(#REF!,\"\")","v":""},{"$f":"_xlfn.CONCAT(\"Trimestre 1\",CHAR(10),IFERROR(#REF!,\"\"))","v":"Trimestre 1\n"},{"$f":"_xlfn.CONCAT(\"Trimestre 1\",CHAR(10),IFERROR(#REF!,\"\"))","v":"Trimestre 1\n"},{"$f":"_xlfn.CONCAT(\"Trimestre 1\",CHAR(10),IFERROR(#REF!,\"\"))","v":"Trimestre 1\n"},{"$f":"_xlfn.CONCAT(\"Trimestre 1\",CHAR(10),IFERROR(#REF!,\"\"))","v":"Trimestre 1\n"},{"$f":"_xlfn.CONCAT(\"Trimestre 1\",CHAR(10),IFERROR(#REF!,\"\"))","v":"Trimestre 1\n"}]
[null,null,null,null,null,null,null,null,null,null,null,null,null,null,null,null,null,null,null,null,null,null,null,null,null,{"$f":"IFERROR(#REF!,\" \")","v":" "},{"$f":"IFERROR(#REF!,\"\")","v":""},{"$f":"IFERROR(#REF!,\"\")","v":""},"","",{"$f":"IFERROR(#REF!,\"\")","v":""},"",{"$f":"IFERROR(#REF!,\"\")","v":""},{"$f":"IFERROR(#REF!,\"\")","v":""},{"$f":"_xlfn.CONCAT(\"Trimestre 1\",CHAR(10),IFERROR(#REF!,\"\"))","v":"Trimestre 1\n"},{"$f":"_xlfn.CONCAT(\"Trimestre 1\",CHAR(10),IFERROR(#REF!,\"\"))","v":"Trimestre 1\n"},{"$f":"_xlfn.CONCAT(\"Trimestre 1\",CHAR(10),IFERROR(#REF!,\"\"))","v":"Trimestre 1\n"},{"$f":"_xlfn.CONCAT(\"Trimestre 1\",CHAR(10),IFERROR(#REF!,\"\"))","v":"Trimestre 1\n"},{"$f":"_xlfn.CONCAT(\"Trimestre 1\",CHAR(10),IFERROR(#REF!,\"\"))","v":"Trimestre 1\n"}]
[null,null,null,null,null,null,null,null,null,null,null,null,null,null,null,null,null,null,null,null,null,null,null,null,null,{"$f":"IFERROR(#REF!,\" \")","v":" "},{"$f":"IFERROR(#REF!,\"\")","v":""},{"$f":"IFERROR(#REF!,\"\")","v":""},"","",{"$f":"IFERROR(#REF!,\"\")","v":""},"",{"$f":"IFERROR(#REF!,\"\")","v":""},{"$f":"IFERROR(#REF!,\"\")","v":""},{"$f":"_xlfn.CONCAT(\"Trimestre 1\",CHAR(10),IFERROR(#REF!,\"\"))","v":"Trimestre 1\n"},{"$f":"_xlfn.CONCAT(\"Trimestre 1\",CHAR(10),IFERROR(#REF!,\"\"))","v":"Trimestre 1\n"},{"$f":"_xlfn.CONCAT(\"Trimestre 1\",CHAR(10),IFERROR(#REF!,\"\"))","v":"Trimestre 1\n"},{"$f":"_xlfn.CONCAT(\"Trimestre 1\",CHAR(10),IFERROR(#REF!,\"\"))","v":"Trimestre 1\n"},{"$f":"_xlfn.CONCAT(\"Trimestre 1\",CHAR(10),IFERROR(#REF!,\"\"))","v":"Trimestre 1\n"}]
[null,null,null,null,null,null,null,null,null,null,null,null,null,null,null,null,null,null,null,null,null,null,null,null,null,{"$f":"IFERROR(#REF!,\" \")","v":" "},{"$f":"IFERROR(#REF!,\"\")","v":""},{"$f":"IFERROR(#REF!,\"\")","v":""},"","",{"$f":"IFERROR(#REF!,\"\")","v":""},"",{"$f":"IFERROR(#REF!,\"\")","v":""},{"$f":"IFERROR(#REF!,\"\")","v":""},{"$f":"_xlfn.CONCAT(\"Trimestre 1\",CHAR(10),IFERROR(#REF!,\"\"))","v":"Trimestre 1\n"},{"$f":"_xlfn.CONCAT(\"Trimestre 1\",CHAR(10),IFERROR(#REF!,\"\"))","v":"Trimestre 1\n"},{"$f":"_xlfn.CONCAT(\"Trimestre 1\",CHAR(10),IFERROR(#REF!,\"\"))","v":"Trimestre 1\n"},{"$f":"_xlfn.CONCAT(\"Trimestre 1\",CHAR(10),IFERROR(#REF!,\"\"))","v":"Trimestre 1\n"},{"$f":"_xlfn.CONCAT(\"Trimestre 1\",CHAR(10),IFERROR(#REF!,\"\"))","v":"Trimestre 1\n"}]
[null,null,null,null,null,null,null,null,null,null,null,null,null,null,null,null,null,null,null,null,null,null,null,null,null,{"$f":"IFERROR(#REF!,\" \")","v":" "},{"$f":"IFERROR(#REF!,\"\")","v":""},{"$f":"IFERROR(#REF!,\"\")","v":""},"","",{"$f":"IFERROR(#REF!,\"\")","v":""},"",{"$f":"IFERROR(#REF!,\"\")","v":""},{"$f":"IFERROR(#REF!,\"\")","v":""},{"$f":"_xlfn.CONCAT(\"Trimestre 1\",CHAR(10),IFERROR(#REF!,\"\"))","v":"Trimestre 1\n"},{"$f":"_xlfn.CONCAT(\"Trimestre 1\",CHAR(10),IFERROR(#REF!,\"\"))","v":"Trimestre 1\n"},{"$f":"_xlfn.CONCAT(\"Trimestre 1\",CHAR(10),IFERROR(#REF!,\"\"))","v":"Trimestre 1\n"},{"$f":"_xlfn.CONCAT(\"Trimestre 1\",CHAR(10),IFERROR(#REF!,\"\"))","v":"Trimestre 1\n"},{"$f":"_xlfn.CONCAT(\"Trimestre 1\",CHAR(10),IFERROR(#REF!,\"\"))","v":"Trimestre 1\n"}]
[null,null,null,null,null,null,null,null,null,null,null,null,null,null,null,null,null,null,null,null,null,null,null,null,null,{"$f":"IFERROR(#REF!,\" \")","v":" "},{"$f":"IFERROR(#REF!,\"\")","v":""},{"$f":"IFERROR(#REF!,\"\")","v":""},"","",{"$f":"IFERROR(#REF!,\"\")","v":""},"",{"$f":"IFERROR(#REF!,\"\")","v":""},{"$f":"IFERROR(#REF!,\"\")","v":""},{"$f":"_xlfn.CONCAT(\"Trimestre 1\",CHAR(10),IFERROR(#REF!,\"\"))","v":"Trimestre 1\n"},{"$f":"_xlfn.CONCAT(\"Trimestre 1\",CHAR(10),IFERROR(#REF!,\"\"))","v":"Trimestre 1\n"},{"$f":"_xlfn.CONCAT(\"Trimestre 1\",CHAR(10),IFERROR(#REF!,\"\"))","v":"Trimestre 1\n"},{"$f":"_xlfn.CONCAT(\"Trimestre 1\",CHAR(10),IFERROR(#REF!,\"\"))","v":"Trimestre 1\n"},{"$f":"_xlfn.CONCAT(\"Trimestre 1\",CHAR(10),IFERROR(#REF!,\"\"))","v":"Trimestre 1\n"}]
[null,null,null,null,null,null,null,null,null,null,null,null,null,null,null,null,null,null,null,null,null,null,null,null,null,{"$f":"IFERROR(#REF!,\" \")","v":" "},{"$f":"IFERROR(#REF!,\"\")","v":""},{"$f":"IFERROR(#REF!,\"\")","v":""},"","",{"$f":"IFERROR(#REF!,\"\")","v":""},"",{"$f":"IFERROR(#REF!,\"\")","v":""},{"$f":"IFERROR(#REF!,\"\")","v":""},{"$f":"_xlfn.CONCAT(\"Trimestre 1\",CHAR(10),IFERROR(#REF!,\"\"))","v":"Trimestre 1\n"},{"$f":"_xlfn.CONCAT(\"Trimestre 1\",CHAR(10),IFERROR(#REF!,\"\"))","v":"Trimestre 1\n"},{"$f":"_xlfn.CONCAT(\"Trimestre 1\",CHAR(10),IFERROR(#REF!,\"\"))","v":"Trimestre 1\n"},{"$f":"_xlfn.CONCAT(\"Trimestre 1\",CHAR(10),IFERROR(#REF!,\"\"))","v":"Trimestre 1\n"},{"$f":"_xlfn.CONCAT(\"Trimestre 1\",CHAR(10),IFERROR(#REF!,\"\"))","v":"Trimestre 1\n"}]
[null,null,null,null,null,null,null,null,null,null,null,null,null,null,null,null,null,null,null,null,null,null,null,null,null,{"$f":"IFERROR(#REF!,\" \")","v":" "},{"$f":"IFERROR(#REF!,\"\")","v":""},{"$f":"IFERROR(#REF!,\"\")","v":""},"","",{"$f":"IFERROR(#REF!,\"\")","v":""},"",{"$f":"IFERROR(#REF!,\"\")","v":""},{"$f":"IFERROR(#REF!,\"\")","v":""},{"$f":"_xlfn.CONCAT(\"Trimestre 1\",CHAR(10),IFERROR(#REF!,\"\"))","v":"Trimestre 1\n"},{"$f":"_xlfn.CONCAT(\"Trimestre 1\",CHAR(10),IFERROR(#REF!,\"\"))","v":"Trimestre 1\n"},{"$f":"_xlfn.CONCAT(\"Trimestre 1\",CHAR(10),IFERROR(#REF!,\"\"))","v":"Trimestre 1\n"},{"$f":"_xlfn.CONCAT(\"Trimestre 1\",CHAR(10),IFERROR(#REF!,\"\"))","v":"Trimestre 1\n"},{"$f":"_xlfn.CONCAT(\"Trimestre 1\",CHAR(10),IFERROR(#REF!,\"\"))","v":"Trimestre 1\n"}]
[null,null,"4. Avanzar en la disposición de una infraestructura óptima para el acceso a la justicia en la Rama Judicial de modo que se fortalezca la presencia territorial, teniendo en cuenta las posibilidades que ofrece la transformación digital y las necesidades que se derivan de ella, y considerando tanto las necesidades de los usuarios como las de los servidores judiciales.","Diseños para la construcción de despachos judiciales","# de sedes proyectada s para construir o intervenir en el cuatrienio / # sedes efectivamen te construidas o intervenidas\n\nTotal de\ndiseños aprobados","4. Hacer un uso racional de los recursos naturales aplicando los principios y fases de la Economía Circular, para prevenir, mitigar y controlar los impactos ambientales",null,null,null,null,null,null,null,null,null,null,null,null,null,null,null,null,null,null,null,{"$f":"IFERROR(#REF!,\" \")","v":" "},{"$f":"IFERROR(#REF!,\"\")","v":""},{"$f":"IFERROR(#REF!,\"\")","v":""},"","",{"$f":"IFERROR(#REF!,\"\")","v":""},"",{"$f":"IFERROR(#REF!,\"\")","v":""},{"$f":"IFERROR(#REF!,\"\")","v":""},{"$f":"_xlfn.CONCAT(\"Trimestre 1\",CHAR(10),IFERROR(#REF!,\"\"))","v":"Trimestre 1\n"},{"$f":"_xlfn.CONCAT(\"Trimestre 1\",CHAR(10),IFERROR(#REF!,\"\"))","v":"Trimestre 1\n"},{"$f":"_xlfn.CONCAT(\"Trimestre 1\",CHAR(10),IFERROR(#REF!,\"\"))","v":"Trimestre 1\n"},{"$f":"_xlfn.CONCAT(\"Trimestre 1\",CHAR(10),IFERROR(#REF!,\"\"))","v":"Trimestre 1\n"},{"$f":"_xlfn.CONCAT(\"Trimestre 1\",CHAR(10),IFERROR(#REF!,\"\"))","v":"Trimestre 1\n"}]
[null,null,null,null,null,null,null,null,null,null,null,null,null,null,null,null,null,null,null,null,null,null,null,null,null,{"$f":"IFERROR(#REF!,\" \")","v":" "},{"$f":"IFERROR(#REF!,\"\")","v":""},{"$f":"IFERROR(#REF!,\"\")","v":""},"","",{"$f":"IFERROR(#REF!,\"\")","v":""},"",{"$f":"IFERROR(#REF!,\"\")","v":""},{"$f":"IFERROR(#REF!,\"\")","v":""},{"$f":"_xlfn.CONCAT(\"Trimestre 1\",CHAR(10),IFERROR(#REF!,\"\"))","v":"Trimestre 1\n"},{"$f":"_xlfn.CONCAT(\"Trimestre 1\",CHAR(10),IFERROR(#REF!,\"\"))","v":"Trimestre 1\n"},{"$f":"_xlfn.CONCAT(\"Trimestre 1\",CHAR(10),IFERROR(#REF!,\"\"))","v":"Trimestre 1\n"},{"$f":"_xlfn.CONCAT(\"Trimestre 1\",CHAR(10),IFERROR(#REF!,\"\"))","v":"Trimestre 1\n"},{"$f":"_xlfn.CONCAT(\"Trimestre 1\",CHAR(10),IFERROR(#REF!,\"\"))","v":"Trimestre 1\n"}]
[null,null,null,null,null,null,null,null,null,null,null,null,null,null,null,null,null,null,null,null,null,null,null,null,null,{"$f":"IFERROR(#REF!,\" \")","v":" "},{"$f":"IFERROR(#REF!,\"\")","v":""},{"$f":"IFERROR(#REF!,\"\")","v":""},"","",{"$f":"IFERROR(#REF!,\"\")","v":""},"",{"$f":"IFERROR(#REF!,\"\")","v":""},{"$f":"IFERROR(#REF!,\"\")","v":""},{"$f":"_xlfn.CONCAT(\"Trimestre 1\",CHAR(10),IFERROR(#REF!,\"\"))","v":"Trimestre 1\n"},{"$f":"_xlfn.CONCAT(\"Trimestre 1\",CHAR(10),IFERROR(#REF!,\"\"))","v":"Trimestre 1\n"},{"$f":"_xlfn.CONCAT(\"Trimestre 1\",CHAR(10),IFERROR(#REF!,\"\"))","v":"Trimestre 1\n"},{"$f":"_xlfn.CONCAT(\"Trimestre 1\",CHAR(10),IFERROR(#REF!,\"\"))","v":"Trimestre 1\n"},{"$f":"_xlfn.CONCAT(\"Trimestre 1\",CHAR(10),IFERROR(#REF!,\"\"))","v":"Trimestre 1\n"}]
[null,null,null,null,null,null,null,null,null,null,null,null,null,null,null,null,null,null,null,null,null,null,null,null,null,{"$f":"IFERROR(#REF!,\" \")","v":" "},{"$f":"IFERROR(#REF!,\"\")","v":""},{"$f":"IFERROR(#REF!,\"\")","v":""},"","",{"$f":"IFERROR(#REF!,\"\")","v":""},"",{"$f":"IFERROR(#REF!,\"\")","v":""},{"$f":"IFERROR(#REF!,\"\")","v":""},{"$f":"_xlfn.CONCAT(\"Trimestre 1\",CHAR(10),IFERROR(#REF!,\"\"))","v":"Trimestre 1\n"},{"$f":"_xlfn.CONCAT(\"Trimestre 1\",CHAR(10),IFERROR(#REF!,\"\"))","v":"Trimestre 1\n"},{"$f":"_xlfn.CONCAT(\"Trimestre 1\",CHAR(10),IFERROR(#REF!,\"\"))","v":"Trimestre 1\n"},{"$f":"_xlfn.CONCAT(\"Trimestre 1\",CHAR(10),IFERROR(#REF!,\"\"))","v":"Trimestre 1\n"},{"$f":"_xlfn.CONCAT(\"Trimestre 1\",CHAR(10),IFERROR(#REF!,\"\"))","v":"Trimestre 1\n"}]
[null,null,null,null,null,null,null,null,null,null,null,null,null,null,null,null,null,null,null,null,null,null,null,null,null,{"$f":"IFERROR(#REF!,\" \")","v":" "},{"$f":"IFERROR(#REF!,\"\")","v":""},{"$f":"IFERROR(#REF!,\"\")","v":""},"","",{"$f":"IFERROR(#REF!,\"\")","v":""},"",{"$f":"IFERROR(#REF!,\"\")","v":""},{"$f":"IFERROR(#REF!,\"\")","v":""},{"$f":"_xlfn.CONCAT(\"Trimestre 1\",CHAR(10),IFERROR(#REF!,\"\"))","v":"Trimestre 1\n"},{"$f":"_xlfn.CONCAT(\"Trimestre 1\",CHAR(10),IFERROR(#REF!,\"\"))","v":"Trimestre 1\n"},{"$f":"_xlfn.CONCAT(\"Trimestre 1\",CHAR(10),IFERROR(#REF!,\"\"))","v":"Trimestre 1\n"},{"$f":"_xlfn.CONCAT(\"Trimestre 1\",CHAR(10),IFERROR(#REF!,\"\"))","v":"Trimestre 1\n"},{"$f":"_xlfn.CONCAT(\"Trimestre 1\",CHAR(10),IFERROR(#REF!,\"\"))","v":"Trimestre 1\n"}]
[null,null,null,null,null,null,null,null,null,null,null,null,null,null,null,null,null,null,null,null,null,null,null,null,null,{"$f":"IFERROR(#REF!,\" \")","v":" "},{"$f":"IFERROR(#REF!,\"\")","v":""},{"$f":"IFERROR(#REF!,\"\")","v":""},"","",{"$f":"IFERROR(#REF!,\"\")","v":""},"",{"$f":"IFERROR(#REF!,\"\")","v":""},{"$f":"IFERROR(#REF!,\"\")","v":""},{"$f":"_xlfn.CONCAT(\"Trimestre 1\",CHAR(10),IFERROR(#REF!,\"\"))","v":"Trimestre 1\n"},{"$f":"_xlfn.CONCAT(\"Trimestre 1\",CHAR(10),IFERROR(#REF!,\"\"))","v":"Trimestre 1\n"},{"$f":"_xlfn.CONCAT(\"Trimestre 1\",CHAR(10),IFERROR(#REF!,\"\"))","v":"Trimestre 1\n"},{"$f":"_xlfn.CONCAT(\"Trimestre 1\",CHAR(10),IFERROR(#REF!,\"\"))","v":"Trimestre 1\n"},{"$f":"_xlfn.CONCAT(\"Trimestre 1\",CHAR(10),IFERROR(#REF!,\"\"))","v":"Trimestre 1\n"}]
[null,null,null,null,null,null,null,null,null,null,null,null,null,null,null,null,null,null,null,null,null,null,null,null,null,{"$f":"IFERROR(#REF!,\" \")","v":" "},{"$f":"IFERROR(#REF!,\"\")","v":""},{"$f":"IFERROR(#REF!,\"\")","v":""},"","",{"$f":"IFERROR(#REF!,\"\")","v":""},"",{"$f":"IFERROR(#REF!,\"\")","v":""},{"$f":"IFERROR(#REF!,\"\")","v":""},{"$f":"_xlfn.CONCAT(\"Trimestre 1\",CHAR(10),IFERROR(#REF!,\"\"))","v":"Trimestre 1\n"},{"$f":"_xlfn.CONCAT(\"Trimestre 1\",CHAR(10),IFERROR(#REF!,\"\"))","v":"Trimestre 1\n"},{"$f":"_xlfn.CONCAT(\"Trimestre 1\",CHAR(10),IFERROR(#REF!,\"\"))","v":"Trimestre 1\n"},{"$f":"_xlfn.CONCAT(\"Trimestre 1\",CHAR(10),IFERROR(#REF!,\"\"))","v":"Trimestre 1\n"},{"$f":"_xlfn.CONCAT(\"Trimestre 1\",CHAR(10),IFERROR(#REF!,\"\"))","v":"Trimestre 1\n"}]
[null,null,null,null,null,null,null,null,null,null,null,null,null,null,null,null,null,null,null,null,null,null,null,null,null,{"$f":"IFERROR(#REF!,\" \")","v":" "},{"$f":"IFERROR(#REF!,\"\")","v":""},{"$f":"IFERROR(#REF!,\"\")","v":""},"","",{"$f":"IFERROR(#REF!,\"\")","v":""},"",{"$f":"IFERROR(#REF!,\"\")","v":""},{"$f":"IFERROR(#REF!,\"\")","v":""},{"$f":"_xlfn.CONCAT(\"Trimestre 1\",CHAR(10),IFERROR(#REF!,\"\"))","v":"Trimestre 1\n"},{"$f":"_xlfn.CONCAT(\"Trimestre 1\",CHAR(10),IFERROR(#REF!,\"\"))","v":"Trimestre 1\n"},{"$f":"_xlfn.CONCAT(\"Trimestre 1\",CHAR(10),IFERROR(#REF!,\"\"))","v":"Trimestre 1\n"},{"$f":"_xlfn.CONCAT(\"Trimestre 1\",CHAR(10),IFERROR(#REF!,\"\"))","v":"Trimestre 1\n"},{"$f":"_xlfn.CONCAT(\"Trimestre 1\",CHAR(10),IFERROR(#REF!,\"\"))","v":"Trimestre 1\n"}]
[null,null,null,null,null,null,null,null,null,null,null,null,null,null,null,null,null,null,null,null,null,null,null,null,null,{"$f":"IFERROR(#REF!,\" \")","v":" "},{"$f":"IFERROR(#REF!,\"\")","v":""},{"$f":"IFERROR(#REF!,\"\")","v":""},"","",{"$f":"IFERROR(#REF!,\"\")","v":""},"",{"$f":"IFERROR(#REF!,\"\")","v":""},{"$f":"IFERROR(#REF!,\"\")","v":""},{"$f":"_xlfn.CONCAT(\"Trimestre 1\",CHAR(10),IFERROR(#REF!,\"\"))","v":"Trimestre 1\n"},{"$f":"_xlfn.CONCAT(\"Trimestre 1\",CHAR(10),IFERROR(#REF!,\"\"))","v":"Trimestre 1\n"},{"$f":"_xlfn.CONCAT(\"Trimestre 1\",CHAR(10),IFERROR(#REF!,\"\"))","v":"Trimestre 1\n"},{"$f":"_xlfn.CONCAT(\"Trimestre 1\",CHAR(10),IFERROR(#REF!,\"\"))","v":"Trimestre 1\n"},{"$f":"_xlfn.CONCAT(\"Trimestre 1\",CHAR(10),IFERROR(#REF!,\"\"))","v":"Trimestre 1\n"}]
[null,null,null,null,null,null,null,null,null,null,null,null,null,null,null,null,null,null,null,null,null,null,null,null,null,{"$f":"IFERROR(#REF!,\" \")","v":" "},{"$f":"IFERROR(#REF!,\"\")","v":""},{"$f":"IFERROR(#REF!,\"\")","v":""},"","",{"$f":"IFERROR(#REF!,\"\")","v":""},"",{"$f":"IFERROR(#REF!,\"\")","v":""},{"$f":"IFERROR(#REF!,\"\")","v":""},{"$f":"_xlfn.CONCAT(\"Trimestre 1\",CHAR(10),IFERROR(#REF!,\"\"))","v":"Trimestre 1\n"},{"$f":"_xlfn.CONCAT(\"Trimestre 1\",CHAR(10),IFERROR(#REF!,\"\"))","v":"Trimestre 1\n"},{"$f":"_xlfn.CONCAT(\"Trimestre 1\",CHAR(10),IFERROR(#REF!,\"\"))","v":"Trimestre 1\n"},{"$f":"_xlfn.CONCAT(\"Trimestre 1\",CHAR(10),IFERROR(#REF!,\"\"))","v":"Trimestre 1\n"},{"$f":"_xlfn.CONCAT(\"Trimestre 1\",CHAR(10),IFERROR(#REF!,\"\"))","v":"Trimestre 1\n"}]
[null,null,"5. Impulsar el uso de mecanismos alternativos para la solución de conflictos y la ampliación de la justicia restaurativa y terapéutica y el robustecimiento de las alternativas al encarcelamiento","Seguimiento al cumplimiento de las disposiciones del CSJ que impulsan el uso de mecanismos alternativos de solución de conflictos, la ampliación de la justicia restaurativa y terapéutica y las alternativas al encarcelamiento.","% avance de implementa ción de las estrategias definidas para el seguimiento de las disposicion es adoptadas por el Consejo en materia de justicia restaurativa y terapéutica y las alternativas de encarcelami ento","2. Asegurar  el cumplimiento de los objetivos institucionales, la normatividad aplicable,  la mejora del SIGCMA y la satisfacción de los usuarios, revisando de  forma continua y sistemática la planificación de la gestión y fortaleciendo la administración de riesgos y sus controles",null,null,null,null,null,null,null,null,null,null,null,null,null,null,null,null,null,null,null,{"$f":"IFERROR(#REF!,\" \")","v":" "},{"$f":"IFERROR(#REF!,\"\")","v":""},{"$f":"IFERROR(#REF!,\"\")","v":""},"","",{"$f":"IFERROR(#REF!,\"\")","v":""},"",{"$f":"IFERROR(#REF!,\"\")","v":""},{"$f":"IFERROR(#REF!,\"\")","v":""},{"$f":"_xlfn.CONCAT(\"Trimestre 1\",CHAR(10),IFERROR(#REF!,\"\"))","v":"Trimestre 1\n"},{"$f":"_xlfn.CONCAT(\"Trimestre 1\",CHAR(10),IFERROR(#REF!,\"\"))","v":"Trimestre 1\n"},{"$f":"_xlfn.CONCAT(\"Trimestre 1\",CHAR(10),IFERROR(#REF!,\"\"))","v":"Trimestre 1\n"},{"$f":"_xlfn.CONCAT(\"Trimestre 1\",CHAR(10),IFERROR(#REF!,\"\"))","v":"Trimestre 1\n"},{"$f":"_xlfn.CONCAT(\"Trimestre 1\",CHAR(10),IFERROR(#REF!,\"\"))","v":"Trimestre 1\n"}]
[null,null,null,null,null,null,null,null,null,null,null,null,null,null,null,null,null,null,null,null,null,null,null,null,null,{"$f":"IFERROR(#REF!,\" \")","v":" "},{"$f":"IFERROR(#REF!,\"\")","v":""},{"$f":"IFERROR(#REF!,\"\")","v":""},"","",{"$f":"IFERROR(#REF!,\"\")","v":""},"",{"$f":"IFERROR(#REF!,\"\")","v":""},{"$f":"IFERROR(#REF!,\"\")","v":""},{"$f":"_xlfn.CONCAT(\"Trimestre 1\",CHAR(10),IFERROR(#REF!,\"\"))","v":"Trimestre 1\n"},{"$f":"_xlfn.CONCAT(\"Trimestre 1\",CHAR(10),IFERROR(#REF!,\"\"))","v":"Trimestre 1\n"},{"$f":"_xlfn.CONCAT(\"Trimestre 1\",CHAR(10),IFERROR(#REF!,\"\"))","v":"Trimestre 1\n"},{"$f":"_xlfn.CONCAT(\"Trimestre 1\",CHAR(10),IFERROR(#REF!,\"\"))","v":"Trimestre 1\n"},{"$f":"_xlfn.CONCAT(\"Trimestre 1\",CHAR(10),IFERROR(#REF!,\"\"))","v":"Trimestre 1\n"}]
[null,null,null,null,null,null,null,null,null,null,null,null,null,null,null,null,null,null,null,null,null,null,null,null,null,{"$f":"IFERROR(#REF!,\" \")","v":" "},{"$f":"IFERROR(#REF!,\"\")","v":""},{"$f":"IFERROR(#REF!,\"\")","v":""},"","",{"$f":"IFERROR(#REF!,\"\")","v":""},"",{"$f":"IFERROR(#REF!,\"\")","v":""},{"$f":"IFERROR(#REF!,\"\")","v":""},{"$f":"_xlfn.CONCAT(\"Trimestre 1\",CHAR(10),IFERROR(#REF!,\"\"))","v":"Trimestre 1\n"},{"$f":"_xlfn.CONCAT(\"Trimestre 1\",CHAR(10),IFERROR(#REF!,\"\"))","v":"Trimestre 1\n"},{"$f":"_xlfn.CONCAT(\"Trimestre 1\",CHAR(10),IFERROR(#REF!,\"\"))","v":"Trimestre 1\n"},{"$f":"_xlfn.CONCAT(\"Trimestre 1\",CHAR(10),IFERROR(#REF!,\"\"))","v":"Trimestre 1\n"},{"$f":"_xlfn.CONCAT(\"Trimestre 1\",CHAR(10),IFERROR(#REF!,\"\"))","v":"Trimestre 1\n"}]
[null,null,null,null,null,null,null,null,null,null,null,null,null,null,null,null,null,null,null,null,null,null,null,null,null,{"$f":"IFERROR(#REF!,\" \")","v":" "},{"$f":"IFERROR(#REF!,\"\")","v":""},{"$f":"IFERROR(#REF!,\"\")","v":""},"","",{"$f":"IFERROR(#REF!,\"\")","v":""},"",{"$f":"IFERROR(#REF!,\"\")","v":""},{"$f":"IFERROR(#REF!,\"\")","v":""},{"$f":"_xlfn.CONCAT(\"Trimestre 1\",CHAR(10),IFERROR(#REF!,\"\"))","v":"Trimestre 1\n"},{"$f":"_xlfn.CONCAT(\"Trimestre 1\",CHAR(10),IFERROR(#REF!,\"\"))","v":"Trimestre 1\n"},{"$f":"_xlfn.CONCAT(\"Trimestre 1\",CHAR(10),IFERROR(#REF!,\"\"))","v":"Trimestre 1\n"},{"$f":"_xlfn.CONCAT(\"Trimestre 1\",CHAR(10),IFERROR(#REF!,\"\"))","v":"Trimestre 1\n"},{"$f":"_xlfn.CONCAT(\"Trimestre 1\",CHAR(10),IFERROR(#REF!,\"\"))","v":"Trimestre 1\n"}]
[null,null,null,null,null,null,null,null,null,null,null,null,null,null,null,null,null,null,null,null,null,null,null,null,null,{"$f":"IFERROR(#REF!,\" \")","v":" "},{"$f":"IFERROR(#REF!,\"\")","v":""},{"$f":"IFERROR(#REF!,\"\")","v":""},"","",{"$f":"IFERROR(#REF!,\"\")","v":""},"",{"$f":"IFERROR(#REF!,\"\")","v":""},{"$f":"IFERROR(#REF!,\"\")","v":""},{"$f":"_xlfn.CONCAT(\"Trimestre 1\",CHAR(10),IFERROR(#REF!,\"\"))","v":"Trimestre 1\n"},{"$f":"_xlfn.CONCAT(\"Trimestre 1\",CHAR(10),IFERROR(#REF!,\"\"))","v":"Trimestre 1\n"},{"$f":"_xlfn.CONCAT(\"Trimestre 1\",CHAR(10),IFERROR(#REF!,\"\"))","v":"Trimestre 1\n"},{"$f":"_xlfn.CONCAT(\"Trimestre 1\",CHAR(10),IFERROR(#REF!,\"\"))","v":"Trimestre 1\n"},{"$f":"_xlfn.CONCAT(\"Trimestre 1\",CHAR(10),IFERROR(#REF!,\"\"))","v":"Trimestre 1\n"}]
[null,null,null,null,null,null,null,null,null,null,null,null,null,null,null,null,null,null,null,null,null,null,null,null,null,{"$f":"IFERROR(#REF!,\" \")","v":" "},{"$f":"IFERROR(#REF!,\"\")","v":""},{"$f":"IFERROR(#REF!,\"\")","v":""},"","",{"$f":"IFERROR(#REF!,\"\")","v":""},"",{"$f":"IFERROR(#REF!,\"\")","v":""},{"$f":"IFERROR(#REF!,\"\")","v":""},{"$f":"_xlfn.CONCAT(\"Trimestre 1\",CHAR(10),IFERROR(#REF!,\"\"))","v":"Trimestre 1\n"},{"$f":"_xlfn.CONCAT(\"Trimestre 1\",CHAR(10),IFERROR(#REF!,\"\"))","v":"Trimestre 1\n"},{"$f":"_xlfn.CONCAT(\"Trimestre 1\",CHAR(10),IFERROR(#REF!,\"\"))","v":"Trimestre 1\n"},{"$f":"_xlfn.CONCAT(\"Trimestre 1\",CHAR(10),IFERROR(#REF!,\"\"))","v":"Trimestre 1\n"},{"$f":"_xlfn.CONCAT(\"Trimestre 1\",CHAR(10),IFERROR(#REF!,\"\"))","v":"Trimestre 1\n"}]
[null,null,null,null,null,null,null,null,null,null,null,null,null,null,null,null,null,null,null,null,null,null,null,null,null,{"$f":"IFERROR(#REF!,\" \")","v":" "},{"$f":"IFERROR(#REF!,\"\")","v":""},{"$f":"IFERROR(#REF!,\"\")","v":""},"","",{"$f":"IFERROR(#REF!,\"\")","v":""},"",{"$f":"IFERROR(#REF!,\"\")","v":""},{"$f":"IFERROR(#REF!,\"\")","v":""},{"$f":"_xlfn.CONCAT(\"Trimestre 1\",CHAR(10),IFERROR(#REF!,\"\"))","v":"Trimestre 1\n"},{"$f":"_xlfn.CONCAT(\"Trimestre 1\",CHAR(10),IFERROR(#REF!,\"\"))","v":"Trimestre 1\n"},{"$f":"_xlfn.CONCAT(\"Trimestre 1\",CHAR(10),IFERROR(#REF!,\"\"))","v":"Trimestre 1\n"},{"$f":"_xlfn.CONCAT(\"Trimestre 1\",CHAR(10),IFERROR(#REF!,\"\"))","v":"Trimestre 1\n"},{"$f":"_xlfn.CONCAT(\"Trimestre 1\",CHAR(10),IFERROR(#REF!,\"\"))","v":"Trimestre 1\n"}]
[null,null,null,null,null,null,null,null,null,null,null,null,null,null,null,null,null,null,null,null,null,null,null,null,null,{"$f":"IFERROR(#REF!,\" \")","v":" "},{"$f":"IFERROR(#REF!,\"\")","v":""},{"$f":"IFERROR(#REF!,\"\")","v":""},"","",{"$f":"IFERROR(#REF!,\"\")","v":""},"",{"$f":"IFERROR(#REF!,\"\")","v":""},{"$f":"IFERROR(#REF!,\"\")","v":""},{"$f":"_xlfn.CONCAT(\"Trimestre 1\",CHAR(10),IFERROR(#REF!,\"\"))","v":"Trimestre 1\n"},{"$f":"_xlfn.CONCAT(\"Trimestre 1\",CHAR(10),IFERROR(#REF!,\"\"))","v":"Trimestre 1\n"},{"$f":"_xlfn.CONCAT(\"Trimestre 1\",CHAR(10),IFERROR(#REF!,\"\"))","v":"Trimestre 1\n"},{"$f":"_xlfn.CONCAT(\"Trimestre 1\",CHAR(10),IFERROR(#REF!,\"\"))","v":"Trimestre 1\n"},{"$f":"_xlfn.CONCAT(\"Trimestre 1\",CHAR(10),IFERROR(#REF!,\"\"))","v":"Trimestre 1\n"}]
[null,null,null,null,null,null,null,null,null,null,null,null,null,null,null,null,null,null,null,null,null,null,null,null,null,{"$f":"IFERROR(#REF!,\" \")","v":" "},{"$f":"IFERROR(#REF!,\"\")","v":""},{"$f":"IFERROR(#REF!,\"\")","v":""},"","",{"$f":"IFERROR(#REF!,\"\")","v":""},"",{"$f":"IFERROR(#REF!,\"\")","v":""},{"$f":"IFERROR(#REF!,\"\")","v":""},{"$f":"_xlfn.CONCAT(\"Trimestre 1\",CHAR(10),IFERROR(#REF!,\"\"))","v":"Trimestre 1\n"},{"$f":"_xlfn.CONCAT(\"Trimestre 1\",CHAR(10),IFERROR(#REF!,\"\"))","v":"Trimestre 1\n"},{"$f":"_xlfn.CONCAT(\"Trimestre 1\",CHAR(10),IFERROR(#REF!,\"\"))","v":"Trimestre 1\n"},{"$f":"_xlfn.CONCAT(\"Trimestre 1\",CHAR(10),IFERROR(#REF!,\"\"))","v":"Trimestre 1\n"},{"$f":"_xlfn.CONCAT(\"Trimestre 1\",CHAR(10),IFERROR(#REF!,\"\"))","v":"Trimestre 1\n"}]
[null,null,null,null,null,null,null,null,null,null,null,null,null,null,null,null,null,null,null,null,null,null,null,null,null,{"$f":"IFERROR(#REF!,\" \")","v":" "},{"$f":"IFERROR(#REF!,\"\")","v":""},{"$f":"IFERROR(#REF!,\"\")","v":""},"","",{"$f":"IFERROR(#REF!,\"\")","v":""},"",{"$f":"IFERROR(#REF!,\"\")","v":""},{"$f":"IFERROR(#REF!,\"\")","v":""},{"$f":"_xlfn.CONCAT(\"Trimestre 1\",CHAR(10),IFERROR(#REF!,\"\"))","v":"Trimestre 1\n"},{"$f":"_xlfn.CONCAT(\"Trimestre 1\",CHAR(10),IFERROR(#REF!,\"\"))","v":"Trimestre 1\n"},{"$f":"_xlfn.CONCAT(\"Trimestre 1\",CHAR(10),IFERROR(#REF!,\"\"))","v":"Trimestre 1\n"},{"$f":"_xlfn.CONCAT(\"Trimestre 1\",CHAR(10),IFERROR(#REF!,\"\"))","v":"Trimestre 1\n"},{"$f":"_xlfn.CONCAT(\"Trimestre 1\",CHAR(10),IFERROR(#REF!,\"\"))","v":"Trimestre 1\n"}]
["2. Servicios digitales y de tecnología, innovación y análisis de la información.","Servicios digitales y de tecnología, innovación y análisis de la información: Consolidar una justicia integrada y soportada en servicios digitales y de tecnología, innovación y análisis de la información, con una cultura digital apropiada, segura y sensible a las realidades del territorio nacional. ","1. Ampliar el acceso a la justicia a través de la consolidación del uso de los servicios digitales que conforman el sistema único integrado de gestión judicial en todos los despachos judiciales y dependencias de apoyo y, específicamente, incluyendo el despliegue e implementación del Expediente Judicial Electrónico en todas las jurisdicciones y especialidades.","Procesos\njudiciales gestionados a través del expediente electrónico por especialidad","# de procesos judiciales en gestión con expediente electrónico en cada especialida d y por categoría de despacho a nivel de circuito / # de procesos judiciales totales en gestión por cada especialida d y circuito (cabecera de circuito)","6. Proteger, preservar y administrar los activos de información  implementando acciones  para gestionar de forma adecuada los incidentes, proteger los datos personales y adoptar mecanismos  de ciberseguridad y aseguramiento de la  continuidad del negocio.",null,null,null,null,null,null,null,null,null,null,null,null,null,null,null,null,null,null,null,{"$f":"IFERROR(#REF!,\" \")","v":" "},{"$f":"IFERROR(#REF!,\"\")","v":""},{"$f":"IFERROR(#REF!,\"\")","v":""},"","",{"$f":"IFERROR(#REF!,\"\")","v":""},"",{"$f":"IFERROR(#REF!,\"\")","v":""},{"$f":"IFERROR(#REF!,\"\")","v":""},{"$f":"_xlfn.CONCAT(\"Trimestre 1\",CHAR(10),IFERROR(#REF!,\"\"))","v":"Trimestre 1\n"},{"$f":"_xlfn.CONCAT(\"Trimestre 1\",CHAR(10),IFERROR(#REF!,\"\"))","v":"Trimestre 1\n"},{"$f":"_xlfn.CONCAT(\"Trimestre 1\",CHAR(10),IFERROR(#REF!,\"\"))","v":"Trimestre 1\n"},{"$f":"_xlfn.CONCAT(\"Trimestre 1\",CHAR(10),IFERROR(#REF!,\"\"))","v":"Trimestre 1\n"},{"$f":"_xlfn.CONCAT(\"Trimestre 1\",CHAR(10),IFERROR(#REF!,\"\"))","v":"Trimestre 1\n"}]
[null,null,null,null,null,null,null,null,null,null,null,null,null,null,null,null,null,null,null,null,null,null,null,null,null,{"$f":"IFERROR(#REF!,\" \")","v":" "},{"$f":"IFERROR(#REF!,\"\")","v":""},{"$f":"IFERROR(#REF!,\"\")","v":""},"","",{"$f":"IFERROR(#REF!,\"\")","v":""},"",{"$f":"IFERROR(#REF!,\"\")","v":""},{"$f":"IFERROR(#REF!,\"\")","v":""},{"$f":"_xlfn.CONCAT(\"Trimestre 1\",CHAR(10),IFERROR(#REF!,\"\"))","v":"Trimestre 1\n"},{"$f":"_xlfn.CONCAT(\"Trimestre 1\",CHAR(10),IFERROR(#REF!,\"\"))","v":"Trimestre 1\n"},{"$f":"_xlfn.CONCAT(\"Trimestre 1\",CHAR(10),IFERROR(#REF!,\"\"))","v":"Trimestre 1\n"},{"$f":"_xlfn.CONCAT(\"Trimestre 1\",CHAR(10),IFERROR(#REF!,\"\"))","v":"Trimestre 1\n"},{"$f":"_xlfn.CONCAT(\"Trimestre 1\",CHAR(10),IFERROR(#REF!,\"\"))","v":"Trimestre 1\n"}]
[null,null,null,null,null,null,null,null,null,null,null,null,null,null,null,null,null,null,null,null,null,null,null,null,null,{"$f":"IFERROR(#REF!,\" \")","v":" "},{"$f":"IFERROR(#REF!,\"\")","v":""},{"$f":"IFERROR(#REF!,\"\")","v":""},"","",{"$f":"IFERROR(#REF!,\"\")","v":""},"",{"$f":"IFERROR(#REF!,\"\")","v":""},{"$f":"IFERROR(#REF!,\"\")","v":""},{"$f":"_xlfn.CONCAT(\"Trimestre 1\",CHAR(10),IFERROR(#REF!,\"\"))","v":"Trimestre 1\n"},{"$f":"_xlfn.CONCAT(\"Trimestre 1\",CHAR(10),IFERROR(#REF!,\"\"))","v":"Trimestre 1\n"},{"$f":"_xlfn.CONCAT(\"Trimestre 1\",CHAR(10),IFERROR(#REF!,\"\"))","v":"Trimestre 1\n"},{"$f":"_xlfn.CONCAT(\"Trimestre 1\",CHAR(10),IFERROR(#REF!,\"\"))","v":"Trimestre 1\n"},{"$f":"_xlfn.CONCAT(\"Trimestre 1\",CHAR(10),IFERROR(#REF!,\"\"))","v":"Trimestre 1\n"}]
[null,null,null,null,null,null,null,null,null,null,null,null,null,null,null,null,null,null,null,null,null,null,null,null,null,{"$f":"IFERROR(#REF!,\" \")","v":" "},{"$f":"IFERROR(#REF!,\"\")","v":""},{"$f":"IFERROR(#REF!,\"\")","v":""},"","",{"$f":"IFERROR(#REF!,\"\")","v":""},"",{"$f":"IFERROR(#REF!,\"\")","v":""},{"$f":"IFERROR(#REF!,\"\")","v":""},{"$f":"_xlfn.CONCAT(\"Trimestre 1\",CHAR(10),IFERROR(#REF!,\"\"))","v":"Trimestre 1\n"},{"$f":"_xlfn.CONCAT(\"Trimestre 1\",CHAR(10),IFERROR(#REF!,\"\"))","v":"Trimestre 1\n"},{"$f":"_xlfn.CONCAT(\"Trimestre 1\",CHAR(10),IFERROR(#REF!,\"\"))","v":"Trimestre 1\n"},{"$f":"_xlfn.CONCAT(\"Trimestre 1\",CHAR(10),IFERROR(#REF!,\"\"))","v":"Trimestre 1\n"},{"$f":"_xlfn.CONCAT(\"Trimestre 1\",CHAR(10),IFERROR(#REF!,\"\"))","v":"Trimestre 1\n"}]
[null,null,null,null,null,null,null,null,null,null,null,null,null,null,null,null,null,null,null,null,null,null,null,null,null,{"$f":"IFERROR(#REF!,\" \")","v":" "},{"$f":"IFERROR(#REF!,\"\")","v":""},{"$f":"IFERROR(#REF!,\"\")","v":""},"","",{"$f":"IFERROR(#REF!,\"\")","v":""},"",{"$f":"IFERROR(#REF!,\"\")","v":""},{"$f":"IFERROR(#REF!,\"\")","v":""},{"$f":"_xlfn.CONCAT(\"Trimestre 1\",CHAR(10),IFERROR(#REF!,\"\"))","v":"Trimestre 1\n"},{"$f":"_xlfn.CONCAT(\"Trimestre 1\",CHAR(10),IFERROR(#REF!,\"\"))","v":"Trimestre 1\n"},{"$f":"_xlfn.CONCAT(\"Trimestre 1\",CHAR(10),IFERROR(#REF!,\"\"))","v":"Trimestre 1\n"},{"$f":"_xlfn.CONCAT(\"Trimestre 1\",CHAR(10),IFERROR(#REF!,\"\"))","v":"Trimestre 1\n"},{"$f":"_xlfn.CONCAT(\"Trimestre 1\",CHAR(10),IFERROR(#REF!,\"\"))","v":"Trimestre 1\n"}]
[null,null,null,null,null,null,null,null,null,null,null,null,null,null,null,null,null,null,null,null,null,null,null,null,null,{"$f":"IFERROR(#REF!,\" \")","v":" "},{"$f":"IFERROR(#REF!,\"\")","v":""},{"$f":"IFERROR(#REF!,\"\")","v":""},"","",{"$f":"IFERROR(#REF!,\"\")","v":""},"",{"$f":"IFERROR(#REF!,\"\")","v":""},{"$f":"IFERROR(#REF!,\"\")","v":""},{"$f":"_xlfn.CONCAT(\"Trimestre 1\",CHAR(10),IFERROR(#REF!,\"\"))","v":"Trimestre 1\n"},{"$f":"_xlfn.CONCAT(\"Trimestre 1\",CHAR(10),IFERROR(#REF!,\"\"))","v":"Trimestre 1\n"},{"$f":"_xlfn.CONCAT(\"Trimestre 1\",CHAR(10),IFERROR(#REF!,\"\"))","v":"Trimestre 1\n"},{"$f":"_xlfn.CONCAT(\"Trimestre 1\",CHAR(10),IFERROR(#REF!,\"\"))","v":"Trimestre 1\n"},{"$f":"_xlfn.CONCAT(\"Trimestre 1\",CHAR(10),IFERROR(#REF!,\"\"))","v":"Trimestre 1\n"}]
[null,null,null,null,null,null,null,null,null,null,null,null,null,null,null,null,null,null,null,null,null,null,null,null,null,{"$f":"IFERROR(#REF!,\" \")","v":" "},{"$f":"IFERROR(#REF!,\"\")","v":""},{"$f":"IFERROR(#REF!,\"\")","v":""},"","",{"$f":"IFERROR(#REF!,\"\")","v":""},"",{"$f":"IFERROR(#REF!,\"\")","v":""},{"$f":"IFERROR(#REF!,\"\")","v":""},{"$f":"_xlfn.CONCAT(\"Trimestre 1\",CHAR(10),IFERROR(#REF!,\"\"))","v":"Trimestre 1\n"},{"$f":"_xlfn.CONCAT(\"Trimestre 1\",CHAR(10),IFERROR(#REF!,\"\"))","v":"Trimestre 1\n"},{"$f":"_xlfn.CONCAT(\"Trimestre 1\",CHAR(10),IFERROR(#REF!,\"\"))","v":"Trimestre 1\n"},{"$f":"_xlfn.CONCAT(\"Trimestre 1\",CHAR(10),IFERROR(#REF!,\"\"))","v":"Trimestre 1\n"},{"$f":"_xlfn.CONCAT(\"Trimestre 1\",CHAR(10),IFERROR(#REF!,\"\"))","v":"Trimestre 1\n"}]
[null,null,null,null,null,null,null,null,null,null,null,null,null,null,null,null,null,null,null,null,null,null,null,null,null,{"$f":"IFERROR(#REF!,\" \")","v":" "},{"$f":"IFERROR(#REF!,\"\")","v":""},{"$f":"IFERROR(#REF!,\"\")","v":""},"","",{"$f":"IFERROR(#REF!,\"\")","v":""},"",{"$f":"IFERROR(#REF!,\"\")","v":""},{"$f":"IFERROR(#REF!,\"\")","v":""},{"$f":"_xlfn.CONCAT(\"Trimestre 1\",CHAR(10),IFERROR(#REF!,\"\"))","v":"Trimestre 1\n"},{"$f":"_xlfn.CONCAT(\"Trimestre 1\",CHAR(10),IFERROR(#REF!,\"\"))","v":"Trimestre 1\n"},{"$f":"_xlfn.CONCAT(\"Trimestre 1\",CHAR(10),IFERROR(#REF!,\"\"))","v":"Trimestre 1\n"},{"$f":"_xlfn.CONCAT(\"Trimestre 1\",CHAR(10),IFERROR(#REF!,\"\"))","v":"Trimestre 1\n"},{"$f":"_xlfn.CONCAT(\"Trimestre 1\",CHAR(10),IFERROR(#REF!,\"\"))","v":"Trimestre 1\n"}]
[null,null,null,null,null,null,null,null,null,null,null,null,null,null,null,null,null,null,null,null,null,null,null,null,null,{"$f":"IFERROR(#REF!,\" \")","v":" "},{"$f":"IFERROR(#REF!,\"\")","v":""},{"$f":"IFERROR(#REF!,\"\")","v":""},"","",{"$f":"IFERROR(#REF!,\"\")","v":""},"",{"$f":"IFERROR(#REF!,\"\")","v":""},{"$f":"IFERROR(#REF!,\"\")","v":""},{"$f":"_xlfn.CONCAT(\"Trimestre 1\",CHAR(10),IFERROR(#REF!,\"\"))","v":"Trimestre 1\n"},{"$f":"_xlfn.CONCAT(\"Trimestre 1\",CHAR(10),IFERROR(#REF!,\"\"))","v":"Trimestre 1\n"},{"$f":"_xlfn.CONCAT(\"Trimestre 1\",CHAR(10),IFERROR(#REF!,\"\"))","v":"Trimestre 1\n"},{"$f":"_xlfn.CONCAT(\"Trimestre 1\",CHAR(10),IFERROR(#REF!,\"\"))","v":"Trimestre 1\n"},{"$f":"_xlfn.CONCAT(\"Trimestre 1\",CHAR(10),IFERROR(#REF!,\"\"))","v":"Trimestre 1\n"}]
[null,null,null,null,null,null,null,null,null,null,null,null,null,null,null,null,null,null,null,null,null,null,null,null,null,{"$f":"IFERROR(#REF!,\" \")","v":" "},{"$f":"IFERROR(#REF!,\"\")","v":""},{"$f":"IFERROR(#REF!,\"\")","v":""},"","",{"$f":"IFERROR(#REF!,\"\")","v":""},"",{"$f":"IFERROR(#REF!,\"\")","v":""},{"$f":"IFERROR(#REF!,\"\")","v":""},{"$f":"_xlfn.CONCAT(\"Trimestre 1\",CHAR(10),IFERROR(#REF!,\"\"))","v":"Trimestre 1\n"},{"$f":"_xlfn.CONCAT(\"Trimestre 1\",CHAR(10),IFERROR(#REF!,\"\"))","v":"Trimestre 1\n"},{"$f":"_xlfn.CONCAT(\"Trimestre 1\",CHAR(10),IFERROR(#REF!,\"\"))","v":"Trimestre 1\n"},{"$f":"_xlfn.CONCAT(\"Trimestre 1\",CHAR(10),IFERROR(#REF!,\"\"))","v":"Trimestre 1\n"},{"$f":"_xlfn.CONCAT(\"Trimestre 1\",CHAR(10),IFERROR(#REF!,\"\"))","v":"Trimestre 1\n"}]
[null,null,"2. Integrar y hacer compatibles todos los aplicativos de transición con SIUGJ, para que la migración de los expedientes judiciales a dicha plataforma sea real y no suponga afectaciones en la prestación del servicio de justicia.",null,null,null,null,null,null,null,null,null,null,null,null,null,null,null,null,null,null,null,null,null,null,{"$f":"IFERROR(#REF!,\" \")","v":" "},{"$f":"IFERROR(#REF!,\"\")","v":""},{"$f":"IFERROR(#REF!,\"\")","v":""},"","",{"$f":"IFERROR(#REF!,\"\")","v":""},"",{"$f":"IFERROR(#REF!,\"\")","v":""},{"$f":"IFERROR(#REF!,\"\")","v":""},{"$f":"_xlfn.CONCAT(\"Trimestre 1\",CHAR(10),IFERROR(#REF!,\"\"))","v":"Trimestre 1\n"},{"$f":"_xlfn.CONCAT(\"Trimestre 1\",CHAR(10),IFERROR(#REF!,\"\"))","v":"Trimestre 1\n"},{"$f":"_xlfn.CONCAT(\"Trimestre 1\",CHAR(10),IFERROR(#REF!,\"\"))","v":"Trimestre 1\n"},{"$f":"_xlfn.CONCAT(\"Trimestre 1\",CHAR(10),IFERROR(#REF!,\"\"))","v":"Trimestre 1\n"},{"$f":"_xlfn.CONCAT(\"Trimestre 1\",CHAR(10),IFERROR(#REF!,\"\"))","v":"Trimestre 1\n"}]
[null,null,null,null,null,null,null,null,null,null,null,null,null,null,null,null,null,null,null,null,null,null,null,null,null,{"$f":"IFERROR(#REF!,\" \")","v":" "},{"$f":"IFERROR(#REF!,\"\")","v":""},{"$f":"IFERROR(#REF!,\"\")","v":""},"","",{"$f":"IFERROR(#REF!,\"\")","v":""},"",{"$f":"IFERROR(#REF!,\"\")","v":""},{"$f":"IFERROR(#REF!,\"\")","v":""},{"$f":"_xlfn.CONCAT(\"Trimestre 1\",CHAR(10),IFERROR(#REF!,\"\"))","v":"Trimestre 1\n"},{"$f":"_xlfn.CONCAT(\"Trimestre 1\",CHAR(10),IFERROR(#REF!,\"\"))","v":"Trimestre 1\n"},{"$f":"_xlfn.CONCAT(\"Trimestre 1\",CHAR(10),IFERROR(#REF!,\"\"))","v":"Trimestre 1\n"},{"$f":"_xlfn.CONCAT(\"Trimestre 1\",CHAR(10),IFERROR(#REF!,\"\"))","v":"Trimestre 1\n"},{"$f":"_xlfn.CONCAT(\"Trimestre 1\",CHAR(10),IFERROR(#REF!,\"\"))","v":"Trimestre 1\n"}]
[null,null,null,null,null,null,null,null,null,null,null,null,null,null,null,null,null,null,null,null,null,null,null,null,null,{"$f":"IFERROR(#REF!,\" \")","v":" "},{"$f":"IFERROR(#REF!,\"\")","v":""},{"$f":"IFERROR(#REF!,\"\")","v":""},"","",{"$f":"IFERROR(#REF!,\"\")","v":""},"",{"$f":"IFERROR(#REF!,\"\")","v":""},{"$f":"IFERROR(#REF!,\"\")","v":""},{"$f":"_xlfn.CONCAT(\"Trimestre 1\",CHAR(10),IFERROR(#REF!,\"\"))","v":"Trimestre 1\n"},{"$f":"_xlfn.CONCAT(\"Trimestre 1\",CHAR(10),IFERROR(#REF!,\"\"))","v":"Trimestre 1\n"},{"$f":"_xlfn.CONCAT(\"Trimestre 1\",CHAR(10),IFERROR(#REF!,\"\"))","v":"Trimestre 1\n"},{"$f":"_xlfn.CONCAT(\"Trimestre 1\",CHAR(10),IFERROR(#REF!,\"\"))","v":"Trimestre 1\n"},{"$f":"_xlfn.CONCAT(\"Trimestre 1\",CHAR(10),IFERROR(#REF!,\"\"))","v":"Trimestre 1\n"}]
[null,null,null,null,null,null,null,null,null,null,null,null,null,null,null,null,null,null,null,null,null,null,null,null,null,{"$f":"IFERROR(#REF!,\" \")","v":" "},{"$f":"IFERROR(#REF!,\"\")","v":""},{"$f":"IFERROR(#REF!,\"\")","v":""},"","",{"$f":"IFERROR(#REF!,\"\")","v":""},"",{"$f":"IFERROR(#REF!,\"\")","v":""},{"$f":"IFERROR(#REF!,\"\")","v":""},{"$f":"_xlfn.CONCAT(\"Trimestre 1\",CHAR(10),IFERROR(#REF!,\"\"))","v":"Trimestre 1\n"},{"$f":"_xlfn.CONCAT(\"Trimestre 1\",CHAR(10),IFERROR(#REF!,\"\"))","v":"Trimestre 1\n"},{"$f":"_xlfn.CONCAT(\"Trimestre 1\",CHAR(10),IFERROR(#REF!,\"\"))","v":"Trimestre 1\n"},{"$f":"_xlfn.CONCAT(\"Trimestre 1\",CHAR(10),IFERROR(#REF!,\"\"))","v":"Trimestre 1\n"},{"$f":"_xlfn.CONCAT(\"Trimestre 1\",CHAR(10),IFERROR(#REF!,\"\"))","v":"Trimestre 1\n"}]
[null,null,null,null,null,null,null,null,null,null,null,null,null,null,null,null,null,null,null,null,null,null,null,null,null,{"$f":"IFERROR(#REF!,\" \")","v":" "},{"$f":"IFERROR(#REF!,\"\")","v":""},{"$f":"IFERROR(#REF!,\"\")","v":""},"","",{"$f":"IFERROR(#REF!,\"\")","v":""},"",{"$f":"IFERROR(#REF!,\"\")","v":""},{"$f":"IFERROR(#REF!,\"\")","v":""},{"$f":"_xlfn.CONCAT(\"Trimestre 1\",CHAR(10),IFERROR(#REF!,\"\"))","v":"Trimestre 1\n"},{"$f":"_xlfn.CONCAT(\"Trimestre 1\",CHAR(10),IFERROR(#REF!,\"\"))","v":"Trimestre 1\n"},{"$f":"_xlfn.CONCAT(\"Trimestre 1\",CHAR(10),IFERROR(#REF!,\"\"))","v":"Trimestre 1\n"},{"$f":"_xlfn.CONCAT(\"Trimestre 1\",CHAR(10),IFERROR(#REF!,\"\"))","v":"Trimestre 1\n"},{"$f":"_xlfn.CONCAT(\"Trimestre 1\",CHAR(10),IFERROR(#REF!,\"\"))","v":"Trimestre 1\n"}]
[null,null,null,null,null,null,null,null,null,null,null,null,null,null,null,null,null,null,null,null,null,null,null,null,null,{"$f":"IFERROR(#REF!,\" \")","v":" "},{"$f":"IFERROR(#REF!,\"\")","v":""},{"$f":"IFERROR(#REF!,\"\")","v":""},{"$f":"IFERROR(AB71/P71,\"\")","v":""},{"$f":"IFERROR(AA71/Y71,\"\")","v":""},{"$f":"IFERROR(#REF!,\"\")","v":""},{"$f":"IFERROR(P71-AB71,\"\")","v":""},{"$f":"IFERROR(#REF!,\"\")","v":""},{"$f":"IFERROR(#REF!,\"\")","v":""},{"$f":"_xlfn.CONCAT(\"Trimestre 1\",CHAR(10),IFERROR(#REF!,\"\"))","v":"Trimestre 1\n"},{"$f":"_xlfn.CONCAT(\"Trimestre 1\",CHAR(10),IFERROR(#REF!,\"\"))","v":"Trimestre 1\n"},{"$f":"_xlfn.CONCAT(\"Trimestre 1\",CHAR(10),IFERROR(#REF!,\"\"))","v":"Trimestre 1\n"},{"$f":"_xlfn.CONCAT(\"Trimestre 1\",CHAR(10),IFERROR(#REF!,\"\"))","v":"Trimestre 1\n"},{"$f":"_xlfn.CONCAT(\"Trimestre 1\",CHAR(10),IFERROR(#REF!,\"\"))","v":"Trimestre 1\n"}]
[null,null,null,null,null,null,null,null,null,null,null,null,null,null,null,null,null,null,null,null,null,null,null,null,null,{"$f":"IFERROR(#REF!,\" \")","v":" "},{"$f":"IFERROR(#REF!,\"\")","v":""},{"$f":"IFERROR(#REF!,\"\")","v":""},"","",{"$f":"IFERROR(#REF!,\"\")","v":""},"",{"$f":"IFERROR(#REF!,\"\")","v":""},{"$f":"IFERROR(#REF!,\"\")","v":""},{"$f":"_xlfn.CONCAT(\"Trimestre 1\",CHAR(10),IFERROR(#REF!,\"\"))","v":"Trimestre 1\n"},{"$f":"_xlfn.CONCAT(\"Trimestre 1\",CHAR(10),IFERROR(#REF!,\"\"))","v":"Trimestre 1\n"},{"$f":"_xlfn.CONCAT(\"Trimestre 1\",CHAR(10),IFERROR(#REF!,\"\"))","v":"Trimestre 1\n"},{"$f":"_xlfn.CONCAT(\"Trimestre 1\",CHAR(10),IFERROR(#REF!,\"\"))","v":"Trimestre 1\n"},{"$f":"_xlfn.CONCAT(\"Trimestre 1\",CHAR(10),IFERROR(#REF!,\"\"))","v":"Trimestre 1\n"}]
[null,null,null,null,null,null,null,null,null,null,null,null,null,null,null,null,null,null,null,null,null,null,null,null,null,{"$f":"IFERROR(#REF!,\" \")","v":" "},{"$f":"IFERROR(#REF!,\"\")","v":""},{"$f":"IFERROR(#REF!,\"\")","v":""},"","",{"$f":"IFERROR(#REF!,\"\")","v":""},"",{"$f":"IFERROR(#REF!,\"\")","v":""},{"$f":"IFERROR(#REF!,\"\")","v":""},{"$f":"_xlfn.CONCAT(\"Trimestre 1\",CHAR(10),IFERROR(#REF!,\"\"))","v":"Trimestre 1\n"},{"$f":"_xlfn.CONCAT(\"Trimestre 1\",CHAR(10),IFERROR(#REF!,\"\"))","v":"Trimestre 1\n"},{"$f":"_xlfn.CONCAT(\"Trimestre 1\",CHAR(10),IFERROR(#REF!,\"\"))","v":"Trimestre 1\n"},{"$f":"_xlfn.CONCAT(\"Trimestre 1\",CHAR(10),IFERROR(#REF!,\"\"))","v":"Trimestre 1\n"},{"$f":"_xlfn.CONCAT(\"Trimestre 1\",CHAR(10),IFERROR(#REF!,\"\"))","v":"Trimestre 1\n"}]
[null,null,null,null,null,null,null,null,null,null,null,null,null,null,null,null,null,null,null,null,null,null,null,null,null,{"$f":"IFERROR(#REF!,\" \")","v":" "},{"$f":"IFERROR(#REF!,\"\")","v":""},{"$f":"IFERROR(#REF!,\"\")","v":""},"","",{"$f":"IFERROR(#REF!,\"\")","v":""},"",{"$f":"IFERROR(#REF!,\"\")","v":""},{"$f":"IFERROR(#REF!,\"\")","v":""},{"$f":"_xlfn.CONCAT(\"Trimestre 1\",CHAR(10),IFERROR(#REF!,\"\"))","v":"Trimestre 1\n"},{"$f":"_xlfn.CONCAT(\"Trimestre 1\",CHAR(10),IFERROR(#REF!,\"\"))","v":"Trimestre 1\n"},{"$f":"_xlfn.CONCAT(\"Trimestre 1\",CHAR(10),IFERROR(#REF!,\"\"))","v":"Trimestre 1\n"},{"$f":"_xlfn.CONCAT(\"Trimestre 1\",CHAR(10),IFERROR(#REF!,\"\"))","v":"Trimestre 1\n"},{"$f":"_xlfn.CONCAT(\"Trimestre 1\",CHAR(10),IFERROR(#REF!,\"\"))","v":"Trimestre 1\n"}]
[null,null,null,null,null,null,null,null,null,null,null,null,null,null,null,null,null,null,null,null,null,null,null,null,null,{"$f":"IFERROR(#REF!,\" \")","v":" "},{"$f":"IFERROR(#REF!,\"\")","v":""},{"$f":"IFERROR(#REF!,\"\")","v":""},"","",{"$f":"IFERROR(#REF!,\"\")","v":""},"",{"$f":"IFERROR(#REF!,\"\")","v":""},{"$f":"IFERROR(#REF!,\"\")","v":""},{"$f":"_xlfn.CONCAT(\"Trimestre 1\",CHAR(10),IFERROR(#REF!,\"\"))","v":"Trimestre 1\n"},{"$f":"_xlfn.CONCAT(\"Trimestre 1\",CHAR(10),IFERROR(#REF!,\"\"))","v":"Trimestre 1\n"},{"$f":"_xlfn.CONCAT(\"Trimestre 1\",CHAR(10),IFERROR(#REF!,\"\"))","v":"Trimestre 1\n"},{"$f":"_xlfn.CONCAT(\"Trimestre 1\",CHAR(10),IFERROR(#REF!,\"\"))","v":"Trimestre 1\n"},{"$f":"_xlfn.CONCAT(\"Trimestre 1\",CHAR(10),IFERROR(#REF!,\"\"))","v":"Trimestre 1\n"}]
[null,null,"3. Fortalecer las capacidades institucionales, adecuar el modelo operativo y de servicio, bajo un enfoque de Arquitectura Empresarial y de fortalecimiento del acceso a la justicia.","Implementación del programa de gestión del cambio y las comunicaciones del PETD","# de actividades del objetivo \"aumentar el conocimient o digital y el uso de apropiación de los sistemas\" del programa de gestión del cambio y las comunicaci ones del PETD cumplidas /# de actividades del objetivo \"aumentar el conocimient o digital y el uso de apropiación de los sistemas\" del programa de gestión del cambio y las comunicaci ones del PETD programada s",null,null,null,null,null,null,null,null,null,null,null,null,null,null,null,null,null,null,null,null,{"$f":"IFERROR(#REF!,\" \")","v":" "},{"$f":"IFERROR(#REF!,\"\")","v":""},{"$f":"IFERROR(#REF!,\"\")","v":""},"","",{"$f":"IFERROR(#REF!,\"\")","v":""},"",{"$f":"IFERROR(#REF!,\"\")","v":""},{"$f":"IFERROR(#REF!,\"\")","v":""},{"$f":"_xlfn.CONCAT(\"Trimestre 1\",CHAR(10),IFERROR(#REF!,\"\"))","v":"Trimestre 1\n"},{"$f":"_xlfn.CONCAT(\"Trimestre 1\",CHAR(10),IFERROR(#REF!,\"\"))","v":"Trimestre 1\n"},{"$f":"_xlfn.CONCAT(\"Trimestre 1\",CHAR(10),IFERROR(#REF!,\"\"))","v":"Trimestre 1\n"},{"$f":"_xlfn.CONCAT(\"Trimestre 1\",CHAR(10),IFERROR(#REF!,\"\"))","v":"Trimestre 1\n"},{"$f":"_xlfn.CONCAT(\"Trimestre 1\",CHAR(10),IFERROR(#REF!,\"\"))","v":"Trimestre 1\n"}]
[null,null,null,null,null,null,null,null,null,null,null,null,null,null,null,null,null,null,null,null,null,null,null,null,null,{"$f":"IFERROR(#REF!,\" \")","v":" "},{"$f":"IFERROR(#REF!,\"\")","v":""},{"$f":"IFERROR(#REF!,\"\")","v":""},"","",{"$f":"IFERROR(#REF!,\"\")","v":""},"",{"$f":"IFERROR(#REF!,\"\")","v":""},{"$f":"IFERROR(#REF!,\"\")","v":""},{"$f":"_xlfn.CONCAT(\"Trimestre 1\",CHAR(10),IFERROR(#REF!,\"\"))","v":"Trimestre 1\n"},{"$f":"_xlfn.CONCAT(\"Trimestre 1\",CHAR(10),IFERROR(#REF!,\"\"))","v":"Trimestre 1\n"},{"$f":"_xlfn.CONCAT(\"Trimestre 1\",CHAR(10),IFERROR(#REF!,\"\"))","v":"Trimestre 1\n"},{"$f":"_xlfn.CONCAT(\"Trimestre 1\",CHAR(10),IFERROR(#REF!,\"\"))","v":"Trimestre 1\n"},{"$f":"_xlfn.CONCAT(\"Trimestre 1\",CHAR(10),IFERROR(#REF!,\"\"))","v":"Trimestre 1\n"}]
[null,null,null,null,null,null,null,null,null,null,null,null,null,null,null,null,null,null,null,null,null,null,null,null,null,{"$f":"IFERROR(#REF!,\" \")","v":" "},{"$f":"IFERROR(#REF!,\"\")","v":""},{"$f":"IFERROR(#REF!,\"\")","v":""},"","",{"$f":"IFERROR(#REF!,\"\")","v":""},"",{"$f":"IFERROR(#REF!,\"\")","v":""},{"$f":"IFERROR(#REF!,\"\")","v":""},{"$f":"_xlfn.CONCAT(\"Trimestre 1\",CHAR(10),IFERROR(#REF!,\"\"))","v":"Trimestre 1\n"},{"$f":"_xlfn.CONCAT(\"Trimestre 1\",CHAR(10),IFERROR(#REF!,\"\"))","v":"Trimestre 1\n"},{"$f":"_xlfn.CONCAT(\"Trimestre 1\",CHAR(10),IFERROR(#REF!,\"\"))","v":"Trimestre 1\n"},{"$f":"_xlfn.CONCAT(\"Trimestre 1\",CHAR(10),IFERROR(#REF!,\"\"))","v":"Trimestre 1\n"},{"$f":"_xlfn.CONCAT(\"Trimestre 1\",CHAR(10),IFERROR(#REF!,\"\"))","v":"Trimestre 1\n"}]
[null,null,null,null,null,null,null,null,null,null,null,null,null,null,null,null,null,null,null,null,null,null,null,null,null,{"$f":"IFERROR(#REF!,\" \")","v":" "},{"$f":"IFERROR(#REF!,\"\")","v":""},{"$f":"IFERROR(#REF!,\"\")","v":""},"","",{"$f":"IFERROR(#REF!,\"\")","v":""},"",{"$f":"IFERROR(#REF!,\"\")","v":""},{"$f":"IFERROR(#REF!,\"\")","v":""},{"$f":"_xlfn.CONCAT(\"Trimestre 1\",CHAR(10),IFERROR(#REF!,\"\"))","v":"Trimestre 1\n"},{"$f":"_xlfn.CONCAT(\"Trimestre 1\",CHAR(10),IFERROR(#REF!,\"\"))","v":"Trimestre 1\n"},{"$f":"_xlfn.CONCAT(\"Trimestre 1\",CHAR(10),IFERROR(#REF!,\"\"))","v":"Trimestre 1\n"},{"$f":"_xlfn.CONCAT(\"Trimestre 1\",CHAR(10),IFERROR(#REF!,\"\"))","v":"Trimestre 1\n"},{"$f":"_xlfn.CONCAT(\"Trimestre 1\",CHAR(10),IFERROR(#REF!,\"\"))","v":"Trimestre 1\n"}]
[null,null,null,null,null,null,null,null,null,null,null,null,null,null,null,null,null,null,null,null,null,null,null,null,null,{"$f":"IFERROR(#REF!,\" \")","v":" "},{"$f":"IFERROR(#REF!,\"\")","v":""},{"$f":"IFERROR(#REF!,\"\")","v":""},"","",{"$f":"IFERROR(#REF!,\"\")","v":""},"",{"$f":"IFERROR(#REF!,\"\")","v":""},{"$f":"IFERROR(#REF!,\"\")","v":""},{"$f":"_xlfn.CONCAT(\"Trimestre 1\",CHAR(10),IFERROR(#REF!,\"\"))","v":"Trimestre 1\n"},{"$f":"_xlfn.CONCAT(\"Trimestre 1\",CHAR(10),IFERROR(#REF!,\"\"))","v":"Trimestre 1\n"},{"$f":"_xlfn.CONCAT(\"Trimestre 1\",CHAR(10),IFERROR(#REF!,\"\"))","v":"Trimestre 1\n"},{"$f":"_xlfn.CONCAT(\"Trimestre 1\",CHAR(10),IFERROR(#REF!,\"\"))","v":"Trimestre 1\n"},{"$f":"_xlfn.CONCAT(\"Trimestre 1\",CHAR(10),IFERROR(#REF!,\"\"))","v":"Trimestre 1\n"}]
[null,null,null,null,null,null,null,null,null,null,null,null,null,null,null,null,null,null,null,null,null,null,null,null,null,{"$f":"IFERROR(#REF!,\" \")","v":" "},{"$f":"IFERROR(#REF!,\"\")","v":""},{"$f":"IFERROR(#REF!,\"\")","v":""},"","",{"$f":"IFERROR(#REF!,\"\")","v":""},"",{"$f":"IFERROR(#REF!,\"\")","v":""},{"$f":"IFERROR(#REF!,\"\")","v":""},{"$f":"_xlfn.CONCAT(\"Trimestre 1\",CHAR(10),IFERROR(#REF!,\"\"))","v":"Trimestre 1\n"},{"$f":"_xlfn.CONCAT(\"Trimestre 1\",CHAR(10),IFERROR(#REF!,\"\"))","v":"Trimestre 1\n"},{"$f":"_xlfn.CONCAT(\"Trimestre 1\",CHAR(10),IFERROR(#REF!,\"\"))","v":"Trimestre 1\n"},{"$f":"_xlfn.CONCAT(\"Trimestre 1\",CHAR(10),IFERROR(#REF!,\"\"))","v":"Trimestre 1\n"},{"$f":"_xlfn.CONCAT(\"Trimestre 1\",CHAR(10),IFERROR(#REF!,\"\"))","v":"Trimestre 1\n"}]
[null,null,null,null,null,null,null,null,null,null,null,null,null,null,null,null,null,null,null,null,null,null,null,null,null,{"$f":"IFERROR(#REF!,\" \")","v":" "},{"$f":"IFERROR(#REF!,\"\")","v":""},{"$f":"IFERROR(#REF!,\"\")","v":""},"","",{"$f":"IFERROR(#REF!,\"\")","v":""},"",{"$f":"IFERROR(#REF!,\"\")","v":""},{"$f":"IFERROR(#REF!,\"\")","v":""},{"$f":"_xlfn.CONCAT(\"Trimestre 1\",CHAR(10),IFERROR(#REF!,\"\"))","v":"Trimestre 1\n"},{"$f":"_xlfn.CONCAT(\"Trimestre 1\",CHAR(10),IFERROR(#REF!,\"\"))","v":"Trimestre 1\n"},{"$f":"_xlfn.CONCAT(\"Trimestre 1\",CHAR(10),IFERROR(#REF!,\"\"))","v":"Trimestre 1\n"},{"$f":"_xlfn.CONCAT(\"Trimestre 1\",CHAR(10),IFERROR(#REF!,\"\"))","v":"Trimestre 1\n"},{"$f":"_xlfn.CONCAT(\"Trimestre 1\",CHAR(10),IFERROR(#REF!,\"\"))","v":"Trimestre 1\n"}]
[null,null,null,null,null,null,null,null,null,null,null,null,null,null,null,null,null,null,null,null,null,null,null,null,null,{"$f":"IFERROR(#REF!,\" \")","v":" "},{"$f":"IFERROR(#REF!,\"\")","v":""},{"$f":"IFERROR(#REF!,\"\")","v":""},"","",{"$f":"IFERROR(#REF!,\"\")","v":""},"",{"$f":"IFERROR(#REF!,\"\")","v":""},{"$f":"IFERROR(#REF!,\"\")","v":""},{"$f":"_xlfn.CONCAT(\"Trimestre 1\",CHAR(10),IFERROR(#REF!,\"\"))","v":"Trimestre 1\n"},{"$f":"_xlfn.CONCAT(\"Trimestre 1\",CHAR(10),IFERROR(#REF!,\"\"))","v":"Trimestre 1\n"},{"$f":"_xlfn.CONCAT(\"Trimestre 1\",CHAR(10),IFERROR(#REF!,\"\"))","v":"Trimestre 1\n"},{"$f":"_xlfn.CONCAT(\"Trimestre 1\",CHAR(10),IFERROR(#REF!,\"\"))","v":"Trimestre 1\n"},{"$f":"_xlfn.CONCAT(\"Trimestre 1\",CHAR(10),IFERROR(#REF!,\"\"))","v":"Trimestre 1\n"}]
[null,null,null,null,null,null,null,null,null,null,null,null,null,null,null,null,null,null,null,null,null,null,null,null,null,{"$f":"IFERROR(#REF!,\" \")","v":" "},{"$f":"IFERROR(#REF!,\"\")","v":""},{"$f":"IFERROR(#REF!,\"\")","v":""},"","",{"$f":"IFERROR(#REF!,\"\")","v":""},"",{"$f":"IFERROR(#REF!,\"\")","v":""},{"$f":"IFERROR(#REF!,\"\")","v":""},{"$f":"_xlfn.CONCAT(\"Trimestre 1\",CHAR(10),IFERROR(#REF!,\"\"))","v":"Trimestre 1\n"},{"$f":"_xlfn.CONCAT(\"Trimestre 1\",CHAR(10),IFERROR(#REF!,\"\"))","v":"Trimestre 1\n"},{"$f":"_xlfn.CONCAT(\"Trimestre 1\",CHAR(10),IFERROR(#REF!,\"\"))","v":"Trimestre 1\n"},{"$f":"_xlfn.CONCAT(\"Trimestre 1\",CHAR(10),IFERROR(#REF!,\"\"))","v":"Trimestre 1\n"},{"$f":"_xlfn.CONCAT(\"Trimestre 1\",CHAR(10),IFERROR(#REF!,\"\"))","v":"Trimestre 1\n"}]
[null,null,null,null,null,null,null,null,null,null,null,null,null,null,null,null,null,null,null,null,null,null,null,null,null,{"$f":"IFERROR(#REF!,\" \")","v":" "},{"$f":"IFERROR(#REF!,\"\")","v":""},{"$f":"IFERROR(#REF!,\"\")","v":""},"","",{"$f":"IFERROR(#REF!,\"\")","v":""},"",{"$f":"IFERROR(#REF!,\"\")","v":""},{"$f":"IFERROR(#REF!,\"\")","v":""},{"$f":"_xlfn.CONCAT(\"Trimestre 1\",CHAR(10),IFERROR(#REF!,\"\"))","v":"Trimestre 1\n"},{"$f":"_xlfn.CONCAT(\"Trimestre 1\",CHAR(10),IFERROR(#REF!,\"\"))","v":"Trimestre 1\n"},{"$f":"_xlfn.CONCAT(\"Trimestre 1\",CHAR(10),IFERROR(#REF!,\"\"))","v":"Trimestre 1\n"},{"$f":"_xlfn.CONCAT(\"Trimestre 1\",CHAR(10),IFERROR(#REF!,\"\"))","v":"Trimestre 1\n"},{"$f":"_xlfn.CONCAT(\"Trimestre 1\",CHAR(10),IFERROR(#REF!,\"\"))","v":"Trimestre 1\n"}]
[null,null,"4.Consolidar la cultura y apropiación de la transformación digital en los servidores y usuarios de los servicios de la Rama Judicial y reducir brechas de acceso y conocimiento, incluyendo la oferta efectiva de información sobre el uso de las nuevas herramientas virtuales implementadas en las diferentes jurisdicciones, con especial énfasis en las zonas del país donde es evidente la brecha digital.","Cobertura de infraestructura y conectividad consolidada","# de sedes con infraestruct ura y conectivida d consolidada s/Número total de sedes",null,null,null,null,null,null,null,null,null,null,null,null,null,null,null,null,null,null,null,null,{"$f":"IFERROR(#REF!,\" \")","v":" "},{"$f":"IFERROR(#REF!,\"\")","v":""},{"$f":"IFERROR(#REF!,\"\")","v":""},"","",{"$f":"IFERROR(#REF!,\"\")","v":""},"",{"$f":"IFERROR(#REF!,\"\")","v":""},{"$f":"IFERROR(#REF!,\"\")","v":""},{"$f":"_xlfn.CONCAT(\"Trimestre 1\",CHAR(10),IFERROR(#REF!,\"\"))","v":"Trimestre 1\n"},{"$f":"_xlfn.CONCAT(\"Trimestre 1\",CHAR(10),IFERROR(#REF!,\"\"))","v":"Trimestre 1\n"},{"$f":"_xlfn.CONCAT(\"Trimestre 1\",CHAR(10),IFERROR(#REF!,\"\"))","v":"Trimestre 1\n"},{"$f":"_xlfn.CONCAT(\"Trimestre 1\",CHAR(10),IFERROR(#REF!,\"\"))","v":"Trimestre 1\n"},{"$f":"_xlfn.CONCAT(\"Trimestre 1\",CHAR(10),IFERROR(#REF!,\"\"))","v":"Trimestre 1\n"}]
[null,null,null,null,null,null,null,null,null,null,null,null,null,null,null,null,null,null,null,null,null,null,null,null,null,{"$f":"IFERROR(#REF!,\" \")","v":" "},{"$f":"IFERROR(#REF!,\"\")","v":""},{"$f":"IFERROR(#REF!,\"\")","v":""},"","",{"$f":"IFERROR(#REF!,\"\")","v":""},"",{"$f":"IFERROR(#REF!,\"\")","v":""},{"$f":"IFERROR(#REF!,\"\")","v":""},{"$f":"_xlfn.CONCAT(\"Trimestre 1\",CHAR(10),IFERROR(#REF!,\"\"))","v":"Trimestre 1\n"},{"$f":"_xlfn.CONCAT(\"Trimestre 1\",CHAR(10),IFERROR(#REF!,\"\"))","v":"Trimestre 1\n"},{"$f":"_xlfn.CONCAT(\"Trimestre 1\",CHAR(10),IFERROR(#REF!,\"\"))","v":"Trimestre 1\n"},{"$f":"_xlfn.CONCAT(\"Trimestre 1\",CHAR(10),IFERROR(#REF!,\"\"))","v":"Trimestre 1\n"},{"$f":"_xlfn.CONCAT(\"Trimestre 1\",CHAR(10),IFERROR(#REF!,\"\"))","v":"Trimestre 1\n"}]
[null,null,null,null,null,null,null,null,null,null,null,null,null,null,null,null,null,null,null,null,null,null,null,null,null,{"$f":"IFERROR(#REF!,\" \")","v":" "},{"$f":"IFERROR(#REF!,\"\")","v":""},{"$f":"IFERROR(#REF!,\"\")","v":""},"","",{"$f":"IFERROR(#REF!,\"\")","v":""},"",{"$f":"IFERROR(#REF!,\"\")","v":""},{"$f":"IFERROR(#REF!,\"\")","v":""},{"$f":"_xlfn.CONCAT(\"Trimestre 1\",CHAR(10),IFERROR(#REF!,\"\"))","v":"Trimestre 1\n"},{"$f":"_xlfn.CONCAT(\"Trimestre 1\",CHAR(10),IFERROR(#REF!,\"\"))","v":"Trimestre 1\n"},{"$f":"_xlfn.CONCAT(\"Trimestre 1\",CHAR(10),IFERROR(#REF!,\"\"))","v":"Trimestre 1\n"},{"$f":"_xlfn.CONCAT(\"Trimestre 1\",CHAR(10),IFERROR(#REF!,\"\"))","v":"Trimestre 1\n"},{"$f":"_xlfn.CONCAT(\"Trimestre 1\",CHAR(10),IFERROR(#REF!,\"\"))","v":"Trimestre 1\n"}]
[null,null,null,null,null,null,null,null,null,null,null,null,null,null,null,null,null,null,null,null,null,null,null,null,null,{"$f":"IFERROR(#REF!,\" \")","v":" "},{"$f":"IFERROR(#REF!,\"\")","v":""},{"$f":"IFERROR(#REF!,\"\")","v":""},"","",{"$f":"IFERROR(#REF!,\"\")","v":""},"",{"$f":"IFERROR(#REF!,\"\")","v":""},{"$f":"IFERROR(#REF!,\"\")","v":""},{"$f":"_xlfn.CONCAT(\"Trimestre 1\",CHAR(10),IFERROR(#REF!,\"\"))","v":"Trimestre 1\n"},{"$f":"_xlfn.CONCAT(\"Trimestre 1\",CHAR(10),IFERROR(#REF!,\"\"))","v":"Trimestre 1\n"},{"$f":"_xlfn.CONCAT(\"Trimestre 1\",CHAR(10),IFERROR(#REF!,\"\"))","v":"Trimestre 1\n"},{"$f":"_xlfn.CONCAT(\"Trimestre 1\",CHAR(10),IFERROR(#REF!,\"\"))","v":"Trimestre 1\n"},{"$f":"_xlfn.CONCAT(\"Trimestre 1\",CHAR(10),IFERROR(#REF!,\"\"))","v":"Trimestre 1\n"}]
[null,null,null,null,null,null,null,null,null,null,null,null,null,null,null,null,null,null,null,null,null,null,null,null,null,{"$f":"IFERROR(#REF!,\" \")","v":" "},{"$f":"IFERROR(#REF!,\"\")","v":""},{"$f":"IFERROR(#REF!,\"\")","v":""},"","",{"$f":"IFERROR(#REF!,\"\")","v":""},"",{"$f":"IFERROR(#REF!,\"\")","v":""},{"$f":"IFERROR(#REF!,\"\")","v":""},{"$f":"_xlfn.CONCAT(\"Trimestre 1\",CHAR(10),IFERROR(#REF!,\"\"))","v":"Trimestre 1\n"},{"$f":"_xlfn.CONCAT(\"Trimestre 1\",CHAR(10),IFERROR(#REF!,\"\"))","v":"Trimestre 1\n"},{"$f":"_xlfn.CONCAT(\"Trimestre 1\",CHAR(10),IFERROR(#REF!,\"\"))","v":"Trimestre 1\n"},{"$f":"_xlfn.CONCAT(\"Trimestre 1\",CHAR(10),IFERROR(#REF!,\"\"))","v":"Trimestre 1\n"},{"$f":"_xlfn.CONCAT(\"Trimestre 1\",CHAR(10),IFERROR(#REF!,\"\"))","v":"Trimestre 1\n"}]
[null,null,null,null,null,null,null,null,null,null,null,null,null,null,null,null,null,null,null,null,null,null,null,null,null,{"$f":"IFERROR(#REF!,\" \")","v":" "},{"$f":"IFERROR(#REF!,\"\")","v":""},{"$f":"IFERROR(#REF!,\"\")","v":""},"","",{"$f":"IFERROR(#REF!,\"\")","v":""},"",{"$f":"IFERROR(#REF!,\"\")","v":""},{"$f":"IFERROR(#REF!,\"\")","v":""},{"$f":"_xlfn.CONCAT(\"Trimestre 1\",CHAR(10),IFERROR(#REF!,\"\"))","v":"Trimestre 1\n"},{"$f":"_xlfn.CONCAT(\"Trimestre 1\",CHAR(10),IFERROR(#REF!,\"\"))","v":"Trimestre 1\n"},{"$f":"_xlfn.CONCAT(\"Trimestre 1\",CHAR(10),IFERROR(#REF!,\"\"))","v":"Trimestre 1\n"},{"$f":"_xlfn.CONCAT(\"Trimestre 1\",CHAR(10),IFERROR(#REF!,\"\"))","v":"Trimestre 1\n"},{"$f":"_xlfn.CONCAT(\"Trimestre 1\",CHAR(10),IFERROR(#REF!,\"\"))","v":"Trimestre 1\n"}]
[null,null,null,null,null,null,null,null,null,null,null,null,null,null,null,null,null,null,null,null,null,null,null,null,null,{"$f":"IFERROR(#REF!,\" \")","v":" "},{"$f":"IFERROR(#REF!,\"\")","v":""},{"$f":"IFERROR(#REF!,\"\")","v":""},"","",{"$f":"IFERROR(#REF!,\"\")","v":""},"",{"$f":"IFERROR(#REF!,\"\")","v":""},{"$f":"IFERROR(#REF!,\"\")","v":""},{"$f":"_xlfn.CONCAT(\"Trimestre 1\",CHAR(10),IFERROR(#REF!,\"\"))","v":"Trimestre 1\n"},{"$f":"_xlfn.CONCAT(\"Trimestre 1\",CHAR(10),IFERROR(#REF!,\"\"))","v":"Trimestre 1\n"},{"$f":"_xlfn.CONCAT(\"Trimestre 1\",CHAR(10),IFERROR(#REF!,\"\"))","v":"Trimestre 1\n"},{"$f":"_xlfn.CONCAT(\"Trimestre 1\",CHAR(10),IFERROR(#REF!,\"\"))","v":"Trimestre 1\n"},{"$f":"_xlfn.CONCAT(\"Trimestre 1\",CHAR(10),IFERROR(#REF!,\"\"))","v":"Trimestre 1\n"}]
[null,null,null,null,null,null,null,null,null,null,null,null,null,null,null,null,null,null,null,null,null,null,null,null,null,{"$f":"IFERROR(#REF!,\" \")","v":" "},{"$f":"IFERROR(#REF!,\"\")","v":""},{"$f":"IFERROR(#REF!,\"\")","v":""},"","",{"$f":"IFERROR(#REF!,\"\")","v":""},"",{"$f":"IFERROR(#REF!,\"\")","v":""},{"$f":"IFERROR(#REF!,\"\")","v":""},{"$f":"_xlfn.CONCAT(\"Trimestre 1\",CHAR(10),IFERROR(#REF!,\"\"))","v":"Trimestre 1\n"},{"$f":"_xlfn.CONCAT(\"Trimestre 1\",CHAR(10),IFERROR(#REF!,\"\"))","v":"Trimestre 1\n"},{"$f":"_xlfn.CONCAT(\"Trimestre 1\",CHAR(10),IFERROR(#REF!,\"\"))","v":"Trimestre 1\n"},{"$f":"_xlfn.CONCAT(\"Trimestre 1\",CHAR(10),IFERROR(#REF!,\"\"))","v":"Trimestre 1\n"},{"$f":"_xlfn.CONCAT(\"Trimestre 1\",CHAR(10),IFERROR(#REF!,\"\"))","v":"Trimestre 1\n"}]
[null,null,null,null,null,null,null,null,null,null,null,null,null,null,null,null,null,null,null,null,null,null,null,null,null,{"$f":"IFERROR(#REF!,\" \")","v":" "},{"$f":"IFERROR(#REF!,\"\")","v":""},{"$f":"IFERROR(#REF!,\"\")","v":""},"","",{"$f":"IFERROR(#REF!,\"\")","v":""},"",{"$f":"IFERROR(#REF!,\"\")","v":""},{"$f":"IFERROR(#REF!,\"\")","v":""},{"$f":"_xlfn.CONCAT(\"Trimestre 1\",CHAR(10),IFERROR(#REF!,\"\"))","v":"Trimestre 1\n"},{"$f":"_xlfn.CONCAT(\"Trimestre 1\",CHAR(10),IFERROR(#REF!,\"\"))","v":"Trimestre 1\n"},{"$f":"_xlfn.CONCAT(\"Trimestre 1\",CHAR(10),IFERROR(#REF!,\"\"))","v":"Trimestre 1\n"},{"$f":"_xlfn.CONCAT(\"Trimestre 1\",CHAR(10),IFERROR(#REF!,\"\"))","v":"Trimestre 1\n"},{"$f":"_xlfn.CONCAT(\"Trimestre 1\",CHAR(10),IFERROR(#REF!,\"\"))","v":"Trimestre 1\n"}]
[null,null,null,null,null,null,null,null,null,null,null,null,null,null,null,null,null,null,null,null,null,null,null,null,null,{"$f":"IFERROR(#REF!,\" \")","v":" "},{"$f":"IFERROR(#REF!,\"\")","v":""},{"$f":"IFERROR(#REF!,\"\")","v":""},"","",{"$f":"IFERROR(#REF!,\"\")","v":""},"",{"$f":"IFERROR(#REF!,\"\")","v":""},{"$f":"IFERROR(#REF!,\"\")","v":""},{"$f":"_xlfn.CONCAT(\"Trimestre 1\",CHAR(10),IFERROR(#REF!,\"\"))","v":"Trimestre 1\n"},{"$f":"_xlfn.CONCAT(\"Trimestre 1\",CHAR(10),IFERROR(#REF!,\"\"))","v":"Trimestre 1\n"},{"$f":"_xlfn.CONCAT(\"Trimestre 1\",CHAR(10),IFERROR(#REF!,\"\"))","v":"Trimestre 1\n"},{"$f":"_xlfn.CONCAT(\"Trimestre 1\",CHAR(10),IFERROR(#REF!,\"\"))","v":"Trimestre 1\n"},{"$f":"_xlfn.CONCAT(\"Trimestre 1\",CHAR(10),IFERROR(#REF!,\"\"))","v":"Trimestre 1\n"}]
[null,null,"5.Consolidar la infraestructura y los recursos necesarios para la implementación exitosa de la transformación digital, incluyendo la disposición de internet de calidad en el 100% de las sedes en la Rama Judicial y modernizar los servicios tecnológicos de soporte. ","Implementación del programa de gestión del cambio y las comunicaciones del PETD","# de actividades del objetivo \"aumentar el conocimient o digital y el uso de apropiación de los sistemas\" del programa de gestión del cambio y las comunicaci ones del PETD cumplidas /# de actividades del objetivo \"aumentar el conocimient o digital y el uso de apropiación de los sistemas\" del programa de gestión del cambio y las comunicaci ones del PETD programada s",null,null,null,null,null,null,null,null,null,null,null,null,null,null,null,null,null,null,null,null,{"$f":"IFERROR(#REF!,\" \")","v":" "},{"$f":"IFERROR(#REF!,\"\")","v":""},{"$f":"IFERROR(#REF!,\"\")","v":""},"","",{"$f":"IFERROR(#REF!,\"\")","v":""},"",{"$f":"IFERROR(#REF!,\"\")","v":""},{"$f":"IFERROR(#REF!,\"\")","v":""},{"$f":"_xlfn.CONCAT(\"Trimestre 1\",CHAR(10),IFERROR(#REF!,\"\"))","v":"Trimestre 1\n"},{"$f":"_xlfn.CONCAT(\"Trimestre 1\",CHAR(10),IFERROR(#REF!,\"\"))","v":"Trimestre 1\n"},{"$f":"_xlfn.CONCAT(\"Trimestre 1\",CHAR(10),IFERROR(#REF!,\"\"))","v":"Trimestre 1\n"},{"$f":"_xlfn.CONCAT(\"Trimestre 1\",CHAR(10),IFERROR(#REF!,\"\"))","v":"Trimestre 1\n"},{"$f":"_xlfn.CONCAT(\"Trimestre 1\",CHAR(10),IFERROR(#REF!,\"\"))","v":"Trimestre 1\n"}]
[null,null,null,null,null,null,null,null,null,null,null,null,null,null,null,null,null,null,null,null,null,null,null,null,null,{"$f":"IFERROR(#REF!,\" \")","v":" "},{"$f":"IFERROR(#REF!,\"\")","v":""},{"$f":"IFERROR(#REF!,\"\")","v":""},"","",{"$f":"IFERROR(#REF!,\"\")","v":""},"",{"$f":"IFERROR(#REF!,\"\")","v":""},{"$f":"IFERROR(#REF!,\"\")","v":""},{"$f":"_xlfn.CONCAT(\"Trimestre 1\",CHAR(10),IFERROR(#REF!,\"\"))","v":"Trimestre 1\n"},{"$f":"_xlfn.CONCAT(\"Trimestre 1\",CHAR(10),IFERROR(#REF!,\"\"))","v":"Trimestre 1\n"},{"$f":"_xlfn.CONCAT(\"Trimestre 1\",CHAR(10),IFERROR(#REF!,\"\"))","v":"Trimestre 1\n"},{"$f":"_xlfn.CONCAT(\"Trimestre 1\",CHAR(10),IFERROR(#REF!,\"\"))","v":"Trimestre 1\n"},{"$f":"_xlfn.CONCAT(\"Trimestre 1\",CHAR(10),IFERROR(#REF!,\"\"))","v":"Trimestre 1\n"}]
[null,null,null,null,null,null,null,null,null,null,null,null,null,null,null,null,null,null,null,null,null,null,null,null,null,{"$f":"IFERROR(#REF!,\" \")","v":" "},{"$f":"IFERROR(#REF!,\"\")","v":""},{"$f":"IFERROR(#REF!,\"\")","v":""},"","",{"$f":"IFERROR(#REF!,\"\")","v":""},"",{"$f":"IFERROR(#REF!,\"\")","v":""},{"$f":"IFERROR(#REF!,\"\")","v":""},{"$f":"_xlfn.CONCAT(\"Trimestre 1\",CHAR(10),IFERROR(#REF!,\"\"))","v":"Trimestre 1\n"},{"$f":"_xlfn.CONCAT(\"Trimestre 1\",CHAR(10),IFERROR(#REF!,\"\"))","v":"Trimestre 1\n"},{"$f":"_xlfn.CONCAT(\"Trimestre 1\",CHAR(10),IFERROR(#REF!,\"\"))","v":"Trimestre 1\n"},{"$f":"_xlfn.CONCAT(\"Trimestre 1\",CHAR(10),IFERROR(#REF!,\"\"))","v":"Trimestre 1\n"},{"$f":"_xlfn.CONCAT(\"Trimestre 1\",CHAR(10),IFERROR(#REF!,\"\"))","v":"Trimestre 1\n"}]
[null,null,null,null,null,null,null,null,null,null,null,null,null,null,null,null,null,null,null,null,null,null,null,null,null,{"$f":"IFERROR(#REF!,\" \")","v":" "},{"$f":"IFERROR(#REF!,\"\")","v":""},{"$f":"IFERROR(#REF!,\"\")","v":""},"","",{"$f":"IFERROR(#REF!,\"\")","v":""},"",{"$f":"IFERROR(#REF!,\"\")","v":""},{"$f":"IFERROR(#REF!,\"\")","v":""},{"$f":"_xlfn.CONCAT(\"Trimestre 1\",CHAR(10),IFERROR(#REF!,\"\"))","v":"Trimestre 1\n"},{"$f":"_xlfn.CONCAT(\"Trimestre 1\",CHAR(10),IFERROR(#REF!,\"\"))","v":"Trimestre 1\n"},{"$f":"_xlfn.CONCAT(\"Trimestre 1\",CHAR(10),IFERROR(#REF!,\"\"))","v":"Trimestre 1\n"},{"$f":"_xlfn.CONCAT(\"Trimestre 1\",CHAR(10),IFERROR(#REF!,\"\"))","v":"Trimestre 1\n"},{"$f":"_xlfn.CONCAT(\"Trimestre 1\",CHAR(10),IFERROR(#REF!,\"\"))","v":"Trimestre 1\n"}]
[null,null,null,null,null,null,null,null,null,null,null,null,null,null,null,null,null,null,null,null,null,null,null,null,null,{"$f":"IFERROR(#REF!,\" \")","v":" "},{"$f":"IFERROR(#REF!,\"\")","v":""},{"$f":"IFERROR(#REF!,\"\")","v":""},"","",{"$f":"IFERROR(#REF!,\"\")","v":""},"",{"$f":"IFERROR(#REF!,\"\")","v":""},{"$f":"IFERROR(#REF!,\"\")","v":""},{"$f":"_xlfn.CONCAT(\"Trimestre 1\",CHAR(10),IFERROR(#REF!,\"\"))","v":"Trimestre 1\n"},{"$f":"_xlfn.CONCAT(\"Trimestre 1\",CHAR(10),IFERROR(#REF!,\"\"))","v":"Trimestre 1\n"},{"$f":"_xlfn.CONCAT(\"Trimestre 1\",CHAR(10),IFERROR(#REF!,\"\"))","v":"Trimestre 1\n"},{"$f":"_xlfn.CONCAT(\"Trimestre 1\",CHAR(10),IFERROR(#REF!,\"\"))","v":"Trimestre 1\n"},{"$f":"_xlfn.CONCAT(\"Trimestre 1\",CHAR(10),IFERROR(#REF!,\"\"))","v":"Trimestre 1\n"}]
[null,null,null,null,null,null,null,null,null,null,null,null,null,null,null,null,null,null,null,null,null,null,null,null,null,{"$f":"IFERROR(#REF!,\" \")","v":" "},{"$f":"IFERROR(#REF!,\"\")","v":""},{"$f":"IFERROR(#REF!,\"\")","v":""},"","",{"$f":"IFERROR(#REF!,\"\")","v":""},"",{"$f":"IFERROR(#REF!,\"\")","v":""},{"$f":"IFERROR(#REF!,\"\")","v":""},{"$f":"_xlfn.CONCAT(\"Trimestre 1\",CHAR(10),IFERROR(#REF!,\"\"))","v":"Trimestre 1\n"},{"$f":"_xlfn.CONCAT(\"Trimestre 1\",CHAR(10),IFERROR(#REF!,\"\"))","v":"Trimestre 1\n"},{"$f":"_xlfn.CONCAT(\"Trimestre 1\",CHAR(10),IFERROR(#REF!,\"\"))","v":"Trimestre 1\n"},{"$f":"_xlfn.CONCAT(\"Trimestre 1\",CHAR(10),IFERROR(#REF!,\"\"))","v":"Trimestre 1\n"},{"$f":"_xlfn.CONCAT(\"Trimestre 1\",CHAR(10),IFERROR(#REF!,\"\"))","v":"Trimestre 1\n"}]
[null,null,null,null,null,null,null,null,null,null,null,null,null,null,null,null,null,null,null,null,null,null,null,null,null,{"$f":"IFERROR(#REF!,\" \")","v":" "},{"$f":"IFERROR(#REF!,\"\")","v":""},{"$f":"IFERROR(#REF!,\"\")","v":""},"","",{"$f":"IFERROR(#REF!,\"\")","v":""},"",{"$f":"IFERROR(#REF!,\"\")","v":""},{"$f":"IFERROR(#REF!,\"\")","v":""},{"$f":"_xlfn.CONCAT(\"Trimestre 1\",CHAR(10),IFERROR(#REF!,\"\"))","v":"Trimestre 1\n"},{"$f":"_xlfn.CONCAT(\"Trimestre 1\",CHAR(10),IFERROR(#REF!,\"\"))","v":"Trimestre 1\n"},{"$f":"_xlfn.CONCAT(\"Trimestre 1\",CHAR(10),IFERROR(#REF!,\"\"))","v":"Trimestre 1\n"},{"$f":"_xlfn.CONCAT(\"Trimestre 1\",CHAR(10),IFERROR(#REF!,\"\"))","v":"Trimestre 1\n"},{"$f":"_xlfn.CONCAT(\"Trimestre 1\",CHAR(10),IFERROR(#REF!,\"\"))","v":"Trimestre 1\n"}]
[null,null,null,null,null,null,null,null,null,null,null,null,null,null,null,null,null,null,null,null,null,null,null,null,null,{"$f":"IFERROR(#REF!,\" \")","v":" "},{"$f":"IFERROR(#REF!,\"\")","v":""},{"$f":"IFERROR(#REF!,\"\")","v":""},"","",{"$f":"IFERROR(#REF!,\"\")","v":""},"",{"$f":"IFERROR(#REF!,\"\")","v":""},{"$f":"IFERROR(#REF!,\"\")","v":""},{"$f":"_xlfn.CONCAT(\"Trimestre 1\",CHAR(10),IFERROR(#REF!,\"\"))","v":"Trimestre 1\n"},{"$f":"_xlfn.CONCAT(\"Trimestre 1\",CHAR(10),IFERROR(#REF!,\"\"))","v":"Trimestre 1\n"},{"$f":"_xlfn.CONCAT(\"Trimestre 1\",CHAR(10),IFERROR(#REF!,\"\"))","v":"Trimestre 1\n"},{"$f":"_xlfn.CONCAT(\"Trimestre 1\",CHAR(10),IFERROR(#REF!,\"\"))","v":"Trimestre 1\n"},{"$f":"_xlfn.CONCAT(\"Trimestre 1\",CHAR(10),IFERROR(#REF!,\"\"))","v":"Trimestre 1\n"}]
[null,null,null,null,null,null,null,null,null,null,null,null,null,null,null,null,null,null,null,null,null,null,null,null,null,{"$f":"IFERROR(#REF!,\" \")","v":" "},{"$f":"IFERROR(#REF!,\"\")","v":""},{"$f":"IFERROR(#REF!,\"\")","v":""},"","",{"$f":"IFERROR(#REF!,\"\")","v":""},"",{"$f":"IFERROR(#REF!,\"\")","v":""},{"$f":"IFERROR(#REF!,\"\")","v":""},{"$f":"_xlfn.CONCAT(\"Trimestre 1\",CHAR(10),IFERROR(#REF!,\"\"))","v":"Trimestre 1\n"},{"$f":"_xlfn.CONCAT(\"Trimestre 1\",CHAR(10),IFERROR(#REF!,\"\"))","v":"Trimestre 1\n"},{"$f":"_xlfn.CONCAT(\"Trimestre 1\",CHAR(10),IFERROR(#REF!,\"\"))","v":"Trimestre 1\n"},{"$f":"_xlfn.CONCAT(\"Trimestre 1\",CHAR(10),IFERROR(#REF!,\"\"))","v":"Trimestre 1\n"},{"$f":"_xlfn.CONCAT(\"Trimestre 1\",CHAR(10),IFERROR(#REF!,\"\"))","v":"Trimestre 1\n"}]
[null,null,null,null,null,null,null,null,null,null,null,null,null,null,null,null,null,null,null,null,null,null,null,null,null,{"$f":"IFERROR(#REF!,\" \")","v":" "},{"$f":"IFERROR(#REF!,\"\")","v":""},{"$f":"IFERROR(#REF!,\"\")","v":""},"","",{"$f":"IFERROR(#REF!,\"\")","v":""},"",{"$f":"IFERROR(#REF!,\"\")","v":""},{"$f":"IFERROR(#REF!,\"\")","v":""},{"$f":"_xlfn.CONCAT(\"Trimestre 1\",CHAR(10),IFERROR(#REF!,\"\"))","v":"Trimestre 1\n"},{"$f":"_xlfn.CONCAT(\"Trimestre 1\",CHAR(10),IFERROR(#REF!,\"\"))","v":"Trimestre 1\n"},{"$f":"_xlfn.CONCAT(\"Trimestre 1\",CHAR(10),IFERROR(#REF!,\"\"))","v":"Trimestre 1\n"},{"$f":"_xlfn.CONCAT(\"Trimestre 1\",CHAR(10),IFERROR(#REF!,\"\"))","v":"Trimestre 1\n"},{"$f":"_xlfn.CONCAT(\"Trimestre 1\",CHAR(10),IFERROR(#REF!,\"\"))","v":"Trimestre 1\n"}]
[null,null,"6.Integrar y optimizar los servicios administrativos de la Rama Judicial bajo un enfoque de transformación digital e innovación incluyendo los componentes financiero, administrativo, talento humano, entre otros.",null,null,null,null,null,null,null,null,null,null,null,null,null,null,null,null,null,null,null,null,null,null,{"$f":"IFERROR(#REF!,\" \")","v":" "},{"$f":"IFERROR(#REF!,\"\")","v":""},{"$f":"IFERROR(#REF!,\"\")","v":""},"","",{"$f":"IFERROR(#REF!,\"\")","v":""},"",{"$f":"IFERROR(#REF!,\"\")","v":""},{"$f":"IFERROR(#REF!,\"\")","v":""},{"$f":"_xlfn.CONCAT(\"Trimestre 1\",CHAR(10),IFERROR(#REF!,\"\"))","v":"Trimestre 1\n"},{"$f":"_xlfn.CONCAT(\"Trimestre 1\",CHAR(10),IFERROR(#REF!,\"\"))","v":"Trimestre 1\n"},{"$f":"_xlfn.CONCAT(\"Trimestre 1\",CHAR(10),IFERROR(#REF!,\"\"))","v":"Trimestre 1\n"},{"$f":"_xlfn.CONCAT(\"Trimestre 1\",CHAR(10),IFERROR(#REF!,\"\"))","v":"Trimestre 1\n"},{"$f":"_xlfn.CONCAT(\"Trimestre 1\",CHAR(10),IFERROR(#REF!,\"\"))","v":"Trimestre 1\n"}]
[null,null,null,null,null,null,null,null,null,null,null,null,null,null,null,null,null,null,null,null,null,null,null,null,null,{"$f":"IFERROR(#REF!,\" \")","v":" "},{"$f":"IFERROR(#REF!,\"\")","v":""},{"$f":"IFERROR(#REF!,\"\")","v":""},"","",{"$f":"IFERROR(#REF!,\"\")","v":""},"",{"$f":"IFERROR(#REF!,\"\")","v":""},{"$f":"IFERROR(#REF!,\"\")","v":""},{"$f":"_xlfn.CONCAT(\"Trimestre 1\",CHAR(10),IFERROR(#REF!,\"\"))","v":"Trimestre 1\n"},{"$f":"_xlfn.CONCAT(\"Trimestre 1\",CHAR(10),IFERROR(#REF!,\"\"))","v":"Trimestre 1\n"},{"$f":"_xlfn.CONCAT(\"Trimestre 1\",CHAR(10),IFERROR(#REF!,\"\"))","v":"Trimestre 1\n"},{"$f":"_xlfn.CONCAT(\"Trimestre 1\",CHAR(10),IFERROR(#REF!,\"\"))","v":"Trimestre 1\n"},{"$f":"_xlfn.CONCAT(\"Trimestre 1\",CHAR(10),IFERROR(#REF!,\"\"))","v":"Trimestre 1\n"}]
[null,null,null,null,null,null,null,null,null,null,null,null,null,null,null,null,null,null,null,null,null,null,null,null,null,{"$f":"IFERROR(#REF!,\" \")","v":" "},{"$f":"IFERROR(#REF!,\"\")","v":""},{"$f":"IFERROR(#REF!,\"\")","v":""},"","",{"$f":"IFERROR(#REF!,\"\")","v":""},"",{"$f":"IFERROR(#REF!,\"\")","v":""},{"$f":"IFERROR(#REF!,\"\")","v":""},{"$f":"_xlfn.CONCAT(\"Trimestre 1\",CHAR(10),IFERROR(#REF!,\"\"))","v":"Trimestre 1\n"},{"$f":"_xlfn.CONCAT(\"Trimestre 1\",CHAR(10),IFERROR(#REF!,\"\"))","v":"Trimestre 1\n"},{"$f":"_xlfn.CONCAT(\"Trimestre 1\",CHAR(10),IFERROR(#REF!,\"\"))","v":"Trimestre 1\n"},{"$f":"_xlfn.CONCAT(\"Trimestre 1\",CHAR(10),IFERROR(#REF!,\"\"))","v":"Trimestre 1\n"},{"$f":"_xlfn.CONCAT(\"Trimestre 1\",CHAR(10),IFERROR(#REF!,\"\"))","v":"Trimestre 1\n"}]
[null,null,null,null,null,null,null,null,null,null,null,null,null,null,null,null,null,null,null,null,null,null,null,null,null,{"$f":"IFERROR(#REF!,\" \")","v":" "},{"$f":"IFERROR(#REF!,\"\")","v":""},{"$f":"IFERROR(#REF!,\"\")","v":""},"","",{"$f":"IFERROR(#REF!,\"\")","v":""},"",{"$f":"IFERROR(#REF!,\"\")","v":""},{"$f":"IFERROR(#REF!,\"\")","v":""},{"$f":"_xlfn.CONCAT(\"Trimestre 1\",CHAR(10),IFERROR(#REF!,\"\"))","v":"Trimestre 1\n"},{"$f":"_xlfn.CONCAT(\"Trimestre 1\",CHAR(10),IFERROR(#REF!,\"\"))","v":"Trimestre 1\n"},{"$f":"_xlfn.CONCAT(\"Trimestre 1\",CHAR(10),IFERROR(#REF!,\"\"))","v":"Trimestre 1\n"},{"$f":"_xlfn.CONCAT(\"Trimestre 1\",CHAR(10),IFERROR(#REF!,\"\"))","v":"Trimestre 1\n"},{"$f":"_xlfn.CONCAT(\"Trimestre 1\",CHAR(10),IFERROR(#REF!,\"\"))","v":"Trimestre 1\n"}]
[null,null,null,null,null,null,null,null,null,null,null,null,null,null,null,null,null,null,null,null,null,null,null,null,null,{"$f":"IFERROR(#REF!,\" \")","v":" "},{"$f":"IFERROR(#REF!,\"\")","v":""},{"$f":"IFERROR(#REF!,\"\")","v":""},"","",{"$f":"IFERROR(#REF!,\"\")","v":""},"",{"$f":"IFERROR(#REF!,\"\")","v":""},{"$f":"IFERROR(#REF!,\"\")","v":""},{"$f":"_xlfn.CONCAT(\"Trimestre 1\",CHAR(10),IFERROR(#REF!,\"\"))","v":"Trimestre 1\n"},{"$f":"_xlfn.CONCAT(\"Trimestre 1\",CHAR(10),IFERROR(#REF!,\"\"))","v":"Trimestre 1\n"},{"$f":"_xlfn.CONCAT(\"Trimestre 1\",CHAR(10),IFERROR(#REF!,\"\"))","v":"Trimestre 1\n"},{"$f":"_xlfn.CONCAT(\"Trimestre 1\",CHAR(10),IFERROR(#REF!,\"\"))","v":"Trimestre 1\n"},{"$f":"_xlfn.CONCAT(\"Trimestre 1\",CHAR(10),IFERROR(#REF!,\"\"))","v":"Trimestre 1\n"}]
[null,null,null,null,null,null,null,null,null,null,null,null,null,null,null,null,null,null,null,null,null,null,null,null,null,{"$f":"IFERROR(#REF!,\" \")","v":" "},{"$f":"IFERROR(#REF!,\"\")","v":""},{"$f":"IFERROR(#REF!,\"\")","v":""},"","",{"$f":"IFERROR(#REF!,\"\")","v":""},"",{"$f":"IFERROR(#REF!,\"\")","v":""},{"$f":"IFERROR(#REF!,\"\")","v":""},{"$f":"_xlfn.CONCAT(\"Trimestre 1\",CHAR(10),IFERROR(#REF!,\"\"))","v":"Trimestre 1\n"},{"$f":"_xlfn.CONCAT(\"Trimestre 1\",CHAR(10),IFERROR(#REF!,\"\"))","v":"Trimestre 1\n"},{"$f":"_xlfn.CONCAT(\"Trimestre 1\",CHAR(10),IFERROR(#REF!,\"\"))","v":"Trimestre 1\n"},{"$f":"_xlfn.CONCAT(\"Trimestre 1\",CHAR(10),IFERROR(#REF!,\"\"))","v":"Trimestre 1\n"},{"$f":"_xlfn.CONCAT(\"Trimestre 1\",CHAR(10),IFERROR(#REF!,\"\"))","v":"Trimestre 1\n"}]
[null,null,null,null,null,null,null,null,null,null,null,null,null,null,null,null,null,null,null,null,null,null,null,null,null,{"$f":"IFERROR(#REF!,\" \")","v":" "},{"$f":"IFERROR(#REF!,\"\")","v":""},{"$f":"IFERROR(#REF!,\"\")","v":""},"","",{"$f":"IFERROR(#REF!,\"\")","v":""},"",{"$f":"IFERROR(#REF!,\"\")","v":""},{"$f":"IFERROR(#REF!,\"\")","v":""},{"$f":"_xlfn.CONCAT(\"Trimestre 1\",CHAR(10),IFERROR(#REF!,\"\"))","v":"Trimestre 1\n"},{"$f":"_xlfn.CONCAT(\"Trimestre 1\",CHAR(10),IFERROR(#REF!,\"\"))","v":"Trimestre 1\n"},{"$f":"_xlfn.CONCAT(\"Trimestre 1\",CHAR(10),IFERROR(#REF!,\"\"))","v":"Trimestre 1\n"},{"$f":"_xlfn.CONCAT(\"Trimestre 1\",CHAR(10),IFERROR(#REF!,\"\"))","v":"Trimestre 1\n"},{"$f":"_xlfn.CONCAT(\"Trimestre 1\",CHAR(10),IFERROR(#REF!,\"\"))","v":"Trimestre 1\n"}]
[null,null,null,null,null,null,null,null,null,null,null,null,null,null,null,null,null,null,null,null,null,null,null,null,null,{"$f":"IFERROR(#REF!,\" \")","v":" "},{"$f":"IFERROR(#REF!,\"\")","v":""},{"$f":"IFERROR(#REF!,\"\")","v":""},"","",{"$f":"IFERROR(#REF!,\"\")","v":""},"",{"$f":"IFERROR(#REF!,\"\")","v":""},{"$f":"IFERROR(#REF!,\"\")","v":""},{"$f":"_xlfn.CONCAT(\"Trimestre 1\",CHAR(10),IFERROR(#REF!,\"\"))","v":"Trimestre 1\n"},{"$f":"_xlfn.CONCAT(\"Trimestre 1\",CHAR(10),IFERROR(#REF!,\"\"))","v":"Trimestre 1\n"},{"$f":"_xlfn.CONCAT(\"Trimestre 1\",CHAR(10),IFERROR(#REF!,\"\"))","v":"Trimestre 1\n"},{"$f":"_xlfn.CONCAT(\"Trimestre 1\",CHAR(10),IFERROR(#REF!,\"\"))","v":"Trimestre 1\n"},{"$f":"_xlfn.CONCAT(\"Trimestre 1\",CHAR(10),IFERROR(#REF!,\"\"))","v":"Trimestre 1\n"}]
[null,null,null,null,null,null,null,null,null,null,null,null,null,null,null,null,null,null,null,null,null,null,null,null,null,{"$f":"IFERROR(#REF!,\" \")","v":" "},{"$f":"IFERROR(#REF!,\"\")","v":""},{"$f":"IFERROR(#REF!,\"\")","v":""},"","",{"$f":"IFERROR(#REF!,\"\")","v":""},"",{"$f":"IFERROR(#REF!,\"\")","v":""},{"$f":"IFERROR(#REF!,\"\")","v":""},{"$f":"_xlfn.CONCAT(\"Trimestre 1\",CHAR(10),IFERROR(#REF!,\"\"))","v":"Trimestre 1\n"},{"$f":"_xlfn.CONCAT(\"Trimestre 1\",CHAR(10),IFERROR(#REF!,\"\"))","v":"Trimestre 1\n"},{"$f":"_xlfn.CONCAT(\"Trimestre 1\",CHAR(10),IFERROR(#REF!,\"\"))","v":"Trimestre 1\n"},{"$f":"_xlfn.CONCAT(\"Trimestre 1\",CHAR(10),IFERROR(#REF!,\"\"))","v":"Trimestre 1\n"},{"$f":"_xlfn.CONCAT(\"Trimestre 1\",CHAR(10),IFERROR(#REF!,\"\"))","v":"Trimestre 1\n"}]
[null,null,null,null,null,null,null,null,null,null,null,null,null,null,null,null,null,null,null,null,null,null,null,null,null,{"$f":"IFERROR(#REF!,\" \")","v":" "},{"$f":"IFERROR(#REF!,\"\")","v":""},{"$f":"IFERROR(#REF!,\"\")","v":""},"","",{"$f":"IFERROR(#REF!,\"\")","v":""},"",{"$f":"IFERROR(#REF!,\"\")","v":""},{"$f":"IFERROR(#REF!,\"\")","v":""},{"$f":"_xlfn.CONCAT(\"Trimestre 1\",CHAR(10),IFERROR(#REF!,\"\"))","v":"Trimestre 1\n"},{"$f":"_xlfn.CONCAT(\"Trimestre 1\",CHAR(10),IFERROR(#REF!,\"\"))","v":"Trimestre 1\n"},{"$f":"_xlfn.CONCAT(\"Trimestre 1\",CHAR(10),IFERROR(#REF!,\"\"))","v":"Trimestre 1\n"},{"$f":"_xlfn.CONCAT(\"Trimestre 1\",CHAR(10),IFERROR(#REF!,\"\"))","v":"Trimestre 1\n"},{"$f":"_xlfn.CONCAT(\"Trimestre 1\",CHAR(10),IFERROR(#REF!,\"\"))","v":"Trimestre 1\n"}]
["3. Confianza pública, transparencia y rendición de cuentas","Confianza pública, transparencia y rendición de cuentas: Aumentar la confianza pública en la justicia a través de la transparencia, la rendición de cuentas y la participación, incluyendo la información de justicia y la producción, gestión y acceso a las fuentes de derecho, el fortalecimiento del sistema de gestión de calidad y medio ambiente (SIGCMA) y el mejoramiento de la calidad y publicidad de la información. ","1. Incrementar la cantidad, la calidad y pertinencia de los datos sobre el funcionamiento del servicio de justicia bajo un modelo de gobierno de datos y un liderazgo unificado. ","Modelo de\ngobierno y calidad de datos implementado","% de implementa ción del modelo de gobierno y calidad de datos","4. Hacer un uso racional de los recursos naturales aplicando los principios y fases de la Economía Circular, para prevenir, mitigar y controlar los impactos ambientales.",null,null,null,null,null,null,null,null,null,null,null,null,null,null,null,null,null,null,null,{"$f":"IFERROR(#REF!,\" \")","v":" "},{"$f":"IFERROR(#REF!,\"\")","v":""},{"$f":"IFERROR(#REF!,\"\")","v":""},"","",{"$f":"IFERROR(#REF!,\"\")","v":""},"",{"$f":"IFERROR(#REF!,\"\")","v":""},{"$f":"IFERROR(#REF!,\"\")","v":""},{"$f":"_xlfn.CONCAT(\"Trimestre 1\",CHAR(10),IFERROR(#REF!,\"\"))","v":"Trimestre 1\n"},{"$f":"_xlfn.CONCAT(\"Trimestre 1\",CHAR(10),IFERROR(#REF!,\"\"))","v":"Trimestre 1\n"},{"$f":"_xlfn.CONCAT(\"Trimestre 1\",CHAR(10),IFERROR(#REF!,\"\"))","v":"Trimestre 1\n"},{"$f":"_xlfn.CONCAT(\"Trimestre 1\",CHAR(10),IFERROR(#REF!,\"\"))","v":"Trimestre 1\n"},{"$f":"_xlfn.CONCAT(\"Trimestre 1\",CHAR(10),IFERROR(#REF!,\"\"))","v":"Trimestre 1\n"}]
[null,null,null,null,null,null,null,null,null,null,null,null,null,null,null,null,null,null,null,null,null,null,null,null,null,{"$f":"IFERROR(#REF!,\" \")","v":" "},{"$f":"IFERROR(#REF!,\"\")","v":""},{"$f":"IFERROR(#REF!,\"\")","v":""},"","",{"$f":"IFERROR(#REF!,\"\")","v":""},"",{"$f":"IFERROR(#REF!,\"\")","v":""},{"$f":"IFERROR(#REF!,\"\")","v":""},{"$f":"_xlfn.CONCAT(\"Trimestre 1\",CHAR(10),IFERROR(#REF!,\"\"))","v":"Trimestre 1\n"},{"$f":"_xlfn.CONCAT(\"Trimestre 1\",CHAR(10),IFERROR(#REF!,\"\"))","v":"Trimestre 1\n"},{"$f":"_xlfn.CONCAT(\"Trimestre 1\",CHAR(10),IFERROR(#REF!,\"\"))","v":"Trimestre 1\n"},{"$f":"_xlfn.CONCAT(\"Trimestre 1\",CHAR(10),IFERROR(#REF!,\"\"))","v":"Trimestre 1\n"},{"$f":"_xlfn.CONCAT(\"Trimestre 1\",CHAR(10),IFERROR(#REF!,\"\"))","v":"Trimestre 1\n"}]
[null,null,null,null,null,null,null,null,null,null,null,null,null,null,null,null,null,null,null,null,null,null,null,null,null,{"$f":"IFERROR(#REF!,\" \")","v":" "},{"$f":"IFERROR(#REF!,\"\")","v":""},{"$f":"IFERROR(#REF!,\"\")","v":""},"","",{"$f":"IFERROR(#REF!,\"\")","v":""},"",{"$f":"IFERROR(#REF!,\"\")","v":""},{"$f":"IFERROR(#REF!,\"\")","v":""},{"$f":"_xlfn.CONCAT(\"Trimestre 1\",CHAR(10),IFERROR(#REF!,\"\"))","v":"Trimestre 1\n"},{"$f":"_xlfn.CONCAT(\"Trimestre 1\",CHAR(10),IFERROR(#REF!,\"\"))","v":"Trimestre 1\n"},{"$f":"_xlfn.CONCAT(\"Trimestre 1\",CHAR(10),IFERROR(#REF!,\"\"))","v":"Trimestre 1\n"},{"$f":"_xlfn.CONCAT(\"Trimestre 1\",CHAR(10),IFERROR(#REF!,\"\"))","v":"Trimestre 1\n"},{"$f":"_xlfn.CONCAT(\"Trimestre 1\",CHAR(10),IFERROR(#REF!,\"\"))","v":"Trimestre 1\n"}]
[null,null,null,null,null,null,null,null,null,null,null,null,null,null,null,null,null,null,null,null,null,null,null,null,null,{"$f":"IFERROR(#REF!,\" \")","v":" "},{"$f":"IFERROR(#REF!,\"\")","v":""},{"$f":"IFERROR(#REF!,\"\")","v":""},"","",{"$f":"IFERROR(#REF!,\"\")","v":""},"",{"$f":"IFERROR(#REF!,\"\")","v":""},{"$f":"IFERROR(#REF!,\"\")","v":""},{"$f":"_xlfn.CONCAT(\"Trimestre 1\",CHAR(10),IFERROR(#REF!,\"\"))","v":"Trimestre 1\n"},{"$f":"_xlfn.CONCAT(\"Trimestre 1\",CHAR(10),IFERROR(#REF!,\"\"))","v":"Trimestre 1\n"},{"$f":"_xlfn.CONCAT(\"Trimestre 1\",CHAR(10),IFERROR(#REF!,\"\"))","v":"Trimestre 1\n"},{"$f":"_xlfn.CONCAT(\"Trimestre 1\",CHAR(10),IFERROR(#REF!,\"\"))","v":"Trimestre 1\n"},{"$f":"_xlfn.CONCAT(\"Trimestre 1\",CHAR(10),IFERROR(#REF!,\"\"))","v":"Trimestre 1\n"}]
[null,null,null,null,null,null,null,null,null,null,null,null,null,null,null,null,null,null,null,null,null,null,null,null,null,{"$f":"IFERROR(#REF!,\" \")","v":" "},{"$f":"IFERROR(#REF!,\"\")","v":""},{"$f":"IFERROR(#REF!,\"\")","v":""},"","",{"$f":"IFERROR(#REF!,\"\")","v":""},"",{"$f":"IFERROR(#REF!,\"\")","v":""},{"$f":"IFERROR(#REF!,\"\")","v":""},{"$f":"_xlfn.CONCAT(\"Trimestre 1\",CHAR(10),IFERROR(#REF!,\"\"))","v":"Trimestre 1\n"},{"$f":"_xlfn.CONCAT(\"Trimestre 1\",CHAR(10),IFERROR(#REF!,\"\"))","v":"Trimestre 1\n"},{"$f":"_xlfn.CONCAT(\"Trimestre 1\",CHAR(10),IFERROR(#REF!,\"\"))","v":"Trimestre 1\n"},{"$f":"_xlfn.CONCAT(\"Trimestre 1\",CHAR(10),IFERROR(#REF!,\"\"))","v":"Trimestre 1\n"},{"$f":"_xlfn.CONCAT(\"Trimestre 1\",CHAR(10),IFERROR(#REF!,\"\"))","v":"Trimestre 1\n"}]
[null,null,null,null,null,null,null,null,null,null,null,null,null,null,null,null,null,null,null,null,null,null,null,null,null,{"$f":"IFERROR(#REF!,\" \")","v":" "},{"$f":"IFERROR(#REF!,\"\")","v":""},{"$f":"IFERROR(#REF!,\"\")","v":""},"","",{"$f":"IFERROR(#REF!,\"\")","v":""},"",{"$f":"IFERROR(#REF!,\"\")","v":""},{"$f":"IFERROR(#REF!,\"\")","v":""},{"$f":"_xlfn.CONCAT(\"Trimestre 1\",CHAR(10),IFERROR(#REF!,\"\"))","v":"Trimestre 1\n"},{"$f":"_xlfn.CONCAT(\"Trimestre 1\",CHAR(10),IFERROR(#REF!,\"\"))","v":"Trimestre 1\n"},{"$f":"_xlfn.CONCAT(\"Trimestre 1\",CHAR(10),IFERROR(#REF!,\"\"))","v":"Trimestre 1\n"},{"$f":"_xlfn.CONCAT(\"Trimestre 1\",CHAR(10),IFERROR(#REF!,\"\"))","v":"Trimestre 1\n"},{"$f":"_xlfn.CONCAT(\"Trimestre 1\",CHAR(10),IFERROR(#REF!,\"\"))","v":"Trimestre 1\n"}]
[null,null,null,null,null,null,null,null,null,null,null,null,null,null,null,null,null,null,null,null,null,null,null,null,null,{"$f":"IFERROR(#REF!,\" \")","v":" "},{"$f":"IFERROR(#REF!,\"\")","v":""},{"$f":"IFERROR(#REF!,\"\")","v":""},"","",{"$f":"IFERROR(#REF!,\"\")","v":""},"",{"$f":"IFERROR(#REF!,\"\")","v":""},{"$f":"IFERROR(#REF!,\"\")","v":""},{"$f":"_xlfn.CONCAT(\"Trimestre 1\",CHAR(10),IFERROR(#REF!,\"\"))","v":"Trimestre 1\n"},{"$f":"_xlfn.CONCAT(\"Trimestre 1\",CHAR(10),IFERROR(#REF!,\"\"))","v":"Trimestre 1\n"},{"$f":"_xlfn.CONCAT(\"Trimestre 1\",CHAR(10),IFERROR(#REF!,\"\"))","v":"Trimestre 1\n"},{"$f":"_xlfn.CONCAT(\"Trimestre 1\",CHAR(10),IFERROR(#REF!,\"\"))","v":"Trimestre 1\n"},{"$f":"_xlfn.CONCAT(\"Trimestre 1\",CHAR(10),IFERROR(#REF!,\"\"))","v":"Trimestre 1\n"}]
[null,null,null,null,null,null,null,null,null,null,null,null,null,null,null,null,null,null,null,null,null,null,null,null,null,{"$f":"IFERROR(#REF!,\" \")","v":" "},{"$f":"IFERROR(#REF!,\"\")","v":""},{"$f":"IFERROR(#REF!,\"\")","v":""},"","",{"$f":"IFERROR(#REF!,\"\")","v":""},"",{"$f":"IFERROR(#REF!,\"\")","v":""},{"$f":"IFERROR(#REF!,\"\")","v":""},{"$f":"_xlfn.CONCAT(\"Trimestre 1\",CHAR(10),IFERROR(#REF!,\"\"))","v":"Trimestre 1\n"},{"$f":"_xlfn.CONCAT(\"Trimestre 1\",CHAR(10),IFERROR(#REF!,\"\"))","v":"Trimestre 1\n"},{"$f":"_xlfn.CONCAT(\"Trimestre 1\",CHAR(10),IFERROR(#REF!,\"\"))","v":"Trimestre 1\n"},{"$f":"_xlfn.CONCAT(\"Trimestre 1\",CHAR(10),IFERROR(#REF!,\"\"))","v":"Trimestre 1\n"},{"$f":"_xlfn.CONCAT(\"Trimestre 1\",CHAR(10),IFERROR(#REF!,\"\"))","v":"Trimestre 1\n"}]
[null,null,null,null,null,null,null,null,null,null,null,null,null,null,null,null,null,null,null,null,null,null,null,null,null,{"$f":"IFERROR(#REF!,\" \")","v":" "},{"$f":"IFERROR(#REF!,\"\")","v":""},{"$f":"IFERROR(#REF!,\"\")","v":""},"","",{"$f":"IFERROR(#REF!,\"\")","v":""},"",{"$f":"IFERROR(#REF!,\"\")","v":""},{"$f":"IFERROR(#REF!,\"\")","v":""},{"$f":"_xlfn.CONCAT(\"Trimestre 1\",CHAR(10),IFERROR(#REF!,\"\"))","v":"Trimestre 1\n"},{"$f":"_xlfn.CONCAT(\"Trimestre 1\",CHAR(10),IFERROR(#REF!,\"\"))","v":"Trimestre 1\n"},{"$f":"_xlfn.CONCAT(\"Trimestre 1\",CHAR(10),IFERROR(#REF!,\"\"))","v":"Trimestre 1\n"},{"$f":"_xlfn.CONCAT(\"Trimestre 1\",CHAR(10),IFERROR(#REF!,\"\"))","v":"Trimestre 1\n"},{"$f":"_xlfn.CONCAT(\"Trimestre 1\",CHAR(10),IFERROR(#REF!,\"\"))","v":"Trimestre 1\n"}]
[null,null,null,null,null,null,null,null,null,null,null,null,null,null,null,null,null,null,null,null,null,null,null,null,null,{"$f":"IFERROR(#REF!,\" \")","v":" "},{"$f":"IFERROR(#REF!,\"\")","v":""},{"$f":"IFERROR(#REF!,\"\")","v":""},"","",{"$f":"IFERROR(#REF!,\"\")","v":""},"",{"$f":"IFERROR(#REF!,\"\")","v":""},{"$f":"IFERROR(#REF!,\"\")","v":""},{"$f":"_xlfn.CONCAT(\"Trimestre 1\",CHAR(10),IFERROR(#REF!,\"\"))","v":"Trimestre 1\n"},{"$f":"_xlfn.CONCAT(\"Trimestre 1\",CHAR(10),IFERROR(#REF!,\"\"))","v":"Trimestre 1\n"},{"$f":"_xlfn.CONCAT(\"Trimestre 1\",CHAR(10),IFERROR(#REF!,\"\"))","v":"Trimestre 1\n"},{"$f":"_xlfn.CONCAT(\"Trimestre 1\",CHAR(10),IFERROR(#REF!,\"\"))","v":"Trimestre 1\n"},{"$f":"_xlfn.CONCAT(\"Trimestre 1\",CHAR(10),IFERROR(#REF!,\"\"))","v":"Trimestre 1\n"}]
[null,null,"2. Consolidar la administración de la información entendida como todas las acciones rientadas a garantizar el acceso, consulta, uso y conservación de la información de justicia de manera ágil, flexible e inteligente, bajo un enfoque de innovación.","Modelo de producción, acceso, consulta y conservación del conocimiento jurídico","% de implementa ción del modelo de producción, acceso, consulta y conservació n del conocimient o jurídico",null,null,null,null,null,null,null,null,null,null,null,null,null,null,null,null,null,null,null,null,{"$f":"IFERROR(#REF!,\" \")","v":" "},{"$f":"IFERROR(#REF!,\"\")","v":""},{"$f":"IFERROR(#REF!,\"\")","v":""},"","",{"$f":"IFERROR(#REF!,\"\")","v":""},"",{"$f":"IFERROR(#REF!,\"\")","v":""},{"$f":"IFERROR(#REF!,\"\")","v":""},{"$f":"_xlfn.CONCAT(\"Trimestre 1\",CHAR(10),IFERROR(#REF!,\"\"))","v":"Trimestre 1\n"},{"$f":"_xlfn.CONCAT(\"Trimestre 1\",CHAR(10),IFERROR(#REF!,\"\"))","v":"Trimestre 1\n"},{"$f":"_xlfn.CONCAT(\"Trimestre 1\",CHAR(10),IFERROR(#REF!,\"\"))","v":"Trimestre 1\n"},{"$f":"_xlfn.CONCAT(\"Trimestre 1\",CHAR(10),IFERROR(#REF!,\"\"))","v":"Trimestre 1\n"},{"$f":"_xlfn.CONCAT(\"Trimestre 1\",CHAR(10),IFERROR(#REF!,\"\"))","v":"Trimestre 1\n"}]
[null,null,null,null,null,null,null,null,null,null,null,null,null,null,null,null,null,null,null,null,null,null,null,null,null,{"$f":"IFERROR(#REF!,\" \")","v":" "},{"$f":"IFERROR(#REF!,\"\")","v":""},{"$f":"IFERROR(#REF!,\"\")","v":""},"","",{"$f":"IFERROR(#REF!,\"\")","v":""},"",{"$f":"IFERROR(#REF!,\"\")","v":""},{"$f":"IFERROR(#REF!,\"\")","v":""},{"$f":"_xlfn.CONCAT(\"Trimestre 1\",CHAR(10),IFERROR(#REF!,\"\"))","v":"Trimestre 1\n"},{"$f":"_xlfn.CONCAT(\"Trimestre 1\",CHAR(10),IFERROR(#REF!,\"\"))","v":"Trimestre 1\n"},{"$f":"_xlfn.CONCAT(\"Trimestre 1\",CHAR(10),IFERROR(#REF!,\"\"))","v":"Trimestre 1\n"},{"$f":"_xlfn.CONCAT(\"Trimestre 1\",CHAR(10),IFERROR(#REF!,\"\"))","v":"Trimestre 1\n"},{"$f":"_xlfn.CONCAT(\"Trimestre 1\",CHAR(10),IFERROR(#REF!,\"\"))","v":"Trimestre 1\n"}]
[null,null,null,null,null,null,null,null,null,null,null,null,null,null,null,null,null,null,null,null,null,null,null,null,null,{"$f":"IFERROR(#REF!,\" \")","v":" "},{"$f":"IFERROR(#REF!,\"\")","v":""},{"$f":"IFERROR(#REF!,\"\")","v":""},"","",{"$f":"IFERROR(#REF!,\"\")","v":""},"",{"$f":"IFERROR(#REF!,\"\")","v":""},{"$f":"IFERROR(#REF!,\"\")","v":""},{"$f":"_xlfn.CONCAT(\"Trimestre 1\",CHAR(10),IFERROR(#REF!,\"\"))","v":"Trimestre 1\n"},{"$f":"_xlfn.CONCAT(\"Trimestre 1\",CHAR(10),IFERROR(#REF!,\"\"))","v":"Trimestre 1\n"},{"$f":"_xlfn.CONCAT(\"Trimestre 1\",CHAR(10),IFERROR(#REF!,\"\"))","v":"Trimestre 1\n"},{"$f":"_xlfn.CONCAT(\"Trimestre 1\",CHAR(10),IFERROR(#REF!,\"\"))","v":"Trimestre 1\n"},{"$f":"_xlfn.CONCAT(\"Trimestre 1\",CHAR(10),IFERROR(#REF!,\"\"))","v":"Trimestre 1\n"}]
[null,null,null,null,null,null,null,null,null,null,null,null,null,null,null,null,null,null,null,null,null,null,null,null,null,{"$f":"IFERROR(#REF!,\" \")","v":" "},{"$f":"IFERROR(#REF!,\"\")","v":""},{"$f":"IFERROR(#REF!,\"\")","v":""},"","",{"$f":"IFERROR(#REF!,\"\")","v":""},"",{"$f":"IFERROR(#REF!,\"\")","v":""},{"$f":"IFERROR(#REF!,\"\")","v":""},{"$f":"_xlfn.CONCAT(\"Trimestre 1\",CHAR(10),IFERROR(#REF!,\"\"))","v":"Trimestre 1\n"},{"$f":"_xlfn.CONCAT(\"Trimestre 1\",CHAR(10),IFERROR(#REF!,\"\"))","v":"Trimestre 1\n"},{"$f":"_xlfn.CONCAT(\"Trimestre 1\",CHAR(10),IFERROR(#REF!,\"\"))","v":"Trimestre 1\n"},{"$f":"_xlfn.CONCAT(\"Trimestre 1\",CHAR(10),IFERROR(#REF!,\"\"))","v":"Trimestre 1\n"},{"$f":"_xlfn.CONCAT(\"Trimestre 1\",CHAR(10),IFERROR(#REF!,\"\"))","v":"Trimestre 1\n"}]
[null,null,null,null,null,null,null,null,null,null,null,null,null,null,null,null,null,null,null,null,null,null,null,null,null,{"$f":"IFERROR(#REF!,\" \")","v":" "},{"$f":"IFERROR(#REF!,\"\")","v":""},{"$f":"IFERROR(#REF!,\"\")","v":""},"","",{"$f":"IFERROR(#REF!,\"\")","v":""},"",{"$f":"IFERROR(#REF!,\"\")","v":""},{"$f":"IFERROR(#REF!,\"\")","v":""},{"$f":"_xlfn.CONCAT(\"Trimestre 1\",CHAR(10),IFERROR(#REF!,\"\"))","v":"Trimestre 1\n"},{"$f":"_xlfn.CONCAT(\"Trimestre 1\",CHAR(10),IFERROR(#REF!,\"\"))","v":"Trimestre 1\n"},{"$f":"_xlfn.CONCAT(\"Trimestre 1\",CHAR(10),IFERROR(#REF!,\"\"))","v":"Trimestre 1\n"},{"$f":"_xlfn.CONCAT(\"Trimestre 1\",CHAR(10),IFERROR(#REF!,\"\"))","v":"Trimestre 1\n"},{"$f":"_xlfn.CONCAT(\"Trimestre 1\",CHAR(10),IFERROR(#REF!,\"\"))","v":"Trimestre 1\n"}]
[null,null,null,null,null,null,null,null,null,null,null,null,null,null,null,null,null,null,null,null,null,null,null,null,null,{"$f":"IFERROR(#REF!,\" \")","v":" "},{"$f":"IFERROR(#REF!,\"\")","v":""},{"$f":"IFERROR(#REF!,\"\")","v":""},"","",{"$f":"IFERROR(#REF!,\"\")","v":""},"",{"$f":"IFERROR(#REF!,\"\")","v":""},{"$f":"IFERROR(#REF!,\"\")","v":""},{"$f":"_xlfn.CONCAT(\"Trimestre 1\",CHAR(10),IFERROR(#REF!,\"\"))","v":"Trimestre 1\n"},{"$f":"_xlfn.CONCAT(\"Trimestre 1\",CHAR(10),IFERROR(#REF!,\"\"))","v":"Trimestre 1\n"},{"$f":"_xlfn.CONCAT(\"Trimestre 1\",CHAR(10),IFERROR(#REF!,\"\"))","v":"Trimestre 1\n"},{"$f":"_xlfn.CONCAT(\"Trimestre 1\",CHAR(10),IFERROR(#REF!,\"\"))","v":"Trimestre 1\n"},{"$f":"_xlfn.CONCAT(\"Trimestre 1\",CHAR(10),IFERROR(#REF!,\"\"))","v":"Trimestre 1\n"}]
[null,null,null,null,null,null,null,null,null,null,null,null,null,null,null,null,null,null,null,null,null,null,null,null,null,{"$f":"IFERROR(#REF!,\" \")","v":" "},{"$f":"IFERROR(#REF!,\"\")","v":""},{"$f":"IFERROR(#REF!,\"\")","v":""},"","",{"$f":"IFERROR(#REF!,\"\")","v":""},"",{"$f":"IFERROR(#REF!,\"\")","v":""},{"$f":"IFERROR(#REF!,\"\")","v":""},{"$f":"_xlfn.CONCAT(\"Trimestre 1\",CHAR(10),IFERROR(#REF!,\"\"))","v":"Trimestre 1\n"},{"$f":"_xlfn.CONCAT(\"Trimestre 1\",CHAR(10),IFERROR(#REF!,\"\"))","v":"Trimestre 1\n"},{"$f":"_xlfn.CONCAT(\"Trimestre 1\",CHAR(10),IFERROR(#REF!,\"\"))","v":"Trimestre 1\n"},{"$f":"_xlfn.CONCAT(\"Trimestre 1\",CHAR(10),IFERROR(#REF!,\"\"))","v":"Trimestre 1\n"},{"$f":"_xlfn.CONCAT(\"Trimestre 1\",CHAR(10),IFERROR(#REF!,\"\"))","v":"Trimestre 1\n"}]
[null,null,null,null,null,null,null,null,null,null,null,null,null,null,null,null,null,null,null,null,null,null,null,null,null,{"$f":"IFERROR(#REF!,\" \")","v":" "},{"$f":"IFERROR(#REF!,\"\")","v":""},{"$f":"IFERROR(#REF!,\"\")","v":""},"","",{"$f":"IFERROR(#REF!,\"\")","v":""},"",{"$f":"IFERROR(#REF!,\"\")","v":""},{"$f":"IFERROR(#REF!,\"\")","v":""},{"$f":"_xlfn.CONCAT(\"Trimestre 1\",CHAR(10),IFERROR(#REF!,\"\"))","v":"Trimestre 1\n"},{"$f":"_xlfn.CONCAT(\"Trimestre 1\",CHAR(10),IFERROR(#REF!,\"\"))","v":"Trimestre 1\n"},{"$f":"_xlfn.CONCAT(\"Trimestre 1\",CHAR(10),IFERROR(#REF!,\"\"))","v":"Trimestre 1\n"},{"$f":"_xlfn.CONCAT(\"Trimestre 1\",CHAR(10),IFERROR(#REF!,\"\"))","v":"Trimestre 1\n"},{"$f":"_xlfn.CONCAT(\"Trimestre 1\",CHAR(10),IFERROR(#REF!,\"\"))","v":"Trimestre 1\n"}]
[null,null,null,null,null,null,null,null,null,null,null,null,null,null,null,null,null,null,null,null,null,null,null,null,null,{"$f":"IFERROR(#REF!,\" \")","v":" "},{"$f":"IFERROR(#REF!,\"\")","v":""},{"$f":"IFERROR(#REF!,\"\")","v":""},"","",{"$f":"IFERROR(#REF!,\"\")","v":""},"",{"$f":"IFERROR(#REF!,\"\")","v":""},{"$f":"IFERROR(#REF!,\"\")","v":""},{"$f":"_xlfn.CONCAT(\"Trimestre 1\",CHAR(10),IFERROR(#REF!,\"\"))","v":"Trimestre 1\n"},{"$f":"_xlfn.CONCAT(\"Trimestre 1\",CHAR(10),IFERROR(#REF!,\"\"))","v":"Trimestre 1\n"},{"$f":"_xlfn.CONCAT(\"Trimestre 1\",CHAR(10),IFERROR(#REF!,\"\"))","v":"Trimestre 1\n"},{"$f":"_xlfn.CONCAT(\"Trimestre 1\",CHAR(10),IFERROR(#REF!,\"\"))","v":"Trimestre 1\n"},{"$f":"_xlfn.CONCAT(\"Trimestre 1\",CHAR(10),IFERROR(#REF!,\"\"))","v":"Trimestre 1\n"}]
[null,null,null,null,null,null,null,null,null,null,null,null,null,null,null,null,null,null,null,null,null,null,null,null,null,{"$f":"IFERROR(#REF!,\" \")","v":" "},{"$f":"IFERROR(#REF!,\"\")","v":""},{"$f":"IFERROR(#REF!,\"\")","v":""},{"$f":"IFERROR(AB135/P135,\"\")","v":""},{"$f":"IFERROR(AA135/Y135,\"\")","v":""},{"$f":"IFERROR(#REF!,\"\")","v":""},{"$f":"IFERROR(P135-AB135,\"\")","v":""},{"$f":"IFERROR(#REF!,\"\")","v":""},{"$f":"IFERROR(#REF!,\"\")","v":""},{"$f":"_xlfn.CONCAT(\"Trimestre 1\",CHAR(10),IFERROR(#REF!,\"\"))","v":"Trimestre 1\n"},{"$f":"_xlfn.CONCAT(\"Trimestre 1\",CHAR(10),IFERROR(#REF!,\"\"))","v":"Trimestre 1\n"},{"$f":"_xlfn.CONCAT(\"Trimestre 1\",CHAR(10),IFERROR(#REF!,\"\"))","v":"Trimestre 1\n"},{"$f":"_xlfn.CONCAT(\"Trimestre 1\",CHAR(10),IFERROR(#REF!,\"\"))","v":"Trimestre 1\n"},{"$f":"_xlfn.CONCAT(\"Trimestre 1\",CHAR(10),IFERROR(#REF!,\"\"))","v":"Trimestre 1\n"}]
[null,null,"3. Fortalecer el Sistema integrado de Gestión de la Rama, orientado a la implementación y certificación de las normas antisoborno.","Certificación del Sistema Integrado de Gestión de la Rama en norma antisoborno","# de dependenci as judiciales y administrati vas certificadas en norma antisoborno /# total de despachos certificados en calidad","1. Gestionar el desarrollo de las competencias, la toma de conciencia , la cultura  organizacional  y el compromiso de los  servidores judiciales, contratistas, practicantes y  judicantes de contribuir a generar valor público en la administración de justicia, en el marco de  cumplimiento de los requisitos  aplicables y el comportamiento ético.\n3. Fomentar la transparencia y la participación generando lineamientos y promoviendo la rendición de cuentas ,la consulta, reporte y planteamiento de inquietudes en relación con las decisiones y aspectos del SIGCMA.",null,null,null,null,null,null,null,null,null,null,null,null,null,null,null,null,null,null,null,{"$f":"IFERROR(#REF!,\" \")","v":" "},{"$f":"IFERROR(#REF!,\"\")","v":""},{"$f":"IFERROR(#REF!,\"\")","v":""},"","",{"$f":"IFERROR(#REF!,\"\")","v":""},"",{"$f":"IFERROR(#REF!,\"\")","v":""},{"$f":"IFERROR(#REF!,\"\")","v":""},{"$f":"_xlfn.CONCAT(\"Trimestre 1\",CHAR(10),IFERROR(#REF!,\"\"))","v":"Trimestre 1\n"},{"$f":"_xlfn.CONCAT(\"Trimestre 1\",CHAR(10),IFERROR(#REF!,\"\"))","v":"Trimestre 1\n"},{"$f":"_xlfn.CONCAT(\"Trimestre 1\",CHAR(10),IFERROR(#REF!,\"\"))","v":"Trimestre 1\n"},{"$f":"_xlfn.CONCAT(\"Trimestre 1\",CHAR(10),IFERROR(#REF!,\"\"))","v":"Trimestre 1\n"},{"$f":"_xlfn.CONCAT(\"Trimestre 1\",CHAR(10),IFERROR(#REF!,\"\"))","v":"Trimestre 1\n"}]
[null,null,null,null,null,null,null,null,null,null,null,null,null,null,null,null,null,null,null,null,null,null,null,null,null,{"$f":"IFERROR(#REF!,\" \")","v":" "},{"$f":"IFERROR(#REF!,\"\")","v":""},{"$f":"IFERROR(#REF!,\"\")","v":""},"","",{"$f":"IFERROR(#REF!,\"\")","v":""},"",{"$f":"IFERROR(#REF!,\"\")","v":""},{"$f":"IFERROR(#REF!,\"\")","v":""},{"$f":"_xlfn.CONCAT(\"Trimestre 1\",CHAR(10),IFERROR(#REF!,\"\"))","v":"Trimestre 1\n"},{"$f":"_xlfn.CONCAT(\"Trimestre 1\",CHAR(10),IFERROR(#REF!,\"\"))","v":"Trimestre 1\n"},{"$f":"_xlfn.CONCAT(\"Trimestre 1\",CHAR(10),IFERROR(#REF!,\"\"))","v":"Trimestre 1\n"},{"$f":"_xlfn.CONCAT(\"Trimestre 1\",CHAR(10),IFERROR(#REF!,\"\"))","v":"Trimestre 1\n"},{"$f":"_xlfn.CONCAT(\"Trimestre 1\",CHAR(10),IFERROR(#REF!,\"\"))","v":"Trimestre 1\n"}]
[null,null,null,null,null,null,null,null,null,null,null,null,null,null,null,null,null,null,null,null,null,null,null,null,null,{"$f":"IFERROR(#REF!,\" \")","v":" "},{"$f":"IFERROR(#REF!,\"\")","v":""},{"$f":"IFERROR(#REF!,\"\")","v":""},"","",{"$f":"IFERROR(#REF!,\"\")","v":""},"",{"$f":"IFERROR(#REF!,\"\")","v":""},{"$f":"IFERROR(#REF!,\"\")","v":""},{"$f":"_xlfn.CONCAT(\"Trimestre 1\",CHAR(10),IFERROR(#REF!,\"\"))","v":"Trimestre 1\n"},{"$f":"_xlfn.CONCAT(\"Trimestre 1\",CHAR(10),IFERROR(#REF!,\"\"))","v":"Trimestre 1\n"},{"$f":"_xlfn.CONCAT(\"Trimestre 1\",CHAR(10),IFERROR(#REF!,\"\"))","v":"Trimestre 1\n"},{"$f":"_xlfn.CONCAT(\"Trimestre 1\",CHAR(10),IFERROR(#REF!,\"\"))","v":"Trimestre 1\n"},{"$f":"_xlfn.CONCAT(\"Trimestre 1\",CHAR(10),IFERROR(#REF!,\"\"))","v":"Trimestre 1\n"}]
[null,null,null,null,null,null,null,null,null,null,null,null,null,null,null,null,null,null,null,null,null,null,null,null,null,{"$f":"IFERROR(#REF!,\" \")","v":" "},{"$f":"IFERROR(#REF!,\"\")","v":""},{"$f":"IFERROR(#REF!,\"\")","v":""},"","",{"$f":"IFERROR(#REF!,\"\")","v":""},"",{"$f":"IFERROR(#REF!,\"\")","v":""},{"$f":"IFERROR(#REF!,\"\")","v":""},{"$f":"_xlfn.CONCAT(\"Trimestre 1\",CHAR(10),IFERROR(#REF!,\"\"))","v":"Trimestre 1\n"},{"$f":"_xlfn.CONCAT(\"Trimestre 1\",CHAR(10),IFERROR(#REF!,\"\"))","v":"Trimestre 1\n"},{"$f":"_xlfn.CONCAT(\"Trimestre 1\",CHAR(10),IFERROR(#REF!,\"\"))","v":"Trimestre 1\n"},{"$f":"_xlfn.CONCAT(\"Trimestre 1\",CHAR(10),IFERROR(#REF!,\"\"))","v":"Trimestre 1\n"},{"$f":"_xlfn.CONCAT(\"Trimestre 1\",CHAR(10),IFERROR(#REF!,\"\"))","v":"Trimestre 1\n"}]
[null,null,null,null,null,null,null,null,null,null,null,null,null,null,null,null,null,null,null,null,null,null,null,null,null,{"$f":"IFERROR(#REF!,\" \")","v":" "},{"$f":"IFERROR(#REF!,\"\")","v":""},{"$f":"IFERROR(#REF!,\"\")","v":""},"","",{"$f":"IFERROR(#REF!,\"\")","v":""},"",{"$f":"IFERROR(#REF!,\"\")","v":""},{"$f":"IFERROR(#REF!,\"\")","v":""},{"$f":"_xlfn.CONCAT(\"Trimestre 1\",CHAR(10),IFERROR(#REF!,\"\"))","v":"Trimestre 1\n"},{"$f":"_xlfn.CONCAT(\"Trimestre 1\",CHAR(10),IFERROR(#REF!,\"\"))","v":"Trimestre 1\n"},{"$f":"_xlfn.CONCAT(\"Trimestre 1\",CHAR(10),IFERROR(#REF!,\"\"))","v":"Trimestre 1\n"},{"$f":"_xlfn.CONCAT(\"Trimestre 1\",CHAR(10),IFERROR(#REF!,\"\"))","v":"Trimestre 1\n"},{"$f":"_xlfn.CONCAT(\"Trimestre 1\",CHAR(10),IFERROR(#REF!,\"\"))","v":"Trimestre 1\n"}]
[null,null,null,null,null,null,null,null,null,null,null,null,null,null,null,null,null,null,null,null,null,null,null,null,null,{"$f":"IFERROR(#REF!,\" \")","v":" "},{"$f":"IFERROR(#REF!,\"\")","v":""},{"$f":"IFERROR(#REF!,\"\")","v":""},"","",{"$f":"IFERROR(#REF!,\"\")","v":""},"",{"$f":"IFERROR(#REF!,\"\")","v":""},{"$f":"IFERROR(#REF!,\"\")","v":""},{"$f":"_xlfn.CONCAT(\"Trimestre 1\",CHAR(10),IFERROR(#REF!,\"\"))","v":"Trimestre 1\n"},{"$f":"_xlfn.CONCAT(\"Trimestre 1\",CHAR(10),IFERROR(#REF!,\"\"))","v":"Trimestre 1\n"},{"$f":"_xlfn.CONCAT(\"Trimestre 1\",CHAR(10),IFERROR(#REF!,\"\"))","v":"Trimestre 1\n"},{"$f":"_xlfn.CONCAT(\"Trimestre 1\",CHAR(10),IFERROR(#REF!,\"\"))","v":"Trimestre 1\n"},{"$f":"_xlfn.CONCAT(\"Trimestre 1\",CHAR(10),IFERROR(#REF!,\"\"))","v":"Trimestre 1\n"}]
[null,null,null,null,null,null,null,null,null,null,null,null,null,null,null,null,null,null,null,null,null,null,null,null,null,{"$f":"IFERROR(#REF!,\" \")","v":" "},{"$f":"IFERROR(#REF!,\"\")","v":""},{"$f":"IFERROR(#REF!,\"\")","v":""},"","",{"$f":"IFERROR(#REF!,\"\")","v":""},"",{"$f":"IFERROR(#REF!,\"\")","v":""},{"$f":"IFERROR(#REF!,\"\")","v":""},{"$f":"_xlfn.CONCAT(\"Trimestre 1\",CHAR(10),IFERROR(#REF!,\"\"))","v":"Trimestre 1\n"},{"$f":"_xlfn.CONCAT(\"Trimestre 1\",CHAR(10),IFERROR(#REF!,\"\"))","v":"Trimestre 1\n"},{"$f":"_xlfn.CONCAT(\"Trimestre 1\",CHAR(10),IFERROR(#REF!,\"\"))","v":"Trimestre 1\n"},{"$f":"_xlfn.CONCAT(\"Trimestre 1\",CHAR(10),IFERROR(#REF!,\"\"))","v":"Trimestre 1\n"},{"$f":"_xlfn.CONCAT(\"Trimestre 1\",CHAR(10),IFERROR(#REF!,\"\"))","v":"Trimestre 1\n"}]
[null,null,null,null,null,null,null,null,null,null,null,null,null,null,null,null,null,null,null,null,null,null,null,null,null,{"$f":"IFERROR(#REF!,\" \")","v":" "},{"$f":"IFERROR(#REF!,\"\")","v":""},{"$f":"IFERROR(#REF!,\"\")","v":""},"","",{"$f":"IFERROR(#REF!,\"\")","v":""},"",{"$f":"IFERROR(#REF!,\"\")","v":""},{"$f":"IFERROR(#REF!,\"\")","v":""},{"$f":"_xlfn.CONCAT(\"Trimestre 1\",CHAR(10),IFERROR(#REF!,\"\"))","v":"Trimestre 1\n"},{"$f":"_xlfn.CONCAT(\"Trimestre 1\",CHAR(10),IFERROR(#REF!,\"\"))","v":"Trimestre 1\n"},{"$f":"_xlfn.CONCAT(\"Trimestre 1\",CHAR(10),IFERROR(#REF!,\"\"))","v":"Trimestre 1\n"},{"$f":"_xlfn.CONCAT(\"Trimestre 1\",CHAR(10),IFERROR(#REF!,\"\"))","v":"Trimestre 1\n"},{"$f":"_xlfn.CONCAT(\"Trimestre 1\",CHAR(10),IFERROR(#REF!,\"\"))","v":"Trimestre 1\n"}]
[null,null,null,null,null,null,null,null,null,null,null,null,null,null,null,null,null,null,null,null,null,null,null,null,null,{"$f":"IFERROR(#REF!,\" \")","v":" "},{"$f":"IFERROR(#REF!,\"\")","v":""},{"$f":"IFERROR(#REF!,\"\")","v":""},"","",{"$f":"IFERROR(#REF!,\"\")","v":""},"",{"$f":"IFERROR(#REF!,\"\")","v":""},{"$f":"IFERROR(#REF!,\"\")","v":""},{"$f":"_xlfn.CONCAT(\"Trimestre 1\",CHAR(10),IFERROR(#REF!,\"\"))","v":"Trimestre 1\n"},{"$f":"_xlfn.CONCAT(\"Trimestre 1\",CHAR(10),IFERROR(#REF!,\"\"))","v":"Trimestre 1\n"},{"$f":"_xlfn.CONCAT(\"Trimestre 1\",CHAR(10),IFERROR(#REF!,\"\"))","v":"Trimestre 1\n"},{"$f":"_xlfn.CONCAT(\"Trimestre 1\",CHAR(10),IFERROR(#REF!,\"\"))","v":"Trimestre 1\n"},{"$f":"_xlfn.CONCAT(\"Trimestre 1\",CHAR(10),IFERROR(#REF!,\"\"))","v":"Trimestre 1\n"}]
[null,null,null,null,null,null,null,null,null,null,null,null,null,null,null,null,null,null,null,null,null,null,null,null,null,{"$f":"IFERROR(#REF!,\" \")","v":" "},{"$f":"IFERROR(#REF!,\"\")","v":""},{"$f":"IFERROR(#REF!,\"\")","v":""},"","",{"$f":"IFERROR(#REF!,\"\")","v":""},"",{"$f":"IFERROR(#REF!,\"\")","v":""},{"$f":"IFERROR(#REF!,\"\")","v":""},{"$f":"_xlfn.CONCAT(\"Trimestre 1\",CHAR(10),IFERROR(#REF!,\"\"))","v":"Trimestre 1\n"},{"$f":"_xlfn.CONCAT(\"Trimestre 1\",CHAR(10),IFERROR(#REF!,\"\"))","v":"Trimestre 1\n"},{"$f":"_xlfn.CONCAT(\"Trimestre 1\",CHAR(10),IFERROR(#REF!,\"\"))","v":"Trimestre 1\n"},{"$f":"_xlfn.CONCAT(\"Trimestre 1\",CHAR(10),IFERROR(#REF!,\"\"))","v":"Trimestre 1\n"},{"$f":"_xlfn.CONCAT(\"Trimestre 1\",CHAR(10),IFERROR(#REF!,\"\"))","v":"Trimestre 1\n"}]
[null,null,"4. Aumentar la confianza, la cercanía y acceso a los servicios de la Rama Judicial a través, entre otros, de una comunicación clara y asertiva con la ciudadanía.","Satisfacción de la ciudadanía con la administración de justicia","% de satisfacción de la ciudadanía alto o muy alto con la administraci ón de justicia","3. Fomentar la transparencia y la participación generando lineamientos y promoviendo la rendición de cuentas ,la consulta, reporte y planteamiento de inquietudes en relación con las decisiones y aspectos del SIGCMA.",null,null,null,null,null,null,null,null,null,null,null,null,null,null,null,null,null,null,null,{"$f":"IFERROR(#REF!,\" \")","v":" "},{"$f":"IFERROR(#REF!,\"\")","v":""},{"$f":"IFERROR(#REF!,\"\")","v":""},"","",{"$f":"IFERROR(#REF!,\"\")","v":""},"",{"$f":"IFERROR(#REF!,\"\")","v":""},{"$f":"IFERROR(#REF!,\"\")","v":""},{"$f":"_xlfn.CONCAT(\"Trimestre 1\",CHAR(10),IFERROR(#REF!,\"\"))","v":"Trimestre 1\n"},{"$f":"_xlfn.CONCAT(\"Trimestre 1\",CHAR(10),IFERROR(#REF!,\"\"))","v":"Trimestre 1\n"},{"$f":"_xlfn.CONCAT(\"Trimestre 1\",CHAR(10),IFERROR(#REF!,\"\"))","v":"Trimestre 1\n"},{"$f":"_xlfn.CONCAT(\"Trimestre 1\",CHAR(10),IFERROR(#REF!,\"\"))","v":"Trimestre 1\n"},{"$f":"_xlfn.CONCAT(\"Trimestre 1\",CHAR(10),IFERROR(#REF!,\"\"))","v":"Trimestre 1\n"}]
[null,null,null,null,null,null,null,null,null,null,null,null,null,null,null,null,null,null,null,null,null,null,null,null,null,{"$f":"IFERROR(#REF!,\" \")","v":" "},{"$f":"IFERROR(#REF!,\"\")","v":""},{"$f":"IFERROR(#REF!,\"\")","v":""},"","",{"$f":"IFERROR(#REF!,\"\")","v":""},"",{"$f":"IFERROR(#REF!,\"\")","v":""},{"$f":"IFERROR(#REF!,\"\")","v":""},{"$f":"_xlfn.CONCAT(\"Trimestre 1\",CHAR(10),IFERROR(#REF!,\"\"))","v":"Trimestre 1\n"},{"$f":"_xlfn.CONCAT(\"Trimestre 1\",CHAR(10),IFERROR(#REF!,\"\"))","v":"Trimestre 1\n"},{"$f":"_xlfn.CONCAT(\"Trimestre 1\",CHAR(10),IFERROR(#REF!,\"\"))","v":"Trimestre 1\n"},{"$f":"_xlfn.CONCAT(\"Trimestre 1\",CHAR(10),IFERROR(#REF!,\"\"))","v":"Trimestre 1\n"},{"$f":"_xlfn.CONCAT(\"Trimestre 1\",CHAR(10),IFERROR(#REF!,\"\"))","v":"Trimestre 1\n"}]
[null,null,null,null,null,null,null,null,null,null,null,null,null,null,null,null,null,null,null,null,null,null,null,null,null,{"$f":"IFERROR(#REF!,\" \")","v":" "},{"$f":"IFERROR(#REF!,\"\")","v":""},{"$f":"IFERROR(#REF!,\"\")","v":""},"","",{"$f":"IFERROR(#REF!,\"\")","v":""},"",{"$f":"IFERROR(#REF!,\"\")","v":""},{"$f":"IFERROR(#REF!,\"\")","v":""},{"$f":"_xlfn.CONCAT(\"Trimestre 1\",CHAR(10),IFERROR(#REF!,\"\"))","v":"Trimestre 1\n"},{"$f":"_xlfn.CONCAT(\"Trimestre 1\",CHAR(10),IFERROR(#REF!,\"\"))","v":"Trimestre 1\n"},{"$f":"_xlfn.CONCAT(\"Trimestre 1\",CHAR(10),IFERROR(#REF!,\"\"))","v":"Trimestre 1\n"},{"$f":"_xlfn.CONCAT(\"Trimestre 1\",CHAR(10),IFERROR(#REF!,\"\"))","v":"Trimestre 1\n"},{"$f":"_xlfn.CONCAT(\"Trimestre 1\",CHAR(10),IFERROR(#REF!,\"\"))","v":"Trimestre 1\n"}]
[null,null,null,null,null,null,null,null,null,null,null,null,null,null,null,null,null,null,null,null,null,null,null,null,null,{"$f":"IFERROR(#REF!,\" \")","v":" "},{"$f":"IFERROR(#REF!,\"\")","v":""},{"$f":"IFERROR(#REF!,\"\")","v":""},"","",{"$f":"IFERROR(#REF!,\"\")","v":""},"",{"$f":"IFERROR(#REF!,\"\")","v":""},{"$f":"IFERROR(#REF!,\"\")","v":""},{"$f":"_xlfn.CONCAT(\"Trimestre 1\",CHAR(10),IFERROR(#REF!,\"\"))","v":"Trimestre 1\n"},{"$f":"_xlfn.CONCAT(\"Trimestre 1\",CHAR(10),IFERROR(#REF!,\"\"))","v":"Trimestre 1\n"},{"$f":"_xlfn.CONCAT(\"Trimestre 1\",CHAR(10),IFERROR(#REF!,\"\"))","v":"Trimestre 1\n"},{"$f":"_xlfn.CONCAT(\"Trimestre 1\",CHAR(10),IFERROR(#REF!,\"\"))","v":"Trimestre 1\n"},{"$f":"_xlfn.CONCAT(\"Trimestre 1\",CHAR(10),IFERROR(#REF!,\"\"))","v":"Trimestre 1\n"}]
[null,null,null,null,null,null,null,null,null,null,null,null,null,null,null,null,null,null,null,null,null,null,null,null,null,{"$f":"IFERROR(#REF!,\" \")","v":" "},{"$f":"IFERROR(#REF!,\"\")","v":""},{"$f":"IFERROR(#REF!,\"\")","v":""},"","",{"$f":"IFERROR(#REF!,\"\")","v":""},"",{"$f":"IFERROR(#REF!,\"\")","v":""},{"$f":"IFERROR(#REF!,\"\")","v":""},{"$f":"_xlfn.CONCAT(\"Trimestre 1\",CHAR(10),IFERROR(#REF!,\"\"))","v":"Trimestre 1\n"},{"$f":"_xlfn.CONCAT(\"Trimestre 1\",CHAR(10),IFERROR(#REF!,\"\"))","v":"Trimestre 1\n"},{"$f":"_xlfn.CONCAT(\"Trimestre 1\",CHAR(10),IFERROR(#REF!,\"\"))","v":"Trimestre 1\n"},{"$f":"_xlfn.CONCAT(\"Trimestre 1\",CHAR(10),IFERROR(#REF!,\"\"))","v":"Trimestre 1\n"},{"$f":"_xlfn.CONCAT(\"Trimestre 1\",CHAR(10),IFERROR(#REF!,\"\"))","v":"Trimestre 1\n"}]
[null,null,null,null,null,null,null,null,null,null,null,null,null,null,null,null,null,null,null,null,null,null,null,null,null,{"$f":"IFERROR(#REF!,\" \")","v":" "},{"$f":"IFERROR(#REF!,\"\")","v":""},{"$f":"IFERROR(#REF!,\"\")","v":""},"","",{"$f":"IFERROR(#REF!,\"\")","v":""},"",{"$f":"IFERROR(#REF!,\"\")","v":""},{"$f":"IFERROR(#REF!,\"\")","v":""},{"$f":"_xlfn.CONCAT(\"Trimestre 1\",CHAR(10),IFERROR(#REF!,\"\"))","v":"Trimestre 1\n"},{"$f":"_xlfn.CONCAT(\"Trimestre 1\",CHAR(10),IFERROR(#REF!,\"\"))","v":"Trimestre 1\n"},{"$f":"_xlfn.CONCAT(\"Trimestre 1\",CHAR(10),IFERROR(#REF!,\"\"))","v":"Trimestre 1\n"},{"$f":"_xlfn.CONCAT(\"Trimestre 1\",CHAR(10),IFERROR(#REF!,\"\"))","v":"Trimestre 1\n"},{"$f":"_xlfn.CONCAT(\"Trimestre 1\",CHAR(10),IFERROR(#REF!,\"\"))","v":"Trimestre 1\n"}]
[null,null,null,null,null,null,null,null,null,null,null,null,null,null,null,null,null,null,null,null,null,null,null,null,null,{"$f":"IFERROR(#REF!,\" \")","v":" "},{"$f":"IFERROR(#REF!,\"\")","v":""},{"$f":"IFERROR(#REF!,\"\")","v":""},"","",{"$f":"IFERROR(#REF!,\"\")","v":""},"",{"$f":"IFERROR(#REF!,\"\")","v":""},{"$f":"IFERROR(#REF!,\"\")","v":""},{"$f":"_xlfn.CONCAT(\"Trimestre 1\",CHAR(10),IFERROR(#REF!,\"\"))","v":"Trimestre 1\n"},{"$f":"_xlfn.CONCAT(\"Trimestre 1\",CHAR(10),IFERROR(#REF!,\"\"))","v":"Trimestre 1\n"},{"$f":"_xlfn.CONCAT(\"Trimestre 1\",CHAR(10),IFERROR(#REF!,\"\"))","v":"Trimestre 1\n"},{"$f":"_xlfn.CONCAT(\"Trimestre 1\",CHAR(10),IFERROR(#REF!,\"\"))","v":"Trimestre 1\n"},{"$f":"_xlfn.CONCAT(\"Trimestre 1\",CHAR(10),IFERROR(#REF!,\"\"))","v":"Trimestre 1\n"}]
[null,null,null,null,null,null,null,null,null,null,null,null,null,null,null,null,null,null,null,null,null,null,null,null,null,{"$f":"IFERROR(#REF!,\" \")","v":" "},{"$f":"IFERROR(#REF!,\"\")","v":""},{"$f":"IFERROR(#REF!,\"\")","v":""},"","",{"$f":"IFERROR(#REF!,\"\")","v":""},"",{"$f":"IFERROR(#REF!,\"\")","v":""},{"$f":"IFERROR(#REF!,\"\")","v":""},{"$f":"_xlfn.CONCAT(\"Trimestre 1\",CHAR(10),IFERROR(#REF!,\"\"))","v":"Trimestre 1\n"},{"$f":"_xlfn.CONCAT(\"Trimestre 1\",CHAR(10),IFERROR(#REF!,\"\"))","v":"Trimestre 1\n"},{"$f":"_xlfn.CONCAT(\"Trimestre 1\",CHAR(10),IFERROR(#REF!,\"\"))","v":"Trimestre 1\n"},{"$f":"_xlfn.CONCAT(\"Trimestre 1\",CHAR(10),IFERROR(#REF!,\"\"))","v":"Trimestre 1\n"},{"$f":"_xlfn.CONCAT(\"Trimestre 1\",CHAR(10),IFERROR(#REF!,\"\"))","v":"Trimestre 1\n"}]
[null,null,null,null,null,null,null,null,null,null,null,null,null,null,null,null,null,null,null,null,null,null,null,null,null,{"$f":"IFERROR(#REF!,\" \")","v":" "},{"$f":"IFERROR(#REF!,\"\")","v":""},{"$f":"IFERROR(#REF!,\"\")","v":""},"","",{"$f":"IFERROR(#REF!,\"\")","v":""},"",{"$f":"IFERROR(#REF!,\"\")","v":""},{"$f":"IFERROR(#REF!,\"\")","v":""},{"$f":"_xlfn.CONCAT(\"Trimestre 1\",CHAR(10),IFERROR(#REF!,\"\"))","v":"Trimestre 1\n"},{"$f":"_xlfn.CONCAT(\"Trimestre 1\",CHAR(10),IFERROR(#REF!,\"\"))","v":"Trimestre 1\n"},{"$f":"_xlfn.CONCAT(\"Trimestre 1\",CHAR(10),IFERROR(#REF!,\"\"))","v":"Trimestre 1\n"},{"$f":"_xlfn.CONCAT(\"Trimestre 1\",CHAR(10),IFERROR(#REF!,\"\"))","v":"Trimestre 1\n"},{"$f":"_xlfn.CONCAT(\"Trimestre 1\",CHAR(10),IFERROR(#REF!,\"\"))","v":"Trimestre 1\n"}]
[null,null,null,null,null,null,null,null,null,null,null,null,null,null,null,null,null,null,null,null,null,null,null,null,null,{"$f":"IFERROR(#REF!,\" \")","v":" "},{"$f":"IFERROR(#REF!,\"\")","v":""},{"$f":"IFERROR(#REF!,\"\")","v":""},"","",{"$f":"IFERROR(#REF!,\"\")","v":""},"",{"$f":"IFERROR(#REF!,\"\")","v":""},{"$f":"IFERROR(#REF!,\"\")","v":""},{"$f":"_xlfn.CONCAT(\"Trimestre 1\",CHAR(10),IFERROR(#REF!,\"\"))","v":"Trimestre 1\n"},{"$f":"_xlfn.CONCAT(\"Trimestre 1\",CHAR(10),IFERROR(#REF!,\"\"))","v":"Trimestre 1\n"},{"$f":"_xlfn.CONCAT(\"Trimestre 1\",CHAR(10),IFERROR(#REF!,\"\"))","v":"Trimestre 1\n"},{"$f":"_xlfn.CONCAT(\"Trimestre 1\",CHAR(10),IFERROR(#REF!,\"\"))","v":"Trimestre 1\n"},{"$f":"_xlfn.CONCAT(\"Trimestre 1\",CHAR(10),IFERROR(#REF!,\"\"))","v":"Trimestre 1\n"}]
[null,null,"5. Prevenir fenómenos asociados con actos de corrupción en la Rama Judicial y reducir las experiencias de corrupción de usuarios y servidores judiciales.","Cumplimiento del Plan Anticorrupción y de Atención al Ciudadano de la Rama Judicial","# Actividades cumplidas del PAAC/# Actividades programada s del PAAC*100",null,null,null,null,null,null,null,null,null,null,null,null,null,null,null,null,null,null,null,null,{"$f":"IFERROR(#REF!,\" \")","v":" "},{"$f":"IFERROR(#REF!,\"\")","v":""},{"$f":"IFERROR(#REF!,\"\")","v":""},"","",{"$f":"IFERROR(#REF!,\"\")","v":""},"",{"$f":"IFERROR(#REF!,\"\")","v":""},{"$f":"IFERROR(#REF!,\"\")","v":""},{"$f":"_xlfn.CONCAT(\"Trimestre 1\",CHAR(10),IFERROR(#REF!,\"\"))","v":"Trimestre 1\n"},{"$f":"_xlfn.CONCAT(\"Trimestre 1\",CHAR(10),IFERROR(#REF!,\"\"))","v":"Trimestre 1\n"},{"$f":"_xlfn.CONCAT(\"Trimestre 1\",CHAR(10),IFERROR(#REF!,\"\"))","v":"Trimestre 1\n"},{"$f":"_xlfn.CONCAT(\"Trimestre 1\",CHAR(10),IFERROR(#REF!,\"\"))","v":"Trimestre 1\n"},{"$f":"_xlfn.CONCAT(\"Trimestre 1\",CHAR(10),IFERROR(#REF!,\"\"))","v":"Trimestre 1\n"}]
[null,null,null,null,null,null,null,null,null,null,null,null,null,null,null,null,null,null,null,null,null,null,null,null,null,{"$f":"IFERROR(#REF!,\" \")","v":" "},{"$f":"IFERROR(#REF!,\"\")","v":""},{"$f":"IFERROR(#REF!,\"\")","v":""},"","",{"$f":"IFERROR(#REF!,\"\")","v":""},"",{"$f":"IFERROR(#REF!,\"\")","v":""},{"$f":"IFERROR(#REF!,\"\")","v":""},{"$f":"_xlfn.CONCAT(\"Trimestre 1\",CHAR(10),IFERROR(#REF!,\"\"))","v":"Trimestre 1\n"},{"$f":"_xlfn.CONCAT(\"Trimestre 1\",CHAR(10),IFERROR(#REF!,\"\"))","v":"Trimestre 1\n"},{"$f":"_xlfn.CONCAT(\"Trimestre 1\",CHAR(10),IFERROR(#REF!,\"\"))","v":"Trimestre 1\n"},{"$f":"_xlfn.CONCAT(\"Trimestre 1\",CHAR(10),IFERROR(#REF!,\"\"))","v":"Trimestre 1\n"},{"$f":"_xlfn.CONCAT(\"Trimestre 1\",CHAR(10),IFERROR(#REF!,\"\"))","v":"Trimestre 1\n"}]
[null,null,null,null,null,null,null,null,null,null,null,null,null,null,null,null,null,null,null,null,null,null,null,null,null,{"$f":"IFERROR(#REF!,\" \")","v":" "},{"$f":"IFERROR(#REF!,\"\")","v":""},{"$f":"IFERROR(#REF!,\"\")","v":""},"","",{"$f":"IFERROR(#REF!,\"\")","v":""},"",{"$f":"IFERROR(#REF!,\"\")","v":""},{"$f":"IFERROR(#REF!,\"\")","v":""},{"$f":"_xlfn.CONCAT(\"Trimestre 1\",CHAR(10),IFERROR(#REF!,\"\"))","v":"Trimestre 1\n"},{"$f":"_xlfn.CONCAT(\"Trimestre 1\",CHAR(10),IFERROR(#REF!,\"\"))","v":"Trimestre 1\n"},{"$f":"_xlfn.CONCAT(\"Trimestre 1\",CHAR(10),IFERROR(#REF!,\"\"))","v":"Trimestre 1\n"},{"$f":"_xlfn.CONCAT(\"Trimestre 1\",CHAR(10),IFERROR(#REF!,\"\"))","v":"Trimestre 1\n"},{"$f":"_xlfn.CONCAT(\"Trimestre 1\",CHAR(10),IFERROR(#REF!,\"\"))","v":"Trimestre 1\n"}]
[null,null,null,null,null,null,null,null,null,null,null,null,null,null,null,null,null,null,null,null,null,null,null,null,null,{"$f":"IFERROR(#REF!,\" \")","v":" "},{"$f":"IFERROR(#REF!,\"\")","v":""},{"$f":"IFERROR(#REF!,\"\")","v":""},"","",{"$f":"IFERROR(#REF!,\"\")","v":""},"",{"$f":"IFERROR(#REF!,\"\")","v":""},{"$f":"IFERROR(#REF!,\"\")","v":""},{"$f":"_xlfn.CONCAT(\"Trimestre 1\",CHAR(10),IFERROR(#REF!,\"\"))","v":"Trimestre 1\n"},{"$f":"_xlfn.CONCAT(\"Trimestre 1\",CHAR(10),IFERROR(#REF!,\"\"))","v":"Trimestre 1\n"},{"$f":"_xlfn.CONCAT(\"Trimestre 1\",CHAR(10),IFERROR(#REF!,\"\"))","v":"Trimestre 1\n"},{"$f":"_xlfn.CONCAT(\"Trimestre 1\",CHAR(10),IFERROR(#REF!,\"\"))","v":"Trimestre 1\n"},{"$f":"_xlfn.CONCAT(\"Trimestre 1\",CHAR(10),IFERROR(#REF!,\"\"))","v":"Trimestre 1\n"}]
[null,null,null,null,null,null,null,null,null,null,null,null,null,null,null,null,null,null,null,null,null,null,null,null,null,{"$f":"IFERROR(#REF!,\" \")","v":" "},{"$f":"IFERROR(#REF!,\"\")","v":""},{"$f":"IFERROR(#REF!,\"\")","v":""},"","",{"$f":"IFERROR(#REF!,\"\")","v":""},"",{"$f":"IFERROR(#REF!,\"\")","v":""},{"$f":"IFERROR(#REF!,\"\")","v":""},{"$f":"_xlfn.CONCAT(\"Trimestre 1\",CHAR(10),IFERROR(#REF!,\"\"))","v":"Trimestre 1\n"},{"$f":"_xlfn.CONCAT(\"Trimestre 1\",CHAR(10),IFERROR(#REF!,\"\"))","v":"Trimestre 1\n"},{"$f":"_xlfn.CONCAT(\"Trimestre 1\",CHAR(10),IFERROR(#REF!,\"\"))","v":"Trimestre 1\n"},{"$f":"_xlfn.CONCAT(\"Trimestre 1\",CHAR(10),IFERROR(#REF!,\"\"))","v":"Trimestre 1\n"},{"$f":"_xlfn.CONCAT(\"Trimestre 1\",CHAR(10),IFERROR(#REF!,\"\"))","v":"Trimestre 1\n"}]
[null,null,null,null,null,null,null,null,null,null,null,null,null,null,null,null,null,null,null,null,null,null,null,null,null,{"$f":"IFERROR(#REF!,\" \")","v":" "},{"$f":"IFERROR(#REF!,\"\")","v":""},{"$f":"IFERROR(#REF!,\"\")","v":""},"","",{"$f":"IFERROR(#REF!,\"\")","v":""},"",{"$f":"IFERROR(#REF!,\"\")","v":""},{"$f":"IFERROR(#REF!,\"\")","v":""},{"$f":"_xlfn.CONCAT(\"Trimestre 1\",CHAR(10),IFERROR(#REF!,\"\"))","v":"Trimestre 1\n"},{"$f":"_xlfn.CONCAT(\"Trimestre 1\",CHAR(10),IFERROR(#REF!,\"\"))","v":"Trimestre 1\n"},{"$f":"_xlfn.CONCAT(\"Trimestre 1\",CHAR(10),IFERROR(#REF!,\"\"))","v":"Trimestre 1\n"},{"$f":"_xlfn.CONCAT(\"Trimestre 1\",CHAR(10),IFERROR(#REF!,\"\"))","v":"Trimestre 1\n"},{"$f":"_xlfn.CONCAT(\"Trimestre 1\",CHAR(10),IFERROR(#REF!,\"\"))","v":"Trimestre 1\n"}]
[null,null,null,null,null,null,null,null,null,null,null,null,null,null,null,null,null,null,null,null,null,null,null,null,null,{"$f":"IFERROR(#REF!,\" \")","v":" "},{"$f":"IFERROR(#REF!,\"\")","v":""},{"$f":"IFERROR(#REF!,\"\")","v":""},"","",{"$f":"IFERROR(#REF!,\"\")","v":""},"",{"$f":"IFERROR(#REF!,\"\")","v":""},{"$f":"IFERROR(#REF!,\"\")","v":""},{"$f":"_xlfn.CONCAT(\"Trimestre 1\",CHAR(10),IFERROR(#REF!,\"\"))","v":"Trimestre 1\n"},{"$f":"_xlfn.CONCAT(\"Trimestre 1\",CHAR(10),IFERROR(#REF!,\"\"))","v":"Trimestre 1\n"},{"$f":"_xlfn.CONCAT(\"Trimestre 1\",CHAR(10),IFERROR(#REF!,\"\"))","v":"Trimestre 1\n"},{"$f":"_xlfn.CONCAT(\"Trimestre 1\",CHAR(10),IFERROR(#REF!,\"\"))","v":"Trimestre 1\n"},{"$f":"_xlfn.CONCAT(\"Trimestre 1\",CHAR(10),IFERROR(#REF!,\"\"))","v":"Trimestre 1\n"}]
[null,null,null,null,null,null,null,null,null,null,null,null,null,null,null,null,null,null,null,null,null,null,null,null,null,{"$f":"IFERROR(#REF!,\" \")","v":" "},{"$f":"IFERROR(#REF!,\"\")","v":""},{"$f":"IFERROR(#REF!,\"\")","v":""},"","",{"$f":"IFERROR(#REF!,\"\")","v":""},"",{"$f":"IFERROR(#REF!,\"\")","v":""},{"$f":"IFERROR(#REF!,\"\")","v":""},{"$f":"_xlfn.CONCAT(\"Trimestre 1\",CHAR(10),IFERROR(#REF!,\"\"))","v":"Trimestre 1\n"},{"$f":"_xlfn.CONCAT(\"Trimestre 1\",CHAR(10),IFERROR(#REF!,\"\"))","v":"Trimestre 1\n"},{"$f":"_xlfn.CONCAT(\"Trimestre 1\",CHAR(10),IFERROR(#REF!,\"\"))","v":"Trimestre 1\n"},{"$f":"_xlfn.CONCAT(\"Trimestre 1\",CHAR(10),IFERROR(#REF!,\"\"))","v":"Trimestre 1\n"},{"$f":"_xlfn.CONCAT(\"Trimestre 1\",CHAR(10),IFERROR(#REF!,\"\"))","v":"Trimestre 1\n"}]
[null,null,null,null,null,null,null,null,null,null,null,null,null,null,null,null,null,null,null,null,null,null,null,null,null,{"$f":"IFERROR(#REF!,\" \")","v":" "},{"$f":"IFERROR(#REF!,\"\")","v":""},{"$f":"IFERROR(#REF!,\"\")","v":""},"","",{"$f":"IFERROR(#REF!,\"\")","v":""},"",{"$f":"IFERROR(#REF!,\"\")","v":""},{"$f":"IFERROR(#REF!,\"\")","v":""},{"$f":"_xlfn.CONCAT(\"Trimestre 1\",CHAR(10),IFERROR(#REF!,\"\"))","v":"Trimestre 1\n"},{"$f":"_xlfn.CONCAT(\"Trimestre 1\",CHAR(10),IFERROR(#REF!,\"\"))","v":"Trimestre 1\n"},{"$f":"_xlfn.CONCAT(\"Trimestre 1\",CHAR(10),IFERROR(#REF!,\"\"))","v":"Trimestre 1\n"},{"$f":"_xlfn.CONCAT(\"Trimestre 1\",CHAR(10),IFERROR(#REF!,\"\"))","v":"Trimestre 1\n"},{"$f":"_xlfn.CONCAT(\"Trimestre 1\",CHAR(10),IFERROR(#REF!,\"\"))","v":"Trimestre 1\n"}]
[null,null,null,null,null,null,null,null,null,null,null,null,null,null,null,null,null,null,null,null,null,null,null,null,null,{"$f":"IFERROR(#REF!,\" \")","v":" "},{"$f":"IFERROR(#REF!,\"\")","v":""},{"$f":"IFERROR(#REF!,\"\")","v":""},"","",{"$f":"IFERROR(#REF!,\"\")","v":""},"",{"$f":"IFERROR(#REF!,\"\")","v":""},{"$f":"IFERROR(#REF!,\"\")","v":""},{"$f":"_xlfn.CONCAT(\"Trimestre 1\",CHAR(10),IFERROR(#REF!,\"\"))","v":"Trimestre 1\n"},{"$f":"_xlfn.CONCAT(\"Trimestre 1\",CHAR(10),IFERROR(#REF!,\"\"))","v":"Trimestre 1\n"},{"$f":"_xlfn.CONCAT(\"Trimestre 1\",CHAR(10),IFERROR(#REF!,\"\"))","v":"Trimestre 1\n"},{"$f":"_xlfn.CONCAT(\"Trimestre 1\",CHAR(10),IFERROR(#REF!,\"\"))","v":"Trimestre 1\n"},{"$f":"_xlfn.CONCAT(\"Trimestre 1\",CHAR(10),IFERROR(#REF!,\"\"))","v":"Trimestre 1\n"}]
[null,null,"6. Promover la rendición de cuentas y la colaboración real con la ciudadanía como fundamento para diseñar acciones de mejoramiento del acceso a la justicia.","Estrategias para implementar la colaboración real con la ciudadanía en el marco de la \"justicia abierta\" implementadas","% de implementa ción de las estrategias de colaboració n real con la ciudadanía en el marco de la \"justicia abierta\" definidas para cada anualidad",null,null,null,null,null,null,null,null,null,null,null,null,null,null,null,null,null,null,null,null,{"$f":"IFERROR(#REF!,\" \")","v":" "},{"$f":"IFERROR(#REF!,\"\")","v":""},{"$f":"IFERROR(#REF!,\"\")","v":""},"","",{"$f":"IFERROR(#REF!,\"\")","v":""},"",{"$f":"IFERROR(#REF!,\"\")","v":""},{"$f":"IFERROR(#REF!,\"\")","v":""},{"$f":"_xlfn.CONCAT(\"Trimestre 1\",CHAR(10),IFERROR(#REF!,\"\"))","v":"Trimestre 1\n"},{"$f":"_xlfn.CONCAT(\"Trimestre 1\",CHAR(10),IFERROR(#REF!,\"\"))","v":"Trimestre 1\n"},{"$f":"_xlfn.CONCAT(\"Trimestre 1\",CHAR(10),IFERROR(#REF!,\"\"))","v":"Trimestre 1\n"},{"$f":"_xlfn.CONCAT(\"Trimestre 1\",CHAR(10),IFERROR(#REF!,\"\"))","v":"Trimestre 1\n"},{"$f":"_xlfn.CONCAT(\"Trimestre 1\",CHAR(10),IFERROR(#REF!,\"\"))","v":"Trimestre 1\n"}]
[null,null,null,null,null,null,null,null,null,null,null,null,null,null,null,null,null,null,null,null,null,null,null,null,null,{"$f":"IFERROR(#REF!,\" \")","v":" "},{"$f":"IFERROR(#REF!,\"\")","v":""},{"$f":"IFERROR(#REF!,\"\")","v":""},"","",{"$f":"IFERROR(#REF!,\"\")","v":""},"",{"$f":"IFERROR(#REF!,\"\")","v":""},{"$f":"IFERROR(#REF!,\"\")","v":""},{"$f":"_xlfn.CONCAT(\"Trimestre 1\",CHAR(10),IFERROR(#REF!,\"\"))","v":"Trimestre 1\n"},{"$f":"_xlfn.CONCAT(\"Trimestre 1\",CHAR(10),IFERROR(#REF!,\"\"))","v":"Trimestre 1\n"},{"$f":"_xlfn.CONCAT(\"Trimestre 1\",CHAR(10),IFERROR(#REF!,\"\"))","v":"Trimestre 1\n"},{"$f":"_xlfn.CONCAT(\"Trimestre 1\",CHAR(10),IFERROR(#REF!,\"\"))","v":"Trimestre 1\n"},{"$f":"_xlfn.CONCAT(\"Trimestre 1\",CHAR(10),IFERROR(#REF!,\"\"))","v":"Trimestre 1\n"}]
[null,null,null,null,null,null,null,null,null,null,null,null,null,null,null,null,null,null,null,null,null,null,null,null,null,{"$f":"IFERROR(#REF!,\" \")","v":" "},{"$f":"IFERROR(#REF!,\"\")","v":""},{"$f":"IFERROR(#REF!,\"\")","v":""},"","",{"$f":"IFERROR(#REF!,\"\")","v":""},"",{"$f":"IFERROR(#REF!,\"\")","v":""},{"$f":"IFERROR(#REF!,\"\")","v":""},{"$f":"_xlfn.CONCAT(\"Trimestre 1\",CHAR(10),IFERROR(#REF!,\"\"))","v":"Trimestre 1\n"},{"$f":"_xlfn.CONCAT(\"Trimestre 1\",CHAR(10),IFERROR(#REF!,\"\"))","v":"Trimestre 1\n"},{"$f":"_xlfn.CONCAT(\"Trimestre 1\",CHAR(10),IFERROR(#REF!,\"\"))","v":"Trimestre 1\n"},{"$f":"_xlfn.CONCAT(\"Trimestre 1\",CHAR(10),IFERROR(#REF!,\"\"))","v":"Trimestre 1\n"},{"$f":"_xlfn.CONCAT(\"Trimestre 1\",CHAR(10),IFERROR(#REF!,\"\"))","v":"Trimestre 1\n"}]
[null,null,null,null,null,null,null,null,null,null,null,null,null,null,null,null,null,null,null,null,null,null,null,null,null,{"$f":"IFERROR(#REF!,\" \")","v":" "},{"$f":"IFERROR(#REF!,\"\")","v":""},{"$f":"IFERROR(#REF!,\"\")","v":""},"","",{"$f":"IFERROR(#REF!,\"\")","v":""},"",{"$f":"IFERROR(#REF!,\"\")","v":""},{"$f":"IFERROR(#REF!,\"\")","v":""},{"$f":"_xlfn.CONCAT(\"Trimestre 1\",CHAR(10),IFERROR(#REF!,\"\"))","v":"Trimestre 1\n"},{"$f":"_xlfn.CONCAT(\"Trimestre 1\",CHAR(10),IFERROR(#REF!,\"\"))","v":"Trimestre 1\n"},{"$f":"_xlfn.CONCAT(\"Trimestre 1\",CHAR(10),IFERROR(#REF!,\"\"))","v":"Trimestre 1\n"},{"$f":"_xlfn.CONCAT(\"Trimestre 1\",CHAR(10),IFERROR(#REF!,\"\"))","v":"Trimestre 1\n"},{"$f":"_xlfn.CONCAT(\"Trimestre 1\",CHAR(10),IFERROR(#REF!,\"\"))","v":"Trimestre 1\n"}]
[null,null,null,null,null,null,null,null,null,null,null,null,null,null,null,null,null,null,null,null,null,null,null,null,null,{"$f":"IFERROR(#REF!,\" \")","v":" "},{"$f":"IFERROR(#REF!,\"\")","v":""},{"$f":"IFERROR(#REF!,\"\")","v":""},"","",{"$f":"IFERROR(#REF!,\"\")","v":""},"",{"$f":"IFERROR(#REF!,\"\")","v":""},{"$f":"IFERROR(#REF!,\"\")","v":""},{"$f":"_xlfn.CONCAT(\"Trimestre 1\",CHAR(10),IFERROR(#REF!,\"\"))","v":"Trimestre 1\n"},{"$f":"_xlfn.CONCAT(\"Trimestre 1\",CHAR(10),IFERROR(#REF!,\"\"))","v":"Trimestre 1\n"},{"$f":"_xlfn.CONCAT(\"Trimestre 1\",CHAR(10),IFERROR(#REF!,\"\"))","v":"Trimestre 1\n"},{"$f":"_xlfn.CONCAT(\"Trimestre 1\",CHAR(10),IFERROR(#REF!,\"\"))","v":"Trimestre 1\n"},{"$f":"_xlfn.CONCAT(\"Trimestre 1\",CHAR(10),IFERROR(#REF!,\"\"))","v":"Trimestre 1\n"}]
[null,null,null,null,null,null,null,null,null,null,null,null,null,null,null,null,null,null,null,null,null,null,null,null,null,{"$f":"IFERROR(#REF!,\" \")","v":" "},{"$f":"IFERROR(#REF!,\"\")","v":""},{"$f":"IFERROR(#REF!,\"\")","v":""},"","",{"$f":"IFERROR(#REF!,\"\")","v":""},"",{"$f":"IFERROR(#REF!,\"\")","v":""},{"$f":"IFERROR(#REF!,\"\")","v":""},{"$f":"_xlfn.CONCAT(\"Trimestre 1\",CHAR(10),IFERROR(#REF!,\"\"))","v":"Trimestre 1\n"},{"$f":"_xlfn.CONCAT(\"Trimestre 1\",CHAR(10),IFERROR(#REF!,\"\"))","v":"Trimestre 1\n"},{"$f":"_xlfn.CONCAT(\"Trimestre 1\",CHAR(10),IFERROR(#REF!,\"\"))","v":"Trimestre 1\n"},{"$f":"_xlfn.CONCAT(\"Trimestre 1\",CHAR(10),IFERROR(#REF!,\"\"))","v":"Trimestre 1\n"},{"$f":"_xlfn.CONCAT(\"Trimestre 1\",CHAR(10),IFERROR(#REF!,\"\"))","v":"Trimestre 1\n"}]
[null,null,null,null,null,null,null,null,null,null,null,null,null,null,null,null,null,null,null,null,null,null,null,null,null,{"$f":"IFERROR(#REF!,\" \")","v":" "},{"$f":"IFERROR(#REF!,\"\")","v":""},{"$f":"IFERROR(#REF!,\"\")","v":""},"","",{"$f":"IFERROR(#REF!,\"\")","v":""},"",{"$f":"IFERROR(#REF!,\"\")","v":""},{"$f":"IFERROR(#REF!,\"\")","v":""},{"$f":"_xlfn.CONCAT(\"Trimestre 1\",CHAR(10),IFERROR(#REF!,\"\"))","v":"Trimestre 1\n"},{"$f":"_xlfn.CONCAT(\"Trimestre 1\",CHAR(10),IFERROR(#REF!,\"\"))","v":"Trimestre 1\n"},{"$f":"_xlfn.CONCAT(\"Trimestre 1\",CHAR(10),IFERROR(#REF!,\"\"))","v":"Trimestre 1\n"},{"$f":"_xlfn.CONCAT(\"Trimestre 1\",CHAR(10),IFERROR(#REF!,\"\"))","v":"Trimestre 1\n"},{"$f":"_xlfn.CONCAT(\"Trimestre 1\",CHAR(10),IFERROR(#REF!,\"\"))","v":"Trimestre 1\n"}]
[null,null,null,null,null,null,null,null,null,null,null,null,null,null,null,null,null,null,null,null,null,null,null,null,null,{"$f":"IFERROR(#REF!,\" \")","v":" "},{"$f":"IFERROR(#REF!,\"\")","v":""},{"$f":"IFERROR(#REF!,\"\")","v":""},"","",{"$f":"IFERROR(#REF!,\"\")","v":""},"",{"$f":"IFERROR(#REF!,\"\")","v":""},{"$f":"IFERROR(#REF!,\"\")","v":""},{"$f":"_xlfn.CONCAT(\"Trimestre 1\",CHAR(10),IFERROR(#REF!,\"\"))","v":"Trimestre 1\n"},{"$f":"_xlfn.CONCAT(\"Trimestre 1\",CHAR(10),IFERROR(#REF!,\"\"))","v":"Trimestre 1\n"},{"$f":"_xlfn.CONCAT(\"Trimestre 1\",CHAR(10),IFERROR(#REF!,\"\"))","v":"Trimestre 1\n"},{"$f":"_xlfn.CONCAT(\"Trimestre 1\",CHAR(10),IFERROR(#REF!,\"\"))","v":"Trimestre 1\n"},{"$f":"_xlfn.CONCAT(\"Trimestre 1\",CHAR(10),IFERROR(#REF!,\"\"))","v":"Trimestre 1\n"}]
[null,null,null,null,null,null,null,null,null,null,null,null,null,null,null,null,null,null,null,null,null,null,null,null,null,{"$f":"IFERROR(#REF!,\" \")","v":" "},{"$f":"IFERROR(#REF!,\"\")","v":""},{"$f":"IFERROR(#REF!,\"\")","v":""},"","",{"$f":"IFERROR(#REF!,\"\")","v":""},"",{"$f":"IFERROR(#REF!,\"\")","v":""},{"$f":"IFERROR(#REF!,\"\")","v":""},{"$f":"_xlfn.CONCAT(\"Trimestre 1\",CHAR(10),IFERROR(#REF!,\"\"))","v":"Trimestre 1\n"},{"$f":"_xlfn.CONCAT(\"Trimestre 1\",CHAR(10),IFERROR(#REF!,\"\"))","v":"Trimestre 1\n"},{"$f":"_xlfn.CONCAT(\"Trimestre 1\",CHAR(10),IFERROR(#REF!,\"\"))","v":"Trimestre 1\n"},{"$f":"_xlfn.CONCAT(\"Trimestre 1\",CHAR(10),IFERROR(#REF!,\"\"))","v":"Trimestre 1\n"},{"$f":"_xlfn.CONCAT(\"Trimestre 1\",CHAR(10),IFERROR(#REF!,\"\"))","v":"Trimestre 1\n"}]
[null,null,null,null,null,null,null,null,null,null,null,null,null,null,null,null,null,null,null,null,null,null,null,null,null,{"$f":"IFERROR(#REF!,\" \")","v":" "},{"$f":"IFERROR(#REF!,\"\")","v":""},{"$f":"IFERROR(#REF!,\"\")","v":""},"","",{"$f":"IFERROR(#REF!,\"\")","v":""},"",{"$f":"IFERROR(#REF!,\"\")","v":""},{"$f":"IFERROR(#REF!,\"\")","v":""},{"$f":"_xlfn.CONCAT(\"Trimestre 1\",CHAR(10),IFERROR(#REF!,\"\"))","v":"Trimestre 1\n"},{"$f":"_xlfn.CONCAT(\"Trimestre 1\",CHAR(10),IFERROR(#REF!,\"\"))","v":"Trimestre 1\n"},{"$f":"_xlfn.CONCAT(\"Trimestre 1\",CHAR(10),IFERROR(#REF!,\"\"))","v":"Trimestre 1\n"},{"$f":"_xlfn.CONCAT(\"Trimestre 1\",CHAR(10),IFERROR(#REF!,\"\"))","v":"Trimestre 1\n"},{"$f":"_xlfn.CONCAT(\"Trimestre 1\",CHAR(10),IFERROR(#REF!,\"\"))","v":"Trimestre 1\n"}]
[null,null,"7. Continuar la consolidación del SIGCMA, a través de los procesos de formación en modelos de gestión, logrando la implementación y ampliación de este en los esquemas certificados de manera gradual, teniendo en cuenta las capacidades de los diferentes despachos judiciales y dependencias de la Rama Judicial y articulando el enfoque de Arquitectura Empresarial para el desarrollo del PETD a través de la gestión del conocimiento para la gestión del cambio propendiendo por una cultura de la calidad, la transparencia, la rendición de cuentas, la anticorrupción y el antisoborno","Procesos de formación en modelos de gestión aplicados","# de servidores judiciales formados en modelos de gestión de las dependenci as judiciales y administrati vas certificadas en SIGCMA que implementa n el PETD / # total de servidores judiciales de las dependenci as judiciales y administrati vas certificadas en SIGCMA que implementa n el PETD","1. Gestionar el desarrollo de las competencias, la toma de conciencia , la cultura  organizacional  y el compromiso de los  servidores judiciales, contratistas, practicantes y  judicantes de contribuir a generar valor público en la administración de justicia, en el marco de  cumplimiento de los requisitos  aplicables y el comportamiento ético.\n4. Hacer un uso racional de los recursos naturales aplicando los principios y fases de la Economía Circular, para prevenir, mitigar y controlar los impactos ambientales.",null,null,null,null,null,null,null,null,null,null,null,null,null,null,null,null,null,null,null,{"$f":"IFERROR(#REF!,\" \")","v":" "},{"$f":"IFERROR(#REF!,\"\")","v":""},{"$f":"IFERROR(#REF!,\"\")","v":""},"","",{"$f":"IFERROR(#REF!,\"\")","v":""},"",{"$f":"IFERROR(#REF!,\"\")","v":""},{"$f":"IFERROR(#REF!,\"\")","v":""},{"$f":"_xlfn.CONCAT(\"Trimestre 1\",CHAR(10),IFERROR(#REF!,\"\"))","v":"Trimestre 1\n"},{"$f":"_xlfn.CONCAT(\"Trimestre 1\",CHAR(10),IFERROR(#REF!,\"\"))","v":"Trimestre 1\n"},{"$f":"_xlfn.CONCAT(\"Trimestre 1\",CHAR(10),IFERROR(#REF!,\"\"))","v":"Trimestre 1\n"},{"$f":"_xlfn.CONCAT(\"Trimestre 1\",CHAR(10),IFERROR(#REF!,\"\"))","v":"Trimestre 1\n"},{"$f":"_xlfn.CONCAT(\"Trimestre 1\",CHAR(10),IFERROR(#REF!,\"\"))","v":"Trimestre 1\n"}]
[null,null,null,null,null,null,null,null,null,null,null,null,null,null,null,null,null,null,null,null,null,null,null,null,null,{"$f":"IFERROR(#REF!,\" \")","v":" "},{"$f":"IFERROR(#REF!,\"\")","v":""},{"$f":"IFERROR(#REF!,\"\")","v":""},"","",{"$f":"IFERROR(#REF!,\"\")","v":""},"",{"$f":"IFERROR(#REF!,\"\")","v":""},{"$f":"IFERROR(#REF!,\"\")","v":""},{"$f":"_xlfn.CONCAT(\"Trimestre 1\",CHAR(10),IFERROR(#REF!,\"\"))","v":"Trimestre 1\n"},{"$f":"_xlfn.CONCAT(\"Trimestre 1\",CHAR(10),IFERROR(#REF!,\"\"))","v":"Trimestre 1\n"},{"$f":"_xlfn.CONCAT(\"Trimestre 1\",CHAR(10),IFERROR(#REF!,\"\"))","v":"Trimestre 1\n"},{"$f":"_xlfn.CONCAT(\"Trimestre 1\",CHAR(10),IFERROR(#REF!,\"\"))","v":"Trimestre 1\n"},{"$f":"_xlfn.CONCAT(\"Trimestre 1\",CHAR(10),IFERROR(#REF!,\"\"))","v":"Trimestre 1\n"}]
[null,null,null,null,null,null,null,null,null,null,null,null,null,null,null,null,null,null,null,null,null,null,null,null,null,{"$f":"IFERROR(#REF!,\" \")","v":" "},{"$f":"IFERROR(#REF!,\"\")","v":""},{"$f":"IFERROR(#REF!,\"\")","v":""},"","",{"$f":"IFERROR(#REF!,\"\")","v":""},"",{"$f":"IFERROR(#REF!,\"\")","v":""},{"$f":"IFERROR(#REF!,\"\")","v":""},{"$f":"_xlfn.CONCAT(\"Trimestre 1\",CHAR(10),IFERROR(#REF!,\"\"))","v":"Trimestre 1\n"},{"$f":"_xlfn.CONCAT(\"Trimestre 1\",CHAR(10),IFERROR(#REF!,\"\"))","v":"Trimestre 1\n"},{"$f":"_xlfn.CONCAT(\"Trimestre 1\",CHAR(10),IFERROR(#REF!,\"\"))","v":"Trimestre 1\n"},{"$f":"_xlfn.CONCAT(\"Trimestre 1\",CHAR(10),IFERROR(#REF!,\"\"))","v":"Trimestre 1\n"},{"$f":"_xlfn.CONCAT(\"Trimestre 1\",CHAR(10),IFERROR(#REF!,\"\"))","v":"Trimestre 1\n"}]
[null,null,null,null,null,null,null,null,null,null,null,null,null,null,null,null,null,null,null,null,null,null,null,null,null,{"$f":"IFERROR(#REF!,\" \")","v":" "},{"$f":"IFERROR(#REF!,\"\")","v":""},{"$f":"IFERROR(#REF!,\"\")","v":""},"","",{"$f":"IFERROR(#REF!,\"\")","v":""},"",{"$f":"IFERROR(#REF!,\"\")","v":""},{"$f":"IFERROR(#REF!,\"\")","v":""},{"$f":"_xlfn.CONCAT(\"Trimestre 1\",CHAR(10),IFERROR(#REF!,\"\"))","v":"Trimestre 1\n"},{"$f":"_xlfn.CONCAT(\"Trimestre 1\",CHAR(10),IFERROR(#REF!,\"\"))","v":"Trimestre 1\n"},{"$f":"_xlfn.CONCAT(\"Trimestre 1\",CHAR(10),IFERROR(#REF!,\"\"))","v":"Trimestre 1\n"},{"$f":"_xlfn.CONCAT(\"Trimestre 1\",CHAR(10),IFERROR(#REF!,\"\"))","v":"Trimestre 1\n"},{"$f":"_xlfn.CONCAT(\"Trimestre 1\",CHAR(10),IFERROR(#REF!,\"\"))","v":"Trimestre 1\n"}]
[null,null,null,null,null,null,null,null,null,null,null,null,null,null,null,null,null,null,null,null,null,null,null,null,null,{"$f":"IFERROR(#REF!,\" \")","v":" "},{"$f":"IFERROR(#REF!,\"\")","v":""},{"$f":"IFERROR(#REF!,\"\")","v":""},"","",{"$f":"IFERROR(#REF!,\"\")","v":""},"",{"$f":"IFERROR(#REF!,\"\")","v":""},{"$f":"IFERROR(#REF!,\"\")","v":""},{"$f":"_xlfn.CONCAT(\"Trimestre 1\",CHAR(10),IFERROR(#REF!,\"\"))","v":"Trimestre 1\n"},{"$f":"_xlfn.CONCAT(\"Trimestre 1\",CHAR(10),IFERROR(#REF!,\"\"))","v":"Trimestre 1\n"},{"$f":"_xlfn.CONCAT(\"Trimestre 1\",CHAR(10),IFERROR(#REF!,\"\"))","v":"Trimestre 1\n"},{"$f":"_xlfn.CONCAT(\"Trimestre 1\",CHAR(10),IFERROR(#REF!,\"\"))","v":"Trimestre 1\n"},{"$f":"_xlfn.CONCAT(\"Trimestre 1\",CHAR(10),IFERROR(#REF!,\"\"))","v":"Trimestre 1\n"}]
[null,null,null,null,null,null,null,null,null,null,null,null,null,null,null,null,null,null,null,null,null,null,null,null,null,{"$f":"IFERROR(#REF!,\" \")","v":" "},{"$f":"IFERROR(#REF!,\"\")","v":""},{"$f":"IFERROR(#REF!,\"\")","v":""},"","",{"$f":"IFERROR(#REF!,\"\")","v":""},"",{"$f":"IFERROR(#REF!,\"\")","v":""},{"$f":"IFERROR(#REF!,\"\")","v":""},{"$f":"_xlfn.CONCAT(\"Trimestre 1\",CHAR(10),IFERROR(#REF!,\"\"))","v":"Trimestre 1\n"},{"$f":"_xlfn.CONCAT(\"Trimestre 1\",CHAR(10),IFERROR(#REF!,\"\"))","v":"Trimestre 1\n"},{"$f":"_xlfn.CONCAT(\"Trimestre 1\",CHAR(10),IFERROR(#REF!,\"\"))","v":"Trimestre 1\n"},{"$f":"_xlfn.CONCAT(\"Trimestre 1\",CHAR(10),IFERROR(#REF!,\"\"))","v":"Trimestre 1\n"},{"$f":"_xlfn.CONCAT(\"Trimestre 1\",CHAR(10),IFERROR(#REF!,\"\"))","v":"Trimestre 1\n"}]
[null,null,null,null,null,null,null,null,null,null,null,null,null,null,null,null,null,null,null,null,null,null,null,null,null,{"$f":"IFERROR(#REF!,\" \")","v":" "},{"$f":"IFERROR(#REF!,\"\")","v":""},{"$f":"IFERROR(#REF!,\"\")","v":""},"","",{"$f":"IFERROR(#REF!,\"\")","v":""},"",{"$f":"IFERROR(#REF!,\"\")","v":""},{"$f":"IFERROR(#REF!,\"\")","v":""},{"$f":"_xlfn.CONCAT(\"Trimestre 1\",CHAR(10),IFERROR(#REF!,\"\"))","v":"Trimestre 1\n"},{"$f":"_xlfn.CONCAT(\"Trimestre 1\",CHAR(10),IFERROR(#REF!,\"\"))","v":"Trimestre 1\n"},{"$f":"_xlfn.CONCAT(\"Trimestre 1\",CHAR(10),IFERROR(#REF!,\"\"))","v":"Trimestre 1\n"},{"$f":"_xlfn.CONCAT(\"Trimestre 1\",CHAR(10),IFERROR(#REF!,\"\"))","v":"Trimestre 1\n"},{"$f":"_xlfn.CONCAT(\"Trimestre 1\",CHAR(10),IFERROR(#REF!,\"\"))","v":"Trimestre 1\n"}]
[null,null,null,null,null,null,null,null,null,null,null,null,null,null,null,null,null,null,null,null,null,null,null,null,null,{"$f":"IFERROR(#REF!,\" \")","v":" "},{"$f":"IFERROR(#REF!,\"\")","v":""},{"$f":"IFERROR(#REF!,\"\")","v":""},"","",{"$f":"IFERROR(#REF!,\"\")","v":""},"",{"$f":"IFERROR(#REF!,\"\")","v":""},{"$f":"IFERROR(#REF!,\"\")","v":""},{"$f":"_xlfn.CONCAT(\"Trimestre 1\",CHAR(10),IFERROR(#REF!,\"\"))","v":"Trimestre 1\n"},{"$f":"_xlfn.CONCAT(\"Trimestre 1\",CHAR(10),IFERROR(#REF!,\"\"))","v":"Trimestre 1\n"},{"$f":"_xlfn.CONCAT(\"Trimestre 1\",CHAR(10),IFERROR(#REF!,\"\"))","v":"Trimestre 1\n"},{"$f":"_xlfn.CONCAT(\"Trimestre 1\",CHAR(10),IFERROR(#REF!,\"\"))","v":"Trimestre 1\n"},{"$f":"_xlfn.CONCAT(\"Trimestre 1\",CHAR(10),IFERROR(#REF!,\"\"))","v":"Trimestre 1\n"}]
[null,null,null,null,null,null,null,null,null,null,null,null,null,null,null,null,null,null,null,null,null,null,null,null,null,{"$f":"IFERROR(#REF!,\" \")","v":" "},{"$f":"IFERROR(#REF!,\"\")","v":""},{"$f":"IFERROR(#REF!,\"\")","v":""},"","",{"$f":"IFERROR(#REF!,\"\")","v":""},"",{"$f":"IFERROR(#REF!,\"\")","v":""},{"$f":"IFERROR(#REF!,\"\")","v":""},{"$f":"_xlfn.CONCAT(\"Trimestre 1\",CHAR(10),IFERROR(#REF!,\"\"))","v":"Trimestre 1\n"},{"$f":"_xlfn.CONCAT(\"Trimestre 1\",CHAR(10),IFERROR(#REF!,\"\"))","v":"Trimestre 1\n"},{"$f":"_xlfn.CONCAT(\"Trimestre 1\",CHAR(10),IFERROR(#REF!,\"\"))","v":"Trimestre 1\n"},{"$f":"_xlfn.CONCAT(\"Trimestre 1\",CHAR(10),IFERROR(#REF!,\"\"))","v":"Trimestre 1\n"},{"$f":"_xlfn.CONCAT(\"Trimestre 1\",CHAR(10),IFERROR(#REF!,\"\"))","v":"Trimestre 1\n"}]
[null,null,null,null,null,null,null,null,null,null,null,null,null,null,null,null,null,null,null,null,null,null,null,null,null,{"$f":"IFERROR(#REF!,\" \")","v":" "},{"$f":"IFERROR(#REF!,\"\")","v":""},{"$f":"IFERROR(#REF!,\"\")","v":""},"","",{"$f":"IFERROR(#REF!,\"\")","v":""},"",{"$f":"IFERROR(#REF!,\"\")","v":""},{"$f":"IFERROR(#REF!,\"\")","v":""},{"$f":"_xlfn.CONCAT(\"Trimestre 1\",CHAR(10),IFERROR(#REF!,\"\"))","v":"Trimestre 1\n"},{"$f":"_xlfn.CONCAT(\"Trimestre 1\",CHAR(10),IFERROR(#REF!,\"\"))","v":"Trimestre 1\n"},{"$f":"_xlfn.CONCAT(\"Trimestre 1\",CHAR(10),IFERROR(#REF!,\"\"))","v":"Trimestre 1\n"},{"$f":"_xlfn.CONCAT(\"Trimestre 1\",CHAR(10),IFERROR(#REF!,\"\"))","v":"Trimestre 1\n"},{"$f":"_xlfn.CONCAT(\"Trimestre 1\",CHAR(10),IFERROR(#REF!,\"\"))","v":"Trimestre 1\n"}]
["4. Talento Humano","Talento Humano: Fortalecer el talento humano en la Rama Judicial para que sea eficiente, capacitado y realice su labor en ambientes saludables y seguros. Ampliar la cobertura de la carrera judicial y mejorar la oferta de formación, que esté disponible para todos los servidores judiciales e impacte positivamente el servicio de justicia y responda a las necesidades reales del ejercicio de la función judicial.","1. Ampliar la cobertura de la carrera judicial optimizando los procesos de los concursos de méritos y propender por mitigar su litigiosidad.","Cobertura de la carrera judicial diferenciada entre magistrados, jueces y empleados","# de cargos provistos por carrera judicial/# de cargos de carrera judicial","1. Gestionar el desarrollo de las competencias, la toma de conciencia , la cultura  organizacional  y el compromiso de los  servidores judiciales, contratistas, practicantes y  judicantes de contribuir a generar valor público en la administración de justicia, en el marco de  cumplimiento de los requisitos  aplicables y el comportamiento ético.",null,null,null,null,null,null,null,null,null,null,null,null,null,null,null,null,null,null,null,{"$f":"IFERROR(#REF!,\" \")","v":" "},{"$f":"IFERROR(#REF!,\"\")","v":""},{"$f":"IFERROR(#REF!,\"\")","v":""},"","",{"$f":"IFERROR(#REF!,\"\")","v":""},"",{"$f":"IFERROR(#REF!,\"\")","v":""},{"$f":"IFERROR(#REF!,\"\")","v":""},{"$f":"_xlfn.CONCAT(\"Trimestre 1\",CHAR(10),IFERROR(#REF!,\"\"))","v":"Trimestre 1\n"},{"$f":"_xlfn.CONCAT(\"Trimestre 1\",CHAR(10),IFERROR(#REF!,\"\"))","v":"Trimestre 1\n"},{"$f":"_xlfn.CONCAT(\"Trimestre 1\",CHAR(10),IFERROR(#REF!,\"\"))","v":"Trimestre 1\n"},{"$f":"_xlfn.CONCAT(\"Trimestre 1\",CHAR(10),IFERROR(#REF!,\"\"))","v":"Trimestre 1\n"},{"$f":"_xlfn.CONCAT(\"Trimestre 1\",CHAR(10),IFERROR(#REF!,\"\"))","v":"Trimestre 1\n"}]
[null,null,null,null,null,null,null,null,null,null,null,null,null,null,null,null,null,null,null,null,null,null,null,null,null,{"$f":"IFERROR(#REF!,\" \")","v":" "},{"$f":"IFERROR(#REF!,\"\")","v":""},{"$f":"IFERROR(#REF!,\"\")","v":""},"","",{"$f":"IFERROR(#REF!,\"\")","v":""},"",{"$f":"IFERROR(#REF!,\"\")","v":""},{"$f":"IFERROR(#REF!,\"\")","v":""},{"$f":"_xlfn.CONCAT(\"Trimestre 1\",CHAR(10),IFERROR(#REF!,\"\"))","v":"Trimestre 1\n"},{"$f":"_xlfn.CONCAT(\"Trimestre 1\",CHAR(10),IFERROR(#REF!,\"\"))","v":"Trimestre 1\n"},{"$f":"_xlfn.CONCAT(\"Trimestre 1\",CHAR(10),IFERROR(#REF!,\"\"))","v":"Trimestre 1\n"},{"$f":"_xlfn.CONCAT(\"Trimestre 1\",CHAR(10),IFERROR(#REF!,\"\"))","v":"Trimestre 1\n"},{"$f":"_xlfn.CONCAT(\"Trimestre 1\",CHAR(10),IFERROR(#REF!,\"\"))","v":"Trimestre 1\n"}]
[null,null,null,null,null,null,null,null,null,null,null,null,null,null,null,null,null,null,null,null,null,null,null,null,null,{"$f":"IFERROR(#REF!,\" \")","v":" "},{"$f":"IFERROR(#REF!,\"\")","v":""},{"$f":"IFERROR(#REF!,\"\")","v":""},"","",{"$f":"IFERROR(#REF!,\"\")","v":""},"",{"$f":"IFERROR(#REF!,\"\")","v":""},{"$f":"IFERROR(#REF!,\"\")","v":""},{"$f":"_xlfn.CONCAT(\"Trimestre 1\",CHAR(10),IFERROR(#REF!,\"\"))","v":"Trimestre 1\n"},{"$f":"_xlfn.CONCAT(\"Trimestre 1\",CHAR(10),IFERROR(#REF!,\"\"))","v":"Trimestre 1\n"},{"$f":"_xlfn.CONCAT(\"Trimestre 1\",CHAR(10),IFERROR(#REF!,\"\"))","v":"Trimestre 1\n"},{"$f":"_xlfn.CONCAT(\"Trimestre 1\",CHAR(10),IFERROR(#REF!,\"\"))","v":"Trimestre 1\n"},{"$f":"_xlfn.CONCAT(\"Trimestre 1\",CHAR(10),IFERROR(#REF!,\"\"))","v":"Trimestre 1\n"}]
[null,null,null,null,null,null,null,null,null,null,null,null,null,null,null,null,null,null,null,null,null,null,null,null,null,{"$f":"IFERROR(#REF!,\" \")","v":" "},{"$f":"IFERROR(#REF!,\"\")","v":""},{"$f":"IFERROR(#REF!,\"\")","v":""},"","",{"$f":"IFERROR(#REF!,\"\")","v":""},"",{"$f":"IFERROR(#REF!,\"\")","v":""},{"$f":"IFERROR(#REF!,\"\")","v":""},{"$f":"_xlfn.CONCAT(\"Trimestre 1\",CHAR(10),IFERROR(#REF!,\"\"))","v":"Trimestre 1\n"},{"$f":"_xlfn.CONCAT(\"Trimestre 1\",CHAR(10),IFERROR(#REF!,\"\"))","v":"Trimestre 1\n"},{"$f":"_xlfn.CONCAT(\"Trimestre 1\",CHAR(10),IFERROR(#REF!,\"\"))","v":"Trimestre 1\n"},{"$f":"_xlfn.CONCAT(\"Trimestre 1\",CHAR(10),IFERROR(#REF!,\"\"))","v":"Trimestre 1\n"},{"$f":"_xlfn.CONCAT(\"Trimestre 1\",CHAR(10),IFERROR(#REF!,\"\"))","v":"Trimestre 1\n"}]
[null,null,null,null,null,null,null,null,null,null,null,null,null,null,null,null,null,null,null,null,null,null,null,null,null,{"$f":"IFERROR(#REF!,\" \")","v":" "},{"$f":"IFERROR(#REF!,\"\")","v":""},{"$f":"IFERROR(#REF!,\"\")","v":""},"","",{"$f":"IFERROR(#REF!,\"\")","v":""},"",{"$f":"IFERROR(#REF!,\"\")","v":""},{"$f":"IFERROR(#REF!,\"\")","v":""},{"$f":"_xlfn.CONCAT(\"Trimestre 1\",CHAR(10),IFERROR(#REF!,\"\"))","v":"Trimestre 1\n"},{"$f":"_xlfn.CONCAT(\"Trimestre 1\",CHAR(10),IFERROR(#REF!,\"\"))","v":"Trimestre 1\n"},{"$f":"_xlfn.CONCAT(\"Trimestre 1\",CHAR(10),IFERROR(#REF!,\"\"))","v":"Trimestre 1\n"},{"$f":"_xlfn.CONCAT(\"Trimestre 1\",CHAR(10),IFERROR(#REF!,\"\"))","v":"Trimestre 1\n"},{"$f":"_xlfn.CONCAT(\"Trimestre 1\",CHAR(10),IFERROR(#REF!,\"\"))","v":"Trimestre 1\n"}]
[null,null,null,null,null,null,null,null,null,null,null,null,null,null,null,null,null,null,null,null,null,null,null,null,null,{"$f":"IFERROR(#REF!,\" \")","v":" "},{"$f":"IFERROR(#REF!,\"\")","v":""},{"$f":"IFERROR(#REF!,\"\")","v":""},"","",{"$f":"IFERROR(#REF!,\"\")","v":""},"",{"$f":"IFERROR(#REF!,\"\")","v":""},{"$f":"IFERROR(#REF!,\"\")","v":""},{"$f":"_xlfn.CONCAT(\"Trimestre 1\",CHAR(10),IFERROR(#REF!,\"\"))","v":"Trimestre 1\n"},{"$f":"_xlfn.CONCAT(\"Trimestre 1\",CHAR(10),IFERROR(#REF!,\"\"))","v":"Trimestre 1\n"},{"$f":"_xlfn.CONCAT(\"Trimestre 1\",CHAR(10),IFERROR(#REF!,\"\"))","v":"Trimestre 1\n"},{"$f":"_xlfn.CONCAT(\"Trimestre 1\",CHAR(10),IFERROR(#REF!,\"\"))","v":"Trimestre 1\n"},{"$f":"_xlfn.CONCAT(\"Trimestre 1\",CHAR(10),IFERROR(#REF!,\"\"))","v":"Trimestre 1\n"}]
[null,null,null,null,null,null,null,null,null,null,null,null,null,null,null,null,null,null,null,null,null,null,null,null,null,{"$f":"IFERROR(#REF!,\" \")","v":" "},{"$f":"IFERROR(#REF!,\"\")","v":""},{"$f":"IFERROR(#REF!,\"\")","v":""},"","",{"$f":"IFERROR(#REF!,\"\")","v":""},"",{"$f":"IFERROR(#REF!,\"\")","v":""},{"$f":"IFERROR(#REF!,\"\")","v":""},{"$f":"_xlfn.CONCAT(\"Trimestre 1\",CHAR(10),IFERROR(#REF!,\"\"))","v":"Trimestre 1\n"},{"$f":"_xlfn.CONCAT(\"Trimestre 1\",CHAR(10),IFERROR(#REF!,\"\"))","v":"Trimestre 1\n"},{"$f":"_xlfn.CONCAT(\"Trimestre 1\",CHAR(10),IFERROR(#REF!,\"\"))","v":"Trimestre 1\n"},{"$f":"_xlfn.CONCAT(\"Trimestre 1\",CHAR(10),IFERROR(#REF!,\"\"))","v":"Trimestre 1\n"},{"$f":"_xlfn.CONCAT(\"Trimestre 1\",CHAR(10),IFERROR(#REF!,\"\"))","v":"Trimestre 1\n"}]
[null,null,null,null,null,null,null,null,null,null,null,null,null,null,null,null,null,null,null,null,null,null,null,null,null,{"$f":"IFERROR(#REF!,\" \")","v":" "},{"$f":"IFERROR(#REF!,\"\")","v":""},{"$f":"IFERROR(#REF!,\"\")","v":""},"","",{"$f":"IFERROR(#REF!,\"\")","v":""},"",{"$f":"IFERROR(#REF!,\"\")","v":""},{"$f":"IFERROR(#REF!,\"\")","v":""},{"$f":"_xlfn.CONCAT(\"Trimestre 1\",CHAR(10),IFERROR(#REF!,\"\"))","v":"Trimestre 1\n"},{"$f":"_xlfn.CONCAT(\"Trimestre 1\",CHAR(10),IFERROR(#REF!,\"\"))","v":"Trimestre 1\n"},{"$f":"_xlfn.CONCAT(\"Trimestre 1\",CHAR(10),IFERROR(#REF!,\"\"))","v":"Trimestre 1\n"},{"$f":"_xlfn.CONCAT(\"Trimestre 1\",CHAR(10),IFERROR(#REF!,\"\"))","v":"Trimestre 1\n"},{"$f":"_xlfn.CONCAT(\"Trimestre 1\",CHAR(10),IFERROR(#REF!,\"\"))","v":"Trimestre 1\n"}]
[null,null,null,null,null,null,null,null,null,null,null,null,null,null,null,null,null,null,null,null,null,null,null,null,null,{"$f":"IFERROR(#REF!,\" \")","v":" "},{"$f":"IFERROR(#REF!,\"\")","v":""},{"$f":"IFERROR(#REF!,\"\")","v":""},"","",{"$f":"IFERROR(#REF!,\"\")","v":""},"",{"$f":"IFERROR(#REF!,\"\")","v":""},{"$f":"IFERROR(#REF!,\"\")","v":""},{"$f":"_xlfn.CONCAT(\"Trimestre 1\",CHAR(10),IFERROR(#REF!,\"\"))","v":"Trimestre 1\n"},{"$f":"_xlfn.CONCAT(\"Trimestre 1\",CHAR(10),IFERROR(#REF!,\"\"))","v":"Trimestre 1\n"},{"$f":"_xlfn.CONCAT(\"Trimestre 1\",CHAR(10),IFERROR(#REF!,\"\"))","v":"Trimestre 1\n"},{"$f":"_xlfn.CONCAT(\"Trimestre 1\",CHAR(10),IFERROR(#REF!,\"\"))","v":"Trimestre 1\n"},{"$f":"_xlfn.CONCAT(\"Trimestre 1\",CHAR(10),IFERROR(#REF!,\"\"))","v":"Trimestre 1\n"}]
[null,null,null,null,null,null,null,null,null,null,null,null,null,null,null,null,null,null,null,null,null,null,null,null,null,{"$f":"IFERROR(#REF!,\" \")","v":" "},{"$f":"IFERROR(#REF!,\"\")","v":""},{"$f":"IFERROR(#REF!,\"\")","v":""},"","",{"$f":"IFERROR(#REF!,\"\")","v":""},"",{"$f":"IFERROR(#REF!,\"\")","v":""},{"$f":"IFERROR(#REF!,\"\")","v":""},{"$f":"_xlfn.CONCAT(\"Trimestre 1\",CHAR(10),IFERROR(#REF!,\"\"))","v":"Trimestre 1\n"},{"$f":"_xlfn.CONCAT(\"Trimestre 1\",CHAR(10),IFERROR(#REF!,\"\"))","v":"Trimestre 1\n"},{"$f":"_xlfn.CONCAT(\"Trimestre 1\",CHAR(10),IFERROR(#REF!,\"\"))","v":"Trimestre 1\n"},{"$f":"_xlfn.CONCAT(\"Trimestre 1\",CHAR(10),IFERROR(#REF!,\"\"))","v":"Trimestre 1\n"},{"$f":"_xlfn.CONCAT(\"Trimestre 1\",CHAR(10),IFERROR(#REF!,\"\"))","v":"Trimestre 1\n"}]
[null,null,"2. Impactar la función y servicios que presta la Rama Judicial, a través de una formación integral desde una visión de gestión del conocimiento, relacionada con los problemas de la justicia y los problemas de gestión de quienes administran los recursos de la justicia, y potenciando el uso de medios virtuales.","Cobertura de la formación impartida por la Escuela Judicial en el fortalecimiento de las competencias de los servidores judiciales","# servidores que no han recibido ningún curso de formación en los dos años anteriores al proceso de formación, discriminad o por funcionarios y empleados, municipio y especialida d /# servidores totales, discriminad o por funcionarios y empleados, municipio y especialida d",null,null,null,null,null,null,null,null,null,null,null,null,null,null,null,null,null,null,null,null,{"$f":"IFERROR(#REF!,\" \")","v":" "},{"$f":"IFERROR(#REF!,\"\")","v":""},{"$f":"IFERROR(#REF!,\"\")","v":""},"","",{"$f":"IFERROR(#REF!,\"\")","v":""},"",{"$f":"IFERROR(#REF!,\"\")","v":""},{"$f":"IFERROR(#REF!,\"\")","v":""},{"$f":"_xlfn.CONCAT(\"Trimestre 1\",CHAR(10),IFERROR(#REF!,\"\"))","v":"Trimestre 1\n"},{"$f":"_xlfn.CONCAT(\"Trimestre 1\",CHAR(10),IFERROR(#REF!,\"\"))","v":"Trimestre 1\n"},{"$f":"_xlfn.CONCAT(\"Trimestre 1\",CHAR(10),IFERROR(#REF!,\"\"))","v":"Trimestre 1\n"},{"$f":"_xlfn.CONCAT(\"Trimestre 1\",CHAR(10),IFERROR(#REF!,\"\"))","v":"Trimestre 1\n"},{"$f":"_xlfn.CONCAT(\"Trimestre 1\",CHAR(10),IFERROR(#REF!,\"\"))","v":"Trimestre 1\n"}]
[null,null,null,null,null,null,null,null,null,null,null,null,null,null,null,null,null,null,null,null,null,null,null,null,null,{"$f":"IFERROR(#REF!,\" \")","v":" "},{"$f":"IFERROR(#REF!,\"\")","v":""},{"$f":"IFERROR(#REF!,\"\")","v":""},"","",{"$f":"IFERROR(#REF!,\"\")","v":""},"",{"$f":"IFERROR(#REF!,\"\")","v":""},{"$f":"IFERROR(#REF!,\"\")","v":""},{"$f":"_xlfn.CONCAT(\"Trimestre 1\",CHAR(10),IFERROR(#REF!,\"\"))","v":"Trimestre 1\n"},{"$f":"_xlfn.CONCAT(\"Trimestre 1\",CHAR(10),IFERROR(#REF!,\"\"))","v":"Trimestre 1\n"},{"$f":"_xlfn.CONCAT(\"Trimestre 1\",CHAR(10),IFERROR(#REF!,\"\"))","v":"Trimestre 1\n"},{"$f":"_xlfn.CONCAT(\"Trimestre 1\",CHAR(10),IFERROR(#REF!,\"\"))","v":"Trimestre 1\n"},{"$f":"_xlfn.CONCAT(\"Trimestre 1\",CHAR(10),IFERROR(#REF!,\"\"))","v":"Trimestre 1\n"}]
[null,null,null,null,null,null,null,null,null,null,null,null,null,null,null,null,null,null,null,null,null,null,null,null,null,{"$f":"IFERROR(#REF!,\" \")","v":" "},{"$f":"IFERROR(#REF!,\"\")","v":""},{"$f":"IFERROR(#REF!,\"\")","v":""},"","",{"$f":"IFERROR(#REF!,\"\")","v":""},"",{"$f":"IFERROR(#REF!,\"\")","v":""},{"$f":"IFERROR(#REF!,\"\")","v":""},{"$f":"_xlfn.CONCAT(\"Trimestre 1\",CHAR(10),IFERROR(#REF!,\"\"))","v":"Trimestre 1\n"},{"$f":"_xlfn.CONCAT(\"Trimestre 1\",CHAR(10),IFERROR(#REF!,\"\"))","v":"Trimestre 1\n"},{"$f":"_xlfn.CONCAT(\"Trimestre 1\",CHAR(10),IFERROR(#REF!,\"\"))","v":"Trimestre 1\n"},{"$f":"_xlfn.CONCAT(\"Trimestre 1\",CHAR(10),IFERROR(#REF!,\"\"))","v":"Trimestre 1\n"},{"$f":"_xlfn.CONCAT(\"Trimestre 1\",CHAR(10),IFERROR(#REF!,\"\"))","v":"Trimestre 1\n"}]
[null,null,null,null,null,null,null,null,null,null,null,null,null,null,null,null,null,null,null,null,null,null,null,null,null,{"$f":"IFERROR(#REF!,\" \")","v":" "},{"$f":"IFERROR(#REF!,\"\")","v":""},{"$f":"IFERROR(#REF!,\"\")","v":""},{"$f":"IFERROR(AB199/P199,\"\")","v":""},{"$f":"IFERROR(AA199/Y199,\"\")","v":""},{"$f":"IFERROR(#REF!,\"\")","v":""},{"$f":"IFERROR(P199-AB199,\"\")","v":""},{"$f":"IFERROR(#REF!,\"\")","v":""},{"$f":"IFERROR(#REF!,\"\")","v":""},{"$f":"_xlfn.CONCAT(\"Trimestre 1\",CHAR(10),IFERROR(#REF!,\"\"))","v":"Trimestre 1\n"},{"$f":"_xlfn.CONCAT(\"Trimestre 1\",CHAR(10),IFERROR(#REF!,\"\"))","v":"Trimestre 1\n"},{"$f":"_xlfn.CONCAT(\"Trimestre 1\",CHAR(10),IFERROR(#REF!,\"\"))","v":"Trimestre 1\n"},{"$f":"_xlfn.CONCAT(\"Trimestre 1\",CHAR(10),IFERROR(#REF!,\"\"))","v":"Trimestre 1\n"},{"$f":"_xlfn.CONCAT(\"Trimestre 1\",CHAR(10),IFERROR(#REF!,\"\"))","v":"Trimestre 1\n"}]
[null,null,null,null,null,null,null,null,null,null,null,null,null,null,null,null,null,null,null,null,null,null,null,null,null,{"$f":"IFERROR(#REF!,\" \")","v":" "},{"$f":"IFERROR(#REF!,\"\")","v":""},{"$f":"IFERROR(#REF!,\"\")","v":""},"","",{"$f":"IFERROR(#REF!,\"\")","v":""},"",{"$f":"IFERROR(#REF!,\"\")","v":""},{"$f":"IFERROR(#REF!,\"\")","v":""},{"$f":"_xlfn.CONCAT(\"Trimestre 1\",CHAR(10),IFERROR(#REF!,\"\"))","v":"Trimestre 1\n"},{"$f":"_xlfn.CONCAT(\"Trimestre 1\",CHAR(10),IFERROR(#REF!,\"\"))","v":"Trimestre 1\n"},{"$f":"_xlfn.CONCAT(\"Trimestre 1\",CHAR(10),IFERROR(#REF!,\"\"))","v":"Trimestre 1\n"},{"$f":"_xlfn.CONCAT(\"Trimestre 1\",CHAR(10),IFERROR(#REF!,\"\"))","v":"Trimestre 1\n"},{"$f":"_xlfn.CONCAT(\"Trimestre 1\",CHAR(10),IFERROR(#REF!,\"\"))","v":"Trimestre 1\n"}]
[null,null,null,null,null,null,null,null,null,null,null,null,null,null,null,null,null,null,null,null,null,null,null,null,null,{"$f":"IFERROR(#REF!,\" \")","v":" "},{"$f":"IFERROR(#REF!,\"\")","v":""},{"$f":"IFERROR(#REF!,\"\")","v":""},"","",{"$f":"IFERROR(#REF!,\"\")","v":""},"",{"$f":"IFERROR(#REF!,\"\")","v":""},{"$f":"IFERROR(#REF!,\"\")","v":""},{"$f":"_xlfn.CONCAT(\"Trimestre 1\",CHAR(10),IFERROR(#REF!,\"\"))","v":"Trimestre 1\n"},{"$f":"_xlfn.CONCAT(\"Trimestre 1\",CHAR(10),IFERROR(#REF!,\"\"))","v":"Trimestre 1\n"},{"$f":"_xlfn.CONCAT(\"Trimestre 1\",CHAR(10),IFERROR(#REF!,\"\"))","v":"Trimestre 1\n"},{"$f":"_xlfn.CONCAT(\"Trimestre 1\",CHAR(10),IFERROR(#REF!,\"\"))","v":"Trimestre 1\n"},{"$f":"_xlfn.CONCAT(\"Trimestre 1\",CHAR(10),IFERROR(#REF!,\"\"))","v":"Trimestre 1\n"}]
[null,null,null,null,null,null,null,null,null,null,null,null,null,null,null,null,null,null,null,null,null,null,null,null,null,{"$f":"IFERROR(#REF!,\" \")","v":" "},{"$f":"IFERROR(#REF!,\"\")","v":""},{"$f":"IFERROR(#REF!,\"\")","v":""},"","",{"$f":"IFERROR(#REF!,\"\")","v":""},"",{"$f":"IFERROR(#REF!,\"\")","v":""},{"$f":"IFERROR(#REF!,\"\")","v":""},{"$f":"_xlfn.CONCAT(\"Trimestre 1\",CHAR(10),IFERROR(#REF!,\"\"))","v":"Trimestre 1\n"},{"$f":"_xlfn.CONCAT(\"Trimestre 1\",CHAR(10),IFERROR(#REF!,\"\"))","v":"Trimestre 1\n"},{"$f":"_xlfn.CONCAT(\"Trimestre 1\",CHAR(10),IFERROR(#REF!,\"\"))","v":"Trimestre 1\n"},{"$f":"_xlfn.CONCAT(\"Trimestre 1\",CHAR(10),IFERROR(#REF!,\"\"))","v":"Trimestre 1\n"},{"$f":"_xlfn.CONCAT(\"Trimestre 1\",CHAR(10),IFERROR(#REF!,\"\"))","v":"Trimestre 1\n"}]
[null,null,null,null,null,null,null,null,null,null,null,null,null,null,null,null,null,null,null,null,null,null,null,null,null,{"$f":"IFERROR(#REF!,\" \")","v":" "},{"$f":"IFERROR(#REF!,\"\")","v":""},{"$f":"IFERROR(#REF!,\"\")","v":""},"","",{"$f":"IFERROR(#REF!,\"\")","v":""},"",{"$f":"IFERROR(#REF!,\"\")","v":""},{"$f":"IFERROR(#REF!,\"\")","v":""},{"$f":"_xlfn.CONCAT(\"Trimestre 1\",CHAR(10),IFERROR(#REF!,\"\"))","v":"Trimestre 1\n"},{"$f":"_xlfn.CONCAT(\"Trimestre 1\",CHAR(10),IFERROR(#REF!,\"\"))","v":"Trimestre 1\n"},{"$f":"_xlfn.CONCAT(\"Trimestre 1\",CHAR(10),IFERROR(#REF!,\"\"))","v":"Trimestre 1\n"},{"$f":"_xlfn.CONCAT(\"Trimestre 1\",CHAR(10),IFERROR(#REF!,\"\"))","v":"Trimestre 1\n"},{"$f":"_xlfn.CONCAT(\"Trimestre 1\",CHAR(10),IFERROR(#REF!,\"\"))","v":"Trimestre 1\n"}]
[null,null,null,null,null,null,null,null,null,null,null,null,null,null,null,null,null,null,null,null,null,null,null,null,null,{"$f":"IFERROR(#REF!,\" \")","v":" "},{"$f":"IFERROR(#REF!,\"\")","v":""},{"$f":"IFERROR(#REF!,\"\")","v":""},"","",{"$f":"IFERROR(#REF!,\"\")","v":""},"",{"$f":"IFERROR(#REF!,\"\")","v":""},{"$f":"IFERROR(#REF!,\"\")","v":""},{"$f":"_xlfn.CONCAT(\"Trimestre 1\",CHAR(10),IFERROR(#REF!,\"\"))","v":"Trimestre 1\n"},{"$f":"_xlfn.CONCAT(\"Trimestre 1\",CHAR(10),IFERROR(#REF!,\"\"))","v":"Trimestre 1\n"},{"$f":"_xlfn.CONCAT(\"Trimestre 1\",CHAR(10),IFERROR(#REF!,\"\"))","v":"Trimestre 1\n"},{"$f":"_xlfn.CONCAT(\"Trimestre 1\",CHAR(10),IFERROR(#REF!,\"\"))","v":"Trimestre 1\n"},{"$f":"_xlfn.CONCAT(\"Trimestre 1\",CHAR(10),IFERROR(#REF!,\"\"))","v":"Trimestre 1\n"}]
[null,null,null,null,null,null,null,null,null,null,null,null,null,null,null,null,null,null,null,null,null,null,null,null,null,{"$f":"IFERROR(#REF!,\" \")","v":" "},{"$f":"IFERROR(#REF!,\"\")","v":""},{"$f":"IFERROR(#REF!,\"\")","v":""},"","",{"$f":"IFERROR(#REF!,\"\")","v":""},"",{"$f":"IFERROR(#REF!,\"\")","v":""},{"$f":"IFERROR(#REF!,\"\")","v":""},{"$f":"_xlfn.CONCAT(\"Trimestre 1\",CHAR(10),IFERROR(#REF!,\"\"))","v":"Trimestre 1\n"},{"$f":"_xlfn.CONCAT(\"Trimestre 1\",CHAR(10),IFERROR(#REF!,\"\"))","v":"Trimestre 1\n"},{"$f":"_xlfn.CONCAT(\"Trimestre 1\",CHAR(10),IFERROR(#REF!,\"\"))","v":"Trimestre 1\n"},{"$f":"_xlfn.CONCAT(\"Trimestre 1\",CHAR(10),IFERROR(#REF!,\"\"))","v":"Trimestre 1\n"},{"$f":"_xlfn.CONCAT(\"Trimestre 1\",CHAR(10),IFERROR(#REF!,\"\"))","v":"Trimestre 1\n"}]
[null,null,"3. Promover la incorporación de la perspectiva de género y el enfoque diferencial en los fallos judiciales y en la atención a los ciudadanos, la administración de la Rama Judicial, la administración de la carrera judicial y la elaboración de listas para altas Cortes. ","Enfoque diferencial y perspectiva de género en las decisiones judiciales de la Rama Judicial","# de decisiones judiciales postuladas al Concurso de “Reconocim iento a la incorporaci ón del derecho a la igualdad y la no discriminaci ón en las sentencias judiciales” en el año corriente/# de decisiones judiciales postuladas al Concurso de “Reconocim iento a la incorporaci ón del derecho a la igualdad y la no discriminaci ón en las sentencias judiciales” en el año inmediatam ente anterior",null,null,null,null,null,null,null,null,null,null,null,null,null,null,null,null,null,null,null,null,{"$f":"IFERROR(#REF!,\" \")","v":" "},{"$f":"IFERROR(#REF!,\"\")","v":""},{"$f":"IFERROR(#REF!,\"\")","v":""},"","",{"$f":"IFERROR(#REF!,\"\")","v":""},"",{"$f":"IFERROR(#REF!,\"\")","v":""},{"$f":"IFERROR(#REF!,\"\")","v":""},{"$f":"_xlfn.CONCAT(\"Trimestre 1\",CHAR(10),IFERROR(#REF!,\"\"))","v":"Trimestre 1\n"},{"$f":"_xlfn.CONCAT(\"Trimestre 1\",CHAR(10),IFERROR(#REF!,\"\"))","v":"Trimestre 1\n"},{"$f":"_xlfn.CONCAT(\"Trimestre 1\",CHAR(10),IFERROR(#REF!,\"\"))","v":"Trimestre 1\n"},{"$f":"_xlfn.CONCAT(\"Trimestre 1\",CHAR(10),IFERROR(#REF!,\"\"))","v":"Trimestre 1\n"},{"$f":"_xlfn.CONCAT(\"Trimestre 1\",CHAR(10),IFERROR(#REF!,\"\"))","v":"Trimestre 1\n"}]
[null,null,null,null,null,null,null,null,null,null,null,null,null,null,null,null,null,null,null,null,null,null,null,null,null,{"$f":"IFERROR(#REF!,\" \")","v":" "},{"$f":"IFERROR(#REF!,\"\")","v":""},{"$f":"IFERROR(#REF!,\"\")","v":""},"","",{"$f":"IFERROR(#REF!,\"\")","v":""},"",{"$f":"IFERROR(#REF!,\"\")","v":""},{"$f":"IFERROR(#REF!,\"\")","v":""},{"$f":"_xlfn.CONCAT(\"Trimestre 1\",CHAR(10),IFERROR(#REF!,\"\"))","v":"Trimestre 1\n"},{"$f":"_xlfn.CONCAT(\"Trimestre 1\",CHAR(10),IFERROR(#REF!,\"\"))","v":"Trimestre 1\n"},{"$f":"_xlfn.CONCAT(\"Trimestre 1\",CHAR(10),IFERROR(#REF!,\"\"))","v":"Trimestre 1\n"},{"$f":"_xlfn.CONCAT(\"Trimestre 1\",CHAR(10),IFERROR(#REF!,\"\"))","v":"Trimestre 1\n"},{"$f":"_xlfn.CONCAT(\"Trimestre 1\",CHAR(10),IFERROR(#REF!,\"\"))","v":"Trimestre 1\n"}]
[null,null,null,null,null,null,null,null,null,null,null,null,null,null,null,null,null,null,null,null,null,null,null,null,null,{"$f":"IFERROR(#REF!,\" \")","v":" "},{"$f":"IFERROR(#REF!,\"\")","v":""},{"$f":"IFERROR(#REF!,\"\")","v":""},"","",{"$f":"IFERROR(#REF!,\"\")","v":""},"",{"$f":"IFERROR(#REF!,\"\")","v":""},{"$f":"IFERROR(#REF!,\"\")","v":""},{"$f":"_xlfn.CONCAT(\"Trimestre 1\",CHAR(10),IFERROR(#REF!,\"\"))","v":"Trimestre 1\n"},{"$f":"_xlfn.CONCAT(\"Trimestre 1\",CHAR(10),IFERROR(#REF!,\"\"))","v":"Trimestre 1\n"},{"$f":"_xlfn.CONCAT(\"Trimestre 1\",CHAR(10),IFERROR(#REF!,\"\"))","v":"Trimestre 1\n"},{"$f":"_xlfn.CONCAT(\"Trimestre 1\",CHAR(10),IFERROR(#REF!,\"\"))","v":"Trimestre 1\n"},{"$f":"_xlfn.CONCAT(\"Trimestre 1\",CHAR(10),IFERROR(#REF!,\"\"))","v":"Trimestre 1\n"}]
[null,null,null,null,null,null,null,null,null,null,null,null,null,null,null,null,null,null,null,null,null,null,null,null,null,{"$f":"IFERROR(#REF!,\" \")","v":" "},{"$f":"IFERROR(#REF!,\"\")","v":""},{"$f":"IFERROR(#REF!,\"\")","v":""},"","",{"$f":"IFERROR(#REF!,\"\")","v":""},"",{"$f":"IFERROR(#REF!,\"\")","v":""},{"$f":"IFERROR(#REF!,\"\")","v":""},{"$f":"_xlfn.CONCAT(\"Trimestre 1\",CHAR(10),IFERROR(#REF!,\"\"))","v":"Trimestre 1\n"},{"$f":"_xlfn.CONCAT(\"Trimestre 1\",CHAR(10),IFERROR(#REF!,\"\"))","v":"Trimestre 1\n"},{"$f":"_xlfn.CONCAT(\"Trimestre 1\",CHAR(10),IFERROR(#REF!,\"\"))","v":"Trimestre 1\n"},{"$f":"_xlfn.CONCAT(\"Trimestre 1\",CHAR(10),IFERROR(#REF!,\"\"))","v":"Trimestre 1\n"},{"$f":"_xlfn.CONCAT(\"Trimestre 1\",CHAR(10),IFERROR(#REF!,\"\"))","v":"Trimestre 1\n"}]
[null,null,null,null,null,null,null,null,null,null,null,null,null,null,null,null,null,null,null,null,null,null,null,null,null,{"$f":"IFERROR(#REF!,\" \")","v":" "},{"$f":"IFERROR(#REF!,\"\")","v":""},{"$f":"IFERROR(#REF!,\"\")","v":""},"","",{"$f":"IFERROR(#REF!,\"\")","v":""},"",{"$f":"IFERROR(#REF!,\"\")","v":""},{"$f":"IFERROR(#REF!,\"\")","v":""},{"$f":"_xlfn.CONCAT(\"Trimestre 1\",CHAR(10),IFERROR(#REF!,\"\"))","v":"Trimestre 1\n"},{"$f":"_xlfn.CONCAT(\"Trimestre 1\",CHAR(10),IFERROR(#REF!,\"\"))","v":"Trimestre 1\n"},{"$f":"_xlfn.CONCAT(\"Trimestre 1\",CHAR(10),IFERROR(#REF!,\"\"))","v":"Trimestre 1\n"},{"$f":"_xlfn.CONCAT(\"Trimestre 1\",CHAR(10),IFERROR(#REF!,\"\"))","v":"Trimestre 1\n"},{"$f":"_xlfn.CONCAT(\"Trimestre 1\",CHAR(10),IFERROR(#REF!,\"\"))","v":"Trimestre 1\n"}]
[null,null,null,null,null,null,null,null,null,null,null,null,null,null,null,null,null,null,null,null,null,null,null,null,null,{"$f":"IFERROR(#REF!,\" \")","v":" "},{"$f":"IFERROR(#REF!,\"\")","v":""},{"$f":"IFERROR(#REF!,\"\")","v":""},"","",{"$f":"IFERROR(#REF!,\"\")","v":""},"",{"$f":"IFERROR(#REF!,\"\")","v":""},{"$f":"IFERROR(#REF!,\"\")","v":""},{"$f":"_xlfn.CONCAT(\"Trimestre 1\",CHAR(10),IFERROR(#REF!,\"\"))","v":"Trimestre 1\n"},{"$f":"_xlfn.CONCAT(\"Trimestre 1\",CHAR(10),IFERROR(#REF!,\"\"))","v":"Trimestre 1\n"},{"$f":"_xlfn.CONCAT(\"Trimestre 1\",CHAR(10),IFERROR(#REF!,\"\"))","v":"Trimestre 1\n"},{"$f":"_xlfn.CONCAT(\"Trimestre 1\",CHAR(10),IFERROR(#REF!,\"\"))","v":"Trimestre 1\n"},{"$f":"_xlfn.CONCAT(\"Trimestre 1\",CHAR(10),IFERROR(#REF!,\"\"))","v":"Trimestre 1\n"}]
[null,null,null,null,null,null,null,null,null,null,null,null,null,null,null,null,null,null,null,null,null,null,null,null,null,{"$f":"IFERROR(#REF!,\" \")","v":" "},{"$f":"IFERROR(#REF!,\"\")","v":""},{"$f":"IFERROR(#REF!,\"\")","v":""},"","",{"$f":"IFERROR(#REF!,\"\")","v":""},"",{"$f":"IFERROR(#REF!,\"\")","v":""},{"$f":"IFERROR(#REF!,\"\")","v":""},{"$f":"_xlfn.CONCAT(\"Trimestre 1\",CHAR(10),IFERROR(#REF!,\"\"))","v":"Trimestre 1\n"},{"$f":"_xlfn.CONCAT(\"Trimestre 1\",CHAR(10),IFERROR(#REF!,\"\"))","v":"Trimestre 1\n"},{"$f":"_xlfn.CONCAT(\"Trimestre 1\",CHAR(10),IFERROR(#REF!,\"\"))","v":"Trimestre 1\n"},{"$f":"_xlfn.CONCAT(\"Trimestre 1\",CHAR(10),IFERROR(#REF!,\"\"))","v":"Trimestre 1\n"},{"$f":"_xlfn.CONCAT(\"Trimestre 1\",CHAR(10),IFERROR(#REF!,\"\"))","v":"Trimestre 1\n"}]
[null,null,null,null,null,null,null,null,null,null,null,null,null,null,null,null,null,null,null,null,null,null,null,null,null,{"$f":"IFERROR(#REF!,\" \")","v":" "},{"$f":"IFERROR(#REF!,\"\")","v":""},{"$f":"IFERROR(#REF!,\"\")","v":""},"","",{"$f":"IFERROR(#REF!,\"\")","v":""},"",{"$f":"IFERROR(#REF!,\"\")","v":""},{"$f":"IFERROR(#REF!,\"\")","v":""},{"$f":"_xlfn.CONCAT(\"Trimestre 1\",CHAR(10),IFERROR(#REF!,\"\"))","v":"Trimestre 1\n"},{"$f":"_xlfn.CONCAT(\"Trimestre 1\",CHAR(10),IFERROR(#REF!,\"\"))","v":"Trimestre 1\n"},{"$f":"_xlfn.CONCAT(\"Trimestre 1\",CHAR(10),IFERROR(#REF!,\"\"))","v":"Trimestre 1\n"},{"$f":"_xlfn.CONCAT(\"Trimestre 1\",CHAR(10),IFERROR(#REF!,\"\"))","v":"Trimestre 1\n"},{"$f":"_xlfn.CONCAT(\"Trimestre 1\",CHAR(10),IFERROR(#REF!,\"\"))","v":"Trimestre 1\n"}]
[null,null,null,null,null,null,null,null,null,null,null,null,null,null,null,null,null,null,null,null,null,null,null,null,null,{"$f":"IFERROR(#REF!,\" \")","v":" "},{"$f":"IFERROR(#REF!,\"\")","v":""},{"$f":"IFERROR(#REF!,\"\")","v":""},"","",{"$f":"IFERROR(#REF!,\"\")","v":""},"",{"$f":"IFERROR(#REF!,\"\")","v":""},{"$f":"IFERROR(#REF!,\"\")","v":""},{"$f":"_xlfn.CONCAT(\"Trimestre 1\",CHAR(10),IFERROR(#REF!,\"\"))","v":"Trimestre 1\n"},{"$f":"_xlfn.CONCAT(\"Trimestre 1\",CHAR(10),IFERROR(#REF!,\"\"))","v":"Trimestre 1\n"},{"$f":"_xlfn.CONCAT(\"Trimestre 1\",CHAR(10),IFERROR(#REF!,\"\"))","v":"Trimestre 1\n"},{"$f":"_xlfn.CONCAT(\"Trimestre 1\",CHAR(10),IFERROR(#REF!,\"\"))","v":"Trimestre 1\n"},{"$f":"_xlfn.CONCAT(\"Trimestre 1\",CHAR(10),IFERROR(#REF!,\"\"))","v":"Trimestre 1\n"}]
[null,null,null,null,null,null,null,null,null,null,null,null,null,null,null,null,null,null,null,null,null,null,null,null,null,{"$f":"IFERROR(#REF!,\" \")","v":" "},{"$f":"IFERROR(#REF!,\"\")","v":""},{"$f":"IFERROR(#REF!,\"\")","v":""},"","",{"$f":"IFERROR(#REF!,\"\")","v":""},"",{"$f":"IFERROR(#REF!,\"\")","v":""},{"$f":"IFERROR(#REF!,\"\")","v":""},{"$f":"_xlfn.CONCAT(\"Trimestre 1\",CHAR(10),IFERROR(#REF!,\"\"))","v":"Trimestre 1\n"},{"$f":"_xlfn.CONCAT(\"Trimestre 1\",CHAR(10),IFERROR(#REF!,\"\"))","v":"Trimestre 1\n"},{"$f":"_xlfn.CONCAT(\"Trimestre 1\",CHAR(10),IFERROR(#REF!,\"\"))","v":"Trimestre 1\n"},{"$f":"_xlfn.CONCAT(\"Trimestre 1\",CHAR(10),IFERROR(#REF!,\"\"))","v":"Trimestre 1\n"},{"$f":"_xlfn.CONCAT(\"Trimestre 1\",CHAR(10),IFERROR(#REF!,\"\"))","v":"Trimestre 1\n"}]
[null,null,"4. Desarrollar en los servidores judiciales y demás grupos de valor relevantes las competencias necesarias para la efectividad de la transformación digital de modo que puedan, entre otros, utilizar con solvencia las herramientas digitales dispuestas para sus respectivas funciones. Además, fortalecer y actualizar los conocimientos del personal a cargo de la gestión de proyectos de tecnología.","Cobertura de la formación impartida por la Escuela Judicial en Tecnologías de la Información y las Comunicaciones TIC para la práctica judicial.","# servidores que no han recibido ningún curso de formación en Tecnología s de la Información y las Comunicaci ones TIC en la vigencia del plan sectorial, discriminad o por funcionarios y empleados, municipio y especialida d /# servidores totales, discriminad o por funcionarios y empleados, municipio y especialida d",null,null,null,null,null,null,null,null,null,null,null,null,null,null,null,null,null,null,null,null,{"$f":"IFERROR(#REF!,\" \")","v":" "},{"$f":"IFERROR(#REF!,\"\")","v":""},{"$f":"IFERROR(#REF!,\"\")","v":""},"","",{"$f":"IFERROR(#REF!,\"\")","v":""},"",{"$f":"IFERROR(#REF!,\"\")","v":""},{"$f":"IFERROR(#REF!,\"\")","v":""},{"$f":"_xlfn.CONCAT(\"Trimestre 1\",CHAR(10),IFERROR(#REF!,\"\"))","v":"Trimestre 1\n"},{"$f":"_xlfn.CONCAT(\"Trimestre 1\",CHAR(10),IFERROR(#REF!,\"\"))","v":"Trimestre 1\n"},{"$f":"_xlfn.CONCAT(\"Trimestre 1\",CHAR(10),IFERROR(#REF!,\"\"))","v":"Trimestre 1\n"},{"$f":"_xlfn.CONCAT(\"Trimestre 1\",CHAR(10),IFERROR(#REF!,\"\"))","v":"Trimestre 1\n"},{"$f":"_xlfn.CONCAT(\"Trimestre 1\",CHAR(10),IFERROR(#REF!,\"\"))","v":"Trimestre 1\n"}]
[null,null,null,null,null,null,null,null,null,null,null,null,null,null,null,null,null,null,null,null,null,null,null,null,null,{"$f":"IFERROR(#REF!,\" \")","v":" "},{"$f":"IFERROR(#REF!,\"\")","v":""},{"$f":"IFERROR(#REF!,\"\")","v":""},"","",{"$f":"IFERROR(#REF!,\"\")","v":""},"",{"$f":"IFERROR(#REF!,\"\")","v":""},{"$f":"IFERROR(#REF!,\"\")","v":""},{"$f":"_xlfn.CONCAT(\"Trimestre 1\",CHAR(10),IFERROR(#REF!,\"\"))","v":"Trimestre 1\n"},{"$f":"_xlfn.CONCAT(\"Trimestre 1\",CHAR(10),IFERROR(#REF!,\"\"))","v":"Trimestre 1\n"},{"$f":"_xlfn.CONCAT(\"Trimestre 1\",CHAR(10),IFERROR(#REF!,\"\"))","v":"Trimestre 1\n"},{"$f":"_xlfn.CONCAT(\"Trimestre 1\",CHAR(10),IFERROR(#REF!,\"\"))","v":"Trimestre 1\n"},{"$f":"_xlfn.CONCAT(\"Trimestre 1\",CHAR(10),IFERROR(#REF!,\"\"))","v":"Trimestre 1\n"}]
[null,null,null,null,null,null,null,null,null,null,null,null,null,null,null,null,null,null,null,null,null,null,null,null,null,{"$f":"IFERROR(#REF!,\" \")","v":" "},{"$f":"IFERROR(#REF!,\"\")","v":""},{"$f":"IFERROR(#REF!,\"\")","v":""},"","",{"$f":"IFERROR(#REF!,\"\")","v":""},"",{"$f":"IFERROR(#REF!,\"\")","v":""},{"$f":"IFERROR(#REF!,\"\")","v":""},{"$f":"_xlfn.CONCAT(\"Trimestre 1\",CHAR(10),IFERROR(#REF!,\"\"))","v":"Trimestre 1\n"},{"$f":"_xlfn.CONCAT(\"Trimestre 1\",CHAR(10),IFERROR(#REF!,\"\"))","v":"Trimestre 1\n"},{"$f":"_xlfn.CONCAT(\"Trimestre 1\",CHAR(10),IFERROR(#REF!,\"\"))","v":"Trimestre 1\n"},{"$f":"_xlfn.CONCAT(\"Trimestre 1\",CHAR(10),IFERROR(#REF!,\"\"))","v":"Trimestre 1\n"},{"$f":"_xlfn.CONCAT(\"Trimestre 1\",CHAR(10),IFERROR(#REF!,\"\"))","v":"Trimestre 1\n"}]
[null,null,null,null,null,null,null,null,null,null,null,null,null,null,null,null,null,null,null,null,null,null,null,null,null,{"$f":"IFERROR(#REF!,\" \")","v":" "},{"$f":"IFERROR(#REF!,\"\")","v":""},{"$f":"IFERROR(#REF!,\"\")","v":""},"","",{"$f":"IFERROR(#REF!,\"\")","v":""},"",{"$f":"IFERROR(#REF!,\"\")","v":""},{"$f":"IFERROR(#REF!,\"\")","v":""},{"$f":"_xlfn.CONCAT(\"Trimestre 1\",CHAR(10),IFERROR(#REF!,\"\"))","v":"Trimestre 1\n"},{"$f":"_xlfn.CONCAT(\"Trimestre 1\",CHAR(10),IFERROR(#REF!,\"\"))","v":"Trimestre 1\n"},{"$f":"_xlfn.CONCAT(\"Trimestre 1\",CHAR(10),IFERROR(#REF!,\"\"))","v":"Trimestre 1\n"},{"$f":"_xlfn.CONCAT(\"Trimestre 1\",CHAR(10),IFERROR(#REF!,\"\"))","v":"Trimestre 1\n"},{"$f":"_xlfn.CONCAT(\"Trimestre 1\",CHAR(10),IFERROR(#REF!,\"\"))","v":"Trimestre 1\n"}]
[null,null,null,null,null,null,null,null,null,null,null,null,null,null,null,null,null,null,null,null,null,null,null,null,null,{"$f":"IFERROR(#REF!,\" \")","v":" "},{"$f":"IFERROR(#REF!,\"\")","v":""},{"$f":"IFERROR(#REF!,\"\")","v":""},"","",{"$f":"IFERROR(#REF!,\"\")","v":""},"",{"$f":"IFERROR(#REF!,\"\")","v":""},{"$f":"IFERROR(#REF!,\"\")","v":""},{"$f":"_xlfn.CONCAT(\"Trimestre 1\",CHAR(10),IFERROR(#REF!,\"\"))","v":"Trimestre 1\n"},{"$f":"_xlfn.CONCAT(\"Trimestre 1\",CHAR(10),IFERROR(#REF!,\"\"))","v":"Trimestre 1\n"},{"$f":"_xlfn.CONCAT(\"Trimestre 1\",CHAR(10),IFERROR(#REF!,\"\"))","v":"Trimestre 1\n"},{"$f":"_xlfn.CONCAT(\"Trimestre 1\",CHAR(10),IFERROR(#REF!,\"\"))","v":"Trimestre 1\n"},{"$f":"_xlfn.CONCAT(\"Trimestre 1\",CHAR(10),IFERROR(#REF!,\"\"))","v":"Trimestre 1\n"}]
[null,null,null,null,null,null,null,null,null,null,null,null,null,null,null,null,null,null,null,null,null,null,null,null,null,{"$f":"IFERROR(#REF!,\" \")","v":" "},{"$f":"IFERROR(#REF!,\"\")","v":""},{"$f":"IFERROR(#REF!,\"\")","v":""},"","",{"$f":"IFERROR(#REF!,\"\")","v":""},"",{"$f":"IFERROR(#REF!,\"\")","v":""},{"$f":"IFERROR(#REF!,\"\")","v":""},{"$f":"_xlfn.CONCAT(\"Trimestre 1\",CHAR(10),IFERROR(#REF!,\"\"))","v":"Trimestre 1\n"},{"$f":"_xlfn.CONCAT(\"Trimestre 1\",CHAR(10),IFERROR(#REF!,\"\"))","v":"Trimestre 1\n"},{"$f":"_xlfn.CONCAT(\"Trimestre 1\",CHAR(10),IFERROR(#REF!,\"\"))","v":"Trimestre 1\n"},{"$f":"_xlfn.CONCAT(\"Trimestre 1\",CHAR(10),IFERROR(#REF!,\"\"))","v":"Trimestre 1\n"},{"$f":"_xlfn.CONCAT(\"Trimestre 1\",CHAR(10),IFERROR(#REF!,\"\"))","v":"Trimestre 1\n"}]
[null,null,null,null,null,null,null,null,null,null,null,null,null,null,null,null,null,null,null,null,null,null,null,null,null,{"$f":"IFERROR(#REF!,\" \")","v":" "},{"$f":"IFERROR(#REF!,\"\")","v":""},{"$f":"IFERROR(#REF!,\"\")","v":""},"","",{"$f":"IFERROR(#REF!,\"\")","v":""},"",{"$f":"IFERROR(#REF!,\"\")","v":""},{"$f":"IFERROR(#REF!,\"\")","v":""},{"$f":"_xlfn.CONCAT(\"Trimestre 1\",CHAR(10),IFERROR(#REF!,\"\"))","v":"Trimestre 1\n"},{"$f":"_xlfn.CONCAT(\"Trimestre 1\",CHAR(10),IFERROR(#REF!,\"\"))","v":"Trimestre 1\n"},{"$f":"_xlfn.CONCAT(\"Trimestre 1\",CHAR(10),IFERROR(#REF!,\"\"))","v":"Trimestre 1\n"},{"$f":"_xlfn.CONCAT(\"Trimestre 1\",CHAR(10),IFERROR(#REF!,\"\"))","v":"Trimestre 1\n"},{"$f":"_xlfn.CONCAT(\"Trimestre 1\",CHAR(10),IFERROR(#REF!,\"\"))","v":"Trimestre 1\n"}]
[null,null,null,null,null,null,null,null,null,null,null,null,null,null,null,null,null,null,null,null,null,null,null,null,null,{"$f":"IFERROR(#REF!,\" \")","v":" "},{"$f":"IFERROR(#REF!,\"\")","v":""},{"$f":"IFERROR(#REF!,\"\")","v":""},"","",{"$f":"IFERROR(#REF!,\"\")","v":""},"",{"$f":"IFERROR(#REF!,\"\")","v":""},{"$f":"IFERROR(#REF!,\"\")","v":""},{"$f":"_xlfn.CONCAT(\"Trimestre 1\",CHAR(10),IFERROR(#REF!,\"\"))","v":"Trimestre 1\n"},{"$f":"_xlfn.CONCAT(\"Trimestre 1\",CHAR(10),IFERROR(#REF!,\"\"))","v":"Trimestre 1\n"},{"$f":"_xlfn.CONCAT(\"Trimestre 1\",CHAR(10),IFERROR(#REF!,\"\"))","v":"Trimestre 1\n"},{"$f":"_xlfn.CONCAT(\"Trimestre 1\",CHAR(10),IFERROR(#REF!,\"\"))","v":"Trimestre 1\n"},{"$f":"_xlfn.CONCAT(\"Trimestre 1\",CHAR(10),IFERROR(#REF!,\"\"))","v":"Trimestre 1\n"}]
[null,null,null,null,null,null,null,null,null,null,null,null,null,null,null,null,null,null,null,null,null,null,null,null,null,{"$f":"IFERROR(#REF!,\" \")","v":" "},{"$f":"IFERROR(#REF!,\"\")","v":""},{"$f":"IFERROR(#REF!,\"\")","v":""},"","",{"$f":"IFERROR(#REF!,\"\")","v":""},"",{"$f":"IFERROR(#REF!,\"\")","v":""},{"$f":"IFERROR(#REF!,\"\")","v":""},{"$f":"_xlfn.CONCAT(\"Trimestre 1\",CHAR(10),IFERROR(#REF!,\"\"))","v":"Trimestre 1\n"},{"$f":"_xlfn.CONCAT(\"Trimestre 1\",CHAR(10),IFERROR(#REF!,\"\"))","v":"Trimestre 1\n"},{"$f":"_xlfn.CONCAT(\"Trimestre 1\",CHAR(10),IFERROR(#REF!,\"\"))","v":"Trimestre 1\n"},{"$f":"_xlfn.CONCAT(\"Trimestre 1\",CHAR(10),IFERROR(#REF!,\"\"))","v":"Trimestre 1\n"},{"$f":"_xlfn.CONCAT(\"Trimestre 1\",CHAR(10),IFERROR(#REF!,\"\"))","v":"Trimestre 1\n"}]
[null,null,null,null,null,null,null,null,null,null,null,null,null,null,null,null,null,null,null,null,null,null,null,null,null,{"$f":"IFERROR(#REF!,\" \")","v":" "},{"$f":"IFERROR(#REF!,\"\")","v":""},{"$f":"IFERROR(#REF!,\"\")","v":""},"","",{"$f":"IFERROR(#REF!,\"\")","v":""},"",{"$f":"IFERROR(#REF!,\"\")","v":""},{"$f":"IFERROR(#REF!,\"\")","v":""},{"$f":"_xlfn.CONCAT(\"Trimestre 1\",CHAR(10),IFERROR(#REF!,\"\"))","v":"Trimestre 1\n"},{"$f":"_xlfn.CONCAT(\"Trimestre 1\",CHAR(10),IFERROR(#REF!,\"\"))","v":"Trimestre 1\n"},{"$f":"_xlfn.CONCAT(\"Trimestre 1\",CHAR(10),IFERROR(#REF!,\"\"))","v":"Trimestre 1\n"},{"$f":"_xlfn.CONCAT(\"Trimestre 1\",CHAR(10),IFERROR(#REF!,\"\"))","v":"Trimestre 1\n"},{"$f":"_xlfn.CONCAT(\"Trimestre 1\",CHAR(10),IFERROR(#REF!,\"\"))","v":"Trimestre 1\n"}]
[null,null,"5. Promover el bienestar de todos los servidores judiciales a través de la implementación de un sistema que contemple los diferentes niveles de estrategias y acciones necesarios para mejorar el clima laboral, la salud física y mental y la calidad del tiempo de descanso.","Satisfacción de los servidores judiciales con el clima laboral","(# respuestas con concepto de bueno o excelente / # total de respuestas) *100","5. Generar espacios de trabajo seguros y saludables que contribuyan a minimizar los  incidentes, accidentes y enfermedades laborales derivados de las condiciones y actos  inseguros y fomentar  el autocuidado, los  estilos de vida y el trabajo saludable en los servidores judiciales, contratistas, judicantes y practicantes.",null,null,null,null,null,null,null,null,null,null,null,null,null,null,null,null,null,null,null,{"$f":"IFERROR(#REF!,\" \")","v":" "},{"$f":"IFERROR(#REF!,\"\")","v":""},{"$f":"IFERROR(#REF!,\"\")","v":""},"","",{"$f":"IFERROR(#REF!,\"\")","v":""},"",{"$f":"IFERROR(#REF!,\"\")","v":""},{"$f":"IFERROR(#REF!,\"\")","v":""},{"$f":"_xlfn.CONCAT(\"Trimestre 1\",CHAR(10),IFERROR(#REF!,\"\"))","v":"Trimestre 1\n"},{"$f":"_xlfn.CONCAT(\"Trimestre 1\",CHAR(10),IFERROR(#REF!,\"\"))","v":"Trimestre 1\n"},{"$f":"_xlfn.CONCAT(\"Trimestre 1\",CHAR(10),IFERROR(#REF!,\"\"))","v":"Trimestre 1\n"},{"$f":"_xlfn.CONCAT(\"Trimestre 1\",CHAR(10),IFERROR(#REF!,\"\"))","v":"Trimestre 1\n"},{"$f":"_xlfn.CONCAT(\"Trimestre 1\",CHAR(10),IFERROR(#REF!,\"\"))","v":"Trimestre 1\n"}]
[null,null,null,null,null,null,null,null,null,null,null,null,null,null,null,null,null,null,null,null,null,null,null,null,null,{"$f":"IFERROR(#REF!,\" \")","v":" "},{"$f":"IFERROR(#REF!,\"\")","v":""},{"$f":"IFERROR(#REF!,\"\")","v":""},"","",{"$f":"IFERROR(#REF!,\"\")","v":""},"",{"$f":"IFERROR(#REF!,\"\")","v":""},{"$f":"IFERROR(#REF!,\"\")","v":""},{"$f":"_xlfn.CONCAT(\"Trimestre 1\",CHAR(10),IFERROR(#REF!,\"\"))","v":"Trimestre 1\n"},{"$f":"_xlfn.CONCAT(\"Trimestre 1\",CHAR(10),IFERROR(#REF!,\"\"))","v":"Trimestre 1\n"},{"$f":"_xlfn.CONCAT(\"Trimestre 1\",CHAR(10),IFERROR(#REF!,\"\"))","v":"Trimestre 1\n"},{"$f":"_xlfn.CONCAT(\"Trimestre 1\",CHAR(10),IFERROR(#REF!,\"\"))","v":"Trimestre 1\n"},{"$f":"_xlfn.CONCAT(\"Trimestre 1\",CHAR(10),IFERROR(#REF!,\"\"))","v":"Trimestre 1\n"}]
[null,null,null,null,null,null,null,null,null,null,null,null,null,null,null,null,null,null,null,null,null,null,null,null,null,{"$f":"IFERROR(#REF!,\" \")","v":" "},{"$f":"IFERROR(#REF!,\"\")","v":""},{"$f":"IFERROR(#REF!,\"\")","v":""},"","",{"$f":"IFERROR(#REF!,\"\")","v":""},"",{"$f":"IFERROR(#REF!,\"\")","v":""},{"$f":"IFERROR(#REF!,\"\")","v":""},{"$f":"_xlfn.CONCAT(\"Trimestre 1\",CHAR(10),IFERROR(#REF!,\"\"))","v":"Trimestre 1\n"},{"$f":"_xlfn.CONCAT(\"Trimestre 1\",CHAR(10),IFERROR(#REF!,\"\"))","v":"Trimestre 1\n"},{"$f":"_xlfn.CONCAT(\"Trimestre 1\",CHAR(10),IFERROR(#REF!,\"\"))","v":"Trimestre 1\n"},{"$f":"_xlfn.CONCAT(\"Trimestre 1\",CHAR(10),IFERROR(#REF!,\"\"))","v":"Trimestre 1\n"},{"$f":"_xlfn.CONCAT(\"Trimestre 1\",CHAR(10),IFERROR(#REF!,\"\"))","v":"Trimestre 1\n"}]
[null,null,null,null,null,null,null,null,null,null,null,null,null,null,null,null,null,null,null,null,null,null,null,null,null,{"$f":"IFERROR(#REF!,\" \")","v":" "},{"$f":"IFERROR(#REF!,\"\")","v":""},{"$f":"IFERROR(#REF!,\"\")","v":""},"","",{"$f":"IFERROR(#REF!,\"\")","v":""},"",{"$f":"IFERROR(#REF!,\"\")","v":""},{"$f":"IFERROR(#REF!,\"\")","v":""},{"$f":"_xlfn.CONCAT(\"Trimestre 1\",CHAR(10),IFERROR(#REF!,\"\"))","v":"Trimestre 1\n"},{"$f":"_xlfn.CONCAT(\"Trimestre 1\",CHAR(10),IFERROR(#REF!,\"\"))","v":"Trimestre 1\n"},{"$f":"_xlfn.CONCAT(\"Trimestre 1\",CHAR(10),IFERROR(#REF!,\"\"))","v":"Trimestre 1\n"},{"$f":"_xlfn.CONCAT(\"Trimestre 1\",CHAR(10),IFERROR(#REF!,\"\"))","v":"Trimestre 1\n"},{"$f":"_xlfn.CONCAT(\"Trimestre 1\",CHAR(10),IFERROR(#REF!,\"\"))","v":"Trimestre 1\n"}]
[null,null,null,null,null,null,null,null,null,null,null,null,null,null,null,null,null,null,null,null,null,null,null,null,null,{"$f":"IFERROR(#REF!,\" \")","v":" "},{"$f":"IFERROR(#REF!,\"\")","v":""},{"$f":"IFERROR(#REF!,\"\")","v":""},"","",{"$f":"IFERROR(#REF!,\"\")","v":""},"",{"$f":"IFERROR(#REF!,\"\")","v":""},{"$f":"IFERROR(#REF!,\"\")","v":""},{"$f":"_xlfn.CONCAT(\"Trimestre 1\",CHAR(10),IFERROR(#REF!,\"\"))","v":"Trimestre 1\n"},{"$f":"_xlfn.CONCAT(\"Trimestre 1\",CHAR(10),IFERROR(#REF!,\"\"))","v":"Trimestre 1\n"},{"$f":"_xlfn.CONCAT(\"Trimestre 1\",CHAR(10),IFERROR(#REF!,\"\"))","v":"Trimestre 1\n"},{"$f":"_xlfn.CONCAT(\"Trimestre 1\",CHAR(10),IFERROR(#REF!,\"\"))","v":"Trimestre 1\n"},{"$f":"_xlfn.CONCAT(\"Trimestre 1\",CHAR(10),IFERROR(#REF!,\"\"))","v":"Trimestre 1\n"}]
[null,null,null,null,null,null,null,null,null,null,null,null,null,null,null,null,null,null,null,null,null,null,null,null,null,{"$f":"IFERROR(#REF!,\" \")","v":" "},{"$f":"IFERROR(#REF!,\"\")","v":""},{"$f":"IFERROR(#REF!,\"\")","v":""},"","",{"$f":"IFERROR(#REF!,\"\")","v":""},"",{"$f":"IFERROR(#REF!,\"\")","v":""},{"$f":"IFERROR(#REF!,\"\")","v":""},{"$f":"_xlfn.CONCAT(\"Trimestre 1\",CHAR(10),IFERROR(#REF!,\"\"))","v":"Trimestre 1\n"},{"$f":"_xlfn.CONCAT(\"Trimestre 1\",CHAR(10),IFERROR(#REF!,\"\"))","v":"Trimestre 1\n"},{"$f":"_xlfn.CONCAT(\"Trimestre 1\",CHAR(10),IFERROR(#REF!,\"\"))","v":"Trimestre 1\n"},{"$f":"_xlfn.CONCAT(\"Trimestre 1\",CHAR(10),IFERROR(#REF!,\"\"))","v":"Trimestre 1\n"},{"$f":"_xlfn.CONCAT(\"Trimestre 1\",CHAR(10),IFERROR(#REF!,\"\"))","v":"Trimestre 1\n"}]
[null,null,null,null,null,null,null,null,null,null,null,null,null,null,null,null,null,null,null,null,null,null,null,null,null,{"$f":"IFERROR(#REF!,\" \")","v":" "},{"$f":"IFERROR(#REF!,\"\")","v":""},{"$f":"IFERROR(#REF!,\"\")","v":""},"","",{"$f":"IFERROR(#REF!,\"\")","v":""},"",{"$f":"IFERROR(#REF!,\"\")","v":""},{"$f":"IFERROR(#REF!,\"\")","v":""},{"$f":"_xlfn.CONCAT(\"Trimestre 1\",CHAR(10),IFERROR(#REF!,\"\"))","v":"Trimestre 1\n"},{"$f":"_xlfn.CONCAT(\"Trimestre 1\",CHAR(10),IFERROR(#REF!,\"\"))","v":"Trimestre 1\n"},{"$f":"_xlfn.CONCAT(\"Trimestre 1\",CHAR(10),IFERROR(#REF!,\"\"))","v":"Trimestre 1\n"},{"$f":"_xlfn.CONCAT(\"Trimestre 1\",CHAR(10),IFERROR(#REF!,\"\"))","v":"Trimestre 1\n"},{"$f":"_xlfn.CONCAT(\"Trimestre 1\",CHAR(10),IFERROR(#REF!,\"\"))","v":"Trimestre 1\n"}]
[null,null,null,null,null,null,null,null,null,null,null,null,null,null,null,null,null,null,null,null,null,null,null,null,null,{"$f":"IFERROR(#REF!,\" \")","v":" "},{"$f":"IFERROR(#REF!,\"\")","v":""},{"$f":"IFERROR(#REF!,\"\")","v":""},"","",{"$f":"IFERROR(#REF!,\"\")","v":""},"",{"$f":"IFERROR(#REF!,\"\")","v":""},{"$f":"IFERROR(#REF!,\"\")","v":""},{"$f":"_xlfn.CONCAT(\"Trimestre 1\",CHAR(10),IFERROR(#REF!,\"\"))","v":"Trimestre 1\n"},{"$f":"_xlfn.CONCAT(\"Trimestre 1\",CHAR(10),IFERROR(#REF!,\"\"))","v":"Trimestre 1\n"},{"$f":"_xlfn.CONCAT(\"Trimestre 1\",CHAR(10),IFERROR(#REF!,\"\"))","v":"Trimestre 1\n"},{"$f":"_xlfn.CONCAT(\"Trimestre 1\",CHAR(10),IFERROR(#REF!,\"\"))","v":"Trimestre 1\n"},{"$f":"_xlfn.CONCAT(\"Trimestre 1\",CHAR(10),IFERROR(#REF!,\"\"))","v":"Trimestre 1\n"}]
[null,null,null,null,null,null,null,null,null,null,null,null,null,null,null,null,null,null,null,null,null,null,null,null,null,{"$f":"IFERROR(#REF!,\" \")","v":" "},{"$f":"IFERROR(#REF!,\"\")","v":""},{"$f":"IFERROR(#REF!,\"\")","v":""},"","",{"$f":"IFERROR(#REF!,\"\")","v":""},"",{"$f":"IFERROR(#REF!,\"\")","v":""},{"$f":"IFERROR(#REF!,\"\")","v":""},{"$f":"_xlfn.CONCAT(\"Trimestre 1\",CHAR(10),IFERROR(#REF!,\"\"))","v":"Trimestre 1\n"},{"$f":"_xlfn.CONCAT(\"Trimestre 1\",CHAR(10),IFERROR(#REF!,\"\"))","v":"Trimestre 1\n"},{"$f":"_xlfn.CONCAT(\"Trimestre 1\",CHAR(10),IFERROR(#REF!,\"\"))","v":"Trimestre 1\n"},{"$f":"_xlfn.CONCAT(\"Trimestre 1\",CHAR(10),IFERROR(#REF!,\"\"))","v":"Trimestre 1\n"},{"$f":"_xlfn.CONCAT(\"Trimestre 1\",CHAR(10),IFERROR(#REF!,\"\"))","v":"Trimestre 1\n"}]
[null,null,null,null,null,null,null,null,null,null,null,null,null,null,null,null,null,null,null,null,null,null,null,null,null,{"$f":"IFERROR(#REF!,\" \")","v":" "},{"$f":"IFERROR(#REF!,\"\")","v":""},{"$f":"IFERROR(#REF!,\"\")","v":""},"","",{"$f":"IFERROR(#REF!,\"\")","v":""},"",{"$f":"IFERROR(#REF!,\"\")","v":""},{"$f":"IFERROR(#REF!,\"\")","v":""},{"$f":"_xlfn.CONCAT(\"Trimestre 1\",CHAR(10),IFERROR(#REF!,\"\"))","v":"Trimestre 1\n"},{"$f":"_xlfn.CONCAT(\"Trimestre 1\",CHAR(10),IFERROR(#REF!,\"\"))","v":"Trimestre 1\n"},{"$f":"_xlfn.CONCAT(\"Trimestre 1\",CHAR(10),IFERROR(#REF!,\"\"))","v":"Trimestre 1\n"},{"$f":"_xlfn.CONCAT(\"Trimestre 1\",CHAR(10),IFERROR(#REF!,\"\"))","v":"Trimestre 1\n"},{"$f":"_xlfn.CONCAT(\"Trimestre 1\",CHAR(10),IFERROR(#REF!,\"\"))","v":"Trimestre 1\n"}]
["5. Gobernanza, planeación estratégica y capacidad de toma de decisiones","Gobernanza, planeación estratégica y capacidad de toma de decisiones: Fortalecer la gobernanza, la planeación estratégica y la capacidad de toma de decisiones de la Rama Judicial con base en la evidencia empírica y la articulación efectiva con las demás entidades, para que la perspectiva de género y el enfoque diferencial sean transversales en el presente plan. ","1. Implementar un nuevo modelo integrado para la planeación estratégica, el seguimiento y la medición del desempeño institucional.","Modelo integrado para la planeación estratégica, seguimiento y medición del desempeño institucional implementado","% de implementa ción del modelo integrado","2. Asegurar  el cumplimiento de los objetivos institucionales, la normatividad aplicable,  la mejora del SIGCMA y la satisfacción de los usuarios, revisando de  forma continua y sistemática la planificación de la gestión y fortaleciendo la administración de riesgos y sus controles.",null,null,null,null,null,null,null,null,null,null,null,null,null,null,null,null,null,null,null,{"$f":"IFERROR(#REF!,\" \")","v":" "},{"$f":"IFERROR(#REF!,\"\")","v":""},{"$f":"IFERROR(#REF!,\"\")","v":""},"","",{"$f":"IFERROR(#REF!,\"\")","v":""},"",{"$f":"IFERROR(#REF!,\"\")","v":""},{"$f":"IFERROR(#REF!,\"\")","v":""},{"$f":"_xlfn.CONCAT(\"Trimestre 1\",CHAR(10),IFERROR(#REF!,\"\"))","v":"Trimestre 1\n"},{"$f":"_xlfn.CONCAT(\"Trimestre 1\",CHAR(10),IFERROR(#REF!,\"\"))","v":"Trimestre 1\n"},{"$f":"_xlfn.CONCAT(\"Trimestre 1\",CHAR(10),IFERROR(#REF!,\"\"))","v":"Trimestre 1\n"},{"$f":"_xlfn.CONCAT(\"Trimestre 1\",CHAR(10),IFERROR(#REF!,\"\"))","v":"Trimestre 1\n"},{"$f":"_xlfn.CONCAT(\"Trimestre 1\",CHAR(10),IFERROR(#REF!,\"\"))","v":"Trimestre 1\n"}]
[null,null,null,null,null,null,null,null,null,null,null,null,null,null,null,null,null,null,null,null,null,null,null,null,null,{"$f":"IFERROR(#REF!,\" \")","v":" "},{"$f":"IFERROR(#REF!,\"\")","v":""},{"$f":"IFERROR(#REF!,\"\")","v":""},"","",{"$f":"IFERROR(#REF!,\"\")","v":""},"",{"$f":"IFERROR(#REF!,\"\")","v":""},{"$f":"IFERROR(#REF!,\"\")","v":""},{"$f":"_xlfn.CONCAT(\"Trimestre 1\",CHAR(10),IFERROR(#REF!,\"\"))","v":"Trimestre 1\n"},{"$f":"_xlfn.CONCAT(\"Trimestre 1\",CHAR(10),IFERROR(#REF!,\"\"))","v":"Trimestre 1\n"},{"$f":"_xlfn.CONCAT(\"Trimestre 1\",CHAR(10),IFERROR(#REF!,\"\"))","v":"Trimestre 1\n"},{"$f":"_xlfn.CONCAT(\"Trimestre 1\",CHAR(10),IFERROR(#REF!,\"\"))","v":"Trimestre 1\n"},{"$f":"_xlfn.CONCAT(\"Trimestre 1\",CHAR(10),IFERROR(#REF!,\"\"))","v":"Trimestre 1\n"}]
[null,null,null,null,null,null,null,null,null,null,null,null,null,null,null,null,null,null,null,null,null,null,null,null,null,{"$f":"IFERROR(#REF!,\" \")","v":" "},{"$f":"IFERROR(#REF!,\"\")","v":""},{"$f":"IFERROR(#REF!,\"\")","v":""},"","",{"$f":"IFERROR(#REF!,\"\")","v":""},"",{"$f":"IFERROR(#REF!,\"\")","v":""},{"$f":"IFERROR(#REF!,\"\")","v":""},{"$f":"_xlfn.CONCAT(\"Trimestre 1\",CHAR(10),IFERROR(#REF!,\"\"))","v":"Trimestre 1\n"},{"$f":"_xlfn.CONCAT(\"Trimestre 1\",CHAR(10),IFERROR(#REF!,\"\"))","v":"Trimestre 1\n"},{"$f":"_xlfn.CONCAT(\"Trimestre 1\",CHAR(10),IFERROR(#REF!,\"\"))","v":"Trimestre 1\n"},{"$f":"_xlfn.CONCAT(\"Trimestre 1\",CHAR(10),IFERROR(#REF!,\"\"))","v":"Trimestre 1\n"},{"$f":"_xlfn.CONCAT(\"Trimestre 1\",CHAR(10),IFERROR(#REF!,\"\"))","v":"Trimestre 1\n"}]
[null,null,null,null,null,null,null,null,null,null,null,null,null,null,null,null,null,null,null,null,null,null,null,null,null,{"$f":"IFERROR(#REF!,\" \")","v":" "},{"$f":"IFERROR(#REF!,\"\")","v":""},{"$f":"IFERROR(#REF!,\"\")","v":""},"","",{"$f":"IFERROR(#REF!,\"\")","v":""},"",{"$f":"IFERROR(#REF!,\"\")","v":""},{"$f":"IFERROR(#REF!,\"\")","v":""},{"$f":"_xlfn.CONCAT(\"Trimestre 1\",CHAR(10),IFERROR(#REF!,\"\"))","v":"Trimestre 1\n"},{"$f":"_xlfn.CONCAT(\"Trimestre 1\",CHAR(10),IFERROR(#REF!,\"\"))","v":"Trimestre 1\n"},{"$f":"_xlfn.CONCAT(\"Trimestre 1\",CHAR(10),IFERROR(#REF!,\"\"))","v":"Trimestre 1\n"},{"$f":"_xlfn.CONCAT(\"Trimestre 1\",CHAR(10),IFERROR(#REF!,\"\"))","v":"Trimestre 1\n"},{"$f":"_xlfn.CONCAT(\"Trimestre 1\",CHAR(10),IFERROR(#REF!,\"\"))","v":"Trimestre 1\n"}]
[null,null,null,null,null,null,null,null,null,null,null,null,null,null,null,null,null,null,null,null,null,null,null,null,null,{"$f":"IFERROR(#REF!,\" \")","v":" "},{"$f":"IFERROR(#REF!,\"\")","v":""},{"$f":"IFERROR(#REF!,\"\")","v":""},"","",{"$f":"IFERROR(#REF!,\"\")","v":""},"",{"$f":"IFERROR(#REF!,\"\")","v":""},{"$f":"IFERROR(#REF!,\"\")","v":""},{"$f":"_xlfn.CONCAT(\"Trimestre 1\",CHAR(10),IFERROR(#REF!,\"\"))","v":"Trimestre 1\n"},{"$f":"_xlfn.CONCAT(\"Trimestre 1\",CHAR(10),IFERROR(#REF!,\"\"))","v":"Trimestre 1\n"},{"$f":"_xlfn.CONCAT(\"Trimestre 1\",CHAR(10),IFERROR(#REF!,\"\"))","v":"Trimestre 1\n"},{"$f":"_xlfn.CONCAT(\"Trimestre 1\",CHAR(10),IFERROR(#REF!,\"\"))","v":"Trimestre 1\n"},{"$f":"_xlfn.CONCAT(\"Trimestre 1\",CHAR(10),IFERROR(#REF!,\"\"))","v":"Trimestre 1\n"}]
[null,null,null,null,null,null,null,null,null,null,null,null,null,null,null,null,null,null,null,null,null,null,null,null,null,{"$f":"IFERROR(#REF!,\" \")","v":" "},{"$f":"IFERROR(#REF!,\"\")","v":""},{"$f":"IFERROR(#REF!,\"\")","v":""},"","",{"$f":"IFERROR(#REF!,\"\")","v":""},"",{"$f":"IFERROR(#REF!,\"\")","v":""},{"$f":"IFERROR(#REF!,\"\")","v":""},{"$f":"_xlfn.CONCAT(\"Trimestre 1\",CHAR(10),IFERROR(#REF!,\"\"))","v":"Trimestre 1\n"},{"$f":"_xlfn.CONCAT(\"Trimestre 1\",CHAR(10),IFERROR(#REF!,\"\"))","v":"Trimestre 1\n"},{"$f":"_xlfn.CONCAT(\"Trimestre 1\",CHAR(10),IFERROR(#REF!,\"\"))","v":"Trimestre 1\n"},{"$f":"_xlfn.CONCAT(\"Trimestre 1\",CHAR(10),IFERROR(#REF!,\"\"))","v":"Trimestre 1\n"},{"$f":"_xlfn.CONCAT(\"Trimestre 1\",CHAR(10),IFERROR(#REF!,\"\"))","v":"Trimestre 1\n"}]
[null,null,null,null,null,null,null,null,null,null,null,null,null,null,null,null,null,null,null,null,null,null,null,null,null,{"$f":"IFERROR(#REF!,\" \")","v":" "},{"$f":"IFERROR(#REF!,\"\")","v":""},{"$f":"IFERROR(#REF!,\"\")","v":""},"","",{"$f":"IFERROR(#REF!,\"\")","v":""},"",{"$f":"IFERROR(#REF!,\"\")","v":""},{"$f":"IFERROR(#REF!,\"\")","v":""},{"$f":"_xlfn.CONCAT(\"Trimestre 1\",CHAR(10),IFERROR(#REF!,\"\"))","v":"Trimestre 1\n"},{"$f":"_xlfn.CONCAT(\"Trimestre 1\",CHAR(10),IFERROR(#REF!,\"\"))","v":"Trimestre 1\n"},{"$f":"_xlfn.CONCAT(\"Trimestre 1\",CHAR(10),IFERROR(#REF!,\"\"))","v":"Trimestre 1\n"},{"$f":"_xlfn.CONCAT(\"Trimestre 1\",CHAR(10),IFERROR(#REF!,\"\"))","v":"Trimestre 1\n"},{"$f":"_xlfn.CONCAT(\"Trimestre 1\",CHAR(10),IFERROR(#REF!,\"\"))","v":"Trimestre 1\n"}]
[null,null,null,null,null,null,null,null,null,null,null,null,null,null,null,null,null,null,null,null,null,null,null,null,null,{"$f":"IFERROR(#REF!,\" \")","v":" "},{"$f":"IFERROR(#REF!,\"\")","v":""},{"$f":"IFERROR(#REF!,\"\")","v":""},"","",{"$f":"IFERROR(#REF!,\"\")","v":""},"",{"$f":"IFERROR(#REF!,\"\")","v":""},{"$f":"IFERROR(#REF!,\"\")","v":""},{"$f":"_xlfn.CONCAT(\"Trimestre 1\",CHAR(10),IFERROR(#REF!,\"\"))","v":"Trimestre 1\n"},{"$f":"_xlfn.CONCAT(\"Trimestre 1\",CHAR(10),IFERROR(#REF!,\"\"))","v":"Trimestre 1\n"},{"$f":"_xlfn.CONCAT(\"Trimestre 1\",CHAR(10),IFERROR(#REF!,\"\"))","v":"Trimestre 1\n"},{"$f":"_xlfn.CONCAT(\"Trimestre 1\",CHAR(10),IFERROR(#REF!,\"\"))","v":"Trimestre 1\n"},{"$f":"_xlfn.CONCAT(\"Trimestre 1\",CHAR(10),IFERROR(#REF!,\"\"))","v":"Trimestre 1\n"}]
[null,null,null,null,null,null,null,null,null,null,null,null,null,null,null,null,null,null,null,null,null,null,null,null,null,{"$f":"IFERROR(#REF!,\" \")","v":" "},{"$f":"IFERROR(#REF!,\"\")","v":""},{"$f":"IFERROR(#REF!,\"\")","v":""},"","",{"$f":"IFERROR(#REF!,\"\")","v":""},"",{"$f":"IFERROR(#REF!,\"\")","v":""},{"$f":"IFERROR(#REF!,\"\")","v":""},{"$f":"_xlfn.CONCAT(\"Trimestre 1\",CHAR(10),IFERROR(#REF!,\"\"))","v":"Trimestre 1\n"},{"$f":"_xlfn.CONCAT(\"Trimestre 1\",CHAR(10),IFERROR(#REF!,\"\"))","v":"Trimestre 1\n"},{"$f":"_xlfn.CONCAT(\"Trimestre 1\",CHAR(10),IFERROR(#REF!,\"\"))","v":"Trimestre 1\n"},{"$f":"_xlfn.CONCAT(\"Trimestre 1\",CHAR(10),IFERROR(#REF!,\"\"))","v":"Trimestre 1\n"},{"$f":"_xlfn.CONCAT(\"Trimestre 1\",CHAR(10),IFERROR(#REF!,\"\"))","v":"Trimestre 1\n"}]
[null,null,null,null,null,null,null,null,null,null,null,null,null,null,null,null,null,null,null,null,null,null,null,null,null,{"$f":"IFERROR(#REF!,\" \")","v":" "},{"$f":"IFERROR(#REF!,\"\")","v":""},{"$f":"IFERROR(#REF!,\"\")","v":""},"","",{"$f":"IFERROR(#REF!,\"\")","v":""},"",{"$f":"IFERROR(#REF!,\"\")","v":""},{"$f":"IFERROR(#REF!,\"\")","v":""},{"$f":"_xlfn.CONCAT(\"Trimestre 1\",CHAR(10),IFERROR(#REF!,\"\"))","v":"Trimestre 1\n"},{"$f":"_xlfn.CONCAT(\"Trimestre 1\",CHAR(10),IFERROR(#REF!,\"\"))","v":"Trimestre 1\n"},{"$f":"_xlfn.CONCAT(\"Trimestre 1\",CHAR(10),IFERROR(#REF!,\"\"))","v":"Trimestre 1\n"},{"$f":"_xlfn.CONCAT(\"Trimestre 1\",CHAR(10),IFERROR(#REF!,\"\"))","v":"Trimestre 1\n"},{"$f":"_xlfn.CONCAT(\"Trimestre 1\",CHAR(10),IFERROR(#REF!,\"\"))","v":"Trimestre 1\n"}]
[null,null,"2. Definir e implementar el modelo optimizado de formulación, seguimiento y evaluación de la política pública judicial.",null,null,null,null,null,null,null,null,null,null,null,null,null,null,null,null,null,null,null,null,null,null,{"$f":"IFERROR(#REF!,\" \")","v":" "},{"$f":"IFERROR(#REF!,\"\")","v":""},{"$f":"IFERROR(#REF!,\"\")","v":""},"","",{"$f":"IFERROR(#REF!,\"\")","v":""},"",{"$f":"IFERROR(#REF!,\"\")","v":""},{"$f":"IFERROR(#REF!,\"\")","v":""},{"$f":"_xlfn.CONCAT(\"Trimestre 1\",CHAR(10),IFERROR(#REF!,\"\"))","v":"Trimestre 1\n"},{"$f":"_xlfn.CONCAT(\"Trimestre 1\",CHAR(10),IFERROR(#REF!,\"\"))","v":"Trimestre 1\n"},{"$f":"_xlfn.CONCAT(\"Trimestre 1\",CHAR(10),IFERROR(#REF!,\"\"))","v":"Trimestre 1\n"},{"$f":"_xlfn.CONCAT(\"Trimestre 1\",CHAR(10),IFERROR(#REF!,\"\"))","v":"Trimestre 1\n"},{"$f":"_xlfn.CONCAT(\"Trimestre 1\",CHAR(10),IFERROR(#REF!,\"\"))","v":"Trimestre 1\n"}]
[null,null,null,null,null,null,null,null,null,null,null,null,null,null,null,null,null,null,null,null,null,null,null,null,null,{"$f":"IFERROR(#REF!,\" \")","v":" "},{"$f":"IFERROR(#REF!,\"\")","v":""},{"$f":"IFERROR(#REF!,\"\")","v":""},"","",{"$f":"IFERROR(#REF!,\"\")","v":""},"",{"$f":"IFERROR(#REF!,\"\")","v":""},{"$f":"IFERROR(#REF!,\"\")","v":""},{"$f":"_xlfn.CONCAT(\"Trimestre 1\",CHAR(10),IFERROR(#REF!,\"\"))","v":"Trimestre 1\n"},{"$f":"_xlfn.CONCAT(\"Trimestre 1\",CHAR(10),IFERROR(#REF!,\"\"))","v":"Trimestre 1\n"},{"$f":"_xlfn.CONCAT(\"Trimestre 1\",CHAR(10),IFERROR(#REF!,\"\"))","v":"Trimestre 1\n"},{"$f":"_xlfn.CONCAT(\"Trimestre 1\",CHAR(10),IFERROR(#REF!,\"\"))","v":"Trimestre 1\n"},{"$f":"_xlfn.CONCAT(\"Trimestre 1\",CHAR(10),IFERROR(#REF!,\"\"))","v":"Trimestre 1\n"}]
[null,null,null,null,null,null,null,null,null,null,null,null,null,null,null,null,null,null,null,null,null,null,null,null,null,{"$f":"IFERROR(#REF!,\" \")","v":" "},{"$f":"IFERROR(#REF!,\"\")","v":""},{"$f":"IFERROR(#REF!,\"\")","v":""},"","",{"$f":"IFERROR(#REF!,\"\")","v":""},"",{"$f":"IFERROR(#REF!,\"\")","v":""},{"$f":"IFERROR(#REF!,\"\")","v":""},{"$f":"_xlfn.CONCAT(\"Trimestre 1\",CHAR(10),IFERROR(#REF!,\"\"))","v":"Trimestre 1\n"},{"$f":"_xlfn.CONCAT(\"Trimestre 1\",CHAR(10),IFERROR(#REF!,\"\"))","v":"Trimestre 1\n"},{"$f":"_xlfn.CONCAT(\"Trimestre 1\",CHAR(10),IFERROR(#REF!,\"\"))","v":"Trimestre 1\n"},{"$f":"_xlfn.CONCAT(\"Trimestre 1\",CHAR(10),IFERROR(#REF!,\"\"))","v":"Trimestre 1\n"},{"$f":"_xlfn.CONCAT(\"Trimestre 1\",CHAR(10),IFERROR(#REF!,\"\"))","v":"Trimestre 1\n"}]
[null,null,null,null,null,null,null,null,null,null,null,null,null,null,null,null,null,null,null,null,null,null,null,null,null,{"$f":"IFERROR(#REF!,\" \")","v":" "},{"$f":"IFERROR(#REF!,\"\")","v":""},{"$f":"IFERROR(#REF!,\"\")","v":""},"","",{"$f":"IFERROR(#REF!,\"\")","v":""},"",{"$f":"IFERROR(#REF!,\"\")","v":""},{"$f":"IFERROR(#REF!,\"\")","v":""},{"$f":"_xlfn.CONCAT(\"Trimestre 1\",CHAR(10),IFERROR(#REF!,\"\"))","v":"Trimestre 1\n"},{"$f":"_xlfn.CONCAT(\"Trimestre 1\",CHAR(10),IFERROR(#REF!,\"\"))","v":"Trimestre 1\n"},{"$f":"_xlfn.CONCAT(\"Trimestre 1\",CHAR(10),IFERROR(#REF!,\"\"))","v":"Trimestre 1\n"},{"$f":"_xlfn.CONCAT(\"Trimestre 1\",CHAR(10),IFERROR(#REF!,\"\"))","v":"Trimestre 1\n"},{"$f":"_xlfn.CONCAT(\"Trimestre 1\",CHAR(10),IFERROR(#REF!,\"\"))","v":"Trimestre 1\n"}]
[null,null,null,null,null,null,null,null,null,null,null,null,null,null,null,null,null,null,null,null,null,null,null,null,null,{"$f":"IFERROR(#REF!,\" \")","v":" "},{"$f":"IFERROR(#REF!,\"\")","v":""},{"$f":"IFERROR(#REF!,\"\")","v":""},"","",{"$f":"IFERROR(#REF!,\"\")","v":""},"",{"$f":"IFERROR(#REF!,\"\")","v":""},{"$f":"IFERROR(#REF!,\"\")","v":""},{"$f":"_xlfn.CONCAT(\"Trimestre 1\",CHAR(10),IFERROR(#REF!,\"\"))","v":"Trimestre 1\n"},{"$f":"_xlfn.CONCAT(\"Trimestre 1\",CHAR(10),IFERROR(#REF!,\"\"))","v":"Trimestre 1\n"},{"$f":"_xlfn.CONCAT(\"Trimestre 1\",CHAR(10),IFERROR(#REF!,\"\"))","v":"Trimestre 1\n"},{"$f":"_xlfn.CONCAT(\"Trimestre 1\",CHAR(10),IFERROR(#REF!,\"\"))","v":"Trimestre 1\n"},{"$f":"_xlfn.CONCAT(\"Trimestre 1\",CHAR(10),IFERROR(#REF!,\"\"))","v":"Trimestre 1\n"}]
[null,null,null,null,null,null,null,null,null,null,null,null,null,null,null,null,null,null,null,null,null,null,null,null,null,{"$f":"IFERROR(#REF!,\" \")","v":" "},{"$f":"IFERROR(#REF!,\"\")","v":""},{"$f":"IFERROR(#REF!,\"\")","v":""},"","",{"$f":"IFERROR(#REF!,\"\")","v":""},"",{"$f":"IFERROR(#REF!,\"\")","v":""},{"$f":"IFERROR(#REF!,\"\")","v":""},{"$f":"_xlfn.CONCAT(\"Trimestre 1\",CHAR(10),IFERROR(#REF!,\"\"))","v":"Trimestre 1\n"},{"$f":"_xlfn.CONCAT(\"Trimestre 1\",CHAR(10),IFERROR(#REF!,\"\"))","v":"Trimestre 1\n"},{"$f":"_xlfn.CONCAT(\"Trimestre 1\",CHAR(10),IFERROR(#REF!,\"\"))","v":"Trimestre 1\n"},{"$f":"_xlfn.CONCAT(\"Trimestre 1\",CHAR(10),IFERROR(#REF!,\"\"))","v":"Trimestre 1\n"},{"$f":"_xlfn.CONCAT(\"Trimestre 1\",CHAR(10),IFERROR(#REF!,\"\"))","v":"Trimestre 1\n"}]
[null,null,null,null,null,null,null,null,null,null,null,null,null,null,null,null,null,null,null,null,null,null,null,null,null,{"$f":"IFERROR(#REF!,\" \")","v":" "},{"$f":"IFERROR(#REF!,\"\")","v":""},{"$f":"IFERROR(#REF!,\"\")","v":""},"","",{"$f":"IFERROR(#REF!,\"\")","v":""},"",{"$f":"IFERROR(#REF!,\"\")","v":""},{"$f":"IFERROR(#REF!,\"\")","v":""},{"$f":"_xlfn.CONCAT(\"Trimestre 1\",CHAR(10),IFERROR(#REF!,\"\"))","v":"Trimestre 1\n"},{"$f":"_xlfn.CONCAT(\"Trimestre 1\",CHAR(10),IFERROR(#REF!,\"\"))","v":"Trimestre 1\n"},{"$f":"_xlfn.CONCAT(\"Trimestre 1\",CHAR(10),IFERROR(#REF!,\"\"))","v":"Trimestre 1\n"},{"$f":"_xlfn.CONCAT(\"Trimestre 1\",CHAR(10),IFERROR(#REF!,\"\"))","v":"Trimestre 1\n"},{"$f":"_xlfn.CONCAT(\"Trimestre 1\",CHAR(10),IFERROR(#REF!,\"\"))","v":"Trimestre 1\n"}]
[null,null,null,null,null,null,null,null,null,null,null,null,null,null,null,null,null,null,null,null,null,null,null,null,null,{"$f":"IFERROR(#REF!,\" \")","v":" "},{"$f":"IFERROR(#REF!,\"\")","v":""},{"$f":"IFERROR(#REF!,\"\")","v":""},"","",{"$f":"IFERROR(#REF!,\"\")","v":""},"",{"$f":"IFERROR(#REF!,\"\")","v":""},{"$f":"IFERROR(#REF!,\"\")","v":""},{"$f":"_xlfn.CONCAT(\"Trimestre 1\",CHAR(10),IFERROR(#REF!,\"\"))","v":"Trimestre 1\n"},{"$f":"_xlfn.CONCAT(\"Trimestre 1\",CHAR(10),IFERROR(#REF!,\"\"))","v":"Trimestre 1\n"},{"$f":"_xlfn.CONCAT(\"Trimestre 1\",CHAR(10),IFERROR(#REF!,\"\"))","v":"Trimestre 1\n"},{"$f":"_xlfn.CONCAT(\"Trimestre 1\",CHAR(10),IFERROR(#REF!,\"\"))","v":"Trimestre 1\n"},{"$f":"_xlfn.CONCAT(\"Trimestre 1\",CHAR(10),IFERROR(#REF!,\"\"))","v":"Trimestre 1\n"}]
[null,null,null,null,null,null,null,null,null,null,null,null,null,null,null,null,null,null,null,null,null,null,null,null,null,{"$f":"IFERROR(#REF!,\" \")","v":" "},{"$f":"IFERROR(#REF!,\"\")","v":""},{"$f":"IFERROR(#REF!,\"\")","v":""},"","",{"$f":"IFERROR(#REF!,\"\")","v":""},"",{"$f":"IFERROR(#REF!,\"\")","v":""},{"$f":"IFERROR(#REF!,\"\")","v":""},{"$f":"_xlfn.CONCAT(\"Trimestre 1\",CHAR(10),IFERROR(#REF!,\"\"))","v":"Trimestre 1\n"},{"$f":"_xlfn.CONCAT(\"Trimestre 1\",CHAR(10),IFERROR(#REF!,\"\"))","v":"Trimestre 1\n"},{"$f":"_xlfn.CONCAT(\"Trimestre 1\",CHAR(10),IFERROR(#REF!,\"\"))","v":"Trimestre 1\n"},{"$f":"_xlfn.CONCAT(\"Trimestre 1\",CHAR(10),IFERROR(#REF!,\"\"))","v":"Trimestre 1\n"},{"$f":"_xlfn.CONCAT(\"Trimestre 1\",CHAR(10),IFERROR(#REF!,\"\"))","v":"Trimestre 1\n"}]
[null,null,null,null,null,null,null,null,null,null,null,null,null,null,null,null,null,null,null,null,null,null,null,null,null,{"$f":"IFERROR(#REF!,\" \")","v":" "},{"$f":"IFERROR(#REF!,\"\")","v":""},{"$f":"IFERROR(#REF!,\"\")","v":""},"","",{"$f":"IFERROR(#REF!,\"\")","v":""},"",{"$f":"IFERROR(#REF!,\"\")","v":""},{"$f":"IFERROR(#REF!,\"\")","v":""},{"$f":"_xlfn.CONCAT(\"Trimestre 1\",CHAR(10),IFERROR(#REF!,\"\"))","v":"Trimestre 1\n"},{"$f":"_xlfn.CONCAT(\"Trimestre 1\",CHAR(10),IFERROR(#REF!,\"\"))","v":"Trimestre 1\n"},{"$f":"_xlfn.CONCAT(\"Trimestre 1\",CHAR(10),IFERROR(#REF!,\"\"))","v":"Trimestre 1\n"},{"$f":"_xlfn.CONCAT(\"Trimestre 1\",CHAR(10),IFERROR(#REF!,\"\"))","v":"Trimestre 1\n"},{"$f":"_xlfn.CONCAT(\"Trimestre 1\",CHAR(10),IFERROR(#REF!,\"\"))","v":"Trimestre 1\n"}]

{"sheet":"INVERSION_SEG_1_TRIM","index":13,"n_rows":255,"n_cols":39,"rows_kept":255,"cut":false,"hidden":false,"merged":[[225,5,234,5],[235,0,254,0],[235,1,254,1],[235,2,244,2],[235,3,244,3],[235,4,244,4],[235,5,254,5],[245,2,254,2],[245,3,254,3],[245,4,254,4],[215,2,224,2],[215,3,224,3],[215,4,224,4],[225,2,234,2],[225,3,234,3],[225,4,234,4],[195,2,204,2],[195,3,204,3],[195,4,204,4],[205,2,214,2],[205,3,214,3],[205,4,214,4],[175,2,184,2],[175,3,184,3],[175,4,184,4],[175,5,184,5],[185,0,234,0],[185,1,234,1],[185,2,194,2],[185,3,194,3],[185,4,194,4],[185,5,224,5],[145,4,154,4],[145,5,174,5],[155,2,164,2],[155,3,164,3],[155,4,164,4],[165,2,174,2],[165,3,174,3],[165,4,174,4],[115,5,124,5],[125,2,134,2],[125,3,134,3],[125,4,134,4],[125,5,134,5],[135,2,144,2],[135,3,144,3],[135,4,144,4],[135,5,144,5],[105,2,114,2],[105,3,114,3],[105,4,114,4],[115,0,184,0],[115,1,184,1],[115,2,124,2],[115,3,124,3],[115,4,124,4],[145,2,154,2],[145,3,154,3],[85,2,94,2],[85,3,94,3],[85,4,94,4],[95,2,104,2],[95,3,104,3],[95,4,104,4],[65,2,74,2],[65,3,74,3],[65,4,74,4],[75,2,84,2],[75,3,84,3],[75,4,84,4],[45,2,54,2],[45,3,54,3],[45,4,54,4],[45,5,54,5],[55,0,114,0],[55,1,114,1],[55,2,64,2],[55,3,64,3],[55,4,64,4],[55,5,114,5],[25,2,34,2],[25,3,34,3],[25,4,34,4],[25,5,34,5],[35,2,44,2],[35,3,44,3],[35,4,44,4],[35,5,44,5],[5,0,54,0],[5,1,54,1],[5,2,14,2],[5,3,14,3],[5,4,14,4],[5,5,14,5],[15,2,24,2],[15,3,24,3],[15,4,24,4],[15,5,24,5],[3,5,4,5],[3,6,3,11],[3,12,3,22],[3,23,3,24],[3,25,3,31],[3,32,3,37],[1,0,1,17],[1,18,1,38],[2,0,2,5],[2,6,2,24],[2,25,2,37],[2,38,4,38],[3,0,4,1],[3,2,4,2],[3,3,4,3],[3,4,4,4]]}
[]
["CONSEJO SUPERIOR DE LA JUDICATURA \nUNIDADES MISIONALES DEL CONSEJO SUPERIOR DE LA JUDICATURA \nDIRECCIÓN EJECUTIVA DE ADMINISTRACIÓN JUDICIAL (DEAJ) - UNIDADES MISIONALES DE LA DEAJ\nDIRECCIONES SECCIONALES DE ADMINISTRACIÓN JUDICIAL "]
["PLAN SECTORIAL DE DESARROLLO 2023-2026 - OBJETIVOS SIGCMA",null,null,null,null,null,"PLAN DE ACCIÓN Y SEGUIMIENTO A LA INVERSIÓN INSTITUCIONAL ",null,null,null,null,null,null,null,null,null,null,null,null,null,null,null,null,null,null,"AVANCE PLAN DE ACCIÓN ANUAL",null,null,null,null,null,null,null,null,null,null,null,null,"ANALISIS RESULTADO\r\nTRIMESTRE"]
["OBJETIVO ESTRATÉGICO",null,"OBJETIVO ESPECÍFICO PSD","NOMBRE DEL INDICADOR PSD","DEFINICIÓN DEL INDICADOR","OBJETIVO ESPECÍFICO SIGCMA","IDENTIFICACIÓN PROYECTO DE INVERSIÓN",null,null,null,null,null,"PARÁMETROS DE MEDICIÓN ",null,null,null,null,null,null,null,null,null,null,"INFORMACIÓN FINANCIERA",null,"SEGUIMIENTO - CUMPLIMIENTO ANUAL ",null,null,null,null,null,null,"INFORMACIÓN COMPLEMENTARIA FINAL"]
[null,null,null,null,null,null,"PROGRAMA DE INVERSIÓN","SUBPROGRAMA DE INVERSIÓN","RUBRO PRESUPUESTAL","CÓDIGO BPIN","NOMBRE DE PROYECTO","OBJETIVO ESPECÍFICO FORMULADO DEL PROYECTO BPIN","NOMBRE ACTIVIDAD DE INVERSIÓN (POAI)","JUSTIFICACIÓN DE LA ACTIVIDAD","DESCRIBA EL ENTREGABLE \n(Producto y/o servicio principal)","META ANUALIDAD","UNIDAD DE MEDIDA","TIPO DE INDICADOR (GESTIÓN O PRODUCTO)","FECHA DE INICIO DE LA ACTIVIDAD\nDÍA/MES/AÑO","FECHA TERMINACIÓN ACTIVIDAD\nDÍA/MES/AÑO \n(Sí supera anualidad, favor dejar 31/12/20xx)","NÚMERO DE BENEFICIARIOS INTERNOS (Servidores Judiciales)","NÚMERO DE BENEFICIARIOS EXTERNOS (Usuarios)"," DEPENDENCIA RESPONSABLE ","ACTO ADMINISTRATIVO (INDICAR EL ACUERDO INICIAL Y MODIFICACIONES)","RECURSOS ASIGNADOS ($)","DETALLE DE LAS ACTIVIDADES REALIZADAS PARA EL LOGRO DE LA INVERSIÓN (Periodo de reporte acumulado) ","COMPROMISO PRESUPUESTAL (VALOR DEL CONTRATO)","AVANCE DE LA META","% AVANCE ANUAL DE LA ACTIVIDAD"," % AVANCE PRESUPUESTAL ANUAL","AVANCE  DE LA ACTIVIDAD - % EN TIEMPO ANUAL","REZAGO","NÚMERO DE BENEFICIADOS INTERNOS","NÚMERO DE BENEFICIADOS EXTERNOS","DIFICULTADES PARA LOGRAR LA META PROPUESTA","EL PRODUCTO FINAL OBTENIDO ¿CÓMO IMPACTÓ SOBRE EL OBJETIVO ESTRATÉGICO?","RECOMENDACIONES PARA LOGRAR LA META","OBSERVACIONES"]
["1. Acceso e Infraestructura Física","Acceso e Infraestructura Física: Ampliar, en todo el territorio nacional, el acceso a una justicia efectiva, pronta, equitativa e incluyente, reduciendo el atraso y la congestión, de acuerdo con las necesidades de la demanda de justicia por jurisdicción y especialidad, y mejorando la articulación con la justicia restaurativa y terapéutica, y otros mecanismos de solución de conflictos y consolidando una infraestructura física óptima para el acceso a la justicia.","1. Ampliar el acceso a justicia para atender las necesidades jurídicas de los ciudadanos con un enfoque diferencial, de una manera pronta, reduciendo las inequidades y las brechas territoriales de acceso.","Estrategias implementadas por la Rama Judicial para ampliar el acceso a la justicia considerando el enfoque diferencial y territorial\n\nÍndice de dispersión en la calificación del factor calidad","# de estrategias establecida s en la meta implementa das durante la vigencia del plan\n\nDispersión en la calificación del factor de calidad por jurisdicción y nivel de competencia.","2. Asegurar  el cumplimiento de los objetivos institucionales, la normatividad aplicable,  la mejora del SIGCMA y la satisfacción de los usuarios, revisando de  forma continua y sistemática la planificación de la gestión y fortaleciendo la administración de riesgos y sus controles",{"$f":"IFERROR([6]INVERSION!$G$6,\"\")","v":"MEJORAMIENTO Y MANTENIMIENTO DE LA INFRAESTRUCTURA FÍSICA DE LA RAMA JUDICIAL A NIVEL NACIONAL"},{"$f":"IFERROR([6]INVERSION!$H$6,\"\")","v":"MEJORAMIENTO Y MANTENIMIENTO DE LA INFRAESTRUCTURA FÍSICA DE LA RAMA JUDICIAL A NIVEL NACIONAL"},{"$f":"IFERROR([6]INVERSION!$I$6,\"\")","v":"2701 - MEJORAMIENTO Y MANTENIMIENTO DE LA INFRAESTRUCTURA FÍSICA DE LA RAMA JUDICIAL A NIVEL NACIONAL"},"=IFERROR(INVERSION!$J$6,\"\")",{"$f":"IFERROR([6]INVERSION!$K$6,\"\")","v":"MEJORAMIENTO Y MANTENIMIENTO DE LA INFRAESTRUCTURA FÍSICA DE LA RAMA JUDICIAL A NIVEL NACIONAL"},{"$f":"IFERROR([6]INVERSION!$L$6,\"\")","v":"MEJORAMIENTO Y MANTENIMIENTO DE LA INFRAESTRUCTURA FÍSICA DE LA RAMA JUDICIAL A NIVEL NACIONAL"},{"$f":"IFERROR([6]INVERSION!$M$6,\"\")","v":"MEJORAMIENTO Y MANTENIMIENTO DE LA INFRAESTRUCTURA FÍSICA DE LA RAMA JUDICIAL A NIVEL NACIONAL"},{"$f":"IFERROR([6]INVERSION!$N$6,\"\")","v":"Proyectos para el mantenimiento y mejoramiento de la infraestructura física de los inmuebles propios de la Rama Judicial en el Distrito Judicial de Villavicencio"},{"$f":"IFERROR([6]INVERSION!$O$6,\"\")","v":"Contratos susctritos para la ejecución de los recursos asignados para el mantenimiento y mejoramiento de la infraestructura física en el Distrito Judicial de Villavicencio"},{"$f":"IFERROR([6]INVERSION!$P$6,\"\")","v":100},{"$f":"IFERROR([6]INVERSION!$Q$6,\"\")","v":"PORCENTAJE"},{"$f":"IFERROR([6]INVERSION!$R$6,\"\")","v":"Producto"},{"$f":"IFERROR([6]INVERSION!$S$6,\"\")","v":"2023-06-01"},{"$f":"IFERROR([6]INVERSION!$T$6,\"\")","v":"2023-12-31"},{"$f":"IFERROR([6]INVERSION!$U$6,\"\")","v":250},{"$f":"IFERROR([6]INVERSION!$V$6,\"\")","v":4500},{"$f":"IFERROR([6]INVERSION!$W$6,\"\")","v":"Administrativa "},{"$f":"IFERROR([6]INVERSION!$X$6,\"\")","v":"RES. 3301 - 2023 - UPLA"},{"$f":"IFERROR([6]INVERSION!$Y$6,\"\")","v":1557166363},null,null,null,{"$f":"IFERROR(AB6/P6,\"\")","v":0},{"$f":"IFERROR(AA6/Y6,\"\")","v":0},null,{"$f":"IFERROR(P6-AB6,\"\")","v":100}]
[null,null,null,null,null,null,{"$f":"IFERROR([6]INVERSION!$G$7,\"\")","v":0},{"$f":"IFERROR([6]INVERSION!$H$7,\"\")","v":0},{"$f":"IFERROR([6]INVERSION!$I$7,\"\")","v":0},{"$f":"IFERROR([6]INVERSION!$J$7,\"\")","v":0},{"$f":"IFERROR([6]INVERSION!$K$7,\"\")","v":0},{"$f":"IFERROR([6]INVERSION!$L$7,\"\")","v":0},{"$f":"IFERROR([6]INVERSION!$M$7,\"\")","v":0},{"$f":"IFERROR([6]INVERSION!$N$7,\"\")","v":0},{"$f":"IFERROR([6]INVERSION!$O$7,\"\")","v":0},{"$f":"IFERROR([6]INVERSION!$P$7,\"\")","v":0},{"$f":"IFERROR([6]INVERSION!$Q$7,\"\")","v":0},{"$f":"IFERROR([6]INVERSION!$R$7,\"\")","v":0},{"$f":"IFERROR([6]INVERSION!$S$7,\"\")","v":"00:00:00"},{"$f":"IFERROR([6]INVERSION!$T$7,\"\")","v":"00:00:00"},{"$f":"IFERROR([6]INVERSION!$U$7,\"\")","v":0},{"$f":"IFERROR([6]INVERSION!$V$7,\"\")","v":0},{"$f":"IFERROR([6]INVERSION!$W$7,\"\")","v":0},{"$f":"IFERROR([6]INVERSION!$X$7,\"\")","v":0},{"$f":"IFERROR([6]INVERSION!$Y$7,\"\")","v":0},null,null,null,{"$f":"IFERROR(AB7/P7,\"\")","v":""},{"$f":"IFERROR(AA7/Y7,\"\")","v":""},null,{"$f":"IFERROR(P7-AB7,\"\")","v":0}]
[null,null,null,null,null,null,{"$f":"IFERROR([6]INVERSION!$G$8,\"\")","v":0},{"$f":"IFERROR([6]INVERSION!$H$8,\"\")","v":0},{"$f":"IFERROR([6]INVERSION!$I$8,\"\")","v":0},{"$f":"IFERROR([6]INVERSION!$J$8,\"\")","v":0},{"$f":"IFERROR([6]INVERSION!$K$8,\"\")","v":0},{"$f":"IFERROR([6]INVERSION!$L$8,\"\")","v":0},{"$f":"IFERROR([6]INVERSION!$M$8,\"\")","v":0},{"$f":"IFERROR([6]INVERSION!$N$8,\"\")","v":0},{"$f":"IFERROR([6]INVERSION!$O$8,\"\")","v":0},{"$f":"IFERROR([6]INVERSION!$P$8,\"\")","v":0},{"$f":"IFERROR([6]INVERSION!$Q$8,\"\")","v":0},{"$f":"IFERROR([6]INVERSION!$R$8,\"\")","v":0},{"$f":"IFERROR([6]INVERSION!$S$8,\"\")","v":"00:00:00"},{"$f":"IFERROR([6]INVERSION!$T$8,\"\")","v":"00:00:00"},{"$f":"IFERROR([6]INVERSION!$U$8,\"\")","v":0},{"$f":"IFERROR([6]INVERSION!$V$8,\"\")","v":0},{"$f":"IFERROR([6]INVERSION!$W$8,\"\")","v":0},{"$f":"IFERROR([6]INVERSION!$X$8,\"\")","v":0},{"$f":"IFERROR([6]INVERSION!$Y$8,\"\")","v":0}]
[null,null,null,null,null,null,{"$f":"IFERROR([6]INVERSION!$G$9,\"\")","v":0},{"$f":"IFERROR([6]INVERSION!$H$9,\"\")","v":0},{"$f":"IFERROR([6]INVERSION!$I$9,\"\")","v":0},{"$f":"IFERROR([6]INVERSION!$J$9,\"\")","v":0},{"$f":"IFERROR([6]INVERSION!$K$9,\"\")","v":0},{"$f":"IFERROR([6]INVERSION!$L$9,\"\")","v":0},{"$f":"IFERROR([6]INVERSION!$M$9,\"\")","v":0},{"$f":"IFERROR([6]INVERSION!$N$9,\"\")","v":0},{"$f":"IFERROR([6]INVERSION!$O$9,\"\")","v":0},{"$f":"IFERROR([6]INVERSION!$P$9,\"\")","v":0},{"$f":"IFERROR([6]INVERSION!$Q$9,\"\")","v":0},{"$f":"IFERROR([6]INVERSION!$R$9,\"\")","v":0},{"$f":"IFERROR([6]INVERSION!$S$9,\"\")","v":"00:00:00"},{"$f":"IFERROR([6]INVERSION!$T$9,\"\")","v":"00:00:00"},{"$f":"IFERROR([6]INVERSION!$U$9,\"\")","v":0},{"$f":"IFERROR([6]INVERSION!$V$9,\"\")","v":0},{"$f":"IFERROR([6]INVERSION!$W$9,\"\")","v":0},{"$f":"IFERROR([6]INVERSION!$X$9,\"\")","v":0},{"$f":"IFERROR([6]INVERSION!$Y$9,\"\")","v":0}]
[null,null,null,null,null,null,{"$f":"IFERROR([6]INVERSION!$G$10,\"\")","v":0},{"$f":"IFERROR([6]INVERSION!$H$10,\"\")","v":0},{"$f":"IFERROR([6]INVERSION!$I$10,\"\")","v":0},{"$f":"IFERROR([6]INVERSION!$J$10,\"\")","v":0},{"$f":"IFERROR([6]INVERSION!$K$10,\"\")","v":0},{"$f":"IFERROR([6]INVERSION!$L$10,\"\")","v":0},{"$f":"IFERROR([6]INVERSION!$M$10,\"\")","v":0},{"$f":"IFERROR([6]INVERSION!$N$10,\"\")","v":0},{"$f":"IFERROR([6]INVERSION!$O$10,\"\")","v":0},{"$f":"IFERROR([6]INVERSION!$P$10,\"\")","v":0},{"$f":"IFERROR([6]INVERSION!$Q$10,\"\")","v":0},{"$f":"IFERROR([6]INVERSION!$R$10,\"\")","v":0},{"$f":"IFERROR([6]INVERSION!$S$10,\"\")","v":"00:00:00"},{"$f":"IFERROR([6]INVERSION!$T$10,\"\")","v":"00:00:00"},{"$f":"IFERROR([6]INVERSION!$U$10,\"\")","v":0},{"$f":"IFERROR([6]INVERSION!$V$10,\"\")","v":0},{"$f":"IFERROR([6]INVERSION!$W$10,\"\")","v":0},{"$f":"IFERROR([6]INVERSION!$X$10,\"\")","v":0},{"$f":"IFERROR([6]INVERSION!$Y$10,\"\")","v":0}]
[null,null,null,null,null,null,{"$f":"IFERROR([6]INVERSION!$G$11,\"\")","v":0},{"$f":"IFERROR([6]INVERSION!$H$11,\"\")","v":0},{"$f":"IFERROR([6]INVERSION!$I$11,\"\")","v":0},{"$f":"IFERROR([6]INVERSION!$J$11,\"\")","v":0},{"$f":"IFERROR([6]INVERSION!$K$11,\"\")","v":0},{"$f":"IFERROR([6]INVERSION!$L$11,\"\")","v":0},{"$f":"IFERROR([6]INVERSION!$M$11,\"\")","v":0},{"$f":"IFERROR([6]INVERSION!$N$11,\"\")","v":0},{"$f":"IFERROR([6]INVERSION!$O$11,\"\")","v":0},{"$f":"IFERROR([6]INVERSION!$P$11,\"\")","v":0},{"$f":"IFERROR([6]INVERSION!$Q$11,\"\")","v":0},{"$f":"IFERROR([6]INVERSION!$R$11,\"\")","v":0},{"$f":"IFERROR([6]INVERSION!$S$11,\"\")","v":"00:00:00"},{"$f":"IFERROR([6]INVERSION!$T$11,\"\")","v":"00:00:00"},{"$f":"IFERROR([6]INVERSION!$U$11,\"\")","v":0},{"$f":"IFERROR([6]INVERSION!$V$11,\"\")","v":0},{"$f":"IFERROR([6]INVERSION!$W$11,\"\")","v":0},{"$f":"IFERROR([6]INVERSION!$X$11,\"\")","v":0},{"$f":"IFERROR([6]INVERSION!$Y$11,\"\")","v":0}]
[null,null,null,null,null,null,{"$f":"IFERROR([6]INVERSION!$G$12,\"\")","v":0},{"$f":"IFERROR([6]INVERSION!$H$12,\"\")","v":0},{"$f":"IFERROR([6]INVERSION!$I$12,\"\")","v":0},{"$f":"IFERROR([6]INVERSION!$J$12,\"\")","v":0},{"$f":"IFERROR([6]INVERSION!$K$12,\"\")","v":0},{"$f":"IFERROR([6]INVERSION!$L$12,\"\")","v":0},{"$f":"IFERROR([6]INVERSION!$M$12,\"\")","v":0},{"$f":"IFERROR([6]INVERSION!$N$12,\"\")","v":0},{"$f":"IFERROR([6]INVERSION!$O$12,\"\")","v":0},{"$f":"IFERROR([6]INVERSION!$P$12,\"\")","v":0},{"$f":"IFERROR([6]INVERSION!$Q$12,\"\")","v":0},{"$f":"IFERROR([6]INVERSION!$R$12,\"\")","v":0},{"$f":"IFERROR([6]INVERSION!$S$12,\"\")","v":"00:00:00"},{"$f":"IFERROR([6]INVERSION!$T$12,\"\")","v":"00:00:00"},{"$f":"IFERROR([6]INVERSION!$U$12,\"\")","v":0},{"$f":"IFERROR([6]INVERSION!$V$12,\"\")","v":0},{"$f":"IFERROR([6]INVERSION!$W$12,\"\")","v":0},{"$f":"IFERROR([6]INVERSION!$X$12,\"\")","v":0},{"$f":"IFERROR([6]INVERSION!$Y$12,\"\")","v":0}]
[null,null,null,null,null,null,{"$f":"IFERROR([6]INVERSION!$G$13,\"\")","v":0},{"$f":"IFERROR([6]INVERSION!$H$13,\"\")","v":0},{"$f":"IFERROR([6]INVERSION!$I$13,\"\")","v":0},{"$f":"IFERROR([6]INVERSION!$J$13,\"\")","v":0},{"$f":"IFERROR([6]INVERSION!$K$13,\"\")","v":0},{"$f":"IFERROR([6]INVERSION!$L$13,\"\")","v":0},{"$f":"IFERROR([6]INVERSION!$M$13,\"\")","v":0},{"$f":"IFERROR([6]INVERSION!$N$13,\"\")","v":0},{"$f":"IFERROR([6]INVERSION!$O$13,\"\")","v":0},{"$f":"IFERROR([6]INVERSION!$P$13,\"\")","v":0},{"$f":"IFERROR([6]INVERSION!$Q$13,\"\")","v":0},{"$f":"IFERROR([6]INVERSION!$R$13,\"\")","v":0},{"$f":"IFERROR([6]INVERSION!$S$13,\"\")","v":"00:00:00"},{"$f":"IFERROR([6]INVERSION!$T$13,\"\")","v":"00:00:00"},{"$f":"IFERROR([6]INVERSION!$U$13,\"\")","v":0},{"$f":"IFERROR([6]INVERSION!$V$13,\"\")","v":0},{"$f":"IFERROR([6]INVERSION!$W$13,\"\")","v":0},{"$f":"IFERROR([6]INVERSION!$X$13,\"\")","v":0},{"$f":"IFERROR([6]INVERSION!$Y$13,\"\")","v":0},null,null,null,{"$f":"IFERROR(AB13/P13,\"\")","v":""},{"$f":"IFERROR(AA13/Y13,\"\")","v":""},null,0]
[null,null,null,null,null,null,{"$f":"IFERROR([6]INVERSION!$G$14,\"\")","v":0},{"$f":"IFERROR([6]INVERSION!$H$14,\"\")","v":0},{"$f":"IFERROR([6]INVERSION!$I$14,\"\")","v":0},{"$f":"IFERROR([6]INVERSION!$J$14,\"\")","v":0},{"$f":"IFERROR([6]INVERSION!$K$14,\"\")","v":0},{"$f":"IFERROR([6]INVERSION!$L$14,\"\")","v":0},{"$f":"IFERROR([6]INVERSION!$M$14,\"\")","v":0},{"$f":"IFERROR([6]INVERSION!$N$14,\"\")","v":0},{"$f":"IFERROR([6]INVERSION!$O$14,\"\")","v":0},{"$f":"IFERROR([6]INVERSION!$P$14,\"\")","v":0},{"$f":"IFERROR([6]INVERSION!$Q$14,\"\")","v":0},{"$f":"IFERROR([6]INVERSION!$R$14,\"\")","v":0},{"$f":"IFERROR([6]INVERSION!$S$14,\"\")","v":"00:00:00"},{"$f":"IFERROR([6]INVERSION!$T$14,\"\")","v":"00:00:00"},{"$f":"IFERROR([6]INVERSION!$U$14,\"\")","v":0},{"$f":"IFERROR([6]INVERSION!$V$14,\"\")","v":0},{"$f":"IFERROR([6]INVERSION!$W$14,\"\")","v":0},{"$f":"IFERROR([6]INVERSION!$X$14,\"\")","v":0},{"$f":"IFERROR([6]INVERSION!$Y$14,\"\")","v":0},null,null,null,"","",null,0]
[null,null,null,null,null,null,{"$f":"IFERROR([6]INVERSION!$G$15,\"\")","v":0},{"$f":"IFERROR([6]INVERSION!$H$15,\"\")","v":0},{"$f":"IFERROR([6]INVERSION!$I$15,\"\")","v":0},{"$f":"IFERROR([6]INVERSION!$J$15,\"\")","v":0},{"$f":"IFERROR([6]INVERSION!$K$15,\"\")","v":0},{"$f":"IFERROR([6]INVERSION!$L$15,\"\")","v":0},{"$f":"IFERROR([6]INVERSION!$M$15,\"\")","v":0},{"$f":"IFERROR([6]INVERSION!$N$15,\"\")","v":0},{"$f":"IFERROR([6]INVERSION!$O$15,\"\")","v":0},{"$f":"IFERROR([6]INVERSION!$P$15,\"\")","v":0},{"$f":"IFERROR([6]INVERSION!$Q$15,\"\")","v":0},{"$f":"IFERROR([6]INVERSION!$R$15,\"\")","v":0},{"$f":"IFERROR([6]INVERSION!$S$15,\"\")","v":"00:00:00"},{"$f":"IFERROR([6]INVERSION!$T$15,\"\")","v":"00:00:00"},{"$f":"IFERROR([6]INVERSION!$U$15,\"\")","v":0},{"$f":"IFERROR([6]INVERSION!$V$15,\"\")","v":0},{"$f":"IFERROR([6]INVERSION!$W$15,\"\")","v":0},{"$f":"IFERROR([6]INVERSION!$X$15,\"\")","v":0},{"$f":"IFERROR([6]INVERSION!$Y$15,\"\")","v":0},null,null,null,"","",null,0]
[null,null,"2. Mejorar los tiempos de respuesta de la Rama Judicial y reducir el inventario de procesos, identificando los retos internos y promoviendo tanto acciones articuladas específicas para abordarlos como estrategias coordinadas para enfrentar las barreras que dependen de otras entidades.","Reducción de tiempos de respuesta en los despachos en los que se implemente el sistema de gestión judicial","% Reducción del promedio de días de duración de los procesos judiciales en los despachos en los que se implemente el sistema de gestión judicial","2. Asegurar  el cumplimiento de los objetivos institucionales, la normatividad aplicable,  la mejora del SIGCMA y la satisfacción de los usuarios, revisando de  forma continua y sistemática la planificación de la gestión y fortaleciendo la administración de riesgos y sus controles",{"$f":"IFERROR([6]INVERSION!$G$16,\"\")","v":0},{"$f":"IFERROR([6]INVERSION!$H$16,\"\")","v":0},{"$f":"IFERROR([6]INVERSION!$I$16,\"\")","v":0},{"$f":"IFERROR([6]INVERSION!$J$16,\"\")","v":0},{"$f":"IFERROR([6]INVERSION!$K$16,\"\")","v":0},{"$f":"IFERROR([6]INVERSION!$L$16,\"\")","v":0},{"$f":"IFERROR([6]INVERSION!$M$16,\"\")","v":0},{"$f":"IFERROR([6]INVERSION!$N$16,\"\")","v":0},{"$f":"IFERROR([6]INVERSION!$O$16,\"\")","v":0},{"$f":"IFERROR([6]INVERSION!$P$16,\"\")","v":0},{"$f":"IFERROR([6]INVERSION!$Q$16,\"\")","v":0},{"$f":"IFERROR([6]INVERSION!$R$16,\"\")","v":0},{"$f":"IFERROR([6]INVERSION!$S$16,\"\")","v":"00:00:00"},{"$f":"IFERROR([6]INVERSION!$T$16,\"\")","v":"00:00:00"},{"$f":"IFERROR([6]INVERSION!$U$16,\"\")","v":0},{"$f":"IFERROR([6]INVERSION!$V$16,\"\")","v":0},{"$f":"IFERROR([6]INVERSION!$W$16,\"\")","v":0},{"$f":"IFERROR([6]INVERSION!$X$16,\"\")","v":0},{"$f":"IFERROR([6]INVERSION!$Y$16,\"\")","v":0},null,null,null,"","",null,0]
[null,null,null,null,null,null,{"$f":"IFERROR([6]INVERSION!$G$17,\"\")","v":0},{"$f":"IFERROR([6]INVERSION!$H$17,\"\")","v":0},{"$f":"IFERROR([6]INVERSION!$I$17,\"\")","v":0},{"$f":"IFERROR([6]INVERSION!$J$17,\"\")","v":0},{"$f":"IFERROR([6]INVERSION!$K$17,\"\")","v":0},{"$f":"IFERROR([6]INVERSION!$L$17,\"\")","v":0},{"$f":"IFERROR([6]INVERSION!$M$17,\"\")","v":0},{"$f":"IFERROR([6]INVERSION!$N$17,\"\")","v":0},{"$f":"IFERROR([6]INVERSION!$O$17,\"\")","v":0},{"$f":"IFERROR([6]INVERSION!$P$17,\"\")","v":0},{"$f":"IFERROR([6]INVERSION!$Q$17,\"\")","v":0},{"$f":"IFERROR([6]INVERSION!$R$17,\"\")","v":0},{"$f":"IFERROR([6]INVERSION!$S$17,\"\")","v":"00:00:00"},{"$f":"IFERROR([6]INVERSION!$T$17,\"\")","v":"00:00:00"},{"$f":"IFERROR([6]INVERSION!$U$17,\"\")","v":0},{"$f":"IFERROR([6]INVERSION!$V$17,\"\")","v":0},{"$f":"IFERROR([6]INVERSION!$W$17,\"\")","v":0},{"$f":"IFERROR([6]INVERSION!$X$17,\"\")","v":0},{"$f":"IFERROR([6]INVERSION!$Y$17,\"\")","v":0},null,null,null,"","",null,0]
[null,null,null,null,null,null,{"$f":"IFERROR([6]INVERSION!$G$18,\"\")","v":0},{"$f":"IFERROR([6]INVERSION!$H$18,\"\")","v":0},{"$f":"IFERROR([6]INVERSION!$I$18,\"\")","v":0},{"$f":"IFERROR([6]INVERSION!$J$18,\"\")","v":0},{"$f":"IFERROR([6]INVERSION!$K$18,\"\")","v":0},{"$f":"IFERROR([6]INVERSION!$L$18,\"\")","v":0},{"$f":"IFERROR([6]INVERSION!$M$18,\"\")","v":0},{"$f":"IFERROR([6]INVERSION!$N$18,\"\")","v":0},{"$f":"IFERROR([6]INVERSION!$O$18,\"\")","v":0},{"$f":"IFERROR([6]INVERSION!$P$18,\"\")","v":0},{"$f":"IFERROR([6]INVERSION!$Q$18,\"\")","v":0},{"$f":"IFERROR([6]INVERSION!$R$18,\"\")","v":0},{"$f":"IFERROR([6]INVERSION!$S$18,\"\")","v":"00:00:00"},{"$f":"IFERROR([6]INVERSION!$T$18,\"\")","v":"00:00:00"},{"$f":"IFERROR([6]INVERSION!$U$18,\"\")","v":0},{"$f":"IFERROR([6]INVERSION!$V$18,\"\")","v":0},{"$f":"IFERROR([6]INVERSION!$W$18,\"\")","v":0},{"$f":"IFERROR([6]INVERSION!$X$18,\"\")","v":0},{"$f":"IFERROR([6]INVERSION!$Y$18,\"\")","v":0}]
[null,null,null,null,null,null,{"$f":"IFERROR([6]INVERSION!$G$19,\"\")","v":0},{"$f":"IFERROR([6]INVERSION!$H$19,\"\")","v":0},{"$f":"IFERROR([6]INVERSION!$I$19,\"\")","v":0},{"$f":"IFERROR([6]INVERSION!$J$19,\"\")","v":0},{"$f":"IFERROR([6]INVERSION!$K$19,\"\")","v":0},{"$f":"IFERROR([6]INVERSION!$L$19,\"\")","v":0},{"$f":"IFERROR([6]INVERSION!$M$19,\"\")","v":0},{"$f":"IFERROR([6]INVERSION!$N$19,\"\")","v":0},{"$f":"IFERROR([6]INVERSION!$O$19,\"\")","v":0},{"$f":"IFERROR([6]INVERSION!$P$19,\"\")","v":0},{"$f":"IFERROR([6]INVERSION!$Q$19,\"\")","v":0},{"$f":"IFERROR([6]INVERSION!$R$19,\"\")","v":0},{"$f":"IFERROR([6]INVERSION!$S$19,\"\")","v":"00:00:00"},{"$f":"IFERROR([6]INVERSION!$T$19,\"\")","v":"00:00:00"},{"$f":"IFERROR([6]INVERSION!$U$19,\"\")","v":0},{"$f":"IFERROR([6]INVERSION!$V$19,\"\")","v":0},{"$f":"IFERROR([6]INVERSION!$W$19,\"\")","v":0},{"$f":"IFERROR([6]INVERSION!$X$19,\"\")","v":0},{"$f":"IFERROR([6]INVERSION!$Y$19,\"\")","v":0}]
[null,null,null,null,null,null,{"$f":"IFERROR([6]INVERSION!$G$20,\"\")","v":0},{"$f":"IFERROR([6]INVERSION!$H$20,\"\")","v":0},{"$f":"IFERROR([6]INVERSION!$I$20,\"\")","v":0},{"$f":"IFERROR([6]INVERSION!$J$20,\"\")","v":0},{"$f":"IFERROR([6]INVERSION!$K$20,\"\")","v":0},{"$f":"IFERROR([6]INVERSION!$L$20,\"\")","v":0},{"$f":"IFERROR([6]INVERSION!$M$20,\"\")","v":0},{"$f":"IFERROR([6]INVERSION!$N$20,\"\")","v":0},{"$f":"IFERROR([6]INVERSION!$O$20,\"\")","v":0},{"$f":"IFERROR([6]INVERSION!$P$20,\"\")","v":0},{"$f":"IFERROR([6]INVERSION!$Q$20,\"\")","v":0},{"$f":"IFERROR([6]INVERSION!$R$20,\"\")","v":0},{"$f":"IFERROR([6]INVERSION!$S$20,\"\")","v":"00:00:00"},{"$f":"IFERROR([6]INVERSION!$T$20,\"\")","v":"00:00:00"},{"$f":"IFERROR([6]INVERSION!$U$20,\"\")","v":0},{"$f":"IFERROR([6]INVERSION!$V$20,\"\")","v":0},{"$f":"IFERROR([6]INVERSION!$W$20,\"\")","v":0},{"$f":"IFERROR([6]INVERSION!$X$20,\"\")","v":0},{"$f":"IFERROR([6]INVERSION!$Y$20,\"\")","v":0}]
[null,null,null,null,null,null,{"$f":"IFERROR([6]INVERSION!$G$21,\"\")","v":0},{"$f":"IFERROR([6]INVERSION!$H$21,\"\")","v":0},{"$f":"IFERROR([6]INVERSION!$I$21,\"\")","v":0},{"$f":"IFERROR([6]INVERSION!$J$21,\"\")","v":0},{"$f":"IFERROR([6]INVERSION!$K$21,\"\")","v":0},{"$f":"IFERROR([6]INVERSION!$L$21,\"\")","v":0},{"$f":"IFERROR([6]INVERSION!$M$21,\"\")","v":0},{"$f":"IFERROR([6]INVERSION!$N$21,\"\")","v":0},{"$f":"IFERROR([6]INVERSION!$O$21,\"\")","v":0},{"$f":"IFERROR([6]INVERSION!$P$21,\"\")","v":0},{"$f":"IFERROR([6]INVERSION!$Q$21,\"\")","v":0},{"$f":"IFERROR([6]INVERSION!$R$21,\"\")","v":0},{"$f":"IFERROR([6]INVERSION!$S$21,\"\")","v":"00:00:00"},{"$f":"IFERROR([6]INVERSION!$T$21,\"\")","v":"00:00:00"},{"$f":"IFERROR([6]INVERSION!$U$21,\"\")","v":0},{"$f":"IFERROR([6]INVERSION!$V$21,\"\")","v":0},{"$f":"IFERROR([6]INVERSION!$W$21,\"\")","v":0},{"$f":"IFERROR([6]INVERSION!$X$21,\"\")","v":0},{"$f":"IFERROR([6]INVERSION!$Y$21,\"\")","v":0}]
[null,null,null,null,null,null,{"$f":"IFERROR([6]INVERSION!$G$22,\"\")","v":0},{"$f":"IFERROR([6]INVERSION!$H$22,\"\")","v":0},{"$f":"IFERROR([6]INVERSION!$I$22,\"\")","v":0},{"$f":"IFERROR([6]INVERSION!$J$22,\"\")","v":0},{"$f":"IFERROR([6]INVERSION!$K$22,\"\")","v":0},{"$f":"IFERROR([6]INVERSION!$L$22,\"\")","v":0},{"$f":"IFERROR([6]INVERSION!$M$22,\"\")","v":0},{"$f":"IFERROR([6]INVERSION!$N$22,\"\")","v":0},{"$f":"IFERROR([6]INVERSION!$O$22,\"\")","v":0},{"$f":"IFERROR([6]INVERSION!$P$22,\"\")","v":0},{"$f":"IFERROR([6]INVERSION!$Q$22,\"\")","v":0},{"$f":"IFERROR([6]INVERSION!$R$22,\"\")","v":0},{"$f":"IFERROR([6]INVERSION!$S$22,\"\")","v":"00:00:00"},{"$f":"IFERROR([6]INVERSION!$T$22,\"\")","v":"00:00:00"},{"$f":"IFERROR([6]INVERSION!$U$22,\"\")","v":0},{"$f":"IFERROR([6]INVERSION!$V$22,\"\")","v":0},{"$f":"IFERROR([6]INVERSION!$W$22,\"\")","v":0},{"$f":"IFERROR([6]INVERSION!$X$22,\"\")","v":0},{"$f":"IFERROR([6]INVERSION!$Y$22,\"\")","v":0}]
[null,null,null,null,null,null,{"$f":"IFERROR([6]INVERSION!$G$23,\"\")","v":0},{"$f":"IFERROR([6]INVERSION!$H$23,\"\")","v":0},{"$f":"IFERROR([6]INVERSION!$I$23,\"\")","v":0},{"$f":"IFERROR([6]INVERSION!$J$23,\"\")","v":0},{"$f":"IFERROR([6]INVERSION!$K$23,\"\")","v":0},{"$f":"IFERROR([6]INVERSION!$L$23,\"\")","v":0},{"$f":"IFERROR([6]INVERSION!$M$23,\"\")","v":0},{"$f":"IFERROR([6]INVERSION!$N$23,\"\")","v":0},{"$f":"IFERROR([6]INVERSION!$O$23,\"\")","v":0},{"$f":"IFERROR([6]INVERSION!$P$23,\"\")","v":0},{"$f":"IFERROR([6]INVERSION!$Q$23,\"\")","v":0},{"$f":"IFERROR([6]INVERSION!$R$23,\"\")","v":0},{"$f":"IFERROR([6]INVERSION!$S$23,\"\")","v":"00:00:00"},{"$f":"IFERROR([6]INVERSION!$T$23,\"\")","v":"00:00:00"},{"$f":"IFERROR([6]INVERSION!$U$23,\"\")","v":0},{"$f":"IFERROR([6]INVERSION!$V$23,\"\")","v":0},{"$f":"IFERROR([6]INVERSION!$W$23,\"\")","v":0},{"$f":"IFERROR([6]INVERSION!$X$23,\"\")","v":0},{"$f":"IFERROR([6]INVERSION!$Y$23,\"\")","v":0},null,null,null,"","",null,0]
[null,null,null,null,null,null,{"$f":"IFERROR([6]INVERSION!$G$24,\"\")","v":0},{"$f":"IFERROR([6]INVERSION!$H$24,\"\")","v":0},{"$f":"IFERROR([6]INVERSION!$I$24,\"\")","v":0},{"$f":"IFERROR([6]INVERSION!$J$24,\"\")","v":0},{"$f":"IFERROR([6]INVERSION!$K$24,\"\")","v":0},{"$f":"IFERROR([6]INVERSION!$L$24,\"\")","v":0},{"$f":"IFERROR([6]INVERSION!$M$24,\"\")","v":0},{"$f":"IFERROR([6]INVERSION!$N$24,\"\")","v":0},{"$f":"IFERROR([6]INVERSION!$O$24,\"\")","v":0},{"$f":"IFERROR([6]INVERSION!$P$24,\"\")","v":0},{"$f":"IFERROR([6]INVERSION!$Q$24,\"\")","v":0},{"$f":"IFERROR([6]INVERSION!$R$24,\"\")","v":0},{"$f":"IFERROR([6]INVERSION!$S$24,\"\")","v":"00:00:00"},{"$f":"IFERROR([6]INVERSION!$T$24,\"\")","v":"00:00:00"},{"$f":"IFERROR([6]INVERSION!$U$24,\"\")","v":0},{"$f":"IFERROR([6]INVERSION!$V$24,\"\")","v":0},{"$f":"IFERROR([6]INVERSION!$W$24,\"\")","v":0},{"$f":"IFERROR([6]INVERSION!$X$24,\"\")","v":0},{"$f":"IFERROR([6]INVERSION!$Y$24,\"\")","v":0},null,null,null,"","",null,0]
[null,null,null,null,null,null,{"$f":"IFERROR([6]INVERSION!$G$25,\"\")","v":0},{"$f":"IFERROR([6]INVERSION!$H$25,\"\")","v":0},{"$f":"IFERROR([6]INVERSION!$I$25,\"\")","v":0},{"$f":"IFERROR([6]INVERSION!$J$25,\"\")","v":0},{"$f":"IFERROR([6]INVERSION!$K$25,\"\")","v":0},{"$f":"IFERROR([6]INVERSION!$L$25,\"\")","v":0},{"$f":"IFERROR([6]INVERSION!$M$25,\"\")","v":0},{"$f":"IFERROR([6]INVERSION!$N$25,\"\")","v":0},{"$f":"IFERROR([6]INVERSION!$O$25,\"\")","v":0},{"$f":"IFERROR([6]INVERSION!$P$25,\"\")","v":0},{"$f":"IFERROR([6]INVERSION!$Q$25,\"\")","v":0},{"$f":"IFERROR([6]INVERSION!$R$25,\"\")","v":0},{"$f":"IFERROR([6]INVERSION!$S$25,\"\")","v":"00:00:00"},{"$f":"IFERROR([6]INVERSION!$T$25,\"\")","v":"00:00:00"},{"$f":"IFERROR([6]INVERSION!$U$25,\"\")","v":0},{"$f":"IFERROR([6]INVERSION!$V$25,\"\")","v":0},{"$f":"IFERROR([6]INVERSION!$W$25,\"\")","v":0},{"$f":"IFERROR([6]INVERSION!$X$25,\"\")","v":0},{"$f":"IFERROR([6]INVERSION!$Y$25,\"\")","v":0},null,null,null,"","",null,0]
[null,null,"3. Coadyuvar en la garantía de la idoneidad en el ejercicio de la profesión jurídica de acuerdo con lo establecido en la Ley 1905 de 2018.",null,null,"2. Asegurar  el cumplimiento de los objetivos institucionales, la normatividad aplicable,  la mejora del SIGCMA y la satisfacción de los usuarios, revisando de  forma continua y sistemática la planificación de la gestión y fortaleciendo la administración de riesgos y sus controles",{"$f":"IFERROR([6]INVERSION!$G$26,\"\")","v":0},{"$f":"IFERROR([6]INVERSION!$H$26,\"\")","v":0},{"$f":"IFERROR([6]INVERSION!$I$26,\"\")","v":0},{"$f":"IFERROR([6]INVERSION!$J$26,\"\")","v":0},{"$f":"IFERROR([6]INVERSION!$K$26,\"\")","v":0},{"$f":"IFERROR([6]INVERSION!$L$26,\"\")","v":0},{"$f":"IFERROR([6]INVERSION!$M$26,\"\")","v":0},{"$f":"IFERROR([6]INVERSION!$N$26,\"\")","v":0},{"$f":"IFERROR([6]INVERSION!$O$26,\"\")","v":0},{"$f":"IFERROR([6]INVERSION!$P$26,\"\")","v":0},{"$f":"IFERROR([6]INVERSION!$Q$26,\"\")","v":0},{"$f":"IFERROR([6]INVERSION!$R$26,\"\")","v":0},{"$f":"IFERROR([6]INVERSION!$S$26,\"\")","v":"00:00:00"},{"$f":"IFERROR([6]INVERSION!$T$26,\"\")","v":"00:00:00"},{"$f":"IFERROR([6]INVERSION!$U$26,\"\")","v":0},{"$f":"IFERROR([6]INVERSION!$V$26,\"\")","v":0},{"$f":"IFERROR([6]INVERSION!$W$26,\"\")","v":0},{"$f":"IFERROR([6]INVERSION!$X$26,\"\")","v":0},{"$f":"IFERROR([6]INVERSION!$Y$26,\"\")","v":0},null,null,null,"","",null,0]
[null,null,null,null,null,null,{"$f":"IFERROR([6]INVERSION!$G$27,\"\")","v":0},{"$f":"IFERROR([6]INVERSION!$H$27,\"\")","v":0},{"$f":"IFERROR([6]INVERSION!$I$27,\"\")","v":0},{"$f":"IFERROR([6]INVERSION!$J$27,\"\")","v":0},{"$f":"IFERROR([6]INVERSION!$K$27,\"\")","v":0},{"$f":"IFERROR([6]INVERSION!$L$27,\"\")","v":0},{"$f":"IFERROR([6]INVERSION!$M$27,\"\")","v":0},{"$f":"IFERROR([6]INVERSION!$N$27,\"\")","v":0},{"$f":"IFERROR([6]INVERSION!$O$27,\"\")","v":0},{"$f":"IFERROR([6]INVERSION!$P$27,\"\")","v":0},{"$f":"IFERROR([6]INVERSION!$Q$27,\"\")","v":0},{"$f":"IFERROR([6]INVERSION!$R$27,\"\")","v":0},{"$f":"IFERROR([6]INVERSION!$S$27,\"\")","v":"00:00:00"},{"$f":"IFERROR([6]INVERSION!$T$27,\"\")","v":"00:00:00"},{"$f":"IFERROR([6]INVERSION!$U$27,\"\")","v":0},{"$f":"IFERROR([6]INVERSION!$V$27,\"\")","v":0},{"$f":"IFERROR([6]INVERSION!$W$27,\"\")","v":0},{"$f":"IFERROR([6]INVERSION!$X$27,\"\")","v":0},{"$f":"IFERROR([6]INVERSION!$Y$27,\"\")","v":0},null,null,null,"","",null,0]
[null,null,null,null,null,null,{"$f":"IFERROR([6]INVERSION!$G$28,\"\")","v":0},{"$f":"IFERROR([6]INVERSION!$H$28,\"\")","v":0},{"$f":"IFERROR([6]INVERSION!$I$28,\"\")","v":0},{"$f":"IFERROR([6]INVERSION!$J$28,\"\")","v":0},{"$f":"IFERROR([6]INVERSION!$K$28,\"\")","v":0},{"$f":"IFERROR([6]INVERSION!$L$28,\"\")","v":0},{"$f":"IFERROR([6]INVERSION!$M$28,\"\")","v":0},{"$f":"IFERROR([6]INVERSION!$N$28,\"\")","v":0},{"$f":"IFERROR([6]INVERSION!$O$28,\"\")","v":0},{"$f":"IFERROR([6]INVERSION!$P$28,\"\")","v":0},{"$f":"IFERROR([6]INVERSION!$Q$28,\"\")","v":0},{"$f":"IFERROR([6]INVERSION!$R$28,\"\")","v":0},{"$f":"IFERROR([6]INVERSION!$S$28,\"\")","v":"00:00:00"},{"$f":"IFERROR([6]INVERSION!$T$28,\"\")","v":"00:00:00"},{"$f":"IFERROR([6]INVERSION!$U$28,\"\")","v":0},{"$f":"IFERROR([6]INVERSION!$V$28,\"\")","v":0},{"$f":"IFERROR([6]INVERSION!$W$28,\"\")","v":0},{"$f":"IFERROR([6]INVERSION!$X$28,\"\")","v":0},{"$f":"IFERROR([6]INVERSION!$Y$28,\"\")","v":0}]
[null,null,null,null,null,null,{"$f":"IFERROR([6]INVERSION!$G$29,\"\")","v":0},{"$f":"IFERROR([6]INVERSION!$H$29,\"\")","v":0},{"$f":"IFERROR([6]INVERSION!$I$29,\"\")","v":0},{"$f":"IFERROR([6]INVERSION!$J$29,\"\")","v":0},{"$f":"IFERROR([6]INVERSION!$K$29,\"\")","v":0},{"$f":"IFERROR([6]INVERSION!$L$29,\"\")","v":0},{"$f":"IFERROR([6]INVERSION!$M$29,\"\")","v":0},{"$f":"IFERROR([6]INVERSION!$N$29,\"\")","v":0},{"$f":"IFERROR([6]INVERSION!$O$29,\"\")","v":0},{"$f":"IFERROR([6]INVERSION!$P$29,\"\")","v":0},{"$f":"IFERROR([6]INVERSION!$Q$29,\"\")","v":0},{"$f":"IFERROR([6]INVERSION!$R$29,\"\")","v":0},{"$f":"IFERROR([6]INVERSION!$S$29,\"\")","v":"00:00:00"},{"$f":"IFERROR([6]INVERSION!$T$29,\"\")","v":"00:00:00"},{"$f":"IFERROR([6]INVERSION!$U$29,\"\")","v":0},{"$f":"IFERROR([6]INVERSION!$V$29,\"\")","v":0},{"$f":"IFERROR([6]INVERSION!$W$29,\"\")","v":0},{"$f":"IFERROR([6]INVERSION!$X$29,\"\")","v":0},{"$f":"IFERROR([6]INVERSION!$Y$29,\"\")","v":0}]
[null,null,null,null,null,null,{"$f":"IFERROR([6]INVERSION!$G$30,\"\")","v":0},{"$f":"IFERROR([6]INVERSION!$H$30,\"\")","v":0},{"$f":"IFERROR([6]INVERSION!$I$30,\"\")","v":0},{"$f":"IFERROR([6]INVERSION!$J$30,\"\")","v":0},{"$f":"IFERROR([6]INVERSION!$K$30,\"\")","v":0},{"$f":"IFERROR([6]INVERSION!$L$30,\"\")","v":0},{"$f":"IFERROR([6]INVERSION!$M$30,\"\")","v":0},{"$f":"IFERROR([6]INVERSION!$N$30,\"\")","v":0},{"$f":"IFERROR([6]INVERSION!$O$30,\"\")","v":0},{"$f":"IFERROR([6]INVERSION!$P$30,\"\")","v":0},{"$f":"IFERROR([6]INVERSION!$Q$30,\"\")","v":0},{"$f":"IFERROR([6]INVERSION!$R$30,\"\")","v":0},{"$f":"IFERROR([6]INVERSION!$S$30,\"\")","v":"00:00:00"},{"$f":"IFERROR([6]INVERSION!$T$30,\"\")","v":"00:00:00"},{"$f":"IFERROR([6]INVERSION!$U$30,\"\")","v":0},{"$f":"IFERROR([6]INVERSION!$V$30,\"\")","v":0},{"$f":"IFERROR([6]INVERSION!$W$30,\"\")","v":0},{"$f":"IFERROR([6]INVERSION!$X$30,\"\")","v":0},{"$f":"IFERROR([6]INVERSION!$Y$30,\"\")","v":0}]
[null,null,null,null,null,null,{"$f":"IFERROR([6]INVERSION!$G$31,\"\")","v":0},{"$f":"IFERROR([6]INVERSION!$H$31,\"\")","v":0},{"$f":"IFERROR([6]INVERSION!$I$31,\"\")","v":0},{"$f":"IFERROR([6]INVERSION!$J$31,\"\")","v":0},{"$f":"IFERROR([6]INVERSION!$K$31,\"\")","v":0},{"$f":"IFERROR([6]INVERSION!$L$31,\"\")","v":0},{"$f":"IFERROR([6]INVERSION!$M$31,\"\")","v":0},{"$f":"IFERROR([6]INVERSION!$N$31,\"\")","v":0},{"$f":"IFERROR([6]INVERSION!$O$31,\"\")","v":0},{"$f":"IFERROR([6]INVERSION!$P$31,\"\")","v":0},{"$f":"IFERROR([6]INVERSION!$Q$31,\"\")","v":0},{"$f":"IFERROR([6]INVERSION!$R$31,\"\")","v":0},{"$f":"IFERROR([6]INVERSION!$S$31,\"\")","v":"00:00:00"},{"$f":"IFERROR([6]INVERSION!$T$31,\"\")","v":"00:00:00"},{"$f":"IFERROR([6]INVERSION!$U$31,\"\")","v":0},{"$f":"IFERROR([6]INVERSION!$V$31,\"\")","v":0},{"$f":"IFERROR([6]INVERSION!$W$31,\"\")","v":0},{"$f":"IFERROR([6]INVERSION!$X$31,\"\")","v":0},{"$f":"IFERROR([6]INVERSION!$Y$31,\"\")","v":0}]
[null,null,null,null,null,null,{"$f":"IFERROR([6]INVERSION!$G$32,\"\")","v":0},{"$f":"IFERROR([6]INVERSION!$H$32,\"\")","v":0},{"$f":"IFERROR([6]INVERSION!$I$32,\"\")","v":0},{"$f":"IFERROR([6]INVERSION!$J$32,\"\")","v":0},{"$f":"IFERROR([6]INVERSION!$K$32,\"\")","v":0},{"$f":"IFERROR([6]INVERSION!$L$32,\"\")","v":0},{"$f":"IFERROR([6]INVERSION!$M$32,\"\")","v":0},{"$f":"IFERROR([6]INVERSION!$N$32,\"\")","v":0},{"$f":"IFERROR([6]INVERSION!$O$32,\"\")","v":0},{"$f":"IFERROR([6]INVERSION!$P$32,\"\")","v":0},{"$f":"IFERROR([6]INVERSION!$Q$32,\"\")","v":0},{"$f":"IFERROR([6]INVERSION!$R$32,\"\")","v":0},{"$f":"IFERROR([6]INVERSION!$S$32,\"\")","v":"00:00:00"},{"$f":"IFERROR([6]INVERSION!$T$32,\"\")","v":"00:00:00"},{"$f":"IFERROR([6]INVERSION!$U$32,\"\")","v":0},{"$f":"IFERROR([6]INVERSION!$V$32,\"\")","v":0},{"$f":"IFERROR([6]INVERSION!$W$32,\"\")","v":0},{"$f":"IFERROR([6]INVERSION!$X$32,\"\")","v":0},{"$f":"IFERROR([6]INVERSION!$Y$32,\"\")","v":0}]
[null,null,null,null,null,null,{"$f":"IFERROR([6]INVERSION!$G$33,\"\")","v":0},{"$f":"IFERROR([6]INVERSION!$H$33,\"\")","v":0},{"$f":"IFERROR([6]INVERSION!$I$33,\"\")","v":0},{"$f":"IFERROR([6]INVERSION!$J$33,\"\")","v":0},{"$f":"IFERROR([6]INVERSION!$K$33,\"\")","v":0},{"$f":"IFERROR([6]INVERSION!$L$33,\"\")","v":0},{"$f":"IFERROR([6]INVERSION!$M$33,\"\")","v":0},{"$f":"IFERROR([6]INVERSION!$N$33,\"\")","v":0},{"$f":"IFERROR([6]INVERSION!$O$33,\"\")","v":0},{"$f":"IFERROR([6]INVERSION!$P$33,\"\")","v":0},{"$f":"IFERROR([6]INVERSION!$Q$33,\"\")","v":0},{"$f":"IFERROR([6]INVERSION!$R$33,\"\")","v":0},{"$f":"IFERROR([6]INVERSION!$S$33,\"\")","v":"00:00:00"},{"$f":"IFERROR([6]INVERSION!$T$33,\"\")","v":"00:00:00"},{"$f":"IFERROR([6]INVERSION!$U$33,\"\")","v":0},{"$f":"IFERROR([6]INVERSION!$V$33,\"\")","v":0},{"$f":"IFERROR([6]INVERSION!$W$33,\"\")","v":0},{"$f":"IFERROR([6]INVERSION!$X$33,\"\")","v":0},{"$f":"IFERROR([6]INVERSION!$Y$33,\"\")","v":0},null,null,null,"","",null,0]
[null,null,null,null,null,null,{"$f":"IFERROR([6]INVERSION!$G$34,\"\")","v":0},{"$f":"IFERROR([6]INVERSION!$H$34,\"\")","v":0},{"$f":"IFERROR([6]INVERSION!$I$34,\"\")","v":0},{"$f":"IFERROR([6]INVERSION!$J$34,\"\")","v":0},{"$f":"IFERROR([6]INVERSION!$K$34,\"\")","v":0},{"$f":"IFERROR([6]INVERSION!$L$34,\"\")","v":0},{"$f":"IFERROR([6]INVERSION!$M$34,\"\")","v":0},{"$f":"IFERROR([6]INVERSION!$N$34,\"\")","v":0},{"$f":"IFERROR([6]INVERSION!$O$34,\"\")","v":0},{"$f":"IFERROR([6]INVERSION!$P$34,\"\")","v":0},{"$f":"IFERROR([6]INVERSION!$Q$34,\"\")","v":0},{"$f":"IFERROR([6]INVERSION!$R$34,\"\")","v":0},{"$f":"IFERROR([6]INVERSION!$S$34,\"\")","v":"00:00:00"},{"$f":"IFERROR([6]INVERSION!$T$34,\"\")","v":"00:00:00"},{"$f":"IFERROR([6]INVERSION!$U$34,\"\")","v":0},{"$f":"IFERROR([6]INVERSION!$V$34,\"\")","v":0},{"$f":"IFERROR([6]INVERSION!$W$34,\"\")","v":0},{"$f":"IFERROR([6]INVERSION!$X$34,\"\")","v":0},{"$f":"IFERROR([6]INVERSION!$Y$34,\"\")","v":0},null,null,null,"","",null,0]
[null,null,null,null,null,null,{"$f":"IFERROR([6]INVERSION!$G$35,\"\")","v":0},{"$f":"IFERROR([6]INVERSION!$H$35,\"\")","v":0},{"$f":"IFERROR([6]INVERSION!$I$35,\"\")","v":0},{"$f":"IFERROR([6]INVERSION!$J$35,\"\")","v":0},{"$f":"IFERROR([6]INVERSION!$K$35,\"\")","v":0},{"$f":"IFERROR([6]INVERSION!$L$35,\"\")","v":0},{"$f":"IFERROR([6]INVERSION!$M$35,\"\")","v":0},{"$f":"IFERROR([6]INVERSION!$N$35,\"\")","v":0},{"$f":"IFERROR([6]INVERSION!$O$35,\"\")","v":0},{"$f":"IFERROR([6]INVERSION!$P$35,\"\")","v":0},{"$f":"IFERROR([6]INVERSION!$Q$35,\"\")","v":0},{"$f":"IFERROR([6]INVERSION!$R$35,\"\")","v":0},{"$f":"IFERROR([6]INVERSION!$S$35,\"\")","v":"00:00:00"},{"$f":"IFERROR([6]INVERSION!$T$35,\"\")","v":"00:00:00"},{"$f":"IFERROR([6]INVERSION!$U$35,\"\")","v":0},{"$f":"IFERROR([6]INVERSION!$V$35,\"\")","v":0},{"$f":"IFERROR([6]INVERSION!$W$35,\"\")","v":0},{"$f":"IFERROR([6]INVERSION!$X$35,\"\")","v":0},{"$f":"IFERROR([6]INVERSION!$Y$35,\"\")","v":0},null,null,null,"","",null,0]
[null,null,"4. Avanzar en la disposición de una infraestructura óptima para el acceso a la justicia en la Rama Judicial de modo que se fortalezca la presencia territorial, teniendo en cuenta las posibilidades que ofrece la transformación digital y las necesidades que se derivan de ella, y considerando tanto las necesidades de los usuarios como las de los servidores judiciales.","Diseños para la construcción de despachos judiciales","# de sedes proyectada s para construir o intervenir en el cuatrienio / # sedes efectivamen te construidas o intervenidas\n\nTotal de\ndiseños aprobados","4. Hacer un uso racional de los recursos naturales aplicando los principios y fases de la Economía Circular, para prevenir, mitigar y controlar los impactos ambientales",{"$f":"IFERROR([6]INVERSION!$G$36,\"\")","v":0},{"$f":"IFERROR([6]INVERSION!$H$36,\"\")","v":0},{"$f":"IFERROR([6]INVERSION!$I$36,\"\")","v":0},{"$f":"IFERROR([6]INVERSION!$J$36,\"\")","v":0},{"$f":"IFERROR([6]INVERSION!$K$36,\"\")","v":0},{"$f":"IFERROR([6]INVERSION!$L$36,\"\")","v":0},{"$f":"IFERROR([6]INVERSION!$M$36,\"\")","v":0},{"$f":"IFERROR([6]INVERSION!$N$36,\"\")","v":0},{"$f":"IFERROR([6]INVERSION!$O$36,\"\")","v":0},{"$f":"IFERROR([6]INVERSION!$P$36,\"\")","v":0},{"$f":"IFERROR([6]INVERSION!$Q$36,\"\")","v":0},{"$f":"IFERROR([6]INVERSION!$R$36,\"\")","v":0},{"$f":"IFERROR([6]INVERSION!$S$36,\"\")","v":"00:00:00"},{"$f":"IFERROR([6]INVERSION!$T$36,\"\")","v":"00:00:00"},{"$f":"IFERROR([6]INVERSION!$U$36,\"\")","v":0},{"$f":"IFERROR([6]INVERSION!$V$36,\"\")","v":0},{"$f":"IFERROR([6]INVERSION!$W$36,\"\")","v":0},{"$f":"IFERROR([6]INVERSION!$X$36,\"\")","v":0},{"$f":"IFERROR([6]INVERSION!$Y$36,\"\")","v":0},null,null,null,"","",null,0]
[null,null,null,null,null,null,{"$f":"IFERROR([6]INVERSION!$G$37,\"\")","v":0},{"$f":"IFERROR([6]INVERSION!$H$37,\"\")","v":0},{"$f":"IFERROR([6]INVERSION!$I$37,\"\")","v":0},{"$f":"IFERROR([6]INVERSION!$J$37,\"\")","v":0},{"$f":"IFERROR([6]INVERSION!$K$37,\"\")","v":0},{"$f":"IFERROR([6]INVERSION!$L$37,\"\")","v":0},{"$f":"IFERROR([6]INVERSION!$M$37,\"\")","v":0},{"$f":"IFERROR([6]INVERSION!$N$37,\"\")","v":0},{"$f":"IFERROR([6]INVERSION!$O$37,\"\")","v":0},{"$f":"IFERROR([6]INVERSION!$P$37,\"\")","v":0},{"$f":"IFERROR([6]INVERSION!$Q$37,\"\")","v":0},{"$f":"IFERROR([6]INVERSION!$R$37,\"\")","v":0},{"$f":"IFERROR([6]INVERSION!$S$37,\"\")","v":"00:00:00"},{"$f":"IFERROR([6]INVERSION!$T$37,\"\")","v":"00:00:00"},{"$f":"IFERROR([6]INVERSION!$U$37,\"\")","v":0},{"$f":"IFERROR([6]INVERSION!$V$37,\"\")","v":0},{"$f":"IFERROR([6]INVERSION!$W$37,\"\")","v":0},{"$f":"IFERROR([6]INVERSION!$X$37,\"\")","v":0},{"$f":"IFERROR([6]INVERSION!$Y$37,\"\")","v":0},null,null,null,"","",null,0]
[null,null,null,null,null,null,{"$f":"IFERROR([6]INVERSION!$G$38,\"\")","v":0},{"$f":"IFERROR([6]INVERSION!$H$38,\"\")","v":0},{"$f":"IFERROR([6]INVERSION!$I$38,\"\")","v":0},{"$f":"IFERROR([6]INVERSION!$J$38,\"\")","v":0},{"$f":"IFERROR([6]INVERSION!$K$38,\"\")","v":0},{"$f":"IFERROR([6]INVERSION!$L$38,\"\")","v":0},{"$f":"IFERROR([6]INVERSION!$M$38,\"\")","v":0},{"$f":"IFERROR([6]INVERSION!$N$38,\"\")","v":0},{"$f":"IFERROR([6]INVERSION!$O$38,\"\")","v":0},{"$f":"IFERROR([6]INVERSION!$P$38,\"\")","v":0},{"$f":"IFERROR([6]INVERSION!$Q$38,\"\")","v":0},{"$f":"IFERROR([6]INVERSION!$R$38,\"\")","v":0},{"$f":"IFERROR([6]INVERSION!$S$38,\"\")","v":"00:00:00"},{"$f":"IFERROR([6]INVERSION!$T$38,\"\")","v":"00:00:00"},{"$f":"IFERROR([6]INVERSION!$U$38,\"\")","v":0},{"$f":"IFERROR([6]INVERSION!$V$38,\"\")","v":0},{"$f":"IFERROR([6]INVERSION!$W$38,\"\")","v":0},{"$f":"IFERROR([6]INVERSION!$X$38,\"\")","v":0},{"$f":"IFERROR([6]INVERSION!$Y$38,\"\")","v":0}]
[null,null,null,null,null,null,{"$f":"IFERROR([6]INVERSION!$G$39,\"\")","v":0},{"$f":"IFERROR([6]INVERSION!$H$39,\"\")","v":0},{"$f":"IFERROR([6]INVERSION!$I$39,\"\")","v":0},{"$f":"IFERROR([6]INVERSION!$J$39,\"\")","v":0},{"$f":"IFERROR([6]INVERSION!$K$39,\"\")","v":0},{"$f":"IFERROR([6]INVERSION!$L$39,\"\")","v":0},{"$f":"IFERROR([6]INVERSION!$M$39,\"\")","v":0},{"$f":"IFERROR([6]INVERSION!$N$39,\"\")","v":0},{"$f":"IFERROR([6]INVERSION!$O$39,\"\")","v":0},{"$f":"IFERROR([6]INVERSION!$P$39,\"\")","v":0},{"$f":"IFERROR([6]INVERSION!$Q$39,\"\")","v":0},{"$f":"IFERROR([6]INVERSION!$R$39,\"\")","v":0},{"$f":"IFERROR([6]INVERSION!$S$39,\"\")","v":"00:00:00"},{"$f":"IFERROR([6]INVERSION!$T$39,\"\")","v":"00:00:00"},{"$f":"IFERROR([6]INVERSION!$U$39,\"\")","v":0},{"$f":"IFERROR([6]INVERSION!$V$39,\"\")","v":0},{"$f":"IFERROR([6]INVERSION!$W$39,\"\")","v":0},{"$f":"IFERROR([6]INVERSION!$X$39,\"\")","v":0},{"$f":"IFERROR([6]INVERSION!$Y$39,\"\")","v":0}]
[null,null,null,null,null,null,{"$f":"IFERROR([6]INVERSION!$G$40,\"\")","v":0},{"$f":"IFERROR([6]INVERSION!$H$40,\"\")","v":0},{"$f":"IFERROR([6]INVERSION!$I$40,\"\")","v":0},{"$f":"IFERROR([6]INVERSION!$J$40,\"\")","v":0},{"$f":"IFERROR([6]INVERSION!$K$40,\"\")","v":0},{"$f":"IFERROR([6]INVERSION!$L$40,\"\")","v":0},{"$f":"IFERROR([6]INVERSION!$M$40,\"\")","v":0},{"$f":"IFERROR([6]INVERSION!$N$40,\"\")","v":0},{"$f":"IFERROR([6]INVERSION!$O$40,\"\")","v":0},{"$f":"IFERROR([6]INVERSION!$P$40,\"\")","v":0},{"$f":"IFERROR([6]INVERSION!$Q$40,\"\")","v":0},{"$f":"IFERROR([6]INVERSION!$R$40,\"\")","v":0},{"$f":"IFERROR([6]INVERSION!$S$40,\"\")","v":"00:00:00"},{"$f":"IFERROR([6]INVERSION!$T$40,\"\")","v":"00:00:00"},{"$f":"IFERROR([6]INVERSION!$U$40,\"\")","v":0},{"$f":"IFERROR([6]INVERSION!$V$40,\"\")","v":0},{"$f":"IFERROR([6]INVERSION!$W$40,\"\")","v":0},{"$f":"IFERROR([6]INVERSION!$X$40,\"\")","v":0},{"$f":"IFERROR([6]INVERSION!$Y$40,\"\")","v":0}]
[null,null,null,null,null,null,{"$f":"IFERROR([6]INVERSION!$G$41,\"\")","v":0},{"$f":"IFERROR([6]INVERSION!$H$41,\"\")","v":0},{"$f":"IFERROR([6]INVERSION!$I$41,\"\")","v":0},{"$f":"IFERROR([6]INVERSION!$J$41,\"\")","v":0},{"$f":"IFERROR([6]INVERSION!$K$41,\"\")","v":0},{"$f":"IFERROR([6]INVERSION!$L$41,\"\")","v":0},{"$f":"IFERROR([6]INVERSION!$M$41,\"\")","v":0},{"$f":"IFERROR([6]INVERSION!$N$41,\"\")","v":0},{"$f":"IFERROR([6]INVERSION!$O$41,\"\")","v":0},{"$f":"IFERROR([6]INVERSION!$P$41,\"\")","v":0},{"$f":"IFERROR([6]INVERSION!$Q$41,\"\")","v":0},{"$f":"IFERROR([6]INVERSION!$R$41,\"\")","v":0},{"$f":"IFERROR([6]INVERSION!$S$41,\"\")","v":"00:00:00"},{"$f":"IFERROR([6]INVERSION!$T$41,\"\")","v":"00:00:00"},{"$f":"IFERROR([6]INVERSION!$U$41,\"\")","v":0},{"$f":"IFERROR([6]INVERSION!$V$41,\"\")","v":0},{"$f":"IFERROR([6]INVERSION!$W$41,\"\")","v":0},{"$f":"IFERROR([6]INVERSION!$X$41,\"\")","v":0},{"$f":"IFERROR([6]INVERSION!$Y$41,\"\")","v":0}]
[null,null,null,null,null,null,{"$f":"IFERROR([6]INVERSION!$G$42,\"\")","v":0},{"$f":"IFERROR([6]INVERSION!$H$42,\"\")","v":0},{"$f":"IFERROR([6]INVERSION!$I$42,\"\")","v":0},{"$f":"IFERROR([6]INVERSION!$J$42,\"\")","v":0},{"$f":"IFERROR([6]INVERSION!$K$42,\"\")","v":0},{"$f":"IFERROR([6]INVERSION!$L$42,\"\")","v":0},{"$f":"IFERROR([6]INVERSION!$M$42,\"\")","v":0},{"$f":"IFERROR([6]INVERSION!$N$42,\"\")","v":0},{"$f":"IFERROR([6]INVERSION!$O$42,\"\")","v":0},{"$f":"IFERROR([6]INVERSION!$P$42,\"\")","v":0},{"$f":"IFERROR([6]INVERSION!$Q$42,\"\")","v":0},{"$f":"IFERROR([6]INVERSION!$R$42,\"\")","v":0},{"$f":"IFERROR([6]INVERSION!$S$42,\"\")","v":"00:00:00"},{"$f":"IFERROR([6]INVERSION!$T$42,\"\")","v":"00:00:00"},{"$f":"IFERROR([6]INVERSION!$U$42,\"\")","v":0},{"$f":"IFERROR([6]INVERSION!$V$42,\"\")","v":0},{"$f":"IFERROR([6]INVERSION!$W$42,\"\")","v":0},{"$f":"IFERROR([6]INVERSION!$X$42,\"\")","v":0},{"$f":"IFERROR([6]INVERSION!$Y$42,\"\")","v":0}]
[null,null,null,null,null,null,{"$f":"IFERROR([6]INVERSION!$G$43,\"\")","v":0},{"$f":"IFERROR([6]INVERSION!$H$43,\"\")","v":0},{"$f":"IFERROR([6]INVERSION!$I$43,\"\")","v":0},{"$f":"IFERROR([6]INVERSION!$J$43,\"\")","v":0},{"$f":"IFERROR([6]INVERSION!$K$43,\"\")","v":0},{"$f":"IFERROR([6]INVERSION!$L$43,\"\")","v":0},{"$f":"IFERROR([6]INVERSION!$M$43,\"\")","v":0},{"$f":"IFERROR([6]INVERSION!$N$43,\"\")","v":0},{"$f":"IFERROR([6]INVERSION!$O$43,\"\")","v":0},{"$f":"IFERROR([6]INVERSION!$P$43,\"\")","v":0},{"$f":"IFERROR([6]INVERSION!$Q$43,\"\")","v":0},{"$f":"IFERROR([6]INVERSION!$R$43,\"\")","v":0},{"$f":"IFERROR([6]INVERSION!$S$43,\"\")","v":"00:00:00"},{"$f":"IFERROR([6]INVERSION!$T$43,\"\")","v":"00:00:00"},{"$f":"IFERROR([6]INVERSION!$U$43,\"\")","v":0},{"$f":"IFERROR([6]INVERSION!$V$43,\"\")","v":0},{"$f":"IFERROR([6]INVERSION!$W$43,\"\")","v":0},{"$f":"IFERROR([6]INVERSION!$X$43,\"\")","v":0},{"$f":"IFERROR([6]INVERSION!$Y$43,\"\")","v":0},null,null,null,"","",null,0]
[null,null,null,null,null,null,{"$f":"IFERROR([6]INVERSION!$G$44,\"\")","v":0},{"$f":"IFERROR([6]INVERSION!$H$44,\"\")","v":0},{"$f":"IFERROR([6]INVERSION!$I$44,\"\")","v":0},{"$f":"IFERROR([6]INVERSION!$J$44,\"\")","v":0},{"$f":"IFERROR([6]INVERSION!$K$44,\"\")","v":0},{"$f":"IFERROR([6]INVERSION!$L$44,\"\")","v":0},{"$f":"IFERROR([6]INVERSION!$M$44,\"\")","v":0},{"$f":"IFERROR([6]INVERSION!$N$44,\"\")","v":0},{"$f":"IFERROR([6]INVERSION!$O$44,\"\")","v":0},{"$f":"IFERROR([6]INVERSION!$P$44,\"\")","v":0},{"$f":"IFERROR([6]INVERSION!$Q$44,\"\")","v":0},{"$f":"IFERROR([6]INVERSION!$R$44,\"\")","v":0},{"$f":"IFERROR([6]INVERSION!$S$44,\"\")","v":"00:00:00"},{"$f":"IFERROR([6]INVERSION!$T$44,\"\")","v":"00:00:00"},{"$f":"IFERROR([6]INVERSION!$U$44,\"\")","v":0},{"$f":"IFERROR([6]INVERSION!$V$44,\"\")","v":0},{"$f":"IFERROR([6]INVERSION!$W$44,\"\")","v":0},{"$f":"IFERROR([6]INVERSION!$X$44,\"\")","v":0},{"$f":"IFERROR([6]INVERSION!$Y$44,\"\")","v":0},null,null,null,"","",null,0]
[null,null,null,null,null,null,{"$f":"IFERROR([6]INVERSION!$G$45,\"\")","v":0},{"$f":"IFERROR([6]INVERSION!$H$45,\"\")","v":0},{"$f":"IFERROR([6]INVERSION!$I$45,\"\")","v":0},{"$f":"IFERROR([6]INVERSION!$J$45,\"\")","v":0},{"$f":"IFERROR([6]INVERSION!$K$45,\"\")","v":0},{"$f":"IFERROR([6]INVERSION!$L$45,\"\")","v":0},{"$f":"IFERROR([6]INVERSION!$M$45,\"\")","v":0},{"$f":"IFERROR([6]INVERSION!$N$45,\"\")","v":0},{"$f":"IFERROR([6]INVERSION!$O$45,\"\")","v":0},{"$f":"IFERROR([6]INVERSION!$P$45,\"\")","v":0},{"$f":"IFERROR([6]INVERSION!$Q$45,\"\")","v":0},{"$f":"IFERROR([6]INVERSION!$R$45,\"\")","v":0},{"$f":"IFERROR([6]INVERSION!$S$45,\"\")","v":"00:00:00"},{"$f":"IFERROR([6]INVERSION!$T$45,\"\")","v":"00:00:00"},{"$f":"IFERROR([6]INVERSION!$U$45,\"\")","v":0},{"$f":"IFERROR([6]INVERSION!$V$45,\"\")","v":0},{"$f":"IFERROR([6]INVERSION!$W$45,\"\")","v":0},{"$f":"IFERROR([6]INVERSION!$X$45,\"\")","v":0},{"$f":"IFERROR([6]INVERSION!$Y$45,\"\")","v":0},null,null,null,"","",null,0]
[null,null,"5. Impulsar el uso de mecanismos alternativos para la solución de conflictos y la ampliación de la justicia restaurativa y terapéutica y el robustecimiento de las alternativas al encarcelamiento","Seguimiento al cumplimiento de las disposiciones del CSJ que impulsan el uso de mecanismos alternativos de solución de conflictos, la ampliación de la justicia restaurativa y terapéutica y las alternativas al encarcelamiento.","% avance de implementa ción de las estrategias definidas para el seguimiento de las disposicion es adoptadas por el Consejo en materia de justicia restaurativa y terapéutica y las alternativas de encarcelami ento","2. Asegurar  el cumplimiento de los objetivos institucionales, la normatividad aplicable,  la mejora del SIGCMA y la satisfacción de los usuarios, revisando de  forma continua y sistemática la planificación de la gestión y fortaleciendo la administración de riesgos y sus controles",{"$f":"IFERROR([6]INVERSION!$G$46,\"\")","v":0},{"$f":"IFERROR([6]INVERSION!$H$46,\"\")","v":0},{"$f":"IFERROR([6]INVERSION!$I$46,\"\")","v":0},{"$f":"IFERROR([6]INVERSION!$J$46,\"\")","v":0},{"$f":"IFERROR([6]INVERSION!$K$46,\"\")","v":0},{"$f":"IFERROR([6]INVERSION!$L$46,\"\")","v":0},{"$f":"IFERROR([6]INVERSION!$M$46,\"\")","v":0},{"$f":"IFERROR([6]INVERSION!$N$46,\"\")","v":0},{"$f":"IFERROR([6]INVERSION!$O$46,\"\")","v":0},{"$f":"IFERROR([6]INVERSION!$P$46,\"\")","v":0},{"$f":"IFERROR([6]INVERSION!$Q$46,\"\")","v":0},{"$f":"IFERROR([6]INVERSION!$R$46,\"\")","v":0},{"$f":"IFERROR([6]INVERSION!$S$46,\"\")","v":"00:00:00"},{"$f":"IFERROR([6]INVERSION!$T$46,\"\")","v":"00:00:00"},{"$f":"IFERROR([6]INVERSION!$U$46,\"\")","v":0},{"$f":"IFERROR([6]INVERSION!$V$46,\"\")","v":0},{"$f":"IFERROR([6]INVERSION!$W$46,\"\")","v":0},{"$f":"IFERROR([6]INVERSION!$X$46,\"\")","v":0},{"$f":"IFERROR([6]INVERSION!$Y$46,\"\")","v":0},null,null,null,"","",null,0]
[null,null,null,null,null,null,{"$f":"IFERROR([6]INVERSION!$G$47,\"\")","v":0},{"$f":"IFERROR([6]INVERSION!$H$47,\"\")","v":0},{"$f":"IFERROR([6]INVERSION!$I$47,\"\")","v":0},{"$f":"IFERROR([6]INVERSION!$J$47,\"\")","v":0},{"$f":"IFERROR([6]INVERSION!$K$47,\"\")","v":0},{"$f":"IFERROR([6]INVERSION!$L$47,\"\")","v":0},{"$f":"IFERROR([6]INVERSION!$M$47,\"\")","v":0},{"$f":"IFERROR([6]INVERSION!$N$47,\"\")","v":0},{"$f":"IFERROR([6]INVERSION!$O$47,\"\")","v":0},{"$f":"IFERROR([6]INVERSION!$P$47,\"\")","v":0},{"$f":"IFERROR([6]INVERSION!$Q$47,\"\")","v":0},{"$f":"IFERROR([6]INVERSION!$R$47,\"\")","v":0},{"$f":"IFERROR([6]INVERSION!$S$47,\"\")","v":"00:00:00"},{"$f":"IFERROR([6]INVERSION!$T$47,\"\")","v":"00:00:00"},{"$f":"IFERROR([6]INVERSION!$U$47,\"\")","v":0},{"$f":"IFERROR([6]INVERSION!$V$47,\"\")","v":0},{"$f":"IFERROR([6]INVERSION!$W$47,\"\")","v":0},{"$f":"IFERROR([6]INVERSION!$X$47,\"\")","v":0},{"$f":"IFERROR([6]INVERSION!$Y$47,\"\")","v":0},null,null,null,"","",null,0]
[null,null,null,null,null,null,{"$f":"IFERROR([6]INVERSION!$G$48,\"\")","v":0},{"$f":"IFERROR([6]INVERSION!$H$48,\"\")","v":0},{"$f":"IFERROR([6]INVERSION!$I$48,\"\")","v":0},{"$f":"IFERROR([6]INVERSION!$J$48,\"\")","v":0},{"$f":"IFERROR([6]INVERSION!$K$48,\"\")","v":0},{"$f":"IFERROR([6]INVERSION!$L$48,\"\")","v":0},{"$f":"IFERROR([6]INVERSION!$M$48,\"\")","v":0},{"$f":"IFERROR([6]INVERSION!$N$48,\"\")","v":0},{"$f":"IFERROR([6]INVERSION!$O$48,\"\")","v":0},{"$f":"IFERROR([6]INVERSION!$P$48,\"\")","v":0},{"$f":"IFERROR([6]INVERSION!$Q$48,\"\")","v":0},{"$f":"IFERROR([6]INVERSION!$R$48,\"\")","v":0},{"$f":"IFERROR([6]INVERSION!$S$48,\"\")","v":"00:00:00"},{"$f":"IFERROR([6]INVERSION!$T$48,\"\")","v":"00:00:00"},{"$f":"IFERROR([6]INVERSION!$U$48,\"\")","v":0},{"$f":"IFERROR([6]INVERSION!$V$48,\"\")","v":0},{"$f":"IFERROR([6]INVERSION!$W$48,\"\")","v":0},{"$f":"IFERROR([6]INVERSION!$X$48,\"\")","v":0},{"$f":"IFERROR([6]INVERSION!$Y$48,\"\")","v":0}]
[null,null,null,null,null,null,{"$f":"IFERROR([6]INVERSION!$G$49,\"\")","v":0},{"$f":"IFERROR([6]INVERSION!$H$49,\"\")","v":0},{"$f":"IFERROR([6]INVERSION!$I$49,\"\")","v":0},{"$f":"IFERROR([6]INVERSION!$J$49,\"\")","v":0},{"$f":"IFERROR([6]INVERSION!$K$49,\"\")","v":0},{"$f":"IFERROR([6]INVERSION!$L$49,\"\")","v":0},{"$f":"IFERROR([6]INVERSION!$M$49,\"\")","v":0},{"$f":"IFERROR([6]INVERSION!$N$49,\"\")","v":0},{"$f":"IFERROR([6]INVERSION!$O$49,\"\")","v":0},{"$f":"IFERROR([6]INVERSION!$P$49,\"\")","v":0},{"$f":"IFERROR([6]INVERSION!$Q$49,\"\")","v":0},{"$f":"IFERROR([6]INVERSION!$R$49,\"\")","v":0},{"$f":"IFERROR([6]INVERSION!$S$49,\"\")","v":"00:00:00"},{"$f":"IFERROR([6]INVERSION!$T$49,\"\")","v":"00:00:00"},{"$f":"IFERROR([6]INVERSION!$U$49,\"\")","v":0},{"$f":"IFERROR([6]INVERSION!$V$49,\"\")","v":0},{"$f":"IFERROR([6]INVERSION!$W$49,\"\")","v":0},{"$f":"IFERROR([6]INVERSION!$X$49,\"\")","v":0},{"$f":"IFERROR([6]INVERSION!$Y$49,\"\")","v":0}]
[null,null,null,null,null,null,{"$f":"IFERROR([6]INVERSION!$G$50,\"\")","v":0},{"$f":"IFERROR([6]INVERSION!$H$50,\"\")","v":0},{"$f":"IFERROR([6]INVERSION!$I$50,\"\")","v":0},{"$f":"IFERROR([6]INVERSION!$J$50,\"\")","v":0},{"$f":"IFERROR([6]INVERSION!$K$50,\"\")","v":0},{"$f":"IFERROR([6]INVERSION!$L$50,\"\")","v":0},{"$f":"IFERROR([6]INVERSION!$M$50,\"\")","v":0},{"$f":"IFERROR([6]INVERSION!$N$50,\"\")","v":0},{"$f":"IFERROR([6]INVERSION!$O$50,\"\")","v":0},{"$f":"IFERROR([6]INVERSION!$P$50,\"\")","v":0},{"$f":"IFERROR([6]INVERSION!$Q$50,\"\")","v":0},{"$f":"IFERROR([6]INVERSION!$R$50,\"\")","v":0},{"$f":"IFERROR([6]INVERSION!$S$50,\"\")","v":"00:00:00"},{"$f":"IFERROR([6]INVERSION!$T$50,\"\")","v":"00:00:00"},{"$f":"IFERROR([6]INVERSION!$U$50,\"\")","v":0},{"$f":"IFERROR([6]INVERSION!$V$50,\"\")","v":0},{"$f":"IFERROR([6]INVERSION!$W$50,\"\")","v":0},{"$f":"IFERROR([6]INVERSION!$X$50,\"\")","v":0},{"$f":"IFERROR([6]INVERSION!$Y$50,\"\")","v":0}]
[null,null,null,null,null,null,{"$f":"IFERROR([6]INVERSION!$G$51,\"\")","v":0},{"$f":"IFERROR([6]INVERSION!$H$51,\"\")","v":0},{"$f":"IFERROR([6]INVERSION!$I$51,\"\")","v":0},{"$f":"IFERROR([6]INVERSION!$J$51,\"\")","v":0},{"$f":"IFERROR([6]INVERSION!$K$51,\"\")","v":0},{"$f":"IFERROR([6]INVERSION!$L$51,\"\")","v":0},{"$f":"IFERROR([6]INVERSION!$M$51,\"\")","v":0},{"$f":"IFERROR([6]INVERSION!$N$51,\"\")","v":0},{"$f":"IFERROR([6]INVERSION!$O$51,\"\")","v":0},{"$f":"IFERROR([6]INVERSION!$P$51,\"\")","v":0},{"$f":"IFERROR([6]INVERSION!$Q$51,\"\")","v":0},{"$f":"IFERROR([6]INVERSION!$R$51,\"\")","v":0},{"$f":"IFERROR([6]INVERSION!$S$51,\"\")","v":"00:00:00"},{"$f":"IFERROR([6]INVERSION!$T$51,\"\")","v":"00:00:00"},{"$f":"IFERROR([6]INVERSION!$U$51,\"\")","v":0},{"$f":"IFERROR([6]INVERSION!$V$51,\"\")","v":0},{"$f":"IFERROR([6]INVERSION!$W$51,\"\")","v":0},{"$f":"IFERROR([6]INVERSION!$X$51,\"\")","v":0},{"$f":"IFERROR([6]INVERSION!$Y$51,\"\")","v":0}]
[null,null,null,null,null,null,{"$f":"IFERROR([6]INVERSION!$G$52,\"\")","v":0},{"$f":"IFERROR([6]INVERSION!$H$52,\"\")","v":0},{"$f":"IFERROR([6]INVERSION!$I$52,\"\")","v":0},{"$f":"IFERROR([6]INVERSION!$J$52,\"\")","v":0},{"$f":"IFERROR([6]INVERSION!$K$52,\"\")","v":0},{"$f":"IFERROR([6]INVERSION!$L$52,\"\")","v":0},{"$f":"IFERROR([6]INVERSION!$M$52,\"\")","v":0},{"$f":"IFERROR([6]INVERSION!$N$52,\"\")","v":0},{"$f":"IFERROR([6]INVERSION!$O$52,\"\")","v":0},{"$f":"IFERROR([6]INVERSION!$P$52,\"\")","v":0},{"$f":"IFERROR([6]INVERSION!$Q$52,\"\")","v":0},{"$f":"IFERROR([6]INVERSION!$R$52,\"\")","v":0},{"$f":"IFERROR([6]INVERSION!$S$52,\"\")","v":"00:00:00"},{"$f":"IFERROR([6]INVERSION!$T$52,\"\")","v":"00:00:00"},{"$f":"IFERROR([6]INVERSION!$U$52,\"\")","v":0},{"$f":"IFERROR([6]INVERSION!$V$52,\"\")","v":0},{"$f":"IFERROR([6]INVERSION!$W$52,\"\")","v":0},{"$f":"IFERROR([6]INVERSION!$X$52,\"\")","v":0},{"$f":"IFERROR([6]INVERSION!$Y$52,\"\")","v":0}]
[null,null,null,null,null,null,{"$f":"IFERROR([6]INVERSION!$G$53,\"\")","v":0},{"$f":"IFERROR([6]INVERSION!$H$53,\"\")","v":0},{"$f":"IFERROR([6]INVERSION!$I$53,\"\")","v":0},{"$f":"IFERROR([6]INVERSION!$J$53,\"\")","v":0},{"$f":"IFERROR([6]INVERSION!$K$53,\"\")","v":0},{"$f":"IFERROR([6]INVERSION!$L$53,\"\")","v":0},{"$f":"IFERROR([6]INVERSION!$M$53,\"\")","v":0},{"$f":"IFERROR([6]INVERSION!$N$53,\"\")","v":0},{"$f":"IFERROR([6]INVERSION!$O$53,\"\")","v":0},{"$f":"IFERROR([6]INVERSION!$P$53,\"\")","v":0},{"$f":"IFERROR([6]INVERSION!$Q$53,\"\")","v":0},{"$f":"IFERROR([6]INVERSION!$R$53,\"\")","v":0},{"$f":"IFERROR([6]INVERSION!$S$53,\"\")","v":"00:00:00"},{"$f":"IFERROR([6]INVERSION!$T$53,\"\")","v":"00:00:00"},{"$f":"IFERROR([6]INVERSION!$U$53,\"\")","v":0},{"$f":"IFERROR([6]INVERSION!$V$53,\"\")","v":0},{"$f":"IFERROR([6]INVERSION!$W$53,\"\")","v":0},{"$f":"IFERROR([6]INVERSION!$X$53,\"\")","v":0},{"$f":"IFERROR([6]INVERSION!$Y$53,\"\")","v":0},null,null,null,"","",null,0]
[null,null,null,null,null,null,{"$f":"IFERROR([6]INVERSION!$G$54,\"\")","v":0},{"$f":"IFERROR([6]INVERSION!$H$54,\"\")","v":0},{"$f":"IFERROR([6]INVERSION!$I$54,\"\")","v":0},{"$f":"IFERROR([6]INVERSION!$J$54,\"\")","v":0},{"$f":"IFERROR([6]INVERSION!$K$54,\"\")","v":0},{"$f":"IFERROR([6]INVERSION!$L$54,\"\")","v":0},{"$f":"IFERROR([6]INVERSION!$M$54,\"\")","v":0},{"$f":"IFERROR([6]INVERSION!$N$54,\"\")","v":0},{"$f":"IFERROR([6]INVERSION!$O$54,\"\")","v":0},{"$f":"IFERROR([6]INVERSION!$P$54,\"\")","v":0},{"$f":"IFERROR([6]INVERSION!$Q$54,\"\")","v":0},{"$f":"IFERROR([6]INVERSION!$R$54,\"\")","v":0},{"$f":"IFERROR([6]INVERSION!$S$54,\"\")","v":"00:00:00"},{"$f":"IFERROR([6]INVERSION!$T$54,\"\")","v":"00:00:00"},{"$f":"IFERROR([6]INVERSION!$U$54,\"\")","v":0},{"$f":"IFERROR([6]INVERSION!$V$54,\"\")","v":0},{"$f":"IFERROR([6]INVERSION!$W$54,\"\")","v":0},{"$f":"IFERROR([6]INVERSION!$X$54,\"\")","v":0},{"$f":"IFERROR([6]INVERSION!$Y$54,\"\")","v":0},null,null,null,"","",null,0]
[null,null,null,null,null,null,{"$f":"IFERROR([6]INVERSION!$G$55,\"\")","v":0},{"$f":"IFERROR([6]INVERSION!$H$55,\"\")","v":0},{"$f":"IFERROR([6]INVERSION!$I$55,\"\")","v":0},{"$f":"IFERROR([6]INVERSION!$J$55,\"\")","v":0},{"$f":"IFERROR([6]INVERSION!$K$55,\"\")","v":0},{"$f":"IFERROR([6]INVERSION!$L$55,\"\")","v":0},{"$f":"IFERROR([6]INVERSION!$M$55,\"\")","v":0},{"$f":"IFERROR([6]INVERSION!$N$55,\"\")","v":0},{"$f":"IFERROR([6]INVERSION!$O$55,\"\")","v":0},{"$f":"IFERROR([6]INVERSION!$P$55,\"\")","v":0},{"$f":"IFERROR([6]INVERSION!$Q$55,\"\")","v":0},{"$f":"IFERROR([6]INVERSION!$R$55,\"\")","v":0},{"$f":"IFERROR([6]INVERSION!$S$55,\"\")","v":"00:00:00"},{"$f":"IFERROR([6]INVERSION!$T$55,\"\")","v":"00:00:00"},{"$f":"IFERROR([6]INVERSION!$U$55,\"\")","v":0},{"$f":"IFERROR([6]INVERSION!$V$55,\"\")","v":0},{"$f":"IFERROR([6]INVERSION!$W$55,\"\")","v":0},{"$f":"IFERROR([6]INVERSION!$X$55,\"\")","v":0},{"$f":"IFERROR([6]INVERSION!$Y$55,\"\")","v":0},null,null,null,"","",null,0]
["2. Servicios digitales y de tecnología, innovación y análisis de la información.","Servicios digitales y de tecnología, innovación y análisis de la información: Consolidar una justicia integrada y soportada en servicios digitales y de tecnología, innovación y análisis de la información, con una cultura digital apropiada, segura y sensible a las realidades del territorio nacional. ","1. Ampliar el acceso a la justicia a través de la consolidación del uso de los servicios digitales que conforman el sistema único integrado de gestión judicial en todos los despachos judiciales y dependencias de apoyo y, específicamente, incluyendo el despliegue e implementación del Expediente Judicial Electrónico en todas las jurisdicciones y especialidades.","Procesos\njudiciales gestionados a través del expediente electrónico por especialidad","# de procesos judiciales en gestión con expediente electrónico en cada especialida d y por categoría de despacho a nivel de circuito / # de procesos judiciales totales en gestión por cada especialida d y circuito (cabecera de circuito)","6. Proteger, preservar y administrar los activos de información  implementando acciones  para gestionar de forma adecuada los incidentes, proteger los datos personales y adoptar mecanismos  de ciberseguridad y aseguramiento de la  continuidad del negocio.",{"$f":"IFERROR([6]INVERSION!$G$56,\"\")","v":0},{"$f":"IFERROR([6]INVERSION!$H$56,\"\")","v":0},{"$f":"IFERROR([6]INVERSION!$I$56,\"\")","v":0},{"$f":"IFERROR([6]INVERSION!$J$56,\"\")","v":0},{"$f":"IFERROR([6]INVERSION!$K$56,\"\")","v":0},{"$f":"IFERROR([6]INVERSION!$L$56,\"\")","v":0},{"$f":"IFERROR([6]INVERSION!$M$56,\"\")","v":0},{"$f":"IFERROR([6]INVERSION!$N$56,\"\")","v":0},{"$f":"IFERROR([6]INVERSION!$O$56,\"\")","v":0},{"$f":"IFERROR([6]INVERSION!$P$56,\"\")","v":0},{"$f":"IFERROR([6]INVERSION!$Q$56,\"\")","v":0},{"$f":"IFERROR([6]INVERSION!$R$56,\"\")","v":0},{"$f":"IFERROR([6]INVERSION!$S$56,\"\")","v":"00:00:00"},{"$f":"IFERROR([6]INVERSION!$T$56,\"\")","v":"00:00:00"},{"$f":"IFERROR([6]INVERSION!$U$56,\"\")","v":0},{"$f":"IFERROR([6]INVERSION!$V$56,\"\")","v":0},{"$f":"IFERROR([6]INVERSION!$W$56,\"\")","v":0},{"$f":"IFERROR([6]INVERSION!$X$56,\"\")","v":0},{"$f":"IFERROR([6]INVERSION!$Y$56,\"\")","v":0},null,null,null,"","",null,0]
[null,null,null,null,null,null,{"$f":"IFERROR([6]INVERSION!$G$57,\"\")","v":0},{"$f":"IFERROR([6]INVERSION!$H$57,\"\")","v":0},{"$f":"IFERROR([6]INVERSION!$I$57,\"\")","v":0},{"$f":"IFERROR([6]INVERSION!$J$57,\"\")","v":0},{"$f":"IFERROR([6]INVERSION!$K$57,\"\")","v":0},{"$f":"IFERROR([6]INVERSION!$L$57,\"\")","v":0},{"$f":"IFERROR([6]INVERSION!$M$57,\"\")","v":0},{"$f":"IFERROR([6]INVERSION!$N$57,\"\")","v":0},{"$f":"IFERROR([6]INVERSION!$O$57,\"\")","v":0},{"$f":"IFERROR([6]INVERSION!$P$57,\"\")","v":0},{"$f":"IFERROR([6]INVERSION!$Q$57,\"\")","v":0},{"$f":"IFERROR([6]INVERSION!$R$57,\"\")","v":0},{"$f":"IFERROR([6]INVERSION!$S$57,\"\")","v":"00:00:00"},{"$f":"IFERROR([6]INVERSION!$T$57,\"\")","v":"00:00:00"},{"$f":"IFERROR([6]INVERSION!$U$57,\"\")","v":0},{"$f":"IFERROR([6]INVERSION!$V$57,\"\")","v":0},{"$f":"IFERROR([6]INVERSION!$W$57,\"\")","v":0},{"$f":"IFERROR([6]INVERSION!$X$57,\"\")","v":0},{"$f":"IFERROR([6]INVERSION!$Y$57,\"\")","v":0},null,null,null,"","",null,0]
[null,null,null,null,null,null,{"$f":"IFERROR([6]INVERSION!$G$58,\"\")","v":0},{"$f":"IFERROR([6]INVERSION!$H$58,\"\")","v":0},{"$f":"IFERROR([6]INVERSION!$I$58,\"\")","v":0},{"$f":"IFERROR([6]INVERSION!$J$58,\"\")","v":0},{"$f":"IFERROR([6]INVERSION!$K$58,\"\")","v":0},{"$f":"IFERROR([6]INVERSION!$L$58,\"\")","v":0},{"$f":"IFERROR([6]INVERSION!$M$58,\"\")","v":0},{"$f":"IFERROR([6]INVERSION!$N$58,\"\")","v":0},{"$f":"IFERROR([6]INVERSION!$O$58,\"\")","v":0},{"$f":"IFERROR([6]INVERSION!$P$58,\"\")","v":0},{"$f":"IFERROR([6]INVERSION!$Q$58,\"\")","v":0},{"$f":"IFERROR([6]INVERSION!$R$58,\"\")","v":0},{"$f":"IFERROR([6]INVERSION!$S$58,\"\")","v":"00:00:00"},{"$f":"IFERROR([6]INVERSION!$T$58,\"\")","v":"00:00:00"},{"$f":"IFERROR([6]INVERSION!$U$58,\"\")","v":0},{"$f":"IFERROR([6]INVERSION!$V$58,\"\")","v":0},{"$f":"IFERROR([6]INVERSION!$W$58,\"\")","v":0},{"$f":"IFERROR([6]INVERSION!$X$58,\"\")","v":0},{"$f":"IFERROR([6]INVERSION!$Y$58,\"\")","v":0}]
[null,null,null,null,null,null,{"$f":"IFERROR([6]INVERSION!$G$59,\"\")","v":0},{"$f":"IFERROR([6]INVERSION!$H$59,\"\")","v":0},{"$f":"IFERROR([6]INVERSION!$I$59,\"\")","v":0},{"$f":"IFERROR([6]INVERSION!$J$59,\"\")","v":0},{"$f":"IFERROR([6]INVERSION!$K$59,\"\")","v":0},{"$f":"IFERROR([6]INVERSION!$L$59,\"\")","v":0},{"$f":"IFERROR([6]INVERSION!$M$59,\"\")","v":0},{"$f":"IFERROR([6]INVERSION!$N$59,\"\")","v":0},{"$f":"IFERROR([6]INVERSION!$O$59,\"\")","v":0},{"$f":"IFERROR([6]INVERSION!$P$59,\"\")","v":0},{"$f":"IFERROR([6]INVERSION!$Q$59,\"\")","v":0},{"$f":"IFERROR([6]INVERSION!$R$59,\"\")","v":0},{"$f":"IFERROR([6]INVERSION!$S$59,\"\")","v":"00:00:00"},{"$f":"IFERROR([6]INVERSION!$T$59,\"\")","v":"00:00:00"},{"$f":"IFERROR([6]INVERSION!$U$59,\"\")","v":0},{"$f":"IFERROR([6]INVERSION!$V$59,\"\")","v":0},{"$f":"IFERROR([6]INVERSION!$W$59,\"\")","v":0},{"$f":"IFERROR([6]INVERSION!$X$59,\"\")","v":0},{"$f":"IFERROR([6]INVERSION!$Y$59,\"\")","v":0}]
[null,null,null,null,null,null,{"$f":"IFERROR([6]INVERSION!$G$60,\"\")","v":0},{"$f":"IFERROR([6]INVERSION!$H$60,\"\")","v":0},{"$f":"IFERROR([6]INVERSION!$I$60,\"\")","v":0},{"$f":"IFERROR([6]INVERSION!$J$60,\"\")","v":0},{"$f":"IFERROR([6]INVERSION!$K$60,\"\")","v":0},{"$f":"IFERROR([6]INVERSION!$L$60,\"\")","v":0},{"$f":"IFERROR([6]INVERSION!$M$60,\"\")","v":0},{"$f":"IFERROR([6]INVERSION!$N$60,\"\")","v":0},{"$f":"IFERROR([6]INVERSION!$O$60,\"\")","v":0},{"$f":"IFERROR([6]INVERSION!$P$60,\"\")","v":0},{"$f":"IFERROR([6]INVERSION!$Q$60,\"\")","v":0},{"$f":"IFERROR([6]INVERSION!$R$60,\"\")","v":0},{"$f":"IFERROR([6]INVERSION!$S$60,\"\")","v":"00:00:00"},{"$f":"IFERROR([6]INVERSION!$T$60,\"\")","v":"00:00:00"},{"$f":"IFERROR([6]INVERSION!$U$60,\"\")","v":0},{"$f":"IFERROR([6]INVERSION!$V$60,\"\")","v":0},{"$f":"IFERROR([6]INVERSION!$W$60,\"\")","v":0},{"$f":"IFERROR([6]INVERSION!$X$60,\"\")","v":0},{"$f":"IFERROR([6]INVERSION!$Y$60,\"\")","v":0}]
[null,null,null,null,null,null,{"$f":"IFERROR([6]INVERSION!$G$61,\"\")","v":0},{"$f":"IFERROR([6]INVERSION!$H$61,\"\")","v":0},{"$f":"IFERROR([6]INVERSION!$I$61,\"\")","v":0},{"$f":"IFERROR([6]INVERSION!$J$61,\"\")","v":0},{"$f":"IFERROR([6]INVERSION!$K$61,\"\")","v":0},{"$f":"IFERROR([6]INVERSION!$L$61,\"\")","v":0},{"$f":"IFERROR([6]INVERSION!$M$61,\"\")","v":0},{"$f":"IFERROR([6]INVERSION!$N$61,\"\")","v":0},{"$f":"IFERROR([6]INVERSION!$O$61,\"\")","v":0},{"$f":"IFERROR([6]INVERSION!$P$61,\"\")","v":0},{"$f":"IFERROR([6]INVERSION!$Q$61,\"\")","v":0},{"$f":"IFERROR([6]INVERSION!$R$61,\"\")","v":0},{"$f":"IFERROR([6]INVERSION!$S$61,\"\")","v":"00:00:00"},{"$f":"IFERROR([6]INVERSION!$T$61,\"\")","v":"00:00:00"},{"$f":"IFERROR([6]INVERSION!$U$61,\"\")","v":0},{"$f":"IFERROR([6]INVERSION!$V$61,\"\")","v":0},{"$f":"IFERROR([6]INVERSION!$W$61,\"\")","v":0},{"$f":"IFERROR([6]INVERSION!$X$61,\"\")","v":0},{"$f":"IFERROR([6]INVERSION!$Y$61,\"\")","v":0}]
[null,null,null,null,null,null,{"$f":"IFERROR([6]INVERSION!$G$62,\"\")","v":0},{"$f":"IFERROR([6]INVERSION!$H$62,\"\")","v":0},{"$f":"IFERROR([6]INVERSION!$I$62,\"\")","v":0},{"$f":"IFERROR([6]INVERSION!$J$62,\"\")","v":0},{"$f":"IFERROR([6]INVERSION!$K$62,\"\")","v":0},{"$f":"IFERROR([6]INVERSION!$L$62,\"\")","v":0},{"$f":"IFERROR([6]INVERSION!$M$62,\"\")","v":0},{"$f":"IFERROR([6]INVERSION!$N$62,\"\")","v":0},{"$f":"IFERROR([6]INVERSION!$O$62,\"\")","v":0},{"$f":"IFERROR([6]INVERSION!$P$62,\"\")","v":0},{"$f":"IFERROR([6]INVERSION!$Q$62,\"\")","v":0},{"$f":"IFERROR([6]INVERSION!$R$62,\"\")","v":0},{"$f":"IFERROR([6]INVERSION!$S$62,\"\")","v":"00:00:00"},{"$f":"IFERROR([6]INVERSION!$T$62,\"\")","v":"00:00:00"},{"$f":"IFERROR([6]INVERSION!$U$62,\"\")","v":0},{"$f":"IFERROR([6]INVERSION!$V$62,\"\")","v":0},{"$f":"IFERROR([6]INVERSION!$W$62,\"\")","v":0},{"$f":"IFERROR([6]INVERSION!$X$62,\"\")","v":0},{"$f":"IFERROR([6]INVERSION!$Y$62,\"\")","v":0}]
[null,null,null,null,null,null,{"$f":"IFERROR([6]INVERSION!$G$63,\"\")","v":0},{"$f":"IFERROR([6]INVERSION!$H$63,\"\")","v":0},{"$f":"IFERROR([6]INVERSION!$I$63,\"\")","v":0},{"$f":"IFERROR([6]INVERSION!$J$63,\"\")","v":0},{"$f":"IFERROR([6]INVERSION!$K$63,\"\")","v":0},{"$f":"IFERROR([6]INVERSION!$L$63,\"\")","v":0},{"$f":"IFERROR([6]INVERSION!$M$63,\"\")","v":0},{"$f":"IFERROR([6]INVERSION!$N$63,\"\")","v":0},{"$f":"IFERROR([6]INVERSION!$O$63,\"\")","v":0},{"$f":"IFERROR([6]INVERSION!$P$63,\"\")","v":0},{"$f":"IFERROR([6]INVERSION!$Q$63,\"\")","v":0},{"$f":"IFERROR([6]INVERSION!$R$63,\"\")","v":0},{"$f":"IFERROR([6]INVERSION!$S$63,\"\")","v":"00:00:00"},{"$f":"IFERROR([6]INVERSION!$T$63,\"\")","v":"00:00:00"},{"$f":"IFERROR([6]INVERSION!$U$63,\"\")","v":0},{"$f":"IFERROR([6]INVERSION!$V$63,\"\")","v":0},{"$f":"IFERROR([6]INVERSION!$W$63,\"\")","v":0},{"$f":"IFERROR([6]INVERSION!$X$63,\"\")","v":0},{"$f":"IFERROR([6]INVERSION!$Y$63,\"\")","v":0},null,null,null,"","",null,0]
[null,null,null,null,null,null,{"$f":"IFERROR([6]INVERSION!$G$64,\"\")","v":0},{"$f":"IFERROR([6]INVERSION!$H$64,\"\")","v":0},{"$f":"IFERROR([6]INVERSION!$I$64,\"\")","v":0},{"$f":"IFERROR([6]INVERSION!$J$64,\"\")","v":0},{"$f":"IFERROR([6]INVERSION!$K$64,\"\")","v":0},{"$f":"IFERROR([6]INVERSION!$L$64,\"\")","v":0},{"$f":"IFERROR([6]INVERSION!$M$64,\"\")","v":0},{"$f":"IFERROR([6]INVERSION!$N$64,\"\")","v":0},{"$f":"IFERROR([6]INVERSION!$O$64,\"\")","v":0},{"$f":"IFERROR([6]INVERSION!$P$64,\"\")","v":0},{"$f":"IFERROR([6]INVERSION!$Q$64,\"\")","v":0},{"$f":"IFERROR([6]INVERSION!$R$64,\"\")","v":0},{"$f":"IFERROR([6]INVERSION!$S$64,\"\")","v":"00:00:00"},{"$f":"IFERROR([6]INVERSION!$T$64,\"\")","v":"00:00:00"},{"$f":"IFERROR([6]INVERSION!$U$64,\"\")","v":0},{"$f":"IFERROR([6]INVERSION!$V$64,\"\")","v":0},{"$f":"IFERROR([6]INVERSION!$W$64,\"\")","v":0},{"$f":"IFERROR([6]INVERSION!$X$64,\"\")","v":0},{"$f":"IFERROR([6]INVERSION!$Y$64,\"\")","v":0},null,null,null,"","",null,0]
[null,null,null,null,null,null,{"$f":"IFERROR([6]INVERSION!$G$65,\"\")","v":0},{"$f":"IFERROR([6]INVERSION!$H$65,\"\")","v":0},{"$f":"IFERROR([6]INVERSION!$I$65,\"\")","v":0},{"$f":"IFERROR([6]INVERSION!$J$65,\"\")","v":0},{"$f":"IFERROR([6]INVERSION!$K$65,\"\")","v":0},{"$f":"IFERROR([6]INVERSION!$L$65,\"\")","v":0},{"$f":"IFERROR([6]INVERSION!$M$65,\"\")","v":0},{"$f":"IFERROR([6]INVERSION!$N$65,\"\")","v":0},{"$f":"IFERROR([6]INVERSION!$O$65,\"\")","v":0},{"$f":"IFERROR([6]INVERSION!$P$65,\"\")","v":0},{"$f":"IFERROR([6]INVERSION!$Q$65,\"\")","v":0},{"$f":"IFERROR([6]INVERSION!$R$65,\"\")","v":0},{"$f":"IFERROR([6]INVERSION!$S$65,\"\")","v":"00:00:00"},{"$f":"IFERROR([6]INVERSION!$T$65,\"\")","v":"00:00:00"},{"$f":"IFERROR([6]INVERSION!$U$65,\"\")","v":0},{"$f":"IFERROR([6]INVERSION!$V$65,\"\")","v":0},{"$f":"IFERROR([6]INVERSION!$W$65,\"\")","v":0},{"$f":"IFERROR([6]INVERSION!$X$65,\"\")","v":0},{"$f":"IFERROR([6]INVERSION!$Y$65,\"\")","v":0},null,null,null,"","",null,0]
[null,null,"2. Integrar y hacer compatibles todos los aplicativos de transición con SIUGJ, para que la migración de los expedientes judiciales a dicha plataforma sea real y no suponga afectaciones en la prestación del servicio de justicia.",null,null,null,{"$f":"IFERROR([6]INVERSION!$G$66,\"\")","v":0},{"$f":"IFERROR([6]INVERSION!$H$66,\"\")","v":0},{"$f":"IFERROR([6]INVERSION!$I$66,\"\")","v":0},{"$f":"IFERROR([6]INVERSION!$J$66,\"\")","v":0},{"$f":"IFERROR([6]INVERSION!$K$66,\"\")","v":0},{"$f":"IFERROR([6]INVERSION!$L$66,\"\")","v":0},{"$f":"IFERROR([6]INVERSION!$M$66,\"\")","v":0},{"$f":"IFERROR([6]INVERSION!$N$66,\"\")","v":0},{"$f":"IFERROR([6]INVERSION!$O$66,\"\")","v":0},{"$f":"IFERROR([6]INVERSION!$P$66,\"\")","v":0},{"$f":"IFERROR([6]INVERSION!$Q$66,\"\")","v":0},{"$f":"IFERROR([6]INVERSION!$R$66,\"\")","v":0},{"$f":"IFERROR([6]INVERSION!$S$66,\"\")","v":"00:00:00"},{"$f":"IFERROR([6]INVERSION!$T$66,\"\")","v":"00:00:00"},{"$f":"IFERROR([6]INVERSION!$U$66,\"\")","v":0},{"$f":"IFERROR([6]INVERSION!$V$66,\"\")","v":0},{"$f":"IFERROR([6]INVERSION!$W$66,\"\")","v":0},{"$f":"IFERROR([6]INVERSION!$X$66,\"\")","v":0},{"$f":"IFERROR([6]INVERSION!$Y$66,\"\")","v":0},null,null,null,"","",null,0]
[null,null,null,null,null,null,{"$f":"IFERROR([6]INVERSION!$G$67,\"\")","v":0},{"$f":"IFERROR([6]INVERSION!$H$67,\"\")","v":0},{"$f":"IFERROR([6]INVERSION!$I$67,\"\")","v":0},{"$f":"IFERROR([6]INVERSION!$J$67,\"\")","v":0},{"$f":"IFERROR([6]INVERSION!$K$67,\"\")","v":0},{"$f":"IFERROR([6]INVERSION!$L$67,\"\")","v":0},{"$f":"IFERROR([6]INVERSION!$M$67,\"\")","v":0},{"$f":"IFERROR([6]INVERSION!$N$67,\"\")","v":0},{"$f":"IFERROR([6]INVERSION!$O$67,\"\")","v":0},{"$f":"IFERROR([6]INVERSION!$P$67,\"\")","v":0},{"$f":"IFERROR([6]INVERSION!$Q$67,\"\")","v":0},{"$f":"IFERROR([6]INVERSION!$R$67,\"\")","v":0},{"$f":"IFERROR([6]INVERSION!$S$67,\"\")","v":"00:00:00"},{"$f":"IFERROR([6]INVERSION!$T$67,\"\")","v":"00:00:00"},{"$f":"IFERROR([6]INVERSION!$U$67,\"\")","v":0},{"$f":"IFERROR([6]INVERSION!$V$67,\"\")","v":0},{"$f":"IFERROR([6]INVERSION!$W$67,\"\")","v":0},{"$f":"IFERROR([6]INVERSION!$X$67,\"\")","v":0},{"$f":"IFERROR([6]INVERSION!$Y$67,\"\")","v":0},null,null,null,"","",null,0]
[null,null,null,null,null,null,{"$f":"IFERROR([6]INVERSION!$G$68,\"\")","v":0},{"$f":"IFERROR([6]INVERSION!$H$68,\"\")","v":0},{"$f":"IFERROR([6]INVERSION!$I$68,\"\")","v":0},{"$f":"IFERROR([6]INVERSION!$J$68,\"\")","v":0},{"$f":"IFERROR([6]INVERSION!$K$68,\"\")","v":0},{"$f":"IFERROR([6]INVERSION!$L$68,\"\")","v":0},{"$f":"IFERROR([6]INVERSION!$M$68,\"\")","v":0},{"$f":"IFERROR([6]INVERSION!$N$68,\"\")","v":0},{"$f":"IFERROR([6]INVERSION!$O$68,\"\")","v":0},{"$f":"IFERROR([6]INVERSION!$P$68,\"\")","v":0},{"$f":"IFERROR([6]INVERSION!$Q$68,\"\")","v":0},{"$f":"IFERROR([6]INVERSION!$R$68,\"\")","v":0},{"$f":"IFERROR([6]INVERSION!$S$68,\"\")","v":"00:00:00"},{"$f":"IFERROR([6]INVERSION!$T$68,\"\")","v":"00:00:00"},{"$f":"IFERROR([6]INVERSION!$U$68,\"\")","v":0},{"$f":"IFERROR([6]INVERSION!$V$68,\"\")","v":0},{"$f":"IFERROR([6]INVERSION!$W$68,\"\")","v":0},{"$f":"IFERROR([6]INVERSION!$X$68,\"\")","v":0},{"$f":"IFERROR([6]INVERSION!$Y$68,\"\")","v":0},null,null,null,"","",null,0]
[null,null,null,null,null,null,{"$f":"IFERROR([6]INVERSION!$G$69,\"\")","v":0},{"$f":"IFERROR([6]INVERSION!$H$69,\"\")","v":0},{"$f":"IFERROR([6]INVERSION!$I$69,\"\")","v":0},{"$f":"IFERROR([6]INVERSION!$J$69,\"\")","v":0},{"$f":"IFERROR([6]INVERSION!$K$69,\"\")","v":0},{"$f":"IFERROR([6]INVERSION!$L$69,\"\")","v":0},{"$f":"IFERROR([6]INVERSION!$M$69,\"\")","v":0},{"$f":"IFERROR([6]INVERSION!$N$69,\"\")","v":0},{"$f":"IFERROR([6]INVERSION!$O$69,\"\")","v":0},{"$f":"IFERROR([6]INVERSION!$P$69,\"\")","v":0},{"$f":"IFERROR([6]INVERSION!$Q$69,\"\")","v":0},{"$f":"IFERROR([6]INVERSION!$R$69,\"\")","v":0},{"$f":"IFERROR([6]INVERSION!$S$69,\"\")","v":"00:00:00"},{"$f":"IFERROR([6]INVERSION!$T$69,\"\")","v":"00:00:00"},{"$f":"IFERROR([6]INVERSION!$U$69,\"\")","v":0},{"$f":"IFERROR([6]INVERSION!$V$69,\"\")","v":0},{"$f":"IFERROR([6]INVERSION!$W$69,\"\")","v":0},{"$f":"IFERROR([6]INVERSION!$X$69,\"\")","v":0},{"$f":"IFERROR([6]INVERSION!$Y$69,\"\")","v":0}]
[null,null,null,null,null,null,{"$f":"IFERROR([6]INVERSION!$G$70,\"\")","v":0},{"$f":"IFERROR([6]INVERSION!$H$70,\"\")","v":0},{"$f":"IFERROR([6]INVERSION!$I$70,\"\")","v":0},{"$f":"IFERROR([6]INVERSION!$J$70,\"\")","v":0},{"$f":"IFERROR([6]INVERSION!$K$70,\"\")","v":0},{"$f":"IFERROR([6]INVERSION!$L$70,\"\")","v":0},{"$f":"IFERROR([6]INVERSION!$M$70,\"\")","v":0},{"$f":"IFERROR([6]INVERSION!$N$70,\"\")","v":0},{"$f":"IFERROR([6]INVERSION!$O$70,\"\")","v":0},{"$f":"IFERROR([6]INVERSION!$P$70,\"\")","v":0},{"$f":"IFERROR([6]INVERSION!$Q$70,\"\")","v":0},{"$f":"IFERROR([6]INVERSION!$R$70,\"\")","v":0},{"$f":"IFERROR([6]INVERSION!$S$70,\"\")","v":"00:00:00"},{"$f":"IFERROR([6]INVERSION!$T$70,\"\")","v":"00:00:00"},{"$f":"IFERROR([6]INVERSION!$U$70,\"\")","v":0},{"$f":"IFERROR([6]INVERSION!$V$70,\"\")","v":0},{"$f":"IFERROR([6]INVERSION!$W$70,\"\")","v":0},{"$f":"IFERROR([6]INVERSION!$X$70,\"\")","v":0},{"$f":"IFERROR([6]INVERSION!$Y$70,\"\")","v":0}]
[null,null,null,null,null,null,{"$f":"IFERROR([6]INVERSION!$G$71,\"\")","v":0},{"$f":"IFERROR([6]INVERSION!$H$71,\"\")","v":0},{"$f":"IFERROR([6]INVERSION!$I$71,\"\")","v":0},{"$f":"IFERROR([6]INVERSION!$J$71,\"\")","v":0},{"$f":"IFERROR([6]INVERSION!$K$71,\"\")","v":0},{"$f":"IFERROR([6]INVERSION!$L$71,\"\")","v":0},{"$f":"IFERROR([6]INVERSION!$M$71,\"\")","v":0},{"$f":"IFERROR([6]INVERSION!$N$71,\"\")","v":0},{"$f":"IFERROR([6]INVERSION!$O$71,\"\")","v":0},{"$f":"IFERROR([6]INVERSION!$P$71,\"\")","v":0},{"$f":"IFERROR([6]INVERSION!$Q$71,\"\")","v":0},{"$f":"IFERROR([6]INVERSION!$R$71,\"\")","v":0},{"$f":"IFERROR([6]INVERSION!$S$71,\"\")","v":"00:00:00"},{"$f":"IFERROR([6]INVERSION!$T$71,\"\")","v":"00:00:00"},{"$f":"IFERROR([6]INVERSION!$U$71,\"\")","v":0},{"$f":"IFERROR([6]INVERSION!$V$71,\"\")","v":0},{"$f":"IFERROR([6]INVERSION!$W$71,\"\")","v":0},{"$f":"IFERROR([6]INVERSION!$X$71,\"\")","v":0},{"$f":"IFERROR([6]INVERSION!$Y$71,\"\")","v":0}]
[null,null,null,null,null,null,{"$f":"IFERROR([6]INVERSION!$G$72,\"\")","v":0},{"$f":"IFERROR([6]INVERSION!$H$72,\"\")","v":0},{"$f":"IFERROR([6]INVERSION!$I$72,\"\")","v":0},{"$f":"IFERROR([6]INVERSION!$J$72,\"\")","v":0},{"$f":"IFERROR([6]INVERSION!$K$72,\"\")","v":0},{"$f":"IFERROR([6]INVERSION!$L$72,\"\")","v":0},{"$f":"IFERROR([6]INVERSION!$M$72,\"\")","v":0},{"$f":"IFERROR([6]INVERSION!$N$72,\"\")","v":0},{"$f":"IFERROR([6]INVERSION!$O$72,\"\")","v":0},{"$f":"IFERROR([6]INVERSION!$P$72,\"\")","v":0},{"$f":"IFERROR([6]INVERSION!$Q$72,\"\")","v":0},{"$f":"IFERROR([6]INVERSION!$R$72,\"\")","v":0},{"$f":"IFERROR([6]INVERSION!$S$72,\"\")","v":"00:00:00"},{"$f":"IFERROR([6]INVERSION!$T$72,\"\")","v":"00:00:00"},{"$f":"IFERROR([6]INVERSION!$U$72,\"\")","v":0},{"$f":"IFERROR([6]INVERSION!$V$72,\"\")","v":0},{"$f":"IFERROR([6]INVERSION!$W$72,\"\")","v":0},{"$f":"IFERROR([6]INVERSION!$X$72,\"\")","v":0},{"$f":"IFERROR([6]INVERSION!$Y$72,\"\")","v":0}]
[null,null,null,null,null,null,{"$f":"IFERROR([6]INVERSION!$G$73,\"\")","v":0},{"$f":"IFERROR([6]INVERSION!$H$73,\"\")","v":0},{"$f":"IFERROR([6]INVERSION!$I$73,\"\")","v":0},{"$f":"IFERROR([6]INVERSION!$J$73,\"\")","v":0},{"$f":"IFERROR([6]INVERSION!$K$73,\"\")","v":0},{"$f":"IFERROR([6]INVERSION!$L$73,\"\")","v":0},{"$f":"IFERROR([6]INVERSION!$M$73,\"\")","v":0},{"$f":"IFERROR([6]INVERSION!$N$73,\"\")","v":0},{"$f":"IFERROR([6]INVERSION!$O$73,\"\")","v":0},{"$f":"IFERROR([6]INVERSION!$P$73,\"\")","v":0},{"$f":"IFERROR([6]INVERSION!$Q$73,\"\")","v":0},{"$f":"IFERROR([6]INVERSION!$R$73,\"\")","v":0},{"$f":"IFERROR([6]INVERSION!$S$73,\"\")","v":"00:00:00"},{"$f":"IFERROR([6]INVERSION!$T$73,\"\")","v":"00:00:00"},{"$f":"IFERROR([6]INVERSION!$U$73,\"\")","v":0},{"$f":"IFERROR([6]INVERSION!$V$73,\"\")","v":0},{"$f":"IFERROR([6]INVERSION!$W$73,\"\")","v":0},{"$f":"IFERROR([6]INVERSION!$X$73,\"\")","v":0},{"$f":"IFERROR([6]INVERSION!$Y$73,\"\")","v":0}]
[null,null,null,null,null,null,{"$f":"IFERROR([6]INVERSION!$G$74,\"\")","v":0},{"$f":"IFERROR([6]INVERSION!$H$74,\"\")","v":0},{"$f":"IFERROR([6]INVERSION!$I$74,\"\")","v":0},{"$f":"IFERROR([6]INVERSION!$J$74,\"\")","v":0},{"$f":"IFERROR([6]INVERSION!$K$74,\"\")","v":0},{"$f":"IFERROR([6]INVERSION!$L$74,\"\")","v":0},{"$f":"IFERROR([6]INVERSION!$M$74,\"\")","v":0},{"$f":"IFERROR([6]INVERSION!$N$74,\"\")","v":0},{"$f":"IFERROR([6]INVERSION!$O$74,\"\")","v":0},{"$f":"IFERROR([6]INVERSION!$P$74,\"\")","v":0},{"$f":"IFERROR([6]INVERSION!$Q$74,\"\")","v":0},{"$f":"IFERROR([6]INVERSION!$R$74,\"\")","v":0},{"$f":"IFERROR([6]INVERSION!$S$74,\"\")","v":"00:00:00"},{"$f":"IFERROR([6]INVERSION!$T$74,\"\")","v":"00:00:00"},{"$f":"IFERROR([6]INVERSION!$U$74,\"\")","v":0},{"$f":"IFERROR([6]INVERSION!$V$74,\"\")","v":0},{"$f":"IFERROR([6]INVERSION!$W$74,\"\")","v":0},{"$f":"IFERROR([6]INVERSION!$X$74,\"\")","v":0},{"$f":"IFERROR([6]INVERSION!$Y$74,\"\")","v":0},null,null,null,"","",null,0]
[null,null,null,null,null,null,{"$f":"IFERROR([6]INVERSION!$G$75,\"\")","v":0},{"$f":"IFERROR([6]INVERSION!$H$75,\"\")","v":0},{"$f":"IFERROR([6]INVERSION!$I$75,\"\")","v":0},{"$f":"IFERROR([6]INVERSION!$J$75,\"\")","v":0},{"$f":"IFERROR([6]INVERSION!$K$75,\"\")","v":0},{"$f":"IFERROR([6]INVERSION!$L$75,\"\")","v":0},{"$f":"IFERROR([6]INVERSION!$M$75,\"\")","v":0},{"$f":"IFERROR([6]INVERSION!$N$75,\"\")","v":0},{"$f":"IFERROR([6]INVERSION!$O$75,\"\")","v":0},{"$f":"IFERROR([6]INVERSION!$P$75,\"\")","v":0},{"$f":"IFERROR([6]INVERSION!$Q$75,\"\")","v":0},{"$f":"IFERROR([6]INVERSION!$R$75,\"\")","v":0},{"$f":"IFERROR([6]INVERSION!$S$75,\"\")","v":"00:00:00"},{"$f":"IFERROR([6]INVERSION!$T$75,\"\")","v":"00:00:00"},{"$f":"IFERROR([6]INVERSION!$U$75,\"\")","v":0},{"$f":"IFERROR([6]INVERSION!$V$75,\"\")","v":0},{"$f":"IFERROR([6]INVERSION!$W$75,\"\")","v":0},{"$f":"IFERROR([6]INVERSION!$X$75,\"\")","v":0},{"$f":"IFERROR([6]INVERSION!$Y$75,\"\")","v":0},null,null,null,"","",null,0]
[null,null,"3. Fortalecer las capacidades institucionales, adecuar el modelo operativo y de servicio, bajo un enfoque de Arquitectura Empresarial y de fortalecimiento del acceso a la justicia.","Implementación del programa de gestión del cambio y las comunicaciones del PETD","# de actividades del objetivo \"aumentar el conocimient o digital y el uso de apropiación de los sistemas\" del programa de gestión del cambio y las comunicaci ones del PETD cumplidas /# de actividades del objetivo \"aumentar el conocimient o digital y el uso de apropiación de los sistemas\" del programa de gestión del cambio y las comunicaci ones del PETD programada s",null,{"$f":"IFERROR([6]INVERSION!$G$76,\"\")","v":0},{"$f":"IFERROR([6]INVERSION!$H$76,\"\")","v":0},{"$f":"IFERROR([6]INVERSION!$I$76,\"\")","v":0},{"$f":"IFERROR([6]INVERSION!$J$76,\"\")","v":0},{"$f":"IFERROR([6]INVERSION!$K$76,\"\")","v":0},{"$f":"IFERROR([6]INVERSION!$L$76,\"\")","v":0},{"$f":"IFERROR([6]INVERSION!$M$76,\"\")","v":0},{"$f":"IFERROR([6]INVERSION!$N$76,\"\")","v":0},{"$f":"IFERROR([6]INVERSION!$O$76,\"\")","v":0},{"$f":"IFERROR([6]INVERSION!$P$76,\"\")","v":0},{"$f":"IFERROR([6]INVERSION!$Q$76,\"\")","v":0},{"$f":"IFERROR([6]INVERSION!$R$76,\"\")","v":0},{"$f":"IFERROR([6]INVERSION!$S$76,\"\")","v":"00:00:00"},{"$f":"IFERROR([6]INVERSION!$T$76,\"\")","v":"00:00:00"},{"$f":"IFERROR([6]INVERSION!$U$76,\"\")","v":0},{"$f":"IFERROR([6]INVERSION!$V$76,\"\")","v":0},{"$f":"IFERROR([6]INVERSION!$W$76,\"\")","v":0},{"$f":"IFERROR([6]INVERSION!$X$76,\"\")","v":0},{"$f":"IFERROR([6]INVERSION!$Y$76,\"\")","v":0},null,null,null,"","",null,0]
[null,null,null,null,null,null,{"$f":"IFERROR([6]INVERSION!$G$77,\"\")","v":0},{"$f":"IFERROR([6]INVERSION!$H$77,\"\")","v":0},{"$f":"IFERROR([6]INVERSION!$I$77,\"\")","v":0},{"$f":"IFERROR([6]INVERSION!$J$77,\"\")","v":0},{"$f":"IFERROR([6]INVERSION!$K$77,\"\")","v":0},{"$f":"IFERROR([6]INVERSION!$L$77,\"\")","v":0},{"$f":"IFERROR([6]INVERSION!$M$77,\"\")","v":0},{"$f":"IFERROR([6]INVERSION!$N$77,\"\")","v":0},{"$f":"IFERROR([6]INVERSION!$O$77,\"\")","v":0},{"$f":"IFERROR([6]INVERSION!$P$77,\"\")","v":0},{"$f":"IFERROR([6]INVERSION!$Q$77,\"\")","v":0},{"$f":"IFERROR([6]INVERSION!$R$77,\"\")","v":0},{"$f":"IFERROR([6]INVERSION!$S$77,\"\")","v":"00:00:00"},{"$f":"IFERROR([6]INVERSION!$T$77,\"\")","v":"00:00:00"},{"$f":"IFERROR([6]INVERSION!$U$77,\"\")","v":0},{"$f":"IFERROR([6]INVERSION!$V$77,\"\")","v":0},{"$f":"IFERROR([6]INVERSION!$W$77,\"\")","v":0},{"$f":"IFERROR([6]INVERSION!$X$77,\"\")","v":0},{"$f":"IFERROR([6]INVERSION!$Y$77,\"\")","v":0},null,null,null,"","",null,0]
[null,null,null,null,null,null,{"$f":"IFERROR([6]INVERSION!$G$78,\"\")","v":0},{"$f":"IFERROR([6]INVERSION!$H$78,\"\")","v":0},{"$f":"IFERROR([6]INVERSION!$I$78,\"\")","v":0},{"$f":"IFERROR([6]INVERSION!$J$78,\"\")","v":0},{"$f":"IFERROR([6]INVERSION!$K$78,\"\")","v":0},{"$f":"IFERROR([6]INVERSION!$L$78,\"\")","v":0},{"$f":"IFERROR([6]INVERSION!$M$78,\"\")","v":0},{"$f":"IFERROR([6]INVERSION!$N$78,\"\")","v":0},{"$f":"IFERROR([6]INVERSION!$O$78,\"\")","v":0},{"$f":"IFERROR([6]INVERSION!$P$78,\"\")","v":0},{"$f":"IFERROR([6]INVERSION!$Q$78,\"\")","v":0},{"$f":"IFERROR([6]INVERSION!$R$78,\"\")","v":0},{"$f":"IFERROR([6]INVERSION!$S$78,\"\")","v":"00:00:00"},{"$f":"IFERROR([6]INVERSION!$T$78,\"\")","v":"00:00:00"},{"$f":"IFERROR([6]INVERSION!$U$78,\"\")","v":0},{"$f":"IFERROR([6]INVERSION!$V$78,\"\")","v":0},{"$f":"IFERROR([6]INVERSION!$W$78,\"\")","v":0},{"$f":"IFERROR([6]INVERSION!$X$78,\"\")","v":0},{"$f":"IFERROR([6]INVERSION!$Y$78,\"\")","v":0}]
[null,null,null,null,null,null,{"$f":"IFERROR([6]INVERSION!$G$79,\"\")","v":0},{"$f":"IFERROR([6]INVERSION!$H$79,\"\")","v":0},{"$f":"IFERROR([6]INVERSION!$I$79,\"\")","v":0},{"$f":"IFERROR([6]INVERSION!$J$79,\"\")","v":0},{"$f":"IFERROR([6]INVERSION!$K$79,\"\")","v":0},{"$f":"IFERROR([6]INVERSION!$L$79,\"\")","v":0},{"$f":"IFERROR([6]INVERSION!$M$79,\"\")","v":0},{"$f":"IFERROR([6]INVERSION!$N$79,\"\")","v":0},{"$f":"IFERROR([6]INVERSION!$O$79,\"\")","v":0},{"$f":"IFERROR([6]INVERSION!$P$79,\"\")","v":0},{"$f":"IFERROR([6]INVERSION!$Q$79,\"\")","v":0},{"$f":"IFERROR([6]INVERSION!$R$79,\"\")","v":0},{"$f":"IFERROR([6]INVERSION!$S$79,\"\")","v":"00:00:00"},{"$f":"IFERROR([6]INVERSION!$T$79,\"\")","v":"00:00:00"},{"$f":"IFERROR([6]INVERSION!$U$79,\"\")","v":0},{"$f":"IFERROR([6]INVERSION!$V$79,\"\")","v":0},{"$f":"IFERROR([6]INVERSION!$W$79,\"\")","v":0},{"$f":"IFERROR([6]INVERSION!$X$79,\"\")","v":0},{"$f":"IFERROR([6]INVERSION!$Y$79,\"\")","v":0}]
[null,null,null,null,null,null,{"$f":"IFERROR([6]INVERSION!$G$80,\"\")","v":0},{"$f":"IFERROR([6]INVERSION!$H$80,\"\")","v":0},{"$f":"IFERROR([6]INVERSION!$I$80,\"\")","v":0},{"$f":"IFERROR([6]INVERSION!$J$80,\"\")","v":0},{"$f":"IFERROR([6]INVERSION!$K$80,\"\")","v":0},{"$f":"IFERROR([6]INVERSION!$L$80,\"\")","v":0},{"$f":"IFERROR([6]INVERSION!$M$80,\"\")","v":0},{"$f":"IFERROR([6]INVERSION!$N$80,\"\")","v":0},{"$f":"IFERROR([6]INVERSION!$O$80,\"\")","v":0},{"$f":"IFERROR([6]INVERSION!$P$80,\"\")","v":0},{"$f":"IFERROR([6]INVERSION!$Q$80,\"\")","v":0},{"$f":"IFERROR([6]INVERSION!$R$80,\"\")","v":0},{"$f":"IFERROR([6]INVERSION!$S$80,\"\")","v":"00:00:00"},{"$f":"IFERROR([6]INVERSION!$T$80,\"\")","v":"00:00:00"},{"$f":"IFERROR([6]INVERSION!$U$80,\"\")","v":0},{"$f":"IFERROR([6]INVERSION!$V$80,\"\")","v":0},{"$f":"IFERROR([6]INVERSION!$W$80,\"\")","v":0},{"$f":"IFERROR([6]INVERSION!$X$80,\"\")","v":0},{"$f":"IFERROR([6]INVERSION!$Y$80,\"\")","v":0}]
[null,null,null,null,null,null,{"$f":"IFERROR([6]INVERSION!$G$81,\"\")","v":0},{"$f":"IFERROR([6]INVERSION!$H$81,\"\")","v":0},{"$f":"IFERROR([6]INVERSION!$I$81,\"\")","v":0},{"$f":"IFERROR([6]INVERSION!$J$81,\"\")","v":0},{"$f":"IFERROR([6]INVERSION!$K$81,\"\")","v":0},{"$f":"IFERROR([6]INVERSION!$L$81,\"\")","v":0},{"$f":"IFERROR([6]INVERSION!$M$81,\"\")","v":0},{"$f":"IFERROR([6]INVERSION!$N$81,\"\")","v":0},{"$f":"IFERROR([6]INVERSION!$O$81,\"\")","v":0},{"$f":"IFERROR([6]INVERSION!$P$81,\"\")","v":0},{"$f":"IFERROR([6]INVERSION!$Q$81,\"\")","v":0},{"$f":"IFERROR([6]INVERSION!$R$81,\"\")","v":0},{"$f":"IFERROR([6]INVERSION!$S$81,\"\")","v":"00:00:00"},{"$f":"IFERROR([6]INVERSION!$T$81,\"\")","v":"00:00:00"},{"$f":"IFERROR([6]INVERSION!$U$81,\"\")","v":0},{"$f":"IFERROR([6]INVERSION!$V$81,\"\")","v":0},{"$f":"IFERROR([6]INVERSION!$W$81,\"\")","v":0},{"$f":"IFERROR([6]INVERSION!$X$81,\"\")","v":0},{"$f":"IFERROR([6]INVERSION!$Y$81,\"\")","v":0}]
[null,null,null,null,null,null,{"$f":"IFERROR([6]INVERSION!$G$82,\"\")","v":0},{"$f":"IFERROR([6]INVERSION!$H$82,\"\")","v":0},{"$f":"IFERROR([6]INVERSION!$I$82,\"\")","v":0},{"$f":"IFERROR([6]INVERSION!$J$82,\"\")","v":0},{"$f":"IFERROR([6]INVERSION!$K$82,\"\")","v":0},{"$f":"IFERROR([6]INVERSION!$L$82,\"\")","v":0},{"$f":"IFERROR([6]INVERSION!$M$82,\"\")","v":0},{"$f":"IFERROR([6]INVERSION!$N$82,\"\")","v":0},{"$f":"IFERROR([6]INVERSION!$O$82,\"\")","v":0},{"$f":"IFERROR([6]INVERSION!$P$82,\"\")","v":0},{"$f":"IFERROR([6]INVERSION!$Q$82,\"\")","v":0},{"$f":"IFERROR([6]INVERSION!$R$82,\"\")","v":0},{"$f":"IFERROR([6]INVERSION!$S$82,\"\")","v":"00:00:00"},{"$f":"IFERROR([6]INVERSION!$T$82,\"\")","v":"00:00:00"},{"$f":"IFERROR([6]INVERSION!$U$82,\"\")","v":0},{"$f":"IFERROR([6]INVERSION!$V$82,\"\")","v":0},{"$f":"IFERROR([6]INVERSION!$W$82,\"\")","v":0},{"$f":"IFERROR([6]INVERSION!$X$82,\"\")","v":0},{"$f":"IFERROR([6]INVERSION!$Y$82,\"\")","v":0}]
[null,null,null,null,null,null,{"$f":"IFERROR([6]INVERSION!$G$83,\"\")","v":0},{"$f":"IFERROR([6]INVERSION!$H$83,\"\")","v":0},{"$f":"IFERROR([6]INVERSION!$I$83,\"\")","v":0},{"$f":"IFERROR([6]INVERSION!$J$83,\"\")","v":0},{"$f":"IFERROR([6]INVERSION!$K$83,\"\")","v":0},{"$f":"IFERROR([6]INVERSION!$L$83,\"\")","v":0},{"$f":"IFERROR([6]INVERSION!$M$83,\"\")","v":0},{"$f":"IFERROR([6]INVERSION!$N$83,\"\")","v":0},{"$f":"IFERROR([6]INVERSION!$O$83,\"\")","v":0},{"$f":"IFERROR([6]INVERSION!$P$83,\"\")","v":0},{"$f":"IFERROR([6]INVERSION!$Q$83,\"\")","v":0},{"$f":"IFERROR([6]INVERSION!$R$83,\"\")","v":0},{"$f":"IFERROR([6]INVERSION!$S$83,\"\")","v":"00:00:00"},{"$f":"IFERROR([6]INVERSION!$T$83,\"\")","v":"00:00:00"},{"$f":"IFERROR([6]INVERSION!$U$83,\"\")","v":0},{"$f":"IFERROR([6]INVERSION!$V$83,\"\")","v":0},{"$f":"IFERROR([6]INVERSION!$W$83,\"\")","v":0},{"$f":"IFERROR([6]INVERSION!$X$83,\"\")","v":0},{"$f":"IFERROR([6]INVERSION!$Y$83,\"\")","v":0},null,null,null,"","",null,0]
[null,null,null,null,null,null,{"$f":"IFERROR([6]INVERSION!$G$84,\"\")","v":0},{"$f":"IFERROR([6]INVERSION!$H$84,\"\")","v":0},{"$f":"IFERROR([6]INVERSION!$I$84,\"\")","v":0},{"$f":"IFERROR([6]INVERSION!$J$84,\"\")","v":0},{"$f":"IFERROR([6]INVERSION!$K$84,\"\")","v":0},{"$f":"IFERROR([6]INVERSION!$L$84,\"\")","v":0},{"$f":"IFERROR([6]INVERSION!$M$84,\"\")","v":0},{"$f":"IFERROR([6]INVERSION!$N$84,\"\")","v":0},{"$f":"IFERROR([6]INVERSION!$O$84,\"\")","v":0},{"$f":"IFERROR([6]INVERSION!$P$84,\"\")","v":0},{"$f":"IFERROR([6]INVERSION!$Q$84,\"\")","v":0},{"$f":"IFERROR([6]INVERSION!$R$84,\"\")","v":0},{"$f":"IFERROR([6]INVERSION!$S$84,\"\")","v":"00:00:00"},{"$f":"IFERROR([6]INVERSION!$T$84,\"\")","v":"00:00:00"},{"$f":"IFERROR([6]INVERSION!$U$84,\"\")","v":0},{"$f":"IFERROR([6]INVERSION!$V$84,\"\")","v":0},{"$f":"IFERROR([6]INVERSION!$W$84,\"\")","v":0},{"$f":"IFERROR([6]INVERSION!$X$84,\"\")","v":0},{"$f":"IFERROR([6]INVERSION!$Y$84,\"\")","v":0},null,null,null,"","",null,0]
[null,null,null,null,null,null,{"$f":"IFERROR([6]INVERSION!$G$85,\"\")","v":0},{"$f":"IFERROR([6]INVERSION!$H$85,\"\")","v":0},{"$f":"IFERROR([6]INVERSION!$I$85,\"\")","v":0},{"$f":"IFERROR([6]INVERSION!$J$85,\"\")","v":0},{"$f":"IFERROR([6]INVERSION!$K$85,\"\")","v":0},{"$f":"IFERROR([6]INVERSION!$L$85,\"\")","v":0},{"$f":"IFERROR([6]INVERSION!$M$85,\"\")","v":0},{"$f":"IFERROR([6]INVERSION!$N$85,\"\")","v":0},{"$f":"IFERROR([6]INVERSION!$O$85,\"\")","v":0},{"$f":"IFERROR([6]INVERSION!$P$85,\"\")","v":0},{"$f":"IFERROR([6]INVERSION!$Q$85,\"\")","v":0},{"$f":"IFERROR([6]INVERSION!$R$85,\"\")","v":0},{"$f":"IFERROR([6]INVERSION!$S$85,\"\")","v":"00:00:00"},{"$f":"IFERROR([6]INVERSION!$T$85,\"\")","v":"00:00:00"},{"$f":"IFERROR([6]INVERSION!$U$85,\"\")","v":0},{"$f":"IFERROR([6]INVERSION!$V$85,\"\")","v":0},{"$f":"IFERROR([6]INVERSION!$W$85,\"\")","v":0},{"$f":"IFERROR([6]INVERSION!$X$85,\"\")","v":0},{"$f":"IFERROR([6]INVERSION!$Y$85,\"\")","v":0},null,null,null,"","",null,0]
[null,null,"4.Consolidar la cultura y apropiación de la transformación digital en los servidores y usuarios de los servicios de la Rama Judicial y reducir brechas de acceso y conocimiento, incluyendo la oferta efectiva de información sobre el uso de las nuevas herramientas virtuales implementadas en las diferentes jurisdicciones, con especial énfasis en las zonas del país donde es evidente la brecha digital.","Cobertura de infraestructura y conectividad consolidada","# de sedes con infraestruct ura y conectivida d consolidada s/Número total de sedes",null,{"$f":"IFERROR([6]INVERSION!$G$86,\"\")","v":0},{"$f":"IFERROR([6]INVERSION!$H$86,\"\")","v":0},{"$f":"IFERROR([6]INVERSION!$I$86,\"\")","v":0},{"$f":"IFERROR([6]INVERSION!$J$86,\"\")","v":0},{"$f":"IFERROR([6]INVERSION!$K$86,\"\")","v":0},{"$f":"IFERROR([6]INVERSION!$L$86,\"\")","v":0},{"$f":"IFERROR([6]INVERSION!$M$86,\"\")","v":0},{"$f":"IFERROR([6]INVERSION!$N$86,\"\")","v":0},{"$f":"IFERROR([6]INVERSION!$O$86,\"\")","v":0},{"$f":"IFERROR([6]INVERSION!$P$86,\"\")","v":0},{"$f":"IFERROR([6]INVERSION!$Q$86,\"\")","v":0},{"$f":"IFERROR([6]INVERSION!$R$86,\"\")","v":0},{"$f":"IFERROR([6]INVERSION!$S$86,\"\")","v":"00:00:00"},{"$f":"IFERROR([6]INVERSION!$T$86,\"\")","v":"00:00:00"},{"$f":"IFERROR([6]INVERSION!$U$86,\"\")","v":0},{"$f":"IFERROR([6]INVERSION!$V$86,\"\")","v":0},{"$f":"IFERROR([6]INVERSION!$W$86,\"\")","v":0},{"$f":"IFERROR([6]INVERSION!$X$86,\"\")","v":0},{"$f":"IFERROR([6]INVERSION!$Y$86,\"\")","v":0},null,null,null,"","",null,0]
[null,null,null,null,null,null,{"$f":"IFERROR([6]INVERSION!$G$87,\"\")","v":0},{"$f":"IFERROR([6]INVERSION!$H$87,\"\")","v":0},{"$f":"IFERROR([6]INVERSION!$I$87,\"\")","v":0},{"$f":"IFERROR([6]INVERSION!$J$87,\"\")","v":0},{"$f":"IFERROR([6]INVERSION!$K$87,\"\")","v":0},{"$f":"IFERROR([6]INVERSION!$L$87,\"\")","v":0},{"$f":"IFERROR([6]INVERSION!$M$87,\"\")","v":0},{"$f":"IFERROR([6]INVERSION!$N$87,\"\")","v":0},{"$f":"IFERROR([6]INVERSION!$O$87,\"\")","v":0},{"$f":"IFERROR([6]INVERSION!$P$87,\"\")","v":0},{"$f":"IFERROR([6]INVERSION!$Q$87,\"\")","v":0},{"$f":"IFERROR([6]INVERSION!$R$87,\"\")","v":0},{"$f":"IFERROR([6]INVERSION!$S$87,\"\")","v":"00:00:00"},{"$f":"IFERROR([6]INVERSION!$T$87,\"\")","v":"00:00:00"},{"$f":"IFERROR([6]INVERSION!$U$87,\"\")","v":0},{"$f":"IFERROR([6]INVERSION!$V$87,\"\")","v":0},{"$f":"IFERROR([6]INVERSION!$W$87,\"\")","v":0},{"$f":"IFERROR([6]INVERSION!$X$87,\"\")","v":0},{"$f":"IFERROR([6]INVERSION!$Y$87,\"\")","v":0},null,null,null,"","",null,0]
[null,null,null,null,null,null,{"$f":"IFERROR([6]INVERSION!$G$88,\"\")","v":0},{"$f":"IFERROR([6]INVERSION!$H$88,\"\")","v":0},{"$f":"IFERROR([6]INVERSION!$I$88,\"\")","v":0},{"$f":"IFERROR([6]INVERSION!$J$88,\"\")","v":0},{"$f":"IFERROR([6]INVERSION!$K$88,\"\")","v":0},{"$f":"IFERROR([6]INVERSION!$L$88,\"\")","v":0},{"$f":"IFERROR([6]INVERSION!$M$88,\"\")","v":0},{"$f":"IFERROR([6]INVERSION!$N$88,\"\")","v":0},{"$f":"IFERROR([6]INVERSION!$O$88,\"\")","v":0},{"$f":"IFERROR([6]INVERSION!$P$88,\"\")","v":0},{"$f":"IFERROR([6]INVERSION!$Q$88,\"\")","v":0},{"$f":"IFERROR([6]INVERSION!$R$88,\"\")","v":0},{"$f":"IFERROR([6]INVERSION!$S$88,\"\")","v":"00:00:00"},{"$f":"IFERROR([6]INVERSION!$T$88,\"\")","v":"00:00:00"},{"$f":"IFERROR([6]INVERSION!$U$88,\"\")","v":0},{"$f":"IFERROR([6]INVERSION!$V$88,\"\")","v":0},{"$f":"IFERROR([6]INVERSION!$W$88,\"\")","v":0},{"$f":"IFERROR([6]INVERSION!$X$88,\"\")","v":0},{"$f":"IFERROR([6]INVERSION!$Y$88,\"\")","v":0}]
[null,null,null,null,null,null,{"$f":"IFERROR([6]INVERSION!$G$89,\"\")","v":0},{"$f":"IFERROR([6]INVERSION!$H$89,\"\")","v":0},{"$f":"IFERROR([6]INVERSION!$I$89,\"\")","v":0},{"$f":"IFERROR([6]INVERSION!$J$89,\"\")","v":0},{"$f":"IFERROR([6]INVERSION!$K$89,\"\")","v":0},{"$f":"IFERROR([6]INVERSION!$L$89,\"\")","v":0},{"$f":"IFERROR([6]INVERSION!$M$89,\"\")","v":0},{"$f":"IFERROR([6]INVERSION!$N$89,\"\")","v":0},{"$f":"IFERROR([6]INVERSION!$O$89,\"\")","v":0},{"$f":"IFERROR([6]INVERSION!$P$89,\"\")","v":0},{"$f":"IFERROR([6]INVERSION!$Q$89,\"\")","v":0},{"$f":"IFERROR([6]INVERSION!$R$89,\"\")","v":0},{"$f":"IFERROR([6]INVERSION!$S$89,\"\")","v":"00:00:00"},{"$f":"IFERROR([6]INVERSION!$T$89,\"\")","v":"00:00:00"},{"$f":"IFERROR([6]INVERSION!$U$89,\"\")","v":0},{"$f":"IFERROR([6]INVERSION!$V$89,\"\")","v":0},{"$f":"IFERROR([6]INVERSION!$W$89,\"\")","v":0},{"$f":"IFERROR([6]INVERSION!$X$89,\"\")","v":0},{"$f":"IFERROR([6]INVERSION!$Y$89,\"\")","v":0}]
[null,null,null,null,null,null,{"$f":"IFERROR([6]INVERSION!$G$90,\"\")","v":0},{"$f":"IFERROR([6]INVERSION!$H$90,\"\")","v":0},{"$f":"IFERROR([6]INVERSION!$I$90,\"\")","v":0},{"$f":"IFERROR([6]INVERSION!$J$90,\"\")","v":0},{"$f":"IFERROR([6]INVERSION!$K$90,\"\")","v":0},{"$f":"IFERROR([6]INVERSION!$L$90,\"\")","v":0},{"$f":"IFERROR([6]INVERSION!$M$90,\"\")","v":0},{"$f":"IFERROR([6]INVERSION!$N$90,\"\")","v":0},{"$f":"IFERROR([6]INVERSION!$O$90,\"\")","v":0},{"$f":"IFERROR([6]INVERSION!$P$90,\"\")","v":0},{"$f":"IFERROR([6]INVERSION!$Q$90,\"\")","v":0},{"$f":"IFERROR([6]INVERSION!$R$90,\"\")","v":0},{"$f":"IFERROR([6]INVERSION!$S$90,\"\")","v":"00:00:00"},{"$f":"IFERROR([6]INVERSION!$T$90,\"\")","v":"00:00:00"},{"$f":"IFERROR([6]INVERSION!$U$90,\"\")","v":0},{"$f":"IFERROR([6]INVERSION!$V$90,\"\")","v":0},{"$f":"IFERROR([6]INVERSION!$W$90,\"\")","v":0},{"$f":"IFERROR([6]INVERSION!$X$90,\"\")","v":0},{"$f":"IFERROR([6]INVERSION!$Y$90,\"\")","v":0}]
[null,null,null,null,null,null,{"$f":"IFERROR([6]INVERSION!$G$91,\"\")","v":0},{"$f":"IFERROR([6]INVERSION!$H$91,\"\")","v":0},{"$f":"IFERROR([6]INVERSION!$I$91,\"\")","v":0},{"$f":"IFERROR([6]INVERSION!$J$91,\"\")","v":0},{"$f":"IFERROR([6]INVERSION!$K$91,\"\")","v":0},{"$f":"IFERROR([6]INVERSION!$L$91,\"\")","v":0},{"$f":"IFERROR([6]INVERSION!$M$91,\"\")","v":0},{"$f":"IFERROR([6]INVERSION!$N$91,\"\")","v":0},{"$f":"IFERROR([6]INVERSION!$O$91,\"\")","v":0},{"$f":"IFERROR([6]INVERSION!$P$91,\"\")","v":0},{"$f":"IFERROR([6]INVERSION!$Q$91,\"\")","v":0},{"$f":"IFERROR([6]INVERSION!$R$91,\"\")","v":0},{"$f":"IFERROR([6]INVERSION!$S$91,\"\")","v":"00:00:00"},{"$f":"IFERROR([6]INVERSION!$T$91,\"\")","v":"00:00:00"},{"$f":"IFERROR([6]INVERSION!$U$91,\"\")","v":0},{"$f":"IFERROR([6]INVERSION!$V$91,\"\")","v":0},{"$f":"IFERROR([6]INVERSION!$W$91,\"\")","v":0},{"$f":"IFERROR([6]INVERSION!$X$91,\"\")","v":0},{"$f":"IFERROR([6]INVERSION!$Y$91,\"\")","v":0}]
[null,null,null,null,null,null,{"$f":"IFERROR([6]INVERSION!$G$92,\"\")","v":0},{"$f":"IFERROR([6]INVERSION!$H$92,\"\")","v":0},{"$f":"IFERROR([6]INVERSION!$I$92,\"\")","v":0},{"$f":"IFERROR([6]INVERSION!$J$92,\"\")","v":0},{"$f":"IFERROR([6]INVERSION!$K$92,\"\")","v":0},{"$f":"IFERROR([6]INVERSION!$L$92,\"\")","v":0},{"$f":"IFERROR([6]INVERSION!$M$92,\"\")","v":0},{"$f":"IFERROR([6]INVERSION!$N$92,\"\")","v":0},{"$f":"IFERROR([6]INVERSION!$O$92,\"\")","v":0},{"$f":"IFERROR([6]INVERSION!$P$92,\"\")","v":0},{"$f":"IFERROR([6]INVERSION!$Q$92,\"\")","v":0},{"$f":"IFERROR([6]INVERSION!$R$92,\"\")","v":0},{"$f":"IFERROR([6]INVERSION!$S$92,\"\")","v":"00:00:00"},{"$f":"IFERROR([6]INVERSION!$T$92,\"\")","v":"00:00:00"},{"$f":"IFERROR([6]INVERSION!$U$92,\"\")","v":0},{"$f":"IFERROR([6]INVERSION!$V$92,\"\")","v":0},{"$f":"IFERROR([6]INVERSION!$W$92,\"\")","v":0},{"$f":"IFERROR([6]INVERSION!$X$92,\"\")","v":0},{"$f":"IFERROR([6]INVERSION!$Y$92,\"\")","v":0}]
[null,null,null,null,null,null,{"$f":"IFERROR([6]INVERSION!$G$93,\"\")","v":0},{"$f":"IFERROR([6]INVERSION!$H$93,\"\")","v":0},{"$f":"IFERROR([6]INVERSION!$I$93,\"\")","v":0},{"$f":"IFERROR([6]INVERSION!$J$93,\"\")","v":0},{"$f":"IFERROR([6]INVERSION!$K$93,\"\")","v":0},{"$f":"IFERROR([6]INVERSION!$L$93,\"\")","v":0},{"$f":"IFERROR([6]INVERSION!$M$93,\"\")","v":0},{"$f":"IFERROR([6]INVERSION!$N$93,\"\")","v":0},{"$f":"IFERROR([6]INVERSION!$O$93,\"\")","v":0},{"$f":"IFERROR([6]INVERSION!$P$93,\"\")","v":0},{"$f":"IFERROR([6]INVERSION!$Q$93,\"\")","v":0},{"$f":"IFERROR([6]INVERSION!$R$93,\"\")","v":0},{"$f":"IFERROR([6]INVERSION!$S$93,\"\")","v":"00:00:00"},{"$f":"IFERROR([6]INVERSION!$T$93,\"\")","v":"00:00:00"},{"$f":"IFERROR([6]INVERSION!$U$93,\"\")","v":0},{"$f":"IFERROR([6]INVERSION!$V$93,\"\")","v":0},{"$f":"IFERROR([6]INVERSION!$W$93,\"\")","v":0},{"$f":"IFERROR([6]INVERSION!$X$93,\"\")","v":0},{"$f":"IFERROR([6]INVERSION!$Y$93,\"\")","v":0},null,null,null,"","",null,0]
[null,null,null,null,null,null,{"$f":"IFERROR([6]INVERSION!$G$94,\"\")","v":0},{"$f":"IFERROR([6]INVERSION!$H$94,\"\")","v":0},{"$f":"IFERROR([6]INVERSION!$I$94,\"\")","v":0},{"$f":"IFERROR([6]INVERSION!$J$94,\"\")","v":0},{"$f":"IFERROR([6]INVERSION!$K$94,\"\")","v":0},{"$f":"IFERROR([6]INVERSION!$L$94,\"\")","v":0},{"$f":"IFERROR([6]INVERSION!$M$94,\"\")","v":0},{"$f":"IFERROR([6]INVERSION!$N$94,\"\")","v":0},{"$f":"IFERROR([6]INVERSION!$O$94,\"\")","v":0},{"$f":"IFERROR([6]INVERSION!$P$94,\"\")","v":0},{"$f":"IFERROR([6]INVERSION!$Q$94,\"\")","v":0},{"$f":"IFERROR([6]INVERSION!$R$94,\"\")","v":0},{"$f":"IFERROR([6]INVERSION!$S$94,\"\")","v":"00:00:00"},{"$f":"IFERROR([6]INVERSION!$T$94,\"\")","v":"00:00:00"},{"$f":"IFERROR([6]INVERSION!$U$94,\"\")","v":0},{"$f":"IFERROR([6]INVERSION!$V$94,\"\")","v":0},{"$f":"IFERROR([6]INVERSION!$W$94,\"\")","v":0},{"$f":"IFERROR([6]INVERSION!$X$94,\"\")","v":0},{"$f":"IFERROR([6]INVERSION!$Y$94,\"\")","v":0},null,null,null,"","",null,0]
[null,null,null,null,null,null,{"$f":"IFERROR([6]INVERSION!$G$95,\"\")","v":0},{"$f":"IFERROR([6]INVERSION!$H$95,\"\")","v":0},{"$f":"IFERROR([6]INVERSION!$I$95,\"\")","v":0},{"$f":"IFERROR([6]INVERSION!$J$95,\"\")","v":0},{"$f":"IFERROR([6]INVERSION!$K$95,\"\")","v":0},{"$f":"IFERROR([6]INVERSION!$L$95,\"\")","v":0},{"$f":"IFERROR([6]INVERSION!$M$95,\"\")","v":0},{"$f":"IFERROR([6]INVERSION!$N$95,\"\")","v":0},{"$f":"IFERROR([6]INVERSION!$O$95,\"\")","v":0},{"$f":"IFERROR([6]INVERSION!$P$95,\"\")","v":0},{"$f":"IFERROR([6]INVERSION!$Q$95,\"\")","v":0},{"$f":"IFERROR([6]INVERSION!$R$95,\"\")","v":0},{"$f":"IFERROR([6]INVERSION!$S$95,\"\")","v":"00:00:00"},{"$f":"IFERROR([6]INVERSION!$T$95,\"\")","v":"00:00:00"},{"$f":"IFERROR([6]INVERSION!$U$95,\"\")","v":0},{"$f":"IFERROR([6]INVERSION!$V$95,\"\")","v":0},{"$f":"IFERROR([6]INVERSION!$W$95,\"\")","v":0},{"$f":"IFERROR([6]INVERSION!$X$95,\"\")","v":0},{"$f":"IFERROR([6]INVERSION!$Y$95,\"\")","v":0},null,null,null,"","",null,0]
[null,null,"5.Consolidar la infraestructura y los recursos necesarios para la implementación exitosa de la transformación digital, incluyendo la disposición de internet de calidad en el 100% de las sedes en la Rama Judicial y modernizar los servicios tecnológicos de soporte. ","Implementación del programa de gestión del cambio y las comunicaciones del PETD","# de actividades del objetivo \"aumentar el conocimient o digital y el uso de apropiación de los sistemas\" del programa de gestión del cambio y las comunicaci ones del PETD cumplidas /# de actividades del objetivo \"aumentar el conocimient o digital y el uso de apropiación de los sistemas\" del programa de gestión del cambio y las comunicaci ones del PETD programada s",null,{"$f":"IFERROR([6]INVERSION!$G$96,\"\")","v":0},{"$f":"IFERROR([6]INVERSION!$H$96,\"\")","v":0},{"$f":"IFERROR([6]INVERSION!$I$96,\"\")","v":0},{"$f":"IFERROR([6]INVERSION!$J$96,\"\")","v":0},{"$f":"IFERROR([6]INVERSION!$K$96,\"\")","v":0},{"$f":"IFERROR([6]INVERSION!$L$96,\"\")","v":0},{"$f":"IFERROR([6]INVERSION!$M$96,\"\")","v":0},{"$f":"IFERROR([6]INVERSION!$N$96,\"\")","v":0},{"$f":"IFERROR([6]INVERSION!$O$96,\"\")","v":0},{"$f":"IFERROR([6]INVERSION!$P$96,\"\")","v":0},{"$f":"IFERROR([6]INVERSION!$Q$96,\"\")","v":0},{"$f":"IFERROR([6]INVERSION!$R$96,\"\")","v":0},{"$f":"IFERROR([6]INVERSION!$S$96,\"\")","v":"00:00:00"},{"$f":"IFERROR([6]INVERSION!$T$96,\"\")","v":"00:00:00"},{"$f":"IFERROR([6]INVERSION!$U$96,\"\")","v":0},{"$f":"IFERROR([6]INVERSION!$V$96,\"\")","v":0},{"$f":"IFERROR([6]INVERSION!$W$96,\"\")","v":0},{"$f":"IFERROR([6]INVERSION!$X$96,\"\")","v":0},{"$f":"IFERROR([6]INVERSION!$Y$96,\"\")","v":0},null,null,null,"","",null,0]
[null,null,null,null,null,null,{"$f":"IFERROR([6]INVERSION!$G$97,\"\")","v":0},{"$f":"IFERROR([6]INVERSION!$H$97,\"\")","v":0},{"$f":"IFERROR([6]INVERSION!$I$97,\"\")","v":0},{"$f":"IFERROR([6]INVERSION!$J$97,\"\")","v":0},{"$f":"IFERROR([6]INVERSION!$K$97,\"\")","v":0},{"$f":"IFERROR([6]INVERSION!$L$97,\"\")","v":0},{"$f":"IFERROR([6]INVERSION!$M$97,\"\")","v":0},{"$f":"IFERROR([6]INVERSION!$N$97,\"\")","v":0},{"$f":"IFERROR([6]INVERSION!$O$97,\"\")","v":0},{"$f":"IFERROR([6]INVERSION!$P$97,\"\")","v":0},{"$f":"IFERROR([6]INVERSION!$Q$97,\"\")","v":0},{"$f":"IFERROR([6]INVERSION!$R$97,\"\")","v":0},{"$f":"IFERROR([6]INVERSION!$S$97,\"\")","v":"00:00:00"},{"$f":"IFERROR([6]INVERSION!$T$97,\"\")","v":"00:00:00"},{"$f":"IFERROR([6]INVERSION!$U$97,\"\")","v":0},{"$f":"IFERROR([6]INVERSION!$V$97,\"\")","v":0},{"$f":"IFERROR([6]INVERSION!$W$97,\"\")","v":0},{"$f":"IFERROR([6]INVERSION!$X$97,\"\")","v":0},{"$f":"IFERROR([6]INVERSION!$Y$97,\"\")","v":0},null,null,null,"","",null,0]
[null,null,null,null,null,null,{"$f":"IFERROR([6]INVERSION!$G$98,\"\")","v":0},{"$f":"IFERROR([6]INVERSION!$H$98,\"\")","v":0},{"$f":"IFERROR([6]INVERSION!$I$98,\"\")","v":0},{"$f":"IFERROR([6]INVERSION!$J$98,\"\")","v":0},{"$f":"IFERROR([6]INVERSION!$K$98,\"\")","v":0},{"$f":"IFERROR([6]INVERSION!$L$98,\"\")","v":0},{"$f":"IFERROR([6]INVERSION!$M$98,\"\")","v":0},{"$f":"IFERROR([6]INVERSION!$N$98,\"\")","v":0},{"$f":"IFERROR([6]INVERSION!$O$98,\"\")","v":0},{"$f":"IFERROR([6]INVERSION!$P$98,\"\")","v":0},{"$f":"IFERROR([6]INVERSION!$Q$98,\"\")","v":0},{"$f":"IFERROR([6]INVERSION!$R$98,\"\")","v":0},{"$f":"IFERROR([6]INVERSION!$S$98,\"\")","v":"00:00:00"},{"$f":"IFERROR([6]INVERSION!$T$98,\"\")","v":"00:00:00"},{"$f":"IFERROR([6]INVERSION!$U$98,\"\")","v":0},{"$f":"IFERROR([6]INVERSION!$V$98,\"\")","v":0},{"$f":"IFERROR([6]INVERSION!$W$98,\"\")","v":0},{"$f":"IFERROR([6]INVERSION!$X$98,\"\")","v":0},{"$f":"IFERROR([6]INVERSION!$Y$98,\"\")","v":0}]
[null,null,null,null,null,null,{"$f":"IFERROR([6]INVERSION!$G$99,\"\")","v":0},{"$f":"IFERROR([6]INVERSION!$H$99,\"\")","v":0},{"$f":"IFERROR([6]INVERSION!$I$99,\"\")","v":0},{"$f":"IFERROR([6]INVERSION!$J$99,\"\")","v":0},{"$f":"IFERROR([6]INVERSION!$K$99,\"\")","v":0},{"$f":"IFERROR([6]INVERSION!$L$99,\"\")","v":0},{"$f":"IFERROR([6]INVERSION!$M$99,\"\")","v":0},{"$f":"IFERROR([6]INVERSION!$N$99,\"\")","v":0},{"$f":"IFERROR([6]INVERSION!$O$99,\"\")","v":0},{"$f":"IFERROR([6]INVERSION!$P$99,\"\")","v":0},{"$f":"IFERROR([6]INVERSION!$Q$99,\"\")","v":0},{"$f":"IFERROR([6]INVERSION!$R$99,\"\")","v":0},{"$f":"IFERROR([6]INVERSION!$S$99,\"\")","v":"00:00:00"},{"$f":"IFERROR([6]INVERSION!$T$99,\"\")","v":"00:00:00"},{"$f":"IFERROR([6]INVERSION!$U$99,\"\")","v":0},{"$f":"IFERROR([6]INVERSION!$V$99,\"\")","v":0},{"$f":"IFERROR([6]INVERSION!$W$99,\"\")","v":0},{"$f":"IFERROR([6]INVERSION!$X$99,\"\")","v":0},{"$f":"IFERROR([6]INVERSION!$Y$99,\"\")","v":0}]
[null,null,null,null,null,null,{"$f":"IFERROR([6]INVERSION!$G$100,\"\")","v":0},{"$f":"IFERROR([6]INVERSION!$H$100,\"\")","v":0},{"$f":"IFERROR([6]INVERSION!$I$100,\"\")","v":0},{"$f":"IFERROR([6]INVERSION!$J$100,\"\")","v":0},{"$f":"IFERROR([6]INVERSION!$K$100,\"\")","v":0},{"$f":"IFERROR([6]INVERSION!$L$100,\"\")","v":0},{"$f":"IFERROR([6]INVERSION!$M$100,\"\")","v":0},{"$f":"IFERROR([6]INVERSION!$N$100,\"\")","v":0},{"$f":"IFERROR([6]INVERSION!$O$100,\"\")","v":0},{"$f":"IFERROR([6]INVERSION!$P$100,\"\")","v":0},{"$f":"IFERROR([6]INVERSION!$Q$100,\"\")","v":0},{"$f":"IFERROR([6]INVERSION!$R$100,\"\")","v":0},{"$f":"IFERROR([6]INVERSION!$S$100,\"\")","v":"00:00:00"},{"$f":"IFERROR([6]INVERSION!$T$100,\"\")","v":"00:00:00"},{"$f":"IFERROR([6]INVERSION!$U$100,\"\")","v":0},{"$f":"IFERROR([6]INVERSION!$V$100,\"\")","v":0},{"$f":"IFERROR([6]INVERSION!$W$100,\"\")","v":0},{"$f":"IFERROR([6]INVERSION!$X$100,\"\")","v":0},{"$f":"IFERROR([6]INVERSION!$Y$100,\"\")","v":0}]
[null,null,null,null,null,null,{"$f":"IFERROR([6]INVERSION!$G$101,\"\")","v":0},{"$f":"IFERROR([6]INVERSION!$H$101,\"\")","v":0},{"$f":"IFERROR([6]INVERSION!$I$101,\"\")","v":0},{"$f":"IFERROR([6]INVERSION!$J$101,\"\")","v":0},{"$f":"IFERROR([6]INVERSION!$K$101,\"\")","v":0},{"$f":"IFERROR([6]INVERSION!$L$101,\"\")","v":0},{"$f":"IFERROR([6]INVERSION!$M$101,\"\")","v":0},{"$f":"IFERROR([6]INVERSION!$N$101,\"\")","v":0},{"$f":"IFERROR([6]INVERSION!$O$101,\"\")","v":0},{"$f":"IFERROR([6]INVERSION!$P$101,\"\")","v":0},{"$f":"IFERROR([6]INVERSION!$Q$101,\"\")","v":0},{"$f":"IFERROR([6]INVERSION!$R$101,\"\")","v":0},{"$f":"IFERROR([6]INVERSION!$S$101,\"\")","v":"00:00:00"},{"$f":"IFERROR([6]INVERSION!$T$101,\"\")","v":"00:00:00"},{"$f":"IFERROR([6]INVERSION!$U$101,\"\")","v":0},{"$f":"IFERROR([6]INVERSION!$V$101,\"\")","v":0},{"$f":"IFERROR([6]INVERSION!$W$101,\"\")","v":0},{"$f":"IFERROR([6]INVERSION!$X$101,\"\")","v":0},{"$f":"IFERROR([6]INVERSION!$Y$101,\"\")","v":0}]
[null,null,null,null,null,null,{"$f":"IFERROR([6]INVERSION!$G$102,\"\")","v":0},{"$f":"IFERROR([6]INVERSION!$H$102,\"\")","v":0},{"$f":"IFERROR([6]INVERSION!$I$102,\"\")","v":0},{"$f":"IFERROR([6]INVERSION!$J$102,\"\")","v":0},{"$f":"IFERROR([6]INVERSION!$K$102,\"\")","v":0},{"$f":"IFERROR([6]INVERSION!$L$102,\"\")","v":0},{"$f":"IFERROR([6]INVERSION!$M$102,\"\")","v":0},{"$f":"IFERROR([6]INVERSION!$N$102,\"\")","v":0},{"$f":"IFERROR([6]INVERSION!$O$102,\"\")","v":0},{"$f":"IFERROR([6]INVERSION!$P$102,\"\")","v":0},{"$f":"IFERROR([6]INVERSION!$Q$102,\"\")","v":0},{"$f":"IFERROR([6]INVERSION!$R$102,\"\")","v":0},{"$f":"IFERROR([6]INVERSION!$S$102,\"\")","v":"00:00:00"},{"$f":"IFERROR([6]INVERSION!$T$102,\"\")","v":"00:00:00"},{"$f":"IFERROR([6]INVERSION!$U$102,\"\")","v":0},{"$f":"IFERROR([6]INVERSION!$V$102,\"\")","v":0},{"$f":"IFERROR([6]INVERSION!$W$102,\"\")","v":0},{"$f":"IFERROR([6]INVERSION!$X$102,\"\")","v":0},{"$f":"IFERROR([6]INVERSION!$Y$102,\"\")","v":0}]
[null,null,null,null,null,null,{"$f":"IFERROR([6]INVERSION!$G$103,\"\")","v":0},{"$f":"IFERROR([6]INVERSION!$H$103,\"\")","v":0},{"$f":"IFERROR([6]INVERSION!$I$103,\"\")","v":0},{"$f":"IFERROR([6]INVERSION!$J$103,\"\")","v":0},{"$f":"IFERROR([6]INVERSION!$K$103,\"\")","v":0},{"$f":"IFERROR([6]INVERSION!$L$103,\"\")","v":0},{"$f":"IFERROR([6]INVERSION!$M$103,\"\")","v":0},{"$f":"IFERROR([6]INVERSION!$N$103,\"\")","v":0},{"$f":"IFERROR([6]INVERSION!$O$103,\"\")","v":0},{"$f":"IFERROR([6]INVERSION!$P$103,\"\")","v":0},{"$f":"IFERROR([6]INVERSION!$Q$103,\"\")","v":0},{"$f":"IFERROR([6]INVERSION!$R$103,\"\")","v":0},{"$f":"IFERROR([6]INVERSION!$S$103,\"\")","v":"00:00:00"},{"$f":"IFERROR([6]INVERSION!$T$103,\"\")","v":"00:00:00"},{"$f":"IFERROR([6]INVERSION!$U$103,\"\")","v":0},{"$f":"IFERROR([6]INVERSION!$V$103,\"\")","v":0},{"$f":"IFERROR([6]INVERSION!$W$103,\"\")","v":0},{"$f":"IFERROR([6]INVERSION!$X$103,\"\")","v":0},{"$f":"IFERROR([6]INVERSION!$Y$103,\"\")","v":0},null,null,null,"","",null,0]
[null,null,null,null,null,null,{"$f":"IFERROR([6]INVERSION!$G$104,\"\")","v":0},{"$f":"IFERROR([6]INVERSION!$H$104,\"\")","v":0},{"$f":"IFERROR([6]INVERSION!$I$104,\"\")","v":0},{"$f":"IFERROR([6]INVERSION!$J$104,\"\")","v":0},{"$f":"IFERROR([6]INVERSION!$K$104,\"\")","v":0},{"$f":"IFERROR([6]INVERSION!$L$104,\"\")","v":0},{"$f":"IFERROR([6]INVERSION!$M$104,\"\")","v":0},{"$f":"IFERROR([6]INVERSION!$N$104,\"\")","v":0},{"$f":"IFERROR([6]INVERSION!$O$104,\"\")","v":0},{"$f":"IFERROR([6]INVERSION!$P$104,\"\")","v":0},{"$f":"IFERROR([6]INVERSION!$Q$104,\"\")","v":0},{"$f":"IFERROR([6]INVERSION!$R$104,\"\")","v":0},{"$f":"IFERROR([6]INVERSION!$S$104,\"\")","v":"00:00:00"},{"$f":"IFERROR([6]INVERSION!$T$104,\"\")","v":"00:00:00"},{"$f":"IFERROR([6]INVERSION!$U$104,\"\")","v":0},{"$f":"IFERROR([6]INVERSION!$V$104,\"\")","v":0},{"$f":"IFERROR([6]INVERSION!$W$104,\"\")","v":0},{"$f":"IFERROR([6]INVERSION!$X$104,\"\")","v":0},{"$f":"IFERROR([6]INVERSION!$Y$104,\"\")","v":0},null,null,null,"","",null,0]
[null,null,null,null,null,null,{"$f":"IFERROR([6]INVERSION!$G$105,\"\")","v":0},{"$f":"IFERROR([6]INVERSION!$H$105,\"\")","v":0},{"$f":"IFERROR([6]INVERSION!$I$105,\"\")","v":0},{"$f":"IFERROR([6]INVERSION!$J$105,\"\")","v":0},{"$f":"IFERROR([6]INVERSION!$K$105,\"\")","v":0},{"$f":"IFERROR([6]INVERSION!$L$105,\"\")","v":0},{"$f":"IFERROR([6]INVERSION!$M$105,\"\")","v":0},{"$f":"IFERROR([6]INVERSION!$N$105,\"\")","v":0},{"$f":"IFERROR([6]INVERSION!$O$105,\"\")","v":0},{"$f":"IFERROR([6]INVERSION!$P$105,\"\")","v":0},{"$f":"IFERROR([6]INVERSION!$Q$105,\"\")","v":0},{"$f":"IFERROR([6]INVERSION!$R$105,\"\")","v":0},{"$f":"IFERROR([6]INVERSION!$S$105,\"\")","v":"00:00:00"},{"$f":"IFERROR([6]INVERSION!$T$105,\"\")","v":"00:00:00"},{"$f":"IFERROR([6]INVERSION!$U$105,\"\")","v":0},{"$f":"IFERROR([6]INVERSION!$V$105,\"\")","v":0},{"$f":"IFERROR([6]INVERSION!$W$105,\"\")","v":0},{"$f":"IFERROR([6]INVERSION!$X$105,\"\")","v":0},{"$f":"IFERROR([6]INVERSION!$Y$105,\"\")","v":0},null,null,null,"","",null,0]
[null,null,"6.Integrar y optimizar los servicios administrativos de la Rama Judicial bajo un enfoque de transformación digital e innovación incluyendo los componentes financiero, administrativo, talento humano, entre otros.",null,null,null,{"$f":"IFERROR([6]INVERSION!$G$106,\"\")","v":0},{"$f":"IFERROR([6]INVERSION!$H$106,\"\")","v":0},{"$f":"IFERROR([6]INVERSION!$I$106,\"\")","v":0},{"$f":"IFERROR([6]INVERSION!$J$106,\"\")","v":0},{"$f":"IFERROR([6]INVERSION!$K$106,\"\")","v":0},{"$f":"IFERROR([6]INVERSION!$L$106,\"\")","v":0},{"$f":"IFERROR([6]INVERSION!$M$106,\"\")","v":0},{"$f":"IFERROR([6]INVERSION!$N$106,\"\")","v":0},{"$f":"IFERROR([6]INVERSION!$O$106,\"\")","v":0},{"$f":"IFERROR([6]INVERSION!$P$106,\"\")","v":0},{"$f":"IFERROR([6]INVERSION!$Q$106,\"\")","v":0},{"$f":"IFERROR([6]INVERSION!$R$106,\"\")","v":0},{"$f":"IFERROR([6]INVERSION!$S$106,\"\")","v":"00:00:00"},{"$f":"IFERROR([6]INVERSION!$T$106,\"\")","v":"00:00:00"},{"$f":"IFERROR([6]INVERSION!$U$106,\"\")","v":0},{"$f":"IFERROR([6]INVERSION!$V$106,\"\")","v":0},{"$f":"IFERROR([6]INVERSION!$W$106,\"\")","v":0},{"$f":"IFERROR([6]INVERSION!$X$106,\"\")","v":0},{"$f":"IFERROR([6]INVERSION!$Y$106,\"\")","v":0},null,null,null,"","",null,0]
[null,null,null,null,null,null,{"$f":"IFERROR([6]INVERSION!$G$107,\"\")","v":0},{"$f":"IFERROR([6]INVERSION!$H$107,\"\")","v":0},{"$f":"IFERROR([6]INVERSION!$I$107,\"\")","v":0},{"$f":"IFERROR([6]INVERSION!$J$107,\"\")","v":0},{"$f":"IFERROR([6]INVERSION!$K$107,\"\")","v":0},{"$f":"IFERROR([6]INVERSION!$L$107,\"\")","v":0},{"$f":"IFERROR([6]INVERSION!$M$107,\"\")","v":0},{"$f":"IFERROR([6]INVERSION!$N$107,\"\")","v":0},{"$f":"IFERROR([6]INVERSION!$O$107,\"\")","v":0},{"$f":"IFERROR([6]INVERSION!$P$107,\"\")","v":0},{"$f":"IFERROR([6]INVERSION!$Q$107,\"\")","v":0},{"$f":"IFERROR([6]INVERSION!$R$107,\"\")","v":0},{"$f":"IFERROR([6]INVERSION!$S$107,\"\")","v":"00:00:00"},{"$f":"IFERROR([6]INVERSION!$T$107,\"\")","v":"00:00:00"},{"$f":"IFERROR([6]INVERSION!$U$107,\"\")","v":0},{"$f":"IFERROR([6]INVERSION!$V$107,\"\")","v":0},{"$f":"IFERROR([6]INVERSION!$W$107,\"\")","v":0},{"$f":"IFERROR([6]INVERSION!$X$107,\"\")","v":0},{"$f":"IFERROR([6]INVERSION!$Y$107,\"\")","v":0},null,null,null,"","",null,0]
[null,null,null,null,null,null,{"$f":"IFERROR([6]INVERSION!$G$108,\"\")","v":0},{"$f":"IFERROR([6]INVERSION!$H$108,\"\")","v":0},{"$f":"IFERROR([6]INVERSION!$I$108,\"\")","v":0},{"$f":"IFERROR([6]INVERSION!$J$108,\"\")","v":0},{"$f":"IFERROR([6]INVERSION!$K$108,\"\")","v":0},{"$f":"IFERROR([6]INVERSION!$L$108,\"\")","v":0},{"$f":"IFERROR([6]INVERSION!$M$108,\"\")","v":0},{"$f":"IFERROR([6]INVERSION!$N$108,\"\")","v":0},{"$f":"IFERROR([6]INVERSION!$O$108,\"\")","v":0},{"$f":"IFERROR([6]INVERSION!$P$108,\"\")","v":0},{"$f":"IFERROR([6]INVERSION!$Q$108,\"\")","v":0},{"$f":"IFERROR([6]INVERSION!$R$108,\"\")","v":0},{"$f":"IFERROR([6]INVERSION!$S$108,\"\")","v":"00:00:00"},{"$f":"IFERROR([6]INVERSION!$T$108,\"\")","v":"00:00:00"},{"$f":"IFERROR([6]INVERSION!$U$108,\"\")","v":0},{"$f":"IFERROR([6]INVERSION!$V$108,\"\")","v":0},{"$f":"IFERROR([6]INVERSION!$W$108,\"\")","v":0},{"$f":"IFERROR([6]INVERSION!$X$108,\"\")","v":0},{"$f":"IFERROR([6]INVERSION!$Y$108,\"\")","v":0}]
[null,null,null,null,null,null,{"$f":"IFERROR([6]INVERSION!$G$109,\"\")","v":0},{"$f":"IFERROR([6]INVERSION!$H$109,\"\")","v":0},{"$f":"IFERROR([6]INVERSION!$I$109,\"\")","v":0},{"$f":"IFERROR([6]INVERSION!$J$109,\"\")","v":0},{"$f":"IFERROR([6]INVERSION!$K$109,\"\")","v":0},{"$f":"IFERROR([6]INVERSION!$L$109,\"\")","v":0},{"$f":"IFERROR([6]INVERSION!$M$109,\"\")","v":0},{"$f":"IFERROR([6]INVERSION!$N$109,\"\")","v":0},{"$f":"IFERROR([6]INVERSION!$O$109,\"\")","v":0},{"$f":"IFERROR([6]INVERSION!$P$109,\"\")","v":0},{"$f":"IFERROR([6]INVERSION!$Q$109,\"\")","v":0},{"$f":"IFERROR([6]INVERSION!$R$109,\"\")","v":0},{"$f":"IFERROR([6]INVERSION!$S$109,\"\")","v":"00:00:00"},{"$f":"IFERROR([6]INVERSION!$T$109,\"\")","v":"00:00:00"},{"$f":"IFERROR([6]INVERSION!$U$109,\"\")","v":0},{"$f":"IFERROR([6]INVERSION!$V$109,\"\")","v":0},{"$f":"IFERROR([6]INVERSION!$W$109,\"\")","v":0},{"$f":"IFERROR([6]INVERSION!$X$109,\"\")","v":0},{"$f":"IFERROR([6]INVERSION!$Y$109,\"\")","v":0}]
[null,null,null,null,null,null,{"$f":"IFERROR([6]INVERSION!$G$110,\"\")","v":0},{"$f":"IFERROR([6]INVERSION!$H$110,\"\")","v":0},{"$f":"IFERROR([6]INVERSION!$I$110,\"\")","v":0},{"$f":"IFERROR([6]INVERSION!$J$110,\"\")","v":0},{"$f":"IFERROR([6]INVERSION!$K$110,\"\")","v":0},{"$f":"IFERROR([6]INVERSION!$L$110,\"\")","v":0},{"$f":"IFERROR([6]INVERSION!$M$110,\"\")","v":0},{"$f":"IFERROR([6]INVERSION!$N$110,\"\")","v":0},{"$f":"IFERROR([6]INVERSION!$O$110,\"\")","v":0},{"$f":"IFERROR([6]INVERSION!$P$110,\"\")","v":0},{"$f":"IFERROR([6]INVERSION!$Q$110,\"\")","v":0},{"$f":"IFERROR([6]INVERSION!$R$110,\"\")","v":0},{"$f":"IFERROR([6]INVERSION!$S$110,\"\")","v":"00:00:00"},{"$f":"IFERROR([6]INVERSION!$T$110,\"\")","v":"00:00:00"},{"$f":"IFERROR([6]INVERSION!$U$110,\"\")","v":0},{"$f":"IFERROR([6]INVERSION!$V$110,\"\")","v":0},{"$f":"IFERROR([6]INVERSION!$W$110,\"\")","v":0},{"$f":"IFERROR([6]INVERSION!$X$110,\"\")","v":0},{"$f":"IFERROR([6]INVERSION!$Y$110,\"\")","v":0}]
[null,null,null,null,null,null,{"$f":"IFERROR([6]INVERSION!$G$111,\"\")","v":0},{"$f":"IFERROR([6]INVERSION!$H$111,\"\")","v":0},{"$f":"IFERROR([6]INVERSION!$I$111,\"\")","v":0},{"$f":"IFERROR([6]INVERSION!$J$111,\"\")","v":0},{"$f":"IFERROR([6]INVERSION!$K$111,\"\")","v":0},{"$f":"IFERROR([6]INVERSION!$L$111,\"\")","v":0},{"$f":"IFERROR([6]INVERSION!$M$111,\"\")","v":0},{"$f":"IFERROR([6]INVERSION!$N$111,\"\")","v":0},{"$f":"IFERROR([6]INVERSION!$O$111,\"\")","v":0},{"$f":"IFERROR([6]INVERSION!$P$111,\"\")","v":0},{"$f":"IFERROR([6]INVERSION!$Q$111,\"\")","v":0},{"$f":"IFERROR([6]INVERSION!$R$111,\"\")","v":0},{"$f":"IFERROR([6]INVERSION!$S$111,\"\")","v":"00:00:00"},{"$f":"IFERROR([6]INVERSION!$T$111,\"\")","v":"00:00:00"},{"$f":"IFERROR([6]INVERSION!$U$111,\"\")","v":0},{"$f":"IFERROR([6]INVERSION!$V$111,\"\")","v":0},{"$f":"IFERROR([6]INVERSION!$W$111,\"\")","v":0},{"$f":"IFERROR([6]INVERSION!$X$111,\"\")","v":0},{"$f":"IFERROR([6]INVERSION!$Y$111,\"\")","v":0}]
[null,null,null,null,null,null,{"$f":"IFERROR([6]INVERSION!$G$112,\"\")","v":0},{"$f":"IFERROR([6]INVERSION!$H$112,\"\")","v":0},{"$f":"IFERROR([6]INVERSION!$I$112,\"\")","v":0},{"$f":"IFERROR([6]INVERSION!$J$112,\"\")","v":0},{"$f":"IFERROR([6]INVERSION!$K$112,\"\")","v":0},{"$f":"IFERROR([6]INVERSION!$L$112,\"\")","v":0},{"$f":"IFERROR([6]INVERSION!$M$112,\"\")","v":0},{"$f":"IFERROR([6]INVERSION!$N$112,\"\")","v":0},{"$f":"IFERROR([6]INVERSION!$O$112,\"\")","v":0},{"$f":"IFERROR([6]INVERSION!$P$112,\"\")","v":0},{"$f":"IFERROR([6]INVERSION!$Q$112,\"\")","v":0},{"$f":"IFERROR([6]INVERSION!$R$112,\"\")","v":0},{"$f":"IFERROR([6]INVERSION!$S$112,\"\")","v":"00:00:00"},{"$f":"IFERROR([6]INVERSION!$T$112,\"\")","v":"00:00:00"},{"$f":"IFERROR([6]INVERSION!$U$112,\"\")","v":0},{"$f":"IFERROR([6]INVERSION!$V$112,\"\")","v":0},{"$f":"IFERROR([6]INVERSION!$W$112,\"\")","v":0},{"$f":"IFERROR([6]INVERSION!$X$112,\"\")","v":0},{"$f":"IFERROR([6]INVERSION!$Y$112,\"\")","v":0}]
[null,null,null,null,null,null,{"$f":"IFERROR([6]INVERSION!$G$113,\"\")","v":0},{"$f":"IFERROR([6]INVERSION!$H$113,\"\")","v":0},{"$f":"IFERROR([6]INVERSION!$I$113,\"\")","v":0},{"$f":"IFERROR([6]INVERSION!$J$113,\"\")","v":0},{"$f":"IFERROR([6]INVERSION!$K$113,\"\")","v":0},{"$f":"IFERROR([6]INVERSION!$L$113,\"\")","v":0},{"$f":"IFERROR([6]INVERSION!$M$113,\"\")","v":0},{"$f":"IFERROR([6]INVERSION!$N$113,\"\")","v":0},{"$f":"IFERROR([6]INVERSION!$O$113,\"\")","v":0},{"$f":"IFERROR([6]INVERSION!$P$113,\"\")","v":0},{"$f":"IFERROR([6]INVERSION!$Q$113,\"\")","v":0},{"$f":"IFERROR([6]INVERSION!$R$113,\"\")","v":0},{"$f":"IFERROR([6]INVERSION!$S$113,\"\")","v":"00:00:00"},{"$f":"IFERROR([6]INVERSION!$T$113,\"\")","v":"00:00:00"},{"$f":"IFERROR([6]INVERSION!$U$113,\"\")","v":0},{"$f":"IFERROR([6]INVERSION!$V$113,\"\")","v":0},{"$f":"IFERROR([6]INVERSION!$W$113,\"\")","v":0},{"$f":"IFERROR([6]INVERSION!$X$113,\"\")","v":0},{"$f":"IFERROR([6]INVERSION!$Y$113,\"\")","v":0},null,null,null,"","",null,0]
[null,null,null,null,null,null,{"$f":"IFERROR([6]INVERSION!$G$114,\"\")","v":0},{"$f":"IFERROR([6]INVERSION!$H$114,\"\")","v":0},{"$f":"IFERROR([6]INVERSION!$I$114,\"\")","v":0},{"$f":"IFERROR([6]INVERSION!$J$114,\"\")","v":0},{"$f":"IFERROR([6]INVERSION!$K$114,\"\")","v":0},{"$f":"IFERROR([6]INVERSION!$L$114,\"\")","v":0},{"$f":"IFERROR([6]INVERSION!$M$114,\"\")","v":0},{"$f":"IFERROR([6]INVERSION!$N$114,\"\")","v":0},{"$f":"IFERROR([6]INVERSION!$O$114,\"\")","v":0},{"$f":"IFERROR([6]INVERSION!$P$114,\"\")","v":0},{"$f":"IFERROR([6]INVERSION!$Q$114,\"\")","v":0},{"$f":"IFERROR([6]INVERSION!$R$114,\"\")","v":0},{"$f":"IFERROR([6]INVERSION!$S$114,\"\")","v":"00:00:00"},{"$f":"IFERROR([6]INVERSION!$T$114,\"\")","v":"00:00:00"},{"$f":"IFERROR([6]INVERSION!$U$114,\"\")","v":0},{"$f":"IFERROR([6]INVERSION!$V$114,\"\")","v":0},{"$f":"IFERROR([6]INVERSION!$W$114,\"\")","v":0},{"$f":"IFERROR([6]INVERSION!$X$114,\"\")","v":0},{"$f":"IFERROR([6]INVERSION!$Y$114,\"\")","v":0},null,null,null,"","",null,0]
[null,null,null,null,null,null,{"$f":"IFERROR([6]INVERSION!$G$115,\"\")","v":0},{"$f":"IFERROR([6]INVERSION!$H$115,\"\")","v":0},{"$f":"IFERROR([6]INVERSION!$I$115,\"\")","v":0},{"$f":"IFERROR([6]INVERSION!$J$115,\"\")","v":0},{"$f":"IFERROR([6]INVERSION!$K$115,\"\")","v":0},{"$f":"IFERROR([6]INVERSION!$L$115,\"\")","v":0},{"$f":"IFERROR([6]INVERSION!$M$115,\"\")","v":0},{"$f":"IFERROR([6]INVERSION!$N$115,\"\")","v":0},{"$f":"IFERROR([6]INVERSION!$O$115,\"\")","v":0},{"$f":"IFERROR([6]INVERSION!$P$115,\"\")","v":0},{"$f":"IFERROR([6]INVERSION!$Q$115,\"\")","v":0},{"$f":"IFERROR([6]INVERSION!$R$115,\"\")","v":0},{"$f":"IFERROR([6]INVERSION!$S$115,\"\")","v":"00:00:00"},{"$f":"IFERROR([6]INVERSION!$T$115,\"\")","v":"00:00:00"},{"$f":"IFERROR([6]INVERSION!$U$115,\"\")","v":0},{"$f":"IFERROR([6]INVERSION!$V$115,\"\")","v":0},{"$f":"IFERROR([6]INVERSION!$W$115,\"\")","v":0},{"$f":"IFERROR([6]INVERSION!$X$115,\"\")","v":0},{"$f":"IFERROR([6]INVERSION!$Y$115,\"\")","v":0},null,null,null,"","",null,0]
["3. Confianza pública, transparencia y rendición de cuentas","Confianza pública, transparencia y rendición de cuentas: Aumentar la confianza pública en la justicia a través de la transparencia, la rendición de cuentas y la participación, incluyendo la información de justicia y la producción, gestión y acceso a las fuentes de derecho, el fortalecimiento del sistema de gestión de calidad y medio ambiente (SIGCMA) y el mejoramiento de la calidad y publicidad de la información. ","1. Incrementar la cantidad, la calidad y pertinencia de los datos sobre el funcionamiento del servicio de justicia bajo un modelo de gobierno de datos y un liderazgo unificado. ","Modelo de\ngobierno y calidad de datos implementado","% de implementa ción del modelo de gobierno y calidad de datos","4. Hacer un uso racional de los recursos naturales aplicando los principios y fases de la Economía Circular, para prevenir, mitigar y controlar los impactos ambientales.",{"$f":"IFERROR([6]INVERSION!$G$116,\"\")","v":0},{"$f":"IFERROR([6]INVERSION!$H$116,\"\")","v":0},{"$f":"IFERROR([6]INVERSION!$I$116,\"\")","v":0},{"$f":"IFERROR([6]INVERSION!$J$116,\"\")","v":0},{"$f":"IFERROR([6]INVERSION!$K$116,\"\")","v":0},{"$f":"IFERROR([6]INVERSION!$L$116,\"\")","v":0},{"$f":"IFERROR([6]INVERSION!$M$116,\"\")","v":0},{"$f":"IFERROR([6]INVERSION!$N$116,\"\")","v":0},{"$f":"IFERROR([6]INVERSION!$O$116,\"\")","v":0},{"$f":"IFERROR([6]INVERSION!$P$116,\"\")","v":0},{"$f":"IFERROR([6]INVERSION!$Q$116,\"\")","v":0},{"$f":"IFERROR([6]INVERSION!$R$116,\"\")","v":0},{"$f":"IFERROR([6]INVERSION!$S$116,\"\")","v":"00:00:00"},{"$f":"IFERROR([6]INVERSION!$T$116,\"\")","v":"00:00:00"},{"$f":"IFERROR([6]INVERSION!$U$116,\"\")","v":0},{"$f":"IFERROR([6]INVERSION!$V$116,\"\")","v":0},{"$f":"IFERROR([6]INVERSION!$W$116,\"\")","v":0},{"$f":"IFERROR([6]INVERSION!$X$116,\"\")","v":0},{"$f":"IFERROR([6]INVERSION!$Y$116,\"\")","v":0},null,null,null,"","",null,0]
[null,null,null,null,null,null,{"$f":"IFERROR([6]INVERSION!$G$117,\"\")","v":0},{"$f":"IFERROR([6]INVERSION!$H$117,\"\")","v":0},{"$f":"IFERROR([6]INVERSION!$I$117,\"\")","v":0},{"$f":"IFERROR([6]INVERSION!$J$117,\"\")","v":0},{"$f":"IFERROR([6]INVERSION!$K$117,\"\")","v":0},{"$f":"IFERROR([6]INVERSION!$L$117,\"\")","v":0},{"$f":"IFERROR([6]INVERSION!$M$117,\"\")","v":0},{"$f":"IFERROR([6]INVERSION!$N$117,\"\")","v":0},{"$f":"IFERROR([6]INVERSION!$O$117,\"\")","v":0},{"$f":"IFERROR([6]INVERSION!$P$117,\"\")","v":0},{"$f":"IFERROR([6]INVERSION!$Q$117,\"\")","v":0},{"$f":"IFERROR([6]INVERSION!$R$117,\"\")","v":0},{"$f":"IFERROR([6]INVERSION!$S$117,\"\")","v":"00:00:00"},{"$f":"IFERROR([6]INVERSION!$T$117,\"\")","v":"00:00:00"},{"$f":"IFERROR([6]INVERSION!$U$117,\"\")","v":0},{"$f":"IFERROR([6]INVERSION!$V$117,\"\")","v":0},{"$f":"IFERROR([6]INVERSION!$W$117,\"\")","v":0},{"$f":"IFERROR([6]INVERSION!$X$117,\"\")","v":0},{"$f":"IFERROR([6]INVERSION!$Y$117,\"\")","v":0},null,null,null,"","",null,0]
[null,null,null,null,null,null,{"$f":"IFERROR([6]INVERSION!$G$118,\"\")","v":0},{"$f":"IFERROR([6]INVERSION!$H$118,\"\")","v":0},{"$f":"IFERROR([6]INVERSION!$I$118,\"\")","v":0},{"$f":"IFERROR([6]INVERSION!$J$118,\"\")","v":0},{"$f":"IFERROR([6]INVERSION!$K$118,\"\")","v":0},{"$f":"IFERROR([6]INVERSION!$L$118,\"\")","v":0},{"$f":"IFERROR([6]INVERSION!$M$118,\"\")","v":0},{"$f":"IFERROR([6]INVERSION!$N$118,\"\")","v":0},{"$f":"IFERROR([6]INVERSION!$O$118,\"\")","v":0},{"$f":"IFERROR([6]INVERSION!$P$118,\"\")","v":0},{"$f":"IFERROR([6]INVERSION!$Q$118,\"\")","v":0},{"$f":"IFERROR([6]INVERSION!$R$118,\"\")","v":0},{"$f":"IFERROR([6]INVERSION!$S$118,\"\")","v":"00:00:00"},{"$f":"IFERROR([6]INVERSION!$T$118,\"\")","v":"00:00:00"},{"$f":"IFERROR([6]INVERSION!$U$118,\"\")","v":0},{"$f":"IFERROR([6]INVERSION!$V$118,\"\")","v":0},{"$f":"IFERROR([6]INVERSION!$W$118,\"\")","v":0},{"$f":"IFERROR([6]INVERSION!$X$118,\"\")","v":0},{"$f":"IFERROR([6]INVERSION!$Y$118,\"\")","v":0}]
[null,null,null,null,null,null,{"$f":"IFERROR([6]INVERSION!$G$119,\"\")","v":0},{"$f":"IFERROR([6]INVERSION!$H$119,\"\")","v":0},{"$f":"IFERROR([6]INVERSION!$I$119,\"\")","v":0},{"$f":"IFERROR([6]INVERSION!$J$119,\"\")","v":0},{"$f":"IFERROR([6]INVERSION!$K$119,\"\")","v":0},{"$f":"IFERROR([6]INVERSION!$L$119,\"\")","v":0},{"$f":"IFERROR([6]INVERSION!$M$119,\"\")","v":0},{"$f":"IFERROR([6]INVERSION!$N$119,\"\")","v":0},{"$f":"IFERROR([6]INVERSION!$O$119,\"\")","v":0},{"$f":"IFERROR([6]INVERSION!$P$119,\"\")","v":0},{"$f":"IFERROR([6]INVERSION!$Q$119,\"\")","v":0},{"$f":"IFERROR([6]INVERSION!$R$119,\"\")","v":0},{"$f":"IFERROR([6]INVERSION!$S$119,\"\")","v":"00:00:00"},{"$f":"IFERROR([6]INVERSION!$T$119,\"\")","v":"00:00:00"},{"$f":"IFERROR([6]INVERSION!$U$119,\"\")","v":0},{"$f":"IFERROR([6]INVERSION!$V$119,\"\")","v":0},{"$f":"IFERROR([6]INVERSION!$W$119,\"\")","v":0},{"$f":"IFERROR([6]INVERSION!$X$119,\"\")","v":0},{"$f":"IFERROR([6]INVERSION!$Y$119,\"\")","v":0}]
[null,null,null,null,null,null,{"$f":"IFERROR([6]INVERSION!$G$120,\"\")","v":0},{"$f":"IFERROR([6]INVERSION!$H$120,\"\")","v":0},{"$f":"IFERROR([6]INVERSION!$I$120,\"\")","v":0},{"$f":"IFERROR([6]INVERSION!$J$120,\"\")","v":0},{"$f":"IFERROR([6]INVERSION!$K$120,\"\")","v":0},{"$f":"IFERROR([6]INVERSION!$L$120,\"\")","v":0},{"$f":"IFERROR([6]INVERSION!$M$120,\"\")","v":0},{"$f":"IFERROR([6]INVERSION!$N$120,\"\")","v":0},{"$f":"IFERROR([6]INVERSION!$O$120,\"\")","v":0},{"$f":"IFERROR([6]INVERSION!$P$120,\"\")","v":0},{"$f":"IFERROR([6]INVERSION!$Q$120,\"\")","v":0},{"$f":"IFERROR([6]INVERSION!$R$120,\"\")","v":0},{"$f":"IFERROR([6]INVERSION!$S$120,\"\")","v":"00:00:00"},{"$f":"IFERROR([6]INVERSION!$T$120,\"\")","v":"00:00:00"},{"$f":"IFERROR([6]INVERSION!$U$120,\"\")","v":0},{"$f":"IFERROR([6]INVERSION!$V$120,\"\")","v":0},{"$f":"IFERROR([6]INVERSION!$W$120,\"\")","v":0},{"$f":"IFERROR([6]INVERSION!$X$120,\"\")","v":0},{"$f":"IFERROR([6]INVERSION!$Y$120,\"\")","v":0}]
[null,null,null,null,null,null,{"$f":"IFERROR([6]INVERSION!$G$121,\"\")","v":0},{"$f":"IFERROR([6]INVERSION!$H$121,\"\")","v":0},{"$f":"IFERROR([6]INVERSION!$I$121,\"\")","v":0},{"$f":"IFERROR([6]INVERSION!$J$121,\"\")","v":0},{"$f":"IFERROR([6]INVERSION!$K$121,\"\")","v":0},{"$f":"IFERROR([6]INVERSION!$L$121,\"\")","v":0},{"$f":"IFERROR([6]INVERSION!$M$121,\"\")","v":0},{"$f":"IFERROR([6]INVERSION!$N$121,\"\")","v":0},{"$f":"IFERROR([6]INVERSION!$O$121,\"\")","v":0},{"$f":"IFERROR([6]INVERSION!$P$121,\"\")","v":0},{"$f":"IFERROR([6]INVERSION!$Q$121,\"\")","v":0},{"$f":"IFERROR([6]INVERSION!$R$121,\"\")","v":0},{"$f":"IFERROR([6]INVERSION!$S$121,\"\")","v":"00:00:00"},{"$f":"IFERROR([6]INVERSION!$T$121,\"\")","v":"00:00:00"},{"$f":"IFERROR([6]INVERSION!$U$121,\"\")","v":0},{"$f":"IFERROR([6]INVERSION!$V$121,\"\")","v":0},{"$f":"IFERROR([6]INVERSION!$W$121,\"\")","v":0},{"$f":"IFERROR([6]INVERSION!$X$121,\"\")","v":0},{"$f":"IFERROR([6]INVERSION!$Y$121,\"\")","v":0}]
[null,null,null,null,null,null,{"$f":"IFERROR([6]INVERSION!$G$122,\"\")","v":0},{"$f":"IFERROR([6]INVERSION!$H$122,\"\")","v":0},{"$f":"IFERROR([6]INVERSION!$I$122,\"\")","v":0},{"$f":"IFERROR([6]INVERSION!$J$122,\"\")","v":0},{"$f":"IFERROR([6]INVERSION!$K$122,\"\")","v":0},{"$f":"IFERROR([6]INVERSION!$L$122,\"\")","v":0},{"$f":"IFERROR([6]INVERSION!$M$122,\"\")","v":0},{"$f":"IFERROR([6]INVERSION!$N$122,\"\")","v":0},{"$f":"IFERROR([6]INVERSION!$O$122,\"\")","v":0},{"$f":"IFERROR([6]INVERSION!$P$122,\"\")","v":0},{"$f":"IFERROR([6]INVERSION!$Q$122,\"\")","v":0},{"$f":"IFERROR([6]INVERSION!$R$122,\"\")","v":0},{"$f":"IFERROR([6]INVERSION!$S$122,\"\")","v":"00:00:00"},{"$f":"IFERROR([6]INVERSION!$T$122,\"\")","v":"00:00:00"},{"$f":"IFERROR([6]INVERSION!$U$122,\"\")","v":0},{"$f":"IFERROR([6]INVERSION!$V$122,\"\")","v":0},{"$f":"IFERROR([6]INVERSION!$W$122,\"\")","v":0},{"$f":"IFERROR([6]INVERSION!$X$122,\"\")","v":0},{"$f":"IFERROR([6]INVERSION!$Y$122,\"\")","v":0}]
[null,null,null,null,null,null,{"$f":"IFERROR([6]INVERSION!$G$123,\"\")","v":0},{"$f":"IFERROR([6]INVERSION!$H$123,\"\")","v":0},{"$f":"IFERROR([6]INVERSION!$I$123,\"\")","v":0},{"$f":"IFERROR([6]INVERSION!$J$123,\"\")","v":0},{"$f":"IFERROR([6]INVERSION!$K$123,\"\")","v":0},{"$f":"IFERROR([6]INVERSION!$L$123,\"\")","v":0},{"$f":"IFERROR([6]INVERSION!$M$123,\"\")","v":0},{"$f":"IFERROR([6]INVERSION!$N$123,\"\")","v":0},{"$f":"IFERROR([6]INVERSION!$O$123,\"\")","v":0},{"$f":"IFERROR([6]INVERSION!$P$123,\"\")","v":0},{"$f":"IFERROR([6]INVERSION!$Q$123,\"\")","v":0},{"$f":"IFERROR([6]INVERSION!$R$123,\"\")","v":0},{"$f":"IFERROR([6]INVERSION!$S$123,\"\")","v":"00:00:00"},{"$f":"IFERROR([6]INVERSION!$T$123,\"\")","v":"00:00:00"},{"$f":"IFERROR([6]INVERSION!$U$123,\"\")","v":0},{"$f":"IFERROR([6]INVERSION!$V$123,\"\")","v":0},{"$f":"IFERROR([6]INVERSION!$W$123,\"\")","v":0},{"$f":"IFERROR([6]INVERSION!$X$123,\"\")","v":0},{"$f":"IFERROR([6]INVERSION!$Y$123,\"\")","v":0},null,null,null,"","",null,0]
[null,null,null,null,null,null,{"$f":"IFERROR([6]INVERSION!$G$124,\"\")","v":0},{"$f":"IFERROR([6]INVERSION!$H$124,\"\")","v":0},{"$f":"IFERROR([6]INVERSION!$I$124,\"\")","v":0},{"$f":"IFERROR([6]INVERSION!$J$124,\"\")","v":0},{"$f":"IFERROR([6]INVERSION!$K$124,\"\")","v":0},{"$f":"IFERROR([6]INVERSION!$L$124,\"\")","v":0},{"$f":"IFERROR([6]INVERSION!$M$124,\"\")","v":0},{"$f":"IFERROR([6]INVERSION!$N$124,\"\")","v":0},{"$f":"IFERROR([6]INVERSION!$O$124,\"\")","v":0},{"$f":"IFERROR([6]INVERSION!$P$124,\"\")","v":0},{"$f":"IFERROR([6]INVERSION!$Q$124,\"\")","v":0},{"$f":"IFERROR([6]INVERSION!$R$124,\"\")","v":0},{"$f":"IFERROR([6]INVERSION!$S$124,\"\")","v":"00:00:00"},{"$f":"IFERROR([6]INVERSION!$T$124,\"\")","v":"00:00:00"},{"$f":"IFERROR([6]INVERSION!$U$124,\"\")","v":0},{"$f":"IFERROR([6]INVERSION!$V$124,\"\")","v":0},{"$f":"IFERROR([6]INVERSION!$W$124,\"\")","v":0},{"$f":"IFERROR([6]INVERSION!$X$124,\"\")","v":0},{"$f":"IFERROR([6]INVERSION!$Y$124,\"\")","v":0},null,null,null,"","",null,0]
[null,null,null,null,null,null,{"$f":"IFERROR([6]INVERSION!$G$125,\"\")","v":0},{"$f":"IFERROR([6]INVERSION!$H$125,\"\")","v":0},{"$f":"IFERROR([6]INVERSION!$I$125,\"\")","v":0},{"$f":"IFERROR([6]INVERSION!$J$125,\"\")","v":0},{"$f":"IFERROR([6]INVERSION!$K$125,\"\")","v":0},{"$f":"IFERROR([6]INVERSION!$L$125,\"\")","v":0},{"$f":"IFERROR([6]INVERSION!$M$125,\"\")","v":0},{"$f":"IFERROR([6]INVERSION!$N$125,\"\")","v":0},{"$f":"IFERROR([6]INVERSION!$O$125,\"\")","v":0},{"$f":"IFERROR([6]INVERSION!$P$125,\"\")","v":0},{"$f":"IFERROR([6]INVERSION!$Q$125,\"\")","v":0},{"$f":"IFERROR([6]INVERSION!$R$125,\"\")","v":0},{"$f":"IFERROR([6]INVERSION!$S$125,\"\")","v":"00:00:00"},{"$f":"IFERROR([6]INVERSION!$T$125,\"\")","v":"00:00:00"},{"$f":"IFERROR([6]INVERSION!$U$125,\"\")","v":0},{"$f":"IFERROR([6]INVERSION!$V$125,\"\")","v":0},{"$f":"IFERROR([6]INVERSION!$W$125,\"\")","v":0},{"$f":"IFERROR([6]INVERSION!$X$125,\"\")","v":0},{"$f":"IFERROR([6]INVERSION!$Y$125,\"\")","v":0},null,null,null,"","",null,0]
[null,null,"2. Consolidar la administración de la información entendida como todas las acciones rientadas a garantizar el acceso, consulta, uso y conservación de la información de justicia de manera ágil, flexible e inteligente, bajo un enfoque de innovación.","Modelo de producción, acceso, consulta y conservación del conocimiento jurídico","% de implementa ción del modelo de producción, acceso, consulta y conservació n del conocimient o jurídico",null,{"$f":"IFERROR([6]INVERSION!$G$126,\"\")","v":0},{"$f":"IFERROR([6]INVERSION!$H$126,\"\")","v":0},{"$f":"IFERROR([6]INVERSION!$I$126,\"\")","v":0},{"$f":"IFERROR([6]INVERSION!$J$126,\"\")","v":0},{"$f":"IFERROR([6]INVERSION!$K$126,\"\")","v":0},{"$f":"IFERROR([6]INVERSION!$L$126,\"\")","v":0},{"$f":"IFERROR([6]INVERSION!$M$126,\"\")","v":0},{"$f":"IFERROR([6]INVERSION!$N$126,\"\")","v":0},{"$f":"IFERROR([6]INVERSION!$O$126,\"\")","v":0},{"$f":"IFERROR([6]INVERSION!$P$126,\"\")","v":0},{"$f":"IFERROR([6]INVERSION!$Q$126,\"\")","v":0},{"$f":"IFERROR([6]INVERSION!$R$126,\"\")","v":0},{"$f":"IFERROR([6]INVERSION!$S$126,\"\")","v":"00:00:00"},{"$f":"IFERROR([6]INVERSION!$T$126,\"\")","v":"00:00:00"},{"$f":"IFERROR([6]INVERSION!$U$126,\"\")","v":0},{"$f":"IFERROR([6]INVERSION!$V$126,\"\")","v":0},{"$f":"IFERROR([6]INVERSION!$W$126,\"\")","v":0},{"$f":"IFERROR([6]INVERSION!$X$126,\"\")","v":0},{"$f":"IFERROR([6]INVERSION!$Y$126,\"\")","v":0},null,null,null,"","",null,0]
[null,null,null,null,null,null,{"$f":"IFERROR([6]INVERSION!$G$127,\"\")","v":0},{"$f":"IFERROR([6]INVERSION!$H$127,\"\")","v":0},{"$f":"IFERROR([6]INVERSION!$I$127,\"\")","v":0},{"$f":"IFERROR([6]INVERSION!$J$127,\"\")","v":0},{"$f":"IFERROR([6]INVERSION!$K$127,\"\")","v":0},{"$f":"IFERROR([6]INVERSION!$L$127,\"\")","v":0},{"$f":"IFERROR([6]INVERSION!$M$127,\"\")","v":0},{"$f":"IFERROR([6]INVERSION!$N$127,\"\")","v":0},{"$f":"IFERROR([6]INVERSION!$O$127,\"\")","v":0},{"$f":"IFERROR([6]INVERSION!$P$127,\"\")","v":0},{"$f":"IFERROR([6]INVERSION!$Q$127,\"\")","v":0},{"$f":"IFERROR([6]INVERSION!$R$127,\"\")","v":0},{"$f":"IFERROR([6]INVERSION!$S$127,\"\")","v":"00:00:00"},{"$f":"IFERROR([6]INVERSION!$T$127,\"\")","v":"00:00:00"},{"$f":"IFERROR([6]INVERSION!$U$127,\"\")","v":0},{"$f":"IFERROR([6]INVERSION!$V$127,\"\")","v":0},{"$f":"IFERROR([6]INVERSION!$W$127,\"\")","v":0},{"$f":"IFERROR([6]INVERSION!$X$127,\"\")","v":0},{"$f":"IFERROR([6]INVERSION!$Y$127,\"\")","v":0},null,null,null,"","",null,0]
[null,null,null,null,null,null,{"$f":"IFERROR([6]INVERSION!$G$128,\"\")","v":0},{"$f":"IFERROR([6]INVERSION!$H$128,\"\")","v":0},{"$f":"IFERROR([6]INVERSION!$I$128,\"\")","v":0},{"$f":"IFERROR([6]INVERSION!$J$128,\"\")","v":0},{"$f":"IFERROR([6]INVERSION!$K$128,\"\")","v":0},{"$f":"IFERROR([6]INVERSION!$L$128,\"\")","v":0},{"$f":"IFERROR([6]INVERSION!$M$128,\"\")","v":0},{"$f":"IFERROR([6]INVERSION!$N$128,\"\")","v":0},{"$f":"IFERROR([6]INVERSION!$O$128,\"\")","v":0},{"$f":"IFERROR([6]INVERSION!$P$128,\"\")","v":0},{"$f":"IFERROR([6]INVERSION!$Q$128,\"\")","v":0},{"$f":"IFERROR([6]INVERSION!$R$128,\"\")","v":0},{"$f":"IFERROR([6]INVERSION!$S$128,\"\")","v":"00:00:00"},{"$f":"IFERROR([6]INVERSION!$T$128,\"\")","v":"00:00:00"},{"$f":"IFERROR([6]INVERSION!$U$128,\"\")","v":0},{"$f":"IFERROR([6]INVERSION!$V$128,\"\")","v":0},{"$f":"IFERROR([6]INVERSION!$W$128,\"\")","v":0},{"$f":"IFERROR([6]INVERSION!$X$128,\"\")","v":0},{"$f":"IFERROR([6]INVERSION!$Y$128,\"\")","v":0}]
[null,null,null,null,null,null,{"$f":"IFERROR([6]INVERSION!$G$129,\"\")","v":0},{"$f":"IFERROR([6]INVERSION!$H$129,\"\")","v":0},{"$f":"IFERROR([6]INVERSION!$I$129,\"\")","v":0},{"$f":"IFERROR([6]INVERSION!$J$129,\"\")","v":0},{"$f":"IFERROR([6]INVERSION!$K$129,\"\")","v":0},{"$f":"IFERROR([6]INVERSION!$L$129,\"\")","v":0},{"$f":"IFERROR([6]INVERSION!$M$129,\"\")","v":0},{"$f":"IFERROR([6]INVERSION!$N$129,\"\")","v":0},{"$f":"IFERROR([6]INVERSION!$O$129,\"\")","v":0},{"$f":"IFERROR([6]INVERSION!$P$129,\"\")","v":0},{"$f":"IFERROR([6]INVERSION!$Q$129,\"\")","v":0},{"$f":"IFERROR([6]INVERSION!$R$129,\"\")","v":0},{"$f":"IFERROR([6]INVERSION!$S$129,\"\")","v":"00:00:00"},{"$f":"IFERROR([6]INVERSION!$T$129,\"\")","v":"00:00:00"},{"$f":"IFERROR([6]INVERSION!$U$129,\"\")","v":0},{"$f":"IFERROR([6]INVERSION!$V$129,\"\")","v":0},{"$f":"IFERROR([6]INVERSION!$W$129,\"\")","v":0},{"$f":"IFERROR([6]INVERSION!$X$129,\"\")","v":0},{"$f":"IFERROR([6]INVERSION!$Y$129,\"\")","v":0}]
[null,null,null,null,null,null,{"$f":"IFERROR([6]INVERSION!$G$130,\"\")","v":0},{"$f":"IFERROR([6]INVERSION!$H$130,\"\")","v":0},{"$f":"IFERROR([6]INVERSION!$I$130,\"\")","v":0},{"$f":"IFERROR([6]INVERSION!$J$130,\"\")","v":0},{"$f":"IFERROR([6]INVERSION!$K$130,\"\")","v":0},{"$f":"IFERROR([6]INVERSION!$L$130,\"\")","v":0},{"$f":"IFERROR([6]INVERSION!$M$130,\"\")","v":0},{"$f":"IFERROR([6]INVERSION!$N$130,\"\")","v":0},{"$f":"IFERROR([6]INVERSION!$O$130,\"\")","v":0},{"$f":"IFERROR([6]INVERSION!$P$130,\"\")","v":0},{"$f":"IFERROR([6]INVERSION!$Q$130,\"\")","v":0},{"$f":"IFERROR([6]INVERSION!$R$130,\"\")","v":0},{"$f":"IFERROR([6]INVERSION!$S$130,\"\")","v":"00:00:00"},{"$f":"IFERROR([6]INVERSION!$T$130,\"\")","v":"00:00:00"},{"$f":"IFERROR([6]INVERSION!$U$130,\"\")","v":0},{"$f":"IFERROR([6]INVERSION!$V$130,\"\")","v":0},{"$f":"IFERROR([6]INVERSION!$W$130,\"\")","v":0},{"$f":"IFERROR([6]INVERSION!$X$130,\"\")","v":0},{"$f":"IFERROR([6]INVERSION!$Y$130,\"\")","v":0}]
[null,null,null,null,null,null,{"$f":"IFERROR([6]INVERSION!$G$131,\"\")","v":0},{"$f":"IFERROR([6]INVERSION!$H$131,\"\")","v":0},{"$f":"IFERROR([6]INVERSION!$I$131,\"\")","v":0},{"$f":"IFERROR([6]INVERSION!$J$131,\"\")","v":0},{"$f":"IFERROR([6]INVERSION!$K$131,\"\")","v":0},{"$f":"IFERROR([6]INVERSION!$L$131,\"\")","v":0},{"$f":"IFERROR([6]INVERSION!$M$131,\"\")","v":0},{"$f":"IFERROR([6]INVERSION!$N$131,\"\")","v":0},{"$f":"IFERROR([6]INVERSION!$O$131,\"\")","v":0},{"$f":"IFERROR([6]INVERSION!$P$131,\"\")","v":0},{"$f":"IFERROR([6]INVERSION!$Q$131,\"\")","v":0},{"$f":"IFERROR([6]INVERSION!$R$131,\"\")","v":0},{"$f":"IFERROR([6]INVERSION!$S$131,\"\")","v":"00:00:00"},{"$f":"IFERROR([6]INVERSION!$T$131,\"\")","v":"00:00:00"},{"$f":"IFERROR([6]INVERSION!$U$131,\"\")","v":0},{"$f":"IFERROR([6]INVERSION!$V$131,\"\")","v":0},{"$f":"IFERROR([6]INVERSION!$W$131,\"\")","v":0},{"$f":"IFERROR([6]INVERSION!$X$131,\"\")","v":0},{"$f":"IFERROR([6]INVERSION!$Y$131,\"\")","v":0}]
[null,null,null,null,null,null,{"$f":"IFERROR([6]INVERSION!$G$132,\"\")","v":0},{"$f":"IFERROR([6]INVERSION!$H$132,\"\")","v":0},{"$f":"IFERROR([6]INVERSION!$I$132,\"\")","v":0},{"$f":"IFERROR([6]INVERSION!$J$132,\"\")","v":0},{"$f":"IFERROR([6]INVERSION!$K$132,\"\")","v":0},{"$f":"IFERROR([6]INVERSION!$L$132,\"\")","v":0},{"$f":"IFERROR([6]INVERSION!$M$132,\"\")","v":0},{"$f":"IFERROR([6]INVERSION!$N$132,\"\")","v":0},{"$f":"IFERROR([6]INVERSION!$O$132,\"\")","v":0},{"$f":"IFERROR([6]INVERSION!$P$132,\"\")","v":0},{"$f":"IFERROR([6]INVERSION!$Q$132,\"\")","v":0},{"$f":"IFERROR([6]INVERSION!$R$132,\"\")","v":0},{"$f":"IFERROR([6]INVERSION!$S$132,\"\")","v":"00:00:00"},{"$f":"IFERROR([6]INVERSION!$T$132,\"\")","v":"00:00:00"},{"$f":"IFERROR([6]INVERSION!$U$132,\"\")","v":0},{"$f":"IFERROR([6]INVERSION!$V$132,\"\")","v":0},{"$f":"IFERROR([6]INVERSION!$W$132,\"\")","v":0},{"$f":"IFERROR([6]INVERSION!$X$132,\"\")","v":0},{"$f":"IFERROR([6]INVERSION!$Y$132,\"\")","v":0}]
[null,null,null,null,null,null,{"$f":"IFERROR([6]INVERSION!$G$133,\"\")","v":0},{"$f":"IFERROR([6]INVERSION!$H$133,\"\")","v":0},{"$f":"IFERROR([6]INVERSION!$I$133,\"\")","v":0},{"$f":"IFERROR([6]INVERSION!$J$133,\"\")","v":0},{"$f":"IFERROR([6]INVERSION!$K$133,\"\")","v":0},{"$f":"IFERROR([6]INVERSION!$L$133,\"\")","v":0},{"$f":"IFERROR([6]INVERSION!$M$133,\"\")","v":0},{"$f":"IFERROR([6]INVERSION!$N$133,\"\")","v":0},{"$f":"IFERROR([6]INVERSION!$O$133,\"\")","v":0},{"$f":"IFERROR([6]INVERSION!$P$133,\"\")","v":0},{"$f":"IFERROR([6]INVERSION!$Q$133,\"\")","v":0},{"$f":"IFERROR([6]INVERSION!$R$133,\"\")","v":0},{"$f":"IFERROR([6]INVERSION!$S$133,\"\")","v":"00:00:00"},{"$f":"IFERROR([6]INVERSION!$T$133,\"\")","v":"00:00:00"},{"$f":"IFERROR([6]INVERSION!$U$133,\"\")","v":0},{"$f":"IFERROR([6]INVERSION!$V$133,\"\")","v":0},{"$f":"IFERROR([6]INVERSION!$W$133,\"\")","v":0},{"$f":"IFERROR([6]INVERSION!$X$133,\"\")","v":0},{"$f":"IFERROR([6]INVERSION!$Y$133,\"\")","v":0},null,null,null,"","",null,0]
[null,null,null,null,null,null,{"$f":"IFERROR([6]INVERSION!$G$134,\"\")","v":0},{"$f":"IFERROR([6]INVERSION!$H$134,\"\")","v":0},{"$f":"IFERROR([6]INVERSION!$I$134,\"\")","v":0},{"$f":"IFERROR([6]INVERSION!$J$134,\"\")","v":0},{"$f":"IFERROR([6]INVERSION!$K$134,\"\")","v":0},{"$f":"IFERROR([6]INVERSION!$L$134,\"\")","v":0},{"$f":"IFERROR([6]INVERSION!$M$134,\"\")","v":0},{"$f":"IFERROR([6]INVERSION!$N$134,\"\")","v":0},{"$f":"IFERROR([6]INVERSION!$O$134,\"\")","v":0},{"$f":"IFERROR([6]INVERSION!$P$134,\"\")","v":0},{"$f":"IFERROR([6]INVERSION!$Q$134,\"\")","v":0},{"$f":"IFERROR([6]INVERSION!$R$134,\"\")","v":0},{"$f":"IFERROR([6]INVERSION!$S$134,\"\")","v":"00:00:00"},{"$f":"IFERROR([6]INVERSION!$T$134,\"\")","v":"00:00:00"},{"$f":"IFERROR([6]INVERSION!$U$134,\"\")","v":0},{"$f":"IFERROR([6]INVERSION!$V$134,\"\")","v":0},{"$f":"IFERROR([6]INVERSION!$W$134,\"\")","v":0},{"$f":"IFERROR([6]INVERSION!$X$134,\"\")","v":0},{"$f":"IFERROR([6]INVERSION!$Y$134,\"\")","v":0},null,null,null,"","",null,0]
[null,null,null,null,null,null,{"$f":"IFERROR([6]INVERSION!$G$135,\"\")","v":0},{"$f":"IFERROR([6]INVERSION!$H$135,\"\")","v":0},{"$f":"IFERROR([6]INVERSION!$I$135,\"\")","v":0},{"$f":"IFERROR([6]INVERSION!$J$135,\"\")","v":0},{"$f":"IFERROR([6]INVERSION!$K$135,\"\")","v":0},{"$f":"IFERROR([6]INVERSION!$L$135,\"\")","v":0},{"$f":"IFERROR([6]INVERSION!$M$135,\"\")","v":0},{"$f":"IFERROR([6]INVERSION!$N$135,\"\")","v":0},{"$f":"IFERROR([6]INVERSION!$O$135,\"\")","v":0},{"$f":"IFERROR([6]INVERSION!$P$135,\"\")","v":0},{"$f":"IFERROR([6]INVERSION!$Q$135,\"\")","v":0},{"$f":"IFERROR([6]INVERSION!$R$135,\"\")","v":0},{"$f":"IFERROR([6]INVERSION!$S$135,\"\")","v":"00:00:00"},{"$f":"IFERROR([6]INVERSION!$T$135,\"\")","v":"00:00:00"},{"$f":"IFERROR([6]INVERSION!$U$135,\"\")","v":0},{"$f":"IFERROR([6]INVERSION!$V$135,\"\")","v":0},{"$f":"IFERROR([6]INVERSION!$W$135,\"\")","v":0},{"$f":"IFERROR([6]INVERSION!$X$135,\"\")","v":0},{"$f":"IFERROR([6]INVERSION!$Y$135,\"\")","v":0},null,null,null,"","",null,0]
[null,null,"3. Fortalecer el Sistema integrado de Gestión de la Rama, orientado a la implementación y certificación de las normas antisoborno.","Certificación del Sistema Integrado de Gestión de la Rama en norma antisoborno","# de dependenci as judiciales y administrati vas certificadas en norma antisoborno /# total de despachos certificados en calidad","1. Gestionar el desarrollo de las competencias, la toma de conciencia , la cultura  organizacional  y el compromiso de los  servidores judiciales, contratistas, practicantes y  judicantes de contribuir a generar valor público en la administración de justicia, en el marco de  cumplimiento de los requisitos  aplicables y el comportamiento ético.\n3. Fomentar la transparencia y la participación generando lineamientos y promoviendo la rendición de cuentas ,la consulta, reporte y planteamiento de inquietudes en relación con las decisiones y aspectos del SIGCMA.",{"$f":"IFERROR([6]INVERSION!$G$136,\"\")","v":0},{"$f":"IFERROR([6]INVERSION!$H$136,\"\")","v":0},{"$f":"IFERROR([6]INVERSION!$I$136,\"\")","v":0},{"$f":"IFERROR([6]INVERSION!$J$136,\"\")","v":0},{"$f":"IFERROR([6]INVERSION!$K$136,\"\")","v":0},{"$f":"IFERROR([6]INVERSION!$L$136,\"\")","v":0},{"$f":"IFERROR([6]INVERSION!$M$136,\"\")","v":0},{"$f":"IFERROR([6]INVERSION!$N$136,\"\")","v":0},{"$f":"IFERROR([6]INVERSION!$O$136,\"\")","v":0},{"$f":"IFERROR([6]INVERSION!$P$136,\"\")","v":0},{"$f":"IFERROR([6]INVERSION!$Q$136,\"\")","v":0},{"$f":"IFERROR([6]INVERSION!$R$136,\"\")","v":0},{"$f":"IFERROR([6]INVERSION!$S$136,\"\")","v":"00:00:00"},{"$f":"IFERROR([6]INVERSION!$T$136,\"\")","v":"00:00:00"},{"$f":"IFERROR([6]INVERSION!$U$136,\"\")","v":0},{"$f":"IFERROR([6]INVERSION!$V$136,\"\")","v":0},{"$f":"IFERROR([6]INVERSION!$W$136,\"\")","v":0},{"$f":"IFERROR([6]INVERSION!$X$136,\"\")","v":0},{"$f":"IFERROR([6]INVERSION!$Y$136,\"\")","v":0},null,null,null,"","",null,{"$f":"IFERROR(P136-AB136,\"\")","v":0}]
[null,null,null,null,null,null,{"$f":"IFERROR([6]INVERSION!$G$137,\"\")","v":0},{"$f":"IFERROR([6]INVERSION!$H$137,\"\")","v":0},{"$f":"IFERROR([6]INVERSION!$I$137,\"\")","v":0},{"$f":"IFERROR([6]INVERSION!$J$137,\"\")","v":0},{"$f":"IFERROR([6]INVERSION!$K$137,\"\")","v":0},{"$f":"IFERROR([6]INVERSION!$L$137,\"\")","v":0},{"$f":"IFERROR([6]INVERSION!$M$137,\"\")","v":0},{"$f":"IFERROR([6]INVERSION!$N$137,\"\")","v":0},{"$f":"IFERROR([6]INVERSION!$O$137,\"\")","v":0},{"$f":"IFERROR([6]INVERSION!$P$137,\"\")","v":0},{"$f":"IFERROR([6]INVERSION!$Q$137,\"\")","v":0},{"$f":"IFERROR([6]INVERSION!$R$137,\"\")","v":0},{"$f":"IFERROR([6]INVERSION!$S$137,\"\")","v":"00:00:00"},{"$f":"IFERROR([6]INVERSION!$T$137,\"\")","v":"00:00:00"},{"$f":"IFERROR([6]INVERSION!$U$137,\"\")","v":0},{"$f":"IFERROR([6]INVERSION!$V$137,\"\")","v":0},{"$f":"IFERROR([6]INVERSION!$W$137,\"\")","v":0},{"$f":"IFERROR([6]INVERSION!$X$137,\"\")","v":0},{"$f":"IFERROR([6]INVERSION!$Y$137,\"\")","v":0},null,null,null,{"$f":"IFERROR(AB137/P137,\"\")","v":""},{"$f":"IFERROR(AA137/Y137,\"\")","v":""},null,0]
[null,null,null,null,null,null,{"$f":"IFERROR([6]INVERSION!$G$138,\"\")","v":0},{"$f":"IFERROR([6]INVERSION!$H$138,\"\")","v":0},{"$f":"IFERROR([6]INVERSION!$I$138,\"\")","v":0},{"$f":"IFERROR([6]INVERSION!$J$138,\"\")","v":0},{"$f":"IFERROR([6]INVERSION!$K$138,\"\")","v":0},{"$f":"IFERROR([6]INVERSION!$L$138,\"\")","v":0},{"$f":"IFERROR([6]INVERSION!$M$138,\"\")","v":0},{"$f":"IFERROR([6]INVERSION!$N$138,\"\")","v":0},{"$f":"IFERROR([6]INVERSION!$O$138,\"\")","v":0},{"$f":"IFERROR([6]INVERSION!$P$138,\"\")","v":0},{"$f":"IFERROR([6]INVERSION!$Q$138,\"\")","v":0},{"$f":"IFERROR([6]INVERSION!$R$138,\"\")","v":0},{"$f":"IFERROR([6]INVERSION!$S$138,\"\")","v":"00:00:00"},{"$f":"IFERROR([6]INVERSION!$T$138,\"\")","v":"00:00:00"},{"$f":"IFERROR([6]INVERSION!$U$138,\"\")","v":0},{"$f":"IFERROR([6]INVERSION!$V$138,\"\")","v":0},{"$f":"IFERROR([6]INVERSION!$W$138,\"\")","v":0},{"$f":"IFERROR([6]INVERSION!$X$138,\"\")","v":0},{"$f":"IFERROR([6]INVERSION!$Y$138,\"\")","v":0}]
[null,null,null,null,null,null,{"$f":"IFERROR([6]INVERSION!$G$139,\"\")","v":0},{"$f":"IFERROR([6]INVERSION!$H$139,\"\")","v":0},{"$f":"IFERROR([6]INVERSION!$I$139,\"\")","v":0},{"$f":"IFERROR([6]INVERSION!$J$139,\"\")","v":0},{"$f":"IFERROR([6]INVERSION!$K$139,\"\")","v":0},{"$f":"IFERROR([6]INVERSION!$L$139,\"\")","v":0},{"$f":"IFERROR([6]INVERSION!$M$139,\"\")","v":0},{"$f":"IFERROR([6]INVERSION!$N$139,\"\")","v":0},{"$f":"IFERROR([6]INVERSION!$O$139,\"\")","v":0},{"$f":"IFERROR([6]INVERSION!$P$139,\"\")","v":0},{"$f":"IFERROR([6]INVERSION!$Q$139,\"\")","v":0},{"$f":"IFERROR([6]INVERSION!$R$139,\"\")","v":0},{"$f":"IFERROR([6]INVERSION!$S$139,\"\")","v":"00:00:00"},{"$f":"IFERROR([6]INVERSION!$T$139,\"\")","v":"00:00:00"},{"$f":"IFERROR([6]INVERSION!$U$139,\"\")","v":0},{"$f":"IFERROR([6]INVERSION!$V$139,\"\")","v":0},{"$f":"IFERROR([6]INVERSION!$W$139,\"\")","v":0},{"$f":"IFERROR([6]INVERSION!$X$139,\"\")","v":0},{"$f":"IFERROR([6]INVERSION!$Y$139,\"\")","v":0}]
[null,null,null,null,null,null,{"$f":"IFERROR([6]INVERSION!$G$140,\"\")","v":0},{"$f":"IFERROR([6]INVERSION!$H$140,\"\")","v":0},{"$f":"IFERROR([6]INVERSION!$I$140,\"\")","v":0},{"$f":"IFERROR([6]INVERSION!$J$140,\"\")","v":0},{"$f":"IFERROR([6]INVERSION!$K$140,\"\")","v":0},{"$f":"IFERROR([6]INVERSION!$L$140,\"\")","v":0},{"$f":"IFERROR([6]INVERSION!$M$140,\"\")","v":0},{"$f":"IFERROR([6]INVERSION!$N$140,\"\")","v":0},{"$f":"IFERROR([6]INVERSION!$O$140,\"\")","v":0},{"$f":"IFERROR([6]INVERSION!$P$140,\"\")","v":0},{"$f":"IFERROR([6]INVERSION!$Q$140,\"\")","v":0},{"$f":"IFERROR([6]INVERSION!$R$140,\"\")","v":0},{"$f":"IFERROR([6]INVERSION!$S$140,\"\")","v":"00:00:00"},{"$f":"IFERROR([6]INVERSION!$T$140,\"\")","v":"00:00:00"},{"$f":"IFERROR([6]INVERSION!$U$140,\"\")","v":0},{"$f":"IFERROR([6]INVERSION!$V$140,\"\")","v":0},{"$f":"IFERROR([6]INVERSION!$W$140,\"\")","v":0},{"$f":"IFERROR([6]INVERSION!$X$140,\"\")","v":0},{"$f":"IFERROR([6]INVERSION!$Y$140,\"\")","v":0}]
[null,null,null,null,null,null,{"$f":"IFERROR([6]INVERSION!$G$141,\"\")","v":0},{"$f":"IFERROR([6]INVERSION!$H$141,\"\")","v":0},{"$f":"IFERROR([6]INVERSION!$I$141,\"\")","v":0},{"$f":"IFERROR([6]INVERSION!$J$141,\"\")","v":0},{"$f":"IFERROR([6]INVERSION!$K$141,\"\")","v":0},{"$f":"IFERROR([6]INVERSION!$L$141,\"\")","v":0},{"$f":"IFERROR([6]INVERSION!$M$141,\"\")","v":0},{"$f":"IFERROR([6]INVERSION!$N$141,\"\")","v":0},{"$f":"IFERROR([6]INVERSION!$O$141,\"\")","v":0},{"$f":"IFERROR([6]INVERSION!$P$141,\"\")","v":0},{"$f":"IFERROR([6]INVERSION!$Q$141,\"\")","v":0},{"$f":"IFERROR([6]INVERSION!$R$141,\"\")","v":0},{"$f":"IFERROR([6]INVERSION!$S$141,\"\")","v":"00:00:00"},{"$f":"IFERROR([6]INVERSION!$T$141,\"\")","v":"00:00:00"},{"$f":"IFERROR([6]INVERSION!$U$141,\"\")","v":0},{"$f":"IFERROR([6]INVERSION!$V$141,\"\")","v":0},{"$f":"IFERROR([6]INVERSION!$W$141,\"\")","v":0},{"$f":"IFERROR([6]INVERSION!$X$141,\"\")","v":0},{"$f":"IFERROR([6]INVERSION!$Y$141,\"\")","v":0}]
[null,null,null,null,null,null,{"$f":"IFERROR([6]INVERSION!$G$142,\"\")","v":0},{"$f":"IFERROR([6]INVERSION!$H$142,\"\")","v":0},{"$f":"IFERROR([6]INVERSION!$I$142,\"\")","v":0},{"$f":"IFERROR([6]INVERSION!$J$142,\"\")","v":0},{"$f":"IFERROR([6]INVERSION!$K$142,\"\")","v":0},{"$f":"IFERROR([6]INVERSION!$L$142,\"\")","v":0},{"$f":"IFERROR([6]INVERSION!$M$142,\"\")","v":0},{"$f":"IFERROR([6]INVERSION!$N$142,\"\")","v":0},{"$f":"IFERROR([6]INVERSION!$O$142,\"\")","v":0},{"$f":"IFERROR([6]INVERSION!$P$142,\"\")","v":0},{"$f":"IFERROR([6]INVERSION!$Q$142,\"\")","v":0},{"$f":"IFERROR([6]INVERSION!$R$142,\"\")","v":0},{"$f":"IFERROR([6]INVERSION!$S$142,\"\")","v":"00:00:00"},{"$f":"IFERROR([6]INVERSION!$T$142,\"\")","v":"00:00:00"},{"$f":"IFERROR([6]INVERSION!$U$142,\"\")","v":0},{"$f":"IFERROR([6]INVERSION!$V$142,\"\")","v":0},{"$f":"IFERROR([6]INVERSION!$W$142,\"\")","v":0},{"$f":"IFERROR([6]INVERSION!$X$142,\"\")","v":0},{"$f":"IFERROR([6]INVERSION!$Y$142,\"\")","v":0}]
[null,null,null,null,null,null,{"$f":"IFERROR([6]INVERSION!$G$143,\"\")","v":0},{"$f":"IFERROR([6]INVERSION!$H$143,\"\")","v":0},{"$f":"IFERROR([6]INVERSION!$I$143,\"\")","v":0},{"$f":"IFERROR([6]INVERSION!$J$143,\"\")","v":0},{"$f":"IFERROR([6]INVERSION!$K$143,\"\")","v":0},{"$f":"IFERROR([6]INVERSION!$L$143,\"\")","v":0},{"$f":"IFERROR([6]INVERSION!$M$143,\"\")","v":0},{"$f":"IFERROR([6]INVERSION!$N$143,\"\")","v":0},{"$f":"IFERROR([6]INVERSION!$O$143,\"\")","v":0},{"$f":"IFERROR([6]INVERSION!$P$143,\"\")","v":0},{"$f":"IFERROR([6]INVERSION!$Q$143,\"\")","v":0},{"$f":"IFERROR([6]INVERSION!$R$143,\"\")","v":0},{"$f":"IFERROR([6]INVERSION!$S$143,\"\")","v":"00:00:00"},{"$f":"IFERROR([6]INVERSION!$T$143,\"\")","v":"00:00:00"},{"$f":"IFERROR([6]INVERSION!$U$143,\"\")","v":0},{"$f":"IFERROR([6]INVERSION!$V$143,\"\")","v":0},{"$f":"IFERROR([6]INVERSION!$W$143,\"\")","v":0},{"$f":"IFERROR([6]INVERSION!$X$143,\"\")","v":0},{"$f":"IFERROR([6]INVERSION!$Y$143,\"\")","v":0},null,null,null,"","",null,0]
[null,null,null,null,null,null,{"$f":"IFERROR([6]INVERSION!$G$144,\"\")","v":0},{"$f":"IFERROR([6]INVERSION!$H$144,\"\")","v":0},{"$f":"IFERROR([6]INVERSION!$I$144,\"\")","v":0},{"$f":"IFERROR([6]INVERSION!$J$144,\"\")","v":0},{"$f":"IFERROR([6]INVERSION!$K$144,\"\")","v":0},{"$f":"IFERROR([6]INVERSION!$L$144,\"\")","v":0},{"$f":"IFERROR([6]INVERSION!$M$144,\"\")","v":0},{"$f":"IFERROR([6]INVERSION!$N$144,\"\")","v":0},{"$f":"IFERROR([6]INVERSION!$O$144,\"\")","v":0},{"$f":"IFERROR([6]INVERSION!$P$144,\"\")","v":0},{"$f":"IFERROR([6]INVERSION!$Q$144,\"\")","v":0},{"$f":"IFERROR([6]INVERSION!$R$144,\"\")","v":0},{"$f":"IFERROR([6]INVERSION!$S$144,\"\")","v":"00:00:00"},{"$f":"IFERROR([6]INVERSION!$T$144,\"\")","v":"00:00:00"},{"$f":"IFERROR([6]INVERSION!$U$144,\"\")","v":0},{"$f":"IFERROR([6]INVERSION!$V$144,\"\")","v":0},{"$f":"IFERROR([6]INVERSION!$W$144,\"\")","v":0},{"$f":"IFERROR([6]INVERSION!$X$144,\"\")","v":0},{"$f":"IFERROR([6]INVERSION!$Y$144,\"\")","v":0},null,null,null,"","",null,0]
[null,null,null,null,null,null,{"$f":"IFERROR([6]INVERSION!$G$145,\"\")","v":0},{"$f":"IFERROR([6]INVERSION!$H$145,\"\")","v":0},{"$f":"IFERROR([6]INVERSION!$I$145,\"\")","v":0},{"$f":"IFERROR([6]INVERSION!$J$145,\"\")","v":0},{"$f":"IFERROR([6]INVERSION!$K$145,\"\")","v":0},{"$f":"IFERROR([6]INVERSION!$L$145,\"\")","v":0},{"$f":"IFERROR([6]INVERSION!$M$145,\"\")","v":0},{"$f":"IFERROR([6]INVERSION!$N$145,\"\")","v":0},{"$f":"IFERROR([6]INVERSION!$O$145,\"\")","v":0},{"$f":"IFERROR([6]INVERSION!$P$145,\"\")","v":0},{"$f":"IFERROR([6]INVERSION!$Q$145,\"\")","v":0},{"$f":"IFERROR([6]INVERSION!$R$145,\"\")","v":0},{"$f":"IFERROR([6]INVERSION!$S$145,\"\")","v":"00:00:00"},{"$f":"IFERROR([6]INVERSION!$T$145,\"\")","v":"00:00:00"},{"$f":"IFERROR([6]INVERSION!$U$145,\"\")","v":0},{"$f":"IFERROR([6]INVERSION!$V$145,\"\")","v":0},{"$f":"IFERROR([6]INVERSION!$W$145,\"\")","v":0},{"$f":"IFERROR([6]INVERSION!$X$145,\"\")","v":0},{"$f":"IFERROR([6]INVERSION!$Y$145,\"\")","v":0},null,null,null,"","",null,0]
[null,null,"4. Aumentar la confianza, la cercanía y acceso a los servicios de la Rama Judicial a través, entre otros, de una comunicación clara y asertiva con la ciudadanía.","Satisfacción de la ciudadanía con la administración de justicia","% de satisfacción de la ciudadanía alto o muy alto con la administraci ón de justicia","3. Fomentar la transparencia y la participación generando lineamientos y promoviendo la rendición de cuentas ,la consulta, reporte y planteamiento de inquietudes en relación con las decisiones y aspectos del SIGCMA.",{"$f":"IFERROR([6]INVERSION!$G$146,\"\")","v":0},{"$f":"IFERROR([6]INVERSION!$H$146,\"\")","v":0},{"$f":"IFERROR([6]INVERSION!$I$146,\"\")","v":0},{"$f":"IFERROR([6]INVERSION!$J$146,\"\")","v":0},{"$f":"IFERROR([6]INVERSION!$K$146,\"\")","v":0},{"$f":"IFERROR([6]INVERSION!$L$146,\"\")","v":0},{"$f":"IFERROR([6]INVERSION!$M$146,\"\")","v":0},{"$f":"IFERROR([6]INVERSION!$N$146,\"\")","v":0},{"$f":"IFERROR([6]INVERSION!$O$146,\"\")","v":0},{"$f":"IFERROR([6]INVERSION!$P$146,\"\")","v":0},{"$f":"IFERROR([6]INVERSION!$Q$146,\"\")","v":0},{"$f":"IFERROR([6]INVERSION!$R$146,\"\")","v":0},{"$f":"IFERROR([6]INVERSION!$S$146,\"\")","v":"00:00:00"},{"$f":"IFERROR([6]INVERSION!$T$146,\"\")","v":"00:00:00"},{"$f":"IFERROR([6]INVERSION!$U$146,\"\")","v":0},{"$f":"IFERROR([6]INVERSION!$V$146,\"\")","v":0},{"$f":"IFERROR([6]INVERSION!$W$146,\"\")","v":0},{"$f":"IFERROR([6]INVERSION!$X$146,\"\")","v":0},{"$f":"IFERROR([6]INVERSION!$Y$146,\"\")","v":0},null,null,null,"","",null,0]
[null,null,null,null,null,null,{"$f":"IFERROR([6]INVERSION!$G$147,\"\")","v":0},{"$f":"IFERROR([6]INVERSION!$H$147,\"\")","v":0},{"$f":"IFERROR([6]INVERSION!$I$147,\"\")","v":0},{"$f":"IFERROR([6]INVERSION!$J$147,\"\")","v":0},{"$f":"IFERROR([6]INVERSION!$K$147,\"\")","v":0},{"$f":"IFERROR([6]INVERSION!$L$147,\"\")","v":0},{"$f":"IFERROR([6]INVERSION!$M$147,\"\")","v":0},{"$f":"IFERROR([6]INVERSION!$N$147,\"\")","v":0},{"$f":"IFERROR([6]INVERSION!$O$147,\"\")","v":0},{"$f":"IFERROR([6]INVERSION!$P$147,\"\")","v":0},{"$f":"IFERROR([6]INVERSION!$Q$147,\"\")","v":0},{"$f":"IFERROR([6]INVERSION!$R$147,\"\")","v":0},{"$f":"IFERROR([6]INVERSION!$S$147,\"\")","v":"00:00:00"},{"$f":"IFERROR([6]INVERSION!$T$147,\"\")","v":"00:00:00"},{"$f":"IFERROR([6]INVERSION!$U$147,\"\")","v":0},{"$f":"IFERROR([6]INVERSION!$V$147,\"\")","v":0},{"$f":"IFERROR([6]INVERSION!$W$147,\"\")","v":0},{"$f":"IFERROR([6]INVERSION!$X$147,\"\")","v":0},{"$f":"IFERROR([6]INVERSION!$Y$147,\"\")","v":0},null,null,null,"","",null,0]
[null,null,null,null,null,null,{"$f":"IFERROR([6]INVERSION!$G$148,\"\")","v":0},{"$f":"IFERROR([6]INVERSION!$H$148,\"\")","v":0},{"$f":"IFERROR([6]INVERSION!$I$148,\"\")","v":0},{"$f":"IFERROR([6]INVERSION!$J$148,\"\")","v":0},{"$f":"IFERROR([6]INVERSION!$K$148,\"\")","v":0},{"$f":"IFERROR([6]INVERSION!$L$148,\"\")","v":0},{"$f":"IFERROR([6]INVERSION!$M$148,\"\")","v":0},{"$f":"IFERROR([6]INVERSION!$N$148,\"\")","v":0},{"$f":"IFERROR([6]INVERSION!$O$148,\"\")","v":0},{"$f":"IFERROR([6]INVERSION!$P$148,\"\")","v":0},{"$f":"IFERROR([6]INVERSION!$Q$148,\"\")","v":0},{"$f":"IFERROR([6]INVERSION!$R$148,\"\")","v":0},{"$f":"IFERROR([6]INVERSION!$S$148,\"\")","v":"00:00:00"},{"$f":"IFERROR([6]INVERSION!$T$148,\"\")","v":"00:00:00"},{"$f":"IFERROR([6]INVERSION!$U$148,\"\")","v":0},{"$f":"IFERROR([6]INVERSION!$V$148,\"\")","v":0},{"$f":"IFERROR([6]INVERSION!$W$148,\"\")","v":0},{"$f":"IFERROR([6]INVERSION!$X$148,\"\")","v":0},{"$f":"IFERROR([6]INVERSION!$Y$148,\"\")","v":0}]
[null,null,null,null,null,null,{"$f":"IFERROR([6]INVERSION!$G$149,\"\")","v":0},{"$f":"IFERROR([6]INVERSION!$H$149,\"\")","v":0},{"$f":"IFERROR([6]INVERSION!$I$149,\"\")","v":0},{"$f":"IFERROR([6]INVERSION!$J$149,\"\")","v":0},{"$f":"IFERROR([6]INVERSION!$K$149,\"\")","v":0},{"$f":"IFERROR([6]INVERSION!$L$149,\"\")","v":0},{"$f":"IFERROR([6]INVERSION!$M$149,\"\")","v":0},{"$f":"IFERROR([6]INVERSION!$N$149,\"\")","v":0},{"$f":"IFERROR([6]INVERSION!$O$149,\"\")","v":0},{"$f":"IFERROR([6]INVERSION!$P$149,\"\")","v":0},{"$f":"IFERROR([6]INVERSION!$Q$149,\"\")","v":0},{"$f":"IFERROR([6]INVERSION!$R$149,\"\")","v":0},{"$f":"IFERROR([6]INVERSION!$S$149,\"\")","v":"00:00:00"},{"$f":"IFERROR([6]INVERSION!$T$149,\"\")","v":"00:00:00"},{"$f":"IFERROR([6]INVERSION!$U$149,\"\")","v":0},{"$f":"IFERROR([6]INVERSION!$V$149,\"\")","v":0},{"$f":"IFERROR([6]INVERSION!$W$149,\"\")","v":0},{"$f":"IFERROR([6]INVERSION!$X$149,\"\")","v":0},{"$f":"IFERROR([6]INVERSION!$Y$149,\"\")","v":0}]
[null,null,null,null,null,null,{"$f":"IFERROR([6]INVERSION!$G$150,\"\")","v":0},{"$f":"IFERROR([6]INVERSION!$H$150,\"\")","v":0},{"$f":"IFERROR([6]INVERSION!$I$150,\"\")","v":0},{"$f":"IFERROR([6]INVERSION!$J$150,\"\")","v":0},{"$f":"IFERROR([6]INVERSION!$K$150,\"\")","v":0},{"$f":"IFERROR([6]INVERSION!$L$150,\"\")","v":0},{"$f":"IFERROR([6]INVERSION!$M$150,\"\")","v":0},{"$f":"IFERROR([6]INVERSION!$N$150,\"\")","v":0},{"$f":"IFERROR([6]INVERSION!$O$150,\"\")","v":0},{"$f":"IFERROR([6]INVERSION!$P$150,\"\")","v":0},{"$f":"IFERROR([6]INVERSION!$Q$150,\"\")","v":0},{"$f":"IFERROR([6]INVERSION!$R$150,\"\")","v":0},{"$f":"IFERROR([6]INVERSION!$S$150,\"\")","v":"00:00:00"},{"$f":"IFERROR([6]INVERSION!$T$150,\"\")","v":"00:00:00"},{"$f":"IFERROR([6]INVERSION!$U$150,\"\")","v":0},{"$f":"IFERROR([6]INVERSION!$V$150,\"\")","v":0},{"$f":"IFERROR([6]INVERSION!$W$150,\"\")","v":0},{"$f":"IFERROR([6]INVERSION!$X$150,\"\")","v":0},{"$f":"IFERROR([6]INVERSION!$Y$150,\"\")","v":0}]
[null,null,null,null,null,null,{"$f":"IFERROR([6]INVERSION!$G$151,\"\")","v":0},{"$f":"IFERROR([6]INVERSION!$H$151,\"\")","v":0},{"$f":"IFERROR([6]INVERSION!$I$151,\"\")","v":0},{"$f":"IFERROR([6]INVERSION!$J$151,\"\")","v":0},{"$f":"IFERROR([6]INVERSION!$K$151,\"\")","v":0},{"$f":"IFERROR([6]INVERSION!$L$151,\"\")","v":0},{"$f":"IFERROR([6]INVERSION!$M$151,\"\")","v":0},{"$f":"IFERROR([6]INVERSION!$N$151,\"\")","v":0},{"$f":"IFERROR([6]INVERSION!$O$151,\"\")","v":0},{"$f":"IFERROR([6]INVERSION!$P$151,\"\")","v":0},{"$f":"IFERROR([6]INVERSION!$Q$151,\"\")","v":0},{"$f":"IFERROR([6]INVERSION!$R$151,\"\")","v":0},{"$f":"IFERROR([6]INVERSION!$S$151,\"\")","v":"00:00:00"},{"$f":"IFERROR([6]INVERSION!$T$151,\"\")","v":"00:00:00"},{"$f":"IFERROR([6]INVERSION!$U$151,\"\")","v":0},{"$f":"IFERROR([6]INVERSION!$V$151,\"\")","v":0},{"$f":"IFERROR([6]INVERSION!$W$151,\"\")","v":0},{"$f":"IFERROR([6]INVERSION!$X$151,\"\")","v":0},{"$f":"IFERROR([6]INVERSION!$Y$151,\"\")","v":0}]
[null,null,null,null,null,null,{"$f":"IFERROR([6]INVERSION!$G$152,\"\")","v":0},{"$f":"IFERROR([6]INVERSION!$H$152,\"\")","v":0},{"$f":"IFERROR([6]INVERSION!$I$152,\"\")","v":0},{"$f":"IFERROR([6]INVERSION!$J$152,\"\")","v":0},{"$f":"IFERROR([6]INVERSION!$K$152,\"\")","v":0},{"$f":"IFERROR([6]INVERSION!$L$152,\"\")","v":0},{"$f":"IFERROR([6]INVERSION!$M$152,\"\")","v":0},{"$f":"IFERROR([6]INVERSION!$N$152,\"\")","v":0},{"$f":"IFERROR([6]INVERSION!$O$152,\"\")","v":0},{"$f":"IFERROR([6]INVERSION!$P$152,\"\")","v":0},{"$f":"IFERROR([6]INVERSION!$Q$152,\"\")","v":0},{"$f":"IFERROR([6]INVERSION!$R$152,\"\")","v":0},{"$f":"IFERROR([6]INVERSION!$S$152,\"\")","v":"00:00:00"},{"$f":"IFERROR([6]INVERSION!$T$152,\"\")","v":"00:00:00"},{"$f":"IFERROR([6]INVERSION!$U$152,\"\")","v":0},{"$f":"IFERROR([6]INVERSION!$V$152,\"\")","v":0},{"$f":"IFERROR([6]INVERSION!$W$152,\"\")","v":0},{"$f":"IFERROR([6]INVERSION!$X$152,\"\")","v":0},{"$f":"IFERROR([6]INVERSION!$Y$152,\"\")","v":0}]
[null,null,null,null,null,null,{"$f":"IFERROR([6]INVERSION!$G$153,\"\")","v":0},{"$f":"IFERROR([6]INVERSION!$H$153,\"\")","v":0},{"$f":"IFERROR([6]INVERSION!$I$153,\"\")","v":0},{"$f":"IFERROR([6]INVERSION!$J$153,\"\")","v":0},{"$f":"IFERROR([6]INVERSION!$K$153,\"\")","v":0},{"$f":"IFERROR([6]INVERSION!$L$153,\"\")","v":0},{"$f":"IFERROR([6]INVERSION!$M$153,\"\")","v":0},{"$f":"IFERROR([6]INVERSION!$N$153,\"\")","v":0},{"$f":"IFERROR([6]INVERSION!$O$153,\"\")","v":0},{"$f":"IFERROR([6]INVERSION!$P$153,\"\")","v":0},{"$f":"IFERROR([6]INVERSION!$Q$153,\"\")","v":0},{"$f":"IFERROR([6]INVERSION!$R$153,\"\")","v":0},{"$f":"IFERROR([6]INVERSION!$S$153,\"\")","v":"00:00:00"},{"$f":"IFERROR([6]INVERSION!$T$153,\"\")","v":"00:00:00"},{"$f":"IFERROR([6]INVERSION!$U$153,\"\")","v":0},{"$f":"IFERROR([6]INVERSION!$V$153,\"\")","v":0},{"$f":"IFERROR([6]INVERSION!$W$153,\"\")","v":0},{"$f":"IFERROR([6]INVERSION!$X$153,\"\")","v":0},{"$f":"IFERROR([6]INVERSION!$Y$153,\"\")","v":0},null,null,null,"","",null,0]
[null,null,null,null,null,null,{"$f":"IFERROR([6]INVERSION!$G$154,\"\")","v":0},{"$f":"IFERROR([6]INVERSION!$H$154,\"\")","v":0},{"$f":"IFERROR([6]INVERSION!$I$154,\"\")","v":0},{"$f":"IFERROR([6]INVERSION!$J$154,\"\")","v":0},{"$f":"IFERROR([6]INVERSION!$K$154,\"\")","v":0},{"$f":"IFERROR([6]INVERSION!$L$154,\"\")","v":0},{"$f":"IFERROR([6]INVERSION!$M$154,\"\")","v":0},{"$f":"IFERROR([6]INVERSION!$N$154,\"\")","v":0},{"$f":"IFERROR([6]INVERSION!$O$154,\"\")","v":0},{"$f":"IFERROR([6]INVERSION!$P$154,\"\")","v":0},{"$f":"IFERROR([6]INVERSION!$Q$154,\"\")","v":0},{"$f":"IFERROR([6]INVERSION!$R$154,\"\")","v":0},{"$f":"IFERROR([6]INVERSION!$S$154,\"\")","v":"00:00:00"},{"$f":"IFERROR([6]INVERSION!$T$154,\"\")","v":"00:00:00"},{"$f":"IFERROR([6]INVERSION!$U$154,\"\")","v":0},{"$f":"IFERROR([6]INVERSION!$V$154,\"\")","v":0},{"$f":"IFERROR([6]INVERSION!$W$154,\"\")","v":0},{"$f":"IFERROR([6]INVERSION!$X$154,\"\")","v":0},{"$f":"IFERROR([6]INVERSION!$Y$154,\"\")","v":0},null,null,null,"","",null,0]
[null,null,null,null,null,null,{"$f":"IFERROR([6]INVERSION!$G$155,\"\")","v":0},{"$f":"IFERROR([6]INVERSION!$H$155,\"\")","v":0},{"$f":"IFERROR([6]INVERSION!$I$155,\"\")","v":0},{"$f":"IFERROR([6]INVERSION!$J$155,\"\")","v":0},{"$f":"IFERROR([6]INVERSION!$K$155,\"\")","v":0},{"$f":"IFERROR([6]INVERSION!$L$155,\"\")","v":0},{"$f":"IFERROR([6]INVERSION!$M$155,\"\")","v":0},{"$f":"IFERROR([6]INVERSION!$N$155,\"\")","v":0},{"$f":"IFERROR([6]INVERSION!$O$155,\"\")","v":0},{"$f":"IFERROR([6]INVERSION!$P$155,\"\")","v":0},{"$f":"IFERROR([6]INVERSION!$Q$155,\"\")","v":0},{"$f":"IFERROR([6]INVERSION!$R$155,\"\")","v":0},{"$f":"IFERROR([6]INVERSION!$S$155,\"\")","v":"00:00:00"},{"$f":"IFERROR([6]INVERSION!$T$155,\"\")","v":"00:00:00"},{"$f":"IFERROR([6]INVERSION!$U$155,\"\")","v":0},{"$f":"IFERROR([6]INVERSION!$V$155,\"\")","v":0},{"$f":"IFERROR([6]INVERSION!$W$155,\"\")","v":0},{"$f":"IFERROR([6]INVERSION!$X$155,\"\")","v":0},{"$f":"IFERROR([6]INVERSION!$Y$155,\"\")","v":0},null,null,null,"","",null,0]
[null,null,"5. Prevenir fenómenos asociados con actos de corrupción en la Rama Judicial y reducir las experiencias de corrupción de usuarios y servidores judiciales.","Cumplimiento del Plan Anticorrupción y de Atención al Ciudadano de la Rama Judicial","# Actividades cumplidas del PAAC/# Actividades programada s del PAAC*100",null,{"$f":"IFERROR([6]INVERSION!$G$156,\"\")","v":0},{"$f":"IFERROR([6]INVERSION!$H$156,\"\")","v":0},{"$f":"IFERROR([6]INVERSION!$I$156,\"\")","v":0},{"$f":"IFERROR([6]INVERSION!$J$156,\"\")","v":0},{"$f":"IFERROR([6]INVERSION!$K$156,\"\")","v":0},{"$f":"IFERROR([6]INVERSION!$L$156,\"\")","v":0},{"$f":"IFERROR([6]INVERSION!$M$156,\"\")","v":0},{"$f":"IFERROR([6]INVERSION!$N$156,\"\")","v":0},{"$f":"IFERROR([6]INVERSION!$O$156,\"\")","v":0},{"$f":"IFERROR([6]INVERSION!$P$156,\"\")","v":0},{"$f":"IFERROR([6]INVERSION!$Q$156,\"\")","v":0},{"$f":"IFERROR([6]INVERSION!$R$156,\"\")","v":0},{"$f":"IFERROR([6]INVERSION!$S$156,\"\")","v":"00:00:00"},{"$f":"IFERROR([6]INVERSION!$T$156,\"\")","v":"00:00:00"},{"$f":"IFERROR([6]INVERSION!$U$156,\"\")","v":0},{"$f":"IFERROR([6]INVERSION!$V$156,\"\")","v":0},{"$f":"IFERROR([6]INVERSION!$W$156,\"\")","v":0},{"$f":"IFERROR([6]INVERSION!$X$156,\"\")","v":0},{"$f":"IFERROR([6]INVERSION!$Y$156,\"\")","v":0},null,null,null,"","",null,0]
[null,null,null,null,null,null,{"$f":"IFERROR([6]INVERSION!$G$157,\"\")","v":0},{"$f":"IFERROR([6]INVERSION!$H$157,\"\")","v":0},{"$f":"IFERROR([6]INVERSION!$I$157,\"\")","v":0},{"$f":"IFERROR([6]INVERSION!$J$157,\"\")","v":0},{"$f":"IFERROR([6]INVERSION!$K$157,\"\")","v":0},{"$f":"IFERROR([6]INVERSION!$L$157,\"\")","v":0},{"$f":"IFERROR([6]INVERSION!$M$157,\"\")","v":0},{"$f":"IFERROR([6]INVERSION!$N$157,\"\")","v":0},{"$f":"IFERROR([6]INVERSION!$O$157,\"\")","v":0},{"$f":"IFERROR([6]INVERSION!$P$157,\"\")","v":0},{"$f":"IFERROR([6]INVERSION!$Q$157,\"\")","v":0},{"$f":"IFERROR([6]INVERSION!$R$157,\"\")","v":0},{"$f":"IFERROR([6]INVERSION!$S$157,\"\")","v":"00:00:00"},{"$f":"IFERROR([6]INVERSION!$T$157,\"\")","v":"00:00:00"},{"$f":"IFERROR([6]INVERSION!$U$157,\"\")","v":0},{"$f":"IFERROR([6]INVERSION!$V$157,\"\")","v":0},{"$f":"IFERROR([6]INVERSION!$W$157,\"\")","v":0},{"$f":"IFERROR([6]INVERSION!$X$157,\"\")","v":0},{"$f":"IFERROR([6]INVERSION!$Y$157,\"\")","v":0}]
[null,null,null,null,null,null,{"$f":"IFERROR([6]INVERSION!$G$158,\"\")","v":0},{"$f":"IFERROR([6]INVERSION!$H$158,\"\")","v":0},{"$f":"IFERROR([6]INVERSION!$I$158,\"\")","v":0},{"$f":"IFERROR([6]INVERSION!$J$158,\"\")","v":0},{"$f":"IFERROR([6]INVERSION!$K$158,\"\")","v":0},{"$f":"IFERROR([6]INVERSION!$L$158,\"\")","v":0},{"$f":"IFERROR([6]INVERSION!$M$158,\"\")","v":0},{"$f":"IFERROR([6]INVERSION!$N$158,\"\")","v":0},{"$f":"IFERROR([6]INVERSION!$O$158,\"\")","v":0},{"$f":"IFERROR([6]INVERSION!$P$158,\"\")","v":0},{"$f":"IFERROR([6]INVERSION!$Q$158,\"\")","v":0},{"$f":"IFERROR([6]INVERSION!$R$158,\"\")","v":0},{"$f":"IFERROR([6]INVERSION!$S$158,\"\")","v":"00:00:00"},{"$f":"IFERROR([6]INVERSION!$T$158,\"\")","v":"00:00:00"},{"$f":"IFERROR([6]INVERSION!$U$158,\"\")","v":0},{"$f":"IFERROR([6]INVERSION!$V$158,\"\")","v":0},{"$f":"IFERROR([6]INVERSION!$W$158,\"\")","v":0},{"$f":"IFERROR([6]INVERSION!$X$158,\"\")","v":0},{"$f":"IFERROR([6]INVERSION!$Y$158,\"\")","v":0}]
[null,null,null,null,null,null,{"$f":"IFERROR([6]INVERSION!$G$159,\"\")","v":0},{"$f":"IFERROR([6]INVERSION!$H$159,\"\")","v":0},{"$f":"IFERROR([6]INVERSION!$I$159,\"\")","v":0},{"$f":"IFERROR([6]INVERSION!$J$159,\"\")","v":0},{"$f":"IFERROR([6]INVERSION!$K$159,\"\")","v":0},{"$f":"IFERROR([6]INVERSION!$L$159,\"\")","v":0},{"$f":"IFERROR([6]INVERSION!$M$159,\"\")","v":0},{"$f":"IFERROR([6]INVERSION!$N$159,\"\")","v":0},{"$f":"IFERROR([6]INVERSION!$O$159,\"\")","v":0},{"$f":"IFERROR([6]INVERSION!$P$159,\"\")","v":0},{"$f":"IFERROR([6]INVERSION!$Q$159,\"\")","v":0},{"$f":"IFERROR([6]INVERSION!$R$159,\"\")","v":0},{"$f":"IFERROR([6]INVERSION!$S$159,\"\")","v":"00:00:00"},{"$f":"IFERROR([6]INVERSION!$T$159,\"\")","v":"00:00:00"},{"$f":"IFERROR([6]INVERSION!$U$159,\"\")","v":0},{"$f":"IFERROR([6]INVERSION!$V$159,\"\")","v":0},{"$f":"IFERROR([6]INVERSION!$W$159,\"\")","v":0},{"$f":"IFERROR([6]INVERSION!$X$159,\"\")","v":0},{"$f":"IFERROR([6]INVERSION!$Y$159,\"\")","v":0}]
[null,null,null,null,null,null,{"$f":"IFERROR([6]INVERSION!$G$160,\"\")","v":0},{"$f":"IFERROR([6]INVERSION!$H$160,\"\")","v":0},{"$f":"IFERROR([6]INVERSION!$I$160,\"\")","v":0},{"$f":"IFERROR([6]INVERSION!$J$160,\"\")","v":0},{"$f":"IFERROR([6]INVERSION!$K$160,\"\")","v":0},{"$f":"IFERROR([6]INVERSION!$L$160,\"\")","v":0},{"$f":"IFERROR([6]INVERSION!$M$160,\"\")","v":0},{"$f":"IFERROR([6]INVERSION!$N$160,\"\")","v":0},{"$f":"IFERROR([6]INVERSION!$O$160,\"\")","v":0},{"$f":"IFERROR([6]INVERSION!$P$160,\"\")","v":0},{"$f":"IFERROR([6]INVERSION!$Q$160,\"\")","v":0},{"$f":"IFERROR([6]INVERSION!$R$160,\"\")","v":0},{"$f":"IFERROR([6]INVERSION!$S$160,\"\")","v":"00:00:00"},{"$f":"IFERROR([6]INVERSION!$T$160,\"\")","v":"00:00:00"},{"$f":"IFERROR([6]INVERSION!$U$160,\"\")","v":0},{"$f":"IFERROR([6]INVERSION!$V$160,\"\")","v":0},{"$f":"IFERROR([6]INVERSION!$W$160,\"\")","v":0},{"$f":"IFERROR([6]INVERSION!$X$160,\"\")","v":0},{"$f":"IFERROR([6]INVERSION!$Y$160,\"\")","v":0}]
[null,null,null,null,null,null,{"$f":"IFERROR([6]INVERSION!$G$161,\"\")","v":0},{"$f":"IFERROR([6]INVERSION!$H$161,\"\")","v":0},{"$f":"IFERROR([6]INVERSION!$I$161,\"\")","v":0},{"$f":"IFERROR([6]INVERSION!$J$161,\"\")","v":0},{"$f":"IFERROR([6]INVERSION!$K$161,\"\")","v":0},{"$f":"IFERROR([6]INVERSION!$L$161,\"\")","v":0},{"$f":"IFERROR([6]INVERSION!$M$161,\"\")","v":0},{"$f":"IFERROR([6]INVERSION!$N$161,\"\")","v":0},{"$f":"IFERROR([6]INVERSION!$O$161,\"\")","v":0},{"$f":"IFERROR([6]INVERSION!$P$161,\"\")","v":0},{"$f":"IFERROR([6]INVERSION!$Q$161,\"\")","v":0},{"$f":"IFERROR([6]INVERSION!$R$161,\"\")","v":0},{"$f":"IFERROR([6]INVERSION!$S$161,\"\")","v":"00:00:00"},{"$f":"IFERROR([6]INVERSION!$T$161,\"\")","v":"00:00:00"},{"$f":"IFERROR([6]INVERSION!$U$161,\"\")","v":0},{"$f":"IFERROR([6]INVERSION!$V$161,\"\")","v":0},{"$f":"IFERROR([6]INVERSION!$W$161,\"\")","v":0},{"$f":"IFERROR([6]INVERSION!$X$161,\"\")","v":0},{"$f":"IFERROR([6]INVERSION!$Y$161,\"\")","v":0}]
[null,null,null,null,null,null,{"$f":"IFERROR([6]INVERSION!$G$162,\"\")","v":0},{"$f":"IFERROR([6]INVERSION!$H$162,\"\")","v":0},{"$f":"IFERROR([6]INVERSION!$I$162,\"\")","v":0},{"$f":"IFERROR([6]INVERSION!$J$162,\"\")","v":0},{"$f":"IFERROR([6]INVERSION!$K$162,\"\")","v":0},{"$f":"IFERROR([6]INVERSION!$L$162,\"\")","v":0},{"$f":"IFERROR([6]INVERSION!$M$162,\"\")","v":0},{"$f":"IFERROR([6]INVERSION!$N$162,\"\")","v":0},{"$f":"IFERROR([6]INVERSION!$O$162,\"\")","v":0},{"$f":"IFERROR([6]INVERSION!$P$162,\"\")","v":0},{"$f":"IFERROR([6]INVERSION!$Q$162,\"\")","v":0},{"$f":"IFERROR([6]INVERSION!$R$162,\"\")","v":0},{"$f":"IFERROR([6]INVERSION!$S$162,\"\")","v":"00:00:00"},{"$f":"IFERROR([6]INVERSION!$T$162,\"\")","v":"00:00:00"},{"$f":"IFERROR([6]INVERSION!$U$162,\"\")","v":0},{"$f":"IFERROR([6]INVERSION!$V$162,\"\")","v":0},{"$f":"IFERROR([6]INVERSION!$W$162,\"\")","v":0},{"$f":"IFERROR([6]INVERSION!$X$162,\"\")","v":0},{"$f":"IFERROR([6]INVERSION!$Y$162,\"\")","v":0},null,null,null,"","",null,0]
[null,null,null,null,null,null,{"$f":"IFERROR([6]INVERSION!$G$163,\"\")","v":0},{"$f":"IFERROR([6]INVERSION!$H$163,\"\")","v":0},{"$f":"IFERROR([6]INVERSION!$I$163,\"\")","v":0},{"$f":"IFERROR([6]INVERSION!$J$163,\"\")","v":0},{"$f":"IFERROR([6]INVERSION!$K$163,\"\")","v":0},{"$f":"IFERROR([6]INVERSION!$L$163,\"\")","v":0},{"$f":"IFERROR([6]INVERSION!$M$163,\"\")","v":0},{"$f":"IFERROR([6]INVERSION!$N$163,\"\")","v":0},{"$f":"IFERROR([6]INVERSION!$O$163,\"\")","v":0},{"$f":"IFERROR([6]INVERSION!$P$163,\"\")","v":0},{"$f":"IFERROR([6]INVERSION!$Q$163,\"\")","v":0},{"$f":"IFERROR([6]INVERSION!$R$163,\"\")","v":0},{"$f":"IFERROR([6]INVERSION!$S$163,\"\")","v":"00:00:00"},{"$f":"IFERROR([6]INVERSION!$T$163,\"\")","v":"00:00:00"},{"$f":"IFERROR([6]INVERSION!$U$163,\"\")","v":0},{"$f":"IFERROR([6]INVERSION!$V$163,\"\")","v":0},{"$f":"IFERROR([6]INVERSION!$W$163,\"\")","v":0},{"$f":"IFERROR([6]INVERSION!$X$163,\"\")","v":0},{"$f":"IFERROR([6]INVERSION!$Y$163,\"\")","v":0},null,null,null,"","",null,0]
[null,null,null,null,null,null,{"$f":"IFERROR([6]INVERSION!$G$164,\"\")","v":0},{"$f":"IFERROR([6]INVERSION!$H$164,\"\")","v":0},{"$f":"IFERROR([6]INVERSION!$I$164,\"\")","v":0},{"$f":"IFERROR([6]INVERSION!$J$164,\"\")","v":0},{"$f":"IFERROR([6]INVERSION!$K$164,\"\")","v":0},{"$f":"IFERROR([6]INVERSION!$L$164,\"\")","v":0},{"$f":"IFERROR([6]INVERSION!$M$164,\"\")","v":0},{"$f":"IFERROR([6]INVERSION!$N$164,\"\")","v":0},{"$f":"IFERROR([6]INVERSION!$O$164,\"\")","v":0},{"$f":"IFERROR([6]INVERSION!$P$164,\"\")","v":0},{"$f":"IFERROR([6]INVERSION!$Q$164,\"\")","v":0},{"$f":"IFERROR([6]INVERSION!$R$164,\"\")","v":0},{"$f":"IFERROR([6]INVERSION!$S$164,\"\")","v":"00:00:00"},{"$f":"IFERROR([6]INVERSION!$T$164,\"\")","v":"00:00:00"},{"$f":"IFERROR([6]INVERSION!$U$164,\"\")","v":0},{"$f":"IFERROR([6]INVERSION!$V$164,\"\")","v":0},{"$f":"IFERROR([6]INVERSION!$W$164,\"\")","v":0},{"$f":"IFERROR([6]INVERSION!$X$164,\"\")","v":0},{"$f":"IFERROR([6]INVERSION!$Y$164,\"\")","v":0},null,null,null,"","",null,0]
[null,null,null,null,null,null,{"$f":"IFERROR([6]INVERSION!$G$165,\"\")","v":0},{"$f":"IFERROR([6]INVERSION!$H$165,\"\")","v":0},{"$f":"IFERROR([6]INVERSION!$I$165,\"\")","v":0},{"$f":"IFERROR([6]INVERSION!$J$165,\"\")","v":0},{"$f":"IFERROR([6]INVERSION!$K$165,\"\")","v":0},{"$f":"IFERROR([6]INVERSION!$L$165,\"\")","v":0},{"$f":"IFERROR([6]INVERSION!$M$165,\"\")","v":0},{"$f":"IFERROR([6]INVERSION!$N$165,\"\")","v":0},{"$f":"IFERROR([6]INVERSION!$O$165,\"\")","v":0},{"$f":"IFERROR([6]INVERSION!$P$165,\"\")","v":0},{"$f":"IFERROR([6]INVERSION!$Q$165,\"\")","v":0},{"$f":"IFERROR([6]INVERSION!$R$165,\"\")","v":0},{"$f":"IFERROR([6]INVERSION!$S$165,\"\")","v":"00:00:00"},{"$f":"IFERROR([6]INVERSION!$T$165,\"\")","v":"00:00:00"},{"$f":"IFERROR([6]INVERSION!$U$165,\"\")","v":0},{"$f":"IFERROR([6]INVERSION!$V$165,\"\")","v":0},{"$f":"IFERROR([6]INVERSION!$W$165,\"\")","v":0},{"$f":"IFERROR([6]INVERSION!$X$165,\"\")","v":0},{"$f":"IFERROR([6]INVERSION!$Y$165,\"\")","v":0},null,null,null,"","",null,0]
[null,null,"6. Promover la rendición de cuentas y la colaboración real con la ciudadanía como fundamento para diseñar acciones de mejoramiento del acceso a la justicia.","Estrategias para implementar la colaboración real con la ciudadanía en el marco de la \"justicia abierta\" implementadas","% de implementa ción de las estrategias de colaboració n real con la ciudadanía en el marco de la \"justicia abierta\" definidas para cada anualidad",null,{"$f":"IFERROR([6]INVERSION!$G$166,\"\")","v":0},{"$f":"IFERROR([6]INVERSION!$H$166,\"\")","v":0},{"$f":"IFERROR([6]INVERSION!$I$166,\"\")","v":0},{"$f":"IFERROR([6]INVERSION!$J$166,\"\")","v":0},{"$f":"IFERROR([6]INVERSION!$K$166,\"\")","v":0},{"$f":"IFERROR([6]INVERSION!$L$166,\"\")","v":0},{"$f":"IFERROR([6]INVERSION!$M$166,\"\")","v":0},{"$f":"IFERROR([6]INVERSION!$N$166,\"\")","v":0},{"$f":"IFERROR([6]INVERSION!$O$166,\"\")","v":0},{"$f":"IFERROR([6]INVERSION!$P$166,\"\")","v":0},{"$f":"IFERROR([6]INVERSION!$Q$166,\"\")","v":0},{"$f":"IFERROR([6]INVERSION!$R$166,\"\")","v":0},{"$f":"IFERROR([6]INVERSION!$S$166,\"\")","v":"00:00:00"},{"$f":"IFERROR([6]INVERSION!$T$166,\"\")","v":"00:00:00"},{"$f":"IFERROR([6]INVERSION!$U$166,\"\")","v":0},{"$f":"IFERROR([6]INVERSION!$V$166,\"\")","v":0},{"$f":"IFERROR([6]INVERSION!$W$166,\"\")","v":0},{"$f":"IFERROR([6]INVERSION!$X$166,\"\")","v":0},{"$f":"IFERROR([6]INVERSION!$Y$166,\"\")","v":0},null,null,null,"","",null,0]
[null,null,null,null,null,null,{"$f":"IFERROR([6]INVERSION!$G$167,\"\")","v":0},{"$f":"IFERROR([6]INVERSION!$H$167,\"\")","v":0},{"$f":"IFERROR([6]INVERSION!$I$167,\"\")","v":0},{"$f":"IFERROR([6]INVERSION!$J$167,\"\")","v":0},{"$f":"IFERROR([6]INVERSION!$K$167,\"\")","v":0},{"$f":"IFERROR([6]INVERSION!$L$167,\"\")","v":0},{"$f":"IFERROR([6]INVERSION!$M$167,\"\")","v":0},{"$f":"IFERROR([6]INVERSION!$N$167,\"\")","v":0},{"$f":"IFERROR([6]INVERSION!$O$167,\"\")","v":0},{"$f":"IFERROR([6]INVERSION!$P$167,\"\")","v":0},{"$f":"IFERROR([6]INVERSION!$Q$167,\"\")","v":0},{"$f":"IFERROR([6]INVERSION!$R$167,\"\")","v":0},{"$f":"IFERROR([6]INVERSION!$S$167,\"\")","v":"00:00:00"},{"$f":"IFERROR([6]INVERSION!$T$167,\"\")","v":"00:00:00"},{"$f":"IFERROR([6]INVERSION!$U$167,\"\")","v":0},{"$f":"IFERROR([6]INVERSION!$V$167,\"\")","v":0},{"$f":"IFERROR([6]INVERSION!$W$167,\"\")","v":0},{"$f":"IFERROR([6]INVERSION!$X$167,\"\")","v":0},{"$f":"IFERROR([6]INVERSION!$Y$167,\"\")","v":0},null,null,null,"","",null,0]
[null,null,null,null,null,null,{"$f":"IFERROR([6]INVERSION!$G$168,\"\")","v":0},{"$f":"IFERROR([6]INVERSION!$H$168,\"\")","v":0},{"$f":"IFERROR([6]INVERSION!$I$168,\"\")","v":0},{"$f":"IFERROR([6]INVERSION!$J$168,\"\")","v":0},{"$f":"IFERROR([6]INVERSION!$K$168,\"\")","v":0},{"$f":"IFERROR([6]INVERSION!$L$168,\"\")","v":0},{"$f":"IFERROR([6]INVERSION!$M$168,\"\")","v":0},{"$f":"IFERROR([6]INVERSION!$N$168,\"\")","v":0},{"$f":"IFERROR([6]INVERSION!$O$168,\"\")","v":0},{"$f":"IFERROR([6]INVERSION!$P$168,\"\")","v":0},{"$f":"IFERROR([6]INVERSION!$Q$168,\"\")","v":0},{"$f":"IFERROR([6]INVERSION!$R$168,\"\")","v":0},{"$f":"IFERROR([6]INVERSION!$S$168,\"\")","v":"00:00:00"},{"$f":"IFERROR([6]INVERSION!$T$168,\"\")","v":"00:00:00"},{"$f":"IFERROR([6]INVERSION!$U$168,\"\")","v":0},{"$f":"IFERROR([6]INVERSION!$V$168,\"\")","v":0},{"$f":"IFERROR([6]INVERSION!$W$168,\"\")","v":0},{"$f":"IFERROR([6]INVERSION!$X$168,\"\")","v":0},{"$f":"IFERROR([6]INVERSION!$Y$168,\"\")","v":0}]
[null,null,null,null,null,null,{"$f":"IFERROR([6]INVERSION!$G$169,\"\")","v":0},{"$f":"IFERROR([6]INVERSION!$H$169,\"\")","v":0},{"$f":"IFERROR([6]INVERSION!$I$169,\"\")","v":0},{"$f":"IFERROR([6]INVERSION!$J$169,\"\")","v":0},{"$f":"IFERROR([6]INVERSION!$K$169,\"\")","v":0},{"$f":"IFERROR([6]INVERSION!$L$169,\"\")","v":0},{"$f":"IFERROR([6]INVERSION!$M$169,\"\")","v":0},{"$f":"IFERROR([6]INVERSION!$N$169,\"\")","v":0},{"$f":"IFERROR([6]INVERSION!$O$169,\"\")","v":0},{"$f":"IFERROR([6]INVERSION!$P$169,\"\")","v":0},{"$f":"IFERROR([6]INVERSION!$Q$169,\"\")","v":0},{"$f":"IFERROR([6]INVERSION!$R$169,\"\")","v":0},{"$f":"IFERROR([6]INVERSION!$S$169,\"\")","v":"00:00:00"},{"$f":"IFERROR([6]INVERSION!$T$169,\"\")","v":"00:00:00"},{"$f":"IFERROR([6]INVERSION!$U$169,\"\")","v":0},{"$f":"IFERROR([6]INVERSION!$V$169,\"\")","v":0},{"$f":"IFERROR([6]INVERSION!$W$169,\"\")","v":0},{"$f":"IFERROR([6]INVERSION!$X$169,\"\")","v":0},{"$f":"IFERROR([6]INVERSION!$Y$169,\"\")","v":0}]
[null,null,null,null,null,null,{"$f":"IFERROR([6]INVERSION!$G$170,\"\")","v":0},{"$f":"IFERROR([6]INVERSION!$H$170,\"\")","v":0},{"$f":"IFERROR([6]INVERSION!$I$170,\"\")","v":0},{"$f":"IFERROR([6]INVERSION!$J$170,\"\")","v":0},{"$f":"IFERROR([6]INVERSION!$K$170,\"\")","v":0},{"$f":"IFERROR([6]INVERSION!$L$170,\"\")","v":0},{"$f":"IFERROR([6]INVERSION!$M$170,\"\")","v":0},{"$f":"IFERROR([6]INVERSION!$N$170,\"\")","v":0},{"$f":"IFERROR([6]INVERSION!$O$170,\"\")","v":0},{"$f":"IFERROR([6]INVERSION!$P$170,\"\")","v":0},{"$f":"IFERROR([6]INVERSION!$Q$170,\"\")","v":0},{"$f":"IFERROR([6]INVERSION!$R$170,\"\")","v":0},{"$f":"IFERROR([6]INVERSION!$S$170,\"\")","v":"00:00:00"},{"$f":"IFERROR([6]INVERSION!$T$170,\"\")","v":"00:00:00"},{"$f":"IFERROR([6]INVERSION!$U$170,\"\")","v":0},{"$f":"IFERROR([6]INVERSION!$V$170,\"\")","v":0},{"$f":"IFERROR([6]INVERSION!$W$170,\"\")","v":0},{"$f":"IFERROR([6]INVERSION!$X$170,\"\")","v":0},{"$f":"IFERROR([6]INVERSION!$Y$170,\"\")","v":0}]
[null,null,null,null,null,null,{"$f":"IFERROR([6]INVERSION!$G$171,\"\")","v":0},{"$f":"IFERROR([6]INVERSION!$H$171,\"\")","v":0},{"$f":"IFERROR([6]INVERSION!$I$171,\"\")","v":0},{"$f":"IFERROR([6]INVERSION!$J$171,\"\")","v":0},{"$f":"IFERROR([6]INVERSION!$K$171,\"\")","v":0},{"$f":"IFERROR([6]INVERSION!$L$171,\"\")","v":0},{"$f":"IFERROR([6]INVERSION!$M$171,\"\")","v":0},{"$f":"IFERROR([6]INVERSION!$N$171,\"\")","v":0},{"$f":"IFERROR([6]INVERSION!$O$171,\"\")","v":0},{"$f":"IFERROR([6]INVERSION!$P$171,\"\")","v":0},{"$f":"IFERROR([6]INVERSION!$Q$171,\"\")","v":0},{"$f":"IFERROR([6]INVERSION!$R$171,\"\")","v":0},{"$f":"IFERROR([6]INVERSION!$S$171,\"\")","v":"00:00:00"},{"$f":"IFERROR([6]INVERSION!$T$171,\"\")","v":"00:00:00"},{"$f":"IFERROR([6]INVERSION!$U$171,\"\")","v":0},{"$f":"IFERROR([6]INVERSION!$V$171,\"\")","v":0},{"$f":"IFERROR([6]INVERSION!$W$171,\"\")","v":0},{"$f":"IFERROR([6]INVERSION!$X$171,\"\")","v":0},{"$f":"IFERROR([6]INVERSION!$Y$171,\"\")","v":0}]
[null,null,null,null,null,null,{"$f":"IFERROR([6]INVERSION!$G$172,\"\")","v":0},{"$f":"IFERROR([6]INVERSION!$H$172,\"\")","v":0},{"$f":"IFERROR([6]INVERSION!$I$172,\"\")","v":0},{"$f":"IFERROR([6]INVERSION!$J$172,\"\")","v":0},{"$f":"IFERROR([6]INVERSION!$K$172,\"\")","v":0},{"$f":"IFERROR([6]INVERSION!$L$172,\"\")","v":0},{"$f":"IFERROR([6]INVERSION!$M$172,\"\")","v":0},{"$f":"IFERROR([6]INVERSION!$N$172,\"\")","v":0},{"$f":"IFERROR([6]INVERSION!$O$172,\"\")","v":0},{"$f":"IFERROR([6]INVERSION!$P$172,\"\")","v":0},{"$f":"IFERROR([6]INVERSION!$Q$172,\"\")","v":0},{"$f":"IFERROR([6]INVERSION!$R$172,\"\")","v":0},{"$f":"IFERROR([6]INVERSION!$S$172,\"\")","v":"00:00:00"},{"$f":"IFERROR([6]INVERSION!$T$172,\"\")","v":"00:00:00"},{"$f":"IFERROR([6]INVERSION!$U$172,\"\")","v":0},{"$f":"IFERROR([6]INVERSION!$V$172,\"\")","v":0},{"$f":"IFERROR([6]INVERSION!$W$172,\"\")","v":0},{"$f":"IFERROR([6]INVERSION!$X$172,\"\")","v":0},{"$f":"IFERROR([6]INVERSION!$Y$172,\"\")","v":0}]
[null,null,null,null,null,null,{"$f":"IFERROR([6]INVERSION!$G$173,\"\")","v":0},{"$f":"IFERROR([6]INVERSION!$H$173,\"\")","v":0},{"$f":"IFERROR([6]INVERSION!$I$173,\"\")","v":0},{"$f":"IFERROR([6]INVERSION!$J$173,\"\")","v":0},{"$f":"IFERROR([6]INVERSION!$K$173,\"\")","v":0},{"$f":"IFERROR([6]INVERSION!$L$173,\"\")","v":0},{"$f":"IFERROR([6]INVERSION!$M$173,\"\")","v":0},{"$f":"IFERROR([6]INVERSION!$N$173,\"\")","v":0},{"$f":"IFERROR([6]INVERSION!$O$173,\"\")","v":0},{"$f":"IFERROR([6]INVERSION!$P$173,\"\")","v":0},{"$f":"IFERROR([6]INVERSION!$Q$173,\"\")","v":0},{"$f":"IFERROR([6]INVERSION!$R$173,\"\")","v":0},{"$f":"IFERROR([6]INVERSION!$S$173,\"\")","v":"00:00:00"},{"$f":"IFERROR([6]INVERSION!$T$173,\"\")","v":"00:00:00"},{"$f":"IFERROR([6]INVERSION!$U$173,\"\")","v":0},{"$f":"IFERROR([6]INVERSION!$V$173,\"\")","v":0},{"$f":"IFERROR([6]INVERSION!$W$173,\"\")","v":0},{"$f":"IFERROR([6]INVERSION!$X$173,\"\")","v":0},{"$f":"IFERROR([6]INVERSION!$Y$173,\"\")","v":0},null,null,null,"","",null,0]
[null,null,null,null,null,null,{"$f":"IFERROR([6]INVERSION!$G$174,\"\")","v":0},{"$f":"IFERROR([6]INVERSION!$H$174,\"\")","v":0},{"$f":"IFERROR([6]INVERSION!$I$174,\"\")","v":0},{"$f":"IFERROR([6]INVERSION!$J$174,\"\")","v":0},{"$f":"IFERROR([6]INVERSION!$K$174,\"\")","v":0},{"$f":"IFERROR([6]INVERSION!$L$174,\"\")","v":0},{"$f":"IFERROR([6]INVERSION!$M$174,\"\")","v":0},{"$f":"IFERROR([6]INVERSION!$N$174,\"\")","v":0},{"$f":"IFERROR([6]INVERSION!$O$174,\"\")","v":0},{"$f":"IFERROR([6]INVERSION!$P$174,\"\")","v":0},{"$f":"IFERROR([6]INVERSION!$Q$174,\"\")","v":0},{"$f":"IFERROR([6]INVERSION!$R$174,\"\")","v":0},{"$f":"IFERROR([6]INVERSION!$S$174,\"\")","v":"00:00:00"},{"$f":"IFERROR([6]INVERSION!$T$174,\"\")","v":"00:00:00"},{"$f":"IFERROR([6]INVERSION!$U$174,\"\")","v":0},{"$f":"IFERROR([6]INVERSION!$V$174,\"\")","v":0},{"$f":"IFERROR([6]INVERSION!$W$174,\"\")","v":0},{"$f":"IFERROR([6]INVERSION!$X$174,\"\")","v":0},{"$f":"IFERROR([6]INVERSION!$Y$174,\"\")","v":0},null,null,null,"","",null,0]
[null,null,null,null,null,null,{"$f":"IFERROR([6]INVERSION!$G$175,\"\")","v":0},{"$f":"IFERROR([6]INVERSION!$H$175,\"\")","v":0},{"$f":"IFERROR([6]INVERSION!$I$175,\"\")","v":0},{"$f":"IFERROR([6]INVERSION!$J$175,\"\")","v":0},{"$f":"IFERROR([6]INVERSION!$K$175,\"\")","v":0},{"$f":"IFERROR([6]INVERSION!$L$175,\"\")","v":0},{"$f":"IFERROR([6]INVERSION!$M$175,\"\")","v":0},{"$f":"IFERROR([6]INVERSION!$N$175,\"\")","v":0},{"$f":"IFERROR([6]INVERSION!$O$175,\"\")","v":0},{"$f":"IFERROR([6]INVERSION!$P$175,\"\")","v":0},{"$f":"IFERROR([6]INVERSION!$Q$175,\"\")","v":0},{"$f":"IFERROR([6]INVERSION!$R$175,\"\")","v":0},{"$f":"IFERROR([6]INVERSION!$S$175,\"\")","v":"00:00:00"},{"$f":"IFERROR([6]INVERSION!$T$175,\"\")","v":"00:00:00"},{"$f":"IFERROR([6]INVERSION!$U$175,\"\")","v":0},{"$f":"IFERROR([6]INVERSION!$V$175,\"\")","v":0},{"$f":"IFERROR([6]INVERSION!$W$175,\"\")","v":0},{"$f":"IFERROR([6]INVERSION!$X$175,\"\")","v":0},{"$f":"IFERROR([6]INVERSION!$Y$175,\"\")","v":0},null,null,null,"","",null,0]
[null,null,"7. Continuar la consolidación del SIGCMA, a través de los procesos de formación en modelos de gestión, logrando la implementación y ampliación de este en los esquemas certificados de manera gradual, teniendo en cuenta las capacidades de los diferentes despachos judiciales y dependencias de la Rama Judicial y articulando el enfoque de Arquitectura Empresarial para el desarrollo del PETD a través de la gestión del conocimiento para la gestión del cambio propendiendo por una cultura de la calidad, la transparencia, la rendición de cuentas, la anticorrupción y el antisoborno","Procesos de formación en modelos de gestión aplicados","# de servidores judiciales formados en modelos de gestión de las dependenci as judiciales y administrati vas certificadas en SIGCMA que implementa n el PETD / # total de servidores judiciales de las dependenci as judiciales y administrati vas certificadas en SIGCMA que implementa n el PETD","1. Gestionar el desarrollo de las competencias, la toma de conciencia , la cultura  organizacional  y el compromiso de los  servidores judiciales, contratistas, practicantes y  judicantes de contribuir a generar valor público en la administración de justicia, en el marco de  cumplimiento de los requisitos  aplicables y el comportamiento ético.\n4. Hacer un uso racional de los recursos naturales aplicando los principios y fases de la Economía Circular, para prevenir, mitigar y controlar los impactos ambientales.",{"$f":"IFERROR([6]INVERSION!$G$176,\"\")","v":0},{"$f":"IFERROR([6]INVERSION!$H$176,\"\")","v":0},{"$f":"IFERROR([6]INVERSION!$I$176,\"\")","v":0},{"$f":"IFERROR([6]INVERSION!$J$176,\"\")","v":0},{"$f":"IFERROR([6]INVERSION!$K$176,\"\")","v":0},{"$f":"IFERROR([6]INVERSION!$L$176,\"\")","v":0},{"$f":"IFERROR([6]INVERSION!$M$176,\"\")","v":0},{"$f":"IFERROR([6]INVERSION!$N$176,\"\")","v":0},{"$f":"IFERROR([6]INVERSION!$O$176,\"\")","v":0},{"$f":"IFERROR([6]INVERSION!$P$176,\"\")","v":0},{"$f":"IFERROR([6]INVERSION!$Q$176,\"\")","v":0},{"$f":"IFERROR([6]INVERSION!$R$176,\"\")","v":0},{"$f":"IFERROR([6]INVERSION!$S$176,\"\")","v":"00:00:00"},{"$f":"IFERROR([6]INVERSION!$T$176,\"\")","v":"00:00:00"},{"$f":"IFERROR([6]INVERSION!$U$176,\"\")","v":0},{"$f":"IFERROR([6]INVERSION!$V$176,\"\")","v":0},{"$f":"IFERROR([6]INVERSION!$W$176,\"\")","v":0},{"$f":"IFERROR([6]INVERSION!$X$176,\"\")","v":0},{"$f":"IFERROR([6]INVERSION!$Y$176,\"\")","v":0},null,null,null,"","",null,0]
[null,null,null,null,null,null,{"$f":"IFERROR([6]INVERSION!$G$177,\"\")","v":0},{"$f":"IFERROR([6]INVERSION!$H$177,\"\")","v":0},{"$f":"IFERROR([6]INVERSION!$I$177,\"\")","v":0},{"$f":"IFERROR([6]INVERSION!$J$177,\"\")","v":0},{"$f":"IFERROR([6]INVERSION!$K$177,\"\")","v":0},{"$f":"IFERROR([6]INVERSION!$L$177,\"\")","v":0},{"$f":"IFERROR([6]INVERSION!$M$177,\"\")","v":0},{"$f":"IFERROR([6]INVERSION!$N$177,\"\")","v":0},{"$f":"IFERROR([6]INVERSION!$O$177,\"\")","v":0},{"$f":"IFERROR([6]INVERSION!$P$177,\"\")","v":0},{"$f":"IFERROR([6]INVERSION!$Q$177,\"\")","v":0},{"$f":"IFERROR([6]INVERSION!$R$177,\"\")","v":0},{"$f":"IFERROR([6]INVERSION!$S$177,\"\")","v":"00:00:00"},{"$f":"IFERROR([6]INVERSION!$T$177,\"\")","v":"00:00:00"},{"$f":"IFERROR([6]INVERSION!$U$177,\"\")","v":0},{"$f":"IFERROR([6]INVERSION!$V$177,\"\")","v":0},{"$f":"IFERROR([6]INVERSION!$W$177,\"\")","v":0},{"$f":"IFERROR([6]INVERSION!$X$177,\"\")","v":0},{"$f":"IFERROR([6]INVERSION!$Y$177,\"\")","v":0},null,null,null,"","",null,0]
[null,null,null,null,null,null,{"$f":"IFERROR([6]INVERSION!$G$178,\"\")","v":0},{"$f":"IFERROR([6]INVERSION!$H$178,\"\")","v":0},{"$f":"IFERROR([6]INVERSION!$I$178,\"\")","v":0},{"$f":"IFERROR([6]INVERSION!$J$178,\"\")","v":0},{"$f":"IFERROR([6]INVERSION!$K$178,\"\")","v":0},{"$f":"IFERROR([6]INVERSION!$L$178,\"\")","v":0},{"$f":"IFERROR([6]INVERSION!$M$178,\"\")","v":0},{"$f":"IFERROR([6]INVERSION!$N$178,\"\")","v":0},{"$f":"IFERROR([6]INVERSION!$O$178,\"\")","v":0},{"$f":"IFERROR([6]INVERSION!$P$178,\"\")","v":0},{"$f":"IFERROR([6]INVERSION!$Q$178,\"\")","v":0},{"$f":"IFERROR([6]INVERSION!$R$178,\"\")","v":0},{"$f":"IFERROR([6]INVERSION!$S$178,\"\")","v":"00:00:00"},{"$f":"IFERROR([6]INVERSION!$T$178,\"\")","v":"00:00:00"},{"$f":"IFERROR([6]INVERSION!$U$178,\"\")","v":0},{"$f":"IFERROR([6]INVERSION!$V$178,\"\")","v":0},{"$f":"IFERROR([6]INVERSION!$W$178,\"\")","v":0},{"$f":"IFERROR([6]INVERSION!$X$178,\"\")","v":0},{"$f":"IFERROR([6]INVERSION!$Y$178,\"\")","v":0}]
[null,null,null,null,null,null,{"$f":"IFERROR([6]INVERSION!$G$179,\"\")","v":0},{"$f":"IFERROR([6]INVERSION!$H$179,\"\")","v":0},{"$f":"IFERROR([6]INVERSION!$I$179,\"\")","v":0},{"$f":"IFERROR([6]INVERSION!$J$179,\"\")","v":0},{"$f":"IFERROR([6]INVERSION!$K$179,\"\")","v":0},{"$f":"IFERROR([6]INVERSION!$L$179,\"\")","v":0},{"$f":"IFERROR([6]INVERSION!$M$179,\"\")","v":0},{"$f":"IFERROR([6]INVERSION!$N$179,\"\")","v":0},{"$f":"IFERROR([6]INVERSION!$O$179,\"\")","v":0},{"$f":"IFERROR([6]INVERSION!$P$179,\"\")","v":0},{"$f":"IFERROR([6]INVERSION!$Q$179,\"\")","v":0},{"$f":"IFERROR([6]INVERSION!$R$179,\"\")","v":0},{"$f":"IFERROR([6]INVERSION!$S$179,\"\")","v":"00:00:00"},{"$f":"IFERROR([6]INVERSION!$T$179,\"\")","v":"00:00:00"},{"$f":"IFERROR([6]INVERSION!$U$179,\"\")","v":0},{"$f":"IFERROR([6]INVERSION!$V$179,\"\")","v":0},{"$f":"IFERROR([6]INVERSION!$W$179,\"\")","v":0},{"$f":"IFERROR([6]INVERSION!$X$179,\"\")","v":0},{"$f":"IFERROR([6]INVERSION!$Y$179,\"\")","v":0}]
[null,null,null,null,null,null,{"$f":"IFERROR([6]INVERSION!$G$180,\"\")","v":0},{"$f":"IFERROR([6]INVERSION!$H$180,\"\")","v":0},{"$f":"IFERROR([6]INVERSION!$I$180,\"\")","v":0},{"$f":"IFERROR([6]INVERSION!$J$180,\"\")","v":0},{"$f":"IFERROR([6]INVERSION!$K$180,\"\")","v":0},{"$f":"IFERROR([6]INVERSION!$L$180,\"\")","v":0},{"$f":"IFERROR([6]INVERSION!$M$180,\"\")","v":0},{"$f":"IFERROR([6]INVERSION!$N$180,\"\")","v":0},{"$f":"IFERROR([6]INVERSION!$O$180,\"\")","v":0},{"$f":"IFERROR([6]INVERSION!$P$180,\"\")","v":0},{"$f":"IFERROR([6]INVERSION!$Q$180,\"\")","v":0},{"$f":"IFERROR([6]INVERSION!$R$180,\"\")","v":0},{"$f":"IFERROR([6]INVERSION!$S$180,\"\")","v":"00:00:00"},{"$f":"IFERROR([6]INVERSION!$T$180,\"\")","v":"00:00:00"},{"$f":"IFERROR([6]INVERSION!$U$180,\"\")","v":0},{"$f":"IFERROR([6]INVERSION!$V$180,\"\")","v":0},{"$f":"IFERROR([6]INVERSION!$W$180,\"\")","v":0},{"$f":"IFERROR([6]INVERSION!$X$180,\"\")","v":0},{"$f":"IFERROR([6]INVERSION!$Y$180,\"\")","v":0}]
[null,null,null,null,null,null,{"$f":"IFERROR([6]INVERSION!$G$181,\"\")","v":0},{"$f":"IFERROR([6]INVERSION!$H$181,\"\")","v":0},{"$f":"IFERROR([6]INVERSION!$I$181,\"\")","v":0},{"$f":"IFERROR([6]INVERSION!$J$181,\"\")","v":0},{"$f":"IFERROR([6]INVERSION!$K$181,\"\")","v":0},{"$f":"IFERROR([6]INVERSION!$L$181,\"\")","v":0},{"$f":"IFERROR([6]INVERSION!$M$181,\"\")","v":0},{"$f":"IFERROR([6]INVERSION!$N$181,\"\")","v":0},{"$f":"IFERROR([6]INVERSION!$O$181,\"\")","v":0},{"$f":"IFERROR([6]INVERSION!$P$181,\"\")","v":0},{"$f":"IFERROR([6]INVERSION!$Q$181,\"\")","v":0},{"$f":"IFERROR([6]INVERSION!$R$181,\"\")","v":0},{"$f":"IFERROR([6]INVERSION!$S$181,\"\")","v":"00:00:00"},{"$f":"IFERROR([6]INVERSION!$T$181,\"\")","v":"00:00:00"},{"$f":"IFERROR([6]INVERSION!$U$181,\"\")","v":0},{"$f":"IFERROR([6]INVERSION!$V$181,\"\")","v":0},{"$f":"IFERROR([6]INVERSION!$W$181,\"\")","v":0},{"$f":"IFERROR([6]INVERSION!$X$181,\"\")","v":0},{"$f":"IFERROR([6]INVERSION!$Y$181,\"\")","v":0}]
[null,null,null,null,null,null,{"$f":"IFERROR([6]INVERSION!$G$182,\"\")","v":0},{"$f":"IFERROR([6]INVERSION!$H$182,\"\")","v":0},{"$f":"IFERROR([6]INVERSION!$I$182,\"\")","v":0},{"$f":"IFERROR([6]INVERSION!$J$182,\"\")","v":0},{"$f":"IFERROR([6]INVERSION!$K$182,\"\")","v":0},{"$f":"IFERROR([6]INVERSION!$L$182,\"\")","v":0},{"$f":"IFERROR([6]INVERSION!$M$182,\"\")","v":0},{"$f":"IFERROR([6]INVERSION!$N$182,\"\")","v":0},{"$f":"IFERROR([6]INVERSION!$O$182,\"\")","v":0},{"$f":"IFERROR([6]INVERSION!$P$182,\"\")","v":0},{"$f":"IFERROR([6]INVERSION!$Q$182,\"\")","v":0},{"$f":"IFERROR([6]INVERSION!$R$182,\"\")","v":0},{"$f":"IFERROR([6]INVERSION!$S$182,\"\")","v":"00:00:00"},{"$f":"IFERROR([6]INVERSION!$T$182,\"\")","v":"00:00:00"},{"$f":"IFERROR([6]INVERSION!$U$182,\"\")","v":0},{"$f":"IFERROR([6]INVERSION!$V$182,\"\")","v":0},{"$f":"IFERROR([6]INVERSION!$W$182,\"\")","v":0},{"$f":"IFERROR([6]INVERSION!$X$182,\"\")","v":0},{"$f":"IFERROR([6]INVERSION!$Y$182,\"\")","v":0}]
[null,null,null,null,null,null,{"$f":"IFERROR([6]INVERSION!$G$183,\"\")","v":0},{"$f":"IFERROR([6]INVERSION!$H$183,\"\")","v":0},{"$f":"IFERROR([6]INVERSION!$I$183,\"\")","v":0},{"$f":"IFERROR([6]INVERSION!$J$183,\"\")","v":0},{"$f":"IFERROR([6]INVERSION!$K$183,\"\")","v":0},{"$f":"IFERROR([6]INVERSION!$L$183,\"\")","v":0},{"$f":"IFERROR([6]INVERSION!$M$183,\"\")","v":0},{"$f":"IFERROR([6]INVERSION!$N$183,\"\")","v":0},{"$f":"IFERROR([6]INVERSION!$O$183,\"\")","v":0},{"$f":"IFERROR([6]INVERSION!$P$183,\"\")","v":0},{"$f":"IFERROR([6]INVERSION!$Q$183,\"\")","v":0},{"$f":"IFERROR([6]INVERSION!$R$183,\"\")","v":0},{"$f":"IFERROR([6]INVERSION!$S$183,\"\")","v":"00:00:00"},{"$f":"IFERROR([6]INVERSION!$T$183,\"\")","v":"00:00:00"},{"$f":"IFERROR([6]INVERSION!$U$183,\"\")","v":0},{"$f":"IFERROR([6]INVERSION!$V$183,\"\")","v":0},{"$f":"IFERROR([6]INVERSION!$W$183,\"\")","v":0},{"$f":"IFERROR([6]INVERSION!$X$183,\"\")","v":0},{"$f":"IFERROR([6]INVERSION!$Y$183,\"\")","v":0},null,null,null,"","",null,0]
[null,null,null,null,null,null,{"$f":"IFERROR([6]INVERSION!$G$184,\"\")","v":0},{"$f":"IFERROR([6]INVERSION!$H$184,\"\")","v":0},{"$f":"IFERROR([6]INVERSION!$I$184,\"\")","v":0},{"$f":"IFERROR([6]INVERSION!$J$184,\"\")","v":0},{"$f":"IFERROR([6]INVERSION!$K$184,\"\")","v":0},{"$f":"IFERROR([6]INVERSION!$L$184,\"\")","v":0},{"$f":"IFERROR([6]INVERSION!$M$184,\"\")","v":0},{"$f":"IFERROR([6]INVERSION!$N$184,\"\")","v":0},{"$f":"IFERROR([6]INVERSION!$O$184,\"\")","v":0},{"$f":"IFERROR([6]INVERSION!$P$184,\"\")","v":0},{"$f":"IFERROR([6]INVERSION!$Q$184,\"\")","v":0},{"$f":"IFERROR([6]INVERSION!$R$184,\"\")","v":0},{"$f":"IFERROR([6]INVERSION!$S$184,\"\")","v":"00:00:00"},{"$f":"IFERROR([6]INVERSION!$T$184,\"\")","v":"00:00:00"},{"$f":"IFERROR([6]INVERSION!$U$184,\"\")","v":0},{"$f":"IFERROR([6]INVERSION!$V$184,\"\")","v":0},{"$f":"IFERROR([6]INVERSION!$W$184,\"\")","v":0},{"$f":"IFERROR([6]INVERSION!$X$184,\"\")","v":0},{"$f":"IFERROR([6]INVERSION!$Y$184,\"\")","v":0},null,null,null,"","",null,0]
[null,null,null,null,null,null,{"$f":"IFERROR([6]INVERSION!$G$185,\"\")","v":0},{"$f":"IFERROR([6]INVERSION!$H$185,\"\")","v":0},{"$f":"IFERROR([6]INVERSION!$I$185,\"\")","v":0},{"$f":"IFERROR([6]INVERSION!$J$185,\"\")","v":0},{"$f":"IFERROR([6]INVERSION!$K$185,\"\")","v":0},{"$f":"IFERROR([6]INVERSION!$L$185,\"\")","v":0},{"$f":"IFERROR([6]INVERSION!$M$185,\"\")","v":0},{"$f":"IFERROR([6]INVERSION!$N$185,\"\")","v":0},{"$f":"IFERROR([6]INVERSION!$O$185,\"\")","v":0},{"$f":"IFERROR([6]INVERSION!$P$185,\"\")","v":0},{"$f":"IFERROR([6]INVERSION!$Q$185,\"\")","v":0},{"$f":"IFERROR([6]INVERSION!$R$185,\"\")","v":0},{"$f":"IFERROR([6]INVERSION!$S$185,\"\")","v":"00:00:00"},{"$f":"IFERROR([6]INVERSION!$T$185,\"\")","v":"00:00:00"},{"$f":"IFERROR([6]INVERSION!$U$185,\"\")","v":0},{"$f":"IFERROR([6]INVERSION!$V$185,\"\")","v":0},{"$f":"IFERROR([6]INVERSION!$W$185,\"\")","v":0},{"$f":"IFERROR([6]INVERSION!$X$185,\"\")","v":0},{"$f":"IFERROR([6]INVERSION!$Y$185,\"\")","v":0},null,null,null,"","",null,0]
["4. Talento Humano","Talento Humano: Fortalecer el talento humano en la Rama Judicial para que sea eficiente, capacitado y realice su labor en ambientes saludables y seguros. Ampliar la cobertura de la carrera judicial y mejorar la oferta de formación, que esté disponible para todos los servidores judiciales e impacte positivamente el servicio de justicia y responda a las necesidades reales del ejercicio de la función judicial.","1. Ampliar la cobertura de la carrera judicial optimizando los procesos de los concursos de méritos y propender por mitigar su litigiosidad.","Cobertura de la carrera judicial diferenciada entre magistrados, jueces y empleados","# de cargos provistos por carrera judicial/# de cargos de carrera judicial","1. Gestionar el desarrollo de las competencias, la toma de conciencia , la cultura  organizacional  y el compromiso de los  servidores judiciales, contratistas, practicantes y  judicantes de contribuir a generar valor público en la administración de justicia, en el marco de  cumplimiento de los requisitos  aplicables y el comportamiento ético.",{"$f":"IFERROR([6]INVERSION!$G$186,\"\")","v":0},{"$f":"IFERROR([6]INVERSION!$H$186,\"\")","v":0},{"$f":"IFERROR([6]INVERSION!$I$186,\"\")","v":0},{"$f":"IFERROR([6]INVERSION!$J$186,\"\")","v":0},{"$f":"IFERROR([6]INVERSION!$K$186,\"\")","v":0},{"$f":"IFERROR([6]INVERSION!$L$186,\"\")","v":0},{"$f":"IFERROR([6]INVERSION!$M$186,\"\")","v":0},{"$f":"IFERROR([6]INVERSION!$N$186,\"\")","v":0},{"$f":"IFERROR([6]INVERSION!$O$186,\"\")","v":0},{"$f":"IFERROR([6]INVERSION!$P$186,\"\")","v":0},{"$f":"IFERROR([6]INVERSION!$Q$186,\"\")","v":0},{"$f":"IFERROR([6]INVERSION!$R$186,\"\")","v":0},{"$f":"IFERROR([6]INVERSION!$S$186,\"\")","v":"00:00:00"},{"$f":"IFERROR([6]INVERSION!$T$186,\"\")","v":"00:00:00"},{"$f":"IFERROR([6]INVERSION!$U$186,\"\")","v":0},{"$f":"IFERROR([6]INVERSION!$V$186,\"\")","v":0},{"$f":"IFERROR([6]INVERSION!$W$186,\"\")","v":0},{"$f":"IFERROR([6]INVERSION!$X$186,\"\")","v":0},{"$f":"IFERROR([6]INVERSION!$Y$186,\"\")","v":0},null,null,null,"","",null,0]
[null,null,null,null,null,null,{"$f":"IFERROR([6]INVERSION!$G$187,\"\")","v":0},{"$f":"IFERROR([6]INVERSION!$H$187,\"\")","v":0},{"$f":"IFERROR([6]INVERSION!$I$187,\"\")","v":0},{"$f":"IFERROR([6]INVERSION!$J$187,\"\")","v":0},{"$f":"IFERROR([6]INVERSION!$K$187,\"\")","v":0},{"$f":"IFERROR([6]INVERSION!$L$187,\"\")","v":0},{"$f":"IFERROR([6]INVERSION!$M$187,\"\")","v":0},{"$f":"IFERROR([6]INVERSION!$N$187,\"\")","v":0},{"$f":"IFERROR([6]INVERSION!$O$187,\"\")","v":0},{"$f":"IFERROR([6]INVERSION!$P$187,\"\")","v":0},{"$f":"IFERROR([6]INVERSION!$Q$187,\"\")","v":0},{"$f":"IFERROR([6]INVERSION!$R$187,\"\")","v":0},{"$f":"IFERROR([6]INVERSION!$S$187,\"\")","v":"00:00:00"},{"$f":"IFERROR([6]INVERSION!$T$187,\"\")","v":"00:00:00"},{"$f":"IFERROR([6]INVERSION!$U$187,\"\")","v":0},{"$f":"IFERROR([6]INVERSION!$V$187,\"\")","v":0},{"$f":"IFERROR([6]INVERSION!$W$187,\"\")","v":0},{"$f":"IFERROR([6]INVERSION!$X$187,\"\")","v":0},{"$f":"IFERROR([6]INVERSION!$Y$187,\"\")","v":0},null,null,null,"","",null,0]
[null,null,null,null,null,null,{"$f":"IFERROR([6]INVERSION!$G$188,\"\")","v":0},{"$f":"IFERROR([6]INVERSION!$H$188,\"\")","v":0},{"$f":"IFERROR([6]INVERSION!$I$188,\"\")","v":0},{"$f":"IFERROR([6]INVERSION!$J$188,\"\")","v":0},{"$f":"IFERROR([6]INVERSION!$K$188,\"\")","v":0},{"$f":"IFERROR([6]INVERSION!$L$188,\"\")","v":0},{"$f":"IFERROR([6]INVERSION!$M$188,\"\")","v":0},{"$f":"IFERROR([6]INVERSION!$N$188,\"\")","v":0},{"$f":"IFERROR([6]INVERSION!$O$188,\"\")","v":0},{"$f":"IFERROR([6]INVERSION!$P$188,\"\")","v":0},{"$f":"IFERROR([6]INVERSION!$Q$188,\"\")","v":0},{"$f":"IFERROR([6]INVERSION!$R$188,\"\")","v":0},{"$f":"IFERROR([6]INVERSION!$S$188,\"\")","v":"00:00:00"},{"$f":"IFERROR([6]INVERSION!$T$188,\"\")","v":"00:00:00"},{"$f":"IFERROR([6]INVERSION!$U$188,\"\")","v":0},{"$f":"IFERROR([6]INVERSION!$V$188,\"\")","v":0},{"$f":"IFERROR([6]INVERSION!$W$188,\"\")","v":0},{"$f":"IFERROR([6]INVERSION!$X$188,\"\")","v":0},{"$f":"IFERROR([6]INVERSION!$Y$188,\"\")","v":0}]
[null,null,null,null,null,null,{"$f":"IFERROR([6]INVERSION!$G$189,\"\")","v":0},{"$f":"IFERROR([6]INVERSION!$H$189,\"\")","v":0},{"$f":"IFERROR([6]INVERSION!$I$189,\"\")","v":0},{"$f":"IFERROR([6]INVERSION!$J$189,\"\")","v":0},{"$f":"IFERROR([6]INVERSION!$K$189,\"\")","v":0},{"$f":"IFERROR([6]INVERSION!$L$189,\"\")","v":0},{"$f":"IFERROR([6]INVERSION!$M$189,\"\")","v":0},{"$f":"IFERROR([6]INVERSION!$N$189,\"\")","v":0},{"$f":"IFERROR([6]INVERSION!$O$189,\"\")","v":0},{"$f":"IFERROR([6]INVERSION!$P$189,\"\")","v":0},{"$f":"IFERROR([6]INVERSION!$Q$189,\"\")","v":0},{"$f":"IFERROR([6]INVERSION!$R$189,\"\")","v":0},{"$f":"IFERROR([6]INVERSION!$S$189,\"\")","v":"00:00:00"},{"$f":"IFERROR([6]INVERSION!$T$189,\"\")","v":"00:00:00"},{"$f":"IFERROR([6]INVERSION!$U$189,\"\")","v":0},{"$f":"IFERROR([6]INVERSION!$V$189,\"\")","v":0},{"$f":"IFERROR([6]INVERSION!$W$189,\"\")","v":0},{"$f":"IFERROR([6]INVERSION!$X$189,\"\")","v":0},{"$f":"IFERROR([6]INVERSION!$Y$189,\"\")","v":0}]
[null,null,null,null,null,null,{"$f":"IFERROR([6]INVERSION!$G$190,\"\")","v":0},{"$f":"IFERROR([6]INVERSION!$H$190,\"\")","v":0},{"$f":"IFERROR([6]INVERSION!$I$190,\"\")","v":0},{"$f":"IFERROR([6]INVERSION!$J$190,\"\")","v":0},{"$f":"IFERROR([6]INVERSION!$K$190,\"\")","v":0},{"$f":"IFERROR([6]INVERSION!$L$190,\"\")","v":0},{"$f":"IFERROR([6]INVERSION!$M$190,\"\")","v":0},{"$f":"IFERROR([6]INVERSION!$N$190,\"\")","v":0},{"$f":"IFERROR([6]INVERSION!$O$190,\"\")","v":0},{"$f":"IFERROR([6]INVERSION!$P$190,\"\")","v":0},{"$f":"IFERROR([6]INVERSION!$Q$190,\"\")","v":0},{"$f":"IFERROR([6]INVERSION!$R$190,\"\")","v":0},{"$f":"IFERROR([6]INVERSION!$S$190,\"\")","v":"00:00:00"},{"$f":"IFERROR([6]INVERSION!$T$190,\"\")","v":"00:00:00"},{"$f":"IFERROR([6]INVERSION!$U$190,\"\")","v":0},{"$f":"IFERROR([6]INVERSION!$V$190,\"\")","v":0},{"$f":"IFERROR([6]INVERSION!$W$190,\"\")","v":0},{"$f":"IFERROR([6]INVERSION!$X$190,\"\")","v":0},{"$f":"IFERROR([6]INVERSION!$Y$190,\"\")","v":0}]
[null,null,null,null,null,null,{"$f":"IFERROR([6]INVERSION!$G$191,\"\")","v":0},{"$f":"IFERROR([6]INVERSION!$H$191,\"\")","v":0},{"$f":"IFERROR([6]INVERSION!$I$191,\"\")","v":0},{"$f":"IFERROR([6]INVERSION!$J$191,\"\")","v":0},{"$f":"IFERROR([6]INVERSION!$K$191,\"\")","v":0},{"$f":"IFERROR([6]INVERSION!$L$191,\"\")","v":0},{"$f":"IFERROR([6]INVERSION!$M$191,\"\")","v":0},{"$f":"IFERROR([6]INVERSION!$N$191,\"\")","v":0},{"$f":"IFERROR([6]INVERSION!$O$191,\"\")","v":0},{"$f":"IFERROR([6]INVERSION!$P$191,\"\")","v":0},{"$f":"IFERROR([6]INVERSION!$Q$191,\"\")","v":0},{"$f":"IFERROR([6]INVERSION!$R$191,\"\")","v":0},{"$f":"IFERROR([6]INVERSION!$S$191,\"\")","v":"00:00:00"},{"$f":"IFERROR([6]INVERSION!$T$191,\"\")","v":"00:00:00"},{"$f":"IFERROR([6]INVERSION!$U$191,\"\")","v":0},{"$f":"IFERROR([6]INVERSION!$V$191,\"\")","v":0},{"$f":"IFERROR([6]INVERSION!$W$191,\"\")","v":0},{"$f":"IFERROR([6]INVERSION!$X$191,\"\")","v":0},{"$f":"IFERROR([6]INVERSION!$Y$191,\"\")","v":0}]
[null,null,null,null,null,null,{"$f":"IFERROR([6]INVERSION!$G$192,\"\")","v":0},{"$f":"IFERROR([6]INVERSION!$H$192,\"\")","v":0},{"$f":"IFERROR([6]INVERSION!$I$192,\"\")","v":0},{"$f":"IFERROR([6]INVERSION!$J$192,\"\")","v":0},{"$f":"IFERROR([6]INVERSION!$K$192,\"\")","v":0},{"$f":"IFERROR([6]INVERSION!$L$192,\"\")","v":0},{"$f":"IFERROR([6]INVERSION!$M$192,\"\")","v":0},{"$f":"IFERROR([6]INVERSION!$N$192,\"\")","v":0},{"$f":"IFERROR([6]INVERSION!$O$192,\"\")","v":0},{"$f":"IFERROR([6]INVERSION!$P$192,\"\")","v":0},{"$f":"IFERROR([6]INVERSION!$Q$192,\"\")","v":0},{"$f":"IFERROR([6]INVERSION!$R$192,\"\")","v":0},{"$f":"IFERROR([6]INVERSION!$S$192,\"\")","v":"00:00:00"},{"$f":"IFERROR([6]INVERSION!$T$192,\"\")","v":"00:00:00"},{"$f":"IFERROR([6]INVERSION!$U$192,\"\")","v":0},{"$f":"IFERROR([6]INVERSION!$V$192,\"\")","v":0},{"$f":"IFERROR([6]INVERSION!$W$192,\"\")","v":0},{"$f":"IFERROR([6]INVERSION!$X$192,\"\")","v":0},{"$f":"IFERROR([6]INVERSION!$Y$192,\"\")","v":0}]
[null,null,null,null,null,null,{"$f":"IFERROR([6]INVERSION!$G$193,\"\")","v":0},{"$f":"IFERROR([6]INVERSION!$H$193,\"\")","v":0},{"$f":"IFERROR([6]INVERSION!$I$193,\"\")","v":0},{"$f":"IFERROR([6]INVERSION!$J$193,\"\")","v":0},{"$f":"IFERROR([6]INVERSION!$K$193,\"\")","v":0},{"$f":"IFERROR([6]INVERSION!$L$193,\"\")","v":0},{"$f":"IFERROR([6]INVERSION!$M$193,\"\")","v":0},{"$f":"IFERROR([6]INVERSION!$N$193,\"\")","v":0},{"$f":"IFERROR([6]INVERSION!$O$193,\"\")","v":0},{"$f":"IFERROR([6]INVERSION!$P$193,\"\")","v":0},{"$f":"IFERROR([6]INVERSION!$Q$193,\"\")","v":0},{"$f":"IFERROR([6]INVERSION!$R$193,\"\")","v":0},{"$f":"IFERROR([6]INVERSION!$S$193,\"\")","v":"00:00:00"},{"$f":"IFERROR([6]INVERSION!$T$193,\"\")","v":"00:00:00"},{"$f":"IFERROR([6]INVERSION!$U$193,\"\")","v":0},{"$f":"IFERROR([6]INVERSION!$V$193,\"\")","v":0},{"$f":"IFERROR([6]INVERSION!$W$193,\"\")","v":0},{"$f":"IFERROR([6]INVERSION!$X$193,\"\")","v":0},{"$f":"IFERROR([6]INVERSION!$Y$193,\"\")","v":0},null,null,null,"","",null,0]
[null,null,null,null,null,null,{"$f":"IFERROR([6]INVERSION!$G$194,\"\")","v":0},{"$f":"IFERROR([6]INVERSION!$H$194,\"\")","v":0},{"$f":"IFERROR([6]INVERSION!$I$194,\"\")","v":0},{"$f":"IFERROR([6]INVERSION!$J$194,\"\")","v":0},{"$f":"IFERROR([6]INVERSION!$K$194,\"\")","v":0},{"$f":"IFERROR([6]INVERSION!$L$194,\"\")","v":0},{"$f":"IFERROR([6]INVERSION!$M$194,\"\")","v":0},{"$f":"IFERROR([6]INVERSION!$N$194,\"\")","v":0},{"$f":"IFERROR([6]INVERSION!$O$194,\"\")","v":0},{"$f":"IFERROR([6]INVERSION!$P$194,\"\")","v":0},{"$f":"IFERROR([6]INVERSION!$Q$194,\"\")","v":0},{"$f":"IFERROR([6]INVERSION!$R$194,\"\")","v":0},{"$f":"IFERROR([6]INVERSION!$S$194,\"\")","v":"00:00:00"},{"$f":"IFERROR([6]INVERSION!$T$194,\"\")","v":"00:00:00"},{"$f":"IFERROR([6]INVERSION!$U$194,\"\")","v":0},{"$f":"IFERROR([6]INVERSION!$V$194,\"\")","v":0},{"$f":"IFERROR([6]INVERSION!$W$194,\"\")","v":0},{"$f":"IFERROR([6]INVERSION!$X$194,\"\")","v":0},{"$f":"IFERROR([6]INVERSION!$Y$194,\"\")","v":0},null,null,null,"","",null,0]
[null,null,null,null,null,null,{"$f":"IFERROR([6]INVERSION!$G$195,\"\")","v":0},{"$f":"IFERROR([6]INVERSION!$H$195,\"\")","v":0},{"$f":"IFERROR([6]INVERSION!$I$195,\"\")","v":0},{"$f":"IFERROR([6]INVERSION!$J$195,\"\")","v":0},{"$f":"IFERROR([6]INVERSION!$K$195,\"\")","v":0},{"$f":"IFERROR([6]INVERSION!$L$195,\"\")","v":0},{"$f":"IFERROR([6]INVERSION!$M$195,\"\")","v":0},{"$f":"IFERROR([6]INVERSION!$N$195,\"\")","v":0},{"$f":"IFERROR([6]INVERSION!$O$195,\"\")","v":0},{"$f":"IFERROR([6]INVERSION!$P$195,\"\")","v":0},{"$f":"IFERROR([6]INVERSION!$Q$195,\"\")","v":0},{"$f":"IFERROR([6]INVERSION!$R$195,\"\")","v":0},{"$f":"IFERROR([6]INVERSION!$S$195,\"\")","v":"00:00:00"},{"$f":"IFERROR([6]INVERSION!$T$195,\"\")","v":"00:00:00"},{"$f":"IFERROR([6]INVERSION!$U$195,\"\")","v":0},{"$f":"IFERROR([6]INVERSION!$V$195,\"\")","v":0},{"$f":"IFERROR([6]INVERSION!$W$195,\"\")","v":0},{"$f":"IFERROR([6]INVERSION!$X$195,\"\")","v":0},{"$f":"IFERROR([6]INVERSION!$Y$195,\"\")","v":0},null,null,null,"","",null,0]
[null,null,"2. Impactar la función y servicios que presta la Rama Judicial, a través de una formación integral desde una visión de gestión del conocimiento, relacionada con los problemas de la justicia y los problemas de gestión de quienes administran los recursos de la justicia, y potenciando el uso de medios virtuales.","Cobertura de la formación impartida por la Escuela Judicial en el fortalecimiento de las competencias de los servidores judiciales","# servidores que no han recibido ningún curso de formación en los dos años anteriores al proceso de formación, discriminad o por funcionarios y empleados, municipio y especialida d /# servidores totales, discriminad o por funcionarios y empleados, municipio y especialida d",null,{"$f":"IFERROR([6]INVERSION!$G$196,\"\")","v":0},{"$f":"IFERROR([6]INVERSION!$H$196,\"\")","v":0},{"$f":"IFERROR([6]INVERSION!$I$196,\"\")","v":0},{"$f":"IFERROR([6]INVERSION!$J$196,\"\")","v":0},{"$f":"IFERROR([6]INVERSION!$K$196,\"\")","v":0},{"$f":"IFERROR([6]INVERSION!$L$196,\"\")","v":0},{"$f":"IFERROR([6]INVERSION!$M$196,\"\")","v":0},{"$f":"IFERROR([6]INVERSION!$N$196,\"\")","v":0},{"$f":"IFERROR([6]INVERSION!$O$196,\"\")","v":0},{"$f":"IFERROR([6]INVERSION!$P$196,\"\")","v":0},{"$f":"IFERROR([6]INVERSION!$Q$196,\"\")","v":0},{"$f":"IFERROR([6]INVERSION!$R$196,\"\")","v":0},{"$f":"IFERROR([6]INVERSION!$S$196,\"\")","v":"00:00:00"},{"$f":"IFERROR([6]INVERSION!$T$196,\"\")","v":"00:00:00"},{"$f":"IFERROR([6]INVERSION!$U$196,\"\")","v":0},{"$f":"IFERROR([6]INVERSION!$V$196,\"\")","v":0},{"$f":"IFERROR([6]INVERSION!$W$196,\"\")","v":0},{"$f":"IFERROR([6]INVERSION!$X$196,\"\")","v":0},{"$f":"IFERROR([6]INVERSION!$Y$196,\"\")","v":0},null,null,null,"","",null,0]
[null,null,null,null,null,null,{"$f":"IFERROR([6]INVERSION!$G$197,\"\")","v":0},{"$f":"IFERROR([6]INVERSION!$H$197,\"\")","v":0},{"$f":"IFERROR([6]INVERSION!$I$197,\"\")","v":0},{"$f":"IFERROR([6]INVERSION!$J$197,\"\")","v":0},{"$f":"IFERROR([6]INVERSION!$K$197,\"\")","v":0},{"$f":"IFERROR([6]INVERSION!$L$197,\"\")","v":0},{"$f":"IFERROR([6]INVERSION!$M$197,\"\")","v":0},{"$f":"IFERROR([6]INVERSION!$N$197,\"\")","v":0},{"$f":"IFERROR([6]INVERSION!$O$197,\"\")","v":0},{"$f":"IFERROR([6]INVERSION!$P$197,\"\")","v":0},{"$f":"IFERROR([6]INVERSION!$Q$197,\"\")","v":0},{"$f":"IFERROR([6]INVERSION!$R$197,\"\")","v":0},{"$f":"IFERROR([6]INVERSION!$S$197,\"\")","v":"00:00:00"},{"$f":"IFERROR([6]INVERSION!$T$197,\"\")","v":"00:00:00"},{"$f":"IFERROR([6]INVERSION!$U$197,\"\")","v":0},{"$f":"IFERROR([6]INVERSION!$V$197,\"\")","v":0},{"$f":"IFERROR([6]INVERSION!$W$197,\"\")","v":0},{"$f":"IFERROR([6]INVERSION!$X$197,\"\")","v":0},{"$f":"IFERROR([6]INVERSION!$Y$197,\"\")","v":0},null,null,null,"","",null,0]
[null,null,null,null,null,null,{"$f":"IFERROR([6]INVERSION!$G$198,\"\")","v":0},{"$f":"IFERROR([6]INVERSION!$H$198,\"\")","v":0},{"$f":"IFERROR([6]INVERSION!$I$198,\"\")","v":0},{"$f":"IFERROR([6]INVERSION!$J$198,\"\")","v":0},{"$f":"IFERROR([6]INVERSION!$K$198,\"\")","v":0},{"$f":"IFERROR([6]INVERSION!$L$198,\"\")","v":0},{"$f":"IFERROR([6]INVERSION!$M$198,\"\")","v":0},{"$f":"IFERROR([6]INVERSION!$N$198,\"\")","v":0},{"$f":"IFERROR([6]INVERSION!$O$198,\"\")","v":0},{"$f":"IFERROR([6]INVERSION!$P$198,\"\")","v":0},{"$f":"IFERROR([6]INVERSION!$Q$198,\"\")","v":0},{"$f":"IFERROR([6]INVERSION!$R$198,\"\")","v":0},{"$f":"IFERROR([6]INVERSION!$S$198,\"\")","v":"00:00:00"},{"$f":"IFERROR([6]INVERSION!$T$198,\"\")","v":"00:00:00"},{"$f":"IFERROR([6]INVERSION!$U$198,\"\")","v":0},{"$f":"IFERROR([6]INVERSION!$V$198,\"\")","v":0},{"$f":"IFERROR([6]INVERSION!$W$198,\"\")","v":0},{"$f":"IFERROR([6]INVERSION!$X$198,\"\")","v":0},{"$f":"IFERROR([6]INVERSION!$Y$198,\"\")","v":0}]
[null,null,null,null,null,null,{"$f":"IFERROR([6]INVERSION!$G$199,\"\")","v":0},{"$f":"IFERROR([6]INVERSION!$H$199,\"\")","v":0},{"$f":"IFERROR([6]INVERSION!$I$199,\"\")","v":0},{"$f":"IFERROR([6]INVERSION!$J$199,\"\")","v":0},{"$f":"IFERROR([6]INVERSION!$K$199,\"\")","v":0},{"$f":"IFERROR([6]INVERSION!$L$199,\"\")","v":0},{"$f":"IFERROR([6]INVERSION!$M$199,\"\")","v":0},{"$f":"IFERROR([6]INVERSION!$N$199,\"\")","v":0},{"$f":"IFERROR([6]INVERSION!$O$199,\"\")","v":0},{"$f":"IFERROR([6]INVERSION!$P$199,\"\")","v":0},{"$f":"IFERROR([6]INVERSION!$Q$199,\"\")","v":0},{"$f":"IFERROR([6]INVERSION!$R$199,\"\")","v":0},{"$f":"IFERROR([6]INVERSION!$S$199,\"\")","v":"00:00:00"},{"$f":"IFERROR([6]INVERSION!$T$199,\"\")","v":"00:00:00"},{"$f":"IFERROR([6]INVERSION!$U$199,\"\")","v":0},{"$f":"IFERROR([6]INVERSION!$V$199,\"\")","v":0},{"$f":"IFERROR([6]INVERSION!$W$199,\"\")","v":0},{"$f":"IFERROR([6]INVERSION!$X$199,\"\")","v":0},{"$f":"IFERROR([6]INVERSION!$Y$199,\"\")","v":0}]
[null,null,null,null,null,null,{"$f":"IFERROR([6]INVERSION!$G$200,\"\")","v":0},{"$f":"IFERROR([6]INVERSION!$H$200,\"\")","v":0},{"$f":"IFERROR([6]INVERSION!$I$200,\"\")","v":0},{"$f":"IFERROR([6]INVERSION!$J$200,\"\")","v":0},{"$f":"IFERROR([6]INVERSION!$K$200,\"\")","v":0},{"$f":"IFERROR([6]INVERSION!$L$200,\"\")","v":0},{"$f":"IFERROR([6]INVERSION!$M$200,\"\")","v":0},{"$f":"IFERROR([6]INVERSION!$N$200,\"\")","v":0},{"$f":"IFERROR([6]INVERSION!$O$200,\"\")","v":0},{"$f":"IFERROR([6]INVERSION!$P$200,\"\")","v":0},{"$f":"IFERROR([6]INVERSION!$Q$200,\"\")","v":0},{"$f":"IFERROR([6]INVERSION!$R$200,\"\")","v":0},{"$f":"IFERROR([6]INVERSION!$S$200,\"\")","v":"00:00:00"},{"$f":"IFERROR([6]INVERSION!$T$200,\"\")","v":"00:00:00"},{"$f":"IFERROR([6]INVERSION!$U$200,\"\")","v":0},{"$f":"IFERROR([6]INVERSION!$V$200,\"\")","v":0},{"$f":"IFERROR([6]INVERSION!$W$200,\"\")","v":0},{"$f":"IFERROR([6]INVERSION!$X$200,\"\")","v":0},{"$f":"IFERROR([6]INVERSION!$Y$200,\"\")","v":0}]
[null,null,null,null,null,null,{"$f":"IFERROR([6]INVERSION!$G$201,\"\")","v":0},{"$f":"IFERROR([6]INVERSION!$H$201,\"\")","v":0},{"$f":"IFERROR([6]INVERSION!$I$201,\"\")","v":0},{"$f":"IFERROR([6]INVERSION!$J$201,\"\")","v":0},{"$f":"IFERROR([6]INVERSION!$K$201,\"\")","v":0},{"$f":"IFERROR([6]INVERSION!$L$201,\"\")","v":0},{"$f":"IFERROR([6]INVERSION!$M$201,\"\")","v":0},{"$f":"IFERROR([6]INVERSION!$N$201,\"\")","v":0},{"$f":"IFERROR([6]INVERSION!$O$201,\"\")","v":0},{"$f":"IFERROR([6]INVERSION!$P$201,\"\")","v":0},{"$f":"IFERROR([6]INVERSION!$Q$201,\"\")","v":0},{"$f":"IFERROR([6]INVERSION!$R$201,\"\")","v":0},{"$f":"IFERROR([6]INVERSION!$S$201,\"\")","v":"00:00:00"},{"$f":"IFERROR([6]INVERSION!$T$201,\"\")","v":"00:00:00"},{"$f":"IFERROR([6]INVERSION!$U$201,\"\")","v":0},{"$f":"IFERROR([6]INVERSION!$V$201,\"\")","v":0},{"$f":"IFERROR([6]INVERSION!$W$201,\"\")","v":0},{"$f":"IFERROR([6]INVERSION!$X$201,\"\")","v":0},{"$f":"IFERROR([6]INVERSION!$Y$201,\"\")","v":0}]
[null,null,null,null,null,null,{"$f":"IFERROR([6]INVERSION!$G$202,\"\")","v":0},{"$f":"IFERROR([6]INVERSION!$H$202,\"\")","v":0},{"$f":"IFERROR([6]INVERSION!$I$202,\"\")","v":0},{"$f":"IFERROR([6]INVERSION!$J$202,\"\")","v":0},{"$f":"IFERROR([6]INVERSION!$K$202,\"\")","v":0},{"$f":"IFERROR([6]INVERSION!$L$202,\"\")","v":0},{"$f":"IFERROR([6]INVERSION!$M$202,\"\")","v":0},{"$f":"IFERROR([6]INVERSION!$N$202,\"\")","v":0},{"$f":"IFERROR([6]INVERSION!$O$202,\"\")","v":0},{"$f":"IFERROR([6]INVERSION!$P$202,\"\")","v":0},{"$f":"IFERROR([6]INVERSION!$Q$202,\"\")","v":0},{"$f":"IFERROR([6]INVERSION!$R$202,\"\")","v":0},{"$f":"IFERROR([6]INVERSION!$S$202,\"\")","v":"00:00:00"},{"$f":"IFERROR([6]INVERSION!$T$202,\"\")","v":"00:00:00"},{"$f":"IFERROR([6]INVERSION!$U$202,\"\")","v":0},{"$f":"IFERROR([6]INVERSION!$V$202,\"\")","v":0},{"$f":"IFERROR([6]INVERSION!$W$202,\"\")","v":0},{"$f":"IFERROR([6]INVERSION!$X$202,\"\")","v":0},{"$f":"IFERROR([6]INVERSION!$Y$202,\"\")","v":0}]
[null,null,null,null,null,null,{"$f":"IFERROR([6]INVERSION!$G$203,\"\")","v":0},{"$f":"IFERROR([6]INVERSION!$H$203,\"\")","v":0},{"$f":"IFERROR([6]INVERSION!$I$203,\"\")","v":0},{"$f":"IFERROR([6]INVERSION!$J$203,\"\")","v":0},{"$f":"IFERROR([6]INVERSION!$K$203,\"\")","v":0},{"$f":"IFERROR([6]INVERSION!$L$203,\"\")","v":0},{"$f":"IFERROR([6]INVERSION!$M$203,\"\")","v":0},{"$f":"IFERROR([6]INVERSION!$N$203,\"\")","v":0},{"$f":"IFERROR([6]INVERSION!$O$203,\"\")","v":0},{"$f":"IFERROR([6]INVERSION!$P$203,\"\")","v":0},{"$f":"IFERROR([6]INVERSION!$Q$203,\"\")","v":0},{"$f":"IFERROR([6]INVERSION!$R$203,\"\")","v":0},{"$f":"IFERROR([6]INVERSION!$S$203,\"\")","v":"00:00:00"},{"$f":"IFERROR([6]INVERSION!$T$203,\"\")","v":"00:00:00"},{"$f":"IFERROR([6]INVERSION!$U$203,\"\")","v":0},{"$f":"IFERROR([6]INVERSION!$V$203,\"\")","v":0},{"$f":"IFERROR([6]INVERSION!$W$203,\"\")","v":0},{"$f":"IFERROR([6]INVERSION!$X$203,\"\")","v":0},{"$f":"IFERROR([6]INVERSION!$Y$203,\"\")","v":0},null,null,null,"","",null,0]
[null,null,null,null,null,null,{"$f":"IFERROR([6]INVERSION!$G$204,\"\")","v":0},{"$f":"IFERROR([6]INVERSION!$H$204,\"\")","v":0},{"$f":"IFERROR([6]INVERSION!$I$204,\"\")","v":0},{"$f":"IFERROR([6]INVERSION!$J$204,\"\")","v":0},{"$f":"IFERROR([6]INVERSION!$K$204,\"\")","v":0},{"$f":"IFERROR([6]INVERSION!$L$204,\"\")","v":0},{"$f":"IFERROR([6]INVERSION!$M$204,\"\")","v":0},{"$f":"IFERROR([6]INVERSION!$N$204,\"\")","v":0},{"$f":"IFERROR([6]INVERSION!$O$204,\"\")","v":0},{"$f":"IFERROR([6]INVERSION!$P$204,\"\")","v":0},{"$f":"IFERROR([6]INVERSION!$Q$204,\"\")","v":0},{"$f":"IFERROR([6]INVERSION!$R$204,\"\")","v":0},{"$f":"IFERROR([6]INVERSION!$S$204,\"\")","v":"00:00:00"},{"$f":"IFERROR([6]INVERSION!$T$204,\"\")","v":"00:00:00"},{"$f":"IFERROR([6]INVERSION!$U$204,\"\")","v":0},{"$f":"IFERROR([6]INVERSION!$V$204,\"\")","v":0},{"$f":"IFERROR([6]INVERSION!$W$204,\"\")","v":0},{"$f":"IFERROR([6]INVERSION!$X$204,\"\")","v":0},{"$f":"IFERROR([6]INVERSION!$Y$204,\"\")","v":0},null,null,null,"","",null,0]
[null,null,null,null,null,null,{"$f":"IFERROR([6]INVERSION!$G$205,\"\")","v":0},{"$f":"IFERROR([6]INVERSION!$H$205,\"\")","v":0},{"$f":"IFERROR([6]INVERSION!$I$205,\"\")","v":0},{"$f":"IFERROR([6]INVERSION!$J$205,\"\")","v":0},{"$f":"IFERROR([6]INVERSION!$K$205,\"\")","v":0},{"$f":"IFERROR([6]INVERSION!$L$205,\"\")","v":0},{"$f":"IFERROR([6]INVERSION!$M$205,\"\")","v":0},{"$f":"IFERROR([6]INVERSION!$N$205,\"\")","v":0},{"$f":"IFERROR([6]INVERSION!$O$205,\"\")","v":0},{"$f":"IFERROR([6]INVERSION!$P$205,\"\")","v":0},{"$f":"IFERROR([6]INVERSION!$Q$205,\"\")","v":0},{"$f":"IFERROR([6]INVERSION!$R$205,\"\")","v":0},{"$f":"IFERROR([6]INVERSION!$S$205,\"\")","v":"00:00:00"},{"$f":"IFERROR([6]INVERSION!$T$205,\"\")","v":"00:00:00"},{"$f":"IFERROR([6]INVERSION!$U$205,\"\")","v":0},{"$f":"IFERROR([6]INVERSION!$V$205,\"\")","v":0},{"$f":"IFERROR([6]INVERSION!$W$205,\"\")","v":0},{"$f":"IFERROR([6]INVERSION!$X$205,\"\")","v":0},{"$f":"IFERROR([6]INVERSION!$Y$205,\"\")","v":0},null,null,null,"","",null,0]
[null,null,"3. Promover la incorporación de la perspectiva de género y el enfoque diferencial en los fallos judiciales y en la atención a los ciudadanos, la administración de la Rama Judicial, la administración de la carrera judicial y la elaboración de listas para altas Cortes. ","Enfoque diferencial y perspectiva de género en las decisiones judiciales de la Rama Judicial","# de decisiones judiciales postuladas al Concurso de “Reconocim iento a la incorporaci ón del derecho a la igualdad y la no discriminaci ón en las sentencias judiciales” en el año corriente/# de decisiones judiciales postuladas al Concurso de “Reconocim iento a la incorporaci ón del derecho a la igualdad y la no discriminaci ón en las sentencias judiciales” en el año inmediatam ente anterior",null,{"$f":"IFERROR([6]INVERSION!$G$206,\"\")","v":0},{"$f":"IFERROR([6]INVERSION!$H$206,\"\")","v":0},{"$f":"IFERROR([6]INVERSION!$I$206,\"\")","v":0},{"$f":"IFERROR([6]INVERSION!$J$206,\"\")","v":0},{"$f":"IFERROR([6]INVERSION!$K$206,\"\")","v":0},{"$f":"IFERROR([6]INVERSION!$L$206,\"\")","v":0},{"$f":"IFERROR([6]INVERSION!$M$206,\"\")","v":0},{"$f":"IFERROR([6]INVERSION!$N$206,\"\")","v":0},{"$f":"IFERROR([6]INVERSION!$O$206,\"\")","v":0},{"$f":"IFERROR([6]INVERSION!$P$206,\"\")","v":0},{"$f":"IFERROR([6]INVERSION!$Q$206,\"\")","v":0},{"$f":"IFERROR([6]INVERSION!$R$206,\"\")","v":0},{"$f":"IFERROR([6]INVERSION!$S$206,\"\")","v":"00:00:00"},{"$f":"IFERROR([6]INVERSION!$T$206,\"\")","v":"00:00:00"},{"$f":"IFERROR([6]INVERSION!$U$206,\"\")","v":0},{"$f":"IFERROR([6]INVERSION!$V$206,\"\")","v":0},{"$f":"IFERROR([6]INVERSION!$W$206,\"\")","v":0},{"$f":"IFERROR([6]INVERSION!$X$206,\"\")","v":0},{"$f":"IFERROR([6]INVERSION!$Y$206,\"\")","v":0},null,null,null,"","",null,0]
[null,null,null,null,null,null,{"$f":"IFERROR([6]INVERSION!$G$207,\"\")","v":0},{"$f":"IFERROR([6]INVERSION!$H$207,\"\")","v":0},{"$f":"IFERROR([6]INVERSION!$I$207,\"\")","v":0},{"$f":"IFERROR([6]INVERSION!$J$207,\"\")","v":0},{"$f":"IFERROR([6]INVERSION!$K$207,\"\")","v":0},{"$f":"IFERROR([6]INVERSION!$L$207,\"\")","v":0},{"$f":"IFERROR([6]INVERSION!$M$207,\"\")","v":0},{"$f":"IFERROR([6]INVERSION!$N$207,\"\")","v":0},{"$f":"IFERROR([6]INVERSION!$O$207,\"\")","v":0},{"$f":"IFERROR([6]INVERSION!$P$207,\"\")","v":0},{"$f":"IFERROR([6]INVERSION!$Q$207,\"\")","v":0},{"$f":"IFERROR([6]INVERSION!$R$207,\"\")","v":0},{"$f":"IFERROR([6]INVERSION!$S$207,\"\")","v":"00:00:00"},{"$f":"IFERROR([6]INVERSION!$T$207,\"\")","v":"00:00:00"},{"$f":"IFERROR([6]INVERSION!$U$207,\"\")","v":0},{"$f":"IFERROR([6]INVERSION!$V$207,\"\")","v":0},{"$f":"IFERROR([6]INVERSION!$W$207,\"\")","v":0},{"$f":"IFERROR([6]INVERSION!$X$207,\"\")","v":0},{"$f":"IFERROR([6]INVERSION!$Y$207,\"\")","v":0},null,null,null,"","",null,0]
[null,null,null,null,null,null,{"$f":"IFERROR([6]INVERSION!$G$208,\"\")","v":0},{"$f":"IFERROR([6]INVERSION!$H$208,\"\")","v":0},{"$f":"IFERROR([6]INVERSION!$I$208,\"\")","v":0},{"$f":"IFERROR([6]INVERSION!$J$208,\"\")","v":0},{"$f":"IFERROR([6]INVERSION!$K$208,\"\")","v":0},{"$f":"IFERROR([6]INVERSION!$L$208,\"\")","v":0},{"$f":"IFERROR([6]INVERSION!$M$208,\"\")","v":0},{"$f":"IFERROR([6]INVERSION!$N$208,\"\")","v":0},{"$f":"IFERROR([6]INVERSION!$O$208,\"\")","v":0},{"$f":"IFERROR([6]INVERSION!$P$208,\"\")","v":0},{"$f":"IFERROR([6]INVERSION!$Q$208,\"\")","v":0},{"$f":"IFERROR([6]INVERSION!$R$208,\"\")","v":0},{"$f":"IFERROR([6]INVERSION!$S$208,\"\")","v":"00:00:00"},{"$f":"IFERROR([6]INVERSION!$T$208,\"\")","v":"00:00:00"},{"$f":"IFERROR([6]INVERSION!$U$208,\"\")","v":0},{"$f":"IFERROR([6]INVERSION!$V$208,\"\")","v":0},{"$f":"IFERROR([6]INVERSION!$W$208,\"\")","v":0},{"$f":"IFERROR([6]INVERSION!$X$208,\"\")","v":0},{"$f":"IFERROR([6]INVERSION!$Y$208,\"\")","v":0}]
[null,null,null,null,null,null,{"$f":"IFERROR([6]INVERSION!$G$209,\"\")","v":0},{"$f":"IFERROR([6]INVERSION!$H$209,\"\")","v":0},{"$f":"IFERROR([6]INVERSION!$I$209,\"\")","v":0},{"$f":"IFERROR([6]INVERSION!$J$209,\"\")","v":0},{"$f":"IFERROR([6]INVERSION!$K$209,\"\")","v":0},{"$f":"IFERROR([6]INVERSION!$L$209,\"\")","v":0},{"$f":"IFERROR([6]INVERSION!$M$209,\"\")","v":0},{"$f":"IFERROR([6]INVERSION!$N$209,\"\")","v":0},{"$f":"IFERROR([6]INVERSION!$O$209,\"\")","v":0},{"$f":"IFERROR([6]INVERSION!$P$209,\"\")","v":0},{"$f":"IFERROR([6]INVERSION!$Q$209,\"\")","v":0},{"$f":"IFERROR([6]INVERSION!$R$209,\"\")","v":0},{"$f":"IFERROR([6]INVERSION!$S$209,\"\")","v":"00:00:00"},{"$f":"IFERROR([6]INVERSION!$T$209,\"\")","v":"00:00:00"},{"$f":"IFERROR([6]INVERSION!$U$209,\"\")","v":0},{"$f":"IFERROR([6]INVERSION!$V$209,\"\")","v":0},{"$f":"IFERROR([6]INVERSION!$W$209,\"\")","v":0},{"$f":"IFERROR([6]INVERSION!$X$209,\"\")","v":0},{"$f":"IFERROR([6]INVERSION!$Y$209,\"\")","v":0}]
[null,null,null,null,null,null,{"$f":"IFERROR([6]INVERSION!$G$210,\"\")","v":0},{"$f":"IFERROR([6]INVERSION!$H$210,\"\")","v":0},{"$f":"IFERROR([6]INVERSION!$I$210,\"\")","v":0},{"$f":"IFERROR([6]INVERSION!$J$210,\"\")","v":0},{"$f":"IFERROR([6]INVERSION!$K$210,\"\")","v":0},{"$f":"IFERROR([6]INVERSION!$L$210,\"\")","v":0},{"$f":"IFERROR([6]INVERSION!$M$210,\"\")","v":0},{"$f":"IFERROR([6]INVERSION!$N$210,\"\")","v":0},{"$f":"IFERROR([6]INVERSION!$O$210,\"\")","v":0},{"$f":"IFERROR([6]INVERSION!$P$210,\"\")","v":0},{"$f":"IFERROR([6]INVERSION!$Q$210,\"\")","v":0},{"$f":"IFERROR([6]INVERSION!$R$210,\"\")","v":0},{"$f":"IFERROR([6]INVERSION!$S$210,\"\")","v":"00:00:00"},{"$f":"IFERROR([6]INVERSION!$T$210,\"\")","v":"00:00:00"},{"$f":"IFERROR([6]INVERSION!$U$210,\"\")","v":0},{"$f":"IFERROR([6]INVERSION!$V$210,\"\")","v":0},{"$f":"IFERROR([6]INVERSION!$W$210,\"\")","v":0},{"$f":"IFERROR([6]INVERSION!$X$210,\"\")","v":0},{"$f":"IFERROR([6]INVERSION!$Y$210,\"\")","v":0}]
[null,null,null,null,null,null,{"$f":"IFERROR([6]INVERSION!$G$211,\"\")","v":0},{"$f":"IFERROR([6]INVERSION!$H$211,\"\")","v":0},{"$f":"IFERROR([6]INVERSION!$I$211,\"\")","v":0},{"$f":"IFERROR([6]INVERSION!$J$211,\"\")","v":0},{"$f":"IFERROR([6]INVERSION!$K$211,\"\")","v":0},{"$f":"IFERROR([6]INVERSION!$L$211,\"\")","v":0},{"$f":"IFERROR([6]INVERSION!$M$211,\"\")","v":0},{"$f":"IFERROR([6]INVERSION!$N$211,\"\")","v":0},{"$f":"IFERROR([6]INVERSION!$O$211,\"\")","v":0},{"$f":"IFERROR([6]INVERSION!$P$211,\"\")","v":0},{"$f":"IFERROR([6]INVERSION!$Q$211,\"\")","v":0},{"$f":"IFERROR([6]INVERSION!$R$211,\"\")","v":0},{"$f":"IFERROR([6]INVERSION!$S$211,\"\")","v":"00:00:00"},{"$f":"IFERROR([6]INVERSION!$T$211,\"\")","v":"00:00:00"},{"$f":"IFERROR([6]INVERSION!$U$211,\"\")","v":0},{"$f":"IFERROR([6]INVERSION!$V$211,\"\")","v":0},{"$f":"IFERROR([6]INVERSION!$W$211,\"\")","v":0},{"$f":"IFERROR([6]INVERSION!$X$211,\"\")","v":0},{"$f":"IFERROR([6]INVERSION!$Y$211,\"\")","v":0}]
[null,null,null,null,null,null,{"$f":"IFERROR([6]INVERSION!$G$212,\"\")","v":0},{"$f":"IFERROR([6]INVERSION!$H$212,\"\")","v":0},{"$f":"IFERROR([6]INVERSION!$I$212,\"\")","v":0},{"$f":"IFERROR([6]INVERSION!$J$212,\"\")","v":0},{"$f":"IFERROR([6]INVERSION!$K$212,\"\")","v":0},{"$f":"IFERROR([6]INVERSION!$L$212,\"\")","v":0},{"$f":"IFERROR([6]INVERSION!$M$212,\"\")","v":0},{"$f":"IFERROR([6]INVERSION!$N$212,\"\")","v":0},{"$f":"IFERROR([6]INVERSION!$O$212,\"\")","v":0},{"$f":"IFERROR([6]INVERSION!$P$212,\"\")","v":0},{"$f":"IFERROR([6]INVERSION!$Q$212,\"\")","v":0},{"$f":"IFERROR([6]INVERSION!$R$212,\"\")","v":0},{"$f":"IFERROR([6]INVERSION!$S$212,\"\")","v":"00:00:00"},{"$f":"IFERROR([6]INVERSION!$T$212,\"\")","v":"00:00:00"},{"$f":"IFERROR([6]INVERSION!$U$212,\"\")","v":0},{"$f":"IFERROR([6]INVERSION!$V$212,\"\")","v":0},{"$f":"IFERROR([6]INVERSION!$W$212,\"\")","v":0},{"$f":"IFERROR([6]INVERSION!$X$212,\"\")","v":0},{"$f":"IFERROR([6]INVERSION!$Y$212,\"\")","v":0}]
[null,null,null,null,null,null,{"$f":"IFERROR([6]INVERSION!$G$213,\"\")","v":0},{"$f":"IFERROR([6]INVERSION!$H$213,\"\")","v":0},{"$f":"IFERROR([6]INVERSION!$I$213,\"\")","v":0},{"$f":"IFERROR([6]INVERSION!$J$213,\"\")","v":0},{"$f":"IFERROR([6]INVERSION!$K$213,\"\")","v":0},{"$f":"IFERROR([6]INVERSION!$L$213,\"\")","v":0},{"$f":"IFERROR([6]INVERSION!$M$213,\"\")","v":0},{"$f":"IFERROR([6]INVERSION!$N$213,\"\")","v":0},{"$f":"IFERROR([6]INVERSION!$O$213,\"\")","v":0},{"$f":"IFERROR([6]INVERSION!$P$213,\"\")","v":0},{"$f":"IFERROR([6]INVERSION!$Q$213,\"\")","v":0},{"$f":"IFERROR([6]INVERSION!$R$213,\"\")","v":0},{"$f":"IFERROR([6]INVERSION!$S$213,\"\")","v":"00:00:00"},{"$f":"IFERROR([6]INVERSION!$T$213,\"\")","v":"00:00:00"},{"$f":"IFERROR([6]INVERSION!$U$213,\"\")","v":0},{"$f":"IFERROR([6]INVERSION!$V$213,\"\")","v":0},{"$f":"IFERROR([6]INVERSION!$W$213,\"\")","v":0},{"$f":"IFERROR([6]INVERSION!$X$213,\"\")","v":0},{"$f":"IFERROR([6]INVERSION!$Y$213,\"\")","v":0},null,null,null,"","",null,0]
[null,null,null,null,null,null,{"$f":"IFERROR([6]INVERSION!$G$214,\"\")","v":0},{"$f":"IFERROR([6]INVERSION!$H$214,\"\")","v":0},{"$f":"IFERROR([6]INVERSION!$I$214,\"\")","v":0},{"$f":"IFERROR([6]INVERSION!$J$214,\"\")","v":0},{"$f":"IFERROR([6]INVERSION!$K$214,\"\")","v":0},{"$f":"IFERROR([6]INVERSION!$L$214,\"\")","v":0},{"$f":"IFERROR([6]INVERSION!$M$214,\"\")","v":0},{"$f":"IFERROR([6]INVERSION!$N$214,\"\")","v":0},{"$f":"IFERROR([6]INVERSION!$O$214,\"\")","v":0},{"$f":"IFERROR([6]INVERSION!$P$214,\"\")","v":0},{"$f":"IFERROR([6]INVERSION!$Q$214,\"\")","v":0},{"$f":"IFERROR([6]INVERSION!$R$214,\"\")","v":0},{"$f":"IFERROR([6]INVERSION!$S$214,\"\")","v":"00:00:00"},{"$f":"IFERROR([6]INVERSION!$T$214,\"\")","v":"00:00:00"},{"$f":"IFERROR([6]INVERSION!$U$214,\"\")","v":0},{"$f":"IFERROR([6]INVERSION!$V$214,\"\")","v":0},{"$f":"IFERROR([6]INVERSION!$W$214,\"\")","v":0},{"$f":"IFERROR([6]INVERSION!$X$214,\"\")","v":0},{"$f":"IFERROR([6]INVERSION!$Y$214,\"\")","v":0},null,null,null,"","",null,0]
[null,null,null,null,null,null,{"$f":"IFERROR([6]INVERSION!$G$215,\"\")","v":0},{"$f":"IFERROR([6]INVERSION!$H$215,\"\")","v":0},{"$f":"IFERROR([6]INVERSION!$I$215,\"\")","v":0},{"$f":"IFERROR([6]INVERSION!$J$215,\"\")","v":0},{"$f":"IFERROR([6]INVERSION!$K$215,\"\")","v":0},{"$f":"IFERROR([6]INVERSION!$L$215,\"\")","v":0},{"$f":"IFERROR([6]INVERSION!$M$215,\"\")","v":0},{"$f":"IFERROR([6]INVERSION!$N$215,\"\")","v":0},{"$f":"IFERROR([6]INVERSION!$O$215,\"\")","v":0},{"$f":"IFERROR([6]INVERSION!$P$215,\"\")","v":0},{"$f":"IFERROR([6]INVERSION!$Q$215,\"\")","v":0},{"$f":"IFERROR([6]INVERSION!$R$215,\"\")","v":0},{"$f":"IFERROR([6]INVERSION!$S$215,\"\")","v":"00:00:00"},{"$f":"IFERROR([6]INVERSION!$T$215,\"\")","v":"00:00:00"},{"$f":"IFERROR([6]INVERSION!$U$215,\"\")","v":0},{"$f":"IFERROR([6]INVERSION!$V$215,\"\")","v":0},{"$f":"IFERROR([6]INVERSION!$W$215,\"\")","v":0},{"$f":"IFERROR([6]INVERSION!$X$215,\"\")","v":0},{"$f":"IFERROR([6]INVERSION!$Y$215,\"\")","v":0},null,null,null,"","",null,0]
[null,null,"4. Desarrollar en los servidores judiciales y demás grupos de valor relevantes las competencias necesarias para la efectividad de la transformación digital de modo que puedan, entre otros, utilizar con solvencia las herramientas digitales dispuestas para sus respectivas funciones. Además, fortalecer y actualizar los conocimientos del personal a cargo de la gestión de proyectos de tecnología.","Cobertura de la formación impartida por la Escuela Judicial en Tecnologías de la Información y las Comunicaciones TIC para la práctica judicial.","# servidores que no han recibido ningún curso de formación en Tecnología s de la Información y las Comunicaci ones TIC en la vigencia del plan sectorial, discriminad o por funcionarios y empleados, municipio y especialida d /# servidores totales, discriminad o por funcionarios y empleados, municipio y especialida d",null,{"$f":"IFERROR([6]INVERSION!$G$216,\"\")","v":0},{"$f":"IFERROR([6]INVERSION!$H$216,\"\")","v":0},{"$f":"IFERROR([6]INVERSION!$I$216,\"\")","v":0},{"$f":"IFERROR([6]INVERSION!$J$216,\"\")","v":0},{"$f":"IFERROR([6]INVERSION!$K$216,\"\")","v":0},{"$f":"IFERROR([6]INVERSION!$L$216,\"\")","v":0},{"$f":"IFERROR([6]INVERSION!$M$216,\"\")","v":0},{"$f":"IFERROR([6]INVERSION!$N$216,\"\")","v":0},{"$f":"IFERROR([6]INVERSION!$O$216,\"\")","v":0},{"$f":"IFERROR([6]INVERSION!$P$216,\"\")","v":0},{"$f":"IFERROR([6]INVERSION!$Q$216,\"\")","v":0},{"$f":"IFERROR([6]INVERSION!$R$216,\"\")","v":0},{"$f":"IFERROR([6]INVERSION!$S$216,\"\")","v":"00:00:00"},{"$f":"IFERROR([6]INVERSION!$T$216,\"\")","v":"00:00:00"},{"$f":"IFERROR([6]INVERSION!$U$216,\"\")","v":0},{"$f":"IFERROR([6]INVERSION!$V$216,\"\")","v":0},{"$f":"IFERROR([6]INVERSION!$W$216,\"\")","v":0},{"$f":"IFERROR([6]INVERSION!$X$216,\"\")","v":0},{"$f":"IFERROR([6]INVERSION!$Y$216,\"\")","v":0},null,null,null,"","",null,0]
[null,null,null,null,null,null,{"$f":"IFERROR([6]INVERSION!$G$217,\"\")","v":0},{"$f":"IFERROR([6]INVERSION!$H$217,\"\")","v":0},{"$f":"IFERROR([6]INVERSION!$I$217,\"\")","v":0},{"$f":"IFERROR([6]INVERSION!$J$217,\"\")","v":0},{"$f":"IFERROR([6]INVERSION!$K$217,\"\")","v":0},{"$f":"IFERROR([6]INVERSION!$L$217,\"\")","v":0},{"$f":"IFERROR([6]INVERSION!$M$217,\"\")","v":0},{"$f":"IFERROR([6]INVERSION!$N$217,\"\")","v":0},{"$f":"IFERROR([6]INVERSION!$O$217,\"\")","v":0},{"$f":"IFERROR([6]INVERSION!$P$217,\"\")","v":0},{"$f":"IFERROR([6]INVERSION!$Q$217,\"\")","v":0},{"$f":"IFERROR([6]INVERSION!$R$217,\"\")","v":0},{"$f":"IFERROR([6]INVERSION!$S$217,\"\")","v":"00:00:00"},{"$f":"IFERROR([6]INVERSION!$T$217,\"\")","v":"00:00:00"},{"$f":"IFERROR([6]INVERSION!$U$217,\"\")","v":0},{"$f":"IFERROR([6]INVERSION!$V$217,\"\")","v":0},{"$f":"IFERROR([6]INVERSION!$W$217,\"\")","v":0},{"$f":"IFERROR([6]INVERSION!$X$217,\"\")","v":0},{"$f":"IFERROR([6]INVERSION!$Y$217,\"\")","v":0},null,null,null,"","",null,0]
[null,null,null,null,null,null,{"$f":"IFERROR([6]INVERSION!$G$218,\"\")","v":0},{"$f":"IFERROR([6]INVERSION!$H$218,\"\")","v":0},{"$f":"IFERROR([6]INVERSION!$I$218,\"\")","v":0},{"$f":"IFERROR([6]INVERSION!$J$218,\"\")","v":0},{"$f":"IFERROR([6]INVERSION!$K$218,\"\")","v":0},{"$f":"IFERROR([6]INVERSION!$L$218,\"\")","v":0},{"$f":"IFERROR([6]INVERSION!$M$218,\"\")","v":0},{"$f":"IFERROR([6]INVERSION!$N$218,\"\")","v":0},{"$f":"IFERROR([6]INVERSION!$O$218,\"\")","v":0},{"$f":"IFERROR([6]INVERSION!$P$218,\"\")","v":0},{"$f":"IFERROR([6]INVERSION!$Q$218,\"\")","v":0},{"$f":"IFERROR([6]INVERSION!$R$218,\"\")","v":0},{"$f":"IFERROR([6]INVERSION!$S$218,\"\")","v":"00:00:00"},{"$f":"IFERROR([6]INVERSION!$T$218,\"\")","v":"00:00:00"},{"$f":"IFERROR([6]INVERSION!$U$218,\"\")","v":0},{"$f":"IFERROR([6]INVERSION!$V$218,\"\")","v":0},{"$f":"IFERROR([6]INVERSION!$W$218,\"\")","v":0},{"$f":"IFERROR([6]INVERSION!$X$218,\"\")","v":0},{"$f":"IFERROR([6]INVERSION!$Y$218,\"\")","v":0}]
[null,null,null,null,null,null,{"$f":"IFERROR([6]INVERSION!$G$219,\"\")","v":0},{"$f":"IFERROR([6]INVERSION!$H$219,\"\")","v":0},{"$f":"IFERROR([6]INVERSION!$I$219,\"\")","v":0},{"$f":"IFERROR([6]INVERSION!$J$219,\"\")","v":0},{"$f":"IFERROR([6]INVERSION!$K$219,\"\")","v":0},{"$f":"IFERROR([6]INVERSION!$L$219,\"\")","v":0},{"$f":"IFERROR([6]INVERSION!$M$219,\"\")","v":0},{"$f":"IFERROR([6]INVERSION!$N$219,\"\")","v":0},{"$f":"IFERROR([6]INVERSION!$O$219,\"\")","v":0},{"$f":"IFERROR([6]INVERSION!$P$219,\"\")","v":0},{"$f":"IFERROR([6]INVERSION!$Q$219,\"\")","v":0},{"$f":"IFERROR([6]INVERSION!$R$219,\"\")","v":0},{"$f":"IFERROR([6]INVERSION!$S$219,\"\")","v":"00:00:00"},{"$f":"IFERROR([6]INVERSION!$T$219,\"\")","v":"00:00:00"},{"$f":"IFERROR([6]INVERSION!$U$219,\"\")","v":0},{"$f":"IFERROR([6]INVERSION!$V$219,\"\")","v":0},{"$f":"IFERROR([6]INVERSION!$W$219,\"\")","v":0},{"$f":"IFERROR([6]INVERSION!$X$219,\"\")","v":0},{"$f":"IFERROR([6]INVERSION!$Y$219,\"\")","v":0}]
[null,null,null,null,null,null,{"$f":"IFERROR([6]INVERSION!$G$220,\"\")","v":0},{"$f":"IFERROR([6]INVERSION!$H$220,\"\")","v":0},{"$f":"IFERROR([6]INVERSION!$I$220,\"\")","v":0},{"$f":"IFERROR([6]INVERSION!$J$220,\"\")","v":0},{"$f":"IFERROR([6]INVERSION!$K$220,\"\")","v":0},{"$f":"IFERROR([6]INVERSION!$L$220,\"\")","v":0},{"$f":"IFERROR([6]INVERSION!$M$220,\"\")","v":0},{"$f":"IFERROR([6]INVERSION!$N$220,\"\")","v":0},{"$f":"IFERROR([6]INVERSION!$O$220,\"\")","v":0},{"$f":"IFERROR([6]INVERSION!$P$220,\"\")","v":0},{"$f":"IFERROR([6]INVERSION!$Q$220,\"\")","v":0},{"$f":"IFERROR([6]INVERSION!$R$220,\"\")","v":0},{"$f":"IFERROR([6]INVERSION!$S$220,\"\")","v":"00:00:00"},{"$f":"IFERROR([6]INVERSION!$T$220,\"\")","v":"00:00:00"},{"$f":"IFERROR([6]INVERSION!$U$220,\"\")","v":0},{"$f":"IFERROR([6]INVERSION!$V$220,\"\")","v":0},{"$f":"IFERROR([6]INVERSION!$W$220,\"\")","v":0},{"$f":"IFERROR([6]INVERSION!$X$220,\"\")","v":0},{"$f":"IFERROR([6]INVERSION!$Y$220,\"\")","v":0}]
[null,null,null,null,null,null,{"$f":"IFERROR([6]INVERSION!$G$221,\"\")","v":0},{"$f":"IFERROR([6]INVERSION!$H$221,\"\")","v":0},{"$f":"IFERROR([6]INVERSION!$I$221,\"\")","v":0},{"$f":"IFERROR([6]INVERSION!$J$221,\"\")","v":0},{"$f":"IFERROR([6]INVERSION!$K$221,\"\")","v":0},{"$f":"IFERROR([6]INVERSION!$L$221,\"\")","v":0},{"$f":"IFERROR([6]INVERSION!$M$221,\"\")","v":0},{"$f":"IFERROR([6]INVERSION!$N$221,\"\")","v":0},{"$f":"IFERROR([6]INVERSION!$O$221,\"\")","v":0},{"$f":"IFERROR([6]INVERSION!$P$221,\"\")","v":0},{"$f":"IFERROR([6]INVERSION!$Q$221,\"\")","v":0},{"$f":"IFERROR([6]INVERSION!$R$221,\"\")","v":0},{"$f":"IFERROR([6]INVERSION!$S$221,\"\")","v":"00:00:00"},{"$f":"IFERROR([6]INVERSION!$T$221,\"\")","v":"00:00:00"},{"$f":"IFERROR([6]INVERSION!$U$221,\"\")","v":0},{"$f":"IFERROR([6]INVERSION!$V$221,\"\")","v":0},{"$f":"IFERROR([6]INVERSION!$W$221,\"\")","v":0},{"$f":"IFERROR([6]INVERSION!$X$221,\"\")","v":0},{"$f":"IFERROR([6]INVERSION!$Y$221,\"\")","v":0}]
[null,null,null,null,null,null,{"$f":"IFERROR([6]INVERSION!$G$222,\"\")","v":0},{"$f":"IFERROR([6]INVERSION!$H$222,\"\")","v":0},{"$f":"IFERROR([6]INVERSION!$I$222,\"\")","v":0},{"$f":"IFERROR([6]INVERSION!$J$222,\"\")","v":0},{"$f":"IFERROR([6]INVERSION!$K$222,\"\")","v":0},{"$f":"IFERROR([6]INVERSION!$L$222,\"\")","v":0},{"$f":"IFERROR([6]INVERSION!$M$222,\"\")","v":0},{"$f":"IFERROR([6]INVERSION!$N$222,\"\")","v":0},{"$f":"IFERROR([6]INVERSION!$O$222,\"\")","v":0},{"$f":"IFERROR([6]INVERSION!$P$222,\"\")","v":0},{"$f":"IFERROR([6]INVERSION!$Q$222,\"\")","v":0},{"$f":"IFERROR([6]INVERSION!$R$222,\"\")","v":0},{"$f":"IFERROR([6]INVERSION!$S$222,\"\")","v":"00:00:00"},{"$f":"IFERROR([6]INVERSION!$T$222,\"\")","v":"00:00:00"},{"$f":"IFERROR([6]INVERSION!$U$222,\"\")","v":0},{"$f":"IFERROR([6]INVERSION!$V$222,\"\")","v":0},{"$f":"IFERROR([6]INVERSION!$W$222,\"\")","v":0},{"$f":"IFERROR([6]INVERSION!$X$222,\"\")","v":0},{"$f":"IFERROR([6]INVERSION!$Y$222,\"\")","v":0}]
[null,null,null,null,null,null,{"$f":"IFERROR([6]INVERSION!$G$223,\"\")","v":0},{"$f":"IFERROR([6]INVERSION!$H$223,\"\")","v":0},{"$f":"IFERROR([6]INVERSION!$I$223,\"\")","v":0},{"$f":"IFERROR([6]INVERSION!$J$223,\"\")","v":0},{"$f":"IFERROR([6]INVERSION!$K$223,\"\")","v":0},{"$f":"IFERROR([6]INVERSION!$L$223,\"\")","v":0},{"$f":"IFERROR([6]INVERSION!$M$223,\"\")","v":0},{"$f":"IFERROR([6]INVERSION!$N$223,\"\")","v":0},{"$f":"IFERROR([6]INVERSION!$O$223,\"\")","v":0},{"$f":"IFERROR([6]INVERSION!$P$223,\"\")","v":0},{"$f":"IFERROR([6]INVERSION!$Q$223,\"\")","v":0},{"$f":"IFERROR([6]INVERSION!$R$223,\"\")","v":0},{"$f":"IFERROR([6]INVERSION!$S$223,\"\")","v":"00:00:00"},{"$f":"IFERROR([6]INVERSION!$T$223,\"\")","v":"00:00:00"},{"$f":"IFERROR([6]INVERSION!$U$223,\"\")","v":0},{"$f":"IFERROR([6]INVERSION!$V$223,\"\")","v":0},{"$f":"IFERROR([6]INVERSION!$W$223,\"\")","v":0},{"$f":"IFERROR([6]INVERSION!$X$223,\"\")","v":0},{"$f":"IFERROR([6]INVERSION!$Y$223,\"\")","v":0},null,null,null,"","",null,0]
[null,null,null,null,null,null,{"$f":"IFERROR([6]INVERSION!$G$224,\"\")","v":0},{"$f":"IFERROR([6]INVERSION!$H$224,\"\")","v":0},{"$f":"IFERROR([6]INVERSION!$I$224,\"\")","v":0},{"$f":"IFERROR([6]INVERSION!$J$224,\"\")","v":0},{"$f":"IFERROR([6]INVERSION!$K$224,\"\")","v":0},{"$f":"IFERROR([6]INVERSION!$L$224,\"\")","v":0},{"$f":"IFERROR([6]INVERSION!$M$224,\"\")","v":0},{"$f":"IFERROR([6]INVERSION!$N$224,\"\")","v":0},{"$f":"IFERROR([6]INVERSION!$O$224,\"\")","v":0},{"$f":"IFERROR([6]INVERSION!$P$224,\"\")","v":0},{"$f":"IFERROR([6]INVERSION!$Q$224,\"\")","v":0},{"$f":"IFERROR([6]INVERSION!$R$224,\"\")","v":0},{"$f":"IFERROR([6]INVERSION!$S$224,\"\")","v":"00:00:00"},{"$f":"IFERROR([6]INVERSION!$T$224,\"\")","v":"00:00:00"},{"$f":"IFERROR([6]INVERSION!$U$224,\"\")","v":0},{"$f":"IFERROR([6]INVERSION!$V$224,\"\")","v":0},{"$f":"IFERROR([6]INVERSION!$W$224,\"\")","v":0},{"$f":"IFERROR([6]INVERSION!$X$224,\"\")","v":0},{"$f":"IFERROR([6]INVERSION!$Y$224,\"\")","v":0},null,null,null,"","",null,0]
[null,null,null,null,null,null,{"$f":"IFERROR([6]INVERSION!$G$225,\"\")","v":0},{"$f":"IFERROR([6]INVERSION!$H$225,\"\")","v":0},{"$f":"IFERROR([6]INVERSION!$I$225,\"\")","v":0},{"$f":"IFERROR([6]INVERSION!$J$225,\"\")","v":0},{"$f":"IFERROR([6]INVERSION!$K$225,\"\")","v":0},{"$f":"IFERROR([6]INVERSION!$L$225,\"\")","v":0},{"$f":"IFERROR([6]INVERSION!$M$225,\"\")","v":0},{"$f":"IFERROR([6]INVERSION!$N$225,\"\")","v":0},{"$f":"IFERROR([6]INVERSION!$O$225,\"\")","v":0},{"$f":"IFERROR([6]INVERSION!$P$225,\"\")","v":0},{"$f":"IFERROR([6]INVERSION!$Q$225,\"\")","v":0},{"$f":"IFERROR([6]INVERSION!$R$225,\"\")","v":0},{"$f":"IFERROR([6]INVERSION!$S$225,\"\")","v":"00:00:00"},{"$f":"IFERROR([6]INVERSION!$T$225,\"\")","v":"00:00:00"},{"$f":"IFERROR([6]INVERSION!$U$225,\"\")","v":0},{"$f":"IFERROR([6]INVERSION!$V$225,\"\")","v":0},{"$f":"IFERROR([6]INVERSION!$W$225,\"\")","v":0},{"$f":"IFERROR([6]INVERSION!$X$225,\"\")","v":0},{"$f":"IFERROR([6]INVERSION!$Y$225,\"\")","v":0},null,null,null,"","",null,0]
[null,null,"5. Promover el bienestar de todos los servidores judiciales a través de la implementación de un sistema que contemple los diferentes niveles de estrategias y acciones necesarios para mejorar el clima laboral, la salud física y mental y la calidad del tiempo de descanso.","Satisfacción de los servidores judiciales con el clima laboral","(# respuestas con concepto de bueno o excelente / # total de respuestas) *100","5. Generar espacios de trabajo seguros y saludables que contribuyan a minimizar los  incidentes, accidentes y enfermedades laborales derivados de las condiciones y actos  inseguros y fomentar  el autocuidado, los  estilos de vida y el trabajo saludable en los servidores judiciales, contratistas, judicantes y practicantes.",{"$f":"IFERROR([6]INVERSION!$G$226,\"\")","v":0},{"$f":"IFERROR([6]INVERSION!$H$226,\"\")","v":0},{"$f":"IFERROR([6]INVERSION!$I$226,\"\")","v":0},{"$f":"IFERROR([6]INVERSION!$J$226,\"\")","v":0},{"$f":"IFERROR([6]INVERSION!$K$226,\"\")","v":0},{"$f":"IFERROR([6]INVERSION!$L$226,\"\")","v":0},{"$f":"IFERROR([6]INVERSION!$M$226,\"\")","v":0},{"$f":"IFERROR([6]INVERSION!$N$226,\"\")","v":0},{"$f":"IFERROR([6]INVERSION!$O$226,\"\")","v":0},{"$f":"IFERROR([6]INVERSION!$P$226,\"\")","v":0},{"$f":"IFERROR([6]INVERSION!$Q$226,\"\")","v":0},{"$f":"IFERROR([6]INVERSION!$R$226,\"\")","v":0},{"$f":"IFERROR([6]INVERSION!$S$226,\"\")","v":"00:00:00"},{"$f":"IFERROR([6]INVERSION!$T$226,\"\")","v":"00:00:00"},{"$f":"IFERROR([6]INVERSION!$U$226,\"\")","v":0},{"$f":"IFERROR([6]INVERSION!$V$226,\"\")","v":0},{"$f":"IFERROR([6]INVERSION!$W$226,\"\")","v":0},{"$f":"IFERROR([6]INVERSION!$X$226,\"\")","v":0},{"$f":"IFERROR([6]INVERSION!$Y$226,\"\")","v":0},null,null,null,"","",null,0]
[null,null,null,null,null,null,{"$f":"IFERROR([6]INVERSION!$G$227,\"\")","v":0},{"$f":"IFERROR([6]INVERSION!$H$227,\"\")","v":0},{"$f":"IFERROR([6]INVERSION!$I$227,\"\")","v":0},{"$f":"IFERROR([6]INVERSION!$J$227,\"\")","v":0},{"$f":"IFERROR([6]INVERSION!$K$227,\"\")","v":0},{"$f":"IFERROR([6]INVERSION!$L$227,\"\")","v":0},{"$f":"IFERROR([6]INVERSION!$M$227,\"\")","v":0},{"$f":"IFERROR([6]INVERSION!$N$227,\"\")","v":0},{"$f":"IFERROR([6]INVERSION!$O$227,\"\")","v":0},{"$f":"IFERROR([6]INVERSION!$P$227,\"\")","v":0},{"$f":"IFERROR([6]INVERSION!$Q$227,\"\")","v":0},{"$f":"IFERROR([6]INVERSION!$R$227,\"\")","v":0},{"$f":"IFERROR([6]INVERSION!$S$227,\"\")","v":"00:00:00"},{"$f":"IFERROR([6]INVERSION!$T$227,\"\")","v":"00:00:00"},{"$f":"IFERROR([6]INVERSION!$U$227,\"\")","v":0},{"$f":"IFERROR([6]INVERSION!$V$227,\"\")","v":0},{"$f":"IFERROR([6]INVERSION!$W$227,\"\")","v":0},{"$f":"IFERROR([6]INVERSION!$X$227,\"\")","v":0},{"$f":"IFERROR([6]INVERSION!$Y$227,\"\")","v":0},null,null,null,"","",null,0]
[null,null,null,null,null,null,{"$f":"IFERROR([6]INVERSION!$G$228,\"\")","v":0},{"$f":"IFERROR([6]INVERSION!$H$228,\"\")","v":0},{"$f":"IFERROR([6]INVERSION!$I$228,\"\")","v":0},{"$f":"IFERROR([6]INVERSION!$J$228,\"\")","v":0},{"$f":"IFERROR([6]INVERSION!$K$228,\"\")","v":0},{"$f":"IFERROR([6]INVERSION!$L$228,\"\")","v":0},{"$f":"IFERROR([6]INVERSION!$M$228,\"\")","v":0},{"$f":"IFERROR([6]INVERSION!$N$228,\"\")","v":0},{"$f":"IFERROR([6]INVERSION!$O$228,\"\")","v":0},{"$f":"IFERROR([6]INVERSION!$P$228,\"\")","v":0},{"$f":"IFERROR([6]INVERSION!$Q$228,\"\")","v":0},{"$f":"IFERROR([6]INVERSION!$R$228,\"\")","v":0},{"$f":"IFERROR([6]INVERSION!$S$228,\"\")","v":"00:00:00"},{"$f":"IFERROR([6]INVERSION!$T$228,\"\")","v":"00:00:00"},{"$f":"IFERROR([6]INVERSION!$U$228,\"\")","v":0},{"$f":"IFERROR([6]INVERSION!$V$228,\"\")","v":0},{"$f":"IFERROR([6]INVERSION!$W$228,\"\")","v":0},{"$f":"IFERROR([6]INVERSION!$X$228,\"\")","v":0},{"$f":"IFERROR([6]INVERSION!$Y$228,\"\")","v":0}]
[null,null,null,null,null,null,{"$f":"IFERROR([6]INVERSION!$G$229,\"\")","v":0},{"$f":"IFERROR([6]INVERSION!$H$229,\"\")","v":0},{"$f":"IFERROR([6]INVERSION!$I$229,\"\")","v":0},{"$f":"IFERROR([6]INVERSION!$J$229,\"\")","v":0},{"$f":"IFERROR([6]INVERSION!$K$229,\"\")","v":0},{"$f":"IFERROR([6]INVERSION!$L$229,\"\")","v":0},{"$f":"IFERROR([6]INVERSION!$M$229,\"\")","v":0},{"$f":"IFERROR([6]INVERSION!$N$229,\"\")","v":0},{"$f":"IFERROR([6]INVERSION!$O$229,\"\")","v":0},{"$f":"IFERROR([6]INVERSION!$P$229,\"\")","v":0},{"$f":"IFERROR([6]INVERSION!$Q$229,\"\")","v":0},{"$f":"IFERROR([6]INVERSION!$R$229,\"\")","v":0},{"$f":"IFERROR([6]INVERSION!$S$229,\"\")","v":"00:00:00"},{"$f":"IFERROR([6]INVERSION!$T$229,\"\")","v":"00:00:00"},{"$f":"IFERROR([6]INVERSION!$U$229,\"\")","v":0},{"$f":"IFERROR([6]INVERSION!$V$229,\"\")","v":0},{"$f":"IFERROR([6]INVERSION!$W$229,\"\")","v":0},{"$f":"IFERROR([6]INVERSION!$X$229,\"\")","v":0},{"$f":"IFERROR([6]INVERSION!$Y$229,\"\")","v":0}]
[null,null,null,null,null,null,{"$f":"IFERROR([6]INVERSION!$G$230,\"\")","v":0},{"$f":"IFERROR([6]INVERSION!$H$230,\"\")","v":0},{"$f":"IFERROR([6]INVERSION!$I$230,\"\")","v":0},{"$f":"IFERROR([6]INVERSION!$J$230,\"\")","v":0},{"$f":"IFERROR([6]INVERSION!$K$230,\"\")","v":0},{"$f":"IFERROR([6]INVERSION!$L$230,\"\")","v":0},{"$f":"IFERROR([6]INVERSION!$M$230,\"\")","v":0},{"$f":"IFERROR([6]INVERSION!$N$230,\"\")","v":0},{"$f":"IFERROR([6]INVERSION!$O$230,\"\")","v":0},{"$f":"IFERROR([6]INVERSION!$P$230,\"\")","v":0},{"$f":"IFERROR([6]INVERSION!$Q$230,\"\")","v":0},{"$f":"IFERROR([6]INVERSION!$R$230,\"\")","v":0},{"$f":"IFERROR([6]INVERSION!$S$230,\"\")","v":"00:00:00"},{"$f":"IFERROR([6]INVERSION!$T$230,\"\")","v":"00:00:00"},{"$f":"IFERROR([6]INVERSION!$U$230,\"\")","v":0},{"$f":"IFERROR([6]INVERSION!$V$230,\"\")","v":0},{"$f":"IFERROR([6]INVERSION!$W$230,\"\")","v":0},{"$f":"IFERROR([6]INVERSION!$X$230,\"\")","v":0},{"$f":"IFERROR([6]INVERSION!$Y$230,\"\")","v":0}]
[null,null,null,null,null,null,{"$f":"IFERROR([6]INVERSION!$G$231,\"\")","v":0},{"$f":"IFERROR([6]INVERSION!$H$231,\"\")","v":0},{"$f":"IFERROR([6]INVERSION!$I$231,\"\")","v":0},{"$f":"IFERROR([6]INVERSION!$J$231,\"\")","v":0},{"$f":"IFERROR([6]INVERSION!$K$231,\"\")","v":0},{"$f":"IFERROR([6]INVERSION!$L$231,\"\")","v":0},{"$f":"IFERROR([6]INVERSION!$M$231,\"\")","v":0},{"$f":"IFERROR([6]INVERSION!$N$231,\"\")","v":0},{"$f":"IFERROR([6]INVERSION!$O$231,\"\")","v":0},{"$f":"IFERROR([6]INVERSION!$P$231,\"\")","v":0},{"$f":"IFERROR([6]INVERSION!$Q$231,\"\")","v":0},{"$f":"IFERROR([6]INVERSION!$R$231,\"\")","v":0},{"$f":"IFERROR([6]INVERSION!$S$231,\"\")","v":"00:00:00"},{"$f":"IFERROR([6]INVERSION!$T$231,\"\")","v":"00:00:00"},{"$f":"IFERROR([6]INVERSION!$U$231,\"\")","v":0},{"$f":"IFERROR([6]INVERSION!$V$231,\"\")","v":0},{"$f":"IFERROR([6]INVERSION!$W$231,\"\")","v":0},{"$f":"IFERROR([6]INVERSION!$X$231,\"\")","v":0},{"$f":"IFERROR([6]INVERSION!$Y$231,\"\")","v":0}]
[null,null,null,null,null,null,{"$f":"IFERROR([6]INVERSION!$G$232,\"\")","v":0},{"$f":"IFERROR([6]INVERSION!$H$232,\"\")","v":0},{"$f":"IFERROR([6]INVERSION!$I$232,\"\")","v":0},{"$f":"IFERROR([6]INVERSION!$J$232,\"\")","v":0},{"$f":"IFERROR([6]INVERSION!$K$232,\"\")","v":0},{"$f":"IFERROR([6]INVERSION!$L$232,\"\")","v":0},{"$f":"IFERROR([6]INVERSION!$M$232,\"\")","v":0},{"$f":"IFERROR([6]INVERSION!$N$232,\"\")","v":0},{"$f":"IFERROR([6]INVERSION!$O$232,\"\")","v":0},{"$f":"IFERROR([6]INVERSION!$P$232,\"\")","v":0},{"$f":"IFERROR([6]INVERSION!$Q$232,\"\")","v":0},{"$f":"IFERROR([6]INVERSION!$R$232,\"\")","v":0},{"$f":"IFERROR([6]INVERSION!$S$232,\"\")","v":"00:00:00"},{"$f":"IFERROR([6]INVERSION!$T$232,\"\")","v":"00:00:00"},{"$f":"IFERROR([6]INVERSION!$U$232,\"\")","v":0},{"$f":"IFERROR([6]INVERSION!$V$232,\"\")","v":0},{"$f":"IFERROR([6]INVERSION!$W$232,\"\")","v":0},{"$f":"IFERROR([6]INVERSION!$X$232,\"\")","v":0},{"$f":"IFERROR([6]INVERSION!$Y$232,\"\")","v":0}]
[null,null,null,null,null,null,{"$f":"IFERROR([6]INVERSION!$G$233,\"\")","v":0},{"$f":"IFERROR([6]INVERSION!$H$233,\"\")","v":0},{"$f":"IFERROR([6]INVERSION!$I$233,\"\")","v":0},{"$f":"IFERROR([6]INVERSION!$J$233,\"\")","v":0},{"$f":"IFERROR([6]INVERSION!$K$233,\"\")","v":0},{"$f":"IFERROR([6]INVERSION!$L$233,\"\")","v":0},{"$f":"IFERROR([6]INVERSION!$M$233,\"\")","v":0},{"$f":"IFERROR([6]INVERSION!$N$233,\"\")","v":0},{"$f":"IFERROR([6]INVERSION!$O$233,\"\")","v":0},{"$f":"IFERROR([6]INVERSION!$P$233,\"\")","v":0},{"$f":"IFERROR([6]INVERSION!$Q$233,\"\")","v":0},{"$f":"IFERROR([6]INVERSION!$R$233,\"\")","v":0},{"$f":"IFERROR([6]INVERSION!$S$233,\"\")","v":"00:00:00"},{"$f":"IFERROR([6]INVERSION!$T$233,\"\")","v":"00:00:00"},{"$f":"IFERROR([6]INVERSION!$U$233,\"\")","v":0},{"$f":"IFERROR([6]INVERSION!$V$233,\"\")","v":0},{"$f":"IFERROR([6]INVERSION!$W$233,\"\")","v":0},{"$f":"IFERROR([6]INVERSION!$X$233,\"\")","v":0},{"$f":"IFERROR([6]INVERSION!$Y$233,\"\")","v":0},null,null,null,"","",null,0]
[null,null,null,null,null,null,{"$f":"IFERROR([6]INVERSION!$G$234,\"\")","v":0},{"$f":"IFERROR([6]INVERSION!$H$234,\"\")","v":0},{"$f":"IFERROR([6]INVERSION!$I$234,\"\")","v":0},{"$f":"IFERROR([6]INVERSION!$J$234,\"\")","v":0},{"$f":"IFERROR([6]INVERSION!$K$234,\"\")","v":0},{"$f":"IFERROR([6]INVERSION!$L$234,\"\")","v":0},{"$f":"IFERROR([6]INVERSION!$M$234,\"\")","v":0},{"$f":"IFERROR([6]INVERSION!$N$234,\"\")","v":0},{"$f":"IFERROR([6]INVERSION!$O$234,\"\")","v":0},{"$f":"IFERROR([6]INVERSION!$P$234,\"\")","v":0},{"$f":"IFERROR([6]INVERSION!$Q$234,\"\")","v":0},{"$f":"IFERROR([6]INVERSION!$R$234,\"\")","v":0},{"$f":"IFERROR([6]INVERSION!$S$234,\"\")","v":"00:00:00"},{"$f":"IFERROR([6]INVERSION!$T$234,\"\")","v":"00:00:00"},{"$f":"IFERROR([6]INVERSION!$U$234,\"\")","v":0},{"$f":"IFERROR([6]INVERSION!$V$234,\"\")","v":0},{"$f":"IFERROR([6]INVERSION!$W$234,\"\")","v":0},{"$f":"IFERROR([6]INVERSION!$X$234,\"\")","v":0},{"$f":"IFERROR([6]INVERSION!$Y$234,\"\")","v":0},null,null,null,"","",null,0]
[null,null,null,null,null,null,{"$f":"IFERROR([6]INVERSION!$G$235,\"\")","v":0},{"$f":"IFERROR([6]INVERSION!$H$235,\"\")","v":0},{"$f":"IFERROR([6]INVERSION!$I$235,\"\")","v":0},{"$f":"IFERROR([6]INVERSION!$J$235,\"\")","v":0},{"$f":"IFERROR([6]INVERSION!$K$235,\"\")","v":0},{"$f":"IFERROR([6]INVERSION!$L$235,\"\")","v":0},{"$f":"IFERROR([6]INVERSION!$M$235,\"\")","v":0},{"$f":"IFERROR([6]INVERSION!$N$235,\"\")","v":0},{"$f":"IFERROR([6]INVERSION!$O$235,\"\")","v":0},{"$f":"IFERROR([6]INVERSION!$P$235,\"\")","v":0},{"$f":"IFERROR([6]INVERSION!$Q$235,\"\")","v":0},{"$f":"IFERROR([6]INVERSION!$R$235,\"\")","v":0},{"$f":"IFERROR([6]INVERSION!$S$235,\"\")","v":"00:00:00"},{"$f":"IFERROR([6]INVERSION!$T$235,\"\")","v":"00:00:00"},{"$f":"IFERROR([6]INVERSION!$U$235,\"\")","v":0},{"$f":"IFERROR([6]INVERSION!$V$235,\"\")","v":0},{"$f":"IFERROR([6]INVERSION!$W$235,\"\")","v":0},{"$f":"IFERROR([6]INVERSION!$X$235,\"\")","v":0},{"$f":"IFERROR([6]INVERSION!$Y$235,\"\")","v":0},null,null,null,"","",null,0]
["5. Gobernanza, planeación estratégica y capacidad de toma de decisiones","Gobernanza, planeación estratégica y capacidad de toma de decisiones: Fortalecer la gobernanza, la planeación estratégica y la capacidad de toma de decisiones de la Rama Judicial con base en la evidencia empírica y la articulación efectiva con las demás entidades, para que la perspectiva de género y el enfoque diferencial sean transversales en el presente plan. ","1. Implementar un nuevo modelo integrado para la planeación estratégica, el seguimiento y la medición del desempeño institucional.","Modelo integrado para la planeación estratégica, seguimiento y medición del desempeño institucional implementado","% de implementa ción del modelo integrado","2. Asegurar  el cumplimiento de los objetivos institucionales, la normatividad aplicable,  la mejora del SIGCMA y la satisfacción de los usuarios, revisando de  forma continua y sistemática la planificación de la gestión y fortaleciendo la administración de riesgos y sus controles.",{"$f":"IFERROR([6]INVERSION!$G$236,\"\")","v":0},{"$f":"IFERROR([6]INVERSION!$H$236,\"\")","v":0},{"$f":"IFERROR([6]INVERSION!$I$236,\"\")","v":0},{"$f":"IFERROR([6]INVERSION!$J$236,\"\")","v":0},{"$f":"IFERROR([6]INVERSION!$K$236,\"\")","v":0},{"$f":"IFERROR([6]INVERSION!$L$236,\"\")","v":0},{"$f":"IFERROR([6]INVERSION!$M$236,\"\")","v":0},{"$f":"IFERROR([6]INVERSION!$N$236,\"\")","v":0},{"$f":"IFERROR([6]INVERSION!$O$236,\"\")","v":0},{"$f":"IFERROR([6]INVERSION!$P$236,\"\")","v":0},{"$f":"IFERROR([6]INVERSION!$Q$236,\"\")","v":0},{"$f":"IFERROR([6]INVERSION!$R$236,\"\")","v":0},{"$f":"IFERROR([6]INVERSION!$S$236,\"\")","v":"00:00:00"},{"$f":"IFERROR([6]INVERSION!$T$236,\"\")","v":"00:00:00"},{"$f":"IFERROR([6]INVERSION!$U$236,\"\")","v":0},{"$f":"IFERROR([6]INVERSION!$V$236,\"\")","v":0},{"$f":"IFERROR([6]INVERSION!$W$236,\"\")","v":0},{"$f":"IFERROR([6]INVERSION!$X$236,\"\")","v":0},{"$f":"IFERROR([6]INVERSION!$Y$236,\"\")","v":0},null,null,null,"","",null,0]
[null,null,null,null,null,null,{"$f":"IFERROR([6]INVERSION!$G$237,\"\")","v":0},{"$f":"IFERROR([6]INVERSION!$H$237,\"\")","v":0},{"$f":"IFERROR([6]INVERSION!$I$237,\"\")","v":0},{"$f":"IFERROR([6]INVERSION!$J$237,\"\")","v":0},{"$f":"IFERROR([6]INVERSION!$K$237,\"\")","v":0},{"$f":"IFERROR([6]INVERSION!$L$237,\"\")","v":0},{"$f":"IFERROR([6]INVERSION!$M$237,\"\")","v":0},{"$f":"IFERROR([6]INVERSION!$N$237,\"\")","v":0},{"$f":"IFERROR([6]INVERSION!$O$237,\"\")","v":0},{"$f":"IFERROR([6]INVERSION!$P$237,\"\")","v":0},{"$f":"IFERROR([6]INVERSION!$Q$237,\"\")","v":0},{"$f":"IFERROR([6]INVERSION!$R$237,\"\")","v":0},{"$f":"IFERROR([6]INVERSION!$S$237,\"\")","v":"00:00:00"},{"$f":"IFERROR([6]INVERSION!$T$237,\"\")","v":"00:00:00"},{"$f":"IFERROR([6]INVERSION!$U$237,\"\")","v":0},{"$f":"IFERROR([6]INVERSION!$V$237,\"\")","v":0},{"$f":"IFERROR([6]INVERSION!$W$237,\"\")","v":0},{"$f":"IFERROR([6]INVERSION!$X$237,\"\")","v":0},{"$f":"IFERROR([6]INVERSION!$Y$237,\"\")","v":0},null,null,null,"","",null,0]
[null,null,null,null,null,null,{"$f":"IFERROR([6]INVERSION!$G$238,\"\")","v":0},{"$f":"IFERROR([6]INVERSION!$H$238,\"\")","v":0},{"$f":"IFERROR([6]INVERSION!$I$238,\"\")","v":0},{"$f":"IFERROR([6]INVERSION!$J$238,\"\")","v":0},{"$f":"IFERROR([6]INVERSION!$K$238,\"\")","v":0},{"$f":"IFERROR([6]INVERSION!$L$238,\"\")","v":0},{"$f":"IFERROR([6]INVERSION!$M$238,\"\")","v":0},{"$f":"IFERROR([6]INVERSION!$N$238,\"\")","v":0},{"$f":"IFERROR([6]INVERSION!$O$238,\"\")","v":0},{"$f":"IFERROR([6]INVERSION!$P$238,\"\")","v":0},{"$f":"IFERROR([6]INVERSION!$Q$238,\"\")","v":0},{"$f":"IFERROR([6]INVERSION!$R$238,\"\")","v":0},{"$f":"IFERROR([6]INVERSION!$S$238,\"\")","v":"00:00:00"},{"$f":"IFERROR([6]INVERSION!$T$238,\"\")","v":"00:00:00"},{"$f":"IFERROR([6]INVERSION!$U$238,\"\")","v":0},{"$f":"IFERROR([6]INVERSION!$V$238,\"\")","v":0},{"$f":"IFERROR([6]INVERSION!$W$238,\"\")","v":0},{"$f":"IFERROR([6]INVERSION!$X$238,\"\")","v":0},{"$f":"IFERROR([6]INVERSION!$Y$238,\"\")","v":0}]
[null,null,null,null,null,null,{"$f":"IFERROR([6]INVERSION!$G$239,\"\")","v":0},{"$f":"IFERROR([6]INVERSION!$H$239,\"\")","v":0},{"$f":"IFERROR([6]INVERSION!$I$239,\"\")","v":0},{"$f":"IFERROR([6]INVERSION!$J$239,\"\")","v":0},{"$f":"IFERROR([6]INVERSION!$K$239,\"\")","v":0},{"$f":"IFERROR([6]INVERSION!$L$239,\"\")","v":0},{"$f":"IFERROR([6]INVERSION!$M$239,\"\")","v":0},{"$f":"IFERROR([6]INVERSION!$N$239,\"\")","v":0},{"$f":"IFERROR([6]INVERSION!$O$239,\"\")","v":0},{"$f":"IFERROR([6]INVERSION!$P$239,\"\")","v":0},{"$f":"IFERROR([6]INVERSION!$Q$239,\"\")","v":0},{"$f":"IFERROR([6]INVERSION!$R$239,\"\")","v":0},{"$f":"IFERROR([6]INVERSION!$S$239,\"\")","v":"00:00:00"},{"$f":"IFERROR([6]INVERSION!$T$239,\"\")","v":"00:00:00"},{"$f":"IFERROR([6]INVERSION!$U$239,\"\")","v":0},{"$f":"IFERROR([6]INVERSION!$V$239,\"\")","v":0},{"$f":"IFERROR([6]INVERSION!$W$239,\"\")","v":0},{"$f":"IFERROR([6]INVERSION!$X$239,\"\")","v":0},{"$f":"IFERROR([6]INVERSION!$Y$239,\"\")","v":0}]
[null,null,null,null,null,null,{"$f":"IFERROR([6]INVERSION!$G$240,\"\")","v":0},{"$f":"IFERROR([6]INVERSION!$H$240,\"\")","v":0},{"$f":"IFERROR([6]INVERSION!$I$240,\"\")","v":0},{"$f":"IFERROR([6]INVERSION!$J$240,\"\")","v":0},{"$f":"IFERROR([6]INVERSION!$K$240,\"\")","v":0},{"$f":"IFERROR([6]INVERSION!$L$240,\"\")","v":0},{"$f":"IFERROR([6]INVERSION!$M$240,\"\")","v":0},{"$f":"IFERROR([6]INVERSION!$N$240,\"\")","v":0},{"$f":"IFERROR([6]INVERSION!$O$240,\"\")","v":0},{"$f":"IFERROR([6]INVERSION!$P$240,\"\")","v":0},{"$f":"IFERROR([6]INVERSION!$Q$240,\"\")","v":0},{"$f":"IFERROR([6]INVERSION!$R$240,\"\")","v":0},{"$f":"IFERROR([6]INVERSION!$S$240,\"\")","v":"00:00:00"},{"$f":"IFERROR([6]INVERSION!$T$240,\"\")","v":"00:00:00"},{"$f":"IFERROR([6]INVERSION!$U$240,\"\")","v":0},{"$f":"IFERROR([6]INVERSION!$V$240,\"\")","v":0},{"$f":"IFERROR([6]INVERSION!$W$240,\"\")","v":0},{"$f":"IFERROR([6]INVERSION!$X$240,\"\")","v":0},{"$f":"IFERROR([6]INVERSION!$Y$240,\"\")","v":0}]
[null,null,null,null,null,null,{"$f":"IFERROR([6]INVERSION!$G$241,\"\")","v":0},{"$f":"IFERROR([6]INVERSION!$H$241,\"\")","v":0},{"$f":"IFERROR([6]INVERSION!$I$241,\"\")","v":0},{"$f":"IFERROR([6]INVERSION!$J$241,\"\")","v":0},{"$f":"IFERROR([6]INVERSION!$K$241,\"\")","v":0},{"$f":"IFERROR([6]INVERSION!$L$241,\"\")","v":0},{"$f":"IFERROR([6]INVERSION!$M$241,\"\")","v":0},{"$f":"IFERROR([6]INVERSION!$N$241,\"\")","v":0},{"$f":"IFERROR([6]INVERSION!$O$241,\"\")","v":0},{"$f":"IFERROR([6]INVERSION!$P$241,\"\")","v":0},{"$f":"IFERROR([6]INVERSION!$Q$241,\"\")","v":0},{"$f":"IFERROR([6]INVERSION!$R$241,\"\")","v":0},{"$f":"IFERROR([6]INVERSION!$S$241,\"\")","v":"00:00:00"},{"$f":"IFERROR([6]INVERSION!$T$241,\"\")","v":"00:00:00"},{"$f":"IFERROR([6]INVERSION!$U$241,\"\")","v":0},{"$f":"IFERROR([6]INVERSION!$V$241,\"\")","v":0},{"$f":"IFERROR([6]INVERSION!$W$241,\"\")","v":0},{"$f":"IFERROR([6]INVERSION!$X$241,\"\")","v":0},{"$f":"IFERROR([6]INVERSION!$Y$241,\"\")","v":0}]
[null,null,null,null,null,null,{"$f":"IFERROR([6]INVERSION!$G$242,\"\")","v":0},{"$f":"IFERROR([6]INVERSION!$H$242,\"\")","v":0},{"$f":"IFERROR([6]INVERSION!$I$242,\"\")","v":0},{"$f":"IFERROR([6]INVERSION!$J$242,\"\")","v":0},{"$f":"IFERROR([6]INVERSION!$K$242,\"\")","v":0},{"$f":"IFERROR([6]INVERSION!$L$242,\"\")","v":0},{"$f":"IFERROR([6]INVERSION!$M$242,\"\")","v":0},{"$f":"IFERROR([6]INVERSION!$N$242,\"\")","v":0},{"$f":"IFERROR([6]INVERSION!$O$242,\"\")","v":0},{"$f":"IFERROR([6]INVERSION!$P$242,\"\")","v":0},{"$f":"IFERROR([6]INVERSION!$Q$242,\"\")","v":0},{"$f":"IFERROR([6]INVERSION!$R$242,\"\")","v":0},{"$f":"IFERROR([6]INVERSION!$S$242,\"\")","v":"00:00:00"},{"$f":"IFERROR([6]INVERSION!$T$242,\"\")","v":"00:00:00"},{"$f":"IFERROR([6]INVERSION!$U$242,\"\")","v":0},{"$f":"IFERROR([6]INVERSION!$V$242,\"\")","v":0},{"$f":"IFERROR([6]INVERSION!$W$242,\"\")","v":0},{"$f":"IFERROR([6]INVERSION!$X$242,\"\")","v":0},{"$f":"IFERROR([6]INVERSION!$Y$242,\"\")","v":0}]
[null,null,null,null,null,null,{"$f":"IFERROR([6]INVERSION!$G$243,\"\")","v":0},{"$f":"IFERROR([6]INVERSION!$H$243,\"\")","v":0},{"$f":"IFERROR([6]INVERSION!$I$243,\"\")","v":0},{"$f":"IFERROR([6]INVERSION!$J$243,\"\")","v":0},{"$f":"IFERROR([6]INVERSION!$K$243,\"\")","v":0},{"$f":"IFERROR([6]INVERSION!$L$243,\"\")","v":0},{"$f":"IFERROR([6]INVERSION!$M$243,\"\")","v":0},{"$f":"IFERROR([6]INVERSION!$N$243,\"\")","v":0},{"$f":"IFERROR([6]INVERSION!$O$243,\"\")","v":0},{"$f":"IFERROR([6]INVERSION!$P$243,\"\")","v":0},{"$f":"IFERROR([6]INVERSION!$Q$243,\"\")","v":0},{"$f":"IFERROR([6]INVERSION!$R$243,\"\")","v":0},{"$f":"IFERROR([6]INVERSION!$S$243,\"\")","v":"00:00:00"},{"$f":"IFERROR([6]INVERSION!$T$243,\"\")","v":"00:00:00"},{"$f":"IFERROR([6]INVERSION!$U$243,\"\")","v":0},{"$f":"IFERROR([6]INVERSION!$V$243,\"\")","v":0},{"$f":"IFERROR([6]INVERSION!$W$243,\"\")","v":0},{"$f":"IFERROR([6]INVERSION!$X$243,\"\")","v":0},{"$f":"IFERROR([6]INVERSION!$Y$243,\"\")","v":0},null,null,null,"","",null,0]
[null,null,null,null,null,null,{"$f":"IFERROR([6]INVERSION!$G$244,\"\")","v":0},{"$f":"IFERROR([6]INVERSION!$H$244,\"\")","v":0},{"$f":"IFERROR([6]INVERSION!$I$244,\"\")","v":0},{"$f":"IFERROR([6]INVERSION!$J$244,\"\")","v":0},{"$f":"IFERROR([6]INVERSION!$K$244,\"\")","v":0},{"$f":"IFERROR([6]INVERSION!$L$244,\"\")","v":0},{"$f":"IFERROR([6]INVERSION!$M$244,\"\")","v":0},{"$f":"IFERROR([6]INVERSION!$N$244,\"\")","v":0},{"$f":"IFERROR([6]INVERSION!$O$244,\"\")","v":0},{"$f":"IFERROR([6]INVERSION!$P$244,\"\")","v":0},{"$f":"IFERROR([6]INVERSION!$Q$244,\"\")","v":0},{"$f":"IFERROR([6]INVERSION!$R$244,\"\")","v":0},{"$f":"IFERROR([6]INVERSION!$S$244,\"\")","v":"00:00:00"},{"$f":"IFERROR([6]INVERSION!$T$244,\"\")","v":"00:00:00"},{"$f":"IFERROR([6]INVERSION!$U$244,\"\")","v":0},{"$f":"IFERROR([6]INVERSION!$V$244,\"\")","v":0},{"$f":"IFERROR([6]INVERSION!$W$244,\"\")","v":0},{"$f":"IFERROR([6]INVERSION!$X$244,\"\")","v":0},{"$f":"IFERROR([6]INVERSION!$Y$244,\"\")","v":0},null,null,null,"","",null,0]
[null,null,null,null,null,null,{"$f":"IFERROR([6]INVERSION!$G$245,\"\")","v":0},{"$f":"IFERROR([6]INVERSION!$H$245,\"\")","v":0},{"$f":"IFERROR([6]INVERSION!$I$245,\"\")","v":0},{"$f":"IFERROR([6]INVERSION!$J$245,\"\")","v":0},{"$f":"IFERROR([6]INVERSION!$K$245,\"\")","v":0},{"$f":"IFERROR([6]INVERSION!$L$245,\"\")","v":0},{"$f":"IFERROR([6]INVERSION!$M$245,\"\")","v":0},{"$f":"IFERROR([6]INVERSION!$N$245,\"\")","v":0},{"$f":"IFERROR([6]INVERSION!$O$245,\"\")","v":0},{"$f":"IFERROR([6]INVERSION!$P$245,\"\")","v":0},{"$f":"IFERROR([6]INVERSION!$Q$245,\"\")","v":0},{"$f":"IFERROR([6]INVERSION!$R$245,\"\")","v":0},{"$f":"IFERROR([6]INVERSION!$S$245,\"\")","v":"00:00:00"},{"$f":"IFERROR([6]INVERSION!$T$245,\"\")","v":"00:00:00"},{"$f":"IFERROR([6]INVERSION!$U$245,\"\")","v":0},{"$f":"IFERROR([6]INVERSION!$V$245,\"\")","v":0},{"$f":"IFERROR([6]INVERSION!$W$245,\"\")","v":0},{"$f":"IFERROR([6]INVERSION!$X$245,\"\")","v":0},{"$f":"IFERROR([6]INVERSION!$Y$245,\"\")","v":0},null,null,null,"","",null,0]
[null,null,"2. Definir e implementar el modelo optimizado de formulación, seguimiento y evaluación de la política pública judicial.",null,null,null,{"$f":"IFERROR([6]INVERSION!$G$246,\"\")","v":0},{"$f":"IFERROR([6]INVERSION!$H$246,\"\")","v":0},{"$f":"IFERROR([6]INVERSION!$I$246,\"\")","v":0},{"$f":"IFERROR([6]INVERSION!$J$246,\"\")","v":0},{"$f":"IFERROR([6]INVERSION!$K$246,\"\")","v":0},{"$f":"IFERROR([6]INVERSION!$L$246,\"\")","v":0},{"$f":"IFERROR([6]INVERSION!$M$246,\"\")","v":0},{"$f":"IFERROR([6]INVERSION!$N$246,\"\")","v":0},{"$f":"IFERROR([6]INVERSION!$O$246,\"\")","v":0},{"$f":"IFERROR([6]INVERSION!$P$246,\"\")","v":0},{"$f":"IFERROR([6]INVERSION!$Q$246,\"\")","v":0},{"$f":"IFERROR([6]INVERSION!$R$246,\"\")","v":0},{"$f":"IFERROR([6]INVERSION!$S$246,\"\")","v":"00:00:00"},{"$f":"IFERROR([6]INVERSION!$T$246,\"\")","v":"00:00:00"},{"$f":"IFERROR([6]INVERSION!$U$246,\"\")","v":0},{"$f":"IFERROR([6]INVERSION!$V$246,\"\")","v":0},{"$f":"IFERROR([6]INVERSION!$W$246,\"\")","v":0},{"$f":"IFERROR([6]INVERSION!$X$246,\"\")","v":0},{"$f":"IFERROR([6]INVERSION!$Y$246,\"\")","v":0},null,null,null,"","",null,0]
[null,null,null,null,null,null,{"$f":"IFERROR([6]INVERSION!$G$247,\"\")","v":0},{"$f":"IFERROR([6]INVERSION!$H$247,\"\")","v":0},{"$f":"IFERROR([6]INVERSION!$I$247,\"\")","v":0},{"$f":"IFERROR([6]INVERSION!$J$247,\"\")","v":0},{"$f":"IFERROR([6]INVERSION!$K$247,\"\")","v":0},{"$f":"IFERROR([6]INVERSION!$L$247,\"\")","v":0},{"$f":"IFERROR([6]INVERSION!$M$247,\"\")","v":0},{"$f":"IFERROR([6]INVERSION!$N$247,\"\")","v":0},{"$f":"IFERROR([6]INVERSION!$O$247,\"\")","v":0},{"$f":"IFERROR([6]INVERSION!$P$247,\"\")","v":0},{"$f":"IFERROR([6]INVERSION!$Q$247,\"\")","v":0},{"$f":"IFERROR([6]INVERSION!$R$247,\"\")","v":0},{"$f":"IFERROR([6]INVERSION!$S$247,\"\")","v":"00:00:00"},{"$f":"IFERROR([6]INVERSION!$T$247,\"\")","v":"00:00:00"},{"$f":"IFERROR([6]INVERSION!$U$247,\"\")","v":0},{"$f":"IFERROR([6]INVERSION!$V$247,\"\")","v":0},{"$f":"IFERROR([6]INVERSION!$W$247,\"\")","v":0},{"$f":"IFERROR([6]INVERSION!$X$247,\"\")","v":0},{"$f":"IFERROR([6]INVERSION!$Y$247,\"\")","v":0},null,null,null,"","",null,0]
[null,null,null,null,null,null,{"$f":"IFERROR([6]INVERSION!$G$248,\"\")","v":0},{"$f":"IFERROR([6]INVERSION!$H$248,\"\")","v":0},{"$f":"IFERROR([6]INVERSION!$I$248,\"\")","v":0},{"$f":"IFERROR([6]INVERSION!$J$248,\"\")","v":0},{"$f":"IFERROR([6]INVERSION!$K$248,\"\")","v":0},{"$f":"IFERROR([6]INVERSION!$L$248,\"\")","v":0},{"$f":"IFERROR([6]INVERSION!$M$248,\"\")","v":0},{"$f":"IFERROR([6]INVERSION!$N$248,\"\")","v":0},{"$f":"IFERROR([6]INVERSION!$O$248,\"\")","v":0},{"$f":"IFERROR([6]INVERSION!$P$248,\"\")","v":0},{"$f":"IFERROR([6]INVERSION!$Q$248,\"\")","v":0},{"$f":"IFERROR([6]INVERSION!$R$248,\"\")","v":0},{"$f":"IFERROR([6]INVERSION!$S$248,\"\")","v":"00:00:00"},{"$f":"IFERROR([6]INVERSION!$T$248,\"\")","v":"00:00:00"},{"$f":"IFERROR([6]INVERSION!$U$248,\"\")","v":0},{"$f":"IFERROR([6]INVERSION!$V$248,\"\")","v":0},{"$f":"IFERROR([6]INVERSION!$W$248,\"\")","v":0},{"$f":"IFERROR([6]INVERSION!$X$248,\"\")","v":0},{"$f":"IFERROR([6]INVERSION!$Y$248,\"\")","v":0}]
[null,null,null,null,null,null,{"$f":"IFERROR([6]INVERSION!$G$249,\"\")","v":0},{"$f":"IFERROR([6]INVERSION!$H$249,\"\")","v":0},{"$f":"IFERROR([6]INVERSION!$I$249,\"\")","v":0},{"$f":"IFERROR([6]INVERSION!$J$249,\"\")","v":0},{"$f":"IFERROR([6]INVERSION!$K$249,\"\")","v":0},{"$f":"IFERROR([6]INVERSION!$L$249,\"\")","v":0},{"$f":"IFERROR([6]INVERSION!$M$249,\"\")","v":0},{"$f":"IFERROR([6]INVERSION!$N$249,\"\")","v":0},{"$f":"IFERROR([6]INVERSION!$O$249,\"\")","v":0},{"$f":"IFERROR([6]INVERSION!$P$249,\"\")","v":0},{"$f":"IFERROR([6]INVERSION!$Q$249,\"\")","v":0},{"$f":"IFERROR([6]INVERSION!$R$249,\"\")","v":0},{"$f":"IFERROR([6]INVERSION!$S$249,\"\")","v":"00:00:00"},{"$f":"IFERROR([6]INVERSION!$T$249,\"\")","v":"00:00:00"},{"$f":"IFERROR([6]INVERSION!$U$249,\"\")","v":0},{"$f":"IFERROR([6]INVERSION!$V$249,\"\")","v":0},{"$f":"IFERROR([6]INVERSION!$W$249,\"\")","v":0},{"$f":"IFERROR([6]INVERSION!$X$249,\"\")","v":0},{"$f":"IFERROR([6]INVERSION!$Y$249,\"\")","v":0}]
[null,null,null,null,null,null,{"$f":"IFERROR([6]INVERSION!$G$250,\"\")","v":0},{"$f":"IFERROR([6]INVERSION!$H$250,\"\")","v":0},{"$f":"IFERROR([6]INVERSION!$I$250,\"\")","v":0},{"$f":"IFERROR([6]INVERSION!$J$250,\"\")","v":0},{"$f":"IFERROR([6]INVERSION!$K$250,\"\")","v":0},{"$f":"IFERROR([6]INVERSION!$L$250,\"\")","v":0},{"$f":"IFERROR([6]INVERSION!$M$250,\"\")","v":0},{"$f":"IFERROR([6]INVERSION!$N$250,\"\")","v":0},{"$f":"IFERROR([6]INVERSION!$O$250,\"\")","v":0},{"$f":"IFERROR([6]INVERSION!$P$250,\"\")","v":0},{"$f":"IFERROR([6]INVERSION!$Q$250,\"\")","v":0},{"$f":"IFERROR([6]INVERSION!$R$250,\"\")","v":0},{"$f":"IFERROR([6]INVERSION!$S$250,\"\")","v":"00:00:00"},{"$f":"IFERROR([6]INVERSION!$T$250,\"\")","v":"00:00:00"},{"$f":"IFERROR([6]INVERSION!$U$250,\"\")","v":0},{"$f":"IFERROR([6]INVERSION!$V$250,\"\")","v":0},{"$f":"IFERROR([6]INVERSION!$W$250,\"\")","v":0},{"$f":"IFERROR([6]INVERSION!$X$250,\"\")","v":0},{"$f":"IFERROR([6]INVERSION!$Y$250,\"\")","v":0}]
[null,null,null,null,null,null,{"$f":"IFERROR([6]INVERSION!$G$251,\"\")","v":0},{"$f":"IFERROR([6]INVERSION!$H$251,\"\")","v":0},{"$f":"IFERROR([6]INVERSION!$I$251,\"\")","v":0},{"$f":"IFERROR([6]INVERSION!$J$251,\"\")","v":0},{"$f":"IFERROR([6]INVERSION!$K$251,\"\")","v":0},{"$f":"IFERROR([6]INVERSION!$L$251,\"\")","v":0},{"$f":"IFERROR([6]INVERSION!$M$251,\"\")","v":0},{"$f":"IFERROR([6]INVERSION!$N$251,\"\")","v":0},{"$f":"IFERROR([6]INVERSION!$O$251,\"\")","v":0},{"$f":"IFERROR([6]INVERSION!$P$251,\"\")","v":0},{"$f":"IFERROR([6]INVERSION!$Q$251,\"\")","v":0},{"$f":"IFERROR([6]INVERSION!$R$251,\"\")","v":0},{"$f":"IFERROR([6]INVERSION!$S$251,\"\")","v":"00:00:00"},{"$f":"IFERROR([6]INVERSION!$T$251,\"\")","v":"00:00:00"},{"$f":"IFERROR([6]INVERSION!$U$251,\"\")","v":0},{"$f":"IFERROR([6]INVERSION!$V$251,\"\")","v":0},{"$f":"IFERROR([6]INVERSION!$W$251,\"\")","v":0},{"$f":"IFERROR([6]INVERSION!$X$251,\"\")","v":0},{"$f":"IFERROR([6]INVERSION!$Y$251,\"\")","v":0}]
[null,null,null,null,null,null,{"$f":"IFERROR([6]INVERSION!$G$252,\"\")","v":0},{"$f":"IFERROR([6]INVERSION!$H$252,\"\")","v":0},{"$f":"IFERROR([6]INVERSION!$I$252,\"\")","v":0},{"$f":"IFERROR([6]INVERSION!$J$252,\"\")","v":0},{"$f":"IFERROR([6]INVERSION!$K$252,\"\")","v":0},{"$f":"IFERROR([6]INVERSION!$L$252,\"\")","v":0},{"$f":"IFERROR([6]INVERSION!$M$252,\"\")","v":0},{"$f":"IFERROR([6]INVERSION!$N$252,\"\")","v":0},{"$f":"IFERROR([6]INVERSION!$O$252,\"\")","v":0},{"$f":"IFERROR([6]INVERSION!$P$252,\"\")","v":0},{"$f":"IFERROR([6]INVERSION!$Q$252,\"\")","v":0},{"$f":"IFERROR([6]INVERSION!$R$252,\"\")","v":0},{"$f":"IFERROR([6]INVERSION!$S$252,\"\")","v":"00:00:00"},{"$f":"IFERROR([6]INVERSION!$T$252,\"\")","v":"00:00:00"},{"$f":"IFERROR([6]INVERSION!$U$252,\"\")","v":0},{"$f":"IFERROR([6]INVERSION!$V$252,\"\")","v":0},{"$f":"IFERROR([6]INVERSION!$W$252,\"\")","v":0},{"$f":"IFERROR([6]INVERSION!$X$252,\"\")","v":0},{"$f":"IFERROR([6]INVERSION!$Y$252,\"\")","v":0}]
[null,null,null,null,null,null,{"$f":"IFERROR([6]INVERSION!$G$253,\"\")","v":0},{"$f":"IFERROR([6]INVERSION!$H$253,\"\")","v":0},{"$f":"IFERROR([6]INVERSION!$I$253,\"\")","v":0},{"$f":"IFERROR([6]INVERSION!$J$253,\"\")","v":0},{"$f":"IFERROR([6]INVERSION!$K$253,\"\")","v":0},{"$f":"IFERROR([6]INVERSION!$L$253,\"\")","v":0},{"$f":"IFERROR([6]INVERSION!$M$253,\"\")","v":0},{"$f":"IFERROR([6]INVERSION!$N$253,\"\")","v":0},{"$f":"IFERROR([6]INVERSION!$O$253,\"\")","v":0},{"$f":"IFERROR([6]INVERSION!$P$253,\"\")","v":0},{"$f":"IFERROR([6]INVERSION!$Q$253,\"\")","v":0},{"$f":"IFERROR([6]INVERSION!$R$253,\"\")","v":0},{"$f":"IFERROR([6]INVERSION!$S$253,\"\")","v":"00:00:00"},{"$f":"IFERROR([6]INVERSION!$T$253,\"\")","v":"00:00:00"},{"$f":"IFERROR([6]INVERSION!$U$253,\"\")","v":0},{"$f":"IFERROR([6]INVERSION!$V$253,\"\")","v":0},{"$f":"IFERROR([6]INVERSION!$W$253,\"\")","v":0},{"$f":"IFERROR([6]INVERSION!$X$253,\"\")","v":0},{"$f":"IFERROR([6]INVERSION!$Y$253,\"\")","v":0},null,null,null,"","",null,0]
[null,null,null,null,null,null,{"$f":"IFERROR([6]INVERSION!$G$254,\"\")","v":0},{"$f":"IFERROR([6]INVERSION!$H$254,\"\")","v":0},{"$f":"IFERROR([6]INVERSION!$I$254,\"\")","v":0},{"$f":"IFERROR([6]INVERSION!$J$254,\"\")","v":0},{"$f":"IFERROR([6]INVERSION!$K$254,\"\")","v":0},{"$f":"IFERROR([6]INVERSION!$L$254,\"\")","v":0},{"$f":"IFERROR([6]INVERSION!$M$254,\"\")","v":0},{"$f":"IFERROR([6]INVERSION!$N$254,\"\")","v":0},{"$f":"IFERROR([6]INVERSION!$O$254,\"\")","v":0},{"$f":"IFERROR([6]INVERSION!$P$254,\"\")","v":0},{"$f":"IFERROR([6]INVERSION!$Q$254,\"\")","v":0},{"$f":"IFERROR([6]INVERSION!$R$254,\"\")","v":0},{"$f":"IFERROR([6]INVERSION!$S$254,\"\")","v":"00:00:00"},{"$f":"IFERROR([6]INVERSION!$T$254,\"\")","v":"00:00:00"},{"$f":"IFERROR([6]INVERSION!$U$254,\"\")","v":0},{"$f":"IFERROR([6]INVERSION!$V$254,\"\")","v":0},{"$f":"IFERROR([6]INVERSION!$W$254,\"\")","v":0},{"$f":"IFERROR([6]INVERSION!$X$254,\"\")","v":0},{"$f":"IFERROR([6]INVERSION!$Y$254,\"\")","v":0},null,null,null,"","",null,0]
[null,null,null,null,null,null,{"$f":"IFERROR([6]INVERSION!$G$255,\"\")","v":0},{"$f":"IFERROR([6]INVERSION!$H$255,\"\")","v":0},{"$f":"IFERROR([6]INVERSION!$I$255,\"\")","v":0},{"$f":"IFERROR([6]INVERSION!$J$255,\"\")","v":0},{"$f":"IFERROR([6]INVERSION!$K$255,\"\")","v":0},{"$f":"IFERROR([6]INVERSION!$L$255,\"\")","v":0},{"$f":"IFERROR([6]INVERSION!$M$255,\"\")","v":0},{"$f":"IFERROR([6]INVERSION!$N$255,\"\")","v":0},{"$f":"IFERROR([6]INVERSION!$O$255,\"\")","v":0},{"$f":"IFERROR([6]INVERSION!$P$255,\"\")","v":0},{"$f":"IFERROR([6]INVERSION!$Q$255,\"\")","v":0},{"$f":"IFERROR([6]INVERSION!$R$255,\"\")","v":0},{"$f":"IFERROR([6]INVERSION!$S$255,\"\")","v":"00:00:00"},{"$f":"IFERROR([6]INVERSION!$T$255,\"\")","v":"00:00:00"},{"$f":"IFERROR([6]INVERSION!$U$255,\"\")","v":0},{"$f":"IFERROR([6]INVERSION!$V$255,\"\")","v":0},{"$f":"IFERROR([6]INVERSION!$W$255,\"\")","v":0},{"$f":"IFERROR([6]INVERSION!$X$255,\"\")","v":0},{"$f":"IFERROR([6]INVERSION!$Y$255,\"\")","v":0},null,null,null,"","",null,0]

{"sheet":"INVERSION_SEG_2_TRIM","index":14,"n_rows":255,"n_cols":40,"rows_kept":255,"cut":false,"hidden":false,"merged":[[225,5,234,5],[235,0,254,0],[235,1,254,1],[235,2,244,2],[235,3,244,3],[235,4,244,4],[235,5,254,5],[245,2,254,2],[245,3,254,3],[245,4,254,4],[215,2,224,2],[215,3,224,3],[215,4,224,4],[225,2,234,2],[225,3,234,3],[225,4,234,4],[195,2,204,2],[195,3,204,3],[195,4,204,4],[205,2,214,2],[205,3,214,3],[205,4,214,4],[175,2,184,2],[175,3,184,3],[175,4,184,4],[175,5,184,5],[185,0,234,0],[185,1,234,1],[185,2,194,2],[185,3,194,3],[185,4,194,4],[185,5,224,5],[145,4,154,4],[145,5,174,5],[155,2,164,2],[155,3,164,3],[155,4,164,4],[165,2,174,2],[165,3,174,3],[165,4,174,4],[115,5,124,5],[125,2,134,2],[125,3,134,3],[125,4,134,4],[125,5,134,5],[135,2,144,2],[135,3,144,3],[135,4,144,4],[135,5,144,5],[105,2,114,2],[105,3,114,3],[105,4,114,4],[115,0,184,0],[115,1,184,1],[115,2,124,2],[115,3,124,3],[115,4,124,4],[145,2,154,2],[145,3,154,3],[85,2,94,2],[85,3,94,3],[85,4,94,4],[95,2,104,2],[95,3,104,3],[95,4,104,4],[65,2,74,2],[65,3,74,3],[65,4,74,4],[75,2,84,2],[75,3,84,3],[75,4,84,4],[45,2,54,2],[45,3,54,3],[45,4,54,4],[45,5,54,5],[55,0,114,0],[55,1,114,1],[55,2,64,2],[55,3,64,3],[55,4,64,4],[55,5,114,5],[15,5,24,5],[25,2,34,2],[25,3,34,3],[25,4,34,4],[25,5,34,5],[35,2,44,2],[35,3,44,3],[35,4,44,4],[35,5,44,5],[3,32,3,37],[5,0,54,0],[5,1,54,1],[5,2,14,2],[5,3,14,3],[5,4,14,4],[5,5,14,5],[15,2,24,2],[15,3,24,3],[15,4,24,4],[3,4,4,4],[3,5,4,5],[3,6,3,11],[3,12,3,22],[3,23,3,24],[3,25,3,31],[1,0,1,17],[1,18,1,38],[1,39,1,48],[2,0,2,5],[2,6,2,24],[2,25,2,37],[2,38,4,38],[3,0,4,1],[3,2,4,2],[3,3,4,3]]}
[]
["CONSEJO SUPERIOR DE LA JUDICATURA \nUNIDADES MISIONALES DEL CONSEJO SUPERIOR DE LA JUDICATURA \nDIRECCIÓN EJECUTIVA DE ADMINISTRACIÓN JUDICIAL (DEAJ) - UNIDADES MISIONALES DE LA DEAJ\nDIRECCIONES SECCIONALES DE ADMINISTRACIÓN JUDICIAL ",null,null,null,null,null,null,null,null,null,null,null,null,null,null,null,null,null,null,null,null,null,null,null,null,null,null,null,null,null,null,null,null,null,null,null,null,null,null,"GENERADOR DE SEGUIMIENTOS TRIMESTALES"]
["PLAN SECTORIAL DE DESARROLLO 2023-2026 - OBJETIVOS SIGCMA",null,null,null,null,null,"PLAN DE ACCIÓN Y SEGUIMIENTO A LA INVERSIÓN INSTITUCIONAL ",null,null,null,null,null,null,null,null,null,null,null,null,null,null,null,null,null,null,"AVANCE PLAN DE ACCIÓN ANUAL",null,null,null,null,null,null,null,null,null,null,null,null,"ANALISIS RESULTADO\r\nTRIMESTRE"]
["OBJETIVO ESTRATÉGICO",null,"OBJETIVO ESPECÍFICO PSD","NOMBRE DEL INDICADOR PSD","DEFINICIÓN DEL INDICADOR","OBJETIVO ESPECÍFICO SIGCMA","IDENTIFICACIÓN PROYECTO DE INVERSIÓN",null,null,null,null,null,"PARÁMETROS DE MEDICIÓN ",null,null,null,null,null,null,null,null,null,null,"INFORMACIÓN FINANCIERA",null,"SEGUIMIENTO - CUMPLIMIENTO ANUAL ",null,null,null,null,null,null,"INFORMACIÓN COMPLEMENTARIA FINAL"]
[null,null,null,null,null,null,"PROGRAMA DE INVERSIÓN","SUBPROGRAMA DE INVERSIÓN","RUBRO PRESUPUESTAL","CÓDIGO BPIN","NOMBRE DE PROYECTO","OBJETIVO ESPECÍFICO FORMULADO DEL PROYECTO BPIN","NOMBRE ACTIVIDAD DE INVERSIÓN (POAI)","JUSTIFICACIÓN DE LA ACTIVIDAD","DESCRIBA EL ENTREGABLE \n(Producto y/o servicio principal)","META ANUALIDAD","UNIDAD DE MEDIDA","TIPO DE INDICADOR (GESTIÓN O PRODUCTO)","FECHA DE INICIO DE LA ACTIVIDAD\nDÍA/MES/AÑO","FECHA TERMINACIÓN ACTIVIDAD\nDÍA/MES/AÑO \n(Sí supera anualidad, favor dejar 31/12/20xx)","NÚMERO DE BENEFICIARIOS INTERNOS (Servidores Judiciales)","NÚMERO DE BENEFICIARIOS EXTERNOS (Usuarios)"," DEPENDENCIA RESPONSABLE ","ACTO ADMINISTRATIVO (INDICAR EL ACUERDO INICIAL Y MODIFICACIONES)","RECURSOS ASIGNADOS ($)","DETALLE DE LAS ACTIVIDADES REALIZADAS PARA EL LOGRO DE LA INVERSIÓN (Periodo de reporte acumulado) ","COMPROMISO PRESUPUESTAL (VALOR DEL CONTRATO)","AVANCE DE LA META","% AVANCE ANUAL DE LA ACTIVIDAD"," % AVANCE PRESUPUESTAL ANUAL","AVANCE  DE LA ACTIVIDAD - % EN TIEMPO ANUAL","REZAGO","NÚMERO DE BENEFICIADOS INTERNOS","NÚMERO DE BENEFICIADOS EXTERNOS","DIFICULTADES PARA LOGRAR LA META PROPUESTA","EL PRODUCTO FINAL OBTENIDO ¿CÓMO IMPACTÓ SOBRE EL OBJETIVO ESTRATÉGICO?","RECOMENDACIONES PARA LOGRAR LA META","OBSERVACIONES"]
["1. Acceso e Infraestructura Física","Acceso e Infraestructura Física: Ampliar, en todo el territorio nacional, el acceso a una justicia efectiva, pronta, equitativa e incluyente, reduciendo el atraso y la congestión, de acuerdo con las necesidades de la demanda de justicia por jurisdicción y especialidad, y mejorando la articulación con la justicia restaurativa y terapéutica, y otros mecanismos de solución de conflictos y consolidando una infraestructura física óptima para el acceso a la justicia.","1. Ampliar el acceso a justicia para atender las necesidades jurídicas de los ciudadanos con un enfoque diferencial, de una manera pronta, reduciendo las inequidades y las brechas territoriales de acceso.","Estrategias implementadas por la Rama Judicial para ampliar el acceso a la justicia considerando el enfoque diferencial y territorial\n\nÍndice de dispersión en la calificación del factor calidad","# de estrategias establecida s en la meta implementa das durante la vigencia del plan\n\nDispersión en la calificación del factor de calidad por jurisdicción y nivel de competencia.","2. Asegurar  el cumplimiento de los objetivos institucionales, la normatividad aplicable,  la mejora del SIGCMA y la satisfacción de los usuarios, revisando de  forma continua y sistemática la planificación de la gestión y fortaleciendo la administración de riesgos y sus controles",{"$f":"IFERROR([10]INVERSION!$G$6,\"\")","v":"MEJORAMIENTO Y MANTENIMIENTO DE LA INFRAESTRUCTURA FÍSICA DE LA RAMA JUDICIAL A NIVEL NACIONAL"},{"$f":"IFERROR([10]INVERSION!$H$6,\"\")","v":"MEJORAMIENTO Y MANTENIMIENTO DE LA INFRAESTRUCTURA FÍSICA DE LA RAMA JUDICIAL A NIVEL NACIONAL"},{"$f":"IFERROR([10]INVERSION!$I$6,\"\")","v":"2701 - MEJORAMIENTO Y MANTENIMIENTO DE LA INFRAESTRUCTURA FÍSICA DE LA RAMA JUDICIAL A NIVEL NACIONAL"},"=IFERROR(INVERSION!$J$6,\"\")",{"$f":"IFERROR([10]INVERSION!$K$6,\"\")","v":"MEJORAMIENTO Y MANTENIMIENTO DE LA INFRAESTRUCTURA FÍSICA DE LA RAMA JUDICIAL A NIVEL NACIONAL"},{"$f":"IFERROR([10]INVERSION!$L$6,\"\")","v":"MEJORAMIENTO Y MANTENIMIENTO DE LA INFRAESTRUCTURA FÍSICA DE LA RAMA JUDICIAL A NIVEL NACIONAL"},{"$f":"IFERROR([10]INVERSION!$M$6,\"\")","v":"MEJORAMIENTO Y MANTENIMIENTO DE LA INFRAESTRUCTURA FÍSICA DE LA RAMA JUDICIAL A NIVEL NACIONAL"},{"$f":"IFERROR([10]INVERSION!$N$6,\"\")","v":"Proyectos para el mantenimiento y mejoramiento de la infraestructura física de los inmuebles propios de la Rama Judicial en el Distrito Judicial de Villavicencio"},{"$f":"IFERROR([10]INVERSION!$O$6,\"\")","v":"Contratos susctritos para la ejecución de los recursos asignados para el mantenimiento y mejoramiento de la infraestructura física en el Distrito Judicial de Villavicencio"},{"$f":"IFERROR([10]INVERSION!$P$6,\"\")","v":100},{"$f":"IFERROR([10]INVERSION!$Q$6,\"\")","v":"PORCENTAJE"},{"$f":"IFERROR([10]INVERSION!$R$6,\"\")","v":"Producto"},{"$f":"IFERROR([10]INVERSION!$S$6,\"\")","v":"2023-06-01"},{"$f":"IFERROR([10]INVERSION!$T$6,\"\")","v":"2023-12-31"},{"$f":"IFERROR([10]INVERSION!$U$6,\"\")","v":250},{"$f":"IFERROR([10]INVERSION!$V$6,\"\")","v":4500},{"$f":"IFERROR([10]INVERSION!$W$6,\"\")","v":"Administrativa "},{"$f":"IFERROR([10]INVERSION!$X$6,\"\")","v":"RES. 3301 - 2023 - UPLA"},{"$f":"IFERROR([10]INVERSION!$Y$6,\"\")","v":1557166363},null,null,null,{"$f":"IFERROR(AB6/P6,\"\")","v":0},{"$f":"IFERROR(AA6/Y6,\"\")","v":0},null,{"$f":"IFERROR(P6-AB6,\"\")","v":100}]
[null,null,null,null,null,null,{"$f":"IFERROR([10]INVERSION!$G$7,\"\")","v":0},{"$f":"IFERROR([10]INVERSION!$H$7,\"\")","v":0},{"$f":"IFERROR([10]INVERSION!$I$7,\"\")","v":0},{"$f":"IFERROR([10]INVERSION!$J$7,\"\")","v":0},{"$f":"IFERROR([10]INVERSION!$K$7,\"\")","v":0},{"$f":"IFERROR([10]INVERSION!$L$7,\"\")","v":0},{"$f":"IFERROR([10]INVERSION!$M$7,\"\")","v":0},{"$f":"IFERROR([10]INVERSION!$N$7,\"\")","v":0},{"$f":"IFERROR([10]INVERSION!$O$7,\"\")","v":0},{"$f":"IFERROR([10]INVERSION!$P$7,\"\")","v":0},{"$f":"IFERROR([10]INVERSION!$Q$7,\"\")","v":0},{"$f":"IFERROR([10]INVERSION!$R$7,\"\")","v":0},{"$f":"IFERROR([10]INVERSION!$S$7,\"\")","v":"00:00:00"},{"$f":"IFERROR([10]INVERSION!$T$7,\"\")","v":"00:00:00"},{"$f":"IFERROR([10]INVERSION!$U$7,\"\")","v":0},{"$f":"IFERROR([10]INVERSION!$V$7,\"\")","v":0},{"$f":"IFERROR([10]INVERSION!$W$7,\"\")","v":0},{"$f":"IFERROR([10]INVERSION!$X$7,\"\")","v":0},{"$f":"IFERROR([10]INVERSION!$Y$7,\"\")","v":0},null,null,null,{"$f":"IFERROR(AB7/P7,\"\")","v":""},{"$f":"IFERROR(AA7/Y7,\"\")","v":""},null,{"$f":"IFERROR(P7-AB7,\"\")","v":0}]
[null,null,null,null,null,null,{"$f":"IFERROR([10]INVERSION!$G$8,\"\")","v":0},{"$f":"IFERROR([10]INVERSION!$H$8,\"\")","v":0},{"$f":"IFERROR([10]INVERSION!$I$8,\"\")","v":0},{"$f":"IFERROR([10]INVERSION!$J$8,\"\")","v":0},{"$f":"IFERROR([10]INVERSION!$K$8,\"\")","v":0},{"$f":"IFERROR([10]INVERSION!$L$8,\"\")","v":0},{"$f":"IFERROR([10]INVERSION!$M$8,\"\")","v":0},{"$f":"IFERROR([10]INVERSION!$N$8,\"\")","v":0},{"$f":"IFERROR([10]INVERSION!$O$8,\"\")","v":0},{"$f":"IFERROR([10]INVERSION!$P$8,\"\")","v":0},{"$f":"IFERROR([10]INVERSION!$Q$8,\"\")","v":0},{"$f":"IFERROR([10]INVERSION!$R$8,\"\")","v":0},{"$f":"IFERROR([10]INVERSION!$S$8,\"\")","v":"00:00:00"},{"$f":"IFERROR([10]INVERSION!$T$8,\"\")","v":"00:00:00"},{"$f":"IFERROR([10]INVERSION!$U$8,\"\")","v":0},{"$f":"IFERROR([10]INVERSION!$V$8,\"\")","v":0},{"$f":"IFERROR([10]INVERSION!$W$8,\"\")","v":0},{"$f":"IFERROR([10]INVERSION!$X$8,\"\")","v":0},{"$f":"IFERROR([10]INVERSION!$Y$8,\"\")","v":0}]
[null,null,null,null,null,null,{"$f":"IFERROR([10]INVERSION!$G$9,\"\")","v":0},{"$f":"IFERROR([10]INVERSION!$H$9,\"\")","v":0},{"$f":"IFERROR([10]INVERSION!$I$9,\"\")","v":0},{"$f":"IFERROR([10]INVERSION!$J$9,\"\")","v":0},{"$f":"IFERROR([10]INVERSION!$K$9,\"\")","v":0},{"$f":"IFERROR([10]INVERSION!$L$9,\"\")","v":0},{"$f":"IFERROR([10]INVERSION!$M$9,\"\")","v":0},{"$f":"IFERROR([10]INVERSION!$N$9,\"\")","v":0},{"$f":"IFERROR([10]INVERSION!$O$9,\"\")","v":0},{"$f":"IFERROR([10]INVERSION!$P$9,\"\")","v":0},{"$f":"IFERROR([10]INVERSION!$Q$9,\"\")","v":0},{"$f":"IFERROR([10]INVERSION!$R$9,\"\")","v":0},{"$f":"IFERROR([10]INVERSION!$S$9,\"\")","v":"00:00:00"},{"$f":"IFERROR([10]INVERSION!$T$9,\"\")","v":"00:00:00"},{"$f":"IFERROR([10]INVERSION!$U$9,\"\")","v":0},{"$f":"IFERROR([10]INVERSION!$V$9,\"\")","v":0},{"$f":"IFERROR([10]INVERSION!$W$9,\"\")","v":0},{"$f":"IFERROR([10]INVERSION!$X$9,\"\")","v":0},{"$f":"IFERROR([10]INVERSION!$Y$9,\"\")","v":0}]
[null,null,null,null,null,null,{"$f":"IFERROR([10]INVERSION!$G$10,\"\")","v":0},{"$f":"IFERROR([10]INVERSION!$H$10,\"\")","v":0},{"$f":"IFERROR([10]INVERSION!$I$10,\"\")","v":0},{"$f":"IFERROR([10]INVERSION!$J$10,\"\")","v":0},{"$f":"IFERROR([10]INVERSION!$K$10,\"\")","v":0},{"$f":"IFERROR([10]INVERSION!$L$10,\"\")","v":0},{"$f":"IFERROR([10]INVERSION!$M$10,\"\")","v":0},{"$f":"IFERROR([10]INVERSION!$N$10,\"\")","v":0},{"$f":"IFERROR([10]INVERSION!$O$10,\"\")","v":0},{"$f":"IFERROR([10]INVERSION!$P$10,\"\")","v":0},{"$f":"IFERROR([10]INVERSION!$Q$10,\"\")","v":0},{"$f":"IFERROR([10]INVERSION!$R$10,\"\")","v":0},{"$f":"IFERROR([10]INVERSION!$S$10,\"\")","v":"00:00:00"},{"$f":"IFERROR([10]INVERSION!$T$10,\"\")","v":"00:00:00"},{"$f":"IFERROR([10]INVERSION!$U$10,\"\")","v":0},{"$f":"IFERROR([10]INVERSION!$V$10,\"\")","v":0},{"$f":"IFERROR([10]INVERSION!$W$10,\"\")","v":0},{"$f":"IFERROR([10]INVERSION!$X$10,\"\")","v":0},{"$f":"IFERROR([10]INVERSION!$Y$10,\"\")","v":0}]
[null,null,null,null,null,null,{"$f":"IFERROR([10]INVERSION!$G$11,\"\")","v":0},{"$f":"IFERROR([10]INVERSION!$H$11,\"\")","v":0},{"$f":"IFERROR([10]INVERSION!$I$11,\"\")","v":0},{"$f":"IFERROR([10]INVERSION!$J$11,\"\")","v":0},{"$f":"IFERROR([10]INVERSION!$K$11,\"\")","v":0},{"$f":"IFERROR([10]INVERSION!$L$11,\"\")","v":0},{"$f":"IFERROR([10]INVERSION!$M$11,\"\")","v":0},{"$f":"IFERROR([10]INVERSION!$N$11,\"\")","v":0},{"$f":"IFERROR([10]INVERSION!$O$11,\"\")","v":0},{"$f":"IFERROR([10]INVERSION!$P$11,\"\")","v":0},{"$f":"IFERROR([10]INVERSION!$Q$11,\"\")","v":0},{"$f":"IFERROR([10]INVERSION!$R$11,\"\")","v":0},{"$f":"IFERROR([10]INVERSION!$S$11,\"\")","v":"00:00:00"},{"$f":"IFERROR([10]INVERSION!$T$11,\"\")","v":"00:00:00"},{"$f":"IFERROR([10]INVERSION!$U$11,\"\")","v":0},{"$f":"IFERROR([10]INVERSION!$V$11,\"\")","v":0},{"$f":"IFERROR([10]INVERSION!$W$11,\"\")","v":0},{"$f":"IFERROR([10]INVERSION!$X$11,\"\")","v":0},{"$f":"IFERROR([10]INVERSION!$Y$11,\"\")","v":0}]
[null,null,null,null,null,null,{"$f":"IFERROR([10]INVERSION!$G$12,\"\")","v":0},{"$f":"IFERROR([10]INVERSION!$H$12,\"\")","v":0},{"$f":"IFERROR([10]INVERSION!$I$12,\"\")","v":0},{"$f":"IFERROR([10]INVERSION!$J$12,\"\")","v":0},{"$f":"IFERROR([10]INVERSION!$K$12,\"\")","v":0},{"$f":"IFERROR([10]INVERSION!$L$12,\"\")","v":0},{"$f":"IFERROR([10]INVERSION!$M$12,\"\")","v":0},{"$f":"IFERROR([10]INVERSION!$N$12,\"\")","v":0},{"$f":"IFERROR([10]INVERSION!$O$12,\"\")","v":0},{"$f":"IFERROR([10]INVERSION!$P$12,\"\")","v":0},{"$f":"IFERROR([10]INVERSION!$Q$12,\"\")","v":0},{"$f":"IFERROR([10]INVERSION!$R$12,\"\")","v":0},{"$f":"IFERROR([10]INVERSION!$S$12,\"\")","v":"00:00:00"},{"$f":"IFERROR([10]INVERSION!$T$12,\"\")","v":"00:00:00"},{"$f":"IFERROR([10]INVERSION!$U$12,\"\")","v":0},{"$f":"IFERROR([10]INVERSION!$V$12,\"\")","v":0},{"$f":"IFERROR([10]INVERSION!$W$12,\"\")","v":0},{"$f":"IFERROR([10]INVERSION!$X$12,\"\")","v":0},{"$f":"IFERROR([10]INVERSION!$Y$12,\"\")","v":0}]
[null,null,null,null,null,null,{"$f":"IFERROR([10]INVERSION!$G$13,\"\")","v":0},{"$f":"IFERROR([10]INVERSION!$H$13,\"\")","v":0},{"$f":"IFERROR([10]INVERSION!$I$13,\"\")","v":0},{"$f":"IFERROR([10]INVERSION!$J$13,\"\")","v":0},{"$f":"IFERROR([10]INVERSION!$K$13,\"\")","v":0},{"$f":"IFERROR([10]INVERSION!$L$13,\"\")","v":0},{"$f":"IFERROR([10]INVERSION!$M$13,\"\")","v":0},{"$f":"IFERROR([10]INVERSION!$N$13,\"\")","v":0},{"$f":"IFERROR([10]INVERSION!$O$13,\"\")","v":0},{"$f":"IFERROR([10]INVERSION!$P$13,\"\")","v":0},{"$f":"IFERROR([10]INVERSION!$Q$13,\"\")","v":0},{"$f":"IFERROR([10]INVERSION!$R$13,\"\")","v":0},{"$f":"IFERROR([10]INVERSION!$S$13,\"\")","v":"00:00:00"},{"$f":"IFERROR([10]INVERSION!$T$13,\"\")","v":"00:00:00"},{"$f":"IFERROR([10]INVERSION!$U$13,\"\")","v":0},{"$f":"IFERROR([10]INVERSION!$V$13,\"\")","v":0},{"$f":"IFERROR([10]INVERSION!$W$13,\"\")","v":0},{"$f":"IFERROR([10]INVERSION!$X$13,\"\")","v":0},{"$f":"IFERROR([10]INVERSION!$Y$13,\"\")","v":0},null,null,null,{"$f":"IFERROR(AB13/P13,\"\")","v":""},{"$f":"IFERROR(AA13/Y13,\"\")","v":""},null,0]
[null,null,null,null,null,null,{"$f":"IFERROR([10]INVERSION!$G$14,\"\")","v":0},{"$f":"IFERROR([10]INVERSION!$H$14,\"\")","v":0},{"$f":"IFERROR([10]INVERSION!$I$14,\"\")","v":0},{"$f":"IFERROR([10]INVERSION!$J$14,\"\")","v":0},{"$f":"IFERROR([10]INVERSION!$K$14,\"\")","v":0},{"$f":"IFERROR([10]INVERSION!$L$14,\"\")","v":0},{"$f":"IFERROR([10]INVERSION!$M$14,\"\")","v":0},{"$f":"IFERROR([10]INVERSION!$N$14,\"\")","v":0},{"$f":"IFERROR([10]INVERSION!$O$14,\"\")","v":0},{"$f":"IFERROR([10]INVERSION!$P$14,\"\")","v":0},{"$f":"IFERROR([10]INVERSION!$Q$14,\"\")","v":0},{"$f":"IFERROR([10]INVERSION!$R$14,\"\")","v":0},{"$f":"IFERROR([10]INVERSION!$S$14,\"\")","v":"00:00:00"},{"$f":"IFERROR([10]INVERSION!$T$14,\"\")","v":"00:00:00"},{"$f":"IFERROR([10]INVERSION!$U$14,\"\")","v":0},{"$f":"IFERROR([10]INVERSION!$V$14,\"\")","v":0},{"$f":"IFERROR([10]INVERSION!$W$14,\"\")","v":0},{"$f":"IFERROR([10]INVERSION!$X$14,\"\")","v":0},{"$f":"IFERROR([10]INVERSION!$Y$14,\"\")","v":0},null,null,null,"","",null,0]
[null,null,null,null,null,null,{"$f":"IFERROR([10]INVERSION!$G$15,\"\")","v":0},{"$f":"IFERROR([10]INVERSION!$H$15,\"\")","v":0},{"$f":"IFERROR([10]INVERSION!$I$15,\"\")","v":0},{"$f":"IFERROR([10]INVERSION!$J$15,\"\")","v":0},{"$f":"IFERROR([10]INVERSION!$K$15,\"\")","v":0},{"$f":"IFERROR([10]INVERSION!$L$15,\"\")","v":0},{"$f":"IFERROR([10]INVERSION!$M$15,\"\")","v":0},{"$f":"IFERROR([10]INVERSION!$N$15,\"\")","v":0},{"$f":"IFERROR([10]INVERSION!$O$15,\"\")","v":0},{"$f":"IFERROR([10]INVERSION!$P$15,\"\")","v":0},{"$f":"IFERROR([10]INVERSION!$Q$15,\"\")","v":0},{"$f":"IFERROR([10]INVERSION!$R$15,\"\")","v":0},{"$f":"IFERROR([10]INVERSION!$S$15,\"\")","v":"00:00:00"},{"$f":"IFERROR([10]INVERSION!$T$15,\"\")","v":"00:00:00"},{"$f":"IFERROR([10]INVERSION!$U$15,\"\")","v":0},{"$f":"IFERROR([10]INVERSION!$V$15,\"\")","v":0},{"$f":"IFERROR([10]INVERSION!$W$15,\"\")","v":0},{"$f":"IFERROR([10]INVERSION!$X$15,\"\")","v":0},{"$f":"IFERROR([10]INVERSION!$Y$15,\"\")","v":0},null,null,null,"","",null,0]
[null,null,"2. Mejorar los tiempos de respuesta de la Rama Judicial y reducir el inventario de procesos, identificando los retos internos y promoviendo tanto acciones articuladas específicas para abordarlos como estrategias coordinadas para enfrentar las barreras que dependen de otras entidades.","Reducción de tiempos de respuesta en los despachos en los que se implemente el sistema de gestión judicial","% Reducción del promedio de días de duración de los procesos judiciales en los despachos en los que se implemente el sistema de gestión judicial","2. Asegurar  el cumplimiento de los objetivos institucionales, la normatividad aplicable,  la mejora del SIGCMA y la satisfacción de los usuarios, revisando de  forma continua y sistemática la planificación de la gestión y fortaleciendo la administración de riesgos y sus controles",{"$f":"IFERROR([10]INVERSION!$G$16,\"\")","v":0},{"$f":"IFERROR([10]INVERSION!$H$16,\"\")","v":0},{"$f":"IFERROR([10]INVERSION!$I$16,\"\")","v":0},{"$f":"IFERROR([10]INVERSION!$J$16,\"\")","v":0},{"$f":"IFERROR([10]INVERSION!$K$16,\"\")","v":0},{"$f":"IFERROR([10]INVERSION!$L$16,\"\")","v":0},{"$f":"IFERROR([10]INVERSION!$M$16,\"\")","v":0},{"$f":"IFERROR([10]INVERSION!$N$16,\"\")","v":0},{"$f":"IFERROR([10]INVERSION!$O$16,\"\")","v":0},{"$f":"IFERROR([10]INVERSION!$P$16,\"\")","v":0},{"$f":"IFERROR([10]INVERSION!$Q$16,\"\")","v":0},{"$f":"IFERROR([10]INVERSION!$R$16,\"\")","v":0},{"$f":"IFERROR([10]INVERSION!$S$16,\"\")","v":"00:00:00"},{"$f":"IFERROR([10]INVERSION!$T$16,\"\")","v":"00:00:00"},{"$f":"IFERROR([10]INVERSION!$U$16,\"\")","v":0},{"$f":"IFERROR([10]INVERSION!$V$16,\"\")","v":0},{"$f":"IFERROR([10]INVERSION!$W$16,\"\")","v":0},{"$f":"IFERROR([10]INVERSION!$X$16,\"\")","v":0},{"$f":"IFERROR([10]INVERSION!$Y$16,\"\")","v":0},null,null,null,"","",null,0]
[null,null,null,null,null,null,{"$f":"IFERROR([10]INVERSION!$G$17,\"\")","v":0},{"$f":"IFERROR([10]INVERSION!$H$17,\"\")","v":0},{"$f":"IFERROR([10]INVERSION!$I$17,\"\")","v":0},{"$f":"IFERROR([10]INVERSION!$J$17,\"\")","v":0},{"$f":"IFERROR([10]INVERSION!$K$17,\"\")","v":0},{"$f":"IFERROR([10]INVERSION!$L$17,\"\")","v":0},{"$f":"IFERROR([10]INVERSION!$M$17,\"\")","v":0},{"$f":"IFERROR([10]INVERSION!$N$17,\"\")","v":0},{"$f":"IFERROR([10]INVERSION!$O$17,\"\")","v":0},{"$f":"IFERROR([10]INVERSION!$P$17,\"\")","v":0},{"$f":"IFERROR([10]INVERSION!$Q$17,\"\")","v":0},{"$f":"IFERROR([10]INVERSION!$R$17,\"\")","v":0},{"$f":"IFERROR([10]INVERSION!$S$17,\"\")","v":"00:00:00"},{"$f":"IFERROR([10]INVERSION!$T$17,\"\")","v":"00:00:00"},{"$f":"IFERROR([10]INVERSION!$U$17,\"\")","v":0},{"$f":"IFERROR([10]INVERSION!$V$17,\"\")","v":0},{"$f":"IFERROR([10]INVERSION!$W$17,\"\")","v":0},{"$f":"IFERROR([10]INVERSION!$X$17,\"\")","v":0},{"$f":"IFERROR([10]INVERSION!$Y$17,\"\")","v":0},null,null,null,"","",null,0]
[null,null,null,null,null,null,{"$f":"IFERROR([10]INVERSION!$G$18,\"\")","v":0},{"$f":"IFERROR([10]INVERSION!$H$18,\"\")","v":0},{"$f":"IFERROR([10]INVERSION!$I$18,\"\")","v":0},{"$f":"IFERROR([10]INVERSION!$J$18,\"\")","v":0},{"$f":"IFERROR([10]INVERSION!$K$18,\"\")","v":0},{"$f":"IFERROR([10]INVERSION!$L$18,\"\")","v":0},{"$f":"IFERROR([10]INVERSION!$M$18,\"\")","v":0},{"$f":"IFERROR([10]INVERSION!$N$18,\"\")","v":0},{"$f":"IFERROR([10]INVERSION!$O$18,\"\")","v":0},{"$f":"IFERROR([10]INVERSION!$P$18,\"\")","v":0},{"$f":"IFERROR([10]INVERSION!$Q$18,\"\")","v":0},{"$f":"IFERROR([10]INVERSION!$R$18,\"\")","v":0},{"$f":"IFERROR([10]INVERSION!$S$18,\"\")","v":"00:00:00"},{"$f":"IFERROR([10]INVERSION!$T$18,\"\")","v":"00:00:00"},{"$f":"IFERROR([10]INVERSION!$U$18,\"\")","v":0},{"$f":"IFERROR([10]INVERSION!$V$18,\"\")","v":0},{"$f":"IFERROR([10]INVERSION!$W$18,\"\")","v":0},{"$f":"IFERROR([10]INVERSION!$X$18,\"\")","v":0},{"$f":"IFERROR([10]INVERSION!$Y$18,\"\")","v":0}]
[null,null,null,null,null,null,{"$f":"IFERROR([10]INVERSION!$G$19,\"\")","v":0},{"$f":"IFERROR([10]INVERSION!$H$19,\"\")","v":0},{"$f":"IFERROR([10]INVERSION!$I$19,\"\")","v":0},{"$f":"IFERROR([10]INVERSION!$J$19,\"\")","v":0},{"$f":"IFERROR([10]INVERSION!$K$19,\"\")","v":0},{"$f":"IFERROR([10]INVERSION!$L$19,\"\")","v":0},{"$f":"IFERROR([10]INVERSION!$M$19,\"\")","v":0},{"$f":"IFERROR([10]INVERSION!$N$19,\"\")","v":0},{"$f":"IFERROR([10]INVERSION!$O$19,\"\")","v":0},{"$f":"IFERROR([10]INVERSION!$P$19,\"\")","v":0},{"$f":"IFERROR([10]INVERSION!$Q$19,\"\")","v":0},{"$f":"IFERROR([10]INVERSION!$R$19,\"\")","v":0},{"$f":"IFERROR([10]INVERSION!$S$19,\"\")","v":"00:00:00"},{"$f":"IFERROR([10]INVERSION!$T$19,\"\")","v":"00:00:00"},{"$f":"IFERROR([10]INVERSION!$U$19,\"\")","v":0},{"$f":"IFERROR([10]INVERSION!$V$19,\"\")","v":0},{"$f":"IFERROR([10]INVERSION!$W$19,\"\")","v":0},{"$f":"IFERROR([10]INVERSION!$X$19,\"\")","v":0},{"$f":"IFERROR([10]INVERSION!$Y$19,\"\")","v":0}]
[null,null,null,null,null,null,{"$f":"IFERROR([10]INVERSION!$G$20,\"\")","v":0},{"$f":"IFERROR([10]INVERSION!$H$20,\"\")","v":0},{"$f":"IFERROR([10]INVERSION!$I$20,\"\")","v":0},{"$f":"IFERROR([10]INVERSION!$J$20,\"\")","v":0},{"$f":"IFERROR([10]INVERSION!$K$20,\"\")","v":0},{"$f":"IFERROR([10]INVERSION!$L$20,\"\")","v":0},{"$f":"IFERROR([10]INVERSION!$M$20,\"\")","v":0},{"$f":"IFERROR([10]INVERSION!$N$20,\"\")","v":0},{"$f":"IFERROR([10]INVERSION!$O$20,\"\")","v":0},{"$f":"IFERROR([10]INVERSION!$P$20,\"\")","v":0},{"$f":"IFERROR([10]INVERSION!$Q$20,\"\")","v":0},{"$f":"IFERROR([10]INVERSION!$R$20,\"\")","v":0},{"$f":"IFERROR([10]INVERSION!$S$20,\"\")","v":"00:00:00"},{"$f":"IFERROR([10]INVERSION!$T$20,\"\")","v":"00:00:00"},{"$f":"IFERROR([10]INVERSION!$U$20,\"\")","v":0},{"$f":"IFERROR([10]INVERSION!$V$20,\"\")","v":0},{"$f":"IFERROR([10]INVERSION!$W$20,\"\")","v":0},{"$f":"IFERROR([10]INVERSION!$X$20,\"\")","v":0},{"$f":"IFERROR([10]INVERSION!$Y$20,\"\")","v":0}]
[null,null,null,null,null,null,{"$f":"IFERROR([10]INVERSION!$G$21,\"\")","v":0},{"$f":"IFERROR([10]INVERSION!$H$21,\"\")","v":0},{"$f":"IFERROR([10]INVERSION!$I$21,\"\")","v":0},{"$f":"IFERROR([10]INVERSION!$J$21,\"\")","v":0},{"$f":"IFERROR([10]INVERSION!$K$21,\"\")","v":0},{"$f":"IFERROR([10]INVERSION!$L$21,\"\")","v":0},{"$f":"IFERROR([10]INVERSION!$M$21,\"\")","v":0},{"$f":"IFERROR([10]INVERSION!$N$21,\"\")","v":0},{"$f":"IFERROR([10]INVERSION!$O$21,\"\")","v":0},{"$f":"IFERROR([10]INVERSION!$P$21,\"\")","v":0},{"$f":"IFERROR([10]INVERSION!$Q$21,\"\")","v":0},{"$f":"IFERROR([10]INVERSION!$R$21,\"\")","v":0},{"$f":"IFERROR([10]INVERSION!$S$21,\"\")","v":"00:00:00"},{"$f":"IFERROR([10]INVERSION!$T$21,\"\")","v":"00:00:00"},{"$f":"IFERROR([10]INVERSION!$U$21,\"\")","v":0},{"$f":"IFERROR([10]INVERSION!$V$21,\"\")","v":0},{"$f":"IFERROR([10]INVERSION!$W$21,\"\")","v":0},{"$f":"IFERROR([10]INVERSION!$X$21,\"\")","v":0},{"$f":"IFERROR([10]INVERSION!$Y$21,\"\")","v":0}]
[null,null,null,null,null,null,{"$f":"IFERROR([10]INVERSION!$G$22,\"\")","v":0},{"$f":"IFERROR([10]INVERSION!$H$22,\"\")","v":0},{"$f":"IFERROR([10]INVERSION!$I$22,\"\")","v":0},{"$f":"IFERROR([10]INVERSION!$J$22,\"\")","v":0},{"$f":"IFERROR([10]INVERSION!$K$22,\"\")","v":0},{"$f":"IFERROR([10]INVERSION!$L$22,\"\")","v":0},{"$f":"IFERROR([10]INVERSION!$M$22,\"\")","v":0},{"$f":"IFERROR([10]INVERSION!$N$22,\"\")","v":0},{"$f":"IFERROR([10]INVERSION!$O$22,\"\")","v":0},{"$f":"IFERROR([10]INVERSION!$P$22,\"\")","v":0},{"$f":"IFERROR([10]INVERSION!$Q$22,\"\")","v":0},{"$f":"IFERROR([10]INVERSION!$R$22,\"\")","v":0},{"$f":"IFERROR([10]INVERSION!$S$22,\"\")","v":"00:00:00"},{"$f":"IFERROR([10]INVERSION!$T$22,\"\")","v":"00:00:00"},{"$f":"IFERROR([10]INVERSION!$U$22,\"\")","v":0},{"$f":"IFERROR([10]INVERSION!$V$22,\"\")","v":0},{"$f":"IFERROR([10]INVERSION!$W$22,\"\")","v":0},{"$f":"IFERROR([10]INVERSION!$X$22,\"\")","v":0},{"$f":"IFERROR([10]INVERSION!$Y$22,\"\")","v":0}]
[null,null,null,null,null,null,{"$f":"IFERROR([10]INVERSION!$G$23,\"\")","v":0},{"$f":"IFERROR([10]INVERSION!$H$23,\"\")","v":0},{"$f":"IFERROR([10]INVERSION!$I$23,\"\")","v":0},{"$f":"IFERROR([10]INVERSION!$J$23,\"\")","v":0},{"$f":"IFERROR([10]INVERSION!$K$23,\"\")","v":0},{"$f":"IFERROR([10]INVERSION!$L$23,\"\")","v":0},{"$f":"IFERROR([10]INVERSION!$M$23,\"\")","v":0},{"$f":"IFERROR([10]INVERSION!$N$23,\"\")","v":0},{"$f":"IFERROR([10]INVERSION!$O$23,\"\")","v":0},{"$f":"IFERROR([10]INVERSION!$P$23,\"\")","v":0},{"$f":"IFERROR([10]INVERSION!$Q$23,\"\")","v":0},{"$f":"IFERROR([10]INVERSION!$R$23,\"\")","v":0},{"$f":"IFERROR([10]INVERSION!$S$23,\"\")","v":"00:00:00"},{"$f":"IFERROR([10]INVERSION!$T$23,\"\")","v":"00:00:00"},{"$f":"IFERROR([10]INVERSION!$U$23,\"\")","v":0},{"$f":"IFERROR([10]INVERSION!$V$23,\"\")","v":0},{"$f":"IFERROR([10]INVERSION!$W$23,\"\")","v":0},{"$f":"IFERROR([10]INVERSION!$X$23,\"\")","v":0},{"$f":"IFERROR([10]INVERSION!$Y$23,\"\")","v":0},null,null,null,"","",null,0]
[null,null,null,null,null,null,{"$f":"IFERROR([10]INVERSION!$G$24,\"\")","v":0},{"$f":"IFERROR([10]INVERSION!$H$24,\"\")","v":0},{"$f":"IFERROR([10]INVERSION!$I$24,\"\")","v":0},{"$f":"IFERROR([10]INVERSION!$J$24,\"\")","v":0},{"$f":"IFERROR([10]INVERSION!$K$24,\"\")","v":0},{"$f":"IFERROR([10]INVERSION!$L$24,\"\")","v":0},{"$f":"IFERROR([10]INVERSION!$M$24,\"\")","v":0},{"$f":"IFERROR([10]INVERSION!$N$24,\"\")","v":0},{"$f":"IFERROR([10]INVERSION!$O$24,\"\")","v":0},{"$f":"IFERROR([10]INVERSION!$P$24,\"\")","v":0},{"$f":"IFERROR([10]INVERSION!$Q$24,\"\")","v":0},{"$f":"IFERROR([10]INVERSION!$R$24,\"\")","v":0},{"$f":"IFERROR([10]INVERSION!$S$24,\"\")","v":"00:00:00"},{"$f":"IFERROR([10]INVERSION!$T$24,\"\")","v":"00:00:00"},{"$f":"IFERROR([10]INVERSION!$U$24,\"\")","v":0},{"$f":"IFERROR([10]INVERSION!$V$24,\"\")","v":0},{"$f":"IFERROR([10]INVERSION!$W$24,\"\")","v":0},{"$f":"IFERROR([10]INVERSION!$X$24,\"\")","v":0},{"$f":"IFERROR([10]INVERSION!$Y$24,\"\")","v":0},null,null,null,"","",null,0]
[null,null,null,null,null,null,{"$f":"IFERROR([10]INVERSION!$G$25,\"\")","v":0},{"$f":"IFERROR([10]INVERSION!$H$25,\"\")","v":0},{"$f":"IFERROR([10]INVERSION!$I$25,\"\")","v":0},{"$f":"IFERROR([10]INVERSION!$J$25,\"\")","v":0},{"$f":"IFERROR([10]INVERSION!$K$25,\"\")","v":0},{"$f":"IFERROR([10]INVERSION!$L$25,\"\")","v":0},{"$f":"IFERROR([10]INVERSION!$M$25,\"\")","v":0},{"$f":"IFERROR([10]INVERSION!$N$25,\"\")","v":0},{"$f":"IFERROR([10]INVERSION!$O$25,\"\")","v":0},{"$f":"IFERROR([10]INVERSION!$P$25,\"\")","v":0},{"$f":"IFERROR([10]INVERSION!$Q$25,\"\")","v":0},{"$f":"IFERROR([10]INVERSION!$R$25,\"\")","v":0},{"$f":"IFERROR([10]INVERSION!$S$25,\"\")","v":"00:00:00"},{"$f":"IFERROR([10]INVERSION!$T$25,\"\")","v":"00:00:00"},{"$f":"IFERROR([10]INVERSION!$U$25,\"\")","v":0},{"$f":"IFERROR([10]INVERSION!$V$25,\"\")","v":0},{"$f":"IFERROR([10]INVERSION!$W$25,\"\")","v":0},{"$f":"IFERROR([10]INVERSION!$X$25,\"\")","v":0},{"$f":"IFERROR([10]INVERSION!$Y$25,\"\")","v":0},null,null,null,"","",null,0]
[null,null,"3. Coadyuvar en la garantía de la idoneidad en el ejercicio de la profesión jurídica de acuerdo con lo establecido en la Ley 1905 de 2018.",null,null,"2. Asegurar  el cumplimiento de los objetivos institucionales, la normatividad aplicable,  la mejora del SIGCMA y la satisfacción de los usuarios, revisando de  forma continua y sistemática la planificación de la gestión y fortaleciendo la administración de riesgos y sus controles",{"$f":"IFERROR([10]INVERSION!$G$26,\"\")","v":0},{"$f":"IFERROR([10]INVERSION!$H$26,\"\")","v":0},{"$f":"IFERROR([10]INVERSION!$I$26,\"\")","v":0},{"$f":"IFERROR([10]INVERSION!$J$26,\"\")","v":0},{"$f":"IFERROR([10]INVERSION!$K$26,\"\")","v":0},{"$f":"IFERROR([10]INVERSION!$L$26,\"\")","v":0},{"$f":"IFERROR([10]INVERSION!$M$26,\"\")","v":0},{"$f":"IFERROR([10]INVERSION!$N$26,\"\")","v":0},{"$f":"IFERROR([10]INVERSION!$O$26,\"\")","v":0},{"$f":"IFERROR([10]INVERSION!$P$26,\"\")","v":0},{"$f":"IFERROR([10]INVERSION!$Q$26,\"\")","v":0},{"$f":"IFERROR([10]INVERSION!$R$26,\"\")","v":0},{"$f":"IFERROR([10]INVERSION!$S$26,\"\")","v":"00:00:00"},{"$f":"IFERROR([10]INVERSION!$T$26,\"\")","v":"00:00:00"},{"$f":"IFERROR([10]INVERSION!$U$26,\"\")","v":0},{"$f":"IFERROR([10]INVERSION!$V$26,\"\")","v":0},{"$f":"IFERROR([10]INVERSION!$W$26,\"\")","v":0},{"$f":"IFERROR([10]INVERSION!$X$26,\"\")","v":0},{"$f":"IFERROR([10]INVERSION!$Y$26,\"\")","v":0},null,null,null,"","",null,0]
[null,null,null,null,null,null,{"$f":"IFERROR([10]INVERSION!$G$27,\"\")","v":0},{"$f":"IFERROR([10]INVERSION!$H$27,\"\")","v":0},{"$f":"IFERROR([10]INVERSION!$I$27,\"\")","v":0},{"$f":"IFERROR([10]INVERSION!$J$27,\"\")","v":0},{"$f":"IFERROR([10]INVERSION!$K$27,\"\")","v":0},{"$f":"IFERROR([10]INVERSION!$L$27,\"\")","v":0},{"$f":"IFERROR([10]INVERSION!$M$27,\"\")","v":0},{"$f":"IFERROR([10]INVERSION!$N$27,\"\")","v":0},{"$f":"IFERROR([10]INVERSION!$O$27,\"\")","v":0},{"$f":"IFERROR([10]INVERSION!$P$27,\"\")","v":0},{"$f":"IFERROR([10]INVERSION!$Q$27,\"\")","v":0},{"$f":"IFERROR([10]INVERSION!$R$27,\"\")","v":0},{"$f":"IFERROR([10]INVERSION!$S$27,\"\")","v":"00:00:00"},{"$f":"IFERROR([10]INVERSION!$T$27,\"\")","v":"00:00:00"},{"$f":"IFERROR([10]INVERSION!$U$27,\"\")","v":0},{"$f":"IFERROR([10]INVERSION!$V$27,\"\")","v":0},{"$f":"IFERROR([10]INVERSION!$W$27,\"\")","v":0},{"$f":"IFERROR([10]INVERSION!$X$27,\"\")","v":0},{"$f":"IFERROR([10]INVERSION!$Y$27,\"\")","v":0},null,null,null,"","",null,0]
[null,null,null,null,null,null,{"$f":"IFERROR([10]INVERSION!$G$28,\"\")","v":0},{"$f":"IFERROR([10]INVERSION!$H$28,\"\")","v":0},{"$f":"IFERROR([10]INVERSION!$I$28,\"\")","v":0},{"$f":"IFERROR([10]INVERSION!$J$28,\"\")","v":0},{"$f":"IFERROR([10]INVERSION!$K$28,\"\")","v":0},{"$f":"IFERROR([10]INVERSION!$L$28,\"\")","v":0},{"$f":"IFERROR([10]INVERSION!$M$28,\"\")","v":0},{"$f":"IFERROR([10]INVERSION!$N$28,\"\")","v":0},{"$f":"IFERROR([10]INVERSION!$O$28,\"\")","v":0},{"$f":"IFERROR([10]INVERSION!$P$28,\"\")","v":0},{"$f":"IFERROR([10]INVERSION!$Q$28,\"\")","v":0},{"$f":"IFERROR([10]INVERSION!$R$28,\"\")","v":0},{"$f":"IFERROR([10]INVERSION!$S$28,\"\")","v":"00:00:00"},{"$f":"IFERROR([10]INVERSION!$T$28,\"\")","v":"00:00:00"},{"$f":"IFERROR([10]INVERSION!$U$28,\"\")","v":0},{"$f":"IFERROR([10]INVERSION!$V$28,\"\")","v":0},{"$f":"IFERROR([10]INVERSION!$W$28,\"\")","v":0},{"$f":"IFERROR([10]INVERSION!$X$28,\"\")","v":0},{"$f":"IFERROR([10]INVERSION!$Y$28,\"\")","v":0}]
[null,null,null,null,null,null,{"$f":"IFERROR([10]INVERSION!$G$29,\"\")","v":0},{"$f":"IFERROR([10]INVERSION!$H$29,\"\")","v":0},{"$f":"IFERROR([10]INVERSION!$I$29,\"\")","v":0},{"$f":"IFERROR([10]INVERSION!$J$29,\"\")","v":0},{"$f":"IFERROR([10]INVERSION!$K$29,\"\")","v":0},{"$f":"IFERROR([10]INVERSION!$L$29,\"\")","v":0},{"$f":"IFERROR([10]INVERSION!$M$29,\"\")","v":0},{"$f":"IFERROR([10]INVERSION!$N$29,\"\")","v":0},{"$f":"IFERROR([10]INVERSION!$O$29,\"\")","v":0},{"$f":"IFERROR([10]INVERSION!$P$29,\"\")","v":0},{"$f":"IFERROR([10]INVERSION!$Q$29,\"\")","v":0},{"$f":"IFERROR([10]INVERSION!$R$29,\"\")","v":0},{"$f":"IFERROR([10]INVERSION!$S$29,\"\")","v":"00:00:00"},{"$f":"IFERROR([10]INVERSION!$T$29,\"\")","v":"00:00:00"},{"$f":"IFERROR([10]INVERSION!$U$29,\"\")","v":0},{"$f":"IFERROR([10]INVERSION!$V$29,\"\")","v":0},{"$f":"IFERROR([10]INVERSION!$W$29,\"\")","v":0},{"$f":"IFERROR([10]INVERSION!$X$29,\"\")","v":0},{"$f":"IFERROR([10]INVERSION!$Y$29,\"\")","v":0}]
[null,null,null,null,null,null,{"$f":"IFERROR([10]INVERSION!$G$30,\"\")","v":0},{"$f":"IFERROR([10]INVERSION!$H$30,\"\")","v":0},{"$f":"IFERROR([10]INVERSION!$I$30,\"\")","v":0},{"$f":"IFERROR([10]INVERSION!$J$30,\"\")","v":0},{"$f":"IFERROR([10]INVERSION!$K$30,\"\")","v":0},{"$f":"IFERROR([10]INVERSION!$L$30,\"\")","v":0},{"$f":"IFERROR([10]INVERSION!$M$30,\"\")","v":0},{"$f":"IFERROR([10]INVERSION!$N$30,\"\")","v":0},{"$f":"IFERROR([10]INVERSION!$O$30,\"\")","v":0},{"$f":"IFERROR([10]INVERSION!$P$30,\"\")","v":0},{"$f":"IFERROR([10]INVERSION!$Q$30,\"\")","v":0},{"$f":"IFERROR([10]INVERSION!$R$30,\"\")","v":0},{"$f":"IFERROR([10]INVERSION!$S$30,\"\")","v":"00:00:00"},{"$f":"IFERROR([10]INVERSION!$T$30,\"\")","v":"00:00:00"},{"$f":"IFERROR([10]INVERSION!$U$30,\"\")","v":0},{"$f":"IFERROR([10]INVERSION!$V$30,\"\")","v":0},{"$f":"IFERROR([10]INVERSION!$W$30,\"\")","v":0},{"$f":"IFERROR([10]INVERSION!$X$30,\"\")","v":0},{"$f":"IFERROR([10]INVERSION!$Y$30,\"\")","v":0}]
[null,null,null,null,null,null,{"$f":"IFERROR([10]INVERSION!$G$31,\"\")","v":0},{"$f":"IFERROR([10]INVERSION!$H$31,\"\")","v":0},{"$f":"IFERROR([10]INVERSION!$I$31,\"\")","v":0},{"$f":"IFERROR([10]INVERSION!$J$31,\"\")","v":0},{"$f":"IFERROR([10]INVERSION!$K$31,\"\")","v":0},{"$f":"IFERROR([10]INVERSION!$L$31,\"\")","v":0},{"$f":"IFERROR([10]INVERSION!$M$31,\"\")","v":0},{"$f":"IFERROR([10]INVERSION!$N$31,\"\")","v":0},{"$f":"IFERROR([10]INVERSION!$O$31,\"\")","v":0},{"$f":"IFERROR([10]INVERSION!$P$31,\"\")","v":0},{"$f":"IFERROR([10]INVERSION!$Q$31,\"\")","v":0},{"$f":"IFERROR([10]INVERSION!$R$31,\"\")","v":0},{"$f":"IFERROR([10]INVERSION!$S$31,\"\")","v":"00:00:00"},{"$f":"IFERROR([10]INVERSION!$T$31,\"\")","v":"00:00:00"},{"$f":"IFERROR([10]INVERSION!$U$31,\"\")","v":0},{"$f":"IFERROR([10]INVERSION!$V$31,\"\")","v":0},{"$f":"IFERROR([10]INVERSION!$W$31,\"\")","v":0},{"$f":"IFERROR([10]INVERSION!$X$31,\"\")","v":0},{"$f":"IFERROR([10]INVERSION!$Y$31,\"\")","v":0}]
[null,null,null,null,null,null,{"$f":"IFERROR([10]INVERSION!$G$32,\"\")","v":0},{"$f":"IFERROR([10]INVERSION!$H$32,\"\")","v":0},{"$f":"IFERROR([10]INVERSION!$I$32,\"\")","v":0},{"$f":"IFERROR([10]INVERSION!$J$32,\"\")","v":0},{"$f":"IFERROR([10]INVERSION!$K$32,\"\")","v":0},{"$f":"IFERROR([10]INVERSION!$L$32,\"\")","v":0},{"$f":"IFERROR([10]INVERSION!$M$32,\"\")","v":0},{"$f":"IFERROR([10]INVERSION!$N$32,\"\")","v":0},{"$f":"IFERROR([10]INVERSION!$O$32,\"\")","v":0},{"$f":"IFERROR([10]INVERSION!$P$32,\"\")","v":0},{"$f":"IFERROR([10]INVERSION!$Q$32,\"\")","v":0},{"$f":"IFERROR([10]INVERSION!$R$32,\"\")","v":0},{"$f":"IFERROR([10]INVERSION!$S$32,\"\")","v":"00:00:00"},{"$f":"IFERROR([10]INVERSION!$T$32,\"\")","v":"00:00:00"},{"$f":"IFERROR([10]INVERSION!$U$32,\"\")","v":0},{"$f":"IFERROR([10]INVERSION!$V$32,\"\")","v":0},{"$f":"IFERROR([10]INVERSION!$W$32,\"\")","v":0},{"$f":"IFERROR([10]INVERSION!$X$32,\"\")","v":0},{"$f":"IFERROR([10]INVERSION!$Y$32,\"\")","v":0}]
[null,null,null,null,null,null,{"$f":"IFERROR([10]INVERSION!$G$33,\"\")","v":0},{"$f":"IFERROR([10]INVERSION!$H$33,\"\")","v":0},{"$f":"IFERROR([10]INVERSION!$I$33,\"\")","v":0},{"$f":"IFERROR([10]INVERSION!$J$33,\"\")","v":0},{"$f":"IFERROR([10]INVERSION!$K$33,\"\")","v":0},{"$f":"IFERROR([10]INVERSION!$L$33,\"\")","v":0},{"$f":"IFERROR([10]INVERSION!$M$33,\"\")","v":0},{"$f":"IFERROR([10]INVERSION!$N$33,\"\")","v":0},{"$f":"IFERROR([10]INVERSION!$O$33,\"\")","v":0},{"$f":"IFERROR([10]INVERSION!$P$33,\"\")","v":0},{"$f":"IFERROR([10]INVERSION!$Q$33,\"\")","v":0},{"$f":"IFERROR([10]INVERSION!$R$33,\"\")","v":0},{"$f":"IFERROR([10]INVERSION!$S$33,\"\")","v":"00:00:00"},{"$f":"IFERROR([10]INVERSION!$T$33,\"\")","v":"00:00:00"},{"$f":"IFERROR([10]INVERSION!$U$33,\"\")","v":0},{"$f":"IFERROR([10]INVERSION!$V$33,\"\")","v":0},{"$f":"IFERROR([10]INVERSION!$W$33,\"\")","v":0},{"$f":"IFERROR([10]INVERSION!$X$33,\"\")","v":0},{"$f":"IFERROR([10]INVERSION!$Y$33,\"\")","v":0},null,null,null,"","",null,0]
[null,null,null,null,null,null,{"$f":"IFERROR([10]INVERSION!$G$34,\"\")","v":0},{"$f":"IFERROR([10]INVERSION!$H$34,\"\")","v":0},{"$f":"IFERROR([10]INVERSION!$I$34,\"\")","v":0},{"$f":"IFERROR([10]INVERSION!$J$34,\"\")","v":0},{"$f":"IFERROR([10]INVERSION!$K$34,\"\")","v":0},{"$f":"IFERROR([10]INVERSION!$L$34,\"\")","v":0},{"$f":"IFERROR([10]INVERSION!$M$34,\"\")","v":0},{"$f":"IFERROR([10]INVERSION!$N$34,\"\")","v":0},{"$f":"IFERROR([10]INVERSION!$O$34,\"\")","v":0},{"$f":"IFERROR([10]INVERSION!$P$34,\"\")","v":0},{"$f":"IFERROR([10]INVERSION!$Q$34,\"\")","v":0},{"$f":"IFERROR([10]INVERSION!$R$34,\"\")","v":0},{"$f":"IFERROR([10]INVERSION!$S$34,\"\")","v":"00:00:00"},{"$f":"IFERROR([10]INVERSION!$T$34,\"\")","v":"00:00:00"},{"$f":"IFERROR([10]INVERSION!$U$34,\"\")","v":0},{"$f":"IFERROR([10]INVERSION!$V$34,\"\")","v":0},{"$f":"IFERROR([10]INVERSION!$W$34,\"\")","v":0},{"$f":"IFERROR([10]INVERSION!$X$34,\"\")","v":0},{"$f":"IFERROR([10]INVERSION!$Y$34,\"\")","v":0},null,null,null,"","",null,0]
[null,null,null,null,null,null,{"$f":"IFERROR([10]INVERSION!$G$35,\"\")","v":0},{"$f":"IFERROR([10]INVERSION!$H$35,\"\")","v":0},{"$f":"IFERROR([10]INVERSION!$I$35,\"\")","v":0},{"$f":"IFERROR([10]INVERSION!$J$35,\"\")","v":0},{"$f":"IFERROR([10]INVERSION!$K$35,\"\")","v":0},{"$f":"IFERROR([10]INVERSION!$L$35,\"\")","v":0},{"$f":"IFERROR([10]INVERSION!$M$35,\"\")","v":0},{"$f":"IFERROR([10]INVERSION!$N$35,\"\")","v":0},{"$f":"IFERROR([10]INVERSION!$O$35,\"\")","v":0},{"$f":"IFERROR([10]INVERSION!$P$35,\"\")","v":0},{"$f":"IFERROR([10]INVERSION!$Q$35,\"\")","v":0},{"$f":"IFERROR([10]INVERSION!$R$35,\"\")","v":0},{"$f":"IFERROR([10]INVERSION!$S$35,\"\")","v":"00:00:00"},{"$f":"IFERROR([10]INVERSION!$T$35,\"\")","v":"00:00:00"},{"$f":"IFERROR([10]INVERSION!$U$35,\"\")","v":0},{"$f":"IFERROR([10]INVERSION!$V$35,\"\")","v":0},{"$f":"IFERROR([10]INVERSION!$W$35,\"\")","v":0},{"$f":"IFERROR([10]INVERSION!$X$35,\"\")","v":0},{"$f":"IFERROR([10]INVERSION!$Y$35,\"\")","v":0},null,null,null,"","",null,0]
[null,null,"4. Avanzar en la disposición de una infraestructura óptima para el acceso a la justicia en la Rama Judicial de modo que se fortalezca la presencia territorial, teniendo en cuenta las posibilidades que ofrece la transformación digital y las necesidades que se derivan de ella, y considerando tanto las necesidades de los usuarios como las de los servidores judiciales.","Diseños para la construcción de despachos judiciales","# de sedes proyectada s para construir o intervenir en el cuatrienio / # sedes efectivamen te construidas o intervenidas\n\nTotal de\ndiseños aprobados","4. Hacer un uso racional de los recursos naturales aplicando los principios y fases de la Economía Circular, para prevenir, mitigar y controlar los impactos ambientales",{"$f":"IFERROR([10]INVERSION!$G$36,\"\")","v":0},{"$f":"IFERROR([10]INVERSION!$H$36,\"\")","v":0},{"$f":"IFERROR([10]INVERSION!$I$36,\"\")","v":0},{"$f":"IFERROR([10]INVERSION!$J$36,\"\")","v":0},{"$f":"IFERROR([10]INVERSION!$K$36,\"\")","v":0},{"$f":"IFERROR([10]INVERSION!$L$36,\"\")","v":0},{"$f":"IFERROR([10]INVERSION!$M$36,\"\")","v":0},{"$f":"IFERROR([10]INVERSION!$N$36,\"\")","v":0},{"$f":"IFERROR([10]INVERSION!$O$36,\"\")","v":0},{"$f":"IFERROR([10]INVERSION!$P$36,\"\")","v":0},{"$f":"IFERROR([10]INVERSION!$Q$36,\"\")","v":0},{"$f":"IFERROR([10]INVERSION!$R$36,\"\")","v":0},{"$f":"IFERROR([10]INVERSION!$S$36,\"\")","v":"00:00:00"},{"$f":"IFERROR([10]INVERSION!$T$36,\"\")","v":"00:00:00"},{"$f":"IFERROR([10]INVERSION!$U$36,\"\")","v":0},{"$f":"IFERROR([10]INVERSION!$V$36,\"\")","v":0},{"$f":"IFERROR([10]INVERSION!$W$36,\"\")","v":0},{"$f":"IFERROR([10]INVERSION!$X$36,\"\")","v":0},{"$f":"IFERROR([10]INVERSION!$Y$36,\"\")","v":0},null,null,null,"","",null,0]
[null,null,null,null,null,null,{"$f":"IFERROR([10]INVERSION!$G$37,\"\")","v":0},{"$f":"IFERROR([10]INVERSION!$H$37,\"\")","v":0},{"$f":"IFERROR([10]INVERSION!$I$37,\"\")","v":0},{"$f":"IFERROR([10]INVERSION!$J$37,\"\")","v":0},{"$f":"IFERROR([10]INVERSION!$K$37,\"\")","v":0},{"$f":"IFERROR([10]INVERSION!$L$37,\"\")","v":0},{"$f":"IFERROR([10]INVERSION!$M$37,\"\")","v":0},{"$f":"IFERROR([10]INVERSION!$N$37,\"\")","v":0},{"$f":"IFERROR([10]INVERSION!$O$37,\"\")","v":0},{"$f":"IFERROR([10]INVERSION!$P$37,\"\")","v":0},{"$f":"IFERROR([10]INVERSION!$Q$37,\"\")","v":0},{"$f":"IFERROR([10]INVERSION!$R$37,\"\")","v":0},{"$f":"IFERROR([10]INVERSION!$S$37,\"\")","v":"00:00:00"},{"$f":"IFERROR([10]INVERSION!$T$37,\"\")","v":"00:00:00"},{"$f":"IFERROR([10]INVERSION!$U$37,\"\")","v":0},{"$f":"IFERROR([10]INVERSION!$V$37,\"\")","v":0},{"$f":"IFERROR([10]INVERSION!$W$37,\"\")","v":0},{"$f":"IFERROR([10]INVERSION!$X$37,\"\")","v":0},{"$f":"IFERROR([10]INVERSION!$Y$37,\"\")","v":0},null,null,null,"","",null,0]
[null,null,null,null,null,null,{"$f":"IFERROR([10]INVERSION!$G$38,\"\")","v":0},{"$f":"IFERROR([10]INVERSION!$H$38,\"\")","v":0},{"$f":"IFERROR([10]INVERSION!$I$38,\"\")","v":0},{"$f":"IFERROR([10]INVERSION!$J$38,\"\")","v":0},{"$f":"IFERROR([10]INVERSION!$K$38,\"\")","v":0},{"$f":"IFERROR([10]INVERSION!$L$38,\"\")","v":0},{"$f":"IFERROR([10]INVERSION!$M$38,\"\")","v":0},{"$f":"IFERROR([10]INVERSION!$N$38,\"\")","v":0},{"$f":"IFERROR([10]INVERSION!$O$38,\"\")","v":0},{"$f":"IFERROR([10]INVERSION!$P$38,\"\")","v":0},{"$f":"IFERROR([10]INVERSION!$Q$38,\"\")","v":0},{"$f":"IFERROR([10]INVERSION!$R$38,\"\")","v":0},{"$f":"IFERROR([10]INVERSION!$S$38,\"\")","v":"00:00:00"},{"$f":"IFERROR([10]INVERSION!$T$38,\"\")","v":"00:00:00"},{"$f":"IFERROR([10]INVERSION!$U$38,\"\")","v":0},{"$f":"IFERROR([10]INVERSION!$V$38,\"\")","v":0},{"$f":"IFERROR([10]INVERSION!$W$38,\"\")","v":0},{"$f":"IFERROR([10]INVERSION!$X$38,\"\")","v":0},{"$f":"IFERROR([10]INVERSION!$Y$38,\"\")","v":0}]
[null,null,null,null,null,null,{"$f":"IFERROR([10]INVERSION!$G$39,\"\")","v":0},{"$f":"IFERROR([10]INVERSION!$H$39,\"\")","v":0},{"$f":"IFERROR([10]INVERSION!$I$39,\"\")","v":0},{"$f":"IFERROR([10]INVERSION!$J$39,\"\")","v":0},{"$f":"IFERROR([10]INVERSION!$K$39,\"\")","v":0},{"$f":"IFERROR([10]INVERSION!$L$39,\"\")","v":0},{"$f":"IFERROR([10]INVERSION!$M$39,\"\")","v":0},{"$f":"IFERROR([10]INVERSION!$N$39,\"\")","v":0},{"$f":"IFERROR([10]INVERSION!$O$39,\"\")","v":0},{"$f":"IFERROR([10]INVERSION!$P$39,\"\")","v":0},{"$f":"IFERROR([10]INVERSION!$Q$39,\"\")","v":0},{"$f":"IFERROR([10]INVERSION!$R$39,\"\")","v":0},{"$f":"IFERROR([10]INVERSION!$S$39,\"\")","v":"00:00:00"},{"$f":"IFERROR([10]INVERSION!$T$39,\"\")","v":"00:00:00"},{"$f":"IFERROR([10]INVERSION!$U$39,\"\")","v":0},{"$f":"IFERROR([10]INVERSION!$V$39,\"\")","v":0},{"$f":"IFERROR([10]INVERSION!$W$39,\"\")","v":0},{"$f":"IFERROR([10]INVERSION!$X$39,\"\")","v":0},{"$f":"IFERROR([10]INVERSION!$Y$39,\"\")","v":0}]
[null,null,null,null,null,null,{"$f":"IFERROR([10]INVERSION!$G$40,\"\")","v":0},{"$f":"IFERROR([10]INVERSION!$H$40,\"\")","v":0},{"$f":"IFERROR([10]INVERSION!$I$40,\"\")","v":0},{"$f":"IFERROR([10]INVERSION!$J$40,\"\")","v":0},{"$f":"IFERROR([10]INVERSION!$K$40,\"\")","v":0},{"$f":"IFERROR([10]INVERSION!$L$40,\"\")","v":0},{"$f":"IFERROR([10]INVERSION!$M$40,\"\")","v":0},{"$f":"IFERROR([10]INVERSION!$N$40,\"\")","v":0},{"$f":"IFERROR([10]INVERSION!$O$40,\"\")","v":0},{"$f":"IFERROR([10]INVERSION!$P$40,\"\")","v":0},{"$f":"IFERROR([10]INVERSION!$Q$40,\"\")","v":0},{"$f":"IFERROR([10]INVERSION!$R$40,\"\")","v":0},{"$f":"IFERROR([10]INVERSION!$S$40,\"\")","v":"00:00:00"},{"$f":"IFERROR([10]INVERSION!$T$40,\"\")","v":"00:00:00"},{"$f":"IFERROR([10]INVERSION!$U$40,\"\")","v":0},{"$f":"IFERROR([10]INVERSION!$V$40,\"\")","v":0},{"$f":"IFERROR([10]INVERSION!$W$40,\"\")","v":0},{"$f":"IFERROR([10]INVERSION!$X$40,\"\")","v":0},{"$f":"IFERROR([10]INVERSION!$Y$40,\"\")","v":0}]
[null,null,null,null,null,null,{"$f":"IFERROR([10]INVERSION!$G$41,\"\")","v":0},{"$f":"IFERROR([10]INVERSION!$H$41,\"\")","v":0},{"$f":"IFERROR([10]INVERSION!$I$41,\"\")","v":0},{"$f":"IFERROR([10]INVERSION!$J$41,\"\")","v":0},{"$f":"IFERROR([10]INVERSION!$K$41,\"\")","v":0},{"$f":"IFERROR([10]INVERSION!$L$41,\"\")","v":0},{"$f":"IFERROR([10]INVERSION!$M$41,\"\")","v":0},{"$f":"IFERROR([10]INVERSION!$N$41,\"\")","v":0},{"$f":"IFERROR([10]INVERSION!$O$41,\"\")","v":0},{"$f":"IFERROR([10]INVERSION!$P$41,\"\")","v":0},{"$f":"IFERROR([10]INVERSION!$Q$41,\"\")","v":0},{"$f":"IFERROR([10]INVERSION!$R$41,\"\")","v":0},{"$f":"IFERROR([10]INVERSION!$S$41,\"\")","v":"00:00:00"},{"$f":"IFERROR([10]INVERSION!$T$41,\"\")","v":"00:00:00"},{"$f":"IFERROR([10]INVERSION!$U$41,\"\")","v":0},{"$f":"IFERROR([10]INVERSION!$V$41,\"\")","v":0},{"$f":"IFERROR([10]INVERSION!$W$41,\"\")","v":0},{"$f":"IFERROR([10]INVERSION!$X$41,\"\")","v":0},{"$f":"IFERROR([10]INVERSION!$Y$41,\"\")","v":0}]
[null,null,null,null,null,null,{"$f":"IFERROR([10]INVERSION!$G$42,\"\")","v":0},{"$f":"IFERROR([10]INVERSION!$H$42,\"\")","v":0},{"$f":"IFERROR([10]INVERSION!$I$42,\"\")","v":0},{"$f":"IFERROR([10]INVERSION!$J$42,\"\")","v":0},{"$f":"IFERROR([10]INVERSION!$K$42,\"\")","v":0},{"$f":"IFERROR([10]INVERSION!$L$42,\"\")","v":0},{"$f":"IFERROR([10]INVERSION!$M$42,\"\")","v":0},{"$f":"IFERROR([10]INVERSION!$N$42,\"\")","v":0},{"$f":"IFERROR([10]INVERSION!$O$42,\"\")","v":0},{"$f":"IFERROR([10]INVERSION!$P$42,\"\")","v":0},{"$f":"IFERROR([10]INVERSION!$Q$42,\"\")","v":0},{"$f":"IFERROR([10]INVERSION!$R$42,\"\")","v":0},{"$f":"IFERROR([10]INVERSION!$S$42,\"\")","v":"00:00:00"},{"$f":"IFERROR([10]INVERSION!$T$42,\"\")","v":"00:00:00"},{"$f":"IFERROR([10]INVERSION!$U$42,\"\")","v":0},{"$f":"IFERROR([10]INVERSION!$V$42,\"\")","v":0},{"$f":"IFERROR([10]INVERSION!$W$42,\"\")","v":0},{"$f":"IFERROR([10]INVERSION!$X$42,\"\")","v":0},{"$f":"IFERROR([10]INVERSION!$Y$42,\"\")","v":0}]
[null,null,null,null,null,null,{"$f":"IFERROR([10]INVERSION!$G$43,\"\")","v":0},{"$f":"IFERROR([10]INVERSION!$H$43,\"\")","v":0},{"$f":"IFERROR([10]INVERSION!$I$43,\"\")","v":0},{"$f":"IFERROR([10]INVERSION!$J$43,\"\")","v":0},{"$f":"IFERROR([10]INVERSION!$K$43,\"\")","v":0},{"$f":"IFERROR([10]INVERSION!$L$43,\"\")","v":0},{"$f":"IFERROR([10]INVERSION!$M$43,\"\")","v":0},{"$f":"IFERROR([10]INVERSION!$N$43,\"\")","v":0},{"$f":"IFERROR([10]INVERSION!$O$43,\"\")","v":0},{"$f":"IFERROR([10]INVERSION!$P$43,\"\")","v":0},{"$f":"IFERROR([10]INVERSION!$Q$43,\"\")","v":0},{"$f":"IFERROR([10]INVERSION!$R$43,\"\")","v":0},{"$f":"IFERROR([10]INVERSION!$S$43,\"\")","v":"00:00:00"},{"$f":"IFERROR([10]INVERSION!$T$43,\"\")","v":"00:00:00"},{"$f":"IFERROR([10]INVERSION!$U$43,\"\")","v":0},{"$f":"IFERROR([10]INVERSION!$V$43,\"\")","v":0},{"$f":"IFERROR([10]INVERSION!$W$43,\"\")","v":0},{"$f":"IFERROR([10]INVERSION!$X$43,\"\")","v":0},{"$f":"IFERROR([10]INVERSION!$Y$43,\"\")","v":0},null,null,null,"","",null,0]
[null,null,null,null,null,null,{"$f":"IFERROR([10]INVERSION!$G$44,\"\")","v":0},{"$f":"IFERROR([10]INVERSION!$H$44,\"\")","v":0},{"$f":"IFERROR([10]INVERSION!$I$44,\"\")","v":0},{"$f":"IFERROR([10]INVERSION!$J$44,\"\")","v":0},{"$f":"IFERROR([10]INVERSION!$K$44,\"\")","v":0},{"$f":"IFERROR([10]INVERSION!$L$44,\"\")","v":0},{"$f":"IFERROR([10]INVERSION!$M$44,\"\")","v":0},{"$f":"IFERROR([10]INVERSION!$N$44,\"\")","v":0},{"$f":"IFERROR([10]INVERSION!$O$44,\"\")","v":0},{"$f":"IFERROR([10]INVERSION!$P$44,\"\")","v":0},{"$f":"IFERROR([10]INVERSION!$Q$44,\"\")","v":0},{"$f":"IFERROR([10]INVERSION!$R$44,\"\")","v":0},{"$f":"IFERROR([10]INVERSION!$S$44,\"\")","v":"00:00:00"},{"$f":"IFERROR([10]INVERSION!$T$44,\"\")","v":"00:00:00"},{"$f":"IFERROR([10]INVERSION!$U$44,\"\")","v":0},{"$f":"IFERROR([10]INVERSION!$V$44,\"\")","v":0},{"$f":"IFERROR([10]INVERSION!$W$44,\"\")","v":0},{"$f":"IFERROR([10]INVERSION!$X$44,\"\")","v":0},{"$f":"IFERROR([10]INVERSION!$Y$44,\"\")","v":0},null,null,null,"","",null,0]
[null,null,null,null,null,null,{"$f":"IFERROR([10]INVERSION!$G$45,\"\")","v":0},{"$f":"IFERROR([10]INVERSION!$H$45,\"\")","v":0},{"$f":"IFERROR([10]INVERSION!$I$45,\"\")","v":0},{"$f":"IFERROR([10]INVERSION!$J$45,\"\")","v":0},{"$f":"IFERROR([10]INVERSION!$K$45,\"\")","v":0},{"$f":"IFERROR([10]INVERSION!$L$45,\"\")","v":0},{"$f":"IFERROR([10]INVERSION!$M$45,\"\")","v":0},{"$f":"IFERROR([10]INVERSION!$N$45,\"\")","v":0},{"$f":"IFERROR([10]INVERSION!$O$45,\"\")","v":0},{"$f":"IFERROR([10]INVERSION!$P$45,\"\")","v":0},{"$f":"IFERROR([10]INVERSION!$Q$45,\"\")","v":0},{"$f":"IFERROR([10]INVERSION!$R$45,\"\")","v":0},{"$f":"IFERROR([10]INVERSION!$S$45,\"\")","v":"00:00:00"},{"$f":"IFERROR([10]INVERSION!$T$45,\"\")","v":"00:00:00"},{"$f":"IFERROR([10]INVERSION!$U$45,\"\")","v":0},{"$f":"IFERROR([10]INVERSION!$V$45,\"\")","v":0},{"$f":"IFERROR([10]INVERSION!$W$45,\"\")","v":0},{"$f":"IFERROR([10]INVERSION!$X$45,\"\")","v":0},{"$f":"IFERROR([10]INVERSION!$Y$45,\"\")","v":0},null,null,null,"","",null,0]
[null,null,"5. Impulsar el uso de mecanismos alternativos para la solución de conflictos y la ampliación de la justicia restaurativa y terapéutica y el robustecimiento de las alternativas al encarcelamiento","Seguimiento al cumplimiento de las disposiciones del CSJ que impulsan el uso de mecanismos alternativos de solución de conflictos, la ampliación de la justicia restaurativa y terapéutica y las alternativas al encarcelamiento.","% avance de implementa ción de las estrategias definidas para el seguimiento de las disposicion es adoptadas por el Consejo en materia de justicia restaurativa y terapéutica y las alternativas de encarcelami ento","2. Asegurar  el cumplimiento de los objetivos institucionales, la normatividad aplicable,  la mejora del SIGCMA y la satisfacción de los usuarios, revisando de  forma continua y sistemática la planificación de la gestión y fortaleciendo la administración de riesgos y sus controles",{"$f":"IFERROR([10]INVERSION!$G$46,\"\")","v":0},{"$f":"IFERROR([10]INVERSION!$H$46,\"\")","v":0},{"$f":"IFERROR([10]INVERSION!$I$46,\"\")","v":0},{"$f":"IFERROR([10]INVERSION!$J$46,\"\")","v":0},{"$f":"IFERROR([10]INVERSION!$K$46,\"\")","v":0},{"$f":"IFERROR([10]INVERSION!$L$46,\"\")","v":0},{"$f":"IFERROR([10]INVERSION!$M$46,\"\")","v":0},{"$f":"IFERROR([10]INVERSION!$N$46,\"\")","v":0},{"$f":"IFERROR([10]INVERSION!$O$46,\"\")","v":0},{"$f":"IFERROR([10]INVERSION!$P$46,\"\")","v":0},{"$f":"IFERROR([10]INVERSION!$Q$46,\"\")","v":0},{"$f":"IFERROR([10]INVERSION!$R$46,\"\")","v":0},{"$f":"IFERROR([10]INVERSION!$S$46,\"\")","v":"00:00:00"},{"$f":"IFERROR([10]INVERSION!$T$46,\"\")","v":"00:00:00"},{"$f":"IFERROR([10]INVERSION!$U$46,\"\")","v":0},{"$f":"IFERROR([10]INVERSION!$V$46,\"\")","v":0},{"$f":"IFERROR([10]INVERSION!$W$46,\"\")","v":0},{"$f":"IFERROR([10]INVERSION!$X$46,\"\")","v":0},{"$f":"IFERROR([10]INVERSION!$Y$46,\"\")","v":0},null,null,null,"","",null,0]
[null,null,null,null,null,null,{"$f":"IFERROR([10]INVERSION!$G$47,\"\")","v":0},{"$f":"IFERROR([10]INVERSION!$H$47,\"\")","v":0},{"$f":"IFERROR([10]INVERSION!$I$47,\"\")","v":0},{"$f":"IFERROR([10]INVERSION!$J$47,\"\")","v":0},{"$f":"IFERROR([10]INVERSION!$K$47,\"\")","v":0},{"$f":"IFERROR([10]INVERSION!$L$47,\"\")","v":0},{"$f":"IFERROR([10]INVERSION!$M$47,\"\")","v":0},{"$f":"IFERROR([10]INVERSION!$N$47,\"\")","v":0},{"$f":"IFERROR([10]INVERSION!$O$47,\"\")","v":0},{"$f":"IFERROR([10]INVERSION!$P$47,\"\")","v":0},{"$f":"IFERROR([10]INVERSION!$Q$47,\"\")","v":0},{"$f":"IFERROR([10]INVERSION!$R$47,\"\")","v":0},{"$f":"IFERROR([10]INVERSION!$S$47,\"\")","v":"00:00:00"},{"$f":"IFERROR([10]INVERSION!$T$47,\"\")","v":"00:00:00"},{"$f":"IFERROR([10]INVERSION!$U$47,\"\")","v":0},{"$f":"IFERROR([10]INVERSION!$V$47,\"\")","v":0},{"$f":"IFERROR([10]INVERSION!$W$47,\"\")","v":0},{"$f":"IFERROR([10]INVERSION!$X$47,\"\")","v":0},{"$f":"IFERROR([10]INVERSION!$Y$47,\"\")","v":0},null,null,null,"","",null,0]
[null,null,null,null,null,null,{"$f":"IFERROR([10]INVERSION!$G$48,\"\")","v":0},{"$f":"IFERROR([10]INVERSION!$H$48,\"\")","v":0},{"$f":"IFERROR([10]INVERSION!$I$48,\"\")","v":0},{"$f":"IFERROR([10]INVERSION!$J$48,\"\")","v":0},{"$f":"IFERROR([10]INVERSION!$K$48,\"\")","v":0},{"$f":"IFERROR([10]INVERSION!$L$48,\"\")","v":0},{"$f":"IFERROR([10]INVERSION!$M$48,\"\")","v":0},{"$f":"IFERROR([10]INVERSION!$N$48,\"\")","v":0},{"$f":"IFERROR([10]INVERSION!$O$48,\"\")","v":0},{"$f":"IFERROR([10]INVERSION!$P$48,\"\")","v":0},{"$f":"IFERROR([10]INVERSION!$Q$48,\"\")","v":0},{"$f":"IFERROR([10]INVERSION!$R$48,\"\")","v":0},{"$f":"IFERROR([10]INVERSION!$S$48,\"\")","v":"00:00:00"},{"$f":"IFERROR([10]INVERSION!$T$48,\"\")","v":"00:00:00"},{"$f":"IFERROR([10]INVERSION!$U$48,\"\")","v":0},{"$f":"IFERROR([10]INVERSION!$V$48,\"\")","v":0},{"$f":"IFERROR([10]INVERSION!$W$48,\"\")","v":0},{"$f":"IFERROR([10]INVERSION!$X$48,\"\")","v":0},{"$f":"IFERROR([10]INVERSION!$Y$48,\"\")","v":0}]
[null,null,null,null,null,null,{"$f":"IFERROR([10]INVERSION!$G$49,\"\")","v":0},{"$f":"IFERROR([10]INVERSION!$H$49,\"\")","v":0},{"$f":"IFERROR([10]INVERSION!$I$49,\"\")","v":0},{"$f":"IFERROR([10]INVERSION!$J$49,\"\")","v":0},{"$f":"IFERROR([10]INVERSION!$K$49,\"\")","v":0},{"$f":"IFERROR([10]INVERSION!$L$49,\"\")","v":0},{"$f":"IFERROR([10]INVERSION!$M$49,\"\")","v":0},{"$f":"IFERROR([10]INVERSION!$N$49,\"\")","v":0},{"$f":"IFERROR([10]INVERSION!$O$49,\"\")","v":0},{"$f":"IFERROR([10]INVERSION!$P$49,\"\")","v":0},{"$f":"IFERROR([10]INVERSION!$Q$49,\"\")","v":0},{"$f":"IFERROR([10]INVERSION!$R$49,\"\")","v":0},{"$f":"IFERROR([10]INVERSION!$S$49,\"\")","v":"00:00:00"},{"$f":"IFERROR([10]INVERSION!$T$49,\"\")","v":"00:00:00"},{"$f":"IFERROR([10]INVERSION!$U$49,\"\")","v":0},{"$f":"IFERROR([10]INVERSION!$V$49,\"\")","v":0},{"$f":"IFERROR([10]INVERSION!$W$49,\"\")","v":0},{"$f":"IFERROR([10]INVERSION!$X$49,\"\")","v":0},{"$f":"IFERROR([10]INVERSION!$Y$49,\"\")","v":0}]
[null,null,null,null,null,null,{"$f":"IFERROR([10]INVERSION!$G$50,\"\")","v":0},{"$f":"IFERROR([10]INVERSION!$H$50,\"\")","v":0},{"$f":"IFERROR([10]INVERSION!$I$50,\"\")","v":0},{"$f":"IFERROR([10]INVERSION!$J$50,\"\")","v":0},{"$f":"IFERROR([10]INVERSION!$K$50,\"\")","v":0},{"$f":"IFERROR([10]INVERSION!$L$50,\"\")","v":0},{"$f":"IFERROR([10]INVERSION!$M$50,\"\")","v":0},{"$f":"IFERROR([10]INVERSION!$N$50,\"\")","v":0},{"$f":"IFERROR([10]INVERSION!$O$50,\"\")","v":0},{"$f":"IFERROR([10]INVERSION!$P$50,\"\")","v":0},{"$f":"IFERROR([10]INVERSION!$Q$50,\"\")","v":0},{"$f":"IFERROR([10]INVERSION!$R$50,\"\")","v":0},{"$f":"IFERROR([10]INVERSION!$S$50,\"\")","v":"00:00:00"},{"$f":"IFERROR([10]INVERSION!$T$50,\"\")","v":"00:00:00"},{"$f":"IFERROR([10]INVERSION!$U$50,\"\")","v":0},{"$f":"IFERROR([10]INVERSION!$V$50,\"\")","v":0},{"$f":"IFERROR([10]INVERSION!$W$50,\"\")","v":0},{"$f":"IFERROR([10]INVERSION!$X$50,\"\")","v":0},{"$f":"IFERROR([10]INVERSION!$Y$50,\"\")","v":0}]
[null,null,null,null,null,null,{"$f":"IFERROR([10]INVERSION!$G$51,\"\")","v":0},{"$f":"IFERROR([10]INVERSION!$H$51,\"\")","v":0},{"$f":"IFERROR([10]INVERSION!$I$51,\"\")","v":0},{"$f":"IFERROR([10]INVERSION!$J$51,\"\")","v":0},{"$f":"IFERROR([10]INVERSION!$K$51,\"\")","v":0},{"$f":"IFERROR([10]INVERSION!$L$51,\"\")","v":0},{"$f":"IFERROR([10]INVERSION!$M$51,\"\")","v":0},{"$f":"IFERROR([10]INVERSION!$N$51,\"\")","v":0},{"$f":"IFERROR([10]INVERSION!$O$51,\"\")","v":0},{"$f":"IFERROR([10]INVERSION!$P$51,\"\")","v":0},{"$f":"IFERROR([10]INVERSION!$Q$51,\"\")","v":0},{"$f":"IFERROR([10]INVERSION!$R$51,\"\")","v":0},{"$f":"IFERROR([10]INVERSION!$S$51,\"\")","v":"00:00:00"},{"$f":"IFERROR([10]INVERSION!$T$51,\"\")","v":"00:00:00"},{"$f":"IFERROR([10]INVERSION!$U$51,\"\")","v":0},{"$f":"IFERROR([10]INVERSION!$V$51,\"\")","v":0},{"$f":"IFERROR([10]INVERSION!$W$51,\"\")","v":0},{"$f":"IFERROR([10]INVERSION!$X$51,\"\")","v":0},{"$f":"IFERROR([10]INVERSION!$Y$51,\"\")","v":0}]
[null,null,null,null,null,null,{"$f":"IFERROR([10]INVERSION!$G$52,\"\")","v":0},{"$f":"IFERROR([10]INVERSION!$H$52,\"\")","v":0},{"$f":"IFERROR([10]INVERSION!$I$52,\"\")","v":0},{"$f":"IFERROR([10]INVERSION!$J$52,\"\")","v":0},{"$f":"IFERROR([10]INVERSION!$K$52,\"\")","v":0},{"$f":"IFERROR([10]INVERSION!$L$52,\"\")","v":0},{"$f":"IFERROR([10]INVERSION!$M$52,\"\")","v":0},{"$f":"IFERROR([10]INVERSION!$N$52,\"\")","v":0},{"$f":"IFERROR([10]INVERSION!$O$52,\"\")","v":0},{"$f":"IFERROR([10]INVERSION!$P$52,\"\")","v":0},{"$f":"IFERROR([10]INVERSION!$Q$52,\"\")","v":0},{"$f":"IFERROR([10]INVERSION!$R$52,\"\")","v":0},{"$f":"IFERROR([10]INVERSION!$S$52,\"\")","v":"00:00:00"},{"$f":"IFERROR([10]INVERSION!$T$52,\"\")","v":"00:00:00"},{"$f":"IFERROR([10]INVERSION!$U$52,\"\")","v":0},{"$f":"IFERROR([10]INVERSION!$V$52,\"\")","v":0},{"$f":"IFERROR([10]INVERSION!$W$52,\"\")","v":0},{"$f":"IFERROR([10]INVERSION!$X$52,\"\")","v":0},{"$f":"IFERROR([10]INVERSION!$Y$52,\"\")","v":0}]
[null,null,null,null,null,null,{"$f":"IFERROR([10]INVERSION!$G$53,\"\")","v":0},{"$f":"IFERROR([10]INVERSION!$H$53,\"\")","v":0},{"$f":"IFERROR([10]INVERSION!$I$53,\"\")","v":0},{"$f":"IFERROR([10]INVERSION!$J$53,\"\")","v":0},{"$f":"IFERROR([10]INVERSION!$K$53,\"\")","v":0},{"$f":"IFERROR([10]INVERSION!$L$53,\"\")","v":0},{"$f":"IFERROR([10]INVERSION!$M$53,\"\")","v":0},{"$f":"IFERROR([10]INVERSION!$N$53,\"\")","v":0},{"$f":"IFERROR([10]INVERSION!$O$53,\"\")","v":0},{"$f":"IFERROR([10]INVERSION!$P$53,\"\")","v":0},{"$f":"IFERROR([10]INVERSION!$Q$53,\"\")","v":0},{"$f":"IFERROR([10]INVERSION!$R$53,\"\")","v":0},{"$f":"IFERROR([10]INVERSION!$S$53,\"\")","v":"00:00:00"},{"$f":"IFERROR([10]INVERSION!$T$53,\"\")","v":"00:00:00"},{"$f":"IFERROR([10]INVERSION!$U$53,\"\")","v":0},{"$f":"IFERROR([10]INVERSION!$V$53,\"\")","v":0},{"$f":"IFERROR([10]INVERSION!$W$53,\"\")","v":0},{"$f":"IFERROR([10]INVERSION!$X$53,\"\")","v":0},{"$f":"IFERROR([10]INVERSION!$Y$53,\"\")","v":0},null,null,null,"","",null,0]
[null,null,null,null,null,null,{"$f":"IFERROR([10]INVERSION!$G$54,\"\")","v":0},{"$f":"IFERROR([10]INVERSION!$H$54,\"\")","v":0},{"$f":"IFERROR([10]INVERSION!$I$54,\"\")","v":0},{"$f":"IFERROR([10]INVERSION!$J$54,\"\")","v":0},{"$f":"IFERROR([10]INVERSION!$K$54,\"\")","v":0},{"$f":"IFERROR([10]INVERSION!$L$54,\"\")","v":0},{"$f":"IFERROR([10]INVERSION!$M$54,\"\")","v":0},{"$f":"IFERROR([10]INVERSION!$N$54,\"\")","v":0},{"$f":"IFERROR([10]INVERSION!$O$54,\"\")","v":0},{"$f":"IFERROR([10]INVERSION!$P$54,\"\")","v":0},{"$f":"IFERROR([10]INVERSION!$Q$54,\"\")","v":0},{"$f":"IFERROR([10]INVERSION!$R$54,\"\")","v":0},{"$f":"IFERROR([10]INVERSION!$S$54,\"\")","v":"00:00:00"},{"$f":"IFERROR([10]INVERSION!$T$54,\"\")","v":"00:00:00"},{"$f":"IFERROR([10]INVERSION!$U$54,\"\")","v":0},{"$f":"IFERROR([10]INVERSION!$V$54,\"\")","v":0},{"$f":"IFERROR([10]INVERSION!$W$54,\"\")","v":0},{"$f":"IFERROR([10]INVERSION!$X$54,\"\")","v":0},{"$f":"IFERROR([10]INVERSION!$Y$54,\"\")","v":0},null,null,null,"","",null,0]
[null,null,null,null,null,null,{"$f":"IFERROR([10]INVERSION!$G$55,\"\")","v":0},{"$f":"IFERROR([10]INVERSION!$H$55,\"\")","v":0},{"$f":"IFERROR([10]INVERSION!$I$55,\"\")","v":0},{"$f":"IFERROR([10]INVERSION!$J$55,\"\")","v":0},{"$f":"IFERROR([10]INVERSION!$K$55,\"\")","v":0},{"$f":"IFERROR([10]INVERSION!$L$55,\"\")","v":0},{"$f":"IFERROR([10]INVERSION!$M$55,\"\")","v":0},{"$f":"IFERROR([10]INVERSION!$N$55,\"\")","v":0},{"$f":"IFERROR([10]INVERSION!$O$55,\"\")","v":0},{"$f":"IFERROR([10]INVERSION!$P$55,\"\")","v":0},{"$f":"IFERROR([10]INVERSION!$Q$55,\"\")","v":0},{"$f":"IFERROR([10]INVERSION!$R$55,\"\")","v":0},{"$f":"IFERROR([10]INVERSION!$S$55,\"\")","v":"00:00:00"},{"$f":"IFERROR([10]INVERSION!$T$55,\"\")","v":"00:00:00"},{"$f":"IFERROR([10]INVERSION!$U$55,\"\")","v":0},{"$f":"IFERROR([10]INVERSION!$V$55,\"\")","v":0},{"$f":"IFERROR([10]INVERSION!$W$55,\"\")","v":0},{"$f":"IFERROR([10]INVERSION!$X$55,\"\")","v":0},{"$f":"IFERROR([10]INVERSION!$Y$55,\"\")","v":0},null,null,null,"","",null,0]
["2. Servicios digitales y de tecnología, innovación y análisis de la información.","Servicios digitales y de tecnología, innovación y análisis de la información: Consolidar una justicia integrada y soportada en servicios digitales y de tecnología, innovación y análisis de la información, con una cultura digital apropiada, segura y sensible a las realidades del territorio nacional. ","1. Ampliar el acceso a la justicia a través de la consolidación del uso de los servicios digitales que conforman el sistema único integrado de gestión judicial en todos los despachos judiciales y dependencias de apoyo y, específicamente, incluyendo el despliegue e implementación del Expediente Judicial Electrónico en todas las jurisdicciones y especialidades.","Procesos\njudiciales gestionados a través del expediente electrónico por especialidad","# de procesos judiciales en gestión con expediente electrónico en cada especialida d y por categoría de despacho a nivel de circuito / # de procesos judiciales totales en gestión por cada especialida d y circuito (cabecera de circuito)","6. Proteger, preservar y administrar los activos de información  implementando acciones  para gestionar de forma adecuada los incidentes, proteger los datos personales y adoptar mecanismos  de ciberseguridad y aseguramiento de la  continuidad del negocio.",{"$f":"IFERROR([10]INVERSION!$G$56,\"\")","v":0},{"$f":"IFERROR([10]INVERSION!$H$56,\"\")","v":0},{"$f":"IFERROR([10]INVERSION!$I$56,\"\")","v":0},{"$f":"IFERROR([10]INVERSION!$J$56,\"\")","v":0},{"$f":"IFERROR([10]INVERSION!$K$56,\"\")","v":0},{"$f":"IFERROR([10]INVERSION!$L$56,\"\")","v":0},{"$f":"IFERROR([10]INVERSION!$M$56,\"\")","v":0},{"$f":"IFERROR([10]INVERSION!$N$56,\"\")","v":0},{"$f":"IFERROR([10]INVERSION!$O$56,\"\")","v":0},{"$f":"IFERROR([10]INVERSION!$P$56,\"\")","v":0},{"$f":"IFERROR([10]INVERSION!$Q$56,\"\")","v":0},{"$f":"IFERROR([10]INVERSION!$R$56,\"\")","v":0},{"$f":"IFERROR([10]INVERSION!$S$56,\"\")","v":"00:00:00"},{"$f":"IFERROR([10]INVERSION!$T$56,\"\")","v":"00:00:00"},{"$f":"IFERROR([10]INVERSION!$U$56,\"\")","v":0},{"$f":"IFERROR([10]INVERSION!$V$56,\"\")","v":0},{"$f":"IFERROR([10]INVERSION!$W$56,\"\")","v":0},{"$f":"IFERROR([10]INVERSION!$X$56,\"\")","v":0},{"$f":"IFERROR([10]INVERSION!$Y$56,\"\")","v":0},null,null,null,"","",null,0]
[null,null,null,null,null,null,{"$f":"IFERROR([10]INVERSION!$G$57,\"\")","v":0},{"$f":"IFERROR([10]INVERSION!$H$57,\"\")","v":0},{"$f":"IFERROR([10]INVERSION!$I$57,\"\")","v":0},{"$f":"IFERROR([10]INVERSION!$J$57,\"\")","v":0},{"$f":"IFERROR([10]INVERSION!$K$57,\"\")","v":0},{"$f":"IFERROR([10]INVERSION!$L$57,\"\")","v":0},{"$f":"IFERROR([10]INVERSION!$M$57,\"\")","v":0},{"$f":"IFERROR([10]INVERSION!$N$57,\"\")","v":0},{"$f":"IFERROR([10]INVERSION!$O$57,\"\")","v":0},{"$f":"IFERROR([10]INVERSION!$P$57,\"\")","v":0},{"$f":"IFERROR([10]INVERSION!$Q$57,\"\")","v":0},{"$f":"IFERROR([10]INVERSION!$R$57,\"\")","v":0},{"$f":"IFERROR([10]INVERSION!$S$57,\"\")","v":"00:00:00"},{"$f":"IFERROR([10]INVERSION!$T$57,\"\")","v":"00:00:00"},{"$f":"IFERROR([10]INVERSION!$U$57,\"\")","v":0},{"$f":"IFERROR([10]INVERSION!$V$57,\"\")","v":0},{"$f":"IFERROR([10]INVERSION!$W$57,\"\")","v":0},{"$f":"IFERROR([10]INVERSION!$X$57,\"\")","v":0},{"$f":"IFERROR([10]INVERSION!$Y$57,\"\")","v":0},null,null,null,"","",null,0]
[null,null,null,null,null,null,{"$f":"IFERROR([10]INVERSION!$G$58,\"\")","v":0},{"$f":"IFERROR([10]INVERSION!$H$58,\"\")","v":0},{"$f":"IFERROR([10]INVERSION!$I$58,\"\")","v":0},{"$f":"IFERROR([10]INVERSION!$J$58,\"\")","v":0},{"$f":"IFERROR([10]INVERSION!$K$58,\"\")","v":0},{"$f":"IFERROR([10]INVERSION!$L$58,\"\")","v":0},{"$f":"IFERROR([10]INVERSION!$M$58,\"\")","v":0},{"$f":"IFERROR([10]INVERSION!$N$58,\"\")","v":0},{"$f":"IFERROR([10]INVERSION!$O$58,\"\")","v":0},{"$f":"IFERROR([10]INVERSION!$P$58,\"\")","v":0},{"$f":"IFERROR([10]INVERSION!$Q$58,\"\")","v":0},{"$f":"IFERROR([10]INVERSION!$R$58,\"\")","v":0},{"$f":"IFERROR([10]INVERSION!$S$58,\"\")","v":"00:00:00"},{"$f":"IFERROR([10]INVERSION!$T$58,\"\")","v":"00:00:00"},{"$f":"IFERROR([10]INVERSION!$U$58,\"\")","v":0},{"$f":"IFERROR([10]INVERSION!$V$58,\"\")","v":0},{"$f":"IFERROR([10]INVERSION!$W$58,\"\")","v":0},{"$f":"IFERROR([10]INVERSION!$X$58,\"\")","v":0},{"$f":"IFERROR([10]INVERSION!$Y$58,\"\")","v":0}]
[null,null,null,null,null,null,{"$f":"IFERROR([10]INVERSION!$G$59,\"\")","v":0},{"$f":"IFERROR([10]INVERSION!$H$59,\"\")","v":0},{"$f":"IFERROR([10]INVERSION!$I$59,\"\")","v":0},{"$f":"IFERROR([10]INVERSION!$J$59,\"\")","v":0},{"$f":"IFERROR([10]INVERSION!$K$59,\"\")","v":0},{"$f":"IFERROR([10]INVERSION!$L$59,\"\")","v":0},{"$f":"IFERROR([10]INVERSION!$M$59,\"\")","v":0},{"$f":"IFERROR([10]INVERSION!$N$59,\"\")","v":0},{"$f":"IFERROR([10]INVERSION!$O$59,\"\")","v":0},{"$f":"IFERROR([10]INVERSION!$P$59,\"\")","v":0},{"$f":"IFERROR([10]INVERSION!$Q$59,\"\")","v":0},{"$f":"IFERROR([10]INVERSION!$R$59,\"\")","v":0},{"$f":"IFERROR([10]INVERSION!$S$59,\"\")","v":"00:00:00"},{"$f":"IFERROR([10]INVERSION!$T$59,\"\")","v":"00:00:00"},{"$f":"IFERROR([10]INVERSION!$U$59,\"\")","v":0},{"$f":"IFERROR([10]INVERSION!$V$59,\"\")","v":0},{"$f":"IFERROR([10]INVERSION!$W$59,\"\")","v":0},{"$f":"IFERROR([10]INVERSION!$X$59,\"\")","v":0},{"$f":"IFERROR([10]INVERSION!$Y$59,\"\")","v":0}]
[null,null,null,null,null,null,{"$f":"IFERROR([10]INVERSION!$G$60,\"\")","v":0},{"$f":"IFERROR([10]INVERSION!$H$60,\"\")","v":0},{"$f":"IFERROR([10]INVERSION!$I$60,\"\")","v":0},{"$f":"IFERROR([10]INVERSION!$J$60,\"\")","v":0},{"$f":"IFERROR([10]INVERSION!$K$60,\"\")","v":0},{"$f":"IFERROR([10]INVERSION!$L$60,\"\")","v":0},{"$f":"IFERROR([10]INVERSION!$M$60,\"\")","v":0},{"$f":"IFERROR([10]INVERSION!$N$60,\"\")","v":0},{"$f":"IFERROR([10]INVERSION!$O$60,\"\")","v":0},{"$f":"IFERROR([10]INVERSION!$P$60,\"\")","v":0},{"$f":"IFERROR([10]INVERSION!$Q$60,\"\")","v":0},{"$f":"IFERROR([10]INVERSION!$R$60,\"\")","v":0},{"$f":"IFERROR([10]INVERSION!$S$60,\"\")","v":"00:00:00"},{"$f":"IFERROR([10]INVERSION!$T$60,\"\")","v":"00:00:00"},{"$f":"IFERROR([10]INVERSION!$U$60,\"\")","v":0},{"$f":"IFERROR([10]INVERSION!$V$60,\"\")","v":0},{"$f":"IFERROR([10]INVERSION!$W$60,\"\")","v":0},{"$f":"IFERROR([10]INVERSION!$X$60,\"\")","v":0},{"$f":"IFERROR([10]INVERSION!$Y$60,\"\")","v":0}]
[null,null,null,null,null,null,{"$f":"IFERROR([10]INVERSION!$G$61,\"\")","v":0},{"$f":"IFERROR([10]INVERSION!$H$61,\"\")","v":0},{"$f":"IFERROR([10]INVERSION!$I$61,\"\")","v":0},{"$f":"IFERROR([10]INVERSION!$J$61,\"\")","v":0},{"$f":"IFERROR([10]INVERSION!$K$61,\"\")","v":0},{"$f":"IFERROR([10]INVERSION!$L$61,\"\")","v":0},{"$f":"IFERROR([10]INVERSION!$M$61,\"\")","v":0},{"$f":"IFERROR([10]INVERSION!$N$61,\"\")","v":0},{"$f":"IFERROR([10]INVERSION!$O$61,\"\")","v":0},{"$f":"IFERROR([10]INVERSION!$P$61,\"\")","v":0},{"$f":"IFERROR([10]INVERSION!$Q$61,\"\")","v":0},{"$f":"IFERROR([10]INVERSION!$R$61,\"\")","v":0},{"$f":"IFERROR([10]INVERSION!$S$61,\"\")","v":"00:00:00"},{"$f":"IFERROR([10]INVERSION!$T$61,\"\")","v":"00:00:00"},{"$f":"IFERROR([10]INVERSION!$U$61,\"\")","v":0},{"$f":"IFERROR([10]INVERSION!$V$61,\"\")","v":0},{"$f":"IFERROR([10]INVERSION!$W$61,\"\")","v":0},{"$f":"IFERROR([10]INVERSION!$X$61,\"\")","v":0},{"$f":"IFERROR([10]INVERSION!$Y$61,\"\")","v":0}]
[null,null,null,null,null,null,{"$f":"IFERROR([10]INVERSION!$G$62,\"\")","v":0},{"$f":"IFERROR([10]INVERSION!$H$62,\"\")","v":0},{"$f":"IFERROR([10]INVERSION!$I$62,\"\")","v":0},{"$f":"IFERROR([10]INVERSION!$J$62,\"\")","v":0},{"$f":"IFERROR([10]INVERSION!$K$62,\"\")","v":0},{"$f":"IFERROR([10]INVERSION!$L$62,\"\")","v":0},{"$f":"IFERROR([10]INVERSION!$M$62,\"\")","v":0},{"$f":"IFERROR([10]INVERSION!$N$62,\"\")","v":0},{"$f":"IFERROR([10]INVERSION!$O$62,\"\")","v":0},{"$f":"IFERROR([10]INVERSION!$P$62,\"\")","v":0},{"$f":"IFERROR([10]INVERSION!$Q$62,\"\")","v":0},{"$f":"IFERROR([10]INVERSION!$R$62,\"\")","v":0},{"$f":"IFERROR([10]INVERSION!$S$62,\"\")","v":"00:00:00"},{"$f":"IFERROR([10]INVERSION!$T$62,\"\")","v":"00:00:00"},{"$f":"IFERROR([10]INVERSION!$U$62,\"\")","v":0},{"$f":"IFERROR([10]INVERSION!$V$62,\"\")","v":0},{"$f":"IFERROR([10]INVERSION!$W$62,\"\")","v":0},{"$f":"IFERROR([10]INVERSION!$X$62,\"\")","v":0},{"$f":"IFERROR([10]INVERSION!$Y$62,\"\")","v":0}]
[null,null,null,null,null,null,{"$f":"IFERROR([10]INVERSION!$G$63,\"\")","v":0},{"$f":"IFERROR([10]INVERSION!$H$63,\"\")","v":0},{"$f":"IFERROR([10]INVERSION!$I$63,\"\")","v":0},{"$f":"IFERROR([10]INVERSION!$J$63,\"\")","v":0},{"$f":"IFERROR([10]INVERSION!$K$63,\"\")","v":0},{"$f":"IFERROR([10]INVERSION!$L$63,\"\")","v":0},{"$f":"IFERROR([10]INVERSION!$M$63,\"\")","v":0},{"$f":"IFERROR([10]INVERSION!$N$63,\"\")","v":0},{"$f":"IFERROR([10]INVERSION!$O$63,\"\")","v":0},{"$f":"IFERROR([10]INVERSION!$P$63,\"\")","v":0},{"$f":"IFERROR([10]INVERSION!$Q$63,\"\")","v":0},{"$f":"IFERROR([10]INVERSION!$R$63,\"\")","v":0},{"$f":"IFERROR([10]INVERSION!$S$63,\"\")","v":"00:00:00"},{"$f":"IFERROR([10]INVERSION!$T$63,\"\")","v":"00:00:00"},{"$f":"IFERROR([10]INVERSION!$U$63,\"\")","v":0},{"$f":"IFERROR([10]INVERSION!$V$63,\"\")","v":0},{"$f":"IFERROR([10]INVERSION!$W$63,\"\")","v":0},{"$f":"IFERROR([10]INVERSION!$X$63,\"\")","v":0},{"$f":"IFERROR([10]INVERSION!$Y$63,\"\")","v":0},null,null,null,"","",null,0]
[null,null,null,null,null,null,{"$f":"IFERROR([10]INVERSION!$G$64,\"\")","v":0},{"$f":"IFERROR([10]INVERSION!$H$64,\"\")","v":0},{"$f":"IFERROR([10]INVERSION!$I$64,\"\")","v":0},{"$f":"IFERROR([10]INVERSION!$J$64,\"\")","v":0},{"$f":"IFERROR([10]INVERSION!$K$64,\"\")","v":0},{"$f":"IFERROR([10]INVERSION!$L$64,\"\")","v":0},{"$f":"IFERROR([10]INVERSION!$M$64,\"\")","v":0},{"$f":"IFERROR([10]INVERSION!$N$64,\"\")","v":0},{"$f":"IFERROR([10]INVERSION!$O$64,\"\")","v":0},{"$f":"IFERROR([10]INVERSION!$P$64,\"\")","v":0},{"$f":"IFERROR([10]INVERSION!$Q$64,\"\")","v":0},{"$f":"IFERROR([10]INVERSION!$R$64,\"\")","v":0},{"$f":"IFERROR([10]INVERSION!$S$64,\"\")","v":"00:00:00"},{"$f":"IFERROR([10]INVERSION!$T$64,\"\")","v":"00:00:00"},{"$f":"IFERROR([10]INVERSION!$U$64,\"\")","v":0},{"$f":"IFERROR([10]INVERSION!$V$64,\"\")","v":0},{"$f":"IFERROR([10]INVERSION!$W$64,\"\")","v":0},{"$f":"IFERROR([10]INVERSION!$X$64,\"\")","v":0},{"$f":"IFERROR([10]INVERSION!$Y$64,\"\")","v":0},null,null,null,"","",null,0]
[null,null,null,null,null,null,{"$f":"IFERROR([10]INVERSION!$G$65,\"\")","v":0},{"$f":"IFERROR([10]INVERSION!$H$65,\"\")","v":0},{"$f":"IFERROR([10]INVERSION!$I$65,\"\")","v":0},{"$f":"IFERROR([10]INVERSION!$J$65,\"\")","v":0},{"$f":"IFERROR([10]INVERSION!$K$65,\"\")","v":0},{"$f":"IFERROR([10]INVERSION!$L$65,\"\")","v":0},{"$f":"IFERROR([10]INVERSION!$M$65,\"\")","v":0},{"$f":"IFERROR([10]INVERSION!$N$65,\"\")","v":0},{"$f":"IFERROR([10]INVERSION!$O$65,\"\")","v":0},{"$f":"IFERROR([10]INVERSION!$P$65,\"\")","v":0},{"$f":"IFERROR([10]INVERSION!$Q$65,\"\")","v":0},{"$f":"IFERROR([10]INVERSION!$R$65,\"\")","v":0},{"$f":"IFERROR([10]INVERSION!$S$65,\"\")","v":"00:00:00"},{"$f":"IFERROR([10]INVERSION!$T$65,\"\")","v":"00:00:00"},{"$f":"IFERROR([10]INVERSION!$U$65,\"\")","v":0},{"$f":"IFERROR([10]INVERSION!$V$65,\"\")","v":0},{"$f":"IFERROR([10]INVERSION!$W$65,\"\")","v":0},{"$f":"IFERROR([10]INVERSION!$X$65,\"\")","v":0},{"$f":"IFERROR([10]INVERSION!$Y$65,\"\")","v":0},null,null,null,"","",null,0]
[null,null,"2. Integrar y hacer compatibles todos los aplicativos de transición con SIUGJ, para que la migración de los expedientes judiciales a dicha plataforma sea real y no suponga afectaciones en la prestación del servicio de justicia.",null,null,null,{"$f":"IFERROR([10]INVERSION!$G$66,\"\")","v":0},{"$f":"IFERROR([10]INVERSION!$H$66,\"\")","v":0},{"$f":"IFERROR([10]INVERSION!$I$66,\"\")","v":0},{"$f":"IFERROR([10]INVERSION!$J$66,\"\")","v":0},{"$f":"IFERROR([10]INVERSION!$K$66,\"\")","v":0},{"$f":"IFERROR([10]INVERSION!$L$66,\"\")","v":0},{"$f":"IFERROR([10]INVERSION!$M$66,\"\")","v":0},{"$f":"IFERROR([10]INVERSION!$N$66,\"\")","v":0},{"$f":"IFERROR([10]INVERSION!$O$66,\"\")","v":0},{"$f":"IFERROR([10]INVERSION!$P$66,\"\")","v":0},{"$f":"IFERROR([10]INVERSION!$Q$66,\"\")","v":0},{"$f":"IFERROR([10]INVERSION!$R$66,\"\")","v":0},{"$f":"IFERROR([10]INVERSION!$S$66,\"\")","v":"00:00:00"},{"$f":"IFERROR([10]INVERSION!$T$66,\"\")","v":"00:00:00"},{"$f":"IFERROR([10]INVERSION!$U$66,\"\")","v":0},{"$f":"IFERROR([10]INVERSION!$V$66,\"\")","v":0},{"$f":"IFERROR([10]INVERSION!$W$66,\"\")","v":0},{"$f":"IFERROR([10]INVERSION!$X$66,\"\")","v":0},{"$f":"IFERROR([10]INVERSION!$Y$66,\"\")","v":0},null,null,null,"","",null,0]
[null,null,null,null,null,null,{"$f":"IFERROR([10]INVERSION!$G$67,\"\")","v":0},{"$f":"IFERROR([10]INVERSION!$H$67,\"\")","v":0},{"$f":"IFERROR([10]INVERSION!$I$67,\"\")","v":0},{"$f":"IFERROR([10]INVERSION!$J$67,\"\")","v":0},{"$f":"IFERROR([10]INVERSION!$K$67,\"\")","v":0},{"$f":"IFERROR([10]INVERSION!$L$67,\"\")","v":0},{"$f":"IFERROR([10]INVERSION!$M$67,\"\")","v":0},{"$f":"IFERROR([10]INVERSION!$N$67,\"\")","v":0},{"$f":"IFERROR([10]INVERSION!$O$67,\"\")","v":0},{"$f":"IFERROR([10]INVERSION!$P$67,\"\")","v":0},{"$f":"IFERROR([10]INVERSION!$Q$67,\"\")","v":0},{"$f":"IFERROR([10]INVERSION!$R$67,\"\")","v":0},{"$f":"IFERROR([10]INVERSION!$S$67,\"\")","v":"00:00:00"},{"$f":"IFERROR([10]INVERSION!$T$67,\"\")","v":"00:00:00"},{"$f":"IFERROR([10]INVERSION!$U$67,\"\")","v":0},{"$f":"IFERROR([10]INVERSION!$V$67,\"\")","v":0},{"$f":"IFERROR([10]INVERSION!$W$67,\"\")","v":0},{"$f":"IFERROR([10]INVERSION!$X$67,\"\")","v":0},{"$f":"IFERROR([10]INVERSION!$Y$67,\"\")","v":0},null,null,null,"","",null,0]
[null,null,null,null,null,null,{"$f":"IFERROR([10]INVERSION!$G$68,\"\")","v":0},{"$f":"IFERROR([10]INVERSION!$H$68,\"\")","v":0},{"$f":"IFERROR([10]INVERSION!$I$68,\"\")","v":0},{"$f":"IFERROR([10]INVERSION!$J$68,\"\")","v":0},{"$f":"IFERROR([10]INVERSION!$K$68,\"\")","v":0},{"$f":"IFERROR([10]INVERSION!$L$68,\"\")","v":0},{"$f":"IFERROR([10]INVERSION!$M$68,\"\")","v":0},{"$f":"IFERROR([10]INVERSION!$N$68,\"\")","v":0},{"$f":"IFERROR([10]INVERSION!$O$68,\"\")","v":0},{"$f":"IFERROR([10]INVERSION!$P$68,\"\")","v":0},{"$f":"IFERROR([10]INVERSION!$Q$68,\"\")","v":0},{"$f":"IFERROR([10]INVERSION!$R$68,\"\")","v":0},{"$f":"IFERROR([10]INVERSION!$S$68,\"\")","v":"00:00:00"},{"$f":"IFERROR([10]INVERSION!$T$68,\"\")","v":"00:00:00"},{"$f":"IFERROR([10]INVERSION!$U$68,\"\")","v":0},{"$f":"IFERROR([10]INVERSION!$V$68,\"\")","v":0},{"$f":"IFERROR([10]INVERSION!$W$68,\"\")","v":0},{"$f":"IFERROR([10]INVERSION!$X$68,\"\")","v":0},{"$f":"IFERROR([10]INVERSION!$Y$68,\"\")","v":0},null,null,null,"","",null,0]
[null,null,null,null,null,null,{"$f":"IFERROR([10]INVERSION!$G$69,\"\")","v":0},{"$f":"IFERROR([10]INVERSION!$H$69,\"\")","v":0},{"$f":"IFERROR([10]INVERSION!$I$69,\"\")","v":0},{"$f":"IFERROR([10]INVERSION!$J$69,\"\")","v":0},{"$f":"IFERROR([10]INVERSION!$K$69,\"\")","v":0},{"$f":"IFERROR([10]INVERSION!$L$69,\"\")","v":0},{"$f":"IFERROR([10]INVERSION!$M$69,\"\")","v":0},{"$f":"IFERROR([10]INVERSION!$N$69,\"\")","v":0},{"$f":"IFERROR([10]INVERSION!$O$69,\"\")","v":0},{"$f":"IFERROR([10]INVERSION!$P$69,\"\")","v":0},{"$f":"IFERROR([10]INVERSION!$Q$69,\"\")","v":0},{"$f":"IFERROR([10]INVERSION!$R$69,\"\")","v":0},{"$f":"IFERROR([10]INVERSION!$S$69,\"\")","v":"00:00:00"},{"$f":"IFERROR([10]INVERSION!$T$69,\"\")","v":"00:00:00"},{"$f":"IFERROR([10]INVERSION!$U$69,\"\")","v":0},{"$f":"IFERROR([10]INVERSION!$V$69,\"\")","v":0},{"$f":"IFERROR([10]INVERSION!$W$69,\"\")","v":0},{"$f":"IFERROR([10]INVERSION!$X$69,\"\")","v":0},{"$f":"IFERROR([10]INVERSION!$Y$69,\"\")","v":0}]
[null,null,null,null,null,null,{"$f":"IFERROR([10]INVERSION!$G$70,\"\")","v":0},{"$f":"IFERROR([10]INVERSION!$H$70,\"\")","v":0},{"$f":"IFERROR([10]INVERSION!$I$70,\"\")","v":0},{"$f":"IFERROR([10]INVERSION!$J$70,\"\")","v":0},{"$f":"IFERROR([10]INVERSION!$K$70,\"\")","v":0},{"$f":"IFERROR([10]INVERSION!$L$70,\"\")","v":0},{"$f":"IFERROR([10]INVERSION!$M$70,\"\")","v":0},{"$f":"IFERROR([10]INVERSION!$N$70,\"\")","v":0},{"$f":"IFERROR([10]INVERSION!$O$70,\"\")","v":0},{"$f":"IFERROR([10]INVERSION!$P$70,\"\")","v":0},{"$f":"IFERROR([10]INVERSION!$Q$70,\"\")","v":0},{"$f":"IFERROR([10]INVERSION!$R$70,\"\")","v":0},{"$f":"IFERROR([10]INVERSION!$S$70,\"\")","v":"00:00:00"},{"$f":"IFERROR([10]INVERSION!$T$70,\"\")","v":"00:00:00"},{"$f":"IFERROR([10]INVERSION!$U$70,\"\")","v":0},{"$f":"IFERROR([10]INVERSION!$V$70,\"\")","v":0},{"$f":"IFERROR([10]INVERSION!$W$70,\"\")","v":0},{"$f":"IFERROR([10]INVERSION!$X$70,\"\")","v":0},{"$f":"IFERROR([10]INVERSION!$Y$70,\"\")","v":0}]
[null,null,null,null,null,null,{"$f":"IFERROR([10]INVERSION!$G$71,\"\")","v":0},{"$f":"IFERROR([10]INVERSION!$H$71,\"\")","v":0},{"$f":"IFERROR([10]INVERSION!$I$71,\"\")","v":0},{"$f":"IFERROR([10]INVERSION!$J$71,\"\")","v":0},{"$f":"IFERROR([10]INVERSION!$K$71,\"\")","v":0},{"$f":"IFERROR([10]INVERSION!$L$71,\"\")","v":0},{"$f":"IFERROR([10]INVERSION!$M$71,\"\")","v":0},{"$f":"IFERROR([10]INVERSION!$N$71,\"\")","v":0},{"$f":"IFERROR([10]INVERSION!$O$71,\"\")","v":0},{"$f":"IFERROR([10]INVERSION!$P$71,\"\")","v":0},{"$f":"IFERROR([10]INVERSION!$Q$71,\"\")","v":0},{"$f":"IFERROR([10]INVERSION!$R$71,\"\")","v":0},{"$f":"IFERROR([10]INVERSION!$S$71,\"\")","v":"00:00:00"},{"$f":"IFERROR([10]INVERSION!$T$71,\"\")","v":"00:00:00"},{"$f":"IFERROR([10]INVERSION!$U$71,\"\")","v":0},{"$f":"IFERROR([10]INVERSION!$V$71,\"\")","v":0},{"$f":"IFERROR([10]INVERSION!$W$71,\"\")","v":0},{"$f":"IFERROR([10]INVERSION!$X$71,\"\")","v":0},{"$f":"IFERROR([10]INVERSION!$Y$71,\"\")","v":0}]
[null,null,null,null,null,null,{"$f":"IFERROR([10]INVERSION!$G$72,\"\")","v":0},{"$f":"IFERROR([10]INVERSION!$H$72,\"\")","v":0},{"$f":"IFERROR([10]INVERSION!$I$72,\"\")","v":0},{"$f":"IFERROR([10]INVERSION!$J$72,\"\")","v":0},{"$f":"IFERROR([10]INVERSION!$K$72,\"\")","v":0},{"$f":"IFERROR([10]INVERSION!$L$72,\"\")","v":0},{"$f":"IFERROR([10]INVERSION!$M$72,\"\")","v":0},{"$f":"IFERROR([10]INVERSION!$N$72,\"\")","v":0},{"$f":"IFERROR([10]INVERSION!$O$72,\"\")","v":0},{"$f":"IFERROR([10]INVERSION!$P$72,\"\")","v":0},{"$f":"IFERROR([10]INVERSION!$Q$72,\"\")","v":0},{"$f":"IFERROR([10]INVERSION!$R$72,\"\")","v":0},{"$f":"IFERROR([10]INVERSION!$S$72,\"\")","v":"00:00:00"},{"$f":"IFERROR([10]INVERSION!$T$72,\"\")","v":"00:00:00"},{"$f":"IFERROR([10]INVERSION!$U$72,\"\")","v":0},{"$f":"IFERROR([10]INVERSION!$V$72,\"\")","v":0},{"$f":"IFERROR([10]INVERSION!$W$72,\"\")","v":0},{"$f":"IFERROR([10]INVERSION!$X$72,\"\")","v":0},{"$f":"IFERROR([10]INVERSION!$Y$72,\"\")","v":0}]
[null,null,null,null,null,null,{"$f":"IFERROR([10]INVERSION!$G$73,\"\")","v":0},{"$f":"IFERROR([10]INVERSION!$H$73,\"\")","v":0},{"$f":"IFERROR([10]INVERSION!$I$73,\"\")","v":0},{"$f":"IFERROR([10]INVERSION!$J$73,\"\")","v":0},{"$f":"IFERROR([10]INVERSION!$K$73,\"\")","v":0},{"$f":"IFERROR([10]INVERSION!$L$73,\"\")","v":0},{"$f":"IFERROR([10]INVERSION!$M$73,\"\")","v":0},{"$f":"IFERROR([10]INVERSION!$N$73,\"\")","v":0},{"$f":"IFERROR([10]INVERSION!$O$73,\"\")","v":0},{"$f":"IFERROR([10]INVERSION!$P$73,\"\")","v":0},{"$f":"IFERROR([10]INVERSION!$Q$73,\"\")","v":0},{"$f":"IFERROR([10]INVERSION!$R$73,\"\")","v":0},{"$f":"IFERROR([10]INVERSION!$S$73,\"\")","v":"00:00:00"},{"$f":"IFERROR([10]INVERSION!$T$73,\"\")","v":"00:00:00"},{"$f":"IFERROR([10]INVERSION!$U$73,\"\")","v":0},{"$f":"IFERROR([10]INVERSION!$V$73,\"\")","v":0},{"$f":"IFERROR([10]INVERSION!$W$73,\"\")","v":0},{"$f":"IFERROR([10]INVERSION!$X$73,\"\")","v":0},{"$f":"IFERROR([10]INVERSION!$Y$73,\"\")","v":0}]
[null,null,null,null,null,null,{"$f":"IFERROR([10]INVERSION!$G$74,\"\")","v":0},{"$f":"IFERROR([10]INVERSION!$H$74,\"\")","v":0},{"$f":"IFERROR([10]INVERSION!$I$74,\"\")","v":0},{"$f":"IFERROR([10]INVERSION!$J$74,\"\")","v":0},{"$f":"IFERROR([10]INVERSION!$K$74,\"\")","v":0},{"$f":"IFERROR([10]INVERSION!$L$74,\"\")","v":0},{"$f":"IFERROR([10]INVERSION!$M$74,\"\")","v":0},{"$f":"IFERROR([10]INVERSION!$N$74,\"\")","v":0},{"$f":"IFERROR([10]INVERSION!$O$74,\"\")","v":0},{"$f":"IFERROR([10]INVERSION!$P$74,\"\")","v":0},{"$f":"IFERROR([10]INVERSION!$Q$74,\"\")","v":0},{"$f":"IFERROR([10]INVERSION!$R$74,\"\")","v":0},{"$f":"IFERROR([10]INVERSION!$S$74,\"\")","v":"00:00:00"},{"$f":"IFERROR([10]INVERSION!$T$74,\"\")","v":"00:00:00"},{"$f":"IFERROR([10]INVERSION!$U$74,\"\")","v":0},{"$f":"IFERROR([10]INVERSION!$V$74,\"\")","v":0},{"$f":"IFERROR([10]INVERSION!$W$74,\"\")","v":0},{"$f":"IFERROR([10]INVERSION!$X$74,\"\")","v":0},{"$f":"IFERROR([10]INVERSION!$Y$74,\"\")","v":0},null,null,null,"","",null,0]
[null,null,null,null,null,null,{"$f":"IFERROR([10]INVERSION!$G$75,\"\")","v":0},{"$f":"IFERROR([10]INVERSION!$H$75,\"\")","v":0},{"$f":"IFERROR([10]INVERSION!$I$75,\"\")","v":0},{"$f":"IFERROR([10]INVERSION!$J$75,\"\")","v":0},{"$f":"IFERROR([10]INVERSION!$K$75,\"\")","v":0},{"$f":"IFERROR([10]INVERSION!$L$75,\"\")","v":0},{"$f":"IFERROR([10]INVERSION!$M$75,\"\")","v":0},{"$f":"IFERROR([10]INVERSION!$N$75,\"\")","v":0},{"$f":"IFERROR([10]INVERSION!$O$75,\"\")","v":0},{"$f":"IFERROR([10]INVERSION!$P$75,\"\")","v":0},{"$f":"IFERROR([10]INVERSION!$Q$75,\"\")","v":0},{"$f":"IFERROR([10]INVERSION!$R$75,\"\")","v":0},{"$f":"IFERROR([10]INVERSION!$S$75,\"\")","v":"00:00:00"},{"$f":"IFERROR([10]INVERSION!$T$75,\"\")","v":"00:00:00"},{"$f":"IFERROR([10]INVERSION!$U$75,\"\")","v":0},{"$f":"IFERROR([10]INVERSION!$V$75,\"\")","v":0},{"$f":"IFERROR([10]INVERSION!$W$75,\"\")","v":0},{"$f":"IFERROR([10]INVERSION!$X$75,\"\")","v":0},{"$f":"IFERROR([10]INVERSION!$Y$75,\"\")","v":0},null,null,null,"","",null,0]
[null,null,"3. Fortalecer las capacidades institucionales, adecuar el modelo operativo y de servicio, bajo un enfoque de Arquitectura Empresarial y de fortalecimiento del acceso a la justicia.","Implementación del programa de gestión del cambio y las comunicaciones del PETD","# de actividades del objetivo \"aumentar el conocimient o digital y el uso de apropiación de los sistemas\" del programa de gestión del cambio y las comunicaci ones del PETD cumplidas /# de actividades del objetivo \"aumentar el conocimient o digital y el uso de apropiación de los sistemas\" del programa de gestión del cambio y las comunicaci ones del PETD programada s",null,{"$f":"IFERROR([10]INVERSION!$G$76,\"\")","v":0},{"$f":"IFERROR([10]INVERSION!$H$76,\"\")","v":0},{"$f":"IFERROR([10]INVERSION!$I$76,\"\")","v":0},{"$f":"IFERROR([10]INVERSION!$J$76,\"\")","v":0},{"$f":"IFERROR([10]INVERSION!$K$76,\"\")","v":0},{"$f":"IFERROR([10]INVERSION!$L$76,\"\")","v":0},{"$f":"IFERROR([10]INVERSION!$M$76,\"\")","v":0},{"$f":"IFERROR([10]INVERSION!$N$76,\"\")","v":0},{"$f":"IFERROR([10]INVERSION!$O$76,\"\")","v":0},{"$f":"IFERROR([10]INVERSION!$P$76,\"\")","v":0},{"$f":"IFERROR([10]INVERSION!$Q$76,\"\")","v":0},{"$f":"IFERROR([10]INVERSION!$R$76,\"\")","v":0},{"$f":"IFERROR([10]INVERSION!$S$76,\"\")","v":"00:00:00"},{"$f":"IFERROR([10]INVERSION!$T$76,\"\")","v":"00:00:00"},{"$f":"IFERROR([10]INVERSION!$U$76,\"\")","v":0},{"$f":"IFERROR([10]INVERSION!$V$76,\"\")","v":0},{"$f":"IFERROR([10]INVERSION!$W$76,\"\")","v":0},{"$f":"IFERROR([10]INVERSION!$X$76,\"\")","v":0},{"$f":"IFERROR([10]INVERSION!$Y$76,\"\")","v":0},null,null,null,"","",null,0]
[null,null,null,null,null,null,{"$f":"IFERROR([10]INVERSION!$G$77,\"\")","v":0},{"$f":"IFERROR([10]INVERSION!$H$77,\"\")","v":0},{"$f":"IFERROR([10]INVERSION!$I$77,\"\")","v":0},{"$f":"IFERROR([10]INVERSION!$J$77,\"\")","v":0},{"$f":"IFERROR([10]INVERSION!$K$77,\"\")","v":0},{"$f":"IFERROR([10]INVERSION!$L$77,\"\")","v":0},{"$f":"IFERROR([10]INVERSION!$M$77,\"\")","v":0},{"$f":"IFERROR([10]INVERSION!$N$77,\"\")","v":0},{"$f":"IFERROR([10]INVERSION!$O$77,\"\")","v":0},{"$f":"IFERROR([10]INVERSION!$P$77,\"\")","v":0},{"$f":"IFERROR([10]INVERSION!$Q$77,\"\")","v":0},{"$f":"IFERROR([10]INVERSION!$R$77,\"\")","v":0},{"$f":"IFERROR([10]INVERSION!$S$77,\"\")","v":"00:00:00"},{"$f":"IFERROR([10]INVERSION!$T$77,\"\")","v":"00:00:00"},{"$f":"IFERROR([10]INVERSION!$U$77,\"\")","v":0},{"$f":"IFERROR([10]INVERSION!$V$77,\"\")","v":0},{"$f":"IFERROR([10]INVERSION!$W$77,\"\")","v":0},{"$f":"IFERROR([10]INVERSION!$X$77,\"\")","v":0},{"$f":"IFERROR([10]INVERSION!$Y$77,\"\")","v":0},null,null,null,"","",null,0]
[null,null,null,null,null,null,{"$f":"IFERROR([10]INVERSION!$G$78,\"\")","v":0},{"$f":"IFERROR([10]INVERSION!$H$78,\"\")","v":0},{"$f":"IFERROR([10]INVERSION!$I$78,\"\")","v":0},{"$f":"IFERROR([10]INVERSION!$J$78,\"\")","v":0},{"$f":"IFERROR([10]INVERSION!$K$78,\"\")","v":0},{"$f":"IFERROR([10]INVERSION!$L$78,\"\")","v":0},{"$f":"IFERROR([10]INVERSION!$M$78,\"\")","v":0},{"$f":"IFERROR([10]INVERSION!$N$78,\"\")","v":0},{"$f":"IFERROR([10]INVERSION!$O$78,\"\")","v":0},{"$f":"IFERROR([10]INVERSION!$P$78,\"\")","v":0},{"$f":"IFERROR([10]INVERSION!$Q$78,\"\")","v":0},{"$f":"IFERROR([10]INVERSION!$R$78,\"\")","v":0},{"$f":"IFERROR([10]INVERSION!$S$78,\"\")","v":"00:00:00"},{"$f":"IFERROR([10]INVERSION!$T$78,\"\")","v":"00:00:00"},{"$f":"IFERROR([10]INVERSION!$U$78,\"\")","v":0},{"$f":"IFERROR([10]INVERSION!$V$78,\"\")","v":0},{"$f":"IFERROR([10]INVERSION!$W$78,\"\")","v":0},{"$f":"IFERROR([10]INVERSION!$X$78,\"\")","v":0},{"$f":"IFERROR([10]INVERSION!$Y$78,\"\")","v":0}]
[null,null,null,null,null,null,{"$f":"IFERROR([10]INVERSION!$G$79,\"\")","v":0},{"$f":"IFERROR([10]INVERSION!$H$79,\"\")","v":0},{"$f":"IFERROR([10]INVERSION!$I$79,\"\")","v":0},{"$f":"IFERROR([10]INVERSION!$J$79,\"\")","v":0},{"$f":"IFERROR([10]INVERSION!$K$79,\"\")","v":0},{"$f":"IFERROR([10]INVERSION!$L$79,\"\")","v":0},{"$f":"IFERROR([10]INVERSION!$M$79,\"\")","v":0},{"$f":"IFERROR([10]INVERSION!$N$79,\"\")","v":0},{"$f":"IFERROR([10]INVERSION!$O$79,\"\")","v":0},{"$f":"IFERROR([10]INVERSION!$P$79,\"\")","v":0},{"$f":"IFERROR([10]INVERSION!$Q$79,\"\")","v":0},{"$f":"IFERROR([10]INVERSION!$R$79,\"\")","v":0},{"$f":"IFERROR([10]INVERSION!$S$79,\"\")","v":"00:00:00"},{"$f":"IFERROR([10]INVERSION!$T$79,\"\")","v":"00:00:00"},{"$f":"IFERROR([10]INVERSION!$U$79,\"\")","v":0},{"$f":"IFERROR([10]INVERSION!$V$79,\"\")","v":0},{"$f":"IFERROR([10]INVERSION!$W$79,\"\")","v":0},{"$f":"IFERROR([10]INVERSION!$X$79,\"\")","v":0},{"$f":"IFERROR([10]INVERSION!$Y$79,\"\")","v":0}]
[null,null,null,null,null,null,{"$f":"IFERROR([10]INVERSION!$G$80,\"\")","v":0},{"$f":"IFERROR([10]INVERSION!$H$80,\"\")","v":0},{"$f":"IFERROR([10]INVERSION!$I$80,\"\")","v":0},{"$f":"IFERROR([10]INVERSION!$J$80,\"\")","v":0},{"$f":"IFERROR([10]INVERSION!$K$80,\"\")","v":0},{"$f":"IFERROR([10]INVERSION!$L$80,\"\")","v":0},{"$f":"IFERROR([10]INVERSION!$M$80,\"\")","v":0},{"$f":"IFERROR([10]INVERSION!$N$80,\"\")","v":0},{"$f":"IFERROR([10]INVERSION!$O$80,\"\")","v":0},{"$f":"IFERROR([10]INVERSION!$P$80,\"\")","v":0},{"$f":"IFERROR([10]INVERSION!$Q$80,\"\")","v":0},{"$f":"IFERROR([10]INVERSION!$R$80,\"\")","v":0},{"$f":"IFERROR([10]INVERSION!$S$80,\"\")","v":"00:00:00"},{"$f":"IFERROR([10]INVERSION!$T$80,\"\")","v":"00:00:00"},{"$f":"IFERROR([10]INVERSION!$U$80,\"\")","v":0},{"$f":"IFERROR([10]INVERSION!$V$80,\"\")","v":0},{"$f":"IFERROR([10]INVERSION!$W$80,\"\")","v":0},{"$f":"IFERROR([10]INVERSION!$X$80,\"\")","v":0},{"$f":"IFERROR([10]INVERSION!$Y$80,\"\")","v":0}]
[null,null,null,null,null,null,{"$f":"IFERROR([10]INVERSION!$G$81,\"\")","v":0},{"$f":"IFERROR([10]INVERSION!$H$81,\"\")","v":0},{"$f":"IFERROR([10]INVERSION!$I$81,\"\")","v":0},{"$f":"IFERROR([10]INVERSION!$J$81,\"\")","v":0},{"$f":"IFERROR([10]INVERSION!$K$81,\"\")","v":0},{"$f":"IFERROR([10]INVERSION!$L$81,\"\")","v":0},{"$f":"IFERROR([10]INVERSION!$M$81,\"\")","v":0},{"$f":"IFERROR([10]INVERSION!$N$81,\"\")","v":0},{"$f":"IFERROR([10]INVERSION!$O$81,\"\")","v":0},{"$f":"IFERROR([10]INVERSION!$P$81,\"\")","v":0},{"$f":"IFERROR([10]INVERSION!$Q$81,\"\")","v":0},{"$f":"IFERROR([10]INVERSION!$R$81,\"\")","v":0},{"$f":"IFERROR([10]INVERSION!$S$81,\"\")","v":"00:00:00"},{"$f":"IFERROR([10]INVERSION!$T$81,\"\")","v":"00:00:00"},{"$f":"IFERROR([10]INVERSION!$U$81,\"\")","v":0},{"$f":"IFERROR([10]INVERSION!$V$81,\"\")","v":0},{"$f":"IFERROR([10]INVERSION!$W$81,\"\")","v":0},{"$f":"IFERROR([10]INVERSION!$X$81,\"\")","v":0},{"$f":"IFERROR([10]INVERSION!$Y$81,\"\")","v":0}]
[null,null,null,null,null,null,{"$f":"IFERROR([10]INVERSION!$G$82,\"\")","v":0},{"$f":"IFERROR([10]INVERSION!$H$82,\"\")","v":0},{"$f":"IFERROR([10]INVERSION!$I$82,\"\")","v":0},{"$f":"IFERROR([10]INVERSION!$J$82,\"\")","v":0},{"$f":"IFERROR([10]INVERSION!$K$82,\"\")","v":0},{"$f":"IFERROR([10]INVERSION!$L$82,\"\")","v":0},{"$f":"IFERROR([10]INVERSION!$M$82,\"\")","v":0},{"$f":"IFERROR([10]INVERSION!$N$82,\"\")","v":0},{"$f":"IFERROR([10]INVERSION!$O$82,\"\")","v":0},{"$f":"IFERROR([10]INVERSION!$P$82,\"\")","v":0},{"$f":"IFERROR([10]INVERSION!$Q$82,\"\")","v":0},{"$f":"IFERROR([10]INVERSION!$R$82,\"\")","v":0},{"$f":"IFERROR([10]INVERSION!$S$82,\"\")","v":"00:00:00"},{"$f":"IFERROR([10]INVERSION!$T$82,\"\")","v":"00:00:00"},{"$f":"IFERROR([10]INVERSION!$U$82,\"\")","v":0},{"$f":"IFERROR([10]INVERSION!$V$82,\"\")","v":0},{"$f":"IFERROR([10]INVERSION!$W$82,\"\")","v":0},{"$f":"IFERROR([10]INVERSION!$X$82,\"\")","v":0},{"$f":"IFERROR([10]INVERSION!$Y$82,\"\")","v":0}]
[null,null,null,null,null,null,{"$f":"IFERROR([10]INVERSION!$G$83,\"\")","v":0},{"$f":"IFERROR([10]INVERSION!$H$83,\"\")","v":0},{"$f":"IFERROR([10]INVERSION!$I$83,\"\")","v":0},{"$f":"IFERROR([10]INVERSION!$J$83,\"\")","v":0},{"$f":"IFERROR([10]INVERSION!$K$83,\"\")","v":0},{"$f":"IFERROR([10]INVERSION!$L$83,\"\")","v":0},{"$f":"IFERROR([10]INVERSION!$M$83,\"\")","v":0},{"$f":"IFERROR([10]INVERSION!$N$83,\"\")","v":0},{"$f":"IFERROR([10]INVERSION!$O$83,\"\")","v":0},{"$f":"IFERROR([10]INVERSION!$P$83,\"\")","v":0},{"$f":"IFERROR([10]INVERSION!$Q$83,\"\")","v":0},{"$f":"IFERROR([10]INVERSION!$R$83,\"\")","v":0},{"$f":"IFERROR([10]INVERSION!$S$83,\"\")","v":"00:00:00"},{"$f":"IFERROR([10]INVERSION!$T$83,\"\")","v":"00:00:00"},{"$f":"IFERROR([10]INVERSION!$U$83,\"\")","v":0},{"$f":"IFERROR([10]INVERSION!$V$83,\"\")","v":0},{"$f":"IFERROR([10]INVERSION!$W$83,\"\")","v":0},{"$f":"IFERROR([10]INVERSION!$X$83,\"\")","v":0},{"$f":"IFERROR([10]INVERSION!$Y$83,\"\")","v":0},null,null,null,"","",null,0]
[null,null,null,null,null,null,{"$f":"IFERROR([10]INVERSION!$G$84,\"\")","v":0},{"$f":"IFERROR([10]INVERSION!$H$84,\"\")","v":0},{"$f":"IFERROR([10]INVERSION!$I$84,\"\")","v":0},{"$f":"IFERROR([10]INVERSION!$J$84,\"\")","v":0},{"$f":"IFERROR([10]INVERSION!$K$84,\"\")","v":0},{"$f":"IFERROR([10]INVERSION!$L$84,\"\")","v":0},{"$f":"IFERROR([10]INVERSION!$M$84,\"\")","v":0},{"$f":"IFERROR([10]INVERSION!$N$84,\"\")","v":0},{"$f":"IFERROR([10]INVERSION!$O$84,\"\")","v":0},{"$f":"IFERROR([10]INVERSION!$P$84,\"\")","v":0},{"$f":"IFERROR([10]INVERSION!$Q$84,\"\")","v":0},{"$f":"IFERROR([10]INVERSION!$R$84,\"\")","v":0},{"$f":"IFERROR([10]INVERSION!$S$84,\"\")","v":"00:00:00"},{"$f":"IFERROR([10]INVERSION!$T$84,\"\")","v":"00:00:00"},{"$f":"IFERROR([10]INVERSION!$U$84,\"\")","v":0},{"$f":"IFERROR([10]INVERSION!$V$84,\"\")","v":0},{"$f":"IFERROR([10]INVERSION!$W$84,\"\")","v":0},{"$f":"IFERROR([10]INVERSION!$X$84,\"\")","v":0},{"$f":"IFERROR([10]INVERSION!$Y$84,\"\")","v":0},null,null,null,"","",null,0]
[null,null,null,null,null,null,{"$f":"IFERROR([10]INVERSION!$G$85,\"\")","v":0},{"$f":"IFERROR([10]INVERSION!$H$85,\"\")","v":0},{"$f":"IFERROR([10]INVERSION!$I$85,\"\")","v":0},{"$f":"IFERROR([10]INVERSION!$J$85,\"\")","v":0},{"$f":"IFERROR([10]INVERSION!$K$85,\"\")","v":0},{"$f":"IFERROR([10]INVERSION!$L$85,\"\")","v":0},{"$f":"IFERROR([10]INVERSION!$M$85,\"\")","v":0},{"$f":"IFERROR([10]INVERSION!$N$85,\"\")","v":0},{"$f":"IFERROR([10]INVERSION!$O$85,\"\")","v":0},{"$f":"IFERROR([10]INVERSION!$P$85,\"\")","v":0},{"$f":"IFERROR([10]INVERSION!$Q$85,\"\")","v":0},{"$f":"IFERROR([10]INVERSION!$R$85,\"\")","v":0},{"$f":"IFERROR([10]INVERSION!$S$85,\"\")","v":"00:00:00"},{"$f":"IFERROR([10]INVERSION!$T$85,\"\")","v":"00:00:00"},{"$f":"IFERROR([10]INVERSION!$U$85,\"\")","v":0},{"$f":"IFERROR([10]INVERSION!$V$85,\"\")","v":0},{"$f":"IFERROR([10]INVERSION!$W$85,\"\")","v":0},{"$f":"IFERROR([10]INVERSION!$X$85,\"\")","v":0},{"$f":"IFERROR([10]INVERSION!$Y$85,\"\")","v":0},null,null,null,"","",null,0]
[null,null,"4.Consolidar la cultura y apropiación de la transformación digital en los servidores y usuarios de los servicios de la Rama Judicial y reducir brechas de acceso y conocimiento, incluyendo la oferta efectiva de información sobre el uso de las nuevas herramientas virtuales implementadas en las diferentes jurisdicciones, con especial énfasis en las zonas del país donde es evidente la brecha digital.","Cobertura de infraestructura y conectividad consolidada","# de sedes con infraestruct ura y conectivida d consolidada s/Número total de sedes",null,{"$f":"IFERROR([10]INVERSION!$G$86,\"\")","v":0},{"$f":"IFERROR([10]INVERSION!$H$86,\"\")","v":0},{"$f":"IFERROR([10]INVERSION!$I$86,\"\")","v":0},{"$f":"IFERROR([10]INVERSION!$J$86,\"\")","v":0},{"$f":"IFERROR([10]INVERSION!$K$86,\"\")","v":0},{"$f":"IFERROR([10]INVERSION!$L$86,\"\")","v":0},{"$f":"IFERROR([10]INVERSION!$M$86,\"\")","v":0},{"$f":"IFERROR([10]INVERSION!$N$86,\"\")","v":0},{"$f":"IFERROR([10]INVERSION!$O$86,\"\")","v":0},{"$f":"IFERROR([10]INVERSION!$P$86,\"\")","v":0},{"$f":"IFERROR([10]INVERSION!$Q$86,\"\")","v":0},{"$f":"IFERROR([10]INVERSION!$R$86,\"\")","v":0},{"$f":"IFERROR([10]INVERSION!$S$86,\"\")","v":"00:00:00"},{"$f":"IFERROR([10]INVERSION!$T$86,\"\")","v":"00:00:00"},{"$f":"IFERROR([10]INVERSION!$U$86,\"\")","v":0},{"$f":"IFERROR([10]INVERSION!$V$86,\"\")","v":0},{"$f":"IFERROR([10]INVERSION!$W$86,\"\")","v":0},{"$f":"IFERROR([10]INVERSION!$X$86,\"\")","v":0},{"$f":"IFERROR([10]INVERSION!$Y$86,\"\")","v":0},null,null,null,"","",null,0]
[null,null,null,null,null,null,{"$f":"IFERROR([10]INVERSION!$G$87,\"\")","v":0},{"$f":"IFERROR([10]INVERSION!$H$87,\"\")","v":0},{"$f":"IFERROR([10]INVERSION!$I$87,\"\")","v":0},{"$f":"IFERROR([10]INVERSION!$J$87,\"\")","v":0},{"$f":"IFERROR([10]INVERSION!$K$87,\"\")","v":0},{"$f":"IFERROR([10]INVERSION!$L$87,\"\")","v":0},{"$f":"IFERROR([10]INVERSION!$M$87,\"\")","v":0},{"$f":"IFERROR([10]INVERSION!$N$87,\"\")","v":0},{"$f":"IFERROR([10]INVERSION!$O$87,\"\")","v":0},{"$f":"IFERROR([10]INVERSION!$P$87,\"\")","v":0},{"$f":"IFERROR([10]INVERSION!$Q$87,\"\")","v":0},{"$f":"IFERROR([10]INVERSION!$R$87,\"\")","v":0},{"$f":"IFERROR([10]INVERSION!$S$87,\"\")","v":"00:00:00"},{"$f":"IFERROR([10]INVERSION!$T$87,\"\")","v":"00:00:00"},{"$f":"IFERROR([10]INVERSION!$U$87,\"\")","v":0},{"$f":"IFERROR([10]INVERSION!$V$87,\"\")","v":0},{"$f":"IFERROR([10]INVERSION!$W$87,\"\")","v":0},{"$f":"IFERROR([10]INVERSION!$X$87,\"\")","v":0},{"$f":"IFERROR([10]INVERSION!$Y$87,\"\")","v":0},null,null,null,"","",null,0]
[null,null,null,null,null,null,{"$f":"IFERROR([10]INVERSION!$G$88,\"\")","v":0},{"$f":"IFERROR([10]INVERSION!$H$88,\"\")","v":0},{"$f":"IFERROR([10]INVERSION!$I$88,\"\")","v":0},{"$f":"IFERROR([10]INVERSION!$J$88,\"\")","v":0},{"$f":"IFERROR([10]INVERSION!$K$88,\"\")","v":0},{"$f":"IFERROR([10]INVERSION!$L$88,\"\")","v":0},{"$f":"IFERROR([10]INVERSION!$M$88,\"\")","v":0},{"$f":"IFERROR([10]INVERSION!$N$88,\"\")","v":0},{"$f":"IFERROR([10]INVERSION!$O$88,\"\")","v":0},{"$f":"IFERROR([10]INVERSION!$P$88,\"\")","v":0},{"$f":"IFERROR([10]INVERSION!$Q$88,\"\")","v":0},{"$f":"IFERROR([10]INVERSION!$R$88,\"\")","v":0},{"$f":"IFERROR([10]INVERSION!$S$88,\"\")","v":"00:00:00"},{"$f":"IFERROR([10]INVERSION!$T$88,\"\")","v":"00:00:00"},{"$f":"IFERROR([10]INVERSION!$U$88,\"\")","v":0},{"$f":"IFERROR([10]INVERSION!$V$88,\"\")","v":0},{"$f":"IFERROR([10]INVERSION!$W$88,\"\")","v":0},{"$f":"IFERROR([10]INVERSION!$X$88,\"\")","v":0},{"$f":"IFERROR([10]INVERSION!$Y$88,\"\")","v":0}]
[null,null,null,null,null,null,{"$f":"IFERROR([10]INVERSION!$G$89,\"\")","v":0},{"$f":"IFERROR([10]INVERSION!$H$89,\"\")","v":0},{"$f":"IFERROR([10]INVERSION!$I$89,\"\")","v":0},{"$f":"IFERROR([10]INVERSION!$J$89,\"\")","v":0},{"$f":"IFERROR([10]INVERSION!$K$89,\"\")","v":0},{"$f":"IFERROR([10]INVERSION!$L$89,\"\")","v":0},{"$f":"IFERROR([10]INVERSION!$M$89,\"\")","v":0},{"$f":"IFERROR([10]INVERSION!$N$89,\"\")","v":0},{"$f":"IFERROR([10]INVERSION!$O$89,\"\")","v":0},{"$f":"IFERROR([10]INVERSION!$P$89,\"\")","v":0},{"$f":"IFERROR([10]INVERSION!$Q$89,\"\")","v":0},{"$f":"IFERROR([10]INVERSION!$R$89,\"\")","v":0},{"$f":"IFERROR([10]INVERSION!$S$89,\"\")","v":"00:00:00"},{"$f":"IFERROR([10]INVERSION!$T$89,\"\")","v":"00:00:00"},{"$f":"IFERROR([10]INVERSION!$U$89,\"\")","v":0},{"$f":"IFERROR([10]INVERSION!$V$89,\"\")","v":0},{"$f":"IFERROR([10]INVERSION!$W$89,\"\")","v":0},{"$f":"IFERROR([10]INVERSION!$X$89,\"\")","v":0},{"$f":"IFERROR([10]INVERSION!$Y$89,\"\")","v":0}]
[null,null,null,null,null,null,{"$f":"IFERROR([10]INVERSION!$G$90,\"\")","v":0},{"$f":"IFERROR([10]INVERSION!$H$90,\"\")","v":0},{"$f":"IFERROR([10]INVERSION!$I$90,\"\")","v":0},{"$f":"IFERROR([10]INVERSION!$J$90,\"\")","v":0},{"$f":"IFERROR([10]INVERSION!$K$90,\"\")","v":0},{"$f":"IFERROR([10]INVERSION!$L$90,\"\")","v":0},{"$f":"IFERROR([10]INVERSION!$M$90,\"\")","v":0},{"$f":"IFERROR([10]INVERSION!$N$90,\"\")","v":0},{"$f":"IFERROR([10]INVERSION!$O$90,\"\")","v":0},{"$f":"IFERROR([10]INVERSION!$P$90,\"\")","v":0},{"$f":"IFERROR([10]INVERSION!$Q$90,\"\")","v":0},{"$f":"IFERROR([10]INVERSION!$R$90,\"\")","v":0},{"$f":"IFERROR([10]INVERSION!$S$90,\"\")","v":"00:00:00"},{"$f":"IFERROR([10]INVERSION!$T$90,\"\")","v":"00:00:00"},{"$f":"IFERROR([10]INVERSION!$U$90,\"\")","v":0},{"$f":"IFERROR([10]INVERSION!$V$90,\"\")","v":0},{"$f":"IFERROR([10]INVERSION!$W$90,\"\")","v":0},{"$f":"IFERROR([10]INVERSION!$X$90,\"\")","v":0},{"$f":"IFERROR([10]INVERSION!$Y$90,\"\")","v":0}]
[null,null,null,null,null,null,{"$f":"IFERROR([10]INVERSION!$G$91,\"\")","v":0},{"$f":"IFERROR([10]INVERSION!$H$91,\"\")","v":0},{"$f":"IFERROR([10]INVERSION!$I$91,\"\")","v":0},{"$f":"IFERROR([10]INVERSION!$J$91,\"\")","v":0},{"$f":"IFERROR([10]INVERSION!$K$91,\"\")","v":0},{"$f":"IFERROR([10]INVERSION!$L$91,\"\")","v":0},{"$f":"IFERROR([10]INVERSION!$M$91,\"\")","v":0},{"$f":"IFERROR([10]INVERSION!$N$91,\"\")","v":0},{"$f":"IFERROR([10]INVERSION!$O$91,\"\")","v":0},{"$f":"IFERROR([10]INVERSION!$P$91,\"\")","v":0},{"$f":"IFERROR([10]INVERSION!$Q$91,\"\")","v":0},{"$f":"IFERROR([10]INVERSION!$R$91,\"\")","v":0},{"$f":"IFERROR([10]INVERSION!$S$91,\"\")","v":"00:00:00"},{"$f":"IFERROR([10]INVERSION!$T$91,\"\")","v":"00:00:00"},{"$f":"IFERROR([10]INVERSION!$U$91,\"\")","v":0},{"$f":"IFERROR([10]INVERSION!$V$91,\"\")","v":0},{"$f":"IFERROR([10]INVERSION!$W$91,\"\")","v":0},{"$f":"IFERROR([10]INVERSION!$X$91,\"\")","v":0},{"$f":"IFERROR([10]INVERSION!$Y$91,\"\")","v":0}]
[null,null,null,null,null,null,{"$f":"IFERROR([10]INVERSION!$G$92,\"\")","v":0},{"$f":"IFERROR([10]INVERSION!$H$92,\"\")","v":0},{"$f":"IFERROR([10]INVERSION!$I$92,\"\")","v":0},{"$f":"IFERROR([10]INVERSION!$J$92,\"\")","v":0},{"$f":"IFERROR([10]INVERSION!$K$92,\"\")","v":0},{"$f":"IFERROR([10]INVERSION!$L$92,\"\")","v":0},{"$f":"IFERROR([10]INVERSION!$M$92,\"\")","v":0},{"$f":"IFERROR([10]INVERSION!$N$92,\"\")","v":0},{"$f":"IFERROR([10]INVERSION!$O$92,\"\")","v":0},{"$f":"IFERROR([10]INVERSION!$P$92,\"\")","v":0},{"$f":"IFERROR([10]INVERSION!$Q$92,\"\")","v":0},{"$f":"IFERROR([10]INVERSION!$R$92,\"\")","v":0},{"$f":"IFERROR([10]INVERSION!$S$92,\"\")","v":"00:00:00"},{"$f":"IFERROR([10]INVERSION!$T$92,\"\")","v":"00:00:00"},{"$f":"IFERROR([10]INVERSION!$U$92,\"\")","v":0},{"$f":"IFERROR([10]INVERSION!$V$92,\"\")","v":0},{"$f":"IFERROR([10]INVERSION!$W$92,\"\")","v":0},{"$f":"IFERROR([10]INVERSION!$X$92,\"\")","v":0},{"$f":"IFERROR([10]INVERSION!$Y$92,\"\")","v":0}]
[null,null,null,null,null,null,{"$f":"IFERROR([10]INVERSION!$G$93,\"\")","v":0},{"$f":"IFERROR([10]INVERSION!$H$93,\"\")","v":0},{"$f":"IFERROR([10]INVERSION!$I$93,\"\")","v":0},{"$f":"IFERROR([10]INVERSION!$J$93,\"\")","v":0},{"$f":"IFERROR([10]INVERSION!$K$93,\"\")","v":0},{"$f":"IFERROR([10]INVERSION!$L$93,\"\")","v":0},{"$f":"IFERROR([10]INVERSION!$M$93,\"\")","v":0},{"$f":"IFERROR([10]INVERSION!$N$93,\"\")","v":0},{"$f":"IFERROR([10]INVERSION!$O$93,\"\")","v":0},{"$f":"IFERROR([10]INVERSION!$P$93,\"\")","v":0},{"$f":"IFERROR([10]INVERSION!$Q$93,\"\")","v":0},{"$f":"IFERROR([10]INVERSION!$R$93,\"\")","v":0},{"$f":"IFERROR([10]INVERSION!$S$93,\"\")","v":"00:00:00"},{"$f":"IFERROR([10]INVERSION!$T$93,\"\")","v":"00:00:00"},{"$f":"IFERROR([10]INVERSION!$U$93,\"\")","v":0},{"$f":"IFERROR([10]INVERSION!$V$93,\"\")","v":0},{"$f":"IFERROR([10]INVERSION!$W$93,\"\")","v":0},{"$f":"IFERROR([10]INVERSION!$X$93,\"\")","v":0},{"$f":"IFERROR([10]INVERSION!$Y$93,\"\")","v":0},null,null,null,"","",null,0]
[null,null,null,null,null,null,{"$f":"IFERROR([10]INVERSION!$G$94,\"\")","v":0},{"$f":"IFERROR([10]INVERSION!$H$94,\"\")","v":0},{"$f":"IFERROR([10]INVERSION!$I$94,\"\")","v":0},{"$f":"IFERROR([10]INVERSION!$J$94,\"\")","v":0},{"$f":"IFERROR([10]INVERSION!$K$94,\"\")","v":0},{"$f":"IFERROR([10]INVERSION!$L$94,\"\")","v":0},{"$f":"IFERROR([10]INVERSION!$M$94,\"\")","v":0},{"$f":"IFERROR([10]INVERSION!$N$94,\"\")","v":0},{"$f":"IFERROR([10]INVERSION!$O$94,\"\")","v":0},{"$f":"IFERROR([10]INVERSION!$P$94,\"\")","v":0},{"$f":"IFERROR([10]INVERSION!$Q$94,\"\")","v":0},{"$f":"IFERROR([10]INVERSION!$R$94,\"\")","v":0},{"$f":"IFERROR([10]INVERSION!$S$94,\"\")","v":"00:00:00"},{"$f":"IFERROR([10]INVERSION!$T$94,\"\")","v":"00:00:00"},{"$f":"IFERROR([10]INVERSION!$U$94,\"\")","v":0},{"$f":"IFERROR([10]INVERSION!$V$94,\"\")","v":0},{"$f":"IFERROR([10]INVERSION!$W$94,\"\")","v":0},{"$f":"IFERROR([10]INVERSION!$X$94,\"\")","v":0},{"$f":"IFERROR([10]INVERSION!$Y$94,\"\")","v":0},null,null,null,"","",null,0]
[null,null,null,null,null,null,{"$f":"IFERROR([10]INVERSION!$G$95,\"\")","v":0},{"$f":"IFERROR([10]INVERSION!$H$95,\"\")","v":0},{"$f":"IFERROR([10]INVERSION!$I$95,\"\")","v":0},{"$f":"IFERROR([10]INVERSION!$J$95,\"\")","v":0},{"$f":"IFERROR([10]INVERSION!$K$95,\"\")","v":0},{"$f":"IFERROR([10]INVERSION!$L$95,\"\")","v":0},{"$f":"IFERROR([10]INVERSION!$M$95,\"\")","v":0},{"$f":"IFERROR([10]INVERSION!$N$95,\"\")","v":0},{"$f":"IFERROR([10]INVERSION!$O$95,\"\")","v":0},{"$f":"IFERROR([10]INVERSION!$P$95,\"\")","v":0},{"$f":"IFERROR([10]INVERSION!$Q$95,\"\")","v":0},{"$f":"IFERROR([10]INVERSION!$R$95,\"\")","v":0},{"$f":"IFERROR([10]INVERSION!$S$95,\"\")","v":"00:00:00"},{"$f":"IFERROR([10]INVERSION!$T$95,\"\")","v":"00:00:00"},{"$f":"IFERROR([10]INVERSION!$U$95,\"\")","v":0},{"$f":"IFERROR([10]INVERSION!$V$95,\"\")","v":0},{"$f":"IFERROR([10]INVERSION!$W$95,\"\")","v":0},{"$f":"IFERROR([10]INVERSION!$X$95,\"\")","v":0},{"$f":"IFERROR([10]INVERSION!$Y$95,\"\")","v":0},null,null,null,"","",null,0]
[null,null,"5.Consolidar la infraestructura y los recursos necesarios para la implementación exitosa de la transformación digital, incluyendo la disposición de internet de calidad en el 100% de las sedes en la Rama Judicial y modernizar los servicios tecnológicos de soporte. ","Implementación del programa de gestión del cambio y las comunicaciones del PETD","# de actividades del objetivo \"aumentar el conocimient o digital y el uso de apropiación de los sistemas\" del programa de gestión del cambio y las comunicaci ones del PETD cumplidas /# de actividades del objetivo \"aumentar el conocimient o digital y el uso de apropiación de los sistemas\" del programa de gestión del cambio y las comunicaci ones del PETD programada s",null,{"$f":"IFERROR([10]INVERSION!$G$96,\"\")","v":0},{"$f":"IFERROR([10]INVERSION!$H$96,\"\")","v":0},{"$f":"IFERROR([10]INVERSION!$I$96,\"\")","v":0},{"$f":"IFERROR([10]INVERSION!$J$96,\"\")","v":0},{"$f":"IFERROR([10]INVERSION!$K$96,\"\")","v":0},{"$f":"IFERROR([10]INVERSION!$L$96,\"\")","v":0},{"$f":"IFERROR([10]INVERSION!$M$96,\"\")","v":0},{"$f":"IFERROR([10]INVERSION!$N$96,\"\")","v":0},{"$f":"IFERROR([10]INVERSION!$O$96,\"\")","v":0},{"$f":"IFERROR([10]INVERSION!$P$96,\"\")","v":0},{"$f":"IFERROR([10]INVERSION!$Q$96,\"\")","v":0},{"$f":"IFERROR([10]INVERSION!$R$96,\"\")","v":0},{"$f":"IFERROR([10]INVERSION!$S$96,\"\")","v":"00:00:00"},{"$f":"IFERROR([10]INVERSION!$T$96,\"\")","v":"00:00:00"},{"$f":"IFERROR([10]INVERSION!$U$96,\"\")","v":0},{"$f":"IFERROR([10]INVERSION!$V$96,\"\")","v":0},{"$f":"IFERROR([10]INVERSION!$W$96,\"\")","v":0},{"$f":"IFERROR([10]INVERSION!$X$96,\"\")","v":0},{"$f":"IFERROR([10]INVERSION!$Y$96,\"\")","v":0},null,null,null,"","",null,0]
[null,null,null,null,null,null,{"$f":"IFERROR([10]INVERSION!$G$97,\"\")","v":0},{"$f":"IFERROR([10]INVERSION!$H$97,\"\")","v":0},{"$f":"IFERROR([10]INVERSION!$I$97,\"\")","v":0},{"$f":"IFERROR([10]INVERSION!$J$97,\"\")","v":0},{"$f":"IFERROR([10]INVERSION!$K$97,\"\")","v":0},{"$f":"IFERROR([10]INVERSION!$L$97,\"\")","v":0},{"$f":"IFERROR([10]INVERSION!$M$97,\"\")","v":0},{"$f":"IFERROR([10]INVERSION!$N$97,\"\")","v":0},{"$f":"IFERROR([10]INVERSION!$O$97,\"\")","v":0},{"$f":"IFERROR([10]INVERSION!$P$97,\"\")","v":0},{"$f":"IFERROR([10]INVERSION!$Q$97,\"\")","v":0},{"$f":"IFERROR([10]INVERSION!$R$97,\"\")","v":0},{"$f":"IFERROR([10]INVERSION!$S$97,\"\")","v":"00:00:00"},{"$f":"IFERROR([10]INVERSION!$T$97,\"\")","v":"00:00:00"},{"$f":"IFERROR([10]INVERSION!$U$97,\"\")","v":0},{"$f":"IFERROR([10]INVERSION!$V$97,\"\")","v":0},{"$f":"IFERROR([10]INVERSION!$W$97,\"\")","v":0},{"$f":"IFERROR([10]INVERSION!$X$97,\"\")","v":0},{"$f":"IFERROR([10]INVERSION!$Y$97,\"\")","v":0},null,null,null,"","",null,0]
[null,null,null,null,null,null,{"$f":"IFERROR([10]INVERSION!$G$98,\"\")","v":0},{"$f":"IFERROR([10]INVERSION!$H$98,\"\")","v":0},{"$f":"IFERROR([10]INVERSION!$I$98,\"\")","v":0},{"$f":"IFERROR([10]INVERSION!$J$98,\"\")","v":0},{"$f":"IFERROR([10]INVERSION!$K$98,\"\")","v":0},{"$f":"IFERROR([10]INVERSION!$L$98,\"\")","v":0},{"$f":"IFERROR([10]INVERSION!$M$98,\"\")","v":0},{"$f":"IFERROR([10]INVERSION!$N$98,\"\")","v":0},{"$f":"IFERROR([10]INVERSION!$O$98,\"\")","v":0},{"$f":"IFERROR([10]INVERSION!$P$98,\"\")","v":0},{"$f":"IFERROR([10]INVERSION!$Q$98,\"\")","v":0},{"$f":"IFERROR([10]INVERSION!$R$98,\"\")","v":0},{"$f":"IFERROR([10]INVERSION!$S$98,\"\")","v":"00:00:00"},{"$f":"IFERROR([10]INVERSION!$T$98,\"\")","v":"00:00:00"},{"$f":"IFERROR([10]INVERSION!$U$98,\"\")","v":0},{"$f":"IFERROR([10]INVERSION!$V$98,\"\")","v":0},{"$f":"IFERROR([10]INVERSION!$W$98,\"\")","v":0},{"$f":"IFERROR([10]INVERSION!$X$98,\"\")","v":0},{"$f":"IFERROR([10]INVERSION!$Y$98,\"\")","v":0}]
[null,null,null,null,null,null,{"$f":"IFERROR([10]INVERSION!$G$99,\"\")","v":0},{"$f":"IFERROR([10]INVERSION!$H$99,\"\")","v":0},{"$f":"IFERROR([10]INVERSION!$I$99,\"\")","v":0},{"$f":"IFERROR([10]INVERSION!$J$99,\"\")","v":0},{"$f":"IFERROR([10]INVERSION!$K$99,\"\")","v":0},{"$f":"IFERROR([10]INVERSION!$L$99,\"\")","v":0},{"$f":"IFERROR([10]INVERSION!$M$99,\"\")","v":0},{"$f":"IFERROR([10]INVERSION!$N$99,\"\")","v":0},{"$f":"IFERROR([10]INVERSION!$O$99,\"\")","v":0},{"$f":"IFERROR([10]INVERSION!$P$99,\"\")","v":0},{"$f":"IFERROR([10]INVERSION!$Q$99,\"\")","v":0},{"$f":"IFERROR([10]INVERSION!$R$99,\"\")","v":0},{"$f":"IFERROR([10]INVERSION!$S$99,\"\")","v":"00:00:00"},{"$f":"IFERROR([10]INVERSION!$T$99,\"\")","v":"00:00:00"},{"$f":"IFERROR([10]INVERSION!$U$99,\"\")","v":0},{"$f":"IFERROR([10]INVERSION!$V$99,\"\")","v":0},{"$f":"IFERROR([10]INVERSION!$W$99,\"\")","v":0},{"$f":"IFERROR([10]INVERSION!$X$99,\"\")","v":0},{"$f":"IFERROR([10]INVERSION!$Y$99,\"\")","v":0}]
[null,null,null,null,null,null,{"$f":"IFERROR([10]INVERSION!$G$100,\"\")","v":0},{"$f":"IFERROR([10]INVERSION!$H$100,\"\")","v":0},{"$f":"IFERROR([10]INVERSION!$I$100,\"\")","v":0},{"$f":"IFERROR([10]INVERSION!$J$100,\"\")","v":0},{"$f":"IFERROR([10]INVERSION!$K$100,\"\")","v":0},{"$f":"IFERROR([10]INVERSION!$L$100,\"\")","v":0},{"$f":"IFERROR([10]INVERSION!$M$100,\"\")","v":0},{"$f":"IFERROR([10]INVERSION!$N$100,\"\")","v":0},{"$f":"IFERROR([10]INVERSION!$O$100,\"\")","v":0},{"$f":"IFERROR([10]INVERSION!$P$100,\"\")","v":0},{"$f":"IFERROR([10]INVERSION!$Q$100,\"\")","v":0},{"$f":"IFERROR([10]INVERSION!$R$100,\"\")","v":0},{"$f":"IFERROR([10]INVERSION!$S$100,\"\")","v":"00:00:00"},{"$f":"IFERROR([10]INVERSION!$T$100,\"\")","v":"00:00:00"},{"$f":"IFERROR([10]INVERSION!$U$100,\"\")","v":0},{"$f":"IFERROR([10]INVERSION!$V$100,\"\")","v":0},{"$f":"IFERROR([10]INVERSION!$W$100,\"\")","v":0},{"$f":"IFERROR([10]INVERSION!$X$100,\"\")","v":0},{"$f":"IFERROR([10]INVERSION!$Y$100,\"\")","v":0}]
[null,null,null,null,null,null,{"$f":"IFERROR([10]INVERSION!$G$101,\"\")","v":0},{"$f":"IFERROR([10]INVERSION!$H$101,\"\")","v":0},{"$f":"IFERROR([10]INVERSION!$I$101,\"\")","v":0},{"$f":"IFERROR([10]INVERSION!$J$101,\"\")","v":0},{"$f":"IFERROR([10]INVERSION!$K$101,\"\")","v":0},{"$f":"IFERROR([10]INVERSION!$L$101,\"\")","v":0},{"$f":"IFERROR([10]INVERSION!$M$101,\"\")","v":0},{"$f":"IFERROR([10]INVERSION!$N$101,\"\")","v":0},{"$f":"IFERROR([10]INVERSION!$O$101,\"\")","v":0},{"$f":"IFERROR([10]INVERSION!$P$101,\"\")","v":0},{"$f":"IFERROR([10]INVERSION!$Q$101,\"\")","v":0},{"$f":"IFERROR([10]INVERSION!$R$101,\"\")","v":0},{"$f":"IFERROR([10]INVERSION!$S$101,\"\")","v":"00:00:00"},{"$f":"IFERROR([10]INVERSION!$T$101,\"\")","v":"00:00:00"},{"$f":"IFERROR([10]INVERSION!$U$101,\"\")","v":0},{"$f":"IFERROR([10]INVERSION!$V$101,\"\")","v":0},{"$f":"IFERROR([10]INVERSION!$W$101,\"\")","v":0},{"$f":"IFERROR([10]INVERSION!$X$101,\"\")","v":0},{"$f":"IFERROR([10]INVERSION!$Y$101,\"\")","v":0}]
[null,null,null,null,null,null,{"$f":"IFERROR([10]INVERSION!$G$102,\"\")","v":0},{"$f":"IFERROR([10]INVERSION!$H$102,\"\")","v":0},{"$f":"IFERROR([10]INVERSION!$I$102,\"\")","v":0},{"$f":"IFERROR([10]INVERSION!$J$102,\"\")","v":0},{"$f":"IFERROR([10]INVERSION!$K$102,\"\")","v":0},{"$f":"IFERROR([10]INVERSION!$L$102,\"\")","v":0},{"$f":"IFERROR([10]INVERSION!$M$102,\"\")","v":0},{"$f":"IFERROR([10]INVERSION!$N$102,\"\")","v":0},{"$f":"IFERROR([10]INVERSION!$O$102,\"\")","v":0},{"$f":"IFERROR([10]INVERSION!$P$102,\"\")","v":0},{"$f":"IFERROR([10]INVERSION!$Q$102,\"\")","v":0},{"$f":"IFERROR([10]INVERSION!$R$102,\"\")","v":0},{"$f":"IFERROR([10]INVERSION!$S$102,\"\")","v":"00:00:00"},{"$f":"IFERROR([10]INVERSION!$T$102,\"\")","v":"00:00:00"},{"$f":"IFERROR([10]INVERSION!$U$102,\"\")","v":0},{"$f":"IFERROR([10]INVERSION!$V$102,\"\")","v":0},{"$f":"IFERROR([10]INVERSION!$W$102,\"\")","v":0},{"$f":"IFERROR([10]INVERSION!$X$102,\"\")","v":0},{"$f":"IFERROR([10]INVERSION!$Y$102,\"\")","v":0}]
[null,null,null,null,null,null,{"$f":"IFERROR([10]INVERSION!$G$103,\"\")","v":0},{"$f":"IFERROR([10]INVERSION!$H$103,\"\")","v":0},{"$f":"IFERROR([10]INVERSION!$I$103,\"\")","v":0},{"$f":"IFERROR([10]INVERSION!$J$103,\"\")","v":0},{"$f":"IFERROR([10]INVERSION!$K$103,\"\")","v":0},{"$f":"IFERROR([10]INVERSION!$L$103,\"\")","v":0},{"$f":"IFERROR([10]INVERSION!$M$103,\"\")","v":0},{"$f":"IFERROR([10]INVERSION!$N$103,\"\")","v":0},{"$f":"IFERROR([10]INVERSION!$O$103,\"\")","v":0},{"$f":"IFERROR([10]INVERSION!$P$103,\"\")","v":0},{"$f":"IFERROR([10]INVERSION!$Q$103,\"\")","v":0},{"$f":"IFERROR([10]INVERSION!$R$103,\"\")","v":0},{"$f":"IFERROR([10]INVERSION!$S$103,\"\")","v":"00:00:00"},{"$f":"IFERROR([10]INVERSION!$T$103,\"\")","v":"00:00:00"},{"$f":"IFERROR([10]INVERSION!$U$103,\"\")","v":0},{"$f":"IFERROR([10]INVERSION!$V$103,\"\")","v":0},{"$f":"IFERROR([10]INVERSION!$W$103,\"\")","v":0},{"$f":"IFERROR([10]INVERSION!$X$103,\"\")","v":0},{"$f":"IFERROR([10]INVERSION!$Y$103,\"\")","v":0},null,null,null,"","",null,0]
[null,null,null,null,null,null,{"$f":"IFERROR([10]INVERSION!$G$104,\"\")","v":0},{"$f":"IFERROR([10]INVERSION!$H$104,\"\")","v":0},{"$f":"IFERROR([10]INVERSION!$I$104,\"\")","v":0},{"$f":"IFERROR([10]INVERSION!$J$104,\"\")","v":0},{"$f":"IFERROR([10]INVERSION!$K$104,\"\")","v":0},{"$f":"IFERROR([10]INVERSION!$L$104,\"\")","v":0},{"$f":"IFERROR([10]INVERSION!$M$104,\"\")","v":0},{"$f":"IFERROR([10]INVERSION!$N$104,\"\")","v":0},{"$f":"IFERROR([10]INVERSION!$O$104,\"\")","v":0},{"$f":"IFERROR([10]INVERSION!$P$104,\"\")","v":0},{"$f":"IFERROR([10]INVERSION!$Q$104,\"\")","v":0},{"$f":"IFERROR([10]INVERSION!$R$104,\"\")","v":0},{"$f":"IFERROR([10]INVERSION!$S$104,\"\")","v":"00:00:00"},{"$f":"IFERROR([10]INVERSION!$T$104,\"\")","v":"00:00:00"},{"$f":"IFERROR([10]INVERSION!$U$104,\"\")","v":0},{"$f":"IFERROR([10]INVERSION!$V$104,\"\")","v":0},{"$f":"IFERROR([10]INVERSION!$W$104,\"\")","v":0},{"$f":"IFERROR([10]INVERSION!$X$104,\"\")","v":0},{"$f":"IFERROR([10]INVERSION!$Y$104,\"\")","v":0},null,null,null,"","",null,0]
[null,null,null,null,null,null,{"$f":"IFERROR([10]INVERSION!$G$105,\"\")","v":0},{"$f":"IFERROR([10]INVERSION!$H$105,\"\")","v":0},{"$f":"IFERROR([10]INVERSION!$I$105,\"\")","v":0},{"$f":"IFERROR([10]INVERSION!$J$105,\"\")","v":0},{"$f":"IFERROR([10]INVERSION!$K$105,\"\")","v":0},{"$f":"IFERROR([10]INVERSION!$L$105,\"\")","v":0},{"$f":"IFERROR([10]INVERSION!$M$105,\"\")","v":0},{"$f":"IFERROR([10]INVERSION!$N$105,\"\")","v":0},{"$f":"IFERROR([10]INVERSION!$O$105,\"\")","v":0},{"$f":"IFERROR([10]INVERSION!$P$105,\"\")","v":0},{"$f":"IFERROR([10]INVERSION!$Q$105,\"\")","v":0},{"$f":"IFERROR([10]INVERSION!$R$105,\"\")","v":0},{"$f":"IFERROR([10]INVERSION!$S$105,\"\")","v":"00:00:00"},{"$f":"IFERROR([10]INVERSION!$T$105,\"\")","v":"00:00:00"},{"$f":"IFERROR([10]INVERSION!$U$105,\"\")","v":0},{"$f":"IFERROR([10]INVERSION!$V$105,\"\")","v":0},{"$f":"IFERROR([10]INVERSION!$W$105,\"\")","v":0},{"$f":"IFERROR([10]INVERSION!$X$105,\"\")","v":0},{"$f":"IFERROR([10]INVERSION!$Y$105,\"\")","v":0},null,null,null,"","",null,0]
[null,null,"6.Integrar y optimizar los servicios administrativos de la Rama Judicial bajo un enfoque de transformación digital e innovación incluyendo los componentes financiero, administrativo, talento humano, entre otros.",null,null,null,{"$f":"IFERROR([10]INVERSION!$G$106,\"\")","v":0},{"$f":"IFERROR([10]INVERSION!$H$106,\"\")","v":0},{"$f":"IFERROR([10]INVERSION!$I$106,\"\")","v":0},{"$f":"IFERROR([10]INVERSION!$J$106,\"\")","v":0},{"$f":"IFERROR([10]INVERSION!$K$106,\"\")","v":0},{"$f":"IFERROR([10]INVERSION!$L$106,\"\")","v":0},{"$f":"IFERROR([10]INVERSION!$M$106,\"\")","v":0},{"$f":"IFERROR([10]INVERSION!$N$106,\"\")","v":0},{"$f":"IFERROR([10]INVERSION!$O$106,\"\")","v":0},{"$f":"IFERROR([10]INVERSION!$P$106,\"\")","v":0},{"$f":"IFERROR([10]INVERSION!$Q$106,\"\")","v":0},{"$f":"IFERROR([10]INVERSION!$R$106,\"\")","v":0},{"$f":"IFERROR([10]INVERSION!$S$106,\"\")","v":"00:00:00"},{"$f":"IFERROR([10]INVERSION!$T$106,\"\")","v":"00:00:00"},{"$f":"IFERROR([10]INVERSION!$U$106,\"\")","v":0},{"$f":"IFERROR([10]INVERSION!$V$106,\"\")","v":0},{"$f":"IFERROR([10]INVERSION!$W$106,\"\")","v":0},{"$f":"IFERROR([10]INVERSION!$X$106,\"\")","v":0},{"$f":"IFERROR([10]INVERSION!$Y$106,\"\")","v":0},null,null,null,"","",null,0]
[null,null,null,null,null,null,{"$f":"IFERROR([10]INVERSION!$G$107,\"\")","v":0},{"$f":"IFERROR([10]INVERSION!$H$107,\"\")","v":0},{"$f":"IFERROR([10]INVERSION!$I$107,\"\")","v":0},{"$f":"IFERROR([10]INVERSION!$J$107,\"\")","v":0},{"$f":"IFERROR([10]INVERSION!$K$107,\"\")","v":0},{"$f":"IFERROR([10]INVERSION!$L$107,\"\")","v":0},{"$f":"IFERROR([10]INVERSION!$M$107,\"\")","v":0},{"$f":"IFERROR([10]INVERSION!$N$107,\"\")","v":0},{"$f":"IFERROR([10]INVERSION!$O$107,\"\")","v":0},{"$f":"IFERROR([10]INVERSION!$P$107,\"\")","v":0},{"$f":"IFERROR([10]INVERSION!$Q$107,\"\")","v":0},{"$f":"IFERROR([10]INVERSION!$R$107,\"\")","v":0},{"$f":"IFERROR([10]INVERSION!$S$107,\"\")","v":"00:00:00"},{"$f":"IFERROR([10]INVERSION!$T$107,\"\")","v":"00:00:00"},{"$f":"IFERROR([10]INVERSION!$U$107,\"\")","v":0},{"$f":"IFERROR([10]INVERSION!$V$107,\"\")","v":0},{"$f":"IFERROR([10]INVERSION!$W$107,\"\")","v":0},{"$f":"IFERROR([10]INVERSION!$X$107,\"\")","v":0},{"$f":"IFERROR([10]INVERSION!$Y$107,\"\")","v":0},null,null,null,"","",null,0]
[null,null,null,null,null,null,{"$f":"IFERROR([10]INVERSION!$G$108,\"\")","v":0},{"$f":"IFERROR([10]INVERSION!$H$108,\"\")","v":0},{"$f":"IFERROR([10]INVERSION!$I$108,\"\")","v":0},{"$f":"IFERROR([10]INVERSION!$J$108,\"\")","v":0},{"$f":"IFERROR([10]INVERSION!$K$108,\"\")","v":0},{"$f":"IFERROR([10]INVERSION!$L$108,\"\")","v":0},{"$f":"IFERROR([10]INVERSION!$M$108,\"\")","v":0},{"$f":"IFERROR([10]INVERSION!$N$108,\"\")","v":0},{"$f":"IFERROR([10]INVERSION!$O$108,\"\")","v":0},{"$f":"IFERROR([10]INVERSION!$P$108,\"\")","v":0},{"$f":"IFERROR([10]INVERSION!$Q$108,\"\")","v":0},{"$f":"IFERROR([10]INVERSION!$R$108,\"\")","v":0},{"$f":"IFERROR([10]INVERSION!$S$108,\"\")","v":"00:00:00"},{"$f":"IFERROR([10]INVERSION!$T$108,\"\")","v":"00:00:00"},{"$f":"IFERROR([10]INVERSION!$U$108,\"\")","v":0},{"$f":"IFERROR([10]INVERSION!$V$108,\"\")","v":0},{"$f":"IFERROR([10]INVERSION!$W$108,\"\")","v":0},{"$f":"IFERROR([10]INVERSION!$X$108,\"\")","v":0},{"$f":"IFERROR([10]INVERSION!$Y$108,\"\")","v":0}]
[null,null,null,null,null,null,{"$f":"IFERROR([10]INVERSION!$G$109,\"\")","v":0},{"$f":"IFERROR([10]INVERSION!$H$109,\"\")","v":0},{"$f":"IFERROR([10]INVERSION!$I$109,\"\")","v":0},{"$f":"IFERROR([10]INVERSION!$J$109,\"\")","v":0},{"$f":"IFERROR([10]INVERSION!$K$109,\"\")","v":0},{"$f":"IFERROR([10]INVERSION!$L$109,\"\")","v":0},{"$f":"IFERROR([10]INVERSION!$M$109,\"\")","v":0},{"$f":"IFERROR([10]INVERSION!$N$109,\"\")","v":0},{"$f":"IFERROR([10]INVERSION!$O$109,\"\")","v":0},{"$f":"IFERROR([10]INVERSION!$P$109,\"\")","v":0},{"$f":"IFERROR([10]INVERSION!$Q$109,\"\")","v":0},{"$f":"IFERROR([10]INVERSION!$R$109,\"\")","v":0},{"$f":"IFERROR([10]INVERSION!$S$109,\"\")","v":"00:00:00"},{"$f":"IFERROR([10]INVERSION!$T$109,\"\")","v":"00:00:00"},{"$f":"IFERROR([10]INVERSION!$U$109,\"\")","v":0},{"$f":"IFERROR([10]INVERSION!$V$109,\"\")","v":0},{"$f":"IFERROR([10]INVERSION!$W$109,\"\")","v":0},{"$f":"IFERROR([10]INVERSION!$X$109,\"\")","v":0},{"$f":"IFERROR([10]INVERSION!$Y$109,\"\")","v":0}]
[null,null,null,null,null,null,{"$f":"IFERROR([10]INVERSION!$G$110,\"\")","v":0},{"$f":"IFERROR([10]INVERSION!$H$110,\"\")","v":0},{"$f":"IFERROR([10]INVERSION!$I$110,\"\")","v":0},{"$f":"IFERROR([10]INVERSION!$J$110,\"\")","v":0},{"$f":"IFERROR([10]INVERSION!$K$110,\"\")","v":0},{"$f":"IFERROR([10]INVERSION!$L$110,\"\")","v":0},{"$f":"IFERROR([10]INVERSION!$M$110,\"\")","v":0},{"$f":"IFERROR([10]INVERSION!$N$110,\"\")","v":0},{"$f":"IFERROR([10]INVERSION!$O$110,\"\")","v":0},{"$f":"IFERROR([10]INVERSION!$P$110,\"\")","v":0},{"$f":"IFERROR([10]INVERSION!$Q$110,\"\")","v":0},{"$f":"IFERROR([10]INVERSION!$R$110,\"\")","v":0},{"$f":"IFERROR([10]INVERSION!$S$110,\"\")","v":"00:00:00"},{"$f":"IFERROR([10]INVERSION!$T$110,\"\")","v":"00:00:00"},{"$f":"IFERROR([10]INVERSION!$U$110,\"\")","v":0},{"$f":"IFERROR([10]INVERSION!$V$110,\"\")","v":0},{"$f":"IFERROR([10]INVERSION!$W$110,\"\")","v":0},{"$f":"IFERROR([10]INVERSION!$X$110,\"\")","v":0},{"$f":"IFERROR([10]INVERSION!$Y$110,\"\")","v":0}]
[null,null,null,null,null,null,{"$f":"IFERROR([10]INVERSION!$G$111,\"\")","v":0},{"$f":"IFERROR([10]INVERSION!$H$111,\"\")","v":0},{"$f":"IFERROR([10]INVERSION!$I$111,\"\")","v":0},{"$f":"IFERROR([10]INVERSION!$J$111,\"\")","v":0},{"$f":"IFERROR([10]INVERSION!$K$111,\"\")","v":0},{"$f":"IFERROR([10]INVERSION!$L$111,\"\")","v":0},{"$f":"IFERROR([10]INVERSION!$M$111,\"\")","v":0},{"$f":"IFERROR([10]INVERSION!$N$111,\"\")","v":0},{"$f":"IFERROR([10]INVERSION!$O$111,\"\")","v":0},{"$f":"IFERROR([10]INVERSION!$P$111,\"\")","v":0},{"$f":"IFERROR([10]INVERSION!$Q$111,\"\")","v":0},{"$f":"IFERROR([10]INVERSION!$R$111,\"\")","v":0},{"$f":"IFERROR([10]INVERSION!$S$111,\"\")","v":"00:00:00"},{"$f":"IFERROR([10]INVERSION!$T$111,\"\")","v":"00:00:00"},{"$f":"IFERROR([10]INVERSION!$U$111,\"\")","v":0},{"$f":"IFERROR([10]INVERSION!$V$111,\"\")","v":0},{"$f":"IFERROR([10]INVERSION!$W$111,\"\")","v":0},{"$f":"IFERROR([10]INVERSION!$X$111,\"\")","v":0},{"$f":"IFERROR([10]INVERSION!$Y$111,\"\")","v":0}]
[null,null,null,null,null,null,{"$f":"IFERROR([10]INVERSION!$G$112,\"\")","v":0},{"$f":"IFERROR([10]INVERSION!$H$112,\"\")","v":0},{"$f":"IFERROR([10]INVERSION!$I$112,\"\")","v":0},{"$f":"IFERROR([10]INVERSION!$J$112,\"\")","v":0},{"$f":"IFERROR([10]INVERSION!$K$112,\"\")","v":0},{"$f":"IFERROR([10]INVERSION!$L$112,\"\")","v":0},{"$f":"IFERROR([10]INVERSION!$M$112,\"\")","v":0},{"$f":"IFERROR([10]INVERSION!$N$112,\"\")","v":0},{"$f":"IFERROR([10]INVERSION!$O$112,\"\")","v":0},{"$f":"IFERROR([10]INVERSION!$P$112,\"\")","v":0},{"$f":"IFERROR([10]INVERSION!$Q$112,\"\")","v":0},{"$f":"IFERROR([10]INVERSION!$R$112,\"\")","v":0},{"$f":"IFERROR([10]INVERSION!$S$112,\"\")","v":"00:00:00"},{"$f":"IFERROR([10]INVERSION!$T$112,\"\")","v":"00:00:00"},{"$f":"IFERROR([10]INVERSION!$U$112,\"\")","v":0},{"$f":"IFERROR([10]INVERSION!$V$112,\"\")","v":0},{"$f":"IFERROR([10]INVERSION!$W$112,\"\")","v":0},{"$f":"IFERROR([10]INVERSION!$X$112,\"\")","v":0},{"$f":"IFERROR([10]INVERSION!$Y$112,\"\")","v":0}]
[null,null,null,null,null,null,{"$f":"IFERROR([10]INVERSION!$G$113,\"\")","v":0},{"$f":"IFERROR([10]INVERSION!$H$113,\"\")","v":0},{"$f":"IFERROR([10]INVERSION!$I$113,\"\")","v":0},{"$f":"IFERROR([10]INVERSION!$J$113,\"\")","v":0},{"$f":"IFERROR([10]INVERSION!$K$113,\"\")","v":0},{"$f":"IFERROR([10]INVERSION!$L$113,\"\")","v":0},{"$f":"IFERROR([10]INVERSION!$M$113,\"\")","v":0},{"$f":"IFERROR([10]INVERSION!$N$113,\"\")","v":0},{"$f":"IFERROR([10]INVERSION!$O$113,\"\")","v":0},{"$f":"IFERROR([10]INVERSION!$P$113,\"\")","v":0},{"$f":"IFERROR([10]INVERSION!$Q$113,\"\")","v":0},{"$f":"IFERROR([10]INVERSION!$R$113,\"\")","v":0},{"$f":"IFERROR([10]INVERSION!$S$113,\"\")","v":"00:00:00"},{"$f":"IFERROR([10]INVERSION!$T$113,\"\")","v":"00:00:00"},{"$f":"IFERROR([10]INVERSION!$U$113,\"\")","v":0},{"$f":"IFERROR([10]INVERSION!$V$113,\"\")","v":0},{"$f":"IFERROR([10]INVERSION!$W$113,\"\")","v":0},{"$f":"IFERROR([10]INVERSION!$X$113,\"\")","v":0},{"$f":"IFERROR([10]INVERSION!$Y$113,\"\")","v":0},null,null,null,"","",null,0]
[null,null,null,null,null,null,{"$f":"IFERROR([10]INVERSION!$G$114,\"\")","v":0},{"$f":"IFERROR([10]INVERSION!$H$114,\"\")","v":0},{"$f":"IFERROR([10]INVERSION!$I$114,\"\")","v":0},{"$f":"IFERROR([10]INVERSION!$J$114,\"\")","v":0},{"$f":"IFERROR([10]INVERSION!$K$114,\"\")","v":0},{"$f":"IFERROR([10]INVERSION!$L$114,\"\")","v":0},{"$f":"IFERROR([10]INVERSION!$M$114,\"\")","v":0},{"$f":"IFERROR([10]INVERSION!$N$114,\"\")","v":0},{"$f":"IFERROR([10]INVERSION!$O$114,\"\")","v":0},{"$f":"IFERROR([10]INVERSION!$P$114,\"\")","v":0},{"$f":"IFERROR([10]INVERSION!$Q$114,\"\")","v":0},{"$f":"IFERROR([10]INVERSION!$R$114,\"\")","v":0},{"$f":"IFERROR([10]INVERSION!$S$114,\"\")","v":"00:00:00"},{"$f":"IFERROR([10]INVERSION!$T$114,\"\")","v":"00:00:00"},{"$f":"IFERROR([10]INVERSION!$U$114,\"\")","v":0},{"$f":"IFERROR([10]INVERSION!$V$114,\"\")","v":0},{"$f":"IFERROR([10]INVERSION!$W$114,\"\")","v":0},{"$f":"IFERROR([10]INVERSION!$X$114,\"\")","v":0},{"$f":"IFERROR([10]INVERSION!$Y$114,\"\")","v":0},null,null,null,"","",null,0]
[null,null,null,null,null,null,{"$f":"IFERROR([10]INVERSION!$G$115,\"\")","v":0},{"$f":"IFERROR([10]INVERSION!$H$115,\"\")","v":0},{"$f":"IFERROR([10]INVERSION!$I$115,\"\")","v":0},{"$f":"IFERROR([10]INVERSION!$J$115,\"\")","v":0},{"$f":"IFERROR([10]INVERSION!$K$115,\"\")","v":0},{"$f":"IFERROR([10]INVERSION!$L$115,\"\")","v":0},{"$f":"IFERROR([10]INVERSION!$M$115,\"\")","v":0},{"$f":"IFERROR([10]INVERSION!$N$115,\"\")","v":0},{"$f":"IFERROR([10]INVERSION!$O$115,\"\")","v":0},{"$f":"IFERROR([10]INVERSION!$P$115,\"\")","v":0},{"$f":"IFERROR([10]INVERSION!$Q$115,\"\")","v":0},{"$f":"IFERROR([10]INVERSION!$R$115,\"\")","v":0},{"$f":"IFERROR([10]INVERSION!$S$115,\"\")","v":"00:00:00"},{"$f":"IFERROR([10]INVERSION!$T$115,\"\")","v":"00:00:00"},{"$f":"IFERROR([10]INVERSION!$U$115,\"\")","v":0},{"$f":"IFERROR([10]INVERSION!$V$115,\"\")","v":0},{"$f":"IFERROR([10]INVERSION!$W$115,\"\")","v":0},{"$f":"IFERROR([10]INVERSION!$X$115,\"\")","v":0},{"$f":"IFERROR([10]INVERSION!$Y$115,\"\")","v":0},null,null,null,"","",null,0]
["3. Confianza pública, transparencia y rendición de cuentas","Confianza pública, transparencia y rendición de cuentas: Aumentar la confianza pública en la justicia a través de la transparencia, la rendición de cuentas y la participación, incluyendo la información de justicia y la producción, gestión y acceso a las fuentes de derecho, el fortalecimiento del sistema de gestión de calidad y medio ambiente (SIGCMA) y el mejoramiento de la calidad y publicidad de la información. ","1. Incrementar la cantidad, la calidad y pertinencia de los datos sobre el funcionamiento del servicio de justicia bajo un modelo de gobierno de datos y un liderazgo unificado. ","Modelo de\ngobierno y calidad de datos implementado","% de implementa ción del modelo de gobierno y calidad de datos","4. Hacer un uso racional de los recursos naturales aplicando los principios y fases de la Economía Circular, para prevenir, mitigar y controlar los impactos ambientales.",{"$f":"IFERROR([10]INVERSION!$G$116,\"\")","v":0},{"$f":"IFERROR([10]INVERSION!$H$116,\"\")","v":0},{"$f":"IFERROR([10]INVERSION!$I$116,\"\")","v":0},{"$f":"IFERROR([10]INVERSION!$J$116,\"\")","v":0},{"$f":"IFERROR([10]INVERSION!$K$116,\"\")","v":0},{"$f":"IFERROR([10]INVERSION!$L$116,\"\")","v":0},{"$f":"IFERROR([10]INVERSION!$M$116,\"\")","v":0},{"$f":"IFERROR([10]INVERSION!$N$116,\"\")","v":0},{"$f":"IFERROR([10]INVERSION!$O$116,\"\")","v":0},{"$f":"IFERROR([10]INVERSION!$P$116,\"\")","v":0},{"$f":"IFERROR([10]INVERSION!$Q$116,\"\")","v":0},{"$f":"IFERROR([10]INVERSION!$R$116,\"\")","v":0},{"$f":"IFERROR([10]INVERSION!$S$116,\"\")","v":"00:00:00"},{"$f":"IFERROR([10]INVERSION!$T$116,\"\")","v":"00:00:00"},{"$f":"IFERROR([10]INVERSION!$U$116,\"\")","v":0},{"$f":"IFERROR([10]INVERSION!$V$116,\"\")","v":0},{"$f":"IFERROR([10]INVERSION!$W$116,\"\")","v":0},{"$f":"IFERROR([10]INVERSION!$X$116,\"\")","v":0},{"$f":"IFERROR([10]INVERSION!$Y$116,\"\")","v":0},null,null,null,"","",null,0]
[null,null,null,null,null,null,{"$f":"IFERROR([10]INVERSION!$G$117,\"\")","v":0},{"$f":"IFERROR([10]INVERSION!$H$117,\"\")","v":0},{"$f":"IFERROR([10]INVERSION!$I$117,\"\")","v":0},{"$f":"IFERROR([10]INVERSION!$J$117,\"\")","v":0},{"$f":"IFERROR([10]INVERSION!$K$117,\"\")","v":0},{"$f":"IFERROR([10]INVERSION!$L$117,\"\")","v":0},{"$f":"IFERROR([10]INVERSION!$M$117,\"\")","v":0},{"$f":"IFERROR([10]INVERSION!$N$117,\"\")","v":0},{"$f":"IFERROR([10]INVERSION!$O$117,\"\")","v":0},{"$f":"IFERROR([10]INVERSION!$P$117,\"\")","v":0},{"$f":"IFERROR([10]INVERSION!$Q$117,\"\")","v":0},{"$f":"IFERROR([10]INVERSION!$R$117,\"\")","v":0},{"$f":"IFERROR([10]INVERSION!$S$117,\"\")","v":"00:00:00"},{"$f":"IFERROR([10]INVERSION!$T$117,\"\")","v":"00:00:00"},{"$f":"IFERROR([10]INVERSION!$U$117,\"\")","v":0},{"$f":"IFERROR([10]INVERSION!$V$117,\"\")","v":0},{"$f":"IFERROR([10]INVERSION!$W$117,\"\")","v":0},{"$f":"IFERROR([10]INVERSION!$X$117,\"\")","v":0},{"$f":"IFERROR([10]INVERSION!$Y$117,\"\")","v":0},null,null,null,"","",null,0]
[null,null,null,null,null,null,{"$f":"IFERROR([10]INVERSION!$G$118,\"\")","v":0},{"$f":"IFERROR([10]INVERSION!$H$118,\"\")","v":0},{"$f":"IFERROR([10]INVERSION!$I$118,\"\")","v":0},{"$f":"IFERROR([10]INVERSION!$J$118,\"\")","v":0},{"$f":"IFERROR([10]INVERSION!$K$118,\"\")","v":0},{"$f":"IFERROR([10]INVERSION!$L$118,\"\")","v":0},{"$f":"IFERROR([10]INVERSION!$M$118,\"\")","v":0},{"$f":"IFERROR([10]INVERSION!$N$118,\"\")","v":0},{"$f":"IFERROR([10]INVERSION!$O$118,\"\")","v":0},{"$f":"IFERROR([10]INVERSION!$P$118,\"\")","v":0},{"$f":"IFERROR([10]INVERSION!$Q$118,\"\")","v":0},{"$f":"IFERROR([10]INVERSION!$R$118,\"\")","v":0},{"$f":"IFERROR([10]INVERSION!$S$118,\"\")","v":"00:00:00"},{"$f":"IFERROR([10]INVERSION!$T$118,\"\")","v":"00:00:00"},{"$f":"IFERROR([10]INVERSION!$U$118,\"\")","v":0},{"$f":"IFERROR([10]INVERSION!$V$118,\"\")","v":0},{"$f":"IFERROR([10]INVERSION!$W$118,\"\")","v":0},{"$f":"IFERROR([10]INVERSION!$X$118,\"\")","v":0},{"$f":"IFERROR([10]INVERSION!$Y$118,\"\")","v":0}]
[null,null,null,null,null,null,{"$f":"IFERROR([10]INVERSION!$G$119,\"\")","v":0},{"$f":"IFERROR([10]INVERSION!$H$119,\"\")","v":0},{"$f":"IFERROR([10]INVERSION!$I$119,\"\")","v":0},{"$f":"IFERROR([10]INVERSION!$J$119,\"\")","v":0},{"$f":"IFERROR([10]INVERSION!$K$119,\"\")","v":0},{"$f":"IFERROR([10]INVERSION!$L$119,\"\")","v":0},{"$f":"IFERROR([10]INVERSION!$M$119,\"\")","v":0},{"$f":"IFERROR([10]INVERSION!$N$119,\"\")","v":0},{"$f":"IFERROR([10]INVERSION!$O$119,\"\")","v":0},{"$f":"IFERROR([10]INVERSION!$P$119,\"\")","v":0},{"$f":"IFERROR([10]INVERSION!$Q$119,\"\")","v":0},{"$f":"IFERROR([10]INVERSION!$R$119,\"\")","v":0},{"$f":"IFERROR([10]INVERSION!$S$119,\"\")","v":"00:00:00"},{"$f":"IFERROR([10]INVERSION!$T$119,\"\")","v":"00:00:00"},{"$f":"IFERROR([10]INVERSION!$U$119,\"\")","v":0},{"$f":"IFERROR([10]INVERSION!$V$119,\"\")","v":0},{"$f":"IFERROR([10]INVERSION!$W$119,\"\")","v":0},{"$f":"IFERROR([10]INVERSION!$X$119,\"\")","v":0},{"$f":"IFERROR([10]INVERSION!$Y$119,\"\")","v":0}]
[null,null,null,null,null,null,{"$f":"IFERROR([10]INVERSION!$G$120,\"\")","v":0},{"$f":"IFERROR([10]INVERSION!$H$120,\"\")","v":0},{"$f":"IFERROR([10]INVERSION!$I$120,\"\")","v":0},{"$f":"IFERROR([10]INVERSION!$J$120,\"\")","v":0},{"$f":"IFERROR([10]INVERSION!$K$120,\"\")","v":0},{"$f":"IFERROR([10]INVERSION!$L$120,\"\")","v":0},{"$f":"IFERROR([10]INVERSION!$M$120,\"\")","v":0},{"$f":"IFERROR([10]INVERSION!$N$120,\"\")","v":0},{"$f":"IFERROR([10]INVERSION!$O$120,\"\")","v":0},{"$f":"IFERROR([10]INVERSION!$P$120,\"\")","v":0},{"$f":"IFERROR([10]INVERSION!$Q$120,\"\")","v":0},{"$f":"IFERROR([10]INVERSION!$R$120,\"\")","v":0},{"$f":"IFERROR([10]INVERSION!$S$120,\"\")","v":"00:00:00"},{"$f":"IFERROR([10]INVERSION!$T$120,\"\")","v":"00:00:00"},{"$f":"IFERROR([10]INVERSION!$U$120,\"\")","v":0},{"$f":"IFERROR([10]INVERSION!$V$120,\"\")","v":0},{"$f":"IFERROR([10]INVERSION!$W$120,\"\")","v":0},{"$f":"IFERROR([10]INVERSION!$X$120,\"\")","v":0},{"$f":"IFERROR([10]INVERSION!$Y$120,\"\")","v":0}]
[null,null,null,null,null,null,{"$f":"IFERROR([10]INVERSION!$G$121,\"\")","v":0},{"$f":"IFERROR([10]INVERSION!$H$121,\"\")","v":0},{"$f":"IFERROR([10]INVERSION!$I$121,\"\")","v":0},{"$f":"IFERROR([10]INVERSION!$J$121,\"\")","v":0},{"$f":"IFERROR([10]INVERSION!$K$121,\"\")","v":0},{"$f":"IFERROR([10]INVERSION!$L$121,\"\")","v":0},{"$f":"IFERROR([10]INVERSION!$M$121,\"\")","v":0},{"$f":"IFERROR([10]INVERSION!$N$121,\"\")","v":0},{"$f":"IFERROR([10]INVERSION!$O$121,\"\")","v":0},{"$f":"IFERROR([10]INVERSION!$P$121,\"\")","v":0},{"$f":"IFERROR([10]INVERSION!$Q$121,\"\")","v":0},{"$f":"IFERROR([10]INVERSION!$R$121,\"\")","v":0},{"$f":"IFERROR([10]INVERSION!$S$121,\"\")","v":"00:00:00"},{"$f":"IFERROR([10]INVERSION!$T$121,\"\")","v":"00:00:00"},{"$f":"IFERROR([10]INVERSION!$U$121,\"\")","v":0},{"$f":"IFERROR([10]INVERSION!$V$121,\"\")","v":0},{"$f":"IFERROR([10]INVERSION!$W$121,\"\")","v":0},{"$f":"IFERROR([10]INVERSION!$X$121,\"\")","v":0},{"$f":"IFERROR([10]INVERSION!$Y$121,\"\")","v":0}]
[null,null,null,null,null,null,{"$f":"IFERROR([10]INVERSION!$G$122,\"\")","v":0},{"$f":"IFERROR([10]INVERSION!$H$122,\"\")","v":0},{"$f":"IFERROR([10]INVERSION!$I$122,\"\")","v":0},{"$f":"IFERROR([10]INVERSION!$J$122,\"\")","v":0},{"$f":"IFERROR([10]INVERSION!$K$122,\"\")","v":0},{"$f":"IFERROR([10]INVERSION!$L$122,\"\")","v":0},{"$f":"IFERROR([10]INVERSION!$M$122,\"\")","v":0},{"$f":"IFERROR([10]INVERSION!$N$122,\"\")","v":0},{"$f":"IFERROR([10]INVERSION!$O$122,\"\")","v":0},{"$f":"IFERROR([10]INVERSION!$P$122,\"\")","v":0},{"$f":"IFERROR([10]INVERSION!$Q$122,\"\")","v":0},{"$f":"IFERROR([10]INVERSION!$R$122,\"\")","v":0},{"$f":"IFERROR([10]INVERSION!$S$122,\"\")","v":"00:00:00"},{"$f":"IFERROR([10]INVERSION!$T$122,\"\")","v":"00:00:00"},{"$f":"IFERROR([10]INVERSION!$U$122,\"\")","v":0},{"$f":"IFERROR([10]INVERSION!$V$122,\"\")","v":0},{"$f":"IFERROR([10]INVERSION!$W$122,\"\")","v":0},{"$f":"IFERROR([10]INVERSION!$X$122,\"\")","v":0},{"$f":"IFERROR([10]INVERSION!$Y$122,\"\")","v":0}]
[null,null,null,null,null,null,{"$f":"IFERROR([10]INVERSION!$G$123,\"\")","v":0},{"$f":"IFERROR([10]INVERSION!$H$123,\"\")","v":0},{"$f":"IFERROR([10]INVERSION!$I$123,\"\")","v":0},{"$f":"IFERROR([10]INVERSION!$J$123,\"\")","v":0},{"$f":"IFERROR([10]INVERSION!$K$123,\"\")","v":0},{"$f":"IFERROR([10]INVERSION!$L$123,\"\")","v":0},{"$f":"IFERROR([10]INVERSION!$M$123,\"\")","v":0},{"$f":"IFERROR([10]INVERSION!$N$123,\"\")","v":0},{"$f":"IFERROR([10]INVERSION!$O$123,\"\")","v":0},{"$f":"IFERROR([10]INVERSION!$P$123,\"\")","v":0},{"$f":"IFERROR([10]INVERSION!$Q$123,\"\")","v":0},{"$f":"IFERROR([10]INVERSION!$R$123,\"\")","v":0},{"$f":"IFERROR([10]INVERSION!$S$123,\"\")","v":"00:00:00"},{"$f":"IFERROR([10]INVERSION!$T$123,\"\")","v":"00:00:00"},{"$f":"IFERROR([10]INVERSION!$U$123,\"\")","v":0},{"$f":"IFERROR([10]INVERSION!$V$123,\"\")","v":0},{"$f":"IFERROR([10]INVERSION!$W$123,\"\")","v":0},{"$f":"IFERROR([10]INVERSION!$X$123,\"\")","v":0},{"$f":"IFERROR([10]INVERSION!$Y$123,\"\")","v":0},null,null,null,"","",null,0]
[null,null,null,null,null,null,{"$f":"IFERROR([10]INVERSION!$G$124,\"\")","v":0},{"$f":"IFERROR([10]INVERSION!$H$124,\"\")","v":0},{"$f":"IFERROR([10]INVERSION!$I$124,\"\")","v":0},{"$f":"IFERROR([10]INVERSION!$J$124,\"\")","v":0},{"$f":"IFERROR([10]INVERSION!$K$124,\"\")","v":0},{"$f":"IFERROR([10]INVERSION!$L$124,\"\")","v":0},{"$f":"IFERROR([10]INVERSION!$M$124,\"\")","v":0},{"$f":"IFERROR([10]INVERSION!$N$124,\"\")","v":0},{"$f":"IFERROR([10]INVERSION!$O$124,\"\")","v":0},{"$f":"IFERROR([10]INVERSION!$P$124,\"\")","v":0},{"$f":"IFERROR([10]INVERSION!$Q$124,\"\")","v":0},{"$f":"IFERROR([10]INVERSION!$R$124,\"\")","v":0},{"$f":"IFERROR([10]INVERSION!$S$124,\"\")","v":"00:00:00"},{"$f":"IFERROR([10]INVERSION!$T$124,\"\")","v":"00:00:00"},{"$f":"IFERROR([10]INVERSION!$U$124,\"\")","v":0},{"$f":"IFERROR([10]INVERSION!$V$124,\"\")","v":0},{"$f":"IFERROR([10]INVERSION!$W$124,\"\")","v":0},{"$f":"IFERROR([10]INVERSION!$X$124,\"\")","v":0},{"$f":"IFERROR([10]INVERSION!$Y$124,\"\")","v":0},null,null,null,"","",null,0]
[null,null,null,null,null,null,{"$f":"IFERROR([10]INVERSION!$G$125,\"\")","v":0},{"$f":"IFERROR([10]INVERSION!$H$125,\"\")","v":0},{"$f":"IFERROR([10]INVERSION!$I$125,\"\")","v":0},{"$f":"IFERROR([10]INVERSION!$J$125,\"\")","v":0},{"$f":"IFERROR([10]INVERSION!$K$125,\"\")","v":0},{"$f":"IFERROR([10]INVERSION!$L$125,\"\")","v":0},{"$f":"IFERROR([10]INVERSION!$M$125,\"\")","v":0},{"$f":"IFERROR([10]INVERSION!$N$125,\"\")","v":0},{"$f":"IFERROR([10]INVERSION!$O$125,\"\")","v":0},{"$f":"IFERROR([10]INVERSION!$P$125,\"\")","v":0},{"$f":"IFERROR([10]INVERSION!$Q$125,\"\")","v":0},{"$f":"IFERROR([10]INVERSION!$R$125,\"\")","v":0},{"$f":"IFERROR([10]INVERSION!$S$125,\"\")","v":"00:00:00"},{"$f":"IFERROR([10]INVERSION!$T$125,\"\")","v":"00:00:00"},{"$f":"IFERROR([10]INVERSION!$U$125,\"\")","v":0},{"$f":"IFERROR([10]INVERSION!$V$125,\"\")","v":0},{"$f":"IFERROR([10]INVERSION!$W$125,\"\")","v":0},{"$f":"IFERROR([10]INVERSION!$X$125,\"\")","v":0},{"$f":"IFERROR([10]INVERSION!$Y$125,\"\")","v":0},null,null,null,"","",null,0]
[null,null,"2. Consolidar la administración de la información entendida como todas las acciones rientadas a garantizar el acceso, consulta, uso y conservación de la información de justicia de manera ágil, flexible e inteligente, bajo un enfoque de innovación.","Modelo de producción, acceso, consulta y conservación del conocimiento jurídico","% de implementa ción del modelo de producción, acceso, consulta y conservació n del conocimient o jurídico",null,{"$f":"IFERROR([10]INVERSION!$G$126,\"\")","v":0},{"$f":"IFERROR([10]INVERSION!$H$126,\"\")","v":0},{"$f":"IFERROR([10]INVERSION!$I$126,\"\")","v":0},{"$f":"IFERROR([10]INVERSION!$J$126,\"\")","v":0},{"$f":"IFERROR([10]INVERSION!$K$126,\"\")","v":0},{"$f":"IFERROR([10]INVERSION!$L$126,\"\")","v":0},{"$f":"IFERROR([10]INVERSION!$M$126,\"\")","v":0},{"$f":"IFERROR([10]INVERSION!$N$126,\"\")","v":0},{"$f":"IFERROR([10]INVERSION!$O$126,\"\")","v":0},{"$f":"IFERROR([10]INVERSION!$P$126,\"\")","v":0},{"$f":"IFERROR([10]INVERSION!$Q$126,\"\")","v":0},{"$f":"IFERROR([10]INVERSION!$R$126,\"\")","v":0},{"$f":"IFERROR([10]INVERSION!$S$126,\"\")","v":"00:00:00"},{"$f":"IFERROR([10]INVERSION!$T$126,\"\")","v":"00:00:00"},{"$f":"IFERROR([10]INVERSION!$U$126,\"\")","v":0},{"$f":"IFERROR([10]INVERSION!$V$126,\"\")","v":0},{"$f":"IFERROR([10]INVERSION!$W$126,\"\")","v":0},{"$f":"IFERROR([10]INVERSION!$X$126,\"\")","v":0},{"$f":"IFERROR([10]INVERSION!$Y$126,\"\")","v":0},null,null,null,"","",null,0]
[null,null,null,null,null,null,{"$f":"IFERROR([10]INVERSION!$G$127,\"\")","v":0},{"$f":"IFERROR([10]INVERSION!$H$127,\"\")","v":0},{"$f":"IFERROR([10]INVERSION!$I$127,\"\")","v":0},{"$f":"IFERROR([10]INVERSION!$J$127,\"\")","v":0},{"$f":"IFERROR([10]INVERSION!$K$127,\"\")","v":0},{"$f":"IFERROR([10]INVERSION!$L$127,\"\")","v":0},{"$f":"IFERROR([10]INVERSION!$M$127,\"\")","v":0},{"$f":"IFERROR([10]INVERSION!$N$127,\"\")","v":0},{"$f":"IFERROR([10]INVERSION!$O$127,\"\")","v":0},{"$f":"IFERROR([10]INVERSION!$P$127,\"\")","v":0},{"$f":"IFERROR([10]INVERSION!$Q$127,\"\")","v":0},{"$f":"IFERROR([10]INVERSION!$R$127,\"\")","v":0},{"$f":"IFERROR([10]INVERSION!$S$127,\"\")","v":"00:00:00"},{"$f":"IFERROR([10]INVERSION!$T$127,\"\")","v":"00:00:00"},{"$f":"IFERROR([10]INVERSION!$U$127,\"\")","v":0},{"$f":"IFERROR([10]INVERSION!$V$127,\"\")","v":0},{"$f":"IFERROR([10]INVERSION!$W$127,\"\")","v":0},{"$f":"IFERROR([10]INVERSION!$X$127,\"\")","v":0},{"$f":"IFERROR([10]INVERSION!$Y$127,\"\")","v":0},null,null,null,"","",null,0]
[null,null,null,null,null,null,{"$f":"IFERROR([10]INVERSION!$G$128,\"\")","v":0},{"$f":"IFERROR([10]INVERSION!$H$128,\"\")","v":0},{"$f":"IFERROR([10]INVERSION!$I$128,\"\")","v":0},{"$f":"IFERROR([10]INVERSION!$J$128,\"\")","v":0},{"$f":"IFERROR([10]INVERSION!$K$128,\"\")","v":0},{"$f":"IFERROR([10]INVERSION!$L$128,\"\")","v":0},{"$f":"IFERROR([10]INVERSION!$M$128,\"\")","v":0},{"$f":"IFERROR([10]INVERSION!$N$128,\"\")","v":0},{"$f":"IFERROR([10]INVERSION!$O$128,\"\")","v":0},{"$f":"IFERROR([10]INVERSION!$P$128,\"\")","v":0},{"$f":"IFERROR([10]INVERSION!$Q$128,\"\")","v":0},{"$f":"IFERROR([10]INVERSION!$R$128,\"\")","v":0},{"$f":"IFERROR([10]INVERSION!$S$128,\"\")","v":"00:00:00"},{"$f":"IFERROR([10]INVERSION!$T$128,\"\")","v":"00:00:00"},{"$f":"IFERROR([10]INVERSION!$U$128,\"\")","v":0},{"$f":"IFERROR([10]INVERSION!$V$128,\"\")","v":0},{"$f":"IFERROR([10]INVERSION!$W$128,\"\")","v":0},{"$f":"IFERROR([10]INVERSION!$X$128,\"\")","v":0},{"$f":"IFERROR([10]INVERSION!$Y$128,\"\")","v":0}]
[null,null,null,null,null,null,{"$f":"IFERROR([10]INVERSION!$G$129,\"\")","v":0},{"$f":"IFERROR([10]INVERSION!$H$129,\"\")","v":0},{"$f":"IFERROR([10]INVERSION!$I$129,\"\")","v":0},{"$f":"IFERROR([10]INVERSION!$J$129,\"\")","v":0},{"$f":"IFERROR([10]INVERSION!$K$129,\"\")","v":0},{"$f":"IFERROR([10]INVERSION!$L$129,\"\")","v":0},{"$f":"IFERROR([10]INVERSION!$M$129,\"\")","v":0},{"$f":"IFERROR([10]INVERSION!$N$129,\"\")","v":0},{"$f":"IFERROR([10]INVERSION!$O$129,\"\")","v":0},{"$f":"IFERROR([10]INVERSION!$P$129,\"\")","v":0},{"$f":"IFERROR([10]INVERSION!$Q$129,\"\")","v":0},{"$f":"IFERROR([10]INVERSION!$R$129,\"\")","v":0},{"$f":"IFERROR([10]INVERSION!$S$129,\"\")","v":"00:00:00"},{"$f":"IFERROR([10]INVERSION!$T$129,\"\")","v":"00:00:00"},{"$f":"IFERROR([10]INVERSION!$U$129,\"\")","v":0},{"$f":"IFERROR([10]INVERSION!$V$129,\"\")","v":0},{"$f":"IFERROR([10]INVERSION!$W$129,\"\")","v":0},{"$f":"IFERROR([10]INVERSION!$X$129,\"\")","v":0},{"$f":"IFERROR([10]INVERSION!$Y$129,\"\")","v":0}]
[null,null,null,null,null,null,{"$f":"IFERROR([10]INVERSION!$G$130,\"\")","v":0},{"$f":"IFERROR([10]INVERSION!$H$130,\"\")","v":0},{"$f":"IFERROR([10]INVERSION!$I$130,\"\")","v":0},{"$f":"IFERROR([10]INVERSION!$J$130,\"\")","v":0},{"$f":"IFERROR([10]INVERSION!$K$130,\"\")","v":0},{"$f":"IFERROR([10]INVERSION!$L$130,\"\")","v":0},{"$f":"IFERROR([10]INVERSION!$M$130,\"\")","v":0},{"$f":"IFERROR([10]INVERSION!$N$130,\"\")","v":0},{"$f":"IFERROR([10]INVERSION!$O$130,\"\")","v":0},{"$f":"IFERROR([10]INVERSION!$P$130,\"\")","v":0},{"$f":"IFERROR([10]INVERSION!$Q$130,\"\")","v":0},{"$f":"IFERROR([10]INVERSION!$R$130,\"\")","v":0},{"$f":"IFERROR([10]INVERSION!$S$130,\"\")","v":"00:00:00"},{"$f":"IFERROR([10]INVERSION!$T$130,\"\")","v":"00:00:00"},{"$f":"IFERROR([10]INVERSION!$U$130,\"\")","v":0},{"$f":"IFERROR([10]INVERSION!$V$130,\"\")","v":0},{"$f":"IFERROR([10]INVERSION!$W$130,\"\")","v":0},{"$f":"IFERROR([10]INVERSION!$X$130,\"\")","v":0},{"$f":"IFERROR([10]INVERSION!$Y$130,\"\")","v":0}]
[null,null,null,null,null,null,{"$f":"IFERROR([10]INVERSION!$G$131,\"\")","v":0},{"$f":"IFERROR([10]INVERSION!$H$131,\"\")","v":0},{"$f":"IFERROR([10]INVERSION!$I$131,\"\")","v":0},{"$f":"IFERROR([10]INVERSION!$J$131,\"\")","v":0},{"$f":"IFERROR([10]INVERSION!$K$131,\"\")","v":0},{"$f":"IFERROR([10]INVERSION!$L$131,\"\")","v":0},{"$f":"IFERROR([10]INVERSION!$M$131,\"\")","v":0},{"$f":"IFERROR([10]INVERSION!$N$131,\"\")","v":0},{"$f":"IFERROR([10]INVERSION!$O$131,\"\")","v":0},{"$f":"IFERROR([10]INVERSION!$P$131,\"\")","v":0},{"$f":"IFERROR([10]INVERSION!$Q$131,\"\")","v":0},{"$f":"IFERROR([10]INVERSION!$R$131,\"\")","v":0},{"$f":"IFERROR([10]INVERSION!$S$131,\"\")","v":"00:00:00"},{"$f":"IFERROR([10]INVERSION!$T$131,\"\")","v":"00:00:00"},{"$f":"IFERROR([10]INVERSION!$U$131,\"\")","v":0},{"$f":"IFERROR([10]INVERSION!$V$131,\"\")","v":0},{"$f":"IFERROR([10]INVERSION!$W$131,\"\")","v":0},{"$f":"IFERROR([10]INVERSION!$X$131,\"\")","v":0},{"$f":"IFERROR([10]INVERSION!$Y$131,\"\")","v":0}]
[null,null,null,null,null,null,{"$f":"IFERROR([10]INVERSION!$G$132,\"\")","v":0},{"$f":"IFERROR([10]INVERSION!$H$132,\"\")","v":0},{"$f":"IFERROR([10]INVERSION!$I$132,\"\")","v":0},{"$f":"IFERROR([10]INVERSION!$J$132,\"\")","v":0},{"$f":"IFERROR([10]INVERSION!$K$132,\"\")","v":0},{"$f":"IFERROR([10]INVERSION!$L$132,\"\")","v":0},{"$f":"IFERROR([10]INVERSION!$M$132,\"\")","v":0},{"$f":"IFERROR([10]INVERSION!$N$132,\"\")","v":0},{"$f":"IFERROR([10]INVERSION!$O$132,\"\")","v":0},{"$f":"IFERROR([10]INVERSION!$P$132,\"\")","v":0},{"$f":"IFERROR([10]INVERSION!$Q$132,\"\")","v":0},{"$f":"IFERROR([10]INVERSION!$R$132,\"\")","v":0},{"$f":"IFERROR([10]INVERSION!$S$132,\"\")","v":"00:00:00"},{"$f":"IFERROR([10]INVERSION!$T$132,\"\")","v":"00:00:00"},{"$f":"IFERROR([10]INVERSION!$U$132,\"\")","v":0},{"$f":"IFERROR([10]INVERSION!$V$132,\"\")","v":0},{"$f":"IFERROR([10]INVERSION!$W$132,\"\")","v":0},{"$f":"IFERROR([10]INVERSION!$X$132,\"\")","v":0},{"$f":"IFERROR([10]INVERSION!$Y$132,\"\")","v":0}]
[null,null,null,null,null,null,{"$f":"IFERROR([10]INVERSION!$G$133,\"\")","v":0},{"$f":"IFERROR([10]INVERSION!$H$133,\"\")","v":0},{"$f":"IFERROR([10]INVERSION!$I$133,\"\")","v":0},{"$f":"IFERROR([10]INVERSION!$J$133,\"\")","v":0},{"$f":"IFERROR([10]INVERSION!$K$133,\"\")","v":0},{"$f":"IFERROR([10]INVERSION!$L$133,\"\")","v":0},{"$f":"IFERROR([10]INVERSION!$M$133,\"\")","v":0},{"$f":"IFERROR([10]INVERSION!$N$133,\"\")","v":0},{"$f":"IFERROR([10]INVERSION!$O$133,\"\")","v":0},{"$f":"IFERROR([10]INVERSION!$P$133,\"\")","v":0},{"$f":"IFERROR([10]INVERSION!$Q$133,\"\")","v":0},{"$f":"IFERROR([10]INVERSION!$R$133,\"\")","v":0},{"$f":"IFERROR([10]INVERSION!$S$133,\"\")","v":"00:00:00"},{"$f":"IFERROR([10]INVERSION!$T$133,\"\")","v":"00:00:00"},{"$f":"IFERROR([10]INVERSION!$U$133,\"\")","v":0},{"$f":"IFERROR([10]INVERSION!$V$133,\"\")","v":0},{"$f":"IFERROR([10]INVERSION!$W$133,\"\")","v":0},{"$f":"IFERROR([10]INVERSION!$X$133,\"\")","v":0},{"$f":"IFERROR([10]INVERSION!$Y$133,\"\")","v":0},null,null,null,"","",null,0]
[null,null,null,null,null,null,{"$f":"IFERROR([10]INVERSION!$G$134,\"\")","v":0},{"$f":"IFERROR([10]INVERSION!$H$134,\"\")","v":0},{"$f":"IFERROR([10]INVERSION!$I$134,\"\")","v":0},{"$f":"IFERROR([10]INVERSION!$J$134,\"\")","v":0},{"$f":"IFERROR([10]INVERSION!$K$134,\"\")","v":0},{"$f":"IFERROR([10]INVERSION!$L$134,\"\")","v":0},{"$f":"IFERROR([10]INVERSION!$M$134,\"\")","v":0},{"$f":"IFERROR([10]INVERSION!$N$134,\"\")","v":0},{"$f":"IFERROR([10]INVERSION!$O$134,\"\")","v":0},{"$f":"IFERROR([10]INVERSION!$P$134,\"\")","v":0},{"$f":"IFERROR([10]INVERSION!$Q$134,\"\")","v":0},{"$f":"IFERROR([10]INVERSION!$R$134,\"\")","v":0},{"$f":"IFERROR([10]INVERSION!$S$134,\"\")","v":"00:00:00"},{"$f":"IFERROR([10]INVERSION!$T$134,\"\")","v":"00:00:00"},{"$f":"IFERROR([10]INVERSION!$U$134,\"\")","v":0},{"$f":"IFERROR([10]INVERSION!$V$134,\"\")","v":0},{"$f":"IFERROR([10]INVERSION!$W$134,\"\")","v":0},{"$f":"IFERROR([10]INVERSION!$X$134,\"\")","v":0},{"$f":"IFERROR([10]INVERSION!$Y$134,\"\")","v":0},null,null,null,"","",null,0]
[null,null,null,null,null,null,{"$f":"IFERROR([10]INVERSION!$G$135,\"\")","v":0},{"$f":"IFERROR([10]INVERSION!$H$135,\"\")","v":0},{"$f":"IFERROR([10]INVERSION!$I$135,\"\")","v":0},{"$f":"IFERROR([10]INVERSION!$J$135,\"\")","v":0},{"$f":"IFERROR([10]INVERSION!$K$135,\"\")","v":0},{"$f":"IFERROR([10]INVERSION!$L$135,\"\")","v":0},{"$f":"IFERROR([10]INVERSION!$M$135,\"\")","v":0},{"$f":"IFERROR([10]INVERSION!$N$135,\"\")","v":0},{"$f":"IFERROR([10]INVERSION!$O$135,\"\")","v":0},{"$f":"IFERROR([10]INVERSION!$P$135,\"\")","v":0},{"$f":"IFERROR([10]INVERSION!$Q$135,\"\")","v":0},{"$f":"IFERROR([10]INVERSION!$R$135,\"\")","v":0},{"$f":"IFERROR([10]INVERSION!$S$135,\"\")","v":"00:00:00"},{"$f":"IFERROR([10]INVERSION!$T$135,\"\")","v":"00:00:00"},{"$f":"IFERROR([10]INVERSION!$U$135,\"\")","v":0},{"$f":"IFERROR([10]INVERSION!$V$135,\"\")","v":0},{"$f":"IFERROR([10]INVERSION!$W$135,\"\")","v":0},{"$f":"IFERROR([10]INVERSION!$X$135,\"\")","v":0},{"$f":"IFERROR([10]INVERSION!$Y$135,\"\")","v":0},null,null,null,"","",null,0]
[null,null,"3. Fortalecer el Sistema integrado de Gestión de la Rama, orientado a la implementación y certificación de las normas antisoborno.","Certificación del Sistema Integrado de Gestión de la Rama en norma antisoborno","# de dependenci as judiciales y administrati vas certificadas en norma antisoborno /# total de despachos certificados en calidad","1. Gestionar el desarrollo de las competencias, la toma de conciencia , la cultura  organizacional  y el compromiso de los  servidores judiciales, contratistas, practicantes y  judicantes de contribuir a generar valor público en la administración de justicia, en el marco de  cumplimiento de los requisitos  aplicables y el comportamiento ético.\n3. Fomentar la transparencia y la participación generando lineamientos y promoviendo la rendición de cuentas ,la consulta, reporte y planteamiento de inquietudes en relación con las decisiones y aspectos del SIGCMA.",{"$f":"IFERROR([10]INVERSION!$G$136,\"\")","v":0},{"$f":"IFERROR([10]INVERSION!$H$136,\"\")","v":0},{"$f":"IFERROR([10]INVERSION!$I$136,\"\")","v":0},{"$f":"IFERROR([10]INVERSION!$J$136,\"\")","v":0},{"$f":"IFERROR([10]INVERSION!$K$136,\"\")","v":0},{"$f":"IFERROR([10]INVERSION!$L$136,\"\")","v":0},{"$f":"IFERROR([10]INVERSION!$M$136,\"\")","v":0},{"$f":"IFERROR([10]INVERSION!$N$136,\"\")","v":0},{"$f":"IFERROR([10]INVERSION!$O$136,\"\")","v":0},{"$f":"IFERROR([10]INVERSION!$P$136,\"\")","v":0},{"$f":"IFERROR([10]INVERSION!$Q$136,\"\")","v":0},{"$f":"IFERROR([10]INVERSION!$R$136,\"\")","v":0},{"$f":"IFERROR([10]INVERSION!$S$136,\"\")","v":"00:00:00"},{"$f":"IFERROR([10]INVERSION!$T$136,\"\")","v":"00:00:00"},{"$f":"IFERROR([10]INVERSION!$U$136,\"\")","v":0},{"$f":"IFERROR([10]INVERSION!$V$136,\"\")","v":0},{"$f":"IFERROR([10]INVERSION!$W$136,\"\")","v":0},{"$f":"IFERROR([10]INVERSION!$X$136,\"\")","v":0},{"$f":"IFERROR([10]INVERSION!$Y$136,\"\")","v":0},null,null,null,"","",null,{"$f":"IFERROR(P136-AB136,\"\")","v":0}]
[null,null,null,null,null,null,{"$f":"IFERROR([10]INVERSION!$G$137,\"\")","v":0},{"$f":"IFERROR([10]INVERSION!$H$137,\"\")","v":0},{"$f":"IFERROR([10]INVERSION!$I$137,\"\")","v":0},{"$f":"IFERROR([10]INVERSION!$J$137,\"\")","v":0},{"$f":"IFERROR([10]INVERSION!$K$137,\"\")","v":0},{"$f":"IFERROR([10]INVERSION!$L$137,\"\")","v":0},{"$f":"IFERROR([10]INVERSION!$M$137,\"\")","v":0},{"$f":"IFERROR([10]INVERSION!$N$137,\"\")","v":0},{"$f":"IFERROR([10]INVERSION!$O$137,\"\")","v":0},{"$f":"IFERROR([10]INVERSION!$P$137,\"\")","v":0},{"$f":"IFERROR([10]INVERSION!$Q$137,\"\")","v":0},{"$f":"IFERROR([10]INVERSION!$R$137,\"\")","v":0},{"$f":"IFERROR([10]INVERSION!$S$137,\"\")","v":"00:00:00"},{"$f":"IFERROR([10]INVERSION!$T$137,\"\")","v":"00:00:00"},{"$f":"IFERROR([10]INVERSION!$U$137,\"\")","v":0},{"$f":"IFERROR([10]INVERSION!$V$137,\"\")","v":0},{"$f":"IFERROR([10]INVERSION!$W$137,\"\")","v":0},{"$f":"IFERROR([10]INVERSION!$X$137,\"\")","v":0},{"$f":"IFERROR([10]INVERSION!$Y$137,\"\")","v":0},null,null,null,{"$f":"IFERROR(AB137/P137,\"\")","v":""},{"$f":"IFERROR(AA137/Y137,\"\")","v":""},null,0]
[null,null,null,null,null,null,{"$f":"IFERROR([10]INVERSION!$G$138,\"\")","v":0},{"$f":"IFERROR([10]INVERSION!$H$138,\"\")","v":0},{"$f":"IFERROR([10]INVERSION!$I$138,\"\")","v":0},{"$f":"IFERROR([10]INVERSION!$J$138,\"\")","v":0},{"$f":"IFERROR([10]INVERSION!$K$138,\"\")","v":0},{"$f":"IFERROR([10]INVERSION!$L$138,\"\")","v":0},{"$f":"IFERROR([10]INVERSION!$M$138,\"\")","v":0},{"$f":"IFERROR([10]INVERSION!$N$138,\"\")","v":0},{"$f":"IFERROR([10]INVERSION!$O$138,\"\")","v":0},{"$f":"IFERROR([10]INVERSION!$P$138,\"\")","v":0},{"$f":"IFERROR([10]INVERSION!$Q$138,\"\")","v":0},{"$f":"IFERROR([10]INVERSION!$R$138,\"\")","v":0},{"$f":"IFERROR([10]INVERSION!$S$138,\"\")","v":"00:00:00"},{"$f":"IFERROR([10]INVERSION!$T$138,\"\")","v":"00:00:00"},{"$f":"IFERROR([10]INVERSION!$U$138,\"\")","v":0},{"$f":"IFERROR([10]INVERSION!$V$138,\"\")","v":0},{"$f":"IFERROR([10]INVERSION!$W$138,\"\")","v":0},{"$f":"IFERROR([10]INVERSION!$X$138,\"\")","v":0},{"$f":"IFERROR([10]INVERSION!$Y$138,\"\")","v":0}]
[null,null,null,null,null,null,{"$f":"IFERROR([10]INVERSION!$G$139,\"\")","v":0},{"$f":"IFERROR([10]INVERSION!$H$139,\"\")","v":0},{"$f":"IFERROR([10]INVERSION!$I$139,\"\")","v":0},{"$f":"IFERROR([10]INVERSION!$J$139,\"\")","v":0},{"$f":"IFERROR([10]INVERSION!$K$139,\"\")","v":0},{"$f":"IFERROR([10]INVERSION!$L$139,\"\")","v":0},{"$f":"IFERROR([10]INVERSION!$M$139,\"\")","v":0},{"$f":"IFERROR([10]INVERSION!$N$139,\"\")","v":0},{"$f":"IFERROR([10]INVERSION!$O$139,\"\")","v":0},{"$f":"IFERROR([10]INVERSION!$P$139,\"\")","v":0},{"$f":"IFERROR([10]INVERSION!$Q$139,\"\")","v":0},{"$f":"IFERROR([10]INVERSION!$R$139,\"\")","v":0},{"$f":"IFERROR([10]INVERSION!$S$139,\"\")","v":"00:00:00"},{"$f":"IFERROR([10]INVERSION!$T$139,\"\")","v":"00:00:00"},{"$f":"IFERROR([10]INVERSION!$U$139,\"\")","v":0},{"$f":"IFERROR([10]INVERSION!$V$139,\"\")","v":0},{"$f":"IFERROR([10]INVERSION!$W$139,\"\")","v":0},{"$f":"IFERROR([10]INVERSION!$X$139,\"\")","v":0},{"$f":"IFERROR([10]INVERSION!$Y$139,\"\")","v":0}]
[null,null,null,null,null,null,{"$f":"IFERROR([10]INVERSION!$G$140,\"\")","v":0},{"$f":"IFERROR([10]INVERSION!$H$140,\"\")","v":0},{"$f":"IFERROR([10]INVERSION!$I$140,\"\")","v":0},{"$f":"IFERROR([10]INVERSION!$J$140,\"\")","v":0},{"$f":"IFERROR([10]INVERSION!$K$140,\"\")","v":0},{"$f":"IFERROR([10]INVERSION!$L$140,\"\")","v":0},{"$f":"IFERROR([10]INVERSION!$M$140,\"\")","v":0},{"$f":"IFERROR([10]INVERSION!$N$140,\"\")","v":0},{"$f":"IFERROR([10]INVERSION!$O$140,\"\")","v":0},{"$f":"IFERROR([10]INVERSION!$P$140,\"\")","v":0},{"$f":"IFERROR([10]INVERSION!$Q$140,\"\")","v":0},{"$f":"IFERROR([10]INVERSION!$R$140,\"\")","v":0},{"$f":"IFERROR([10]INVERSION!$S$140,\"\")","v":"00:00:00"},{"$f":"IFERROR([10]INVERSION!$T$140,\"\")","v":"00:00:00"},{"$f":"IFERROR([10]INVERSION!$U$140,\"\")","v":0},{"$f":"IFERROR([10]INVERSION!$V$140,\"\")","v":0},{"$f":"IFERROR([10]INVERSION!$W$140,\"\")","v":0},{"$f":"IFERROR([10]INVERSION!$X$140,\"\")","v":0},{"$f":"IFERROR([10]INVERSION!$Y$140,\"\")","v":0}]
[null,null,null,null,null,null,{"$f":"IFERROR([10]INVERSION!$G$141,\"\")","v":0},{"$f":"IFERROR([10]INVERSION!$H$141,\"\")","v":0},{"$f":"IFERROR([10]INVERSION!$I$141,\"\")","v":0},{"$f":"IFERROR([10]INVERSION!$J$141,\"\")","v":0},{"$f":"IFERROR([10]INVERSION!$K$141,\"\")","v":0},{"$f":"IFERROR([10]INVERSION!$L$141,\"\")","v":0},{"$f":"IFERROR([10]INVERSION!$M$141,\"\")","v":0},{"$f":"IFERROR([10]INVERSION!$N$141,\"\")","v":0},{"$f":"IFERROR([10]INVERSION!$O$141,\"\")","v":0},{"$f":"IFERROR([10]INVERSION!$P$141,\"\")","v":0},{"$f":"IFERROR([10]INVERSION!$Q$141,\"\")","v":0},{"$f":"IFERROR([10]INVERSION!$R$141,\"\")","v":0},{"$f":"IFERROR([10]INVERSION!$S$141,\"\")","v":"00:00:00"},{"$f":"IFERROR([10]INVERSION!$T$141,\"\")","v":"00:00:00"},{"$f":"IFERROR([10]INVERSION!$U$141,\"\")","v":0},{"$f":"IFERROR([10]INVERSION!$V$141,\"\")","v":0},{"$f":"IFERROR([10]INVERSION!$W$141,\"\")","v":0},{"$f":"IFERROR([10]INVERSION!$X$141,\"\")","v":0},{"$f":"IFERROR([10]INVERSION!$Y$141,\"\")","v":0}]
[null,null,null,null,null,null,{"$f":"IFERROR([10]INVERSION!$G$142,\"\")","v":0},{"$f":"IFERROR([10]INVERSION!$H$142,\"\")","v":0},{"$f":"IFERROR([10]INVERSION!$I$142,\"\")","v":0},{"$f":"IFERROR([10]INVERSION!$J$142,\"\")","v":0},{"$f":"IFERROR([10]INVERSION!$K$142,\"\")","v":0},{"$f":"IFERROR([10]INVERSION!$L$142,\"\")","v":0},{"$f":"IFERROR([10]INVERSION!$M$142,\"\")","v":0},{"$f":"IFERROR([10]INVERSION!$N$142,\"\")","v":0},{"$f":"IFERROR([10]INVERSION!$O$142,\"\")","v":0},{"$f":"IFERROR([10]INVERSION!$P$142,\"\")","v":0},{"$f":"IFERROR([10]INVERSION!$Q$142,\"\")","v":0},{"$f":"IFERROR([10]INVERSION!$R$142,\"\")","v":0},{"$f":"IFERROR([10]INVERSION!$S$142,\"\")","v":"00:00:00"},{"$f":"IFERROR([10]INVERSION!$T$142,\"\")","v":"00:00:00"},{"$f":"IFERROR([10]INVERSION!$U$142,\"\")","v":0},{"$f":"IFERROR([10]INVERSION!$V$142,\"\")","v":0},{"$f":"IFERROR([10]INVERSION!$W$142,\"\")","v":0},{"$f":"IFERROR([10]INVERSION!$X$142,\"\")","v":0},{"$f":"IFERROR([10]INVERSION!$Y$142,\"\")","v":0}]
[null,null,null,null,null,null,{"$f":"IFERROR([10]INVERSION!$G$143,\"\")","v":0},{"$f":"IFERROR([10]INVERSION!$H$143,\"\")","v":0},{"$f":"IFERROR([10]INVERSION!$I$143,\"\")","v":0},{"$f":"IFERROR([10]INVERSION!$J$143,\"\")","v":0},{"$f":"IFERROR([10]INVERSION!$K$143,\"\")","v":0},{"$f":"IFERROR([10]INVERSION!$L$143,\"\")","v":0},{"$f":"IFERROR([10]INVERSION!$M$143,\"\")","v":0},{"$f":"IFERROR([10]INVERSION!$N$143,\"\")","v":0},{"$f":"IFERROR([10]INVERSION!$O$143,\"\")","v":0},{"$f":"IFERROR([10]INVERSION!$P$143,\"\")","v":0},{"$f":"IFERROR([10]INVERSION!$Q$143,\"\")","v":0},{"$f":"IFERROR([10]INVERSION!$R$143,\"\")","v":0},{"$f":"IFERROR([10]INVERSION!$S$143,\"\")","v":"00:00:00"},{"$f":"IFERROR([10]INVERSION!$T$143,\"\")","v":"00:00:00"},{"$f":"IFERROR([10]INVERSION!$U$143,\"\")","v":0},{"$f":"IFERROR([10]INVERSION!$V$143,\"\")","v":0},{"$f":"IFERROR([10]INVERSION!$W$143,\"\")","v":0},{"$f":"IFERROR([10]INVERSION!$X$143,\"\")","v":0},{"$f":"IFERROR([10]INVERSION!$Y$143,\"\")","v":0},null,null,null,"","",null,0]
[null,null,null,null,null,null,{"$f":"IFERROR([10]INVERSION!$G$144,\"\")","v":0},{"$f":"IFERROR([10]INVERSION!$H$144,\"\")","v":0},{"$f":"IFERROR([10]INVERSION!$I$144,\"\")","v":0},{"$f":"IFERROR([10]INVERSION!$J$144,\"\")","v":0},{"$f":"IFERROR([10]INVERSION!$K$144,\"\")","v":0},{"$f":"IFERROR([10]INVERSION!$L$144,\"\")","v":0},{"$f":"IFERROR([10]INVERSION!$M$144,\"\")","v":0},{"$f":"IFERROR([10]INVERSION!$N$144,\"\")","v":0},{"$f":"IFERROR([10]INVERSION!$O$144,\"\")","v":0},{"$f":"IFERROR([10]INVERSION!$P$144,\"\")","v":0},{"$f":"IFERROR([10]INVERSION!$Q$144,\"\")","v":0},{"$f":"IFERROR([10]INVERSION!$R$144,\"\")","v":0},{"$f":"IFERROR([10]INVERSION!$S$144,\"\")","v":"00:00:00"},{"$f":"IFERROR([10]INVERSION!$T$144,\"\")","v":"00:00:00"},{"$f":"IFERROR([10]INVERSION!$U$144,\"\")","v":0},{"$f":"IFERROR([10]INVERSION!$V$144,\"\")","v":0},{"$f":"IFERROR([10]INVERSION!$W$144,\"\")","v":0},{"$f":"IFERROR([10]INVERSION!$X$144,\"\")","v":0},{"$f":"IFERROR([10]INVERSION!$Y$144,\"\")","v":0},null,null,null,"","",null,0]
[null,null,null,null,null,null,{"$f":"IFERROR([10]INVERSION!$G$145,\"\")","v":0},{"$f":"IFERROR([10]INVERSION!$H$145,\"\")","v":0},{"$f":"IFERROR([10]INVERSION!$I$145,\"\")","v":0},{"$f":"IFERROR([10]INVERSION!$J$145,\"\")","v":0},{"$f":"IFERROR([10]INVERSION!$K$145,\"\")","v":0},{"$f":"IFERROR([10]INVERSION!$L$145,\"\")","v":0},{"$f":"IFERROR([10]INVERSION!$M$145,\"\")","v":0},{"$f":"IFERROR([10]INVERSION!$N$145,\"\")","v":0},{"$f":"IFERROR([10]INVERSION!$O$145,\"\")","v":0},{"$f":"IFERROR([10]INVERSION!$P$145,\"\")","v":0},{"$f":"IFERROR([10]INVERSION!$Q$145,\"\")","v":0},{"$f":"IFERROR([10]INVERSION!$R$145,\"\")","v":0},{"$f":"IFERROR([10]INVERSION!$S$145,\"\")","v":"00:00:00"},{"$f":"IFERROR([10]INVERSION!$T$145,\"\")","v":"00:00:00"},{"$f":"IFERROR([10]INVERSION!$U$145,\"\")","v":0},{"$f":"IFERROR([10]INVERSION!$V$145,\"\")","v":0},{"$f":"IFERROR([10]INVERSION!$W$145,\"\")","v":0},{"$f":"IFERROR([10]INVERSION!$X$145,\"\")","v":0},{"$f":"IFERROR([10]INVERSION!$Y$145,\"\")","v":0},null,null,null,"","",null,0]
[null,null,"4. Aumentar la confianza, la cercanía y acceso a los servicios de la Rama Judicial a través, entre otros, de una comunicación clara y asertiva con la ciudadanía.","Satisfacción de la ciudadanía con la administración de justicia","% de satisfacción de la ciudadanía alto o muy alto con la administraci ón de justicia","3. Fomentar la transparencia y la participación generando lineamientos y promoviendo la rendición de cuentas ,la consulta, reporte y planteamiento de inquietudes en relación con las decisiones y aspectos del SIGCMA.",{"$f":"IFERROR([10]INVERSION!$G$146,\"\")","v":0},{"$f":"IFERROR([10]INVERSION!$H$146,\"\")","v":0},{"$f":"IFERROR([10]INVERSION!$I$146,\"\")","v":0},{"$f":"IFERROR([10]INVERSION!$J$146,\"\")","v":0},{"$f":"IFERROR([10]INVERSION!$K$146,\"\")","v":0},{"$f":"IFERROR([10]INVERSION!$L$146,\"\")","v":0},{"$f":"IFERROR([10]INVERSION!$M$146,\"\")","v":0},{"$f":"IFERROR([10]INVERSION!$N$146,\"\")","v":0},{"$f":"IFERROR([10]INVERSION!$O$146,\"\")","v":0},{"$f":"IFERROR([10]INVERSION!$P$146,\"\")","v":0},{"$f":"IFERROR([10]INVERSION!$Q$146,\"\")","v":0},{"$f":"IFERROR([10]INVERSION!$R$146,\"\")","v":0},{"$f":"IFERROR([10]INVERSION!$S$146,\"\")","v":"00:00:00"},{"$f":"IFERROR([10]INVERSION!$T$146,\"\")","v":"00:00:00"},{"$f":"IFERROR([10]INVERSION!$U$146,\"\")","v":0},{"$f":"IFERROR([10]INVERSION!$V$146,\"\")","v":0},{"$f":"IFERROR([10]INVERSION!$W$146,\"\")","v":0},{"$f":"IFERROR([10]INVERSION!$X$146,\"\")","v":0},{"$f":"IFERROR([10]INVERSION!$Y$146,\"\")","v":0},null,null,null,"","",null,0]
[null,null,null,null,null,null,{"$f":"IFERROR([10]INVERSION!$G$147,\"\")","v":0},{"$f":"IFERROR([10]INVERSION!$H$147,\"\")","v":0},{"$f":"IFERROR([10]INVERSION!$I$147,\"\")","v":0},{"$f":"IFERROR([10]INVERSION!$J$147,\"\")","v":0},{"$f":"IFERROR([10]INVERSION!$K$147,\"\")","v":0},{"$f":"IFERROR([10]INVERSION!$L$147,\"\")","v":0},{"$f":"IFERROR([10]INVERSION!$M$147,\"\")","v":0},{"$f":"IFERROR([10]INVERSION!$N$147,\"\")","v":0},{"$f":"IFERROR([10]INVERSION!$O$147,\"\")","v":0},{"$f":"IFERROR([10]INVERSION!$P$147,\"\")","v":0},{"$f":"IFERROR([10]INVERSION!$Q$147,\"\")","v":0},{"$f":"IFERROR([10]INVERSION!$R$147,\"\")","v":0},{"$f":"IFERROR([10]INVERSION!$S$147,\"\")","v":"00:00:00"},{"$f":"IFERROR([10]INVERSION!$T$147,\"\")","v":"00:00:00"},{"$f":"IFERROR([10]INVERSION!$U$147,\"\")","v":0},{"$f":"IFERROR([10]INVERSION!$V$147,\"\")","v":0},{"$f":"IFERROR([10]INVERSION!$W$147,\"\")","v":0},{"$f":"IFERROR([10]INVERSION!$X$147,\"\")","v":0},{"$f":"IFERROR([10]INVERSION!$Y$147,\"\")","v":0},null,null,null,"","",null,0]
[null,null,null,null,null,null,{"$f":"IFERROR([10]INVERSION!$G$148,\"\")","v":0},{"$f":"IFERROR([10]INVERSION!$H$148,\"\")","v":0},{"$f":"IFERROR([10]INVERSION!$I$148,\"\")","v":0},{"$f":"IFERROR([10]INVERSION!$J$148,\"\")","v":0},{"$f":"IFERROR([10]INVERSION!$K$148,\"\")","v":0},{"$f":"IFERROR([10]INVERSION!$L$148,\"\")","v":0},{"$f":"IFERROR([10]INVERSION!$M$148,\"\")","v":0},{"$f":"IFERROR([10]INVERSION!$N$148,\"\")","v":0},{"$f":"IFERROR([10]INVERSION!$O$148,\"\")","v":0},{"$f":"IFERROR([10]INVERSION!$P$148,\"\")","v":0},{"$f":"IFERROR([10]INVERSION!$Q$148,\"\")","v":0},{"$f":"IFERROR([10]INVERSION!$R$148,\"\")","v":0},{"$f":"IFERROR([10]INVERSION!$S$148,\"\")","v":"00:00:00"},{"$f":"IFERROR([10]INVERSION!$T$148,\"\")","v":"00:00:00"},{"$f":"IFERROR([10]INVERSION!$U$148,\"\")","v":0},{"$f":"IFERROR([10]INVERSION!$V$148,\"\")","v":0},{"$f":"IFERROR([10]INVERSION!$W$148,\"\")","v":0},{"$f":"IFERROR([10]INVERSION!$X$148,\"\")","v":0},{"$f":"IFERROR([10]INVERSION!$Y$148,\"\")","v":0}]
[null,null,null,null,null,null,{"$f":"IFERROR([10]INVERSION!$G$149,\"\")","v":0},{"$f":"IFERROR([10]INVERSION!$H$149,\"\")","v":0},{"$f":"IFERROR([10]INVERSION!$I$149,\"\")","v":0},{"$f":"IFERROR([10]INVERSION!$J$149,\"\")","v":0},{"$f":"IFERROR([10]INVERSION!$K$149,\"\")","v":0},{"$f":"IFERROR([10]INVERSION!$L$149,\"\")","v":0},{"$f":"IFERROR([10]INVERSION!$M$149,\"\")","v":0},{"$f":"IFERROR([10]INVERSION!$N$149,\"\")","v":0},{"$f":"IFERROR([10]INVERSION!$O$149,\"\")","v":0},{"$f":"IFERROR([10]INVERSION!$P$149,\"\")","v":0},{"$f":"IFERROR([10]INVERSION!$Q$149,\"\")","v":0},{"$f":"IFERROR([10]INVERSION!$R$149,\"\")","v":0},{"$f":"IFERROR([10]INVERSION!$S$149,\"\")","v":"00:00:00"},{"$f":"IFERROR([10]INVERSION!$T$149,\"\")","v":"00:00:00"},{"$f":"IFERROR([10]INVERSION!$U$149,\"\")","v":0},{"$f":"IFERROR([10]INVERSION!$V$149,\"\")","v":0},{"$f":"IFERROR([10]INVERSION!$W$149,\"\")","v":0},{"$f":"IFERROR([10]INVERSION!$X$149,\"\")","v":0},{"$f":"IFERROR([10]INVERSION!$Y$149,\"\")","v":0}]
[null,null,null,null,null,null,{"$f":"IFERROR([10]INVERSION!$G$150,\"\")","v":0},{"$f":"IFERROR([10]INVERSION!$H$150,\"\")","v":0},{"$f":"IFERROR([10]INVERSION!$I$150,\"\")","v":0},{"$f":"IFERROR([10]INVERSION!$J$150,\"\")","v":0},{"$f":"IFERROR([10]INVERSION!$K$150,\"\")","v":0},{"$f":"IFERROR([10]INVERSION!$L$150,\"\")","v":0},{"$f":"IFERROR([10]INVERSION!$M$150,\"\")","v":0},{"$f":"IFERROR([10]INVERSION!$N$150,\"\")","v":0},{"$f":"IFERROR([10]INVERSION!$O$150,\"\")","v":0},{"$f":"IFERROR([10]INVERSION!$P$150,\"\")","v":0},{"$f":"IFERROR([10]INVERSION!$Q$150,\"\")","v":0},{"$f":"IFERROR([10]INVERSION!$R$150,\"\")","v":0},{"$f":"IFERROR([10]INVERSION!$S$150,\"\")","v":"00:00:00"},{"$f":"IFERROR([10]INVERSION!$T$150,\"\")","v":"00:00:00"},{"$f":"IFERROR([10]INVERSION!$U$150,\"\")","v":0},{"$f":"IFERROR([10]INVERSION!$V$150,\"\")","v":0},{"$f":"IFERROR([10]INVERSION!$W$150,\"\")","v":0},{"$f":"IFERROR([10]INVERSION!$X$150,\"\")","v":0},{"$f":"IFERROR([10]INVERSION!$Y$150,\"\")","v":0}]
[null,null,null,null,null,null,{"$f":"IFERROR([10]INVERSION!$G$151,\"\")","v":0},{"$f":"IFERROR([10]INVERSION!$H$151,\"\")","v":0},{"$f":"IFERROR([10]INVERSION!$I$151,\"\")","v":0},{"$f":"IFERROR([10]INVERSION!$J$151,\"\")","v":0},{"$f":"IFERROR([10]INVERSION!$K$151,\"\")","v":0},{"$f":"IFERROR([10]INVERSION!$L$151,\"\")","v":0},{"$f":"IFERROR([10]INVERSION!$M$151,\"\")","v":0},{"$f":"IFERROR([10]INVERSION!$N$151,\"\")","v":0},{"$f":"IFERROR([10]INVERSION!$O$151,\"\")","v":0},{"$f":"IFERROR([10]INVERSION!$P$151,\"\")","v":0},{"$f":"IFERROR([10]INVERSION!$Q$151,\"\")","v":0},{"$f":"IFERROR([10]INVERSION!$R$151,\"\")","v":0},{"$f":"IFERROR([10]INVERSION!$S$151,\"\")","v":"00:00:00"},{"$f":"IFERROR([10]INVERSION!$T$151,\"\")","v":"00:00:00"},{"$f":"IFERROR([10]INVERSION!$U$151,\"\")","v":0},{"$f":"IFERROR([10]INVERSION!$V$151,\"\")","v":0},{"$f":"IFERROR([10]INVERSION!$W$151,\"\")","v":0},{"$f":"IFERROR([10]INVERSION!$X$151,\"\")","v":0},{"$f":"IFERROR([10]INVERSION!$Y$151,\"\")","v":0}]
[null,null,null,null,null,null,{"$f":"IFERROR([10]INVERSION!$G$152,\"\")","v":0},{"$f":"IFERROR([10]INVERSION!$H$152,\"\")","v":0},{"$f":"IFERROR([10]INVERSION!$I$152,\"\")","v":0},{"$f":"IFERROR([10]INVERSION!$J$152,\"\")","v":0},{"$f":"IFERROR([10]INVERSION!$K$152,\"\")","v":0},{"$f":"IFERROR([10]INVERSION!$L$152,\"\")","v":0},{"$f":"IFERROR([10]INVERSION!$M$152,\"\")","v":0},{"$f":"IFERROR([10]INVERSION!$N$152,\"\")","v":0},{"$f":"IFERROR([10]INVERSION!$O$152,\"\")","v":0},{"$f":"IFERROR([10]INVERSION!$P$152,\"\")","v":0},{"$f":"IFERROR([10]INVERSION!$Q$152,\"\")","v":0},{"$f":"IFERROR([10]INVERSION!$R$152,\"\")","v":0},{"$f":"IFERROR([10]INVERSION!$S$152,\"\")","v":"00:00:00"},{"$f":"IFERROR([10]INVERSION!$T$152,\"\")","v":"00:00:00"},{"$f":"IFERROR([10]INVERSION!$U$152,\"\")","v":0},{"$f":"IFERROR([10]INVERSION!$V$152,\"\")","v":0},{"$f":"IFERROR([10]INVERSION!$W$152,\"\")","v":0},{"$f":"IFERROR([10]INVERSION!$X$152,\"\")","v":0},{"$f":"IFERROR([10]INVERSION!$Y$152,\"\")","v":0}]
[null,null,null,null,null,null,{"$f":"IFERROR([10]INVERSION!$G$153,\"\")","v":0},{"$f":"IFERROR([10]INVERSION!$H$153,\"\")","v":0},{"$f":"IFERROR([10]INVERSION!$I$153,\"\")","v":0},{"$f":"IFERROR([10]INVERSION!$J$153,\"\")","v":0},{"$f":"IFERROR([10]INVERSION!$K$153,\"\")","v":0},{"$f":"IFERROR([10]INVERSION!$L$153,\"\")","v":0},{"$f":"IFERROR([10]INVERSION!$M$153,\"\")","v":0},{"$f":"IFERROR([10]INVERSION!$N$153,\"\")","v":0},{"$f":"IFERROR([10]INVERSION!$O$153,\"\")","v":0},{"$f":"IFERROR([10]INVERSION!$P$153,\"\")","v":0},{"$f":"IFERROR([10]INVERSION!$Q$153,\"\")","v":0},{"$f":"IFERROR([10]INVERSION!$R$153,\"\")","v":0},{"$f":"IFERROR([10]INVERSION!$S$153,\"\")","v":"00:00:00"},{"$f":"IFERROR([10]INVERSION!$T$153,\"\")","v":"00:00:00"},{"$f":"IFERROR([10]INVERSION!$U$153,\"\")","v":0},{"$f":"IFERROR([10]INVERSION!$V$153,\"\")","v":0},{"$f":"IFERROR([10]INVERSION!$W$153,\"\")","v":0},{"$f":"IFERROR([10]INVERSION!$X$153,\"\")","v":0},{"$f":"IFERROR([10]INVERSION!$Y$153,\"\")","v":0},null,null,null,"","",null,0]
[null,null,null,null,null,null,{"$f":"IFERROR([10]INVERSION!$G$154,\"\")","v":0},{"$f":"IFERROR([10]INVERSION!$H$154,\"\")","v":0},{"$f":"IFERROR([10]INVERSION!$I$154,\"\")","v":0},{"$f":"IFERROR([10]INVERSION!$J$154,\"\")","v":0},{"$f":"IFERROR([10]INVERSION!$K$154,\"\")","v":0},{"$f":"IFERROR([10]INVERSION!$L$154,\"\")","v":0},{"$f":"IFERROR([10]INVERSION!$M$154,\"\")","v":0},{"$f":"IFERROR([10]INVERSION!$N$154,\"\")","v":0},{"$f":"IFERROR([10]INVERSION!$O$154,\"\")","v":0},{"$f":"IFERROR([10]INVERSION!$P$154,\"\")","v":0},{"$f":"IFERROR([10]INVERSION!$Q$154,\"\")","v":0},{"$f":"IFERROR([10]INVERSION!$R$154,\"\")","v":0},{"$f":"IFERROR([10]INVERSION!$S$154,\"\")","v":"00:00:00"},{"$f":"IFERROR([10]INVERSION!$T$154,\"\")","v":"00:00:00"},{"$f":"IFERROR([10]INVERSION!$U$154,\"\")","v":0},{"$f":"IFERROR([10]INVERSION!$V$154,\"\")","v":0},{"$f":"IFERROR([10]INVERSION!$W$154,\"\")","v":0},{"$f":"IFERROR([10]INVERSION!$X$154,\"\")","v":0},{"$f":"IFERROR([10]INVERSION!$Y$154,\"\")","v":0},null,null,null,"","",null,0]
[null,null,null,null,null,null,{"$f":"IFERROR([10]INVERSION!$G$155,\"\")","v":0},{"$f":"IFERROR([10]INVERSION!$H$155,\"\")","v":0},{"$f":"IFERROR([10]INVERSION!$I$155,\"\")","v":0},{"$f":"IFERROR([10]INVERSION!$J$155,\"\")","v":0},{"$f":"IFERROR([10]INVERSION!$K$155,\"\")","v":0},{"$f":"IFERROR([10]INVERSION!$L$155,\"\")","v":0},{"$f":"IFERROR([10]INVERSION!$M$155,\"\")","v":0},{"$f":"IFERROR([10]INVERSION!$N$155,\"\")","v":0},{"$f":"IFERROR([10]INVERSION!$O$155,\"\")","v":0},{"$f":"IFERROR([10]INVERSION!$P$155,\"\")","v":0},{"$f":"IFERROR([10]INVERSION!$Q$155,\"\")","v":0},{"$f":"IFERROR([10]INVERSION!$R$155,\"\")","v":0},{"$f":"IFERROR([10]INVERSION!$S$155,\"\")","v":"00:00:00"},{"$f":"IFERROR([10]INVERSION!$T$155,\"\")","v":"00:00:00"},{"$f":"IFERROR([10]INVERSION!$U$155,\"\")","v":0},{"$f":"IFERROR([10]INVERSION!$V$155,\"\")","v":0},{"$f":"IFERROR([10]INVERSION!$W$155,\"\")","v":0},{"$f":"IFERROR([10]INVERSION!$X$155,\"\")","v":0},{"$f":"IFERROR([10]INVERSION!$Y$155,\"\")","v":0},null,null,null,"","",null,0]
[null,null,"5. Prevenir fenómenos asociados con actos de corrupción en la Rama Judicial y reducir las experiencias de corrupción de usuarios y servidores judiciales.","Cumplimiento del Plan Anticorrupción y de Atención al Ciudadano de la Rama Judicial","# Actividades cumplidas del PAAC/# Actividades programada s del PAAC*100",null,{"$f":"IFERROR([10]INVERSION!$G$156,\"\")","v":0},{"$f":"IFERROR([10]INVERSION!$H$156,\"\")","v":0},{"$f":"IFERROR([10]INVERSION!$I$156,\"\")","v":0},{"$f":"IFERROR([10]INVERSION!$J$156,\"\")","v":0},{"$f":"IFERROR([10]INVERSION!$K$156,\"\")","v":0},{"$f":"IFERROR([10]INVERSION!$L$156,\"\")","v":0},{"$f":"IFERROR([10]INVERSION!$M$156,\"\")","v":0},{"$f":"IFERROR([10]INVERSION!$N$156,\"\")","v":0},{"$f":"IFERROR([10]INVERSION!$O$156,\"\")","v":0},{"$f":"IFERROR([10]INVERSION!$P$156,\"\")","v":0},{"$f":"IFERROR([10]INVERSION!$Q$156,\"\")","v":0},{"$f":"IFERROR([10]INVERSION!$R$156,\"\")","v":0},{"$f":"IFERROR([10]INVERSION!$S$156,\"\")","v":"00:00:00"},{"$f":"IFERROR([10]INVERSION!$T$156,\"\")","v":"00:00:00"},{"$f":"IFERROR([10]INVERSION!$U$156,\"\")","v":0},{"$f":"IFERROR([10]INVERSION!$V$156,\"\")","v":0},{"$f":"IFERROR([10]INVERSION!$W$156,\"\")","v":0},{"$f":"IFERROR([10]INVERSION!$X$156,\"\")","v":0},{"$f":"IFERROR([10]INVERSION!$Y$156,\"\")","v":0},null,null,null,"","",null,0]
[null,null,null,null,null,null,{"$f":"IFERROR([10]INVERSION!$G$157,\"\")","v":0},{"$f":"IFERROR([10]INVERSION!$H$157,\"\")","v":0},{"$f":"IFERROR([10]INVERSION!$I$157,\"\")","v":0},{"$f":"IFERROR([10]INVERSION!$J$157,\"\")","v":0},{"$f":"IFERROR([10]INVERSION!$K$157,\"\")","v":0},{"$f":"IFERROR([10]INVERSION!$L$157,\"\")","v":0},{"$f":"IFERROR([10]INVERSION!$M$157,\"\")","v":0},{"$f":"IFERROR([10]INVERSION!$N$157,\"\")","v":0},{"$f":"IFERROR([10]INVERSION!$O$157,\"\")","v":0},{"$f":"IFERROR([10]INVERSION!$P$157,\"\")","v":0},{"$f":"IFERROR([10]INVERSION!$Q$157,\"\")","v":0},{"$f":"IFERROR([10]INVERSION!$R$157,\"\")","v":0},{"$f":"IFERROR([10]INVERSION!$S$157,\"\")","v":"00:00:00"},{"$f":"IFERROR([10]INVERSION!$T$157,\"\")","v":"00:00:00"},{"$f":"IFERROR([10]INVERSION!$U$157,\"\")","v":0},{"$f":"IFERROR([10]INVERSION!$V$157,\"\")","v":0},{"$f":"IFERROR([10]INVERSION!$W$157,\"\")","v":0},{"$f":"IFERROR([10]INVERSION!$X$157,\"\")","v":0},{"$f":"IFERROR([10]INVERSION!$Y$157,\"\")","v":0}]
[null,null,null,null,null,null,{"$f":"IFERROR([10]INVERSION!$G$158,\"\")","v":0},{"$f":"IFERROR([10]INVERSION!$H$158,\"\")","v":0},{"$f":"IFERROR([10]INVERSION!$I$158,\"\")","v":0},{"$f":"IFERROR([10]INVERSION!$J$158,\"\")","v":0},{"$f":"IFERROR([10]INVERSION!$K$158,\"\")","v":0},{"$f":"IFERROR([10]INVERSION!$L$158,\"\")","v":0},{"$f":"IFERROR([10]INVERSION!$M$158,\"\")","v":0},{"$f":"IFERROR([10]INVERSION!$N$158,\"\")","v":0},{"$f":"IFERROR([10]INVERSION!$O$158,\"\")","v":0},{"$f":"IFERROR([10]INVERSION!$P$158,\"\")","v":0},{"$f":"IFERROR([10]INVERSION!$Q$158,\"\")","v":0},{"$f":"IFERROR([10]INVERSION!$R$158,\"\")","v":0},{"$f":"IFERROR([10]INVERSION!$S$158,\"\")","v":"00:00:00"},{"$f":"IFERROR([10]INVERSION!$T$158,\"\")","v":"00:00:00"},{"$f":"IFERROR([10]INVERSION!$U$158,\"\")","v":0},{"$f":"IFERROR([10]INVERSION!$V$158,\"\")","v":0},{"$f":"IFERROR([10]INVERSION!$W$158,\"\")","v":0},{"$f":"IFERROR([10]INVERSION!$X$158,\"\")","v":0},{"$f":"IFERROR([10]INVERSION!$Y$158,\"\")","v":0}]
[null,null,null,null,null,null,{"$f":"IFERROR([10]INVERSION!$G$159,\"\")","v":0},{"$f":"IFERROR([10]INVERSION!$H$159,\"\")","v":0},{"$f":"IFERROR([10]INVERSION!$I$159,\"\")","v":0},{"$f":"IFERROR([10]INVERSION!$J$159,\"\")","v":0},{"$f":"IFERROR([10]INVERSION!$K$159,\"\")","v":0},{"$f":"IFERROR([10]INVERSION!$L$159,\"\")","v":0},{"$f":"IFERROR([10]INVERSION!$M$159,\"\")","v":0},{"$f":"IFERROR([10]INVERSION!$N$159,\"\")","v":0},{"$f":"IFERROR([10]INVERSION!$O$159,\"\")","v":0},{"$f":"IFERROR([10]INVERSION!$P$159,\"\")","v":0},{"$f":"IFERROR([10]INVERSION!$Q$159,\"\")","v":0},{"$f":"IFERROR([10]INVERSION!$R$159,\"\")","v":0},{"$f":"IFERROR([10]INVERSION!$S$159,\"\")","v":"00:00:00"},{"$f":"IFERROR([10]INVERSION!$T$159,\"\")","v":"00:00:00"},{"$f":"IFERROR([10]INVERSION!$U$159,\"\")","v":0},{"$f":"IFERROR([10]INVERSION!$V$159,\"\")","v":0},{"$f":"IFERROR([10]INVERSION!$W$159,\"\")","v":0},{"$f":"IFERROR([10]INVERSION!$X$159,\"\")","v":0},{"$f":"IFERROR([10]INVERSION!$Y$159,\"\")","v":0}]
[null,null,null,null,null,null,{"$f":"IFERROR([10]INVERSION!$G$160,\"\")","v":0},{"$f":"IFERROR([10]INVERSION!$H$160,\"\")","v":0},{"$f":"IFERROR([10]INVERSION!$I$160,\"\")","v":0},{"$f":"IFERROR([10]INVERSION!$J$160,\"\")","v":0},{"$f":"IFERROR([10]INVERSION!$K$160,\"\")","v":0},{"$f":"IFERROR([10]INVERSION!$L$160,\"\")","v":0},{"$f":"IFERROR([10]INVERSION!$M$160,\"\")","v":0},{"$f":"IFERROR([10]INVERSION!$N$160,\"\")","v":0},{"$f":"IFERROR([10]INVERSION!$O$160,\"\")","v":0},{"$f":"IFERROR([10]INVERSION!$P$160,\"\")","v":0},{"$f":"IFERROR([10]INVERSION!$Q$160,\"\")","v":0},{"$f":"IFERROR([10]INVERSION!$R$160,\"\")","v":0},{"$f":"IFERROR([10]INVERSION!$S$160,\"\")","v":"00:00:00"},{"$f":"IFERROR([10]INVERSION!$T$160,\"\")","v":"00:00:00"},{"$f":"IFERROR([10]INVERSION!$U$160,\"\")","v":0},{"$f":"IFERROR([10]INVERSION!$V$160,\"\")","v":0},{"$f":"IFERROR([10]INVERSION!$W$160,\"\")","v":0},{"$f":"IFERROR([10]INVERSION!$X$160,\"\")","v":0},{"$f":"IFERROR([10]INVERSION!$Y$160,\"\")","v":0}]
[null,null,null,null,null,null,{"$f":"IFERROR([10]INVERSION!$G$161,\"\")","v":0},{"$f":"IFERROR([10]INVERSION!$H$161,\"\")","v":0},{"$f":"IFERROR([10]INVERSION!$I$161,\"\")","v":0},{"$f":"IFERROR([10]INVERSION!$J$161,\"\")","v":0},{"$f":"IFERROR([10]INVERSION!$K$161,\"\")","v":0},{"$f":"IFERROR([10]INVERSION!$L$161,\"\")","v":0},{"$f":"IFERROR([10]INVERSION!$M$161,\"\")","v":0},{"$f":"IFERROR([10]INVERSION!$N$161,\"\")","v":0},{"$f":"IFERROR([10]INVERSION!$O$161,\"\")","v":0},{"$f":"IFERROR([10]INVERSION!$P$161,\"\")","v":0},{"$f":"IFERROR([10]INVERSION!$Q$161,\"\")","v":0},{"$f":"IFERROR([10]INVERSION!$R$161,\"\")","v":0},{"$f":"IFERROR([10]INVERSION!$S$161,\"\")","v":"00:00:00"},{"$f":"IFERROR([10]INVERSION!$T$161,\"\")","v":"00:00:00"},{"$f":"IFERROR([10]INVERSION!$U$161,\"\")","v":0},{"$f":"IFERROR([10]INVERSION!$V$161,\"\")","v":0},{"$f":"IFERROR([10]INVERSION!$W$161,\"\")","v":0},{"$f":"IFERROR([10]INVERSION!$X$161,\"\")","v":0},{"$f":"IFERROR([10]INVERSION!$Y$161,\"\")","v":0}]
[null,null,null,null,null,null,{"$f":"IFERROR([10]INVERSION!$G$162,\"\")","v":0},{"$f":"IFERROR([10]INVERSION!$H$162,\"\")","v":0},{"$f":"IFERROR([10]INVERSION!$I$162,\"\")","v":0},{"$f":"IFERROR([10]INVERSION!$J$162,\"\")","v":0},{"$f":"IFERROR([10]INVERSION!$K$162,\"\")","v":0},{"$f":"IFERROR([10]INVERSION!$L$162,\"\")","v":0},{"$f":"IFERROR([10]INVERSION!$M$162,\"\")","v":0},{"$f":"IFERROR([10]INVERSION!$N$162,\"\")","v":0},{"$f":"IFERROR([10]INVERSION!$O$162,\"\")","v":0},{"$f":"IFERROR([10]INVERSION!$P$162,\"\")","v":0},{"$f":"IFERROR([10]INVERSION!$Q$162,\"\")","v":0},{"$f":"IFERROR([10]INVERSION!$R$162,\"\")","v":0},{"$f":"IFERROR([10]INVERSION!$S$162,\"\")","v":"00:00:00"},{"$f":"IFERROR([10]INVERSION!$T$162,\"\")","v":"00:00:00"},{"$f":"IFERROR([10]INVERSION!$U$162,\"\")","v":0},{"$f":"IFERROR([10]INVERSION!$V$162,\"\")","v":0},{"$f":"IFERROR([10]INVERSION!$W$162,\"\")","v":0},{"$f":"IFERROR([10]INVERSION!$X$162,\"\")","v":0},{"$f":"IFERROR([10]INVERSION!$Y$162,\"\")","v":0},null,null,null,"","",null,0]
[null,null,null,null,null,null,{"$f":"IFERROR([10]INVERSION!$G$163,\"\")","v":0},{"$f":"IFERROR([10]INVERSION!$H$163,\"\")","v":0},{"$f":"IFERROR([10]INVERSION!$I$163,\"\")","v":0},{"$f":"IFERROR([10]INVERSION!$J$163,\"\")","v":0},{"$f":"IFERROR([10]INVERSION!$K$163,\"\")","v":0},{"$f":"IFERROR([10]INVERSION!$L$163,\"\")","v":0},{"$f":"IFERROR([10]INVERSION!$M$163,\"\")","v":0},{"$f":"IFERROR([10]INVERSION!$N$163,\"\")","v":0},{"$f":"IFERROR([10]INVERSION!$O$163,\"\")","v":0},{"$f":"IFERROR([10]INVERSION!$P$163,\"\")","v":0},{"$f":"IFERROR([10]INVERSION!$Q$163,\"\")","v":0},{"$f":"IFERROR([10]INVERSION!$R$163,\"\")","v":0},{"$f":"IFERROR([10]INVERSION!$S$163,\"\")","v":"00:00:00"},{"$f":"IFERROR([10]INVERSION!$T$163,\"\")","v":"00:00:00"},{"$f":"IFERROR([10]INVERSION!$U$163,\"\")","v":0},{"$f":"IFERROR([10]INVERSION!$V$163,\"\")","v":0},{"$f":"IFERROR([10]INVERSION!$W$163,\"\")","v":0},{"$f":"IFERROR([10]INVERSION!$X$163,\"\")","v":0},{"$f":"IFERROR([10]INVERSION!$Y$163,\"\")","v":0},null,null,null,"","",null,0]
[null,null,null,null,null,null,{"$f":"IFERROR([10]INVERSION!$G$164,\"\")","v":0},{"$f":"IFERROR([10]INVERSION!$H$164,\"\")","v":0},{"$f":"IFERROR([10]INVERSION!$I$164,\"\")","v":0},{"$f":"IFERROR([10]INVERSION!$J$164,\"\")","v":0},{"$f":"IFERROR([10]INVERSION!$K$164,\"\")","v":0},{"$f":"IFERROR([10]INVERSION!$L$164,\"\")","v":0},{"$f":"IFERROR([10]INVERSION!$M$164,\"\")","v":0},{"$f":"IFERROR([10]INVERSION!$N$164,\"\")","v":0},{"$f":"IFERROR([10]INVERSION!$O$164,\"\")","v":0},{"$f":"IFERROR([10]INVERSION!$P$164,\"\")","v":0},{"$f":"IFERROR([10]INVERSION!$Q$164,\"\")","v":0},{"$f":"IFERROR([10]INVERSION!$R$164,\"\")","v":0},{"$f":"IFERROR([10]INVERSION!$S$164,\"\")","v":"00:00:00"},{"$f":"IFERROR([10]INVERSION!$T$164,\"\")","v":"00:00:00"},{"$f":"IFERROR([10]INVERSION!$U$164,\"\")","v":0},{"$f":"IFERROR([10]INVERSION!$V$164,\"\")","v":0},{"$f":"IFERROR([10]INVERSION!$W$164,\"\")","v":0},{"$f":"IFERROR([10]INVERSION!$X$164,\"\")","v":0},{"$f":"IFERROR([10]INVERSION!$Y$164,\"\")","v":0},null,null,null,"","",null,0]
[null,null,null,null,null,null,{"$f":"IFERROR([10]INVERSION!$G$165,\"\")","v":0},{"$f":"IFERROR([10]INVERSION!$H$165,\"\")","v":0},{"$f":"IFERROR([10]INVERSION!$I$165,\"\")","v":0},{"$f":"IFERROR([10]INVERSION!$J$165,\"\")","v":0},{"$f":"IFERROR([10]INVERSION!$K$165,\"\")","v":0},{"$f":"IFERROR([10]INVERSION!$L$165,\"\")","v":0},{"$f":"IFERROR([10]INVERSION!$M$165,\"\")","v":0},{"$f":"IFERROR([10]INVERSION!$N$165,\"\")","v":0},{"$f":"IFERROR([10]INVERSION!$O$165,\"\")","v":0},{"$f":"IFERROR([10]INVERSION!$P$165,\"\")","v":0},{"$f":"IFERROR([10]INVERSION!$Q$165,\"\")","v":0},{"$f":"IFERROR([10]INVERSION!$R$165,\"\")","v":0},{"$f":"IFERROR([10]INVERSION!$S$165,\"\")","v":"00:00:00"},{"$f":"IFERROR([10]INVERSION!$T$165,\"\")","v":"00:00:00"},{"$f":"IFERROR([10]INVERSION!$U$165,\"\")","v":0},{"$f":"IFERROR([10]INVERSION!$V$165,\"\")","v":0},{"$f":"IFERROR([10]INVERSION!$W$165,\"\")","v":0},{"$f":"IFERROR([10]INVERSION!$X$165,\"\")","v":0},{"$f":"IFERROR([10]INVERSION!$Y$165,\"\")","v":0},null,null,null,"","",null,0]
[null,null,"6. Promover la rendición de cuentas y la colaboración real con la ciudadanía como fundamento para diseñar acciones de mejoramiento del acceso a la justicia.","Estrategias para implementar la colaboración real con la ciudadanía en el marco de la \"justicia abierta\" implementadas","% de implementa ción de las estrategias de colaboració n real con la ciudadanía en el marco de la \"justicia abierta\" definidas para cada anualidad",null,{"$f":"IFERROR([10]INVERSION!$G$166,\"\")","v":0},{"$f":"IFERROR([10]INVERSION!$H$166,\"\")","v":0},{"$f":"IFERROR([10]INVERSION!$I$166,\"\")","v":0},{"$f":"IFERROR([10]INVERSION!$J$166,\"\")","v":0},{"$f":"IFERROR([10]INVERSION!$K$166,\"\")","v":0},{"$f":"IFERROR([10]INVERSION!$L$166,\"\")","v":0},{"$f":"IFERROR([10]INVERSION!$M$166,\"\")","v":0},{"$f":"IFERROR([10]INVERSION!$N$166,\"\")","v":0},{"$f":"IFERROR([10]INVERSION!$O$166,\"\")","v":0},{"$f":"IFERROR([10]INVERSION!$P$166,\"\")","v":0},{"$f":"IFERROR([10]INVERSION!$Q$166,\"\")","v":0},{"$f":"IFERROR([10]INVERSION!$R$166,\"\")","v":0},{"$f":"IFERROR([10]INVERSION!$S$166,\"\")","v":"00:00:00"},{"$f":"IFERROR([10]INVERSION!$T$166,\"\")","v":"00:00:00"},{"$f":"IFERROR([10]INVERSION!$U$166,\"\")","v":0},{"$f":"IFERROR([10]INVERSION!$V$166,\"\")","v":0},{"$f":"IFERROR([10]INVERSION!$W$166,\"\")","v":0},{"$f":"IFERROR([10]INVERSION!$X$166,\"\")","v":0},{"$f":"IFERROR([10]INVERSION!$Y$166,\"\")","v":0},null,null,null,"","",null,0]
[null,null,null,null,null,null,{"$f":"IFERROR([10]INVERSION!$G$167,\"\")","v":0},{"$f":"IFERROR([10]INVERSION!$H$167,\"\")","v":0},{"$f":"IFERROR([10]INVERSION!$I$167,\"\")","v":0},{"$f":"IFERROR([10]INVERSION!$J$167,\"\")","v":0},{"$f":"IFERROR([10]INVERSION!$K$167,\"\")","v":0},{"$f":"IFERROR([10]INVERSION!$L$167,\"\")","v":0},{"$f":"IFERROR([10]INVERSION!$M$167,\"\")","v":0},{"$f":"IFERROR([10]INVERSION!$N$167,\"\")","v":0},{"$f":"IFERROR([10]INVERSION!$O$167,\"\")","v":0},{"$f":"IFERROR([10]INVERSION!$P$167,\"\")","v":0},{"$f":"IFERROR([10]INVERSION!$Q$167,\"\")","v":0},{"$f":"IFERROR([10]INVERSION!$R$167,\"\")","v":0},{"$f":"IFERROR([10]INVERSION!$S$167,\"\")","v":"00:00:00"},{"$f":"IFERROR([10]INVERSION!$T$167,\"\")","v":"00:00:00"},{"$f":"IFERROR([10]INVERSION!$U$167,\"\")","v":0},{"$f":"IFERROR([10]INVERSION!$V$167,\"\")","v":0},{"$f":"IFERROR([10]INVERSION!$W$167,\"\")","v":0},{"$f":"IFERROR([10]INVERSION!$X$167,\"\")","v":0},{"$f":"IFERROR([10]INVERSION!$Y$167,\"\")","v":0},null,null,null,"","",null,0]
[null,null,null,null,null,null,{"$f":"IFERROR([10]INVERSION!$G$168,\"\")","v":0},{"$f":"IFERROR([10]INVERSION!$H$168,\"\")","v":0},{"$f":"IFERROR([10]INVERSION!$I$168,\"\")","v":0},{"$f":"IFERROR([10]INVERSION!$J$168,\"\")","v":0},{"$f":"IFERROR([10]INVERSION!$K$168,\"\")","v":0},{"$f":"IFERROR([10]INVERSION!$L$168,\"\")","v":0},{"$f":"IFERROR([10]INVERSION!$M$168,\"\")","v":0},{"$f":"IFERROR([10]INVERSION!$N$168,\"\")","v":0},{"$f":"IFERROR([10]INVERSION!$O$168,\"\")","v":0},{"$f":"IFERROR([10]INVERSION!$P$168,\"\")","v":0},{"$f":"IFERROR([10]INVERSION!$Q$168,\"\")","v":0},{"$f":"IFERROR([10]INVERSION!$R$168,\"\")","v":0},{"$f":"IFERROR([10]INVERSION!$S$168,\"\")","v":"00:00:00"},{"$f":"IFERROR([10]INVERSION!$T$168,\"\")","v":"00:00:00"},{"$f":"IFERROR([10]INVERSION!$U$168,\"\")","v":0},{"$f":"IFERROR([10]INVERSION!$V$168,\"\")","v":0},{"$f":"IFERROR([10]INVERSION!$W$168,\"\")","v":0},{"$f":"IFERROR([10]INVERSION!$X$168,\"\")","v":0},{"$f":"IFERROR([10]INVERSION!$Y$168,\"\")","v":0}]
[null,null,null,null,null,null,{"$f":"IFERROR([10]INVERSION!$G$169,\"\")","v":0},{"$f":"IFERROR([10]INVERSION!$H$169,\"\")","v":0},{"$f":"IFERROR([10]INVERSION!$I$169,\"\")","v":0},{"$f":"IFERROR([10]INVERSION!$J$169,\"\")","v":0},{"$f":"IFERROR([10]INVERSION!$K$169,\"\")","v":0},{"$f":"IFERROR([10]INVERSION!$L$169,\"\")","v":0},{"$f":"IFERROR([10]INVERSION!$M$169,\"\")","v":0},{"$f":"IFERROR([10]INVERSION!$N$169,\"\")","v":0},{"$f":"IFERROR([10]INVERSION!$O$169,\"\")","v":0},{"$f":"IFERROR([10]INVERSION!$P$169,\"\")","v":0},{"$f":"IFERROR([10]INVERSION!$Q$169,\"\")","v":0},{"$f":"IFERROR([10]INVERSION!$R$169,\"\")","v":0},{"$f":"IFERROR([10]INVERSION!$S$169,\"\")","v":"00:00:00"},{"$f":"IFERROR([10]INVERSION!$T$169,\"\")","v":"00:00:00"},{"$f":"IFERROR([10]INVERSION!$U$169,\"\")","v":0},{"$f":"IFERROR([10]INVERSION!$V$169,\"\")","v":0},{"$f":"IFERROR([10]INVERSION!$W$169,\"\")","v":0},{"$f":"IFERROR([10]INVERSION!$X$169,\"\")","v":0},{"$f":"IFERROR([10]INVERSION!$Y$169,\"\")","v":0}]
[null,null,null,null,null,null,{"$f":"IFERROR([10]INVERSION!$G$170,\"\")","v":0},{"$f":"IFERROR([10]INVERSION!$H$170,\"\")","v":0},{"$f":"IFERROR([10]INVERSION!$I$170,\"\")","v":0},{"$f":"IFERROR([10]INVERSION!$J$170,\"\")","v":0},{"$f":"IFERROR([10]INVERSION!$K$170,\"\")","v":0},{"$f":"IFERROR([10]INVERSION!$L$170,\"\")","v":0},{"$f":"IFERROR([10]INVERSION!$M$170,\"\")","v":0},{"$f":"IFERROR([10]INVERSION!$N$170,\"\")","v":0},{"$f":"IFERROR([10]INVERSION!$O$170,\"\")","v":0},{"$f":"IFERROR([10]INVERSION!$P$170,\"\")","v":0},{"$f":"IFERROR([10]INVERSION!$Q$170,\"\")","v":0},{"$f":"IFERROR([10]INVERSION!$R$170,\"\")","v":0},{"$f":"IFERROR([10]INVERSION!$S$170,\"\")","v":"00:00:00"},{"$f":"IFERROR([10]INVERSION!$T$170,\"\")","v":"00:00:00"},{"$f":"IFERROR([10]INVERSION!$U$170,\"\")","v":0},{"$f":"IFERROR([10]INVERSION!$V$170,\"\")","v":0},{"$f":"IFERROR([10]INVERSION!$W$170,\"\")","v":0},{"$f":"IFERROR([10]INVERSION!$X$170,\"\")","v":0},{"$f":"IFERROR([10]INVERSION!$Y$170,\"\")","v":0}]
[null,null,null,null,null,null,{"$f":"IFERROR([10]INVERSION!$G$171,\"\")","v":0},{"$f":"IFERROR([10]INVERSION!$H$171,\"\")","v":0},{"$f":"IFERROR([10]INVERSION!$I$171,\"\")","v":0},{"$f":"IFERROR([10]INVERSION!$J$171,\"\")","v":0},{"$f":"IFERROR([10]INVERSION!$K$171,\"\")","v":0},{"$f":"IFERROR([10]INVERSION!$L$171,\"\")","v":0},{"$f":"IFERROR([10]INVERSION!$M$171,\"\")","v":0},{"$f":"IFERROR([10]INVERSION!$N$171,\"\")","v":0},{"$f":"IFERROR([10]INVERSION!$O$171,\"\")","v":0},{"$f":"IFERROR([10]INVERSION!$P$171,\"\")","v":0},{"$f":"IFERROR([10]INVERSION!$Q$171,\"\")","v":0},{"$f":"IFERROR([10]INVERSION!$R$171,\"\")","v":0},{"$f":"IFERROR([10]INVERSION!$S$171,\"\")","v":"00:00:00"},{"$f":"IFERROR([10]INVERSION!$T$171,\"\")","v":"00:00:00"},{"$f":"IFERROR([10]INVERSION!$U$171,\"\")","v":0},{"$f":"IFERROR([10]INVERSION!$V$171,\"\")","v":0},{"$f":"IFERROR([10]INVERSION!$W$171,\"\")","v":0},{"$f":"IFERROR([10]INVERSION!$X$171,\"\")","v":0},{"$f":"IFERROR([10]INVERSION!$Y$171,\"\")","v":0}]
[null,null,null,null,null,null,{"$f":"IFERROR([10]INVERSION!$G$172,\"\")","v":0},{"$f":"IFERROR([10]INVERSION!$H$172,\"\")","v":0},{"$f":"IFERROR([10]INVERSION!$I$172,\"\")","v":0},{"$f":"IFERROR([10]INVERSION!$J$172,\"\")","v":0},{"$f":"IFERROR([10]INVERSION!$K$172,\"\")","v":0},{"$f":"IFERROR([10]INVERSION!$L$172,\"\")","v":0},{"$f":"IFERROR([10]INVERSION!$M$172,\"\")","v":0},{"$f":"IFERROR([10]INVERSION!$N$172,\"\")","v":0},{"$f":"IFERROR([10]INVERSION!$O$172,\"\")","v":0},{"$f":"IFERROR([10]INVERSION!$P$172,\"\")","v":0},{"$f":"IFERROR([10]INVERSION!$Q$172,\"\")","v":0},{"$f":"IFERROR([10]INVERSION!$R$172,\"\")","v":0},{"$f":"IFERROR([10]INVERSION!$S$172,\"\")","v":"00:00:00"},{"$f":"IFERROR([10]INVERSION!$T$172,\"\")","v":"00:00:00"},{"$f":"IFERROR([10]INVERSION!$U$172,\"\")","v":0},{"$f":"IFERROR([10]INVERSION!$V$172,\"\")","v":0},{"$f":"IFERROR([10]INVERSION!$W$172,\"\")","v":0},{"$f":"IFERROR([10]INVERSION!$X$172,\"\")","v":0},{"$f":"IFERROR([10]INVERSION!$Y$172,\"\")","v":0}]
[null,null,null,null,null,null,{"$f":"IFERROR([10]INVERSION!$G$173,\"\")","v":0},{"$f":"IFERROR([10]INVERSION!$H$173,\"\")","v":0},{"$f":"IFERROR([10]INVERSION!$I$173,\"\")","v":0},{"$f":"IFERROR([10]INVERSION!$J$173,\"\")","v":0},{"$f":"IFERROR([10]INVERSION!$K$173,\"\")","v":0},{"$f":"IFERROR([10]INVERSION!$L$173,\"\")","v":0},{"$f":"IFERROR([10]INVERSION!$M$173,\"\")","v":0},{"$f":"IFERROR([10]INVERSION!$N$173,\"\")","v":0},{"$f":"IFERROR([10]INVERSION!$O$173,\"\")","v":0},{"$f":"IFERROR([10]INVERSION!$P$173,\"\")","v":0},{"$f":"IFERROR([10]INVERSION!$Q$173,\"\")","v":0},{"$f":"IFERROR([10]INVERSION!$R$173,\"\")","v":0},{"$f":"IFERROR([10]INVERSION!$S$173,\"\")","v":"00:00:00"},{"$f":"IFERROR([10]INVERSION!$T$173,\"\")","v":"00:00:00"},{"$f":"IFERROR([10]INVERSION!$U$173,\"\")","v":0},{"$f":"IFERROR([10]INVERSION!$V$173,\"\")","v":0},{"$f":"IFERROR([10]INVERSION!$W$173,\"\")","v":0},{"$f":"IFERROR([10]INVERSION!$X$173,\"\")","v":0},{"$f":"IFERROR([10]INVERSION!$Y$173,\"\")","v":0},null,null,null,"","",null,0]
[null,null,null,null,null,null,{"$f":"IFERROR([10]INVERSION!$G$174,\"\")","v":0},{"$f":"IFERROR([10]INVERSION!$H$174,\"\")","v":0},{"$f":"IFERROR([10]INVERSION!$I$174,\"\")","v":0},{"$f":"IFERROR([10]INVERSION!$J$174,\"\")","v":0},{"$f":"IFERROR([10]INVERSION!$K$174,\"\")","v":0},{"$f":"IFERROR([10]INVERSION!$L$174,\"\")","v":0},{"$f":"IFERROR([10]INVERSION!$M$174,\"\")","v":0},{"$f":"IFERROR([10]INVERSION!$N$174,\"\")","v":0},{"$f":"IFERROR([10]INVERSION!$O$174,\"\")","v":0},{"$f":"IFERROR([10]INVERSION!$P$174,\"\")","v":0},{"$f":"IFERROR([10]INVERSION!$Q$174,\"\")","v":0},{"$f":"IFERROR([10]INVERSION!$R$174,\"\")","v":0},{"$f":"IFERROR([10]INVERSION!$S$174,\"\")","v":"00:00:00"},{"$f":"IFERROR([10]INVERSION!$T$174,\"\")","v":"00:00:00"},{"$f":"IFERROR([10]INVERSION!$U$174,\"\")","v":0},{"$f":"IFERROR([10]INVERSION!$V$174,\"\")","v":0},{"$f":"IFERROR([10]INVERSION!$W$174,\"\")","v":0},{"$f":"IFERROR([10]INVERSION!$X$174,\"\")","v":0},{"$f":"IFERROR([10]INVERSION!$Y$174,\"\")","v":0},null,null,null,"","",null,0]
[null,null,null,null,null,null,{"$f":"IFERROR([10]INVERSION!$G$175,\"\")","v":0},{"$f":"IFERROR([10]INVERSION!$H$175,\"\")","v":0},{"$f":"IFERROR([10]INVERSION!$I$175,\"\")","v":0},{"$f":"IFERROR([10]INVERSION!$J$175,\"\")","v":0},{"$f":"IFERROR([10]INVERSION!$K$175,\"\")","v":0},{"$f":"IFERROR([10]INVERSION!$L$175,\"\")","v":0},{"$f":"IFERROR([10]INVERSION!$M$175,\"\")","v":0},{"$f":"IFERROR([10]INVERSION!$N$175,\"\")","v":0},{"$f":"IFERROR([10]INVERSION!$O$175,\"\")","v":0},{"$f":"IFERROR([10]INVERSION!$P$175,\"\")","v":0},{"$f":"IFERROR([10]INVERSION!$Q$175,\"\")","v":0},{"$f":"IFERROR([10]INVERSION!$R$175,\"\")","v":0},{"$f":"IFERROR([10]INVERSION!$S$175,\"\")","v":"00:00:00"},{"$f":"IFERROR([10]INVERSION!$T$175,\"\")","v":"00:00:00"},{"$f":"IFERROR([10]INVERSION!$U$175,\"\")","v":0},{"$f":"IFERROR([10]INVERSION!$V$175,\"\")","v":0},{"$f":"IFERROR([10]INVERSION!$W$175,\"\")","v":0},{"$f":"IFERROR([10]INVERSION!$X$175,\"\")","v":0},{"$f":"IFERROR([10]INVERSION!$Y$175,\"\")","v":0},null,null,null,"","",null,0]
[null,null,"7. Continuar la consolidación del SIGCMA, a través de los procesos de formación en modelos de gestión, logrando la implementación y ampliación de este en los esquemas certificados de manera gradual, teniendo en cuenta las capacidades de los diferentes despachos judiciales y dependencias de la Rama Judicial y articulando el enfoque de Arquitectura Empresarial para el desarrollo del PETD a través de la gestión del conocimiento para la gestión del cambio propendiendo por una cultura de la calidad, la transparencia, la rendición de cuentas, la anticorrupción y el antisoborno","Procesos de formación en modelos de gestión aplicados","# de servidores judiciales formados en modelos de gestión de las dependenci as judiciales y administrati vas certificadas en SIGCMA que implementa n el PETD / # total de servidores judiciales de las dependenci as judiciales y administrati vas certificadas en SIGCMA que implementa n el PETD","1. Gestionar el desarrollo de las competencias, la toma de conciencia , la cultura  organizacional  y el compromiso de los  servidores judiciales, contratistas, practicantes y  judicantes de contribuir a generar valor público en la administración de justicia, en el marco de  cumplimiento de los requisitos  aplicables y el comportamiento ético.\n4. Hacer un uso racional de los recursos naturales aplicando los principios y fases de la Economía Circular, para prevenir, mitigar y controlar los impactos ambientales.",{"$f":"IFERROR([10]INVERSION!$G$176,\"\")","v":0},{"$f":"IFERROR([10]INVERSION!$H$176,\"\")","v":0},{"$f":"IFERROR([10]INVERSION!$I$176,\"\")","v":0},{"$f":"IFERROR([10]INVERSION!$J$176,\"\")","v":0},{"$f":"IFERROR([10]INVERSION!$K$176,\"\")","v":0},{"$f":"IFERROR([10]INVERSION!$L$176,\"\")","v":0},{"$f":"IFERROR([10]INVERSION!$M$176,\"\")","v":0},{"$f":"IFERROR([10]INVERSION!$N$176,\"\")","v":0},{"$f":"IFERROR([10]INVERSION!$O$176,\"\")","v":0},{"$f":"IFERROR([10]INVERSION!$P$176,\"\")","v":0},{"$f":"IFERROR([10]INVERSION!$Q$176,\"\")","v":0},{"$f":"IFERROR([10]INVERSION!$R$176,\"\")","v":0},{"$f":"IFERROR([10]INVERSION!$S$176,\"\")","v":"00:00:00"},{"$f":"IFERROR([10]INVERSION!$T$176,\"\")","v":"00:00:00"},{"$f":"IFERROR([10]INVERSION!$U$176,\"\")","v":0},{"$f":"IFERROR([10]INVERSION!$V$176,\"\")","v":0},{"$f":"IFERROR([10]INVERSION!$W$176,\"\")","v":0},{"$f":"IFERROR([10]INVERSION!$X$176,\"\")","v":0},{"$f":"IFERROR([10]INVERSION!$Y$176,\"\")","v":0},null,null,null,"","",null,0]
[null,null,null,null,null,null,{"$f":"IFERROR([10]INVERSION!$G$177,\"\")","v":0},{"$f":"IFERROR([10]INVERSION!$H$177,\"\")","v":0},{"$f":"IFERROR([10]INVERSION!$I$177,\"\")","v":0},{"$f":"IFERROR([10]INVERSION!$J$177,\"\")","v":0},{"$f":"IFERROR([10]INVERSION!$K$177,\"\")","v":0},{"$f":"IFERROR([10]INVERSION!$L$177,\"\")","v":0},{"$f":"IFERROR([10]INVERSION!$M$177,\"\")","v":0},{"$f":"IFERROR([10]INVERSION!$N$177,\"\")","v":0},{"$f":"IFERROR([10]INVERSION!$O$177,\"\")","v":0},{"$f":"IFERROR([10]INVERSION!$P$177,\"\")","v":0},{"$f":"IFERROR([10]INVERSION!$Q$177,\"\")","v":0},{"$f":"IFERROR([10]INVERSION!$R$177,\"\")","v":0},{"$f":"IFERROR([10]INVERSION!$S$177,\"\")","v":"00:00:00"},{"$f":"IFERROR([10]INVERSION!$T$177,\"\")","v":"00:00:00"},{"$f":"IFERROR([10]INVERSION!$U$177,\"\")","v":0},{"$f":"IFERROR([10]INVERSION!$V$177,\"\")","v":0},{"$f":"IFERROR([10]INVERSION!$W$177,\"\")","v":0},{"$f":"IFERROR([10]INVERSION!$X$177,\"\")","v":0},{"$f":"IFERROR([10]INVERSION!$Y$177,\"\")","v":0},null,null,null,"","",null,0]
[null,null,null,null,null,null,{"$f":"IFERROR([10]INVERSION!$G$178,\"\")","v":0},{"$f":"IFERROR([10]INVERSION!$H$178,\"\")","v":0},{"$f":"IFERROR([10]INVERSION!$I$178,\"\")","v":0},{"$f":"IFERROR([10]INVERSION!$J$178,\"\")","v":0},{"$f":"IFERROR([10]INVERSION!$K$178,\"\")","v":0},{"$f":"IFERROR([10]INVERSION!$L$178,\"\")","v":0},{"$f":"IFERROR([10]INVERSION!$M$178,\"\")","v":0},{"$f":"IFERROR([10]INVERSION!$N$178,\"\")","v":0},{"$f":"IFERROR([10]INVERSION!$O$178,\"\")","v":0},{"$f":"IFERROR([10]INVERSION!$P$178,\"\")","v":0},{"$f":"IFERROR([10]INVERSION!$Q$178,\"\")","v":0},{"$f":"IFERROR([10]INVERSION!$R$178,\"\")","v":0},{"$f":"IFERROR([10]INVERSION!$S$178,\"\")","v":"00:00:00"},{"$f":"IFERROR([10]INVERSION!$T$178,\"\")","v":"00:00:00"},{"$f":"IFERROR([10]INVERSION!$U$178,\"\")","v":0},{"$f":"IFERROR([10]INVERSION!$V$178,\"\")","v":0},{"$f":"IFERROR([10]INVERSION!$W$178,\"\")","v":0},{"$f":"IFERROR([10]INVERSION!$X$178,\"\")","v":0},{"$f":"IFERROR([10]INVERSION!$Y$178,\"\")","v":0}]
[null,null,null,null,null,null,{"$f":"IFERROR([10]INVERSION!$G$179,\"\")","v":0},{"$f":"IFERROR([10]INVERSION!$H$179,\"\")","v":0},{"$f":"IFERROR([10]INVERSION!$I$179,\"\")","v":0},{"$f":"IFERROR([10]INVERSION!$J$179,\"\")","v":0},{"$f":"IFERROR([10]INVERSION!$K$179,\"\")","v":0},{"$f":"IFERROR([10]INVERSION!$L$179,\"\")","v":0},{"$f":"IFERROR([10]INVERSION!$M$179,\"\")","v":0},{"$f":"IFERROR([10]INVERSION!$N$179,\"\")","v":0},{"$f":"IFERROR([10]INVERSION!$O$179,\"\")","v":0},{"$f":"IFERROR([10]INVERSION!$P$179,\"\")","v":0},{"$f":"IFERROR([10]INVERSION!$Q$179,\"\")","v":0},{"$f":"IFERROR([10]INVERSION!$R$179,\"\")","v":0},{"$f":"IFERROR([10]INVERSION!$S$179,\"\")","v":"00:00:00"},{"$f":"IFERROR([10]INVERSION!$T$179,\"\")","v":"00:00:00"},{"$f":"IFERROR([10]INVERSION!$U$179,\"\")","v":0},{"$f":"IFERROR([10]INVERSION!$V$179,\"\")","v":0},{"$f":"IFERROR([10]INVERSION!$W$179,\"\")","v":0},{"$f":"IFERROR([10]INVERSION!$X$179,\"\")","v":0},{"$f":"IFERROR([10]INVERSION!$Y$179,\"\")","v":0}]
[null,null,null,null,null,null,{"$f":"IFERROR([10]INVERSION!$G$180,\"\")","v":0},{"$f":"IFERROR([10]INVERSION!$H$180,\"\")","v":0},{"$f":"IFERROR([10]INVERSION!$I$180,\"\")","v":0},{"$f":"IFERROR([10]INVERSION!$J$180,\"\")","v":0},{"$f":"IFERROR([10]INVERSION!$K$180,\"\")","v":0},{"$f":"IFERROR([10]INVERSION!$L$180,\"\")","v":0},{"$f":"IFERROR([10]INVERSION!$M$180,\"\")","v":0},{"$f":"IFERROR([10]INVERSION!$N$180,\"\")","v":0},{"$f":"IFERROR([10]INVERSION!$O$180,\"\")","v":0},{"$f":"IFERROR([10]INVERSION!$P$180,\"\")","v":0},{"$f":"IFERROR([10]INVERSION!$Q$180,\"\")","v":0},{"$f":"IFERROR([10]INVERSION!$R$180,\"\")","v":0},{"$f":"IFERROR([10]INVERSION!$S$180,\"\")","v":"00:00:00"},{"$f":"IFERROR([10]INVERSION!$T$180,\"\")","v":"00:00:00"},{"$f":"IFERROR([10]INVERSION!$U$180,\"\")","v":0},{"$f":"IFERROR([10]INVERSION!$V$180,\"\")","v":0},{"$f":"IFERROR([10]INVERSION!$W$180,\"\")","v":0},{"$f":"IFERROR([10]INVERSION!$X$180,\"\")","v":0},{"$f":"IFERROR([10]INVERSION!$Y$180,\"\")","v":0}]
[null,null,null,null,null,null,{"$f":"IFERROR([10]INVERSION!$G$181,\"\")","v":0},{"$f":"IFERROR([10]INVERSION!$H$181,\"\")","v":0},{"$f":"IFERROR([10]INVERSION!$I$181,\"\")","v":0},{"$f":"IFERROR([10]INVERSION!$J$181,\"\")","v":0},{"$f":"IFERROR([10]INVERSION!$K$181,\"\")","v":0},{"$f":"IFERROR([10]INVERSION!$L$181,\"\")","v":0},{"$f":"IFERROR([10]INVERSION!$M$181,\"\")","v":0},{"$f":"IFERROR([10]INVERSION!$N$181,\"\")","v":0},{"$f":"IFERROR([10]INVERSION!$O$181,\"\")","v":0},{"$f":"IFERROR([10]INVERSION!$P$181,\"\")","v":0},{"$f":"IFERROR([10]INVERSION!$Q$181,\"\")","v":0},{"$f":"IFERROR([10]INVERSION!$R$181,\"\")","v":0},{"$f":"IFERROR([10]INVERSION!$S$181,\"\")","v":"00:00:00"},{"$f":"IFERROR([10]INVERSION!$T$181,\"\")","v":"00:00:00"},{"$f":"IFERROR([10]INVERSION!$U$181,\"\")","v":0},{"$f":"IFERROR([10]INVERSION!$V$181,\"\")","v":0},{"$f":"IFERROR([10]INVERSION!$W$181,\"\")","v":0},{"$f":"IFERROR([10]INVERSION!$X$181,\"\")","v":0},{"$f":"IFERROR([10]INVERSION!$Y$181,\"\")","v":0}]
[null,null,null,null,null,null,{"$f":"IFERROR([10]INVERSION!$G$182,\"\")","v":0},{"$f":"IFERROR([10]INVERSION!$H$182,\"\")","v":0},{"$f":"IFERROR([10]INVERSION!$I$182,\"\")","v":0},{"$f":"IFERROR([10]INVERSION!$J$182,\"\")","v":0},{"$f":"IFERROR([10]INVERSION!$K$182,\"\")","v":0},{"$f":"IFERROR([10]INVERSION!$L$182,\"\")","v":0},{"$f":"IFERROR([10]INVERSION!$M$182,\"\")","v":0},{"$f":"IFERROR([10]INVERSION!$N$182,\"\")","v":0},{"$f":"IFERROR([10]INVERSION!$O$182,\"\")","v":0},{"$f":"IFERROR([10]INVERSION!$P$182,\"\")","v":0},{"$f":"IFERROR([10]INVERSION!$Q$182,\"\")","v":0},{"$f":"IFERROR([10]INVERSION!$R$182,\"\")","v":0},{"$f":"IFERROR([10]INVERSION!$S$182,\"\")","v":"00:00:00"},{"$f":"IFERROR([10]INVERSION!$T$182,\"\")","v":"00:00:00"},{"$f":"IFERROR([10]INVERSION!$U$182,\"\")","v":0},{"$f":"IFERROR([10]INVERSION!$V$182,\"\")","v":0},{"$f":"IFERROR([10]INVERSION!$W$182,\"\")","v":0},{"$f":"IFERROR([10]INVERSION!$X$182,\"\")","v":0},{"$f":"IFERROR([10]INVERSION!$Y$182,\"\")","v":0}]
[null,null,null,null,null,null,{"$f":"IFERROR([10]INVERSION!$G$183,\"\")","v":0},{"$f":"IFERROR([10]INVERSION!$H$183,\"\")","v":0},{"$f":"IFERROR([10]INVERSION!$I$183,\"\")","v":0},{"$f":"IFERROR([10]INVERSION!$J$183,\"\")","v":0},{"$f":"IFERROR([10]INVERSION!$K$183,\"\")","v":0},{"$f":"IFERROR([10]INVERSION!$L$183,\"\")","v":0},{"$f":"IFERROR([10]INVERSION!$M$183,\"\")","v":0},{"$f":"IFERROR([10]INVERSION!$N$183,\"\")","v":0},{"$f":"IFERROR([10]INVERSION!$O$183,\"\")","v":0},{"$f":"IFERROR([10]INVERSION!$P$183,\"\")","v":0},{"$f":"IFERROR([10]INVERSION!$Q$183,\"\")","v":0},{"$f":"IFERROR([10]INVERSION!$R$183,\"\")","v":0},{"$f":"IFERROR([10]INVERSION!$S$183,\"\")","v":"00:00:00"},{"$f":"IFERROR([10]INVERSION!$T$183,\"\")","v":"00:00:00"},{"$f":"IFERROR([10]INVERSION!$U$183,\"\")","v":0},{"$f":"IFERROR([10]INVERSION!$V$183,\"\")","v":0},{"$f":"IFERROR([10]INVERSION!$W$183,\"\")","v":0},{"$f":"IFERROR([10]INVERSION!$X$183,\"\")","v":0},{"$f":"IFERROR([10]INVERSION!$Y$183,\"\")","v":0},null,null,null,"","",null,0]
[null,null,null,null,null,null,{"$f":"IFERROR([10]INVERSION!$G$184,\"\")","v":0},{"$f":"IFERROR([10]INVERSION!$H$184,\"\")","v":0},{"$f":"IFERROR([10]INVERSION!$I$184,\"\")","v":0},{"$f":"IFERROR([10]INVERSION!$J$184,\"\")","v":0},{"$f":"IFERROR([10]INVERSION!$K$184,\"\")","v":0},{"$f":"IFERROR([10]INVERSION!$L$184,\"\")","v":0},{"$f":"IFERROR([10]INVERSION!$M$184,\"\")","v":0},{"$f":"IFERROR([10]INVERSION!$N$184,\"\")","v":0},{"$f":"IFERROR([10]INVERSION!$O$184,\"\")","v":0},{"$f":"IFERROR([10]INVERSION!$P$184,\"\")","v":0},{"$f":"IFERROR([10]INVERSION!$Q$184,\"\")","v":0},{"$f":"IFERROR([10]INVERSION!$R$184,\"\")","v":0},{"$f":"IFERROR([10]INVERSION!$S$184,\"\")","v":"00:00:00"},{"$f":"IFERROR([10]INVERSION!$T$184,\"\")","v":"00:00:00"},{"$f":"IFERROR([10]INVERSION!$U$184,\"\")","v":0},{"$f":"IFERROR([10]INVERSION!$V$184,\"\")","v":0},{"$f":"IFERROR([10]INVERSION!$W$184,\"\")","v":0},{"$f":"IFERROR([10]INVERSION!$X$184,\"\")","v":0},{"$f":"IFERROR([10]INVERSION!$Y$184,\"\")","v":0},null,null,null,"","",null,0]
[null,null,null,null,null,null,{"$f":"IFERROR([10]INVERSION!$G$185,\"\")","v":0},{"$f":"IFERROR([10]INVERSION!$H$185,\"\")","v":0},{"$f":"IFERROR([10]INVERSION!$I$185,\"\")","v":0},{"$f":"IFERROR([10]INVERSION!$J$185,\"\")","v":0},{"$f":"IFERROR([10]INVERSION!$K$185,\"\")","v":0},{"$f":"IFERROR([10]INVERSION!$L$185,\"\")","v":0},{"$f":"IFERROR([10]INVERSION!$M$185,\"\")","v":0},{"$f":"IFERROR([10]INVERSION!$N$185,\"\")","v":0},{"$f":"IFERROR([10]INVERSION!$O$185,\"\")","v":0},{"$f":"IFERROR([10]INVERSION!$P$185,\"\")","v":0},{"$f":"IFERROR([10]INVERSION!$Q$185,\"\")","v":0},{"$f":"IFERROR([10]INVERSION!$R$185,\"\")","v":0},{"$f":"IFERROR([10]INVERSION!$S$185,\"\")","v":"00:00:00"},{"$f":"IFERROR([10]INVERSION!$T$185,\"\")","v":"00:00:00"},{"$f":"IFERROR([10]INVERSION!$U$185,\"\")","v":0},{"$f":"IFERROR([10]INVERSION!$V$185,\"\")","v":0},{"$f":"IFERROR([10]INVERSION!$W$185,\"\")","v":0},{"$f":"IFERROR([10]INVERSION!$X$185,\"\")","v":0},{"$f":"IFERROR([10]INVERSION!$Y$185,\"\")","v":0},null,null,null,"","",null,0]
["4. Talento Humano","Talento Humano: Fortalecer el talento humano en la Rama Judicial para que sea eficiente, capacitado y realice su labor en ambientes saludables y seguros. Ampliar la cobertura de la carrera judicial y mejorar la oferta de formación, que esté disponible para todos los servidores judiciales e impacte positivamente el servicio de justicia y responda a las necesidades reales del ejercicio de la función judicial.","1. Ampliar la cobertura de la carrera judicial optimizando los procesos de los concursos de méritos y propender por mitigar su litigiosidad.","Cobertura de la carrera judicial diferenciada entre magistrados, jueces y empleados","# de cargos provistos por carrera judicial/# de cargos de carrera judicial","1. Gestionar el desarrollo de las competencias, la toma de conciencia , la cultura  organizacional  y el compromiso de los  servidores judiciales, contratistas, practicantes y  judicantes de contribuir a generar valor público en la administración de justicia, en el marco de  cumplimiento de los requisitos  aplicables y el comportamiento ético.",{"$f":"IFERROR([10]INVERSION!$G$186,\"\")","v":0},{"$f":"IFERROR([10]INVERSION!$H$186,\"\")","v":0},{"$f":"IFERROR([10]INVERSION!$I$186,\"\")","v":0},{"$f":"IFERROR([10]INVERSION!$J$186,\"\")","v":0},{"$f":"IFERROR([10]INVERSION!$K$186,\"\")","v":0},{"$f":"IFERROR([10]INVERSION!$L$186,\"\")","v":0},{"$f":"IFERROR([10]INVERSION!$M$186,\"\")","v":0},{"$f":"IFERROR([10]INVERSION!$N$186,\"\")","v":0},{"$f":"IFERROR([10]INVERSION!$O$186,\"\")","v":0},{"$f":"IFERROR([10]INVERSION!$P$186,\"\")","v":0},{"$f":"IFERROR([10]INVERSION!$Q$186,\"\")","v":0},{"$f":"IFERROR([10]INVERSION!$R$186,\"\")","v":0},{"$f":"IFERROR([10]INVERSION!$S$186,\"\")","v":"00:00:00"},{"$f":"IFERROR([10]INVERSION!$T$186,\"\")","v":"00:00:00"},{"$f":"IFERROR([10]INVERSION!$U$186,\"\")","v":0},{"$f":"IFERROR([10]INVERSION!$V$186,\"\")","v":0},{"$f":"IFERROR([10]INVERSION!$W$186,\"\")","v":0},{"$f":"IFERROR([10]INVERSION!$X$186,\"\")","v":0},{"$f":"IFERROR([10]INVERSION!$Y$186,\"\")","v":0},null,null,null,"","",null,0]
[null,null,null,null,null,null,{"$f":"IFERROR([10]INVERSION!$G$187,\"\")","v":0},{"$f":"IFERROR([10]INVERSION!$H$187,\"\")","v":0},{"$f":"IFERROR([10]INVERSION!$I$187,\"\")","v":0},{"$f":"IFERROR([10]INVERSION!$J$187,\"\")","v":0},{"$f":"IFERROR([10]INVERSION!$K$187,\"\")","v":0},{"$f":"IFERROR([10]INVERSION!$L$187,\"\")","v":0},{"$f":"IFERROR([10]INVERSION!$M$187,\"\")","v":0},{"$f":"IFERROR([10]INVERSION!$N$187,\"\")","v":0},{"$f":"IFERROR([10]INVERSION!$O$187,\"\")","v":0},{"$f":"IFERROR([10]INVERSION!$P$187,\"\")","v":0},{"$f":"IFERROR([10]INVERSION!$Q$187,\"\")","v":0},{"$f":"IFERROR([10]INVERSION!$R$187,\"\")","v":0},{"$f":"IFERROR([10]INVERSION!$S$187,\"\")","v":"00:00:00"},{"$f":"IFERROR([10]INVERSION!$T$187,\"\")","v":"00:00:00"},{"$f":"IFERROR([10]INVERSION!$U$187,\"\")","v":0},{"$f":"IFERROR([10]INVERSION!$V$187,\"\")","v":0},{"$f":"IFERROR([10]INVERSION!$W$187,\"\")","v":0},{"$f":"IFERROR([10]INVERSION!$X$187,\"\")","v":0},{"$f":"IFERROR([10]INVERSION!$Y$187,\"\")","v":0},null,null,null,"","",null,0]
[null,null,null,null,null,null,{"$f":"IFERROR([10]INVERSION!$G$188,\"\")","v":0},{"$f":"IFERROR([10]INVERSION!$H$188,\"\")","v":0},{"$f":"IFERROR([10]INVERSION!$I$188,\"\")","v":0},{"$f":"IFERROR([10]INVERSION!$J$188,\"\")","v":0},{"$f":"IFERROR([10]INVERSION!$K$188,\"\")","v":0},{"$f":"IFERROR([10]INVERSION!$L$188,\"\")","v":0},{"$f":"IFERROR([10]INVERSION!$M$188,\"\")","v":0},{"$f":"IFERROR([10]INVERSION!$N$188,\"\")","v":0},{"$f":"IFERROR([10]INVERSION!$O$188,\"\")","v":0},{"$f":"IFERROR([10]INVERSION!$P$188,\"\")","v":0},{"$f":"IFERROR([10]INVERSION!$Q$188,\"\")","v":0},{"$f":"IFERROR([10]INVERSION!$R$188,\"\")","v":0},{"$f":"IFERROR([10]INVERSION!$S$188,\"\")","v":"00:00:00"},{"$f":"IFERROR([10]INVERSION!$T$188,\"\")","v":"00:00:00"},{"$f":"IFERROR([10]INVERSION!$U$188,\"\")","v":0},{"$f":"IFERROR([10]INVERSION!$V$188,\"\")","v":0},{"$f":"IFERROR([10]INVERSION!$W$188,\"\")","v":0},{"$f":"IFERROR([10]INVERSION!$X$188,\"\")","v":0},{"$f":"IFERROR([10]INVERSION!$Y$188,\"\")","v":0}]
[null,null,null,null,null,null,{"$f":"IFERROR([10]INVERSION!$G$189,\"\")","v":0},{"$f":"IFERROR([10]INVERSION!$H$189,\"\")","v":0},{"$f":"IFERROR([10]INVERSION!$I$189,\"\")","v":0},{"$f":"IFERROR([10]INVERSION!$J$189,\"\")","v":0},{"$f":"IFERROR([10]INVERSION!$K$189,\"\")","v":0},{"$f":"IFERROR([10]INVERSION!$L$189,\"\")","v":0},{"$f":"IFERROR([10]INVERSION!$M$189,\"\")","v":0},{"$f":"IFERROR([10]INVERSION!$N$189,\"\")","v":0},{"$f":"IFERROR([10]INVERSION!$O$189,\"\")","v":0},{"$f":"IFERROR([10]INVERSION!$P$189,\"\")","v":0},{"$f":"IFERROR([10]INVERSION!$Q$189,\"\")","v":0},{"$f":"IFERROR([10]INVERSION!$R$189,\"\")","v":0},{"$f":"IFERROR([10]INVERSION!$S$189,\"\")","v":"00:00:00"},{"$f":"IFERROR([10]INVERSION!$T$189,\"\")","v":"00:00:00"},{"$f":"IFERROR([10]INVERSION!$U$189,\"\")","v":0},{"$f":"IFERROR([10]INVERSION!$V$189,\"\")","v":0},{"$f":"IFERROR([10]INVERSION!$W$189,\"\")","v":0},{"$f":"IFERROR([10]INVERSION!$X$189,\"\")","v":0},{"$f":"IFERROR([10]INVERSION!$Y$189,\"\")","v":0}]
[null,null,null,null,null,null,{"$f":"IFERROR([10]INVERSION!$G$190,\"\")","v":0},{"$f":"IFERROR([10]INVERSION!$H$190,\"\")","v":0},{"$f":"IFERROR([10]INVERSION!$I$190,\"\")","v":0},{"$f":"IFERROR([10]INVERSION!$J$190,\"\")","v":0},{"$f":"IFERROR([10]INVERSION!$K$190,\"\")","v":0},{"$f":"IFERROR([10]INVERSION!$L$190,\"\")","v":0},{"$f":"IFERROR([10]INVERSION!$M$190,\"\")","v":0},{"$f":"IFERROR([10]INVERSION!$N$190,\"\")","v":0},{"$f":"IFERROR([10]INVERSION!$O$190,\"\")","v":0},{"$f":"IFERROR([10]INVERSION!$P$190,\"\")","v":0},{"$f":"IFERROR([10]INVERSION!$Q$190,\"\")","v":0},{"$f":"IFERROR([10]INVERSION!$R$190,\"\")","v":0},{"$f":"IFERROR([10]INVERSION!$S$190,\"\")","v":"00:00:00"},{"$f":"IFERROR([10]INVERSION!$T$190,\"\")","v":"00:00:00"},{"$f":"IFERROR([10]INVERSION!$U$190,\"\")","v":0},{"$f":"IFERROR([10]INVERSION!$V$190,\"\")","v":0},{"$f":"IFERROR([10]INVERSION!$W$190,\"\")","v":0},{"$f":"IFERROR([10]INVERSION!$X$190,\"\")","v":0},{"$f":"IFERROR([10]INVERSION!$Y$190,\"\")","v":0}]
[null,null,null,null,null,null,{"$f":"IFERROR([10]INVERSION!$G$191,\"\")","v":0},{"$f":"IFERROR([10]INVERSION!$H$191,\"\")","v":0},{"$f":"IFERROR([10]INVERSION!$I$191,\"\")","v":0},{"$f":"IFERROR([10]INVERSION!$J$191,\"\")","v":0},{"$f":"IFERROR([10]INVERSION!$K$191,\"\")","v":0},{"$f":"IFERROR([10]INVERSION!$L$191,\"\")","v":0},{"$f":"IFERROR([10]INVERSION!$M$191,\"\")","v":0},{"$f":"IFERROR([10]INVERSION!$N$191,\"\")","v":0},{"$f":"IFERROR([10]INVERSION!$O$191,\"\")","v":0},{"$f":"IFERROR([10]INVERSION!$P$191,\"\")","v":0},{"$f":"IFERROR([10]INVERSION!$Q$191,\"\")","v":0},{"$f":"IFERROR([10]INVERSION!$R$191,\"\")","v":0},{"$f":"IFERROR([10]INVERSION!$S$191,\"\")","v":"00:00:00"},{"$f":"IFERROR([10]INVERSION!$T$191,\"\")","v":"00:00:00"},{"$f":"IFERROR([10]INVERSION!$U$191,\"\")","v":0},{"$f":"IFERROR([10]INVERSION!$V$191,\"\")","v":0},{"$f":"IFERROR([10]INVERSION!$W$191,\"\")","v":0},{"$f":"IFERROR([10]INVERSION!$X$191,\"\")","v":0},{"$f":"IFERROR([10]INVERSION!$Y$191,\"\")","v":0}]
[null,null,null,null,null,null,{"$f":"IFERROR([10]INVERSION!$G$192,\"\")","v":0},{"$f":"IFERROR([10]INVERSION!$H$192,\"\")","v":0},{"$f":"IFERROR([10]INVERSION!$I$192,\"\")","v":0},{"$f":"IFERROR([10]INVERSION!$J$192,\"\")","v":0},{"$f":"IFERROR([10]INVERSION!$K$192,\"\")","v":0},{"$f":"IFERROR([10]INVERSION!$L$192,\"\")","v":0},{"$f":"IFERROR([10]INVERSION!$M$192,\"\")","v":0},{"$f":"IFERROR([10]INVERSION!$N$192,\"\")","v":0},{"$f":"IFERROR([10]INVERSION!$O$192,\"\")","v":0},{"$f":"IFERROR([10]INVERSION!$P$192,\"\")","v":0},{"$f":"IFERROR([10]INVERSION!$Q$192,\"\")","v":0},{"$f":"IFERROR([10]INVERSION!$R$192,\"\")","v":0},{"$f":"IFERROR([10]INVERSION!$S$192,\"\")","v":"00:00:00"},{"$f":"IFERROR([10]INVERSION!$T$192,\"\")","v":"00:00:00"},{"$f":"IFERROR([10]INVERSION!$U$192,\"\")","v":0},{"$f":"IFERROR([10]INVERSION!$V$192,\"\")","v":0},{"$f":"IFERROR([10]INVERSION!$W$192,\"\")","v":0},{"$f":"IFERROR([10]INVERSION!$X$192,\"\")","v":0},{"$f":"IFERROR([10]INVERSION!$Y$192,\"\")","v":0}]
[null,null,null,null,null,null,{"$f":"IFERROR([10]INVERSION!$G$193,\"\")","v":0},{"$f":"IFERROR([10]INVERSION!$H$193,\"\")","v":0},{"$f":"IFERROR([10]INVERSION!$I$193,\"\")","v":0},{"$f":"IFERROR([10]INVERSION!$J$193,\"\")","v":0},{"$f":"IFERROR([10]INVERSION!$K$193,\"\")","v":0},{"$f":"IFERROR([10]INVERSION!$L$193,\"\")","v":0},{"$f":"IFERROR([10]INVERSION!$M$193,\"\")","v":0},{"$f":"IFERROR([10]INVERSION!$N$193,\"\")","v":0},{"$f":"IFERROR([10]INVERSION!$O$193,\"\")","v":0},{"$f":"IFERROR([10]INVERSION!$P$193,\"\")","v":0},{"$f":"IFERROR([10]INVERSION!$Q$193,\"\")","v":0},{"$f":"IFERROR([10]INVERSION!$R$193,\"\")","v":0},{"$f":"IFERROR([10]INVERSION!$S$193,\"\")","v":"00:00:00"},{"$f":"IFERROR([10]INVERSION!$T$193,\"\")","v":"00:00:00"},{"$f":"IFERROR([10]INVERSION!$U$193,\"\")","v":0},{"$f":"IFERROR([10]INVERSION!$V$193,\"\")","v":0},{"$f":"IFERROR([10]INVERSION!$W$193,\"\")","v":0},{"$f":"IFERROR([10]INVERSION!$X$193,\"\")","v":0},{"$f":"IFERROR([10]INVERSION!$Y$193,\"\")","v":0},null,null,null,"","",null,0]
[null,null,null,null,null,null,{"$f":"IFERROR([10]INVERSION!$G$194,\"\")","v":0},{"$f":"IFERROR([10]INVERSION!$H$194,\"\")","v":0},{"$f":"IFERROR([10]INVERSION!$I$194,\"\")","v":0},{"$f":"IFERROR([10]INVERSION!$J$194,\"\")","v":0},{"$f":"IFERROR([10]INVERSION!$K$194,\"\")","v":0},{"$f":"IFERROR([10]INVERSION!$L$194,\"\")","v":0},{"$f":"IFERROR([10]INVERSION!$M$194,\"\")","v":0},{"$f":"IFERROR([10]INVERSION!$N$194,\"\")","v":0},{"$f":"IFERROR([10]INVERSION!$O$194,\"\")","v":0},{"$f":"IFERROR([10]INVERSION!$P$194,\"\")","v":0},{"$f":"IFERROR([10]INVERSION!$Q$194,\"\")","v":0},{"$f":"IFERROR([10]INVERSION!$R$194,\"\")","v":0},{"$f":"IFERROR([10]INVERSION!$S$194,\"\")","v":"00:00:00"},{"$f":"IFERROR([10]INVERSION!$T$194,\"\")","v":"00:00:00"},{"$f":"IFERROR([10]INVERSION!$U$194,\"\")","v":0},{"$f":"IFERROR([10]INVERSION!$V$194,\"\")","v":0},{"$f":"IFERROR([10]INVERSION!$W$194,\"\")","v":0},{"$f":"IFERROR([10]INVERSION!$X$194,\"\")","v":0},{"$f":"IFERROR([10]INVERSION!$Y$194,\"\")","v":0},null,null,null,"","",null,0]
[null,null,null,null,null,null,{"$f":"IFERROR([10]INVERSION!$G$195,\"\")","v":0},{"$f":"IFERROR([10]INVERSION!$H$195,\"\")","v":0},{"$f":"IFERROR([10]INVERSION!$I$195,\"\")","v":0},{"$f":"IFERROR([10]INVERSION!$J$195,\"\")","v":0},{"$f":"IFERROR([10]INVERSION!$K$195,\"\")","v":0},{"$f":"IFERROR([10]INVERSION!$L$195,\"\")","v":0},{"$f":"IFERROR([10]INVERSION!$M$195,\"\")","v":0},{"$f":"IFERROR([10]INVERSION!$N$195,\"\")","v":0},{"$f":"IFERROR([10]INVERSION!$O$195,\"\")","v":0},{"$f":"IFERROR([10]INVERSION!$P$195,\"\")","v":0},{"$f":"IFERROR([10]INVERSION!$Q$195,\"\")","v":0},{"$f":"IFERROR([10]INVERSION!$R$195,\"\")","v":0},{"$f":"IFERROR([10]INVERSION!$S$195,\"\")","v":"00:00:00"},{"$f":"IFERROR([10]INVERSION!$T$195,\"\")","v":"00:00:00"},{"$f":"IFERROR([10]INVERSION!$U$195,\"\")","v":0},{"$f":"IFERROR([10]INVERSION!$V$195,\"\")","v":0},{"$f":"IFERROR([10]INVERSION!$W$195,\"\")","v":0},{"$f":"IFERROR([10]INVERSION!$X$195,\"\")","v":0},{"$f":"IFERROR([10]INVERSION!$Y$195,\"\")","v":0},null,null,null,"","",null,0]
[null,null,"2. Impactar la función y servicios que presta la Rama Judicial, a través de una formación integral desde una visión de gestión del conocimiento, relacionada con los problemas de la justicia y los problemas de gestión de quienes administran los recursos de la justicia, y potenciando el uso de medios virtuales.","Cobertura de la formación impartida por la Escuela Judicial en el fortalecimiento de las competencias de los servidores judiciales","# servidores que no han recibido ningún curso de formación en los dos años anteriores al proceso de formación, discriminad o por funcionarios y empleados, municipio y especialida d /# servidores totales, discriminad o por funcionarios y empleados, municipio y especialida d",null,{"$f":"IFERROR([10]INVERSION!$G$196,\"\")","v":0},{"$f":"IFERROR([10]INVERSION!$H$196,\"\")","v":0},{"$f":"IFERROR([10]INVERSION!$I$196,\"\")","v":0},{"$f":"IFERROR([10]INVERSION!$J$196,\"\")","v":0},{"$f":"IFERROR([10]INVERSION!$K$196,\"\")","v":0},{"$f":"IFERROR([10]INVERSION!$L$196,\"\")","v":0},{"$f":"IFERROR([10]INVERSION!$M$196,\"\")","v":0},{"$f":"IFERROR([10]INVERSION!$N$196,\"\")","v":0},{"$f":"IFERROR([10]INVERSION!$O$196,\"\")","v":0},{"$f":"IFERROR([10]INVERSION!$P$196,\"\")","v":0},{"$f":"IFERROR([10]INVERSION!$Q$196,\"\")","v":0},{"$f":"IFERROR([10]INVERSION!$R$196,\"\")","v":0},{"$f":"IFERROR([10]INVERSION!$S$196,\"\")","v":"00:00:00"},{"$f":"IFERROR([10]INVERSION!$T$196,\"\")","v":"00:00:00"},{"$f":"IFERROR([10]INVERSION!$U$196,\"\")","v":0},{"$f":"IFERROR([10]INVERSION!$V$196,\"\")","v":0},{"$f":"IFERROR([10]INVERSION!$W$196,\"\")","v":0},{"$f":"IFERROR([10]INVERSION!$X$196,\"\")","v":0},{"$f":"IFERROR([10]INVERSION!$Y$196,\"\")","v":0},null,null,null,"","",null,0]
[null,null,null,null,null,null,{"$f":"IFERROR([10]INVERSION!$G$197,\"\")","v":0},{"$f":"IFERROR([10]INVERSION!$H$197,\"\")","v":0},{"$f":"IFERROR([10]INVERSION!$I$197,\"\")","v":0},{"$f":"IFERROR([10]INVERSION!$J$197,\"\")","v":0},{"$f":"IFERROR([10]INVERSION!$K$197,\"\")","v":0},{"$f":"IFERROR([10]INVERSION!$L$197,\"\")","v":0},{"$f":"IFERROR([10]INVERSION!$M$197,\"\")","v":0},{"$f":"IFERROR([10]INVERSION!$N$197,\"\")","v":0},{"$f":"IFERROR([10]INVERSION!$O$197,\"\")","v":0},{"$f":"IFERROR([10]INVERSION!$P$197,\"\")","v":0},{"$f":"IFERROR([10]INVERSION!$Q$197,\"\")","v":0},{"$f":"IFERROR([10]INVERSION!$R$197,\"\")","v":0},{"$f":"IFERROR([10]INVERSION!$S$197,\"\")","v":"00:00:00"},{"$f":"IFERROR([10]INVERSION!$T$197,\"\")","v":"00:00:00"},{"$f":"IFERROR([10]INVERSION!$U$197,\"\")","v":0},{"$f":"IFERROR([10]INVERSION!$V$197,\"\")","v":0},{"$f":"IFERROR([10]INVERSION!$W$197,\"\")","v":0},{"$f":"IFERROR([10]INVERSION!$X$197,\"\")","v":0},{"$f":"IFERROR([10]INVERSION!$Y$197,\"\")","v":0},null,null,null,"","",null,0]
[null,null,null,null,null,null,{"$f":"IFERROR([10]INVERSION!$G$198,\"\")","v":0},{"$f":"IFERROR([10]INVERSION!$H$198,\"\")","v":0},{"$f":"IFERROR([10]INVERSION!$I$198,\"\")","v":0},{"$f":"IFERROR([10]INVERSION!$J$198,\"\")","v":0},{"$f":"IFERROR([10]INVERSION!$K$198,\"\")","v":0},{"$f":"IFERROR([10]INVERSION!$L$198,\"\")","v":0},{"$f":"IFERROR([10]INVERSION!$M$198,\"\")","v":0},{"$f":"IFERROR([10]INVERSION!$N$198,\"\")","v":0},{"$f":"IFERROR([10]INVERSION!$O$198,\"\")","v":0},{"$f":"IFERROR([10]INVERSION!$P$198,\"\")","v":0},{"$f":"IFERROR([10]INVERSION!$Q$198,\"\")","v":0},{"$f":"IFERROR([10]INVERSION!$R$198,\"\")","v":0},{"$f":"IFERROR([10]INVERSION!$S$198,\"\")","v":"00:00:00"},{"$f":"IFERROR([10]INVERSION!$T$198,\"\")","v":"00:00:00"},{"$f":"IFERROR([10]INVERSION!$U$198,\"\")","v":0},{"$f":"IFERROR([10]INVERSION!$V$198,\"\")","v":0},{"$f":"IFERROR([10]INVERSION!$W$198,\"\")","v":0},{"$f":"IFERROR([10]INVERSION!$X$198,\"\")","v":0},{"$f":"IFERROR([10]INVERSION!$Y$198,\"\")","v":0}]
[null,null,null,null,null,null,{"$f":"IFERROR([10]INVERSION!$G$199,\"\")","v":0},{"$f":"IFERROR([10]INVERSION!$H$199,\"\")","v":0},{"$f":"IFERROR([10]INVERSION!$I$199,\"\")","v":0},{"$f":"IFERROR([10]INVERSION!$J$199,\"\")","v":0},{"$f":"IFERROR([10]INVERSION!$K$199,\"\")","v":0},{"$f":"IFERROR([10]INVERSION!$L$199,\"\")","v":0},{"$f":"IFERROR([10]INVERSION!$M$199,\"\")","v":0},{"$f":"IFERROR([10]INVERSION!$N$199,\"\")","v":0},{"$f":"IFERROR([10]INVERSION!$O$199,\"\")","v":0},{"$f":"IFERROR([10]INVERSION!$P$199,\"\")","v":0},{"$f":"IFERROR([10]INVERSION!$Q$199,\"\")","v":0},{"$f":"IFERROR([10]INVERSION!$R$199,\"\")","v":0},{"$f":"IFERROR([10]INVERSION!$S$199,\"\")","v":"00:00:00"},{"$f":"IFERROR([10]INVERSION!$T$199,\"\")","v":"00:00:00"},{"$f":"IFERROR([10]INVERSION!$U$199,\"\")","v":0},{"$f":"IFERROR([10]INVERSION!$V$199,\"\")","v":0},{"$f":"IFERROR([10]INVERSION!$W$199,\"\")","v":0},{"$f":"IFERROR([10]INVERSION!$X$199,\"\")","v":0},{"$f":"IFERROR([10]INVERSION!$Y$199,\"\")","v":0}]
[null,null,null,null,null,null,{"$f":"IFERROR([10]INVERSION!$G$200,\"\")","v":0},{"$f":"IFERROR([10]INVERSION!$H$200,\"\")","v":0},{"$f":"IFERROR([10]INVERSION!$I$200,\"\")","v":0},{"$f":"IFERROR([10]INVERSION!$J$200,\"\")","v":0},{"$f":"IFERROR([10]INVERSION!$K$200,\"\")","v":0},{"$f":"IFERROR([10]INVERSION!$L$200,\"\")","v":0},{"$f":"IFERROR([10]INVERSION!$M$200,\"\")","v":0},{"$f":"IFERROR([10]INVERSION!$N$200,\"\")","v":0},{"$f":"IFERROR([10]INVERSION!$O$200,\"\")","v":0},{"$f":"IFERROR([10]INVERSION!$P$200,\"\")","v":0},{"$f":"IFERROR([10]INVERSION!$Q$200,\"\")","v":0},{"$f":"IFERROR([10]INVERSION!$R$200,\"\")","v":0},{"$f":"IFERROR([10]INVERSION!$S$200,\"\")","v":"00:00:00"},{"$f":"IFERROR([10]INVERSION!$T$200,\"\")","v":"00:00:00"},{"$f":"IFERROR([10]INVERSION!$U$200,\"\")","v":0},{"$f":"IFERROR([10]INVERSION!$V$200,\"\")","v":0},{"$f":"IFERROR([10]INVERSION!$W$200,\"\")","v":0},{"$f":"IFERROR([10]INVERSION!$X$200,\"\")","v":0},{"$f":"IFERROR([10]INVERSION!$Y$200,\"\")","v":0}]
[null,null,null,null,null,null,{"$f":"IFERROR([10]INVERSION!$G$201,\"\")","v":0},{"$f":"IFERROR([10]INVERSION!$H$201,\"\")","v":0},{"$f":"IFERROR([10]INVERSION!$I$201,\"\")","v":0},{"$f":"IFERROR([10]INVERSION!$J$201,\"\")","v":0},{"$f":"IFERROR([10]INVERSION!$K$201,\"\")","v":0},{"$f":"IFERROR([10]INVERSION!$L$201,\"\")","v":0},{"$f":"IFERROR([10]INVERSION!$M$201,\"\")","v":0},{"$f":"IFERROR([10]INVERSION!$N$201,\"\")","v":0},{"$f":"IFERROR([10]INVERSION!$O$201,\"\")","v":0},{"$f":"IFERROR([10]INVERSION!$P$201,\"\")","v":0},{"$f":"IFERROR([10]INVERSION!$Q$201,\"\")","v":0},{"$f":"IFERROR([10]INVERSION!$R$201,\"\")","v":0},{"$f":"IFERROR([10]INVERSION!$S$201,\"\")","v":"00:00:00"},{"$f":"IFERROR([10]INVERSION!$T$201,\"\")","v":"00:00:00"},{"$f":"IFERROR([10]INVERSION!$U$201,\"\")","v":0},{"$f":"IFERROR([10]INVERSION!$V$201,\"\")","v":0},{"$f":"IFERROR([10]INVERSION!$W$201,\"\")","v":0},{"$f":"IFERROR([10]INVERSION!$X$201,\"\")","v":0},{"$f":"IFERROR([10]INVERSION!$Y$201,\"\")","v":0}]
[null,null,null,null,null,null,{"$f":"IFERROR([10]INVERSION!$G$202,\"\")","v":0},{"$f":"IFERROR([10]INVERSION!$H$202,\"\")","v":0},{"$f":"IFERROR([10]INVERSION!$I$202,\"\")","v":0},{"$f":"IFERROR([10]INVERSION!$J$202,\"\")","v":0},{"$f":"IFERROR([10]INVERSION!$K$202,\"\")","v":0},{"$f":"IFERROR([10]INVERSION!$L$202,\"\")","v":0},{"$f":"IFERROR([10]INVERSION!$M$202,\"\")","v":0},{"$f":"IFERROR([10]INVERSION!$N$202,\"\")","v":0},{"$f":"IFERROR([10]INVERSION!$O$202,\"\")","v":0},{"$f":"IFERROR([10]INVERSION!$P$202,\"\")","v":0},{"$f":"IFERROR([10]INVERSION!$Q$202,\"\")","v":0},{"$f":"IFERROR([10]INVERSION!$R$202,\"\")","v":0},{"$f":"IFERROR([10]INVERSION!$S$202,\"\")","v":"00:00:00"},{"$f":"IFERROR([10]INVERSION!$T$202,\"\")","v":"00:00:00"},{"$f":"IFERROR([10]INVERSION!$U$202,\"\")","v":0},{"$f":"IFERROR([10]INVERSION!$V$202,\"\")","v":0},{"$f":"IFERROR([10]INVERSION!$W$202,\"\")","v":0},{"$f":"IFERROR([10]INVERSION!$X$202,\"\")","v":0},{"$f":"IFERROR([10]INVERSION!$Y$202,\"\")","v":0}]
[null,null,null,null,null,null,{"$f":"IFERROR([10]INVERSION!$G$203,\"\")","v":0},{"$f":"IFERROR([10]INVERSION!$H$203,\"\")","v":0},{"$f":"IFERROR([10]INVERSION!$I$203,\"\")","v":0},{"$f":"IFERROR([10]INVERSION!$J$203,\"\")","v":0},{"$f":"IFERROR([10]INVERSION!$K$203,\"\")","v":0},{"$f":"IFERROR([10]INVERSION!$L$203,\"\")","v":0},{"$f":"IFERROR([10]INVERSION!$M$203,\"\")","v":0},{"$f":"IFERROR([10]INVERSION!$N$203,\"\")","v":0},{"$f":"IFERROR([10]INVERSION!$O$203,\"\")","v":0},{"$f":"IFERROR([10]INVERSION!$P$203,\"\")","v":0},{"$f":"IFERROR([10]INVERSION!$Q$203,\"\")","v":0},{"$f":"IFERROR([10]INVERSION!$R$203,\"\")","v":0},{"$f":"IFERROR([10]INVERSION!$S$203,\"\")","v":"00:00:00"},{"$f":"IFERROR([10]INVERSION!$T$203,\"\")","v":"00:00:00"},{"$f":"IFERROR([10]INVERSION!$U$203,\"\")","v":0},{"$f":"IFERROR([10]INVERSION!$V$203,\"\")","v":0},{"$f":"IFERROR([10]INVERSION!$W$203,\"\")","v":0},{"$f":"IFERROR([10]INVERSION!$X$203,\"\")","v":0},{"$f":"IFERROR([10]INVERSION!$Y$203,\"\")","v":0},null,null,null,"","",null,0]
[null,null,null,null,null,null,{"$f":"IFERROR([10]INVERSION!$G$204,\"\")","v":0},{"$f":"IFERROR([10]INVERSION!$H$204,\"\")","v":0},{"$f":"IFERROR([10]INVERSION!$I$204,\"\")","v":0},{"$f":"IFERROR([10]INVERSION!$J$204,\"\")","v":0},{"$f":"IFERROR([10]INVERSION!$K$204,\"\")","v":0},{"$f":"IFERROR([10]INVERSION!$L$204,\"\")","v":0},{"$f":"IFERROR([10]INVERSION!$M$204,\"\")","v":0},{"$f":"IFERROR([10]INVERSION!$N$204,\"\")","v":0},{"$f":"IFERROR([10]INVERSION!$O$204,\"\")","v":0},{"$f":"IFERROR([10]INVERSION!$P$204,\"\")","v":0},{"$f":"IFERROR([10]INVERSION!$Q$204,\"\")","v":0},{"$f":"IFERROR([10]INVERSION!$R$204,\"\")","v":0},{"$f":"IFERROR([10]INVERSION!$S$204,\"\")","v":"00:00:00"},{"$f":"IFERROR([10]INVERSION!$T$204,\"\")","v":"00:00:00"},{"$f":"IFERROR([10]INVERSION!$U$204,\"\")","v":0},{"$f":"IFERROR([10]INVERSION!$V$204,\"\")","v":0},{"$f":"IFERROR([10]INVERSION!$W$204,\"\")","v":0},{"$f":"IFERROR([10]INVERSION!$X$204,\"\")","v":0},{"$f":"IFERROR([10]INVERSION!$Y$204,\"\")","v":0},null,null,null,"","",null,0]
[null,null,null,null,null,null,{"$f":"IFERROR([10]INVERSION!$G$205,\"\")","v":0},{"$f":"IFERROR([10]INVERSION!$H$205,\"\")","v":0},{"$f":"IFERROR([10]INVERSION!$I$205,\"\")","v":0},{"$f":"IFERROR([10]INVERSION!$J$205,\"\")","v":0},{"$f":"IFERROR([10]INVERSION!$K$205,\"\")","v":0},{"$f":"IFERROR([10]INVERSION!$L$205,\"\")","v":0},{"$f":"IFERROR([10]INVERSION!$M$205,\"\")","v":0},{"$f":"IFERROR([10]INVERSION!$N$205,\"\")","v":0},{"$f":"IFERROR([10]INVERSION!$O$205,\"\")","v":0},{"$f":"IFERROR([10]INVERSION!$P$205,\"\")","v":0},{"$f":"IFERROR([10]INVERSION!$Q$205,\"\")","v":0},{"$f":"IFERROR([10]INVERSION!$R$205,\"\")","v":0},{"$f":"IFERROR([10]INVERSION!$S$205,\"\")","v":"00:00:00"},{"$f":"IFERROR([10]INVERSION!$T$205,\"\")","v":"00:00:00"},{"$f":"IFERROR([10]INVERSION!$U$205,\"\")","v":0},{"$f":"IFERROR([10]INVERSION!$V$205,\"\")","v":0},{"$f":"IFERROR([10]INVERSION!$W$205,\"\")","v":0},{"$f":"IFERROR([10]INVERSION!$X$205,\"\")","v":0},{"$f":"IFERROR([10]INVERSION!$Y$205,\"\")","v":0},null,null,null,"","",null,0]
[null,null,"3. Promover la incorporación de la perspectiva de género y el enfoque diferencial en los fallos judiciales y en la atención a los ciudadanos, la administración de la Rama Judicial, la administración de la carrera judicial y la elaboración de listas para altas Cortes. ","Enfoque diferencial y perspectiva de género en las decisiones judiciales de la Rama Judicial","# de decisiones judiciales postuladas al Concurso de “Reconocim iento a la incorporaci ón del derecho a la igualdad y la no discriminaci ón en las sentencias judiciales” en el año corriente/# de decisiones judiciales postuladas al Concurso de “Reconocim iento a la incorporaci ón del derecho a la igualdad y la no discriminaci ón en las sentencias judiciales” en el año inmediatam ente anterior",null,{"$f":"IFERROR([10]INVERSION!$G$206,\"\")","v":0},{"$f":"IFERROR([10]INVERSION!$H$206,\"\")","v":0},{"$f":"IFERROR([10]INVERSION!$I$206,\"\")","v":0},{"$f":"IFERROR([10]INVERSION!$J$206,\"\")","v":0},{"$f":"IFERROR([10]INVERSION!$K$206,\"\")","v":0},{"$f":"IFERROR([10]INVERSION!$L$206,\"\")","v":0},{"$f":"IFERROR([10]INVERSION!$M$206,\"\")","v":0},{"$f":"IFERROR([10]INVERSION!$N$206,\"\")","v":0},{"$f":"IFERROR([10]INVERSION!$O$206,\"\")","v":0},{"$f":"IFERROR([10]INVERSION!$P$206,\"\")","v":0},{"$f":"IFERROR([10]INVERSION!$Q$206,\"\")","v":0},{"$f":"IFERROR([10]INVERSION!$R$206,\"\")","v":0},{"$f":"IFERROR([10]INVERSION!$S$206,\"\")","v":"00:00:00"},{"$f":"IFERROR([10]INVERSION!$T$206,\"\")","v":"00:00:00"},{"$f":"IFERROR([10]INVERSION!$U$206,\"\")","v":0},{"$f":"IFERROR([10]INVERSION!$V$206,\"\")","v":0},{"$f":"IFERROR([10]INVERSION!$W$206,\"\")","v":0},{"$f":"IFERROR([10]INVERSION!$X$206,\"\")","v":0},{"$f":"IFERROR([10]INVERSION!$Y$206,\"\")","v":0},null,null,null,"","",null,0]
[null,null,null,null,null,null,{"$f":"IFERROR([10]INVERSION!$G$207,\"\")","v":0},{"$f":"IFERROR([10]INVERSION!$H$207,\"\")","v":0},{"$f":"IFERROR([10]INVERSION!$I$207,\"\")","v":0},{"$f":"IFERROR([10]INVERSION!$J$207,\"\")","v":0},{"$f":"IFERROR([10]INVERSION!$K$207,\"\")","v":0},{"$f":"IFERROR([10]INVERSION!$L$207,\"\")","v":0},{"$f":"IFERROR([10]INVERSION!$M$207,\"\")","v":0},{"$f":"IFERROR([10]INVERSION!$N$207,\"\")","v":0},{"$f":"IFERROR([10]INVERSION!$O$207,\"\")","v":0},{"$f":"IFERROR([10]INVERSION!$P$207,\"\")","v":0},{"$f":"IFERROR([10]INVERSION!$Q$207,\"\")","v":0},{"$f":"IFERROR([10]INVERSION!$R$207,\"\")","v":0},{"$f":"IFERROR([10]INVERSION!$S$207,\"\")","v":"00:00:00"},{"$f":"IFERROR([10]INVERSION!$T$207,\"\")","v":"00:00:00"},{"$f":"IFERROR([10]INVERSION!$U$207,\"\")","v":0},{"$f":"IFERROR([10]INVERSION!$V$207,\"\")","v":0},{"$f":"IFERROR([10]INVERSION!$W$207,\"\")","v":0},{"$f":"IFERROR([10]INVERSION!$X$207,\"\")","v":0},{"$f":"IFERROR([10]INVERSION!$Y$207,\"\")","v":0},null,null,null,"","",null,0]
[null,null,null,null,null,null,{"$f":"IFERROR([10]INVERSION!$G$208,\"\")","v":0},{"$f":"IFERROR([10]INVERSION!$H$208,\"\")","v":0},{"$f":"IFERROR([10]INVERSION!$I$208,\"\")","v":0},{"$f":"IFERROR([10]INVERSION!$J$208,\"\")","v":0},{"$f":"IFERROR([10]INVERSION!$K$208,\"\")","v":0},{"$f":"IFERROR([10]INVERSION!$L$208,\"\")","v":0},{"$f":"IFERROR([10]INVERSION!$M$208,\"\")","v":0},{"$f":"IFERROR([10]INVERSION!$N$208,\"\")","v":0},{"$f":"IFERROR([10]INVERSION!$O$208,\"\")","v":0},{"$f":"IFERROR([10]INVERSION!$P$208,\"\")","v":0},{"$f":"IFERROR([10]INVERSION!$Q$208,\"\")","v":0},{"$f":"IFERROR([10]INVERSION!$R$208,\"\")","v":0},{"$f":"IFERROR([10]INVERSION!$S$208,\"\")","v":"00:00:00"},{"$f":"IFERROR([10]INVERSION!$T$208,\"\")","v":"00:00:00"},{"$f":"IFERROR([10]INVERSION!$U$208,\"\")","v":0},{"$f":"IFERROR([10]INVERSION!$V$208,\"\")","v":0},{"$f":"IFERROR([10]INVERSION!$W$208,\"\")","v":0},{"$f":"IFERROR([10]INVERSION!$X$208,\"\")","v":0},{"$f":"IFERROR([10]INVERSION!$Y$208,\"\")","v":0}]
[null,null,null,null,null,null,{"$f":"IFERROR([10]INVERSION!$G$209,\"\")","v":0},{"$f":"IFERROR([10]INVERSION!$H$209,\"\")","v":0},{"$f":"IFERROR([10]INVERSION!$I$209,\"\")","v":0},{"$f":"IFERROR([10]INVERSION!$J$209,\"\")","v":0},{"$f":"IFERROR([10]INVERSION!$K$209,\"\")","v":0},{"$f":"IFERROR([10]INVERSION!$L$209,\"\")","v":0},{"$f":"IFERROR([10]INVERSION!$M$209,\"\")","v":0},{"$f":"IFERROR([10]INVERSION!$N$209,\"\")","v":0},{"$f":"IFERROR([10]INVERSION!$O$209,\"\")","v":0},{"$f":"IFERROR([10]INVERSION!$P$209,\"\")","v":0},{"$f":"IFERROR([10]INVERSION!$Q$209,\"\")","v":0},{"$f":"IFERROR([10]INVERSION!$R$209,\"\")","v":0},{"$f":"IFERROR([10]INVERSION!$S$209,\"\")","v":"00:00:00"},{"$f":"IFERROR([10]INVERSION!$T$209,\"\")","v":"00:00:00"},{"$f":"IFERROR([10]INVERSION!$U$209,\"\")","v":0},{"$f":"IFERROR([10]INVERSION!$V$209,\"\")","v":0},{"$f":"IFERROR([10]INVERSION!$W$209,\"\")","v":0},{"$f":"IFERROR([10]INVERSION!$X$209,\"\")","v":0},{"$f":"IFERROR([10]INVERSION!$Y$209,\"\")","v":0}]
[null,null,null,null,null,null,{"$f":"IFERROR([10]INVERSION!$G$210,\"\")","v":0},{"$f":"IFERROR([10]INVERSION!$H$210,\"\")","v":0},{"$f":"IFERROR([10]INVERSION!$I$210,\"\")","v":0},{"$f":"IFERROR([10]INVERSION!$J$210,\"\")","v":0},{"$f":"IFERROR([10]INVERSION!$K$210,\"\")","v":0},{"$f":"IFERROR([10]INVERSION!$L$210,\"\")","v":0},{"$f":"IFERROR([10]INVERSION!$M$210,\"\")","v":0},{"$f":"IFERROR([10]INVERSION!$N$210,\"\")","v":0},{"$f":"IFERROR([10]INVERSION!$O$210,\"\")","v":0},{"$f":"IFERROR([10]INVERSION!$P$210,\"\")","v":0},{"$f":"IFERROR([10]INVERSION!$Q$210,\"\")","v":0},{"$f":"IFERROR([10]INVERSION!$R$210,\"\")","v":0},{"$f":"IFERROR([10]INVERSION!$S$210,\"\")","v":"00:00:00"},{"$f":"IFERROR([10]INVERSION!$T$210,\"\")","v":"00:00:00"},{"$f":"IFERROR([10]INVERSION!$U$210,\"\")","v":0},{"$f":"IFERROR([10]INVERSION!$V$210,\"\")","v":0},{"$f":"IFERROR([10]INVERSION!$W$210,\"\")","v":0},{"$f":"IFERROR([10]INVERSION!$X$210,\"\")","v":0},{"$f":"IFERROR([10]INVERSION!$Y$210,\"\")","v":0}]
[null,null,null,null,null,null,{"$f":"IFERROR([10]INVERSION!$G$211,\"\")","v":0},{"$f":"IFERROR([10]INVERSION!$H$211,\"\")","v":0},{"$f":"IFERROR([10]INVERSION!$I$211,\"\")","v":0},{"$f":"IFERROR([10]INVERSION!$J$211,\"\")","v":0},{"$f":"IFERROR([10]INVERSION!$K$211,\"\")","v":0},{"$f":"IFERROR([10]INVERSION!$L$211,\"\")","v":0},{"$f":"IFERROR([10]INVERSION!$M$211,\"\")","v":0},{"$f":"IFERROR([10]INVERSION!$N$211,\"\")","v":0},{"$f":"IFERROR([10]INVERSION!$O$211,\"\")","v":0},{"$f":"IFERROR([10]INVERSION!$P$211,\"\")","v":0},{"$f":"IFERROR([10]INVERSION!$Q$211,\"\")","v":0},{"$f":"IFERROR([10]INVERSION!$R$211,\"\")","v":0},{"$f":"IFERROR([10]INVERSION!$S$211,\"\")","v":"00:00:00"},{"$f":"IFERROR([10]INVERSION!$T$211,\"\")","v":"00:00:00"},{"$f":"IFERROR([10]INVERSION!$U$211,\"\")","v":0},{"$f":"IFERROR([10]INVERSION!$V$211,\"\")","v":0},{"$f":"IFERROR([10]INVERSION!$W$211,\"\")","v":0},{"$f":"IFERROR([10]INVERSION!$X$211,\"\")","v":0},{"$f":"IFERROR([10]INVERSION!$Y$211,\"\")","v":0}]
[null,null,null,null,null,null,{"$f":"IFERROR([10]INVERSION!$G$212,\"\")","v":0},{"$f":"IFERROR([10]INVERSION!$H$212,\"\")","v":0},{"$f":"IFERROR([10]INVERSION!$I$212,\"\")","v":0},{"$f":"IFERROR([10]INVERSION!$J$212,\"\")","v":0},{"$f":"IFERROR([10]INVERSION!$K$212,\"\")","v":0},{"$f":"IFERROR([10]INVERSION!$L$212,\"\")","v":0},{"$f":"IFERROR([10]INVERSION!$M$212,\"\")","v":0},{"$f":"IFERROR([10]INVERSION!$N$212,\"\")","v":0},{"$f":"IFERROR([10]INVERSION!$O$212,\"\")","v":0},{"$f":"IFERROR([10]INVERSION!$P$212,\"\")","v":0},{"$f":"IFERROR([10]INVERSION!$Q$212,\"\")","v":0},{"$f":"IFERROR([10]INVERSION!$R$212,\"\")","v":0},{"$f":"IFERROR([10]INVERSION!$S$212,\"\")","v":"00:00:00"},{"$f":"IFERROR([10]INVERSION!$T$212,\"\")","v":"00:00:00"},{"$f":"IFERROR([10]INVERSION!$U$212,\"\")","v":0},{"$f":"IFERROR([10]INVERSION!$V$212,\"\")","v":0},{"$f":"IFERROR([10]INVERSION!$W$212,\"\")","v":0},{"$f":"IFERROR([10]INVERSION!$X$212,\"\")","v":0},{"$f":"IFERROR([10]INVERSION!$Y$212,\"\")","v":0}]
[null,null,null,null,null,null,{"$f":"IFERROR([10]INVERSION!$G$213,\"\")","v":0},{"$f":"IFERROR([10]INVERSION!$H$213,\"\")","v":0},{"$f":"IFERROR([10]INVERSION!$I$213,\"\")","v":0},{"$f":"IFERROR([10]INVERSION!$J$213,\"\")","v":0},{"$f":"IFERROR([10]INVERSION!$K$213,\"\")","v":0},{"$f":"IFERROR([10]INVERSION!$L$213,\"\")","v":0},{"$f":"IFERROR([10]INVERSION!$M$213,\"\")","v":0},{"$f":"IFERROR([10]INVERSION!$N$213,\"\")","v":0},{"$f":"IFERROR([10]INVERSION!$O$213,\"\")","v":0},{"$f":"IFERROR([10]INVERSION!$P$213,\"\")","v":0},{"$f":"IFERROR([10]INVERSION!$Q$213,\"\")","v":0},{"$f":"IFERROR([10]INVERSION!$R$213,\"\")","v":0},{"$f":"IFERROR([10]INVERSION!$S$213,\"\")","v":"00:00:00"},{"$f":"IFERROR([10]INVERSION!$T$213,\"\")","v":"00:00:00"},{"$f":"IFERROR([10]INVERSION!$U$213,\"\")","v":0},{"$f":"IFERROR([10]INVERSION!$V$213,\"\")","v":0},{"$f":"IFERROR([10]INVERSION!$W$213,\"\")","v":0},{"$f":"IFERROR([10]INVERSION!$X$213,\"\")","v":0},{"$f":"IFERROR([10]INVERSION!$Y$213,\"\")","v":0},null,null,null,"","",null,0]
[null,null,null,null,null,null,{"$f":"IFERROR([10]INVERSION!$G$214,\"\")","v":0},{"$f":"IFERROR([10]INVERSION!$H$214,\"\")","v":0},{"$f":"IFERROR([10]INVERSION!$I$214,\"\")","v":0},{"$f":"IFERROR([10]INVERSION!$J$214,\"\")","v":0},{"$f":"IFERROR([10]INVERSION!$K$214,\"\")","v":0},{"$f":"IFERROR([10]INVERSION!$L$214,\"\")","v":0},{"$f":"IFERROR([10]INVERSION!$M$214,\"\")","v":0},{"$f":"IFERROR([10]INVERSION!$N$214,\"\")","v":0},{"$f":"IFERROR([10]INVERSION!$O$214,\"\")","v":0},{"$f":"IFERROR([10]INVERSION!$P$214,\"\")","v":0},{"$f":"IFERROR([10]INVERSION!$Q$214,\"\")","v":0},{"$f":"IFERROR([10]INVERSION!$R$214,\"\")","v":0},{"$f":"IFERROR([10]INVERSION!$S$214,\"\")","v":"00:00:00"},{"$f":"IFERROR([10]INVERSION!$T$214,\"\")","v":"00:00:00"},{"$f":"IFERROR([10]INVERSION!$U$214,\"\")","v":0},{"$f":"IFERROR([10]INVERSION!$V$214,\"\")","v":0},{"$f":"IFERROR([10]INVERSION!$W$214,\"\")","v":0},{"$f":"IFERROR([10]INVERSION!$X$214,\"\")","v":0},{"$f":"IFERROR([10]INVERSION!$Y$214,\"\")","v":0},null,null,null,"","",null,0]
[null,null,null,null,null,null,{"$f":"IFERROR([10]INVERSION!$G$215,\"\")","v":0},{"$f":"IFERROR([10]INVERSION!$H$215,\"\")","v":0},{"$f":"IFERROR([10]INVERSION!$I$215,\"\")","v":0},{"$f":"IFERROR([10]INVERSION!$J$215,\"\")","v":0},{"$f":"IFERROR([10]INVERSION!$K$215,\"\")","v":0},{"$f":"IFERROR([10]INVERSION!$L$215,\"\")","v":0},{"$f":"IFERROR([10]INVERSION!$M$215,\"\")","v":0},{"$f":"IFERROR([10]INVERSION!$N$215,\"\")","v":0},{"$f":"IFERROR([10]INVERSION!$O$215,\"\")","v":0},{"$f":"IFERROR([10]INVERSION!$P$215,\"\")","v":0},{"$f":"IFERROR([10]INVERSION!$Q$215,\"\")","v":0},{"$f":"IFERROR([10]INVERSION!$R$215,\"\")","v":0},{"$f":"IFERROR([10]INVERSION!$S$215,\"\")","v":"00:00:00"},{"$f":"IFERROR([10]INVERSION!$T$215,\"\")","v":"00:00:00"},{"$f":"IFERROR([10]INVERSION!$U$215,\"\")","v":0},{"$f":"IFERROR([10]INVERSION!$V$215,\"\")","v":0},{"$f":"IFERROR([10]INVERSION!$W$215,\"\")","v":0},{"$f":"IFERROR([10]INVERSION!$X$215,\"\")","v":0},{"$f":"IFERROR([10]INVERSION!$Y$215,\"\")","v":0},null,null,null,"","",null,0]
[null,null,"4. Desarrollar en los servidores judiciales y demás grupos de valor relevantes las competencias necesarias para la efectividad de la transformación digital de modo que puedan, entre otros, utilizar con solvencia las herramientas digitales dispuestas para sus respectivas funciones. Además, fortalecer y actualizar los conocimientos del personal a cargo de la gestión de proyectos de tecnología.","Cobertura de la formación impartida por la Escuela Judicial en Tecnologías de la Información y las Comunicaciones TIC para la práctica judicial.","# servidores que no han recibido ningún curso de formación en Tecnología s de la Información y las Comunicaci ones TIC en la vigencia del plan sectorial, discriminad o por funcionarios y empleados, municipio y especialida d /# servidores totales, discriminad o por funcionarios y empleados, municipio y especialida d",null,{"$f":"IFERROR([10]INVERSION!$G$216,\"\")","v":0},{"$f":"IFERROR([10]INVERSION!$H$216,\"\")","v":0},{"$f":"IFERROR([10]INVERSION!$I$216,\"\")","v":0},{"$f":"IFERROR([10]INVERSION!$J$216,\"\")","v":0},{"$f":"IFERROR([10]INVERSION!$K$216,\"\")","v":0},{"$f":"IFERROR([10]INVERSION!$L$216,\"\")","v":0},{"$f":"IFERROR([10]INVERSION!$M$216,\"\")","v":0},{"$f":"IFERROR([10]INVERSION!$N$216,\"\")","v":0},{"$f":"IFERROR([10]INVERSION!$O$216,\"\")","v":0},{"$f":"IFERROR([10]INVERSION!$P$216,\"\")","v":0},{"$f":"IFERROR([10]INVERSION!$Q$216,\"\")","v":0},{"$f":"IFERROR([10]INVERSION!$R$216,\"\")","v":0},{"$f":"IFERROR([10]INVERSION!$S$216,\"\")","v":"00:00:00"},{"$f":"IFERROR([10]INVERSION!$T$216,\"\")","v":"00:00:00"},{"$f":"IFERROR([10]INVERSION!$U$216,\"\")","v":0},{"$f":"IFERROR([10]INVERSION!$V$216,\"\")","v":0},{"$f":"IFERROR([10]INVERSION!$W$216,\"\")","v":0},{"$f":"IFERROR([10]INVERSION!$X$216,\"\")","v":0},{"$f":"IFERROR([10]INVERSION!$Y$216,\"\")","v":0},null,null,null,"","",null,0]
[null,null,null,null,null,null,{"$f":"IFERROR([10]INVERSION!$G$217,\"\")","v":0},{"$f":"IFERROR([10]INVERSION!$H$217,\"\")","v":0},{"$f":"IFERROR([10]INVERSION!$I$217,\"\")","v":0},{"$f":"IFERROR([10]INVERSION!$J$217,\"\")","v":0},{"$f":"IFERROR([10]INVERSION!$K$217,\"\")","v":0},{"$f":"IFERROR([10]INVERSION!$L$217,\"\")","v":0},{"$f":"IFERROR([10]INVERSION!$M$217,\"\")","v":0},{"$f":"IFERROR([10]INVERSION!$N$217,\"\")","v":0},{"$f":"IFERROR([10]INVERSION!$O$217,\"\")","v":0},{"$f":"IFERROR([10]INVERSION!$P$217,\"\")","v":0},{"$f":"IFERROR([10]INVERSION!$Q$217,\"\")","v":0},{"$f":"IFERROR([10]INVERSION!$R$217,\"\")","v":0},{"$f":"IFERROR([10]INVERSION!$S$217,\"\")","v":"00:00:00"},{"$f":"IFERROR([10]INVERSION!$T$217,\"\")","v":"00:00:00"},{"$f":"IFERROR([10]INVERSION!$U$217,\"\")","v":0},{"$f":"IFERROR([10]INVERSION!$V$217,\"\")","v":0},{"$f":"IFERROR([10]INVERSION!$W$217,\"\")","v":0},{"$f":"IFERROR([10]INVERSION!$X$217,\"\")","v":0},{"$f":"IFERROR([10]INVERSION!$Y$217,\"\")","v":0},null,null,null,"","",null,0]
[null,null,null,null,null,null,{"$f":"IFERROR([10]INVERSION!$G$218,\"\")","v":0},{"$f":"IFERROR([10]INVERSION!$H$218,\"\")","v":0},{"$f":"IFERROR([10]INVERSION!$I$218,\"\")","v":0},{"$f":"IFERROR([10]INVERSION!$J$218,\"\")","v":0},{"$f":"IFERROR([10]INVERSION!$K$218,\"\")","v":0},{"$f":"IFERROR([10]INVERSION!$L$218,\"\")","v":0},{"$f":"IFERROR([10]INVERSION!$M$218,\"\")","v":0},{"$f":"IFERROR([10]INVERSION!$N$218,\"\")","v":0},{"$f":"IFERROR([10]INVERSION!$O$218,\"\")","v":0},{"$f":"IFERROR([10]INVERSION!$P$218,\"\")","v":0},{"$f":"IFERROR([10]INVERSION!$Q$218,\"\")","v":0},{"$f":"IFERROR([10]INVERSION!$R$218,\"\")","v":0},{"$f":"IFERROR([10]INVERSION!$S$218,\"\")","v":"00:00:00"},{"$f":"IFERROR([10]INVERSION!$T$218,\"\")","v":"00:00:00"},{"$f":"IFERROR([10]INVERSION!$U$218,\"\")","v":0},{"$f":"IFERROR([10]INVERSION!$V$218,\"\")","v":0},{"$f":"IFERROR([10]INVERSION!$W$218,\"\")","v":0},{"$f":"IFERROR([10]INVERSION!$X$218,\"\")","v":0},{"$f":"IFERROR([10]INVERSION!$Y$218,\"\")","v":0}]
[null,null,null,null,null,null,{"$f":"IFERROR([10]INVERSION!$G$219,\"\")","v":0},{"$f":"IFERROR([10]INVERSION!$H$219,\"\")","v":0},{"$f":"IFERROR([10]INVERSION!$I$219,\"\")","v":0},{"$f":"IFERROR([10]INVERSION!$J$219,\"\")","v":0},{"$f":"IFERROR([10]INVERSION!$K$219,\"\")","v":0},{"$f":"IFERROR([10]INVERSION!$L$219,\"\")","v":0},{"$f":"IFERROR([10]INVERSION!$M$219,\"\")","v":0},{"$f":"IFERROR([10]INVERSION!$N$219,\"\")","v":0},{"$f":"IFERROR([10]INVERSION!$O$219,\"\")","v":0},{"$f":"IFERROR([10]INVERSION!$P$219,\"\")","v":0},{"$f":"IFERROR([10]INVERSION!$Q$219,\"\")","v":0},{"$f":"IFERROR([10]INVERSION!$R$219,\"\")","v":0},{"$f":"IFERROR([10]INVERSION!$S$219,\"\")","v":"00:00:00"},{"$f":"IFERROR([10]INVERSION!$T$219,\"\")","v":"00:00:00"},{"$f":"IFERROR([10]INVERSION!$U$219,\"\")","v":0},{"$f":"IFERROR([10]INVERSION!$V$219,\"\")","v":0},{"$f":"IFERROR([10]INVERSION!$W$219,\"\")","v":0},{"$f":"IFERROR([10]INVERSION!$X$219,\"\")","v":0},{"$f":"IFERROR([10]INVERSION!$Y$219,\"\")","v":0}]
[null,null,null,null,null,null,{"$f":"IFERROR([10]INVERSION!$G$220,\"\")","v":0},{"$f":"IFERROR([10]INVERSION!$H$220,\"\")","v":0},{"$f":"IFERROR([10]INVERSION!$I$220,\"\")","v":0},{"$f":"IFERROR([10]INVERSION!$J$220,\"\")","v":0},{"$f":"IFERROR([10]INVERSION!$K$220,\"\")","v":0},{"$f":"IFERROR([10]INVERSION!$L$220,\"\")","v":0},{"$f":"IFERROR([10]INVERSION!$M$220,\"\")","v":0},{"$f":"IFERROR([10]INVERSION!$N$220,\"\")","v":0},{"$f":"IFERROR([10]INVERSION!$O$220,\"\")","v":0},{"$f":"IFERROR([10]INVERSION!$P$220,\"\")","v":0},{"$f":"IFERROR([10]INVERSION!$Q$220,\"\")","v":0},{"$f":"IFERROR([10]INVERSION!$R$220,\"\")","v":0},{"$f":"IFERROR([10]INVERSION!$S$220,\"\")","v":"00:00:00"},{"$f":"IFERROR([10]INVERSION!$T$220,\"\")","v":"00:00:00"},{"$f":"IFERROR([10]INVERSION!$U$220,\"\")","v":0},{"$f":"IFERROR([10]INVERSION!$V$220,\"\")","v":0},{"$f":"IFERROR([10]INVERSION!$W$220,\"\")","v":0},{"$f":"IFERROR([10]INVERSION!$X$220,\"\")","v":0},{"$f":"IFERROR([10]INVERSION!$Y$220,\"\")","v":0}]
[null,null,null,null,null,null,{"$f":"IFERROR([10]INVERSION!$G$221,\"\")","v":0},{"$f":"IFERROR([10]INVERSION!$H$221,\"\")","v":0},{"$f":"IFERROR([10]INVERSION!$I$221,\"\")","v":0},{"$f":"IFERROR([10]INVERSION!$J$221,\"\")","v":0},{"$f":"IFERROR([10]INVERSION!$K$221,\"\")","v":0},{"$f":"IFERROR([10]INVERSION!$L$221,\"\")","v":0},{"$f":"IFERROR([10]INVERSION!$M$221,\"\")","v":0},{"$f":"IFERROR([10]INVERSION!$N$221,\"\")","v":0},{"$f":"IFERROR([10]INVERSION!$O$221,\"\")","v":0},{"$f":"IFERROR([10]INVERSION!$P$221,\"\")","v":0},{"$f":"IFERROR([10]INVERSION!$Q$221,\"\")","v":0},{"$f":"IFERROR([10]INVERSION!$R$221,\"\")","v":0},{"$f":"IFERROR([10]INVERSION!$S$221,\"\")","v":"00:00:00"},{"$f":"IFERROR([10]INVERSION!$T$221,\"\")","v":"00:00:00"},{"$f":"IFERROR([10]INVERSION!$U$221,\"\")","v":0},{"$f":"IFERROR([10]INVERSION!$V$221,\"\")","v":0},{"$f":"IFERROR([10]INVERSION!$W$221,\"\")","v":0},{"$f":"IFERROR([10]INVERSION!$X$221,\"\")","v":0},{"$f":"IFERROR([10]INVERSION!$Y$221,\"\")","v":0}]
[null,null,null,null,null,null,{"$f":"IFERROR([10]INVERSION!$G$222,\"\")","v":0},{"$f":"IFERROR([10]INVERSION!$H$222,\"\")","v":0},{"$f":"IFERROR([10]INVERSION!$I$222,\"\")","v":0},{"$f":"IFERROR([10]INVERSION!$J$222,\"\")","v":0},{"$f":"IFERROR([10]INVERSION!$K$222,\"\")","v":0},{"$f":"IFERROR([10]INVERSION!$L$222,\"\")","v":0},{"$f":"IFERROR([10]INVERSION!$M$222,\"\")","v":0},{"$f":"IFERROR([10]INVERSION!$N$222,\"\")","v":0},{"$f":"IFERROR([10]INVERSION!$O$222,\"\")","v":0},{"$f":"IFERROR([10]INVERSION!$P$222,\"\")","v":0},{"$f":"IFERROR([10]INVERSION!$Q$222,\"\")","v":0},{"$f":"IFERROR([10]INVERSION!$R$222,\"\")","v":0},{"$f":"IFERROR([10]INVERSION!$S$222,\"\")","v":"00:00:00"},{"$f":"IFERROR([10]INVERSION!$T$222,\"\")","v":"00:00:00"},{"$f":"IFERROR([10]INVERSION!$U$222,\"\")","v":0},{"$f":"IFERROR([10]INVERSION!$V$222,\"\")","v":0},{"$f":"IFERROR([10]INVERSION!$W$222,\"\")","v":0},{"$f":"IFERROR([10]INVERSION!$X$222,\"\")","v":0},{"$f":"IFERROR([10]INVERSION!$Y$222,\"\")","v":0}]
[null,null,null,null,null,null,{"$f":"IFERROR([10]INVERSION!$G$223,\"\")","v":0},{"$f":"IFERROR([10]INVERSION!$H$223,\"\")","v":0},{"$f":"IFERROR([10]INVERSION!$I$223,\"\")","v":0},{"$f":"IFERROR([10]INVERSION!$J$223,\"\")","v":0},{"$f":"IFERROR([10]INVERSION!$K$223,\"\")","v":0},{"$f":"IFERROR([10]INVERSION!$L$223,\"\")","v":0},{"$f":"IFERROR([10]INVERSION!$M$223,\"\")","v":0},{"$f":"IFERROR([10]INVERSION!$N$223,\"\")","v":0},{"$f":"IFERROR([10]INVERSION!$O$223,\"\")","v":0},{"$f":"IFERROR([10]INVERSION!$P$223,\"\")","v":0},{"$f":"IFERROR([10]INVERSION!$Q$223,\"\")","v":0},{"$f":"IFERROR([10]INVERSION!$R$223,\"\")","v":0},{"$f":"IFERROR([10]INVERSION!$S$223,\"\")","v":"00:00:00"},{"$f":"IFERROR([10]INVERSION!$T$223,\"\")","v":"00:00:00"},{"$f":"IFERROR([10]INVERSION!$U$223,\"\")","v":0},{"$f":"IFERROR([10]INVERSION!$V$223,\"\")","v":0},{"$f":"IFERROR([10]INVERSION!$W$223,\"\")","v":0},{"$f":"IFERROR([10]INVERSION!$X$223,\"\")","v":0},{"$f":"IFERROR([10]INVERSION!$Y$223,\"\")","v":0},null,null,null,"","",null,0]
[null,null,null,null,null,null,{"$f":"IFERROR([10]INVERSION!$G$224,\"\")","v":0},{"$f":"IFERROR([10]INVERSION!$H$224,\"\")","v":0},{"$f":"IFERROR([10]INVERSION!$I$224,\"\")","v":0},{"$f":"IFERROR([10]INVERSION!$J$224,\"\")","v":0},{"$f":"IFERROR([10]INVERSION!$K$224,\"\")","v":0},{"$f":"IFERROR([10]INVERSION!$L$224,\"\")","v":0},{"$f":"IFERROR([10]INVERSION!$M$224,\"\")","v":0},{"$f":"IFERROR([10]INVERSION!$N$224,\"\")","v":0},{"$f":"IFERROR([10]INVERSION!$O$224,\"\")","v":0},{"$f":"IFERROR([10]INVERSION!$P$224,\"\")","v":0},{"$f":"IFERROR([10]INVERSION!$Q$224,\"\")","v":0},{"$f":"IFERROR([10]INVERSION!$R$224,\"\")","v":0},{"$f":"IFERROR([10]INVERSION!$S$224,\"\")","v":"00:00:00"},{"$f":"IFERROR([10]INVERSION!$T$224,\"\")","v":"00:00:00"},{"$f":"IFERROR([10]INVERSION!$U$224,\"\")","v":0},{"$f":"IFERROR([10]INVERSION!$V$224,\"\")","v":0},{"$f":"IFERROR([10]INVERSION!$W$224,\"\")","v":0},{"$f":"IFERROR([10]INVERSION!$X$224,\"\")","v":0},{"$f":"IFERROR([10]INVERSION!$Y$224,\"\")","v":0},null,null,null,"","",null,0]
[null,null,null,null,null,null,{"$f":"IFERROR([10]INVERSION!$G$225,\"\")","v":0},{"$f":"IFERROR([10]INVERSION!$H$225,\"\")","v":0},{"$f":"IFERROR([10]INVERSION!$I$225,\"\")","v":0},{"$f":"IFERROR([10]INVERSION!$J$225,\"\")","v":0},{"$f":"IFERROR([10]INVERSION!$K$225,\"\")","v":0},{"$f":"IFERROR([10]INVERSION!$L$225,\"\")","v":0},{"$f":"IFERROR([10]INVERSION!$M$225,\"\")","v":0},{"$f":"IFERROR([10]INVERSION!$N$225,\"\")","v":0},{"$f":"IFERROR([10]INVERSION!$O$225,\"\")","v":0},{"$f":"IFERROR([10]INVERSION!$P$225,\"\")","v":0},{"$f":"IFERROR([10]INVERSION!$Q$225,\"\")","v":0},{"$f":"IFERROR([10]INVERSION!$R$225,\"\")","v":0},{"$f":"IFERROR([10]INVERSION!$S$225,\"\")","v":"00:00:00"},{"$f":"IFERROR([10]INVERSION!$T$225,\"\")","v":"00:00:00"},{"$f":"IFERROR([10]INVERSION!$U$225,\"\")","v":0},{"$f":"IFERROR([10]INVERSION!$V$225,\"\")","v":0},{"$f":"IFERROR([10]INVERSION!$W$225,\"\")","v":0},{"$f":"IFERROR([10]INVERSION!$X$225,\"\")","v":0},{"$f":"IFERROR([10]INVERSION!$Y$225,\"\")","v":0},null,null,null,"","",null,0]
[null,null,"5. Promover el bienestar de todos los servidores judiciales a través de la implementación de un sistema que contemple los diferentes niveles de estrategias y acciones necesarios para mejorar el clima laboral, la salud física y mental y la calidad del tiempo de descanso.","Satisfacción de los servidores judiciales con el clima laboral","(# respuestas con concepto de bueno o excelente / # total de respuestas) *100","5. Generar espacios de trabajo seguros y saludables que contribuyan a minimizar los  incidentes, accidentes y enfermedades laborales derivados de las condiciones y actos  inseguros y fomentar  el autocuidado, los  estilos de vida y el trabajo saludable en los servidores judiciales, contratistas, judicantes y practicantes.",{"$f":"IFERROR([10]INVERSION!$G$226,\"\")","v":"2701 Mejoramiento de las competencias de la administración de justicia."},{"$f":"IFERROR([10]INVERSION!$H$226,\"\")","v":"0800 Intersubsectorial de Justicia"},{"$f":"IFERROR([10]INVERSION!$I$226,\"\")","v":"C-2701-0800-31"},{"$f":"IFERROR([10]INVERSION!$J$226,\"\")","v":2018011000844},{"$f":"IFERROR([10]INVERSION!$K$226,\"\")","v":"Implementación de estrategias para fortalecer la gestión de los despachos judiciales en la Rama Judicial a nivel Nacional"},{"$f":"IFERROR([10]INVERSION!$L$226,\"\")","v":"Ampliar la participación de los servidores judiciales de la Rama Judicial en los programas de bienestar integral, prevención y control del riesgo laboral."},{"$f":"IFERROR([10]INVERSION!$M$226,\"\")","v":"Apoyar el desarrollo del Plan Nacional de Bienestar Social"},{"$f":"IFERROR([10]INVERSION!$N$226,\"\")","v":"Los programas de bienestar se implementan con el propósito de elevar los niveles de eficiencia, satisfacción y desarrollo de los empleados en el desempeño de su labor y de contribuir al cumplimiento efectivo de los resultados institucionales.  Con el fin de favorecer un apropiado clima laboral en la Rama Judicial y así contribuir al compromiso institucional y al cumplimiento de los fines de la administración de justicia, se desarrollarán en las Direcciones Seccionales las actividades programadas en el Plan de Nacional de Bienestar para la vigencia 2023-2026, que contempla actividades en lo concerniente a las Áreas Deportiva, Recreativa y Clima Laboral del precitado Plan"},{"$f":"IFERROR([10]INVERSION!$O$226,\"\")","v":"Beneficiar a los servidores judiciales con la realización de las actividades de bienestar \n"},{"$f":"IFERROR([10]INVERSION!$P$226,\"\")","v":261755087},{"$f":"IFERROR([10]INVERSION!$Q$226,\"\")","v":"Presupuesto"},{"$f":"IFERROR([10]INVERSION!$R$226,\"\")","v":"Gestión"},{"$f":"IFERROR([10]INVERSION!$S$226,\"\")","v":"2023-01-01"},{"$f":"IFERROR([10]INVERSION!$T$226,\"\")","v":"2023-12-31"},{"$f":"IFERROR([10]INVERSION!$U$226,\"\")","v":917},{"$f":"IFERROR([10]INVERSION!$V$226,\"\")","v":0},{"$f":"IFERROR([10]INVERSION!$W$226,\"\")","v":"Coordinación de SG SST y BS"},{"$f":"IFERROR([10]INVERSION!$X$226,\"\")","v":"PCSJA22-12030"},{"$f":"IFERROR([10]INVERSION!$Y$226,\"\")","v":261755087},"Identificación y definición de la necesidad.\nElaboración de y aprobación de los documentos técnicos para la contratación.\nEstructuración del proceso y contratación.\nPresentación y evaluación de la ofertas.\nAceptación de la oferta economica y suscripción del acta de inicio.\nEjecución del contrato.\n\n",261755087,19389000,7.4073058988916612E-2,1,7.0000000000000007E-2,242366087,917,null,"La poca participación de los servidotrers judiciales en las activiades","Con la contratación de estos servicios permite fortalecer los lazos afectivos entre  servidores judiciciales y mejorar el clima laboral, a fin de lograr el balance entre el desarrollo profesional, el bienestar integral, el mérito y el logro de las metas institucionales","Apoyo del Consejo Seccional de la Jkudicatura del Meta para la participación de los sedrvidortes judicisles en las actividades de bienestarr","Se dio inicio al proceso de activiades de bienstar Contrato No. C01. PCCNTR 4970040 DE 2023"]
[null,null,null,null,null,null,{"$f":"IFERROR([10]INVERSION!$G$227,\"\")","v":"2701 Mejoramiento de las competencias de la administración de justicia."},{"$f":"IFERROR([10]INVERSION!$H$227,\"\")","v":"0800 Intersubsectorial de Justicia"},{"$f":"IFERROR([10]INVERSION!$I$227,\"\")","v":"C-2701-0800-31"},{"$f":"IFERROR([10]INVERSION!$J$227,\"\")","v":2018011000844},{"$f":"IFERROR([10]INVERSION!$K$227,\"\")","v":"Implementación de estrategias para fortalecer la gestión de los despachos judiciales en la Rama Judicial a nivel Nacional"},{"$f":"IFERROR([10]INVERSION!$L$227,\"\")","v":"Ampliar la participación de los servidores judiciales de la Rama Judicial en los programas de bienestar integral, prevención y control del riesgo laboral."},{"$f":"IFERROR([10]INVERSION!$M$227,\"\")","v":"Desarrollar el programa de salud y seguridad con un enfoque de cultura basada en valores, entre otros."},{"$f":"IFERROR([10]INVERSION!$N$227,\"\")","v":"La contratación de área protegiga  prestará la atención medica en caso de situaciones de alerta donde esté comprometida una vida y/o se requiera atender una urgencia o emergencia, y traslados asistidos derivados de la atención médica a centros de servicios hospitalarios."},{"$f":"IFERROR([10]INVERSION!$O$227,\"\")","v":"Brindar el servicio de área protegida a los servidores judiciales de las sedes de mayor afluencia a nivel nacional "},{"$f":"IFERROR([10]INVERSION!$P$227,\"\")","v":19270000},{"$f":"IFERROR([10]INVERSION!$Q$227,\"\")","v":"Presupuesto"},{"$f":"IFERROR([10]INVERSION!$R$227,\"\")","v":"Gestión"},{"$f":"IFERROR([10]INVERSION!$S$227,\"\")","v":"2023-01-01"},{"$f":"IFERROR([10]INVERSION!$T$227,\"\")","v":"2023-12-31"},{"$f":"IFERROR([10]INVERSION!$U$227,\"\")","v":550},{"$f":"IFERROR([10]INVERSION!$V$227,\"\")","v":500},{"$f":"IFERROR([10]INVERSION!$W$227,\"\")","v":"Coordinación de SG SST y BS"},{"$f":"IFERROR([10]INVERSION!$X$227,\"\")","v":"PCSJA22-12030\n\n"},{"$f":"IFERROR([10]INVERSION!$Y$227,\"\")","v":19270000},"Identificación y definición de la necesidad.\nElaboración de y aprobación de los documentos técnicos para la contratación.\nEstructuración del proceso y contratación.\nPresentación y evaluación de la ofertas.\nAceptación de la oferta economica y suscripción del acta de inicio.\nEjecución del contrato.\n\n",9500000,5000000,0.25947067981318112,0.4929942916450441,0.52629999999999999,14270000,550,500,null,"Con la contratación de área protegida se lograr contar con un servicio que atienda las urgencias y emergencias que se lleguen a presentar en las sedes de la Rama Judicial, logrando velar por la salud de los servidores  y propender por una mejor calidad de vida.",null,"En el segundo trimestre esta en ejecución el contrato con la empresa EMERMEDICA"]
[null,null,null,null,null,null,{"$f":"IFERROR([10]INVERSION!$G$228,\"\")","v":"2701 Mejoramiento de las competencias de la administración de justicia."},{"$f":"IFERROR([10]INVERSION!$H$228,\"\")","v":"0800 Intersubsectorial de Justicia"},{"$f":"IFERROR([10]INVERSION!$I$228,\"\")","v":"C-2701-0800-31"},{"$f":"IFERROR([10]INVERSION!$J$228,\"\")","v":2018011000844},{"$f":"IFERROR([10]INVERSION!$K$228,\"\")","v":"Implementación de estrategias para fortalecer la gestión de los despachos judiciales en la Rama Judicial a nivel Nacional"},{"$f":"IFERROR([10]INVERSION!$L$228,\"\")","v":"Ampliar la participación de los servidores judiciales de la Rama Judicial en los programas de bienestar integral, prevención y control del riesgo laboral."},{"$f":"IFERROR([10]INVERSION!$M$228,\"\")","v":"Desarrollar el programa de salud y seguridad con un enfoque de cultura basada en valores, entre otros."},{"$f":"IFERROR([10]INVERSION!$N$228,\"\")","v":"Se identificó que los servidores judiciales de todas la edades, especialmente los mayores de 40 años, están expuestos a un riesgo cardiovascular medio, alto y muy alto derivado de los malos hábitos alimenticios, estrés y otras enfermedades ( diabetes, hipertensión arterial, etc.). Por lo cual se ve la necesidad de desarrollar un programa para la prevención del este riesgo con la realización de evaluaciones nutricional, condición física, metabólica y cardiovascular, a fin de lograr un mayor beneficio individual y una mejor calidad de vida laboral e integral."},{"$f":"IFERROR([10]INVERSION!$O$228,\"\")","v":"Realizar exámenes de tamizaje a los servidores judiciales a nivel nacional"},{"$f":"IFERROR([10]INVERSION!$P$228,\"\")","v":31228505},{"$f":"IFERROR([10]INVERSION!$Q$228,\"\")","v":"Presupuesto"},{"$f":"IFERROR([10]INVERSION!$R$228,\"\")","v":"Gestión"},{"$f":"IFERROR([10]INVERSION!$S$228,\"\")","v":"2023-01-01"},{"$f":"IFERROR([10]INVERSION!$T$228,\"\")","v":"2023-12-31"},{"$f":"IFERROR([10]INVERSION!$U$228,\"\")","v":47},{"$f":"IFERROR([10]INVERSION!$V$228,\"\")","v":0},{"$f":"IFERROR([10]INVERSION!$W$228,\"\")","v":"Coordinación de SG SST y BS"},{"$f":"IFERROR([10]INVERSION!$X$228,\"\")","v":"PCSJA22-12030"},{"$f":"IFERROR([10]INVERSION!$Y$228,\"\")","v":31228505},"Identificación y definición de la necesidad.\nElaboración de y aprobación de los documentos técnicos para la contratación.\nEstructuración del proceso y contratación.\nPresentación y evaluación de la ofertas.\nAceptación de la oferta economica y suscripción del acta de inicio.\nEjecución del contrato.\n\n",31228505,null,null,null,null,null,47,null,"Falta de oferentes para la conytratación","Con este servicio se quiere intervenir a 47 servidores judicsles que tiene un alto riesgo cardiovascular",null,"Se dio inicio al proceso de activiades de bienstar Contrato No.No. CO1.PCCNTR.5037932 de 2023 con la empresa PROTEGER"]
[null,null,null,null,null,null,{"$f":"IFERROR([10]INVERSION!$G$229,\"\")","v":"2701 Mejoramiento de las competencias de la administración de justicia."},{"$f":"IFERROR([10]INVERSION!$H$229,\"\")","v":"0800 Intersubsectorial de Justicia"},{"$f":"IFERROR([10]INVERSION!$I$229,\"\")","v":"C-2701-0800-31"},{"$f":"IFERROR([10]INVERSION!$J$229,\"\")","v":2018011000844},{"$f":"IFERROR([10]INVERSION!$K$229,\"\")","v":"Implementación de estrategias para fortalecer la gestión de los despachos judiciales en la Rama Judicial a nivel Nacional"},{"$f":"IFERROR([10]INVERSION!$L$229,\"\")","v":"Ampliar la participación de los servidores judiciales de la Rama Judicial en los programas de bienestar integral, prevención y control del riesgo laboral."},{"$f":"IFERROR([10]INVERSION!$M$229,\"\")","v":"Desarrollar el programa de salud y seguridad con un enfoque de cultura basada en valores, entre otros."},{"$f":"IFERROR([10]INVERSION!$N$229,\"\")","v":"El programa de capacitaciones en prevención del riesgo psicosocial desde una visión integral, estará alineado con el eje temático “psi coeducación” del programa saludablemente, logrando a través de la programación neurolingüística (PNL), el desarrollo de las competencias laborales para el mejoramiento de la comunicación interna, la satisfacción personal y colectiva, la motivación, el manejo de problemas y el bloqueo de enfermedades como el estrés, por medio de un manejo integral de los aspectos mentales, espirituales, físicos y psicosociales en los servidores judiciales."},{"$f":"IFERROR([10]INVERSION!$O$229,\"\")","v":"Capacitar a los servidores judiciales a nivel nacional en la prevención del riesgo psicosocial desde una visión integral "},{"$f":"IFERROR([10]INVERSION!$P$229,\"\")","v":15628591},{"$f":"IFERROR([10]INVERSION!$Q$229,\"\")","v":"Presupuesto"},{"$f":"IFERROR([10]INVERSION!$R$229,\"\")","v":"Gestión"},{"$f":"IFERROR([10]INVERSION!$S$229,\"\")","v":"2023-01-01"},{"$f":"IFERROR([10]INVERSION!$T$229,\"\")","v":"2023-12-31"},{"$f":"IFERROR([10]INVERSION!$U$229,\"\")","v":50},{"$f":"IFERROR([10]INVERSION!$V$229,\"\")","v":0},{"$f":"IFERROR([10]INVERSION!$W$229,\"\")","v":"Coordinación de SG SST y BS"},{"$f":"IFERROR([10]INVERSION!$X$229,\"\")","v":"PCSJA22-12030"},{"$f":"IFERROR([10]INVERSION!$Y$229,\"\")","v":15628591},"Identificación y definición de la necesidad.\nElaboración de y aprobación de los documentos técnicos para la contratación.\nEstructuración del proceso y contratación.\nPresentación y evaluación de la ofertas.\nAceptación de la oferta economica y suscripción del acta de inicio.\nEjecución del contrato.\n\n",null,null,null,null,null,null,40,null,"Falta de oferentes para la conytratación","Con este contrato se quiere intervenir a 40 servidores judicsles que tenga la fucnione de nominadores , profesionales de área y coordinadores que tiene un alto riesgo psicosociual","Tener el apoyo de los amagistrados, director y coordinadores para particpar en las talleres","No se ha posido contratar por falta de oferentes"]
[null,null,null,null,null,null,{"$f":"IFERROR([10]INVERSION!$G$230,\"\")","v":"2701 Mejoramiento de las competencias de la administración de justicia."},{"$f":"IFERROR([10]INVERSION!$H$230,\"\")","v":"0800 Intersubsectorial de Justicia"},{"$f":"IFERROR([10]INVERSION!$I$230,\"\")","v":"C-2701-0800-31"},{"$f":"IFERROR([10]INVERSION!$J$230,\"\")","v":2018011000844},{"$f":"IFERROR([10]INVERSION!$K$230,\"\")","v":"Implementación de estrategias para fortalecer la gestión de los despachos judiciales en la Rama Judicial a nivel Nacional"},{"$f":"IFERROR([10]INVERSION!$L$230,\"\")","v":"Ampliar la participación de los servidores judiciales de la Rama Judicial en los programas de bienestar integral, prevención y control del riesgo laboral."},{"$f":"IFERROR([10]INVERSION!$M$230,\"\")","v":"Desarrollar el programa de salud y seguridad con un enfoque de cultura basada en valores, entre otros."},{"$f":"IFERROR([10]INVERSION!$N$230,\"\")","v":"Se identificó que el riesgo biomecánico es el segundo que más afecta a los servidores judiciales, generando trastornos musculo esqueléticos relacionado con el trabajo. El programa buscará identificar soluciones para recuperar el control frente a la experiencia del dolor, lo que cual permitirá que los servidores tenga un alta capacidad de continuar con la productividad y eficiencia."},{"$f":"IFERROR([10]INVERSION!$O$230,\"\")","v":"Capacitar a los servidores judiciales a nivel nacional en el manejo y afrontamiento de los desordenes musculo esqueléticos"},{"$f":"IFERROR([10]INVERSION!$P$230,\"\")","v":51188436},{"$f":"IFERROR([10]INVERSION!$Q$230,\"\")","v":"Presupuesto"},{"$f":"IFERROR([10]INVERSION!$R$230,\"\")","v":"Gestión"},{"$f":"IFERROR([10]INVERSION!$S$230,\"\")","v":"2023-01-01"},{"$f":"IFERROR([10]INVERSION!$T$230,\"\")","v":"2023-12-31"},{"$f":"IFERROR([10]INVERSION!$U$230,\"\")","v":50},{"$f":"IFERROR([10]INVERSION!$V$230,\"\")","v":0},{"$f":"IFERROR([10]INVERSION!$W$230,\"\")","v":"Coordinación de SG SST y BS"},{"$f":"IFERROR([10]INVERSION!$X$230,\"\")","v":"PCSJA22-12030"},{"$f":"IFERROR([10]INVERSION!$Y$230,\"\")","v":51188436},"Identificación y definición de la necesidad.\nElaboración de y aprobación de los documentos técnicos para la contratación.\nEstructuración del proceso y contratación.\nPresentación y evaluación de la ofertas.\nAceptación de la oferta economica y suscripción del acta de inicio.\nEjecución del contrato.\n\n",null,null,null,null,null,null,120,null,"Falta de oferentes para la conytratación","Con este contrato se quiere intervenir a 120 servidores judicsles que tenga l alto riesgo osteomuscular","Tener el apoyo e los niminadores para que los sedrvidores judiclaes particpen","No se ha posido contratar por falta de oferentes"]
[null,null,null,null,null,null,{"$f":"IFERROR([10]INVERSION!$G$231,\"\")","v":"2701 Mejoramiento de las competencias de la administración de justicia."},{"$f":"IFERROR([10]INVERSION!$H$231,\"\")","v":"0800 Intersubsectorial de Justicia"},{"$f":"IFERROR([10]INVERSION!$I$231,\"\")","v":"C-2701-0800-31"},{"$f":"IFERROR([10]INVERSION!$J$231,\"\")","v":2018011000844},{"$f":"IFERROR([10]INVERSION!$K$231,\"\")","v":"Implementación de estrategias para fortalecer la gestión de los despachos judiciales en la Rama Judicial a nivel Nacional"},{"$f":"IFERROR([10]INVERSION!$L$231,\"\")","v":"Ampliar la participación de los servidores judiciales de la Rama Judicial en los programas de bienestar integral, prevención y control del riesgo laboral."},{"$f":"IFERROR([10]INVERSION!$M$231,\"\")","v":"Desarrollar el programa de salud y seguridad con un enfoque de cultura basada en valores, entre otros."},{"$f":"IFERROR([10]INVERSION!$N$231,\"\")","v":"El especialista en Seguridad y Salud en el Trabajo realizará actividades encamidas al cumplimiento de los estandares minimos de Sistema de Gestión de Seguridad y Salud en el Trabajo conforme a lo mencionado en la Resolución 0312 de 2019 expedida por el Ministerio de Trabajo."},{"$f":"IFERROR([10]INVERSION!$O$231,\"\")","v":"Beneficiar a los servidores judiciales a nivel nacional con la prestación de servicio del especialista de seguriddad y salud en el trabajo"},{"$f":"IFERROR([10]INVERSION!$P$231,\"\")","v":51800000},{"$f":"IFERROR([10]INVERSION!$Q$231,\"\")","v":"Presupuesto"},{"$f":"IFERROR([10]INVERSION!$R$231,\"\")","v":"Gestión"},{"$f":"IFERROR([10]INVERSION!$S$231,\"\")","v":"2023-01-01"},{"$f":"IFERROR([10]INVERSION!$T$231,\"\")","v":"2023-12-31"},{"$f":"IFERROR([10]INVERSION!$U$231,\"\")","v":917},{"$f":"IFERROR([10]INVERSION!$V$231,\"\")","v":0},{"$f":"IFERROR([10]INVERSION!$W$231,\"\")","v":"Coordinación de SG SST y BS"},{"$f":"IFERROR([10]INVERSION!$X$231,\"\")","v":"PCSJA22-12030"},{"$f":"IFERROR([10]INVERSION!$Y$231,\"\")","v":51800000},"Identificación y definición de la necesidad.\nElaboración de y aprobación de los documentos técnicos para la contratación.\nEstructuración del proceso y contratación.\nAceptación de la oferta economica y suscripción del acta de inicio.\nEjecución del contrato.\n\n",51763333,31800000,null,null,0.61429999999999996,null,917,null,null,"Con este contrato se tiene el apoyo de una profesional en la coordiancion del SGSST"]
[null,null,null,null,null,null,{"$f":"IFERROR([10]INVERSION!$G$232,\"\")","v":0},{"$f":"IFERROR([10]INVERSION!$H$232,\"\")","v":0},{"$f":"IFERROR([10]INVERSION!$I$232,\"\")","v":0},{"$f":"IFERROR([10]INVERSION!$J$232,\"\")","v":0},{"$f":"IFERROR([10]INVERSION!$K$232,\"\")","v":0},{"$f":"IFERROR([10]INVERSION!$L$232,\"\")","v":0},{"$f":"IFERROR([10]INVERSION!$M$232,\"\")","v":0},{"$f":"IFERROR([10]INVERSION!$N$232,\"\")","v":0},{"$f":"IFERROR([10]INVERSION!$O$232,\"\")","v":0},{"$f":"IFERROR([10]INVERSION!$P$232,\"\")","v":0},{"$f":"IFERROR([10]INVERSION!$Q$232,\"\")","v":0},{"$f":"IFERROR([10]INVERSION!$R$232,\"\")","v":0},{"$f":"IFERROR([10]INVERSION!$S$232,\"\")","v":"00:00:00"},{"$f":"IFERROR([10]INVERSION!$T$232,\"\")","v":"00:00:00"},{"$f":"IFERROR([10]INVERSION!$U$232,\"\")","v":0},{"$f":"IFERROR([10]INVERSION!$V$232,\"\")","v":0},{"$f":"IFERROR([10]INVERSION!$W$232,\"\")","v":0},{"$f":"IFERROR([10]INVERSION!$X$232,\"\")","v":0},{"$f":"IFERROR([10]INVERSION!$Y$232,\"\")","v":0}]
[null,null,null,null,null,null,{"$f":"IFERROR([10]INVERSION!$G$233,\"\")","v":0},{"$f":"IFERROR([10]INVERSION!$H$233,\"\")","v":0},{"$f":"IFERROR([10]INVERSION!$I$233,\"\")","v":0},{"$f":"IFERROR([10]INVERSION!$J$233,\"\")","v":0},{"$f":"IFERROR([10]INVERSION!$K$233,\"\")","v":0},{"$f":"IFERROR([10]INVERSION!$L$233,\"\")","v":0},{"$f":"IFERROR([10]INVERSION!$M$233,\"\")","v":0},{"$f":"IFERROR([10]INVERSION!$N$233,\"\")","v":0},{"$f":"IFERROR([10]INVERSION!$O$233,\"\")","v":0},{"$f":"IFERROR([10]INVERSION!$P$233,\"\")","v":0},{"$f":"IFERROR([10]INVERSION!$Q$233,\"\")","v":0},{"$f":"IFERROR([10]INVERSION!$R$233,\"\")","v":0},{"$f":"IFERROR([10]INVERSION!$S$233,\"\")","v":"00:00:00"},{"$f":"IFERROR([10]INVERSION!$T$233,\"\")","v":"00:00:00"},{"$f":"IFERROR([10]INVERSION!$U$233,\"\")","v":0},{"$f":"IFERROR([10]INVERSION!$V$233,\"\")","v":0},{"$f":"IFERROR([10]INVERSION!$W$233,\"\")","v":0},{"$f":"IFERROR([10]INVERSION!$X$233,\"\")","v":0},{"$f":"IFERROR([10]INVERSION!$Y$233,\"\")","v":0},null,null,null,"","",null,0]
[null,null,null,null,null,null,{"$f":"IFERROR([10]INVERSION!$G$234,\"\")","v":0},{"$f":"IFERROR([10]INVERSION!$H$234,\"\")","v":0},{"$f":"IFERROR([10]INVERSION!$I$234,\"\")","v":0},{"$f":"IFERROR([10]INVERSION!$J$234,\"\")","v":0},{"$f":"IFERROR([10]INVERSION!$K$234,\"\")","v":0},{"$f":"IFERROR([10]INVERSION!$L$234,\"\")","v":0},{"$f":"IFERROR([10]INVERSION!$M$234,\"\")","v":0},{"$f":"IFERROR([10]INVERSION!$N$234,\"\")","v":0},{"$f":"IFERROR([10]INVERSION!$O$234,\"\")","v":0},{"$f":"IFERROR([10]INVERSION!$P$234,\"\")","v":0},{"$f":"IFERROR([10]INVERSION!$Q$234,\"\")","v":0},{"$f":"IFERROR([10]INVERSION!$R$234,\"\")","v":0},{"$f":"IFERROR([10]INVERSION!$S$234,\"\")","v":"00:00:00"},{"$f":"IFERROR([10]INVERSION!$T$234,\"\")","v":"00:00:00"},{"$f":"IFERROR([10]INVERSION!$U$234,\"\")","v":0},{"$f":"IFERROR([10]INVERSION!$V$234,\"\")","v":0},{"$f":"IFERROR([10]INVERSION!$W$234,\"\")","v":0},{"$f":"IFERROR([10]INVERSION!$X$234,\"\")","v":0},{"$f":"IFERROR([10]INVERSION!$Y$234,\"\")","v":0},null,null,null,"","",null,0]
[null,null,null,null,null,null,{"$f":"IFERROR([10]INVERSION!$G$235,\"\")","v":0},{"$f":"IFERROR([10]INVERSION!$H$235,\"\")","v":0},{"$f":"IFERROR([10]INVERSION!$I$235,\"\")","v":0},{"$f":"IFERROR([10]INVERSION!$J$235,\"\")","v":0},{"$f":"IFERROR([10]INVERSION!$K$235,\"\")","v":0},{"$f":"IFERROR([10]INVERSION!$L$235,\"\")","v":0},{"$f":"IFERROR([10]INVERSION!$M$235,\"\")","v":0},{"$f":"IFERROR([10]INVERSION!$N$235,\"\")","v":0},{"$f":"IFERROR([10]INVERSION!$O$235,\"\")","v":0},{"$f":"IFERROR([10]INVERSION!$P$235,\"\")","v":0},{"$f":"IFERROR([10]INVERSION!$Q$235,\"\")","v":0},{"$f":"IFERROR([10]INVERSION!$R$235,\"\")","v":0},{"$f":"IFERROR([10]INVERSION!$S$235,\"\")","v":"00:00:00"},{"$f":"IFERROR([10]INVERSION!$T$235,\"\")","v":"00:00:00"},{"$f":"IFERROR([10]INVERSION!$U$235,\"\")","v":0},{"$f":"IFERROR([10]INVERSION!$V$235,\"\")","v":0},{"$f":"IFERROR([10]INVERSION!$W$235,\"\")","v":0},{"$f":"IFERROR([10]INVERSION!$X$235,\"\")","v":0},{"$f":"IFERROR([10]INVERSION!$Y$235,\"\")","v":0},null,null,null,"","",null,0]
["5. Gobernanza, planeación estratégica y capacidad de toma de decisiones","Gobernanza, planeación estratégica y capacidad de toma de decisiones: Fortalecer la gobernanza, la planeación estratégica y la capacidad de toma de decisiones de la Rama Judicial con base en la evidencia empírica y la articulación efectiva con las demás entidades, para que la perspectiva de género y el enfoque diferencial sean transversales en el presente plan. ","1. Implementar un nuevo modelo integrado para la planeación estratégica, el seguimiento y la medición del desempeño institucional.","Modelo integrado para la planeación estratégica, seguimiento y medición del desempeño institucional implementado","% de implementa ción del modelo integrado","2. Asegurar  el cumplimiento de los objetivos institucionales, la normatividad aplicable,  la mejora del SIGCMA y la satisfacción de los usuarios, revisando de  forma continua y sistemática la planificación de la gestión y fortaleciendo la administración de riesgos y sus controles.",{"$f":"IFERROR([10]INVERSION!$G$236,\"\")","v":0},{"$f":"IFERROR([10]INVERSION!$H$236,\"\")","v":0},{"$f":"IFERROR([10]INVERSION!$I$236,\"\")","v":0},{"$f":"IFERROR([10]INVERSION!$J$236,\"\")","v":0},{"$f":"IFERROR([10]INVERSION!$K$236,\"\")","v":0},{"$f":"IFERROR([10]INVERSION!$L$236,\"\")","v":0},{"$f":"IFERROR([10]INVERSION!$M$236,\"\")","v":0},{"$f":"IFERROR([10]INVERSION!$N$236,\"\")","v":0},{"$f":"IFERROR([10]INVERSION!$O$236,\"\")","v":0},{"$f":"IFERROR([10]INVERSION!$P$236,\"\")","v":0},{"$f":"IFERROR([10]INVERSION!$Q$236,\"\")","v":0},{"$f":"IFERROR([10]INVERSION!$R$236,\"\")","v":0},{"$f":"IFERROR([10]INVERSION!$S$236,\"\")","v":"00:00:00"},{"$f":"IFERROR([10]INVERSION!$T$236,\"\")","v":"00:00:00"},{"$f":"IFERROR([10]INVERSION!$U$236,\"\")","v":0},{"$f":"IFERROR([10]INVERSION!$V$236,\"\")","v":0},{"$f":"IFERROR([10]INVERSION!$W$236,\"\")","v":0},{"$f":"IFERROR([10]INVERSION!$X$236,\"\")","v":0},{"$f":"IFERROR([10]INVERSION!$Y$236,\"\")","v":0},null,null,null,"","",null,0]
[null,null,null,null,null,null,{"$f":"IFERROR([10]INVERSION!$G$237,\"\")","v":0},{"$f":"IFERROR([10]INVERSION!$H$237,\"\")","v":0},{"$f":"IFERROR([10]INVERSION!$I$237,\"\")","v":0},{"$f":"IFERROR([10]INVERSION!$J$237,\"\")","v":0},{"$f":"IFERROR([10]INVERSION!$K$237,\"\")","v":0},{"$f":"IFERROR([10]INVERSION!$L$237,\"\")","v":0},{"$f":"IFERROR([10]INVERSION!$M$237,\"\")","v":0},{"$f":"IFERROR([10]INVERSION!$N$237,\"\")","v":0},{"$f":"IFERROR([10]INVERSION!$O$237,\"\")","v":0},{"$f":"IFERROR([10]INVERSION!$P$237,\"\")","v":0},{"$f":"IFERROR([10]INVERSION!$Q$237,\"\")","v":0},{"$f":"IFERROR([10]INVERSION!$R$237,\"\")","v":0},{"$f":"IFERROR([10]INVERSION!$S$237,\"\")","v":"00:00:00"},{"$f":"IFERROR([10]INVERSION!$T$237,\"\")","v":"00:00:00"},{"$f":"IFERROR([10]INVERSION!$U$237,\"\")","v":0},{"$f":"IFERROR([10]INVERSION!$V$237,\"\")","v":0},{"$f":"IFERROR([10]INVERSION!$W$237,\"\")","v":0},{"$f":"IFERROR([10]INVERSION!$X$237,\"\")","v":0},{"$f":"IFERROR([10]INVERSION!$Y$237,\"\")","v":0},null,null,null,"","",null,0]
[null,null,null,null,null,null,{"$f":"IFERROR([10]INVERSION!$G$238,\"\")","v":0},{"$f":"IFERROR([10]INVERSION!$H$238,\"\")","v":0},{"$f":"IFERROR([10]INVERSION!$I$238,\"\")","v":0},{"$f":"IFERROR([10]INVERSION!$J$238,\"\")","v":0},{"$f":"IFERROR([10]INVERSION!$K$238,\"\")","v":0},{"$f":"IFERROR([10]INVERSION!$L$238,\"\")","v":0},{"$f":"IFERROR([10]INVERSION!$M$238,\"\")","v":0},{"$f":"IFERROR([10]INVERSION!$N$238,\"\")","v":0},{"$f":"IFERROR([10]INVERSION!$O$238,\"\")","v":0},{"$f":"IFERROR([10]INVERSION!$P$238,\"\")","v":0},{"$f":"IFERROR([10]INVERSION!$Q$238,\"\")","v":0},{"$f":"IFERROR([10]INVERSION!$R$238,\"\")","v":0},{"$f":"IFERROR([10]INVERSION!$S$238,\"\")","v":"00:00:00"},{"$f":"IFERROR([10]INVERSION!$T$238,\"\")","v":"00:00:00"},{"$f":"IFERROR([10]INVERSION!$U$238,\"\")","v":0},{"$f":"IFERROR([10]INVERSION!$V$238,\"\")","v":0},{"$f":"IFERROR([10]INVERSION!$W$238,\"\")","v":0},{"$f":"IFERROR([10]INVERSION!$X$238,\"\")","v":0},{"$f":"IFERROR([10]INVERSION!$Y$238,\"\")","v":0}]
[null,null,null,null,null,null,{"$f":"IFERROR([10]INVERSION!$G$239,\"\")","v":0},{"$f":"IFERROR([10]INVERSION!$H$239,\"\")","v":0},{"$f":"IFERROR([10]INVERSION!$I$239,\"\")","v":0},{"$f":"IFERROR([10]INVERSION!$J$239,\"\")","v":0},{"$f":"IFERROR([10]INVERSION!$K$239,\"\")","v":0},{"$f":"IFERROR([10]INVERSION!$L$239,\"\")","v":0},{"$f":"IFERROR([10]INVERSION!$M$239,\"\")","v":0},{"$f":"IFERROR([10]INVERSION!$N$239,\"\")","v":0},{"$f":"IFERROR([10]INVERSION!$O$239,\"\")","v":0},{"$f":"IFERROR([10]INVERSION!$P$239,\"\")","v":0},{"$f":"IFERROR([10]INVERSION!$Q$239,\"\")","v":0},{"$f":"IFERROR([10]INVERSION!$R$239,\"\")","v":0},{"$f":"IFERROR([10]INVERSION!$S$239,\"\")","v":"00:00:00"},{"$f":"IFERROR([10]INVERSION!$T$239,\"\")","v":"00:00:00"},{"$f":"IFERROR([10]INVERSION!$U$239,\"\")","v":0},{"$f":"IFERROR([10]INVERSION!$V$239,\"\")","v":0},{"$f":"IFERROR([10]INVERSION!$W$239,\"\")","v":0},{"$f":"IFERROR([10]INVERSION!$X$239,\"\")","v":0},{"$f":"IFERROR([10]INVERSION!$Y$239,\"\")","v":0}]
[null,null,null,null,null,null,{"$f":"IFERROR([10]INVERSION!$G$240,\"\")","v":0},{"$f":"IFERROR([10]INVERSION!$H$240,\"\")","v":0},{"$f":"IFERROR([10]INVERSION!$I$240,\"\")","v":0},{"$f":"IFERROR([10]INVERSION!$J$240,\"\")","v":0},{"$f":"IFERROR([10]INVERSION!$K$240,\"\")","v":0},{"$f":"IFERROR([10]INVERSION!$L$240,\"\")","v":0},{"$f":"IFERROR([10]INVERSION!$M$240,\"\")","v":0},{"$f":"IFERROR([10]INVERSION!$N$240,\"\")","v":0},{"$f":"IFERROR([10]INVERSION!$O$240,\"\")","v":0},{"$f":"IFERROR([10]INVERSION!$P$240,\"\")","v":0},{"$f":"IFERROR([10]INVERSION!$Q$240,\"\")","v":0},{"$f":"IFERROR([10]INVERSION!$R$240,\"\")","v":0},{"$f":"IFERROR([10]INVERSION!$S$240,\"\")","v":"00:00:00"},{"$f":"IFERROR([10]INVERSION!$T$240,\"\")","v":"00:00:00"},{"$f":"IFERROR([10]INVERSION!$U$240,\"\")","v":0},{"$f":"IFERROR([10]INVERSION!$V$240,\"\")","v":0},{"$f":"IFERROR([10]INVERSION!$W$240,\"\")","v":0},{"$f":"IFERROR([10]INVERSION!$X$240,\"\")","v":0},{"$f":"IFERROR([10]INVERSION!$Y$240,\"\")","v":0}]
[null,null,null,null,null,null,{"$f":"IFERROR([10]INVERSION!$G$241,\"\")","v":0},{"$f":"IFERROR([10]INVERSION!$H$241,\"\")","v":0},{"$f":"IFERROR([10]INVERSION!$I$241,\"\")","v":0},{"$f":"IFERROR([10]INVERSION!$J$241,\"\")","v":0},{"$f":"IFERROR([10]INVERSION!$K$241,\"\")","v":0},{"$f":"IFERROR([10]INVERSION!$L$241,\"\")","v":0},{"$f":"IFERROR([10]INVERSION!$M$241,\"\")","v":0},{"$f":"IFERROR([10]INVERSION!$N$241,\"\")","v":0},{"$f":"IFERROR([10]INVERSION!$O$241,\"\")","v":0},{"$f":"IFERROR([10]INVERSION!$P$241,\"\")","v":0},{"$f":"IFERROR([10]INVERSION!$Q$241,\"\")","v":0},{"$f":"IFERROR([10]INVERSION!$R$241,\"\")","v":0},{"$f":"IFERROR([10]INVERSION!$S$241,\"\")","v":"00:00:00"},{"$f":"IFERROR([10]INVERSION!$T$241,\"\")","v":"00:00:00"},{"$f":"IFERROR([10]INVERSION!$U$241,\"\")","v":0},{"$f":"IFERROR([10]INVERSION!$V$241,\"\")","v":0},{"$f":"IFERROR([10]INVERSION!$W$241,\"\")","v":0},{"$f":"IFERROR([10]INVERSION!$X$241,\"\")","v":0},{"$f":"IFERROR([10]INVERSION!$Y$241,\"\")","v":0}]
[null,null,null,null,null,null,{"$f":"IFERROR([10]INVERSION!$G$242,\"\")","v":0},{"$f":"IFERROR([10]INVERSION!$H$242,\"\")","v":0},{"$f":"IFERROR([10]INVERSION!$I$242,\"\")","v":0},{"$f":"IFERROR([10]INVERSION!$J$242,\"\")","v":0},{"$f":"IFERROR([10]INVERSION!$K$242,\"\")","v":0},{"$f":"IFERROR([10]INVERSION!$L$242,\"\")","v":0},{"$f":"IFERROR([10]INVERSION!$M$242,\"\")","v":0},{"$f":"IFERROR([10]INVERSION!$N$242,\"\")","v":0},{"$f":"IFERROR([10]INVERSION!$O$242,\"\")","v":0},{"$f":"IFERROR([10]INVERSION!$P$242,\"\")","v":0},{"$f":"IFERROR([10]INVERSION!$Q$242,\"\")","v":0},{"$f":"IFERROR([10]INVERSION!$R$242,\"\")","v":0},{"$f":"IFERROR([10]INVERSION!$S$242,\"\")","v":"00:00:00"},{"$f":"IFERROR([10]INVERSION!$T$242,\"\")","v":"00:00:00"},{"$f":"IFERROR([10]INVERSION!$U$242,\"\")","v":0},{"$f":"IFERROR([10]INVERSION!$V$242,\"\")","v":0},{"$f":"IFERROR([10]INVERSION!$W$242,\"\")","v":0},{"$f":"IFERROR([10]INVERSION!$X$242,\"\")","v":0},{"$f":"IFERROR([10]INVERSION!$Y$242,\"\")","v":0}]
[null,null,null,null,null,null,{"$f":"IFERROR([10]INVERSION!$G$243,\"\")","v":0},{"$f":"IFERROR([10]INVERSION!$H$243,\"\")","v":0},{"$f":"IFERROR([10]INVERSION!$I$243,\"\")","v":0},{"$f":"IFERROR([10]INVERSION!$J$243,\"\")","v":0},{"$f":"IFERROR([10]INVERSION!$K$243,\"\")","v":0},{"$f":"IFERROR([10]INVERSION!$L$243,\"\")","v":0},{"$f":"IFERROR([10]INVERSION!$M$243,\"\")","v":0},{"$f":"IFERROR([10]INVERSION!$N$243,\"\")","v":0},{"$f":"IFERROR([10]INVERSION!$O$243,\"\")","v":0},{"$f":"IFERROR([10]INVERSION!$P$243,\"\")","v":0},{"$f":"IFERROR([10]INVERSION!$Q$243,\"\")","v":0},{"$f":"IFERROR([10]INVERSION!$R$243,\"\")","v":0},{"$f":"IFERROR([10]INVERSION!$S$243,\"\")","v":"00:00:00"},{"$f":"IFERROR([10]INVERSION!$T$243,\"\")","v":"00:00:00"},{"$f":"IFERROR([10]INVERSION!$U$243,\"\")","v":0},{"$f":"IFERROR([10]INVERSION!$V$243,\"\")","v":0},{"$f":"IFERROR([10]INVERSION!$W$243,\"\")","v":0},{"$f":"IFERROR([10]INVERSION!$X$243,\"\")","v":0},{"$f":"IFERROR([10]INVERSION!$Y$243,\"\")","v":0},null,null,null,"","",null,0]
[null,null,null,null,null,null,{"$f":"IFERROR([10]INVERSION!$G$244,\"\")","v":0},{"$f":"IFERROR([10]INVERSION!$H$244,\"\")","v":0},{"$f":"IFERROR([10]INVERSION!$I$244,\"\")","v":0},{"$f":"IFERROR([10]INVERSION!$J$244,\"\")","v":0},{"$f":"IFERROR([10]INVERSION!$K$244,\"\")","v":0},{"$f":"IFERROR([10]INVERSION!$L$244,\"\")","v":0},{"$f":"IFERROR([10]INVERSION!$M$244,\"\")","v":0},{"$f":"IFERROR([10]INVERSION!$N$244,\"\")","v":0},{"$f":"IFERROR([10]INVERSION!$O$244,\"\")","v":0},{"$f":"IFERROR([10]INVERSION!$P$244,\"\")","v":0},{"$f":"IFERROR([10]INVERSION!$Q$244,\"\")","v":0},{"$f":"IFERROR([10]INVERSION!$R$244,\"\")","v":0},{"$f":"IFERROR([10]INVERSION!$S$244,\"\")","v":"00:00:00"},{"$f":"IFERROR([10]INVERSION!$T$244,\"\")","v":"00:00:00"},{"$f":"IFERROR([10]INVERSION!$U$244,\"\")","v":0},{"$f":"IFERROR([10]INVERSION!$V$244,\"\")","v":0},{"$f":"IFERROR([10]INVERSION!$W$244,\"\")","v":0},{"$f":"IFERROR([10]INVERSION!$X$244,\"\")","v":0},{"$f":"IFERROR([10]INVERSION!$Y$244,\"\")","v":0},null,null,null,"","",null,0]
[null,null,null,null,null,null,{"$f":"IFERROR([10]INVERSION!$G$245,\"\")","v":0},{"$f":"IFERROR([10]INVERSION!$H$245,\"\")","v":0},{"$f":"IFERROR([10]INVERSION!$I$245,\"\")","v":0},{"$f":"IFERROR([10]INVERSION!$J$245,\"\")","v":0},{"$f":"IFERROR([10]INVERSION!$K$245,\"\")","v":0},{"$f":"IFERROR([10]INVERSION!$L$245,\"\")","v":0},{"$f":"IFERROR([10]INVERSION!$M$245,\"\")","v":0},{"$f":"IFERROR([10]INVERSION!$N$245,\"\")","v":0},{"$f":"IFERROR([10]INVERSION!$O$245,\"\")","v":0},{"$f":"IFERROR([10]INVERSION!$P$245,\"\")","v":0},{"$f":"IFERROR([10]INVERSION!$Q$245,\"\")","v":0},{"$f":"IFERROR([10]INVERSION!$R$245,\"\")","v":0},{"$f":"IFERROR([10]INVERSION!$S$245,\"\")","v":"00:00:00"},{"$f":"IFERROR([10]INVERSION!$T$245,\"\")","v":"00:00:00"},{"$f":"IFERROR([10]INVERSION!$U$245,\"\")","v":0},{"$f":"IFERROR([10]INVERSION!$V$245,\"\")","v":0},{"$f":"IFERROR([10]INVERSION!$W$245,\"\")","v":0},{"$f":"IFERROR([10]INVERSION!$X$245,\"\")","v":0},{"$f":"IFERROR([10]INVERSION!$Y$245,\"\")","v":0},null,null,null,"","",null,0]
[null,null,"2. Definir e implementar el modelo optimizado de formulación, seguimiento y evaluación de la política pública judicial.",null,null,null,{"$f":"IFERROR([10]INVERSION!$G$246,\"\")","v":0},{"$f":"IFERROR([10]INVERSION!$H$246,\"\")","v":0},{"$f":"IFERROR([10]INVERSION!$I$246,\"\")","v":0},{"$f":"IFERROR([10]INVERSION!$J$246,\"\")","v":0},{"$f":"IFERROR([10]INVERSION!$K$246,\"\")","v":0},{"$f":"IFERROR([10]INVERSION!$L$246,\"\")","v":0},{"$f":"IFERROR([10]INVERSION!$M$246,\"\")","v":0},{"$f":"IFERROR([10]INVERSION!$N$246,\"\")","v":0},{"$f":"IFERROR([10]INVERSION!$O$246,\"\")","v":0},{"$f":"IFERROR([10]INVERSION!$P$246,\"\")","v":0},{"$f":"IFERROR([10]INVERSION!$Q$246,\"\")","v":0},{"$f":"IFERROR([10]INVERSION!$R$246,\"\")","v":0},{"$f":"IFERROR([10]INVERSION!$S$246,\"\")","v":"00:00:00"},{"$f":"IFERROR([10]INVERSION!$T$246,\"\")","v":"00:00:00"},{"$f":"IFERROR([10]INVERSION!$U$246,\"\")","v":0},{"$f":"IFERROR([10]INVERSION!$V$246,\"\")","v":0},{"$f":"IFERROR([10]INVERSION!$W$246,\"\")","v":0},{"$f":"IFERROR([10]INVERSION!$X$246,\"\")","v":0},{"$f":"IFERROR([10]INVERSION!$Y$246,\"\")","v":0},null,null,null,"","",null,0]
[null,null,null,null,null,null,{"$f":"IFERROR([10]INVERSION!$G$247,\"\")","v":0},{"$f":"IFERROR([10]INVERSION!$H$247,\"\")","v":0},{"$f":"IFERROR([10]INVERSION!$I$247,\"\")","v":0},{"$f":"IFERROR([10]INVERSION!$J$247,\"\")","v":0},{"$f":"IFERROR([10]INVERSION!$K$247,\"\")","v":0},{"$f":"IFERROR([10]INVERSION!$L$247,\"\")","v":0},{"$f":"IFERROR([10]INVERSION!$M$247,\"\")","v":0},{"$f":"IFERROR([10]INVERSION!$N$247,\"\")","v":0},{"$f":"IFERROR([10]INVERSION!$O$247,\"\")","v":0},{"$f":"IFERROR([10]INVERSION!$P$247,\"\")","v":0},{"$f":"IFERROR([10]INVERSION!$Q$247,\"\")","v":0},{"$f":"IFERROR([10]INVERSION!$R$247,\"\")","v":0},{"$f":"IFERROR([10]INVERSION!$S$247,\"\")","v":"00:00:00"},{"$f":"IFERROR([10]INVERSION!$T$247,\"\")","v":"00:00:00"},{"$f":"IFERROR([10]INVERSION!$U$247,\"\")","v":0},{"$f":"IFERROR([10]INVERSION!$V$247,\"\")","v":0},{"$f":"IFERROR([10]INVERSION!$W$247,\"\")","v":0},{"$f":"IFERROR([10]INVERSION!$X$247,\"\")","v":0},{"$f":"IFERROR([10]INVERSION!$Y$247,\"\")","v":0},null,null,null,"","",null,0]
[null,null,null,null,null,null,{"$f":"IFERROR([10]INVERSION!$G$248,\"\")","v":0},{"$f":"IFERROR([10]INVERSION!$H$248,\"\")","v":0},{"$f":"IFERROR([10]INVERSION!$I$248,\"\")","v":0},{"$f":"IFERROR([10]INVERSION!$J$248,\"\")","v":0},{"$f":"IFERROR([10]INVERSION!$K$248,\"\")","v":0},{"$f":"IFERROR([10]INVERSION!$L$248,\"\")","v":0},{"$f":"IFERROR([10]INVERSION!$M$248,\"\")","v":0},{"$f":"IFERROR([10]INVERSION!$N$248,\"\")","v":0},{"$f":"IFERROR([10]INVERSION!$O$248,\"\")","v":0},{"$f":"IFERROR([10]INVERSION!$P$248,\"\")","v":0},{"$f":"IFERROR([10]INVERSION!$Q$248,\"\")","v":0},{"$f":"IFERROR([10]INVERSION!$R$248,\"\")","v":0},{"$f":"IFERROR([10]INVERSION!$S$248,\"\")","v":"00:00:00"},{"$f":"IFERROR([10]INVERSION!$T$248,\"\")","v":"00:00:00"},{"$f":"IFERROR([10]INVERSION!$U$248,\"\")","v":0},{"$f":"IFERROR([10]INVERSION!$V$248,\"\")","v":0},{"$f":"IFERROR([10]INVERSION!$W$248,\"\")","v":0},{"$f":"IFERROR([10]INVERSION!$X$248,\"\")","v":0},{"$f":"IFERROR([10]INVERSION!$Y$248,\"\")","v":0}]
[null,null,null,null,null,null,{"$f":"IFERROR([10]INVERSION!$G$249,\"\")","v":0},{"$f":"IFERROR([10]INVERSION!$H$249,\"\")","v":0},{"$f":"IFERROR([10]INVERSION!$I$249,\"\")","v":0},{"$f":"IFERROR([10]INVERSION!$J$249,\"\")","v":0},{"$f":"IFERROR([10]INVERSION!$K$249,\"\")","v":0},{"$f":"IFERROR([10]INVERSION!$L$249,\"\")","v":0},{"$f":"IFERROR([10]INVERSION!$M$249,\"\")","v":0},{"$f":"IFERROR([10]INVERSION!$N$249,\"\")","v":0},{"$f":"IFERROR([10]INVERSION!$O$249,\"\")","v":0},{"$f":"IFERROR([10]INVERSION!$P$249,\"\")","v":0},{"$f":"IFERROR([10]INVERSION!$Q$249,\"\")","v":0},{"$f":"IFERROR([10]INVERSION!$R$249,\"\")","v":0},{"$f":"IFERROR([10]INVERSION!$S$249,\"\")","v":"00:00:00"},{"$f":"IFERROR([10]INVERSION!$T$249,\"\")","v":"00:00:00"},{"$f":"IFERROR([10]INVERSION!$U$249,\"\")","v":0},{"$f":"IFERROR([10]INVERSION!$V$249,\"\")","v":0},{"$f":"IFERROR([10]INVERSION!$W$249,\"\")","v":0},{"$f":"IFERROR([10]INVERSION!$X$249,\"\")","v":0},{"$f":"IFERROR([10]INVERSION!$Y$249,\"\")","v":0}]
[null,null,null,null,null,null,{"$f":"IFERROR([10]INVERSION!$G$250,\"\")","v":0},{"$f":"IFERROR([10]INVERSION!$H$250,\"\")","v":0},{"$f":"IFERROR([10]INVERSION!$I$250,\"\")","v":0},{"$f":"IFERROR([10]INVERSION!$J$250,\"\")","v":0},{"$f":"IFERROR([10]INVERSION!$K$250,\"\")","v":0},{"$f":"IFERROR([10]INVERSION!$L$250,\"\")","v":0},{"$f":"IFERROR([10]INVERSION!$M$250,\"\")","v":0},{"$f":"IFERROR([10]INVERSION!$N$250,\"\")","v":0},{"$f":"IFERROR([10]INVERSION!$O$250,\"\")","v":0},{"$f":"IFERROR([10]INVERSION!$P$250,\"\")","v":0},{"$f":"IFERROR([10]INVERSION!$Q$250,\"\")","v":0},{"$f":"IFERROR([10]INVERSION!$R$250,\"\")","v":0},{"$f":"IFERROR([10]INVERSION!$S$250,\"\")","v":"00:00:00"},{"$f":"IFERROR([10]INVERSION!$T$250,\"\")","v":"00:00:00"},{"$f":"IFERROR([10]INVERSION!$U$250,\"\")","v":0},{"$f":"IFERROR([10]INVERSION!$V$250,\"\")","v":0},{"$f":"IFERROR([10]INVERSION!$W$250,\"\")","v":0},{"$f":"IFERROR([10]INVERSION!$X$250,\"\")","v":0},{"$f":"IFERROR([10]INVERSION!$Y$250,\"\")","v":0}]
[null,null,null,null,null,null,{"$f":"IFERROR([10]INVERSION!$G$251,\"\")","v":0},{"$f":"IFERROR([10]INVERSION!$H$251,\"\")","v":0},{"$f":"IFERROR([10]INVERSION!$I$251,\"\")","v":0},{"$f":"IFERROR([10]INVERSION!$J$251,\"\")","v":0},{"$f":"IFERROR([10]INVERSION!$K$251,\"\")","v":0},{"$f":"IFERROR([10]INVERSION!$L$251,\"\")","v":0},{"$f":"IFERROR([10]INVERSION!$M$251,\"\")","v":0},{"$f":"IFERROR([10]INVERSION!$N$251,\"\")","v":0},{"$f":"IFERROR([10]INVERSION!$O$251,\"\")","v":0},{"$f":"IFERROR([10]INVERSION!$P$251,\"\")","v":0},{"$f":"IFERROR([10]INVERSION!$Q$251,\"\")","v":0},{"$f":"IFERROR([10]INVERSION!$R$251,\"\")","v":0},{"$f":"IFERROR([10]INVERSION!$S$251,\"\")","v":"00:00:00"},{"$f":"IFERROR([10]INVERSION!$T$251,\"\")","v":"00:00:00"},{"$f":"IFERROR([10]INVERSION!$U$251,\"\")","v":0},{"$f":"IFERROR([10]INVERSION!$V$251,\"\")","v":0},{"$f":"IFERROR([10]INVERSION!$W$251,\"\")","v":0},{"$f":"IFERROR([10]INVERSION!$X$251,\"\")","v":0},{"$f":"IFERROR([10]INVERSION!$Y$251,\"\")","v":0}]
[null,null,null,null,null,null,{"$f":"IFERROR([10]INVERSION!$G$252,\"\")","v":0},{"$f":"IFERROR([10]INVERSION!$H$252,\"\")","v":0},{"$f":"IFERROR([10]INVERSION!$I$252,\"\")","v":0},{"$f":"IFERROR([10]INVERSION!$J$252,\"\")","v":0},{"$f":"IFERROR([10]INVERSION!$K$252,\"\")","v":0},{"$f":"IFERROR([10]INVERSION!$L$252,\"\")","v":0},{"$f":"IFERROR([10]INVERSION!$M$252,\"\")","v":0},{"$f":"IFERROR([10]INVERSION!$N$252,\"\")","v":0},{"$f":"IFERROR([10]INVERSION!$O$252,\"\")","v":0},{"$f":"IFERROR([10]INVERSION!$P$252,\"\")","v":0},{"$f":"IFERROR([10]INVERSION!$Q$252,\"\")","v":0},{"$f":"IFERROR([10]INVERSION!$R$252,\"\")","v":0},{"$f":"IFERROR([10]INVERSION!$S$252,\"\")","v":"00:00:00"},{"$f":"IFERROR([10]INVERSION!$T$252,\"\")","v":"00:00:00"},{"$f":"IFERROR([10]INVERSION!$U$252,\"\")","v":0},{"$f":"IFERROR([10]INVERSION!$V$252,\"\")","v":0},{"$f":"IFERROR([10]INVERSION!$W$252,\"\")","v":0},{"$f":"IFERROR([10]INVERSION!$X$252,\"\")","v":0},{"$f":"IFERROR([10]INVERSION!$Y$252,\"\")","v":0}]
[null,null,null,null,null,null,{"$f":"IFERROR([10]INVERSION!$G$253,\"\")","v":0},{"$f":"IFERROR([10]INVERSION!$H$253,\"\")","v":0},{"$f":"IFERROR([10]INVERSION!$I$253,\"\")","v":0},{"$f":"IFERROR([10]INVERSION!$J$253,\"\")","v":0},{"$f":"IFERROR([10]INVERSION!$K$253,\"\")","v":0},{"$f":"IFERROR([10]INVERSION!$L$253,\"\")","v":0},{"$f":"IFERROR([10]INVERSION!$M$253,\"\")","v":0},{"$f":"IFERROR([10]INVERSION!$N$253,\"\")","v":0},{"$f":"IFERROR([10]INVERSION!$O$253,\"\")","v":0},{"$f":"IFERROR([10]INVERSION!$P$253,\"\")","v":0},{"$f":"IFERROR([10]INVERSION!$Q$253,\"\")","v":0},{"$f":"IFERROR([10]INVERSION!$R$253,\"\")","v":0},{"$f":"IFERROR([10]INVERSION!$S$253,\"\")","v":"00:00:00"},{"$f":"IFERROR([10]INVERSION!$T$253,\"\")","v":"00:00:00"},{"$f":"IFERROR([10]INVERSION!$U$253,\"\")","v":0},{"$f":"IFERROR([10]INVERSION!$V$253,\"\")","v":0},{"$f":"IFERROR([10]INVERSION!$W$253,\"\")","v":0},{"$f":"IFERROR([10]INVERSION!$X$253,\"\")","v":0},{"$f":"IFERROR([10]INVERSION!$Y$253,\"\")","v":0},null,null,null,"","",null,0]
[null,null,null,null,null,null,{"$f":"IFERROR([10]INVERSION!$G$254,\"\")","v":0},{"$f":"IFERROR([10]INVERSION!$H$254,\"\")","v":0},{"$f":"IFERROR([10]INVERSION!$I$254,\"\")","v":0},{"$f":"IFERROR([10]INVERSION!$J$254,\"\")","v":0},{"$f":"IFERROR([10]INVERSION!$K$254,\"\")","v":0},{"$f":"IFERROR([10]INVERSION!$L$254,\"\")","v":0},{"$f":"IFERROR([10]INVERSION!$M$254,\"\")","v":0},{"$f":"IFERROR([10]INVERSION!$N$254,\"\")","v":0},{"$f":"IFERROR([10]INVERSION!$O$254,\"\")","v":0},{"$f":"IFERROR([10]INVERSION!$P$254,\"\")","v":0},{"$f":"IFERROR([10]INVERSION!$Q$254,\"\")","v":0},{"$f":"IFERROR([10]INVERSION!$R$254,\"\")","v":0},{"$f":"IFERROR([10]INVERSION!$S$254,\"\")","v":"00:00:00"},{"$f":"IFERROR([10]INVERSION!$T$254,\"\")","v":"00:00:00"},{"$f":"IFERROR([10]INVERSION!$U$254,\"\")","v":0},{"$f":"IFERROR([10]INVERSION!$V$254,\"\")","v":0},{"$f":"IFERROR([10]INVERSION!$W$254,\"\")","v":0},{"$f":"IFERROR([10]INVERSION!$X$254,\"\")","v":0},{"$f":"IFERROR([10]INVERSION!$Y$254,\"\")","v":0},null,null,null,"","",null,0]
[null,null,null,null,null,null,{"$f":"IFERROR([10]INVERSION!$G$255,\"\")","v":0},{"$f":"IFERROR([10]INVERSION!$H$255,\"\")","v":0},{"$f":"IFERROR([10]INVERSION!$I$255,\"\")","v":0},{"$f":"IFERROR([10]INVERSION!$J$255,\"\")","v":0},{"$f":"IFERROR([10]INVERSION!$K$255,\"\")","v":0},{"$f":"IFERROR([10]INVERSION!$L$255,\"\")","v":0},{"$f":"IFERROR([10]INVERSION!$M$255,\"\")","v":0},{"$f":"IFERROR([10]INVERSION!$N$255,\"\")","v":0},{"$f":"IFERROR([10]INVERSION!$O$255,\"\")","v":0},{"$f":"IFERROR([10]INVERSION!$P$255,\"\")","v":0},{"$f":"IFERROR([10]INVERSION!$Q$255,\"\")","v":0},{"$f":"IFERROR([10]INVERSION!$R$255,\"\")","v":0},{"$f":"IFERROR([10]INVERSION!$S$255,\"\")","v":"00:00:00"},{"$f":"IFERROR([10]INVERSION!$T$255,\"\")","v":"00:00:00"},{"$f":"IFERROR([10]INVERSION!$U$255,\"\")","v":0},{"$f":"IFERROR([10]INVERSION!$V$255,\"\")","v":0},{"$f":"IFERROR([10]INVERSION!$W$255,\"\")","v":0},{"$f":"IFERROR([10]INVERSION!$X$255,\"\")","v":0},{"$f":"IFERROR([10]INVERSION!$Y$255,\"\")","v":0},null,null,null,"","",null,0]

{"sheet":"INVERSION_SEG_3_TRIM","index":15,"n_rows":255,"n_cols":40,"rows_kept":255,"cut":false,"hidden":false,"merged":[[225,5,234,5],[235,0,254,0],[235,1,254,1],[235,2,244,2],[235,3,244,3],[235,4,244,4],[235,5,254,5],[245,2,254,2],[245,3,254,3],[245,4,254,4],[215,2,224,2],[215,3,224,3],[215,4,224,4],[225,2,234,2],[225,3,234,3],[225,4,234,4],[195,2,204,2],[195,3,204,3],[195,4,204,4],[205,2,214,2],[205,3,214,3],[205,4,214,4],[175,2,184,2],[175,3,184,3],[175,4,184,4],[175,5,184,5],[185,0,234,0],[185,1,234,1],[185,2,194,2],[185,3,194,3],[185,4,194,4],[185,5,224,5],[145,4,154,4],[145,5,174,5],[155,2,164,2],[155,3,164,3],[155,4,164,4],[165,2,174,2],[165,3,174,3],[165,4,174,4],[115,5,124,5],[125,2,134,2],[125,3,134,3],[125,4,134,4],[125,5,134,5],[135,2,144,2],[135,3,144,3],[135,4,144,4],[135,5,144,5],[105,2,114,2],[105,3,114,3],[105,4,114,4],[115,0,184,0],[115,1,184,1],[115,2,124,2],[115,3,124,3],[115,4,124,4],[145,2,154,2],[145,3,154,3],[85,2,94,2],[85,3,94,3],[85,4,94,4],[95,2,104,2],[95,3,104,3],[95,4,104,4],[65,2,74,2],[65,3,74,3],[65,4,74,4],[75,2,84,2],[75,3,84,3],[75,4,84,4],[45,2,54,2],[45,3,54,3],[45,4,54,4],[45,5,54,5],[55,0,114,0],[55,1,114,1],[55,2,64,2],[55,3,64,3],[55,4,64,4],[55,5,114,5],[15,5,24,5],[25,2,34,2],[25,3,34,3],[25,4,34,4],[25,5,34,5],[35,2,44,2],[35,3,44,3],[35,4,44,4],[35,5,44,5],[3,32,3,37],[5,0,54,0],[5,1,54,1],[5,2,14,2],[5,3,14,3],[5,4,14,4],[5,5,14,5],[15,2,24,2],[15,3,24,3],[15,4,24,4],[3,4,4,4],[3,5,4,5],[3,6,3,11],[3,12,3,22],[3,23,3,24],[3,25,3,31],[1,0,1,17],[1,18,1,38],[1,39,1,48],[2,0,2,5],[2,6,2,24],[2,25,2,37],[2,38,4,38],[3,0,4,1],[3,2,4,2],[3,3,4,3]]}
[]
["CONSEJO SUPERIOR DE LA JUDICATURA \nUNIDADES MISIONALES DEL CONSEJO SUPERIOR DE LA JUDICATURA \nDIRECCIÓN EJECUTIVA DE ADMINISTRACIÓN JUDICIAL (DEAJ) - UNIDADES MISIONALES DE LA DEAJ\nDIRECCIONES SECCIONALES DE ADMINISTRACIÓN JUDICIAL ",null,null,null,null,null,null,null,null,null,null,null,null,null,null,null,null,null,null,null,null,null,null,null,null,null,null,null,null,null,null,null,null,null,null,null,null,null,null,"GENERADOR DE SEGUIMIENTOS TRIMESTALES"]
["PLAN SECTORIAL DE DESARROLLO 2023-2026 - OBJETIVOS SIGCMA",null,null,null,null,null,"PLAN DE ACCIÓN Y SEGUIMIENTO A LA INVERSIÓN INSTITUCIONAL ",null,null,null,null,null,null,null,null,null,null,null,null,null,null,null,null,null,null,"AVANCE PLAN DE ACCIÓN ANUAL",null,null,null,null,null,null,null,null,null,null,null,null,"ANALISIS RESULTADO\r\nTRIMESTRE"]
["OBJETIVO ESTRATÉGICO",null,"OBJETIVO ESPECÍFICO PSD","NOMBRE DEL INDICADOR PSD","DEFINICIÓN DEL INDICADOR","OBJETIVO ESPECÍFICO SIGCMA","IDENTIFICACIÓN PROYECTO DE INVERSIÓN",null,null,null,null,null,"PARÁMETROS DE MEDICIÓN ",null,null,null,null,null,null,null,null,null,null,"INFORMACIÓN FINANCIERA",null,"SEGUIMIENTO - CUMPLIMIENTO ANUAL ",null,null,null,null,null,null,"INFORMACIÓN COMPLEMENTARIA FINAL"]
[null,null,null,null,null,null,"PROGRAMA DE INVERSIÓN","SUBPROGRAMA DE INVERSIÓN","RUBRO PRESUPUESTAL","CÓDIGO BPIN","NOMBRE DE PROYECTO","OBJETIVO ESPECÍFICO FORMULADO DEL PROYECTO BPIN","NOMBRE ACTIVIDAD DE INVERSIÓN (POAI)","JUSTIFICACIÓN DE LA ACTIVIDAD","DESCRIBA EL ENTREGABLE \n(Producto y/o servicio principal)","META ANUALIDAD","UNIDAD DE MEDIDA","TIPO DE INDICADOR (GESTIÓN O PRODUCTO)","FECHA DE INICIO DE LA ACTIVIDAD\nDÍA/MES/AÑO","FECHA TERMINACIÓN ACTIVIDAD\nDÍA/MES/AÑO \n(Sí supera anualidad, favor dejar 31/12/20xx)","NÚMERO DE BENEFICIARIOS INTERNOS (Servidores Judiciales)","NÚMERO DE BENEFICIARIOS EXTERNOS (Usuarios)"," DEPENDENCIA RESPONSABLE ","ACTO ADMINISTRATIVO (INDICAR EL ACUERDO INICIAL Y MODIFICACIONES)","RECURSOS ASIGNADOS ($)","DETALLE DE LAS ACTIVIDADES REALIZADAS PARA EL LOGRO DE LA INVERSIÓN (Periodo de reporte acumulado) ","COMPROMISO PRESUPUESTAL (VALOR DEL CONTRATO)","AVANCE DE LA META","% AVANCE ANUAL DE LA ACTIVIDAD"," % AVANCE PRESUPUESTAL ANUAL","AVANCE  DE LA ACTIVIDAD - % EN TIEMPO ANUAL","REZAGO","NÚMERO DE BENEFICIADOS INTERNOS","NÚMERO DE BENEFICIADOS EXTERNOS","DIFICULTADES PARA LOGRAR LA META PROPUESTA","EL PRODUCTO FINAL OBTENIDO ¿CÓMO IMPACTÓ SOBRE EL OBJETIVO ESTRATÉGICO?","RECOMENDACIONES PARA LOGRAR LA META","OBSERVACIONES"]
["1. Acceso e Infraestructura Física","Acceso e Infraestructura Física: Ampliar, en todo el territorio nacional, el acceso a una justicia efectiva, pronta, equitativa e incluyente, reduciendo el atraso y la congestión, de acuerdo con las necesidades de la demanda de justicia por jurisdicción y especialidad, y mejorando la articulación con la justicia restaurativa y terapéutica, y otros mecanismos de solución de conflictos y consolidando una infraestructura física óptima para el acceso a la justicia.","1. Ampliar el acceso a justicia para atender las necesidades jurídicas de los ciudadanos con un enfoque diferencial, de una manera pronta, reduciendo las inequidades y las brechas territoriales de acceso.","Estrategias implementadas por la Rama Judicial para ampliar el acceso a la justicia considerando el enfoque diferencial y territorial\n\nÍndice de dispersión en la calificación del factor calidad","# de estrategias establecida s en la meta implementa das durante la vigencia del plan\n\nDispersión en la calificación del factor de calidad por jurisdicción y nivel de competencia.","2. Asegurar  el cumplimiento de los objetivos institucionales, la normatividad aplicable,  la mejora del SIGCMA y la satisfacción de los usuarios, revisando de  forma continua y sistemática la planificación de la gestión y fortaleciendo la administración de riesgos y sus controles",{"$f":"IFERROR([11]INVERSION!$G$6,\"\")","v":"MEJORAMIENTO Y MANTENIMIENTO DE LA INFRAESTRUCTURA FÍSICA DE LA RAMA JUDICIAL A NIVEL NACIONAL"},{"$f":"IFERROR([11]INVERSION!$H$6,\"\")","v":"MEJORAMIENTO Y MANTENIMIENTO DE LA INFRAESTRUCTURA FÍSICA DE LA RAMA JUDICIAL A NIVEL NACIONAL"},{"$f":"IFERROR([11]INVERSION!$I$6,\"\")","v":"2701 - MEJORAMIENTO Y MANTENIMIENTO DE LA INFRAESTRUCTURA FÍSICA DE LA RAMA JUDICIAL A NIVEL NACIONAL"},"=IFERROR(INVERSION!$J$6,\"\")",{"$f":"IFERROR([11]INVERSION!$K$6,\"\")","v":"MEJORAMIENTO Y MANTENIMIENTO DE LA INFRAESTRUCTURA FÍSICA DE LA RAMA JUDICIAL A NIVEL NACIONAL"},{"$f":"IFERROR([11]INVERSION!$L$6,\"\")","v":"MEJORAMIENTO Y MANTENIMIENTO DE LA INFRAESTRUCTURA FÍSICA DE LA RAMA JUDICIAL A NIVEL NACIONAL"},{"$f":"IFERROR([11]INVERSION!$M$6,\"\")","v":"MEJORAMIENTO Y MANTENIMIENTO DE LA INFRAESTRUCTURA FÍSICA DE LA RAMA JUDICIAL A NIVEL NACIONAL"},{"$f":"IFERROR([11]INVERSION!$N$6,\"\")","v":"Proyectos para el mantenimiento y mejoramiento de la infraestructura física de los inmuebles propios de la Rama Judicial en el Distrito Judicial de Villavicencio"},{"$f":"IFERROR([11]INVERSION!$O$6,\"\")","v":"Contratos susctritos para la ejecución de los recursos asignados para el mantenimiento y mejoramiento de la infraestructura física en el Distrito Judicial de Villavicencio"},{"$f":"IFERROR([11]INVERSION!$P$6,\"\")","v":2350266363},{"$f":"IFERROR([11]INVERSION!$Q$6,\"\")","v":"RECURSOS ASGINADOS EN PESOS ($)"},{"$f":"IFERROR([11]INVERSION!$R$6,\"\")","v":"Producto"},{"$f":"IFERROR([11]INVERSION!$S$6,\"\")","v":"2023-06-01"},{"$f":"IFERROR([11]INVERSION!$T$6,\"\")","v":"2023-12-31"},{"$f":"IFERROR([11]INVERSION!$U$6,\"\")","v":250},{"$f":"IFERROR([11]INVERSION!$V$6,\"\")","v":4500},{"$f":"IFERROR([11]INVERSION!$W$6,\"\")","v":"Administrativa "},{"$f":"IFERROR([11]INVERSION!$X$6,\"\")","v":"RES. 3301 - 2023 - UPLA"},{"$f":"IFERROR([11]INVERSION!$Y$6,\"\")","v":2350266363},"Debido a que fueron incorporados nuevos recursos de inversión para infraestructura, por lo que se amplió el valor a ejecutar. Adicionalmente, los procesos fueron contratados por la modalidad de mínima cuantía y selección abreviada que corresponde a la asignación de la propuesta ofertada de menor valor, motivo por el cual si se cumplió con contratar los procesos previstos para el presente trimestre, pero por menor valor al presupuesto oficial establecido",2326361625.1500001,{"$f":"474138893.2+615280547.63","v":1089419440.8299999},{"$f":"IFERROR(AB6/P6,\"\")","v":0.46353020150422836},{"$f":"IFERROR(AA6/Y6,\"\")","v":0.98982892397800959},0.75,{"$f":"IFERROR(P6-AB6,\"\")","v":1260846922.1700001},250,2500,"Se adicionaron recursos en forma posterior al presupuesto inicial, por ende se amplió el valor total a ejecutar y el alcance inicial de las obras",null,"Realizar la asignación de recursos desde enero de cada año para tener el tiempo suficiente para la estructuración y ejecución de los procesos",null,"Se adelantó la estructuración y contratación de los procesos: Mantenimiento locativo Torre A del Palacio de Justicia de Villavicencio, Mantenimiento locativo y adecuación de espacios para nuevos despachos judiciales en el Palacio de Justicia de Villavicencio, Mantenimiento y reparaciones locativas instalaciones sede judicial San José del Guaviare"]
[null,null,null,null,null,null,{"$f":"IFERROR([11]INVERSION!$G$7,\"\")","v":0},{"$f":"IFERROR([11]INVERSION!$H$7,\"\")","v":0},{"$f":"IFERROR([11]INVERSION!$I$7,\"\")","v":0},{"$f":"IFERROR([11]INVERSION!$J$7,\"\")","v":0},{"$f":"IFERROR([11]INVERSION!$K$7,\"\")","v":0},{"$f":"IFERROR([11]INVERSION!$L$7,\"\")","v":0},{"$f":"IFERROR([11]INVERSION!$M$7,\"\")","v":0},{"$f":"IFERROR([11]INVERSION!$N$7,\"\")","v":0},{"$f":"IFERROR([11]INVERSION!$O$7,\"\")","v":0},{"$f":"IFERROR([11]INVERSION!$P$7,\"\")","v":0},{"$f":"IFERROR([11]INVERSION!$Q$7,\"\")","v":0},{"$f":"IFERROR([11]INVERSION!$R$7,\"\")","v":0},{"$f":"IFERROR([11]INVERSION!$S$7,\"\")","v":"00:00:00"},{"$f":"IFERROR([11]INVERSION!$T$7,\"\")","v":"00:00:00"},{"$f":"IFERROR([11]INVERSION!$U$7,\"\")","v":0},{"$f":"IFERROR([11]INVERSION!$V$7,\"\")","v":0},{"$f":"IFERROR([11]INVERSION!$W$7,\"\")","v":0},{"$f":"IFERROR([11]INVERSION!$X$7,\"\")","v":0},{"$f":"IFERROR([11]INVERSION!$Y$7,\"\")","v":0},null,null,null,{"$f":"IFERROR(AB7/P7,\"\")","v":""},{"$f":"IFERROR(AA7/Y7,\"\")","v":""},null,{"$f":"IFERROR(P7-AB7,\"\")","v":0}]
[null,null,null,null,null,null,{"$f":"IFERROR([11]INVERSION!$G$8,\"\")","v":0},{"$f":"IFERROR([11]INVERSION!$H$8,\"\")","v":0},{"$f":"IFERROR([11]INVERSION!$I$8,\"\")","v":0},{"$f":"IFERROR([11]INVERSION!$J$8,\"\")","v":0},{"$f":"IFERROR([11]INVERSION!$K$8,\"\")","v":0},{"$f":"IFERROR([11]INVERSION!$L$8,\"\")","v":0},{"$f":"IFERROR([11]INVERSION!$M$8,\"\")","v":0},{"$f":"IFERROR([11]INVERSION!$N$8,\"\")","v":0},{"$f":"IFERROR([11]INVERSION!$O$8,\"\")","v":0},{"$f":"IFERROR([11]INVERSION!$P$8,\"\")","v":0},{"$f":"IFERROR([11]INVERSION!$Q$8,\"\")","v":0},{"$f":"IFERROR([11]INVERSION!$R$8,\"\")","v":0},{"$f":"IFERROR([11]INVERSION!$S$8,\"\")","v":"00:00:00"},{"$f":"IFERROR([11]INVERSION!$T$8,\"\")","v":"00:00:00"},{"$f":"IFERROR([11]INVERSION!$U$8,\"\")","v":0},{"$f":"IFERROR([11]INVERSION!$V$8,\"\")","v":0},{"$f":"IFERROR([11]INVERSION!$W$8,\"\")","v":0},{"$f":"IFERROR([11]INVERSION!$X$8,\"\")","v":0},{"$f":"IFERROR([11]INVERSION!$Y$8,\"\")","v":0}]
[null,null,null,null,null,null,{"$f":"IFERROR([11]INVERSION!$G$9,\"\")","v":0},{"$f":"IFERROR([11]INVERSION!$H$9,\"\")","v":0},{"$f":"IFERROR([11]INVERSION!$I$9,\"\")","v":0},{"$f":"IFERROR([11]INVERSION!$J$9,\"\")","v":0},{"$f":"IFERROR([11]INVERSION!$K$9,\"\")","v":0},{"$f":"IFERROR([11]INVERSION!$L$9,\"\")","v":0},{"$f":"IFERROR([11]INVERSION!$M$9,\"\")","v":0},{"$f":"IFERROR([11]INVERSION!$N$9,\"\")","v":0},{"$f":"IFERROR([11]INVERSION!$O$9,\"\")","v":0},{"$f":"IFERROR([11]INVERSION!$P$9,\"\")","v":0},{"$f":"IFERROR([11]INVERSION!$Q$9,\"\")","v":0},{"$f":"IFERROR([11]INVERSION!$R$9,\"\")","v":0},{"$f":"IFERROR([11]INVERSION!$S$9,\"\")","v":"00:00:00"},{"$f":"IFERROR([11]INVERSION!$T$9,\"\")","v":"00:00:00"},{"$f":"IFERROR([11]INVERSION!$U$9,\"\")","v":0},{"$f":"IFERROR([11]INVERSION!$V$9,\"\")","v":0},{"$f":"IFERROR([11]INVERSION!$W$9,\"\")","v":0},{"$f":"IFERROR([11]INVERSION!$X$9,\"\")","v":0},{"$f":"IFERROR([11]INVERSION!$Y$9,\"\")","v":0}]
[null,null,null,null,null,null,{"$f":"IFERROR([11]INVERSION!$G$10,\"\")","v":0},{"$f":"IFERROR([11]INVERSION!$H$10,\"\")","v":0},{"$f":"IFERROR([11]INVERSION!$I$10,\"\")","v":0},{"$f":"IFERROR([11]INVERSION!$J$10,\"\")","v":0},{"$f":"IFERROR([11]INVERSION!$K$10,\"\")","v":0},{"$f":"IFERROR([11]INVERSION!$L$10,\"\")","v":0},{"$f":"IFERROR([11]INVERSION!$M$10,\"\")","v":0},{"$f":"IFERROR([11]INVERSION!$N$10,\"\")","v":0},{"$f":"IFERROR([11]INVERSION!$O$10,\"\")","v":0},{"$f":"IFERROR([11]INVERSION!$P$10,\"\")","v":0},{"$f":"IFERROR([11]INVERSION!$Q$10,\"\")","v":0},{"$f":"IFERROR([11]INVERSION!$R$10,\"\")","v":0},{"$f":"IFERROR([11]INVERSION!$S$10,\"\")","v":"00:00:00"},{"$f":"IFERROR([11]INVERSION!$T$10,\"\")","v":"00:00:00"},{"$f":"IFERROR([11]INVERSION!$U$10,\"\")","v":0},{"$f":"IFERROR([11]INVERSION!$V$10,\"\")","v":0},{"$f":"IFERROR([11]INVERSION!$W$10,\"\")","v":0},{"$f":"IFERROR([11]INVERSION!$X$10,\"\")","v":0},{"$f":"IFERROR([11]INVERSION!$Y$10,\"\")","v":0}]
[null,null,null,null,null,null,{"$f":"IFERROR([11]INVERSION!$G$11,\"\")","v":0},{"$f":"IFERROR([11]INVERSION!$H$11,\"\")","v":0},{"$f":"IFERROR([11]INVERSION!$I$11,\"\")","v":0},{"$f":"IFERROR([11]INVERSION!$J$11,\"\")","v":0},{"$f":"IFERROR([11]INVERSION!$K$11,\"\")","v":0},{"$f":"IFERROR([11]INVERSION!$L$11,\"\")","v":0},{"$f":"IFERROR([11]INVERSION!$M$11,\"\")","v":0},{"$f":"IFERROR([11]INVERSION!$N$11,\"\")","v":0},{"$f":"IFERROR([11]INVERSION!$O$11,\"\")","v":0},{"$f":"IFERROR([11]INVERSION!$P$11,\"\")","v":0},{"$f":"IFERROR([11]INVERSION!$Q$11,\"\")","v":0},{"$f":"IFERROR([11]INVERSION!$R$11,\"\")","v":0},{"$f":"IFERROR([11]INVERSION!$S$11,\"\")","v":"00:00:00"},{"$f":"IFERROR([11]INVERSION!$T$11,\"\")","v":"00:00:00"},{"$f":"IFERROR([11]INVERSION!$U$11,\"\")","v":0},{"$f":"IFERROR([11]INVERSION!$V$11,\"\")","v":0},{"$f":"IFERROR([11]INVERSION!$W$11,\"\")","v":0},{"$f":"IFERROR([11]INVERSION!$X$11,\"\")","v":0},{"$f":"IFERROR([11]INVERSION!$Y$11,\"\")","v":0}]
[null,null,null,null,null,null,{"$f":"IFERROR([11]INVERSION!$G$12,\"\")","v":0},{"$f":"IFERROR([11]INVERSION!$H$12,\"\")","v":0},{"$f":"IFERROR([11]INVERSION!$I$12,\"\")","v":0},{"$f":"IFERROR([11]INVERSION!$J$12,\"\")","v":0},{"$f":"IFERROR([11]INVERSION!$K$12,\"\")","v":0},{"$f":"IFERROR([11]INVERSION!$L$12,\"\")","v":0},{"$f":"IFERROR([11]INVERSION!$M$12,\"\")","v":0},{"$f":"IFERROR([11]INVERSION!$N$12,\"\")","v":0},{"$f":"IFERROR([11]INVERSION!$O$12,\"\")","v":0},{"$f":"IFERROR([11]INVERSION!$P$12,\"\")","v":0},{"$f":"IFERROR([11]INVERSION!$Q$12,\"\")","v":0},{"$f":"IFERROR([11]INVERSION!$R$12,\"\")","v":0},{"$f":"IFERROR([11]INVERSION!$S$12,\"\")","v":"00:00:00"},{"$f":"IFERROR([11]INVERSION!$T$12,\"\")","v":"00:00:00"},{"$f":"IFERROR([11]INVERSION!$U$12,\"\")","v":0},{"$f":"IFERROR([11]INVERSION!$V$12,\"\")","v":0},{"$f":"IFERROR([11]INVERSION!$W$12,\"\")","v":0},{"$f":"IFERROR([11]INVERSION!$X$12,\"\")","v":0},{"$f":"IFERROR([11]INVERSION!$Y$12,\"\")","v":0}]
[null,null,null,null,null,null,{"$f":"IFERROR([11]INVERSION!$G$13,\"\")","v":0},{"$f":"IFERROR([11]INVERSION!$H$13,\"\")","v":0},{"$f":"IFERROR([11]INVERSION!$I$13,\"\")","v":0},{"$f":"IFERROR([11]INVERSION!$J$13,\"\")","v":0},{"$f":"IFERROR([11]INVERSION!$K$13,\"\")","v":0},{"$f":"IFERROR([11]INVERSION!$L$13,\"\")","v":0},{"$f":"IFERROR([11]INVERSION!$M$13,\"\")","v":0},{"$f":"IFERROR([11]INVERSION!$N$13,\"\")","v":0},{"$f":"IFERROR([11]INVERSION!$O$13,\"\")","v":0},{"$f":"IFERROR([11]INVERSION!$P$13,\"\")","v":0},{"$f":"IFERROR([11]INVERSION!$Q$13,\"\")","v":0},{"$f":"IFERROR([11]INVERSION!$R$13,\"\")","v":0},{"$f":"IFERROR([11]INVERSION!$S$13,\"\")","v":"00:00:00"},{"$f":"IFERROR([11]INVERSION!$T$13,\"\")","v":"00:00:00"},{"$f":"IFERROR([11]INVERSION!$U$13,\"\")","v":0},{"$f":"IFERROR([11]INVERSION!$V$13,\"\")","v":0},{"$f":"IFERROR([11]INVERSION!$W$13,\"\")","v":0},{"$f":"IFERROR([11]INVERSION!$X$13,\"\")","v":0},{"$f":"IFERROR([11]INVERSION!$Y$13,\"\")","v":0},null,null,null,{"$f":"IFERROR(AB13/P13,\"\")","v":""},{"$f":"IFERROR(AA13/Y13,\"\")","v":""},null,0]
[null,null,null,null,null,null,{"$f":"IFERROR([11]INVERSION!$G$14,\"\")","v":0},{"$f":"IFERROR([11]INVERSION!$H$14,\"\")","v":0},{"$f":"IFERROR([11]INVERSION!$I$14,\"\")","v":0},{"$f":"IFERROR([11]INVERSION!$J$14,\"\")","v":0},{"$f":"IFERROR([11]INVERSION!$K$14,\"\")","v":0},{"$f":"IFERROR([11]INVERSION!$L$14,\"\")","v":0},{"$f":"IFERROR([11]INVERSION!$M$14,\"\")","v":0},{"$f":"IFERROR([11]INVERSION!$N$14,\"\")","v":0},{"$f":"IFERROR([11]INVERSION!$O$14,\"\")","v":0},{"$f":"IFERROR([11]INVERSION!$P$14,\"\")","v":0},{"$f":"IFERROR([11]INVERSION!$Q$14,\"\")","v":0},{"$f":"IFERROR([11]INVERSION!$R$14,\"\")","v":0},{"$f":"IFERROR([11]INVERSION!$S$14,\"\")","v":"00:00:00"},{"$f":"IFERROR([11]INVERSION!$T$14,\"\")","v":"00:00:00"},{"$f":"IFERROR([11]INVERSION!$U$14,\"\")","v":0},{"$f":"IFERROR([11]INVERSION!$V$14,\"\")","v":0},{"$f":"IFERROR([11]INVERSION!$W$14,\"\")","v":0},{"$f":"IFERROR([11]INVERSION!$X$14,\"\")","v":0},{"$f":"IFERROR([11]INVERSION!$Y$14,\"\")","v":0},null,null,null,"","",null,0]
[null,null,null,null,null,null,{"$f":"IFERROR([11]INVERSION!$G$15,\"\")","v":0},{"$f":"IFERROR([11]INVERSION!$H$15,\"\")","v":0},{"$f":"IFERROR([11]INVERSION!$I$15,\"\")","v":0},{"$f":"IFERROR([11]INVERSION!$J$15,\"\")","v":0},{"$f":"IFERROR([11]INVERSION!$K$15,\"\")","v":0},{"$f":"IFERROR([11]INVERSION!$L$15,\"\")","v":0},{"$f":"IFERROR([11]INVERSION!$M$15,\"\")","v":0},{"$f":"IFERROR([11]INVERSION!$N$15,\"\")","v":0},{"$f":"IFERROR([11]INVERSION!$O$15,\"\")","v":0},{"$f":"IFERROR([11]INVERSION!$P$15,\"\")","v":0},{"$f":"IFERROR([11]INVERSION!$Q$15,\"\")","v":0},{"$f":"IFERROR([11]INVERSION!$R$15,\"\")","v":0},{"$f":"IFERROR([11]INVERSION!$S$15,\"\")","v":"00:00:00"},{"$f":"IFERROR([11]INVERSION!$T$15,\"\")","v":"00:00:00"},{"$f":"IFERROR([11]INVERSION!$U$15,\"\")","v":0},{"$f":"IFERROR([11]INVERSION!$V$15,\"\")","v":0},{"$f":"IFERROR([11]INVERSION!$W$15,\"\")","v":0},{"$f":"IFERROR([11]INVERSION!$X$15,\"\")","v":0},{"$f":"IFERROR([11]INVERSION!$Y$15,\"\")","v":0},null,null,null,"","",null,0]
[null,null,"2. Mejorar los tiempos de respuesta de la Rama Judicial y reducir el inventario de procesos, identificando los retos internos y promoviendo tanto acciones articuladas específicas para abordarlos como estrategias coordinadas para enfrentar las barreras que dependen de otras entidades.","Reducción de tiempos de respuesta en los despachos en los que se implemente el sistema de gestión judicial","% Reducción del promedio de días de duración de los procesos judiciales en los despachos en los que se implemente el sistema de gestión judicial","2. Asegurar  el cumplimiento de los objetivos institucionales, la normatividad aplicable,  la mejora del SIGCMA y la satisfacción de los usuarios, revisando de  forma continua y sistemática la planificación de la gestión y fortaleciendo la administración de riesgos y sus controles",{"$f":"IFERROR([11]INVERSION!$G$16,\"\")","v":0},{"$f":"IFERROR([11]INVERSION!$H$16,\"\")","v":0},{"$f":"IFERROR([11]INVERSION!$I$16,\"\")","v":0},{"$f":"IFERROR([11]INVERSION!$J$16,\"\")","v":0},{"$f":"IFERROR([11]INVERSION!$K$16,\"\")","v":0},{"$f":"IFERROR([11]INVERSION!$L$16,\"\")","v":0},{"$f":"IFERROR([11]INVERSION!$M$16,\"\")","v":0},{"$f":"IFERROR([11]INVERSION!$N$16,\"\")","v":0},{"$f":"IFERROR([11]INVERSION!$O$16,\"\")","v":0},{"$f":"IFERROR([11]INVERSION!$P$16,\"\")","v":0},{"$f":"IFERROR([11]INVERSION!$Q$16,\"\")","v":0},{"$f":"IFERROR([11]INVERSION!$R$16,\"\")","v":0},{"$f":"IFERROR([11]INVERSION!$S$16,\"\")","v":"00:00:00"},{"$f":"IFERROR([11]INVERSION!$T$16,\"\")","v":"00:00:00"},{"$f":"IFERROR([11]INVERSION!$U$16,\"\")","v":0},{"$f":"IFERROR([11]INVERSION!$V$16,\"\")","v":0},{"$f":"IFERROR([11]INVERSION!$W$16,\"\")","v":0},{"$f":"IFERROR([11]INVERSION!$X$16,\"\")","v":0},{"$f":"IFERROR([11]INVERSION!$Y$16,\"\")","v":0},null,null,null,"","",null,0]
[null,null,null,null,null,null,{"$f":"IFERROR([11]INVERSION!$G$17,\"\")","v":0},{"$f":"IFERROR([11]INVERSION!$H$17,\"\")","v":0},{"$f":"IFERROR([11]INVERSION!$I$17,\"\")","v":0},{"$f":"IFERROR([11]INVERSION!$J$17,\"\")","v":0},{"$f":"IFERROR([11]INVERSION!$K$17,\"\")","v":0},{"$f":"IFERROR([11]INVERSION!$L$17,\"\")","v":0},{"$f":"IFERROR([11]INVERSION!$M$17,\"\")","v":0},{"$f":"IFERROR([11]INVERSION!$N$17,\"\")","v":0},{"$f":"IFERROR([11]INVERSION!$O$17,\"\")","v":0},{"$f":"IFERROR([11]INVERSION!$P$17,\"\")","v":0},{"$f":"IFERROR([11]INVERSION!$Q$17,\"\")","v":0},{"$f":"IFERROR([11]INVERSION!$R$17,\"\")","v":0},{"$f":"IFERROR([11]INVERSION!$S$17,\"\")","v":"00:00:00"},{"$f":"IFERROR([11]INVERSION!$T$17,\"\")","v":"00:00:00"},{"$f":"IFERROR([11]INVERSION!$U$17,\"\")","v":0},{"$f":"IFERROR([11]INVERSION!$V$17,\"\")","v":0},{"$f":"IFERROR([11]INVERSION!$W$17,\"\")","v":0},{"$f":"IFERROR([11]INVERSION!$X$17,\"\")","v":0},{"$f":"IFERROR([11]INVERSION!$Y$17,\"\")","v":0},null,null,null,"","",null,0]
[null,null,null,null,null,null,{"$f":"IFERROR([11]INVERSION!$G$18,\"\")","v":0},{"$f":"IFERROR([11]INVERSION!$H$18,\"\")","v":0},{"$f":"IFERROR([11]INVERSION!$I$18,\"\")","v":0},{"$f":"IFERROR([11]INVERSION!$J$18,\"\")","v":0},{"$f":"IFERROR([11]INVERSION!$K$18,\"\")","v":0},{"$f":"IFERROR([11]INVERSION!$L$18,\"\")","v":0},{"$f":"IFERROR([11]INVERSION!$M$18,\"\")","v":0},{"$f":"IFERROR([11]INVERSION!$N$18,\"\")","v":0},{"$f":"IFERROR([11]INVERSION!$O$18,\"\")","v":0},{"$f":"IFERROR([11]INVERSION!$P$18,\"\")","v":0},{"$f":"IFERROR([11]INVERSION!$Q$18,\"\")","v":0},{"$f":"IFERROR([11]INVERSION!$R$18,\"\")","v":0},{"$f":"IFERROR([11]INVERSION!$S$18,\"\")","v":"00:00:00"},{"$f":"IFERROR([11]INVERSION!$T$18,\"\")","v":"00:00:00"},{"$f":"IFERROR([11]INVERSION!$U$18,\"\")","v":0},{"$f":"IFERROR([11]INVERSION!$V$18,\"\")","v":0},{"$f":"IFERROR([11]INVERSION!$W$18,\"\")","v":0},{"$f":"IFERROR([11]INVERSION!$X$18,\"\")","v":0},{"$f":"IFERROR([11]INVERSION!$Y$18,\"\")","v":0}]
[null,null,null,null,null,null,{"$f":"IFERROR([11]INVERSION!$G$19,\"\")","v":0},{"$f":"IFERROR([11]INVERSION!$H$19,\"\")","v":0},{"$f":"IFERROR([11]INVERSION!$I$19,\"\")","v":0},{"$f":"IFERROR([11]INVERSION!$J$19,\"\")","v":0},{"$f":"IFERROR([11]INVERSION!$K$19,\"\")","v":0},{"$f":"IFERROR([11]INVERSION!$L$19,\"\")","v":0},{"$f":"IFERROR([11]INVERSION!$M$19,\"\")","v":0},{"$f":"IFERROR([11]INVERSION!$N$19,\"\")","v":0},{"$f":"IFERROR([11]INVERSION!$O$19,\"\")","v":0},{"$f":"IFERROR([11]INVERSION!$P$19,\"\")","v":0},{"$f":"IFERROR([11]INVERSION!$Q$19,\"\")","v":0},{"$f":"IFERROR([11]INVERSION!$R$19,\"\")","v":0},{"$f":"IFERROR([11]INVERSION!$S$19,\"\")","v":"00:00:00"},{"$f":"IFERROR([11]INVERSION!$T$19,\"\")","v":"00:00:00"},{"$f":"IFERROR([11]INVERSION!$U$19,\"\")","v":0},{"$f":"IFERROR([11]INVERSION!$V$19,\"\")","v":0},{"$f":"IFERROR([11]INVERSION!$W$19,\"\")","v":0},{"$f":"IFERROR([11]INVERSION!$X$19,\"\")","v":0},{"$f":"IFERROR([11]INVERSION!$Y$19,\"\")","v":0}]
[null,null,null,null,null,null,{"$f":"IFERROR([11]INVERSION!$G$20,\"\")","v":0},{"$f":"IFERROR([11]INVERSION!$H$20,\"\")","v":0},{"$f":"IFERROR([11]INVERSION!$I$20,\"\")","v":0},{"$f":"IFERROR([11]INVERSION!$J$20,\"\")","v":0},{"$f":"IFERROR([11]INVERSION!$K$20,\"\")","v":0},{"$f":"IFERROR([11]INVERSION!$L$20,\"\")","v":0},{"$f":"IFERROR([11]INVERSION!$M$20,\"\")","v":0},{"$f":"IFERROR([11]INVERSION!$N$20,\"\")","v":0},{"$f":"IFERROR([11]INVERSION!$O$20,\"\")","v":0},{"$f":"IFERROR([11]INVERSION!$P$20,\"\")","v":0},{"$f":"IFERROR([11]INVERSION!$Q$20,\"\")","v":0},{"$f":"IFERROR([11]INVERSION!$R$20,\"\")","v":0},{"$f":"IFERROR([11]INVERSION!$S$20,\"\")","v":"00:00:00"},{"$f":"IFERROR([11]INVERSION!$T$20,\"\")","v":"00:00:00"},{"$f":"IFERROR([11]INVERSION!$U$20,\"\")","v":0},{"$f":"IFERROR([11]INVERSION!$V$20,\"\")","v":0},{"$f":"IFERROR([11]INVERSION!$W$20,\"\")","v":0},{"$f":"IFERROR([11]INVERSION!$X$20,\"\")","v":0},{"$f":"IFERROR([11]INVERSION!$Y$20,\"\")","v":0}]
[null,null,null,null,null,null,{"$f":"IFERROR([11]INVERSION!$G$21,\"\")","v":0},{"$f":"IFERROR([11]INVERSION!$H$21,\"\")","v":0},{"$f":"IFERROR([11]INVERSION!$I$21,\"\")","v":0},{"$f":"IFERROR([11]INVERSION!$J$21,\"\")","v":0},{"$f":"IFERROR([11]INVERSION!$K$21,\"\")","v":0},{"$f":"IFERROR([11]INVERSION!$L$21,\"\")","v":0},{"$f":"IFERROR([11]INVERSION!$M$21,\"\")","v":0},{"$f":"IFERROR([11]INVERSION!$N$21,\"\")","v":0},{"$f":"IFERROR([11]INVERSION!$O$21,\"\")","v":0},{"$f":"IFERROR([11]INVERSION!$P$21,\"\")","v":0},{"$f":"IFERROR([11]INVERSION!$Q$21,\"\")","v":0},{"$f":"IFERROR([11]INVERSION!$R$21,\"\")","v":0},{"$f":"IFERROR([11]INVERSION!$S$21,\"\")","v":"00:00:00"},{"$f":"IFERROR([11]INVERSION!$T$21,\"\")","v":"00:00:00"},{"$f":"IFERROR([11]INVERSION!$U$21,\"\")","v":0},{"$f":"IFERROR([11]INVERSION!$V$21,\"\")","v":0},{"$f":"IFERROR([11]INVERSION!$W$21,\"\")","v":0},{"$f":"IFERROR([11]INVERSION!$X$21,\"\")","v":0},{"$f":"IFERROR([11]INVERSION!$Y$21,\"\")","v":0}]
[null,null,null,null,null,null,{"$f":"IFERROR([11]INVERSION!$G$22,\"\")","v":0},{"$f":"IFERROR([11]INVERSION!$H$22,\"\")","v":0},{"$f":"IFERROR([11]INVERSION!$I$22,\"\")","v":0},{"$f":"IFERROR([11]INVERSION!$J$22,\"\")","v":0},{"$f":"IFERROR([11]INVERSION!$K$22,\"\")","v":0},{"$f":"IFERROR([11]INVERSION!$L$22,\"\")","v":0},{"$f":"IFERROR([11]INVERSION!$M$22,\"\")","v":0},{"$f":"IFERROR([11]INVERSION!$N$22,\"\")","v":0},{"$f":"IFERROR([11]INVERSION!$O$22,\"\")","v":0},{"$f":"IFERROR([11]INVERSION!$P$22,\"\")","v":0},{"$f":"IFERROR([11]INVERSION!$Q$22,\"\")","v":0},{"$f":"IFERROR([11]INVERSION!$R$22,\"\")","v":0},{"$f":"IFERROR([11]INVERSION!$S$22,\"\")","v":"00:00:00"},{"$f":"IFERROR([11]INVERSION!$T$22,\"\")","v":"00:00:00"},{"$f":"IFERROR([11]INVERSION!$U$22,\"\")","v":0},{"$f":"IFERROR([11]INVERSION!$V$22,\"\")","v":0},{"$f":"IFERROR([11]INVERSION!$W$22,\"\")","v":0},{"$f":"IFERROR([11]INVERSION!$X$22,\"\")","v":0},{"$f":"IFERROR([11]INVERSION!$Y$22,\"\")","v":0}]
[null,null,null,null,null,null,{"$f":"IFERROR([11]INVERSION!$G$23,\"\")","v":0},{"$f":"IFERROR([11]INVERSION!$H$23,\"\")","v":0},{"$f":"IFERROR([11]INVERSION!$I$23,\"\")","v":0},{"$f":"IFERROR([11]INVERSION!$J$23,\"\")","v":0},{"$f":"IFERROR([11]INVERSION!$K$23,\"\")","v":0},{"$f":"IFERROR([11]INVERSION!$L$23,\"\")","v":0},{"$f":"IFERROR([11]INVERSION!$M$23,\"\")","v":0},{"$f":"IFERROR([11]INVERSION!$N$23,\"\")","v":0},{"$f":"IFERROR([11]INVERSION!$O$23,\"\")","v":0},{"$f":"IFERROR([11]INVERSION!$P$23,\"\")","v":0},{"$f":"IFERROR([11]INVERSION!$Q$23,\"\")","v":0},{"$f":"IFERROR([11]INVERSION!$R$23,\"\")","v":0},{"$f":"IFERROR([11]INVERSION!$S$23,\"\")","v":"00:00:00"},{"$f":"IFERROR([11]INVERSION!$T$23,\"\")","v":"00:00:00"},{"$f":"IFERROR([11]INVERSION!$U$23,\"\")","v":0},{"$f":"IFERROR([11]INVERSION!$V$23,\"\")","v":0},{"$f":"IFERROR([11]INVERSION!$W$23,\"\")","v":0},{"$f":"IFERROR([11]INVERSION!$X$23,\"\")","v":0},{"$f":"IFERROR([11]INVERSION!$Y$23,\"\")","v":0},null,null,null,"","",null,0]
[null,null,null,null,null,null,{"$f":"IFERROR([11]INVERSION!$G$24,\"\")","v":0},{"$f":"IFERROR([11]INVERSION!$H$24,\"\")","v":0},{"$f":"IFERROR([11]INVERSION!$I$24,\"\")","v":0},{"$f":"IFERROR([11]INVERSION!$J$24,\"\")","v":0},{"$f":"IFERROR([11]INVERSION!$K$24,\"\")","v":0},{"$f":"IFERROR([11]INVERSION!$L$24,\"\")","v":0},{"$f":"IFERROR([11]INVERSION!$M$24,\"\")","v":0},{"$f":"IFERROR([11]INVERSION!$N$24,\"\")","v":0},{"$f":"IFERROR([11]INVERSION!$O$24,\"\")","v":0},{"$f":"IFERROR([11]INVERSION!$P$24,\"\")","v":0},{"$f":"IFERROR([11]INVERSION!$Q$24,\"\")","v":0},{"$f":"IFERROR([11]INVERSION!$R$24,\"\")","v":0},{"$f":"IFERROR([11]INVERSION!$S$24,\"\")","v":"00:00:00"},{"$f":"IFERROR([11]INVERSION!$T$24,\"\")","v":"00:00:00"},{"$f":"IFERROR([11]INVERSION!$U$24,\"\")","v":0},{"$f":"IFERROR([11]INVERSION!$V$24,\"\")","v":0},{"$f":"IFERROR([11]INVERSION!$W$24,\"\")","v":0},{"$f":"IFERROR([11]INVERSION!$X$24,\"\")","v":0},{"$f":"IFERROR([11]INVERSION!$Y$24,\"\")","v":0},null,null,null,"","",null,0]
[null,null,null,null,null,null,{"$f":"IFERROR([11]INVERSION!$G$25,\"\")","v":0},{"$f":"IFERROR([11]INVERSION!$H$25,\"\")","v":0},{"$f":"IFERROR([11]INVERSION!$I$25,\"\")","v":0},{"$f":"IFERROR([11]INVERSION!$J$25,\"\")","v":0},{"$f":"IFERROR([11]INVERSION!$K$25,\"\")","v":0},{"$f":"IFERROR([11]INVERSION!$L$25,\"\")","v":0},{"$f":"IFERROR([11]INVERSION!$M$25,\"\")","v":0},{"$f":"IFERROR([11]INVERSION!$N$25,\"\")","v":0},{"$f":"IFERROR([11]INVERSION!$O$25,\"\")","v":0},{"$f":"IFERROR([11]INVERSION!$P$25,\"\")","v":0},{"$f":"IFERROR([11]INVERSION!$Q$25,\"\")","v":0},{"$f":"IFERROR([11]INVERSION!$R$25,\"\")","v":0},{"$f":"IFERROR([11]INVERSION!$S$25,\"\")","v":"00:00:00"},{"$f":"IFERROR([11]INVERSION!$T$25,\"\")","v":"00:00:00"},{"$f":"IFERROR([11]INVERSION!$U$25,\"\")","v":0},{"$f":"IFERROR([11]INVERSION!$V$25,\"\")","v":0},{"$f":"IFERROR([11]INVERSION!$W$25,\"\")","v":0},{"$f":"IFERROR([11]INVERSION!$X$25,\"\")","v":0},{"$f":"IFERROR([11]INVERSION!$Y$25,\"\")","v":0},null,null,null,"","",null,0]
[null,null,"3. Coadyuvar en la garantía de la idoneidad en el ejercicio de la profesión jurídica de acuerdo con lo establecido en la Ley 1905 de 2018.",null,null,"2. Asegurar  el cumplimiento de los objetivos institucionales, la normatividad aplicable,  la mejora del SIGCMA y la satisfacción de los usuarios, revisando de  forma continua y sistemática la planificación de la gestión y fortaleciendo la administración de riesgos y sus controles",{"$f":"IFERROR([11]INVERSION!$G$26,\"\")","v":0},{"$f":"IFERROR([11]INVERSION!$H$26,\"\")","v":0},{"$f":"IFERROR([11]INVERSION!$I$26,\"\")","v":0},{"$f":"IFERROR([11]INVERSION!$J$26,\"\")","v":0},{"$f":"IFERROR([11]INVERSION!$K$26,\"\")","v":0},{"$f":"IFERROR([11]INVERSION!$L$26,\"\")","v":0},{"$f":"IFERROR([11]INVERSION!$M$26,\"\")","v":0},{"$f":"IFERROR([11]INVERSION!$N$26,\"\")","v":0},{"$f":"IFERROR([11]INVERSION!$O$26,\"\")","v":0},{"$f":"IFERROR([11]INVERSION!$P$26,\"\")","v":0},{"$f":"IFERROR([11]INVERSION!$Q$26,\"\")","v":0},{"$f":"IFERROR([11]INVERSION!$R$26,\"\")","v":0},{"$f":"IFERROR([11]INVERSION!$S$26,\"\")","v":"00:00:00"},{"$f":"IFERROR([11]INVERSION!$T$26,\"\")","v":"00:00:00"},{"$f":"IFERROR([11]INVERSION!$U$26,\"\")","v":0},{"$f":"IFERROR([11]INVERSION!$V$26,\"\")","v":0},{"$f":"IFERROR([11]INVERSION!$W$26,\"\")","v":0},{"$f":"IFERROR([11]INVERSION!$X$26,\"\")","v":0},{"$f":"IFERROR([11]INVERSION!$Y$26,\"\")","v":0},null,null,null,"","",null,0]
[null,null,null,null,null,null,{"$f":"IFERROR([11]INVERSION!$G$27,\"\")","v":0},{"$f":"IFERROR([11]INVERSION!$H$27,\"\")","v":0},{"$f":"IFERROR([11]INVERSION!$I$27,\"\")","v":0},{"$f":"IFERROR([11]INVERSION!$J$27,\"\")","v":0},{"$f":"IFERROR([11]INVERSION!$K$27,\"\")","v":0},{"$f":"IFERROR([11]INVERSION!$L$27,\"\")","v":0},{"$f":"IFERROR([11]INVERSION!$M$27,\"\")","v":0},{"$f":"IFERROR([11]INVERSION!$N$27,\"\")","v":0},{"$f":"IFERROR([11]INVERSION!$O$27,\"\")","v":0},{"$f":"IFERROR([11]INVERSION!$P$27,\"\")","v":0},{"$f":"IFERROR([11]INVERSION!$Q$27,\"\")","v":0},{"$f":"IFERROR([11]INVERSION!$R$27,\"\")","v":0},{"$f":"IFERROR([11]INVERSION!$S$27,\"\")","v":"00:00:00"},{"$f":"IFERROR([11]INVERSION!$T$27,\"\")","v":"00:00:00"},{"$f":"IFERROR([11]INVERSION!$U$27,\"\")","v":0},{"$f":"IFERROR([11]INVERSION!$V$27,\"\")","v":0},{"$f":"IFERROR([11]INVERSION!$W$27,\"\")","v":0},{"$f":"IFERROR([11]INVERSION!$X$27,\"\")","v":0},{"$f":"IFERROR([11]INVERSION!$Y$27,\"\")","v":0},null,null,null,"","",null,0]
[null,null,null,null,null,null,{"$f":"IFERROR([11]INVERSION!$G$28,\"\")","v":0},{"$f":"IFERROR([11]INVERSION!$H$28,\"\")","v":0},{"$f":"IFERROR([11]INVERSION!$I$28,\"\")","v":0},{"$f":"IFERROR([11]INVERSION!$J$28,\"\")","v":0},{"$f":"IFERROR([11]INVERSION!$K$28,\"\")","v":0},{"$f":"IFERROR([11]INVERSION!$L$28,\"\")","v":0},{"$f":"IFERROR([11]INVERSION!$M$28,\"\")","v":0},{"$f":"IFERROR([11]INVERSION!$N$28,\"\")","v":0},{"$f":"IFERROR([11]INVERSION!$O$28,\"\")","v":0},{"$f":"IFERROR([11]INVERSION!$P$28,\"\")","v":0},{"$f":"IFERROR([11]INVERSION!$Q$28,\"\")","v":0},{"$f":"IFERROR([11]INVERSION!$R$28,\"\")","v":0},{"$f":"IFERROR([11]INVERSION!$S$28,\"\")","v":"00:00:00"},{"$f":"IFERROR([11]INVERSION!$T$28,\"\")","v":"00:00:00"},{"$f":"IFERROR([11]INVERSION!$U$28,\"\")","v":0},{"$f":"IFERROR([11]INVERSION!$V$28,\"\")","v":0},{"$f":"IFERROR([11]INVERSION!$W$28,\"\")","v":0},{"$f":"IFERROR([11]INVERSION!$X$28,\"\")","v":0},{"$f":"IFERROR([11]INVERSION!$Y$28,\"\")","v":0}]
[null,null,null,null,null,null,{"$f":"IFERROR([11]INVERSION!$G$29,\"\")","v":0},{"$f":"IFERROR([11]INVERSION!$H$29,\"\")","v":0},{"$f":"IFERROR([11]INVERSION!$I$29,\"\")","v":0},{"$f":"IFERROR([11]INVERSION!$J$29,\"\")","v":0},{"$f":"IFERROR([11]INVERSION!$K$29,\"\")","v":0},{"$f":"IFERROR([11]INVERSION!$L$29,\"\")","v":0},{"$f":"IFERROR([11]INVERSION!$M$29,\"\")","v":0},{"$f":"IFERROR([11]INVERSION!$N$29,\"\")","v":0},{"$f":"IFERROR([11]INVERSION!$O$29,\"\")","v":0},{"$f":"IFERROR([11]INVERSION!$P$29,\"\")","v":0},{"$f":"IFERROR([11]INVERSION!$Q$29,\"\")","v":0},{"$f":"IFERROR([11]INVERSION!$R$29,\"\")","v":0},{"$f":"IFERROR([11]INVERSION!$S$29,\"\")","v":"00:00:00"},{"$f":"IFERROR([11]INVERSION!$T$29,\"\")","v":"00:00:00"},{"$f":"IFERROR([11]INVERSION!$U$29,\"\")","v":0},{"$f":"IFERROR([11]INVERSION!$V$29,\"\")","v":0},{"$f":"IFERROR([11]INVERSION!$W$29,\"\")","v":0},{"$f":"IFERROR([11]INVERSION!$X$29,\"\")","v":0},{"$f":"IFERROR([11]INVERSION!$Y$29,\"\")","v":0}]
[null,null,null,null,null,null,{"$f":"IFERROR([11]INVERSION!$G$30,\"\")","v":0},{"$f":"IFERROR([11]INVERSION!$H$30,\"\")","v":0},{"$f":"IFERROR([11]INVERSION!$I$30,\"\")","v":0},{"$f":"IFERROR([11]INVERSION!$J$30,\"\")","v":0},{"$f":"IFERROR([11]INVERSION!$K$30,\"\")","v":0},{"$f":"IFERROR([11]INVERSION!$L$30,\"\")","v":0},{"$f":"IFERROR([11]INVERSION!$M$30,\"\")","v":0},{"$f":"IFERROR([11]INVERSION!$N$30,\"\")","v":0},{"$f":"IFERROR([11]INVERSION!$O$30,\"\")","v":0},{"$f":"IFERROR([11]INVERSION!$P$30,\"\")","v":0},{"$f":"IFERROR([11]INVERSION!$Q$30,\"\")","v":0},{"$f":"IFERROR([11]INVERSION!$R$30,\"\")","v":0},{"$f":"IFERROR([11]INVERSION!$S$30,\"\")","v":"00:00:00"},{"$f":"IFERROR([11]INVERSION!$T$30,\"\")","v":"00:00:00"},{"$f":"IFERROR([11]INVERSION!$U$30,\"\")","v":0},{"$f":"IFERROR([11]INVERSION!$V$30,\"\")","v":0},{"$f":"IFERROR([11]INVERSION!$W$30,\"\")","v":0},{"$f":"IFERROR([11]INVERSION!$X$30,\"\")","v":0},{"$f":"IFERROR([11]INVERSION!$Y$30,\"\")","v":0}]
[null,null,null,null,null,null,{"$f":"IFERROR([11]INVERSION!$G$31,\"\")","v":0},{"$f":"IFERROR([11]INVERSION!$H$31,\"\")","v":0},{"$f":"IFERROR([11]INVERSION!$I$31,\"\")","v":0},{"$f":"IFERROR([11]INVERSION!$J$31,\"\")","v":0},{"$f":"IFERROR([11]INVERSION!$K$31,\"\")","v":0},{"$f":"IFERROR([11]INVERSION!$L$31,\"\")","v":0},{"$f":"IFERROR([11]INVERSION!$M$31,\"\")","v":0},{"$f":"IFERROR([11]INVERSION!$N$31,\"\")","v":0},{"$f":"IFERROR([11]INVERSION!$O$31,\"\")","v":0},{"$f":"IFERROR([11]INVERSION!$P$31,\"\")","v":0},{"$f":"IFERROR([11]INVERSION!$Q$31,\"\")","v":0},{"$f":"IFERROR([11]INVERSION!$R$31,\"\")","v":0},{"$f":"IFERROR([11]INVERSION!$S$31,\"\")","v":"00:00:00"},{"$f":"IFERROR([11]INVERSION!$T$31,\"\")","v":"00:00:00"},{"$f":"IFERROR([11]INVERSION!$U$31,\"\")","v":0},{"$f":"IFERROR([11]INVERSION!$V$31,\"\")","v":0},{"$f":"IFERROR([11]INVERSION!$W$31,\"\")","v":0},{"$f":"IFERROR([11]INVERSION!$X$31,\"\")","v":0},{"$f":"IFERROR([11]INVERSION!$Y$31,\"\")","v":0}]
[null,null,null,null,null,null,{"$f":"IFERROR([11]INVERSION!$G$32,\"\")","v":0},{"$f":"IFERROR([11]INVERSION!$H$32,\"\")","v":0},{"$f":"IFERROR([11]INVERSION!$I$32,\"\")","v":0},{"$f":"IFERROR([11]INVERSION!$J$32,\"\")","v":0},{"$f":"IFERROR([11]INVERSION!$K$32,\"\")","v":0},{"$f":"IFERROR([11]INVERSION!$L$32,\"\")","v":0},{"$f":"IFERROR([11]INVERSION!$M$32,\"\")","v":0},{"$f":"IFERROR([11]INVERSION!$N$32,\"\")","v":0},{"$f":"IFERROR([11]INVERSION!$O$32,\"\")","v":0},{"$f":"IFERROR([11]INVERSION!$P$32,\"\")","v":0},{"$f":"IFERROR([11]INVERSION!$Q$32,\"\")","v":0},{"$f":"IFERROR([11]INVERSION!$R$32,\"\")","v":0},{"$f":"IFERROR([11]INVERSION!$S$32,\"\")","v":"00:00:00"},{"$f":"IFERROR([11]INVERSION!$T$32,\"\")","v":"00:00:00"},{"$f":"IFERROR([11]INVERSION!$U$32,\"\")","v":0},{"$f":"IFERROR([11]INVERSION!$V$32,\"\")","v":0},{"$f":"IFERROR([11]INVERSION!$W$32,\"\")","v":0},{"$f":"IFERROR([11]INVERSION!$X$32,\"\")","v":0},{"$f":"IFERROR([11]INVERSION!$Y$32,\"\")","v":0}]
[null,null,null,null,null,null,{"$f":"IFERROR([11]INVERSION!$G$33,\"\")","v":0},{"$f":"IFERROR([11]INVERSION!$H$33,\"\")","v":0},{"$f":"IFERROR([11]INVERSION!$I$33,\"\")","v":0},{"$f":"IFERROR([11]INVERSION!$J$33,\"\")","v":0},{"$f":"IFERROR([11]INVERSION!$K$33,\"\")","v":0},{"$f":"IFERROR([11]INVERSION!$L$33,\"\")","v":0},{"$f":"IFERROR([11]INVERSION!$M$33,\"\")","v":0},{"$f":"IFERROR([11]INVERSION!$N$33,\"\")","v":0},{"$f":"IFERROR([11]INVERSION!$O$33,\"\")","v":0},{"$f":"IFERROR([11]INVERSION!$P$33,\"\")","v":0},{"$f":"IFERROR([11]INVERSION!$Q$33,\"\")","v":0},{"$f":"IFERROR([11]INVERSION!$R$33,\"\")","v":0},{"$f":"IFERROR([11]INVERSION!$S$33,\"\")","v":"00:00:00"},{"$f":"IFERROR([11]INVERSION!$T$33,\"\")","v":"00:00:00"},{"$f":"IFERROR([11]INVERSION!$U$33,\"\")","v":0},{"$f":"IFERROR([11]INVERSION!$V$33,\"\")","v":0},{"$f":"IFERROR([11]INVERSION!$W$33,\"\")","v":0},{"$f":"IFERROR([11]INVERSION!$X$33,\"\")","v":0},{"$f":"IFERROR([11]INVERSION!$Y$33,\"\")","v":0},null,null,null,"","",null,0]
[null,null,null,null,null,null,{"$f":"IFERROR([11]INVERSION!$G$34,\"\")","v":0},{"$f":"IFERROR([11]INVERSION!$H$34,\"\")","v":0},{"$f":"IFERROR([11]INVERSION!$I$34,\"\")","v":0},{"$f":"IFERROR([11]INVERSION!$J$34,\"\")","v":0},{"$f":"IFERROR([11]INVERSION!$K$34,\"\")","v":0},{"$f":"IFERROR([11]INVERSION!$L$34,\"\")","v":0},{"$f":"IFERROR([11]INVERSION!$M$34,\"\")","v":0},{"$f":"IFERROR([11]INVERSION!$N$34,\"\")","v":0},{"$f":"IFERROR([11]INVERSION!$O$34,\"\")","v":0},{"$f":"IFERROR([11]INVERSION!$P$34,\"\")","v":0},{"$f":"IFERROR([11]INVERSION!$Q$34,\"\")","v":0},{"$f":"IFERROR([11]INVERSION!$R$34,\"\")","v":0},{"$f":"IFERROR([11]INVERSION!$S$34,\"\")","v":"00:00:00"},{"$f":"IFERROR([11]INVERSION!$T$34,\"\")","v":"00:00:00"},{"$f":"IFERROR([11]INVERSION!$U$34,\"\")","v":0},{"$f":"IFERROR([11]INVERSION!$V$34,\"\")","v":0},{"$f":"IFERROR([11]INVERSION!$W$34,\"\")","v":0},{"$f":"IFERROR([11]INVERSION!$X$34,\"\")","v":0},{"$f":"IFERROR([11]INVERSION!$Y$34,\"\")","v":0},null,null,null,"","",null,0]
[null,null,null,null,null,null,{"$f":"IFERROR([11]INVERSION!$G$35,\"\")","v":0},{"$f":"IFERROR([11]INVERSION!$H$35,\"\")","v":0},{"$f":"IFERROR([11]INVERSION!$I$35,\"\")","v":0},{"$f":"IFERROR([11]INVERSION!$J$35,\"\")","v":0},{"$f":"IFERROR([11]INVERSION!$K$35,\"\")","v":0},{"$f":"IFERROR([11]INVERSION!$L$35,\"\")","v":0},{"$f":"IFERROR([11]INVERSION!$M$35,\"\")","v":0},{"$f":"IFERROR([11]INVERSION!$N$35,\"\")","v":0},{"$f":"IFERROR([11]INVERSION!$O$35,\"\")","v":0},{"$f":"IFERROR([11]INVERSION!$P$35,\"\")","v":0},{"$f":"IFERROR([11]INVERSION!$Q$35,\"\")","v":0},{"$f":"IFERROR([11]INVERSION!$R$35,\"\")","v":0},{"$f":"IFERROR([11]INVERSION!$S$35,\"\")","v":"00:00:00"},{"$f":"IFERROR([11]INVERSION!$T$35,\"\")","v":"00:00:00"},{"$f":"IFERROR([11]INVERSION!$U$35,\"\")","v":0},{"$f":"IFERROR([11]INVERSION!$V$35,\"\")","v":0},{"$f":"IFERROR([11]INVERSION!$W$35,\"\")","v":0},{"$f":"IFERROR([11]INVERSION!$X$35,\"\")","v":0},{"$f":"IFERROR([11]INVERSION!$Y$35,\"\")","v":0},null,null,null,"","",null,0]
[null,null,"4. Avanzar en la disposición de una infraestructura óptima para el acceso a la justicia en la Rama Judicial de modo que se fortalezca la presencia territorial, teniendo en cuenta las posibilidades que ofrece la transformación digital y las necesidades que se derivan de ella, y considerando tanto las necesidades de los usuarios como las de los servidores judiciales.","Diseños para la construcción de despachos judiciales","# de sedes proyectada s para construir o intervenir en el cuatrienio / # sedes efectivamen te construidas o intervenidas\n\nTotal de\ndiseños aprobados","4. Hacer un uso racional de los recursos naturales aplicando los principios y fases de la Economía Circular, para prevenir, mitigar y controlar los impactos ambientales",{"$f":"IFERROR([11]INVERSION!$G$36,\"\")","v":0},{"$f":"IFERROR([11]INVERSION!$H$36,\"\")","v":0},{"$f":"IFERROR([11]INVERSION!$I$36,\"\")","v":0},{"$f":"IFERROR([11]INVERSION!$J$36,\"\")","v":0},{"$f":"IFERROR([11]INVERSION!$K$36,\"\")","v":0},{"$f":"IFERROR([11]INVERSION!$L$36,\"\")","v":0},{"$f":"IFERROR([11]INVERSION!$M$36,\"\")","v":0},{"$f":"IFERROR([11]INVERSION!$N$36,\"\")","v":0},{"$f":"IFERROR([11]INVERSION!$O$36,\"\")","v":0},{"$f":"IFERROR([11]INVERSION!$P$36,\"\")","v":0},{"$f":"IFERROR([11]INVERSION!$Q$36,\"\")","v":0},{"$f":"IFERROR([11]INVERSION!$R$36,\"\")","v":0},{"$f":"IFERROR([11]INVERSION!$S$36,\"\")","v":"00:00:00"},{"$f":"IFERROR([11]INVERSION!$T$36,\"\")","v":"00:00:00"},{"$f":"IFERROR([11]INVERSION!$U$36,\"\")","v":0},{"$f":"IFERROR([11]INVERSION!$V$36,\"\")","v":0},{"$f":"IFERROR([11]INVERSION!$W$36,\"\")","v":0},{"$f":"IFERROR([11]INVERSION!$X$36,\"\")","v":0},{"$f":"IFERROR([11]INVERSION!$Y$36,\"\")","v":0},null,null,null,"","",null,0]
[null,null,null,null,null,null,{"$f":"IFERROR([11]INVERSION!$G$37,\"\")","v":0},{"$f":"IFERROR([11]INVERSION!$H$37,\"\")","v":0},{"$f":"IFERROR([11]INVERSION!$I$37,\"\")","v":0},{"$f":"IFERROR([11]INVERSION!$J$37,\"\")","v":0},{"$f":"IFERROR([11]INVERSION!$K$37,\"\")","v":0},{"$f":"IFERROR([11]INVERSION!$L$37,\"\")","v":0},{"$f":"IFERROR([11]INVERSION!$M$37,\"\")","v":0},{"$f":"IFERROR([11]INVERSION!$N$37,\"\")","v":0},{"$f":"IFERROR([11]INVERSION!$O$37,\"\")","v":0},{"$f":"IFERROR([11]INVERSION!$P$37,\"\")","v":0},{"$f":"IFERROR([11]INVERSION!$Q$37,\"\")","v":0},{"$f":"IFERROR([11]INVERSION!$R$37,\"\")","v":0},{"$f":"IFERROR([11]INVERSION!$S$37,\"\")","v":"00:00:00"},{"$f":"IFERROR([11]INVERSION!$T$37,\"\")","v":"00:00:00"},{"$f":"IFERROR([11]INVERSION!$U$37,\"\")","v":0},{"$f":"IFERROR([11]INVERSION!$V$37,\"\")","v":0},{"$f":"IFERROR([11]INVERSION!$W$37,\"\")","v":0},{"$f":"IFERROR([11]INVERSION!$X$37,\"\")","v":0},{"$f":"IFERROR([11]INVERSION!$Y$37,\"\")","v":0},null,null,null,"","",null,0]
[null,null,null,null,null,null,{"$f":"IFERROR([11]INVERSION!$G$38,\"\")","v":0},{"$f":"IFERROR([11]INVERSION!$H$38,\"\")","v":0},{"$f":"IFERROR([11]INVERSION!$I$38,\"\")","v":0},{"$f":"IFERROR([11]INVERSION!$J$38,\"\")","v":0},{"$f":"IFERROR([11]INVERSION!$K$38,\"\")","v":0},{"$f":"IFERROR([11]INVERSION!$L$38,\"\")","v":0},{"$f":"IFERROR([11]INVERSION!$M$38,\"\")","v":0},{"$f":"IFERROR([11]INVERSION!$N$38,\"\")","v":0},{"$f":"IFERROR([11]INVERSION!$O$38,\"\")","v":0},{"$f":"IFERROR([11]INVERSION!$P$38,\"\")","v":0},{"$f":"IFERROR([11]INVERSION!$Q$38,\"\")","v":0},{"$f":"IFERROR([11]INVERSION!$R$38,\"\")","v":0},{"$f":"IFERROR([11]INVERSION!$S$38,\"\")","v":"00:00:00"},{"$f":"IFERROR([11]INVERSION!$T$38,\"\")","v":"00:00:00"},{"$f":"IFERROR([11]INVERSION!$U$38,\"\")","v":0},{"$f":"IFERROR([11]INVERSION!$V$38,\"\")","v":0},{"$f":"IFERROR([11]INVERSION!$W$38,\"\")","v":0},{"$f":"IFERROR([11]INVERSION!$X$38,\"\")","v":0},{"$f":"IFERROR([11]INVERSION!$Y$38,\"\")","v":0}]
[null,null,null,null,null,null,{"$f":"IFERROR([11]INVERSION!$G$39,\"\")","v":0},{"$f":"IFERROR([11]INVERSION!$H$39,\"\")","v":0},{"$f":"IFERROR([11]INVERSION!$I$39,\"\")","v":0},{"$f":"IFERROR([11]INVERSION!$J$39,\"\")","v":0},{"$f":"IFERROR([11]INVERSION!$K$39,\"\")","v":0},{"$f":"IFERROR([11]INVERSION!$L$39,\"\")","v":0},{"$f":"IFERROR([11]INVERSION!$M$39,\"\")","v":0},{"$f":"IFERROR([11]INVERSION!$N$39,\"\")","v":0},{"$f":"IFERROR([11]INVERSION!$O$39,\"\")","v":0},{"$f":"IFERROR([11]INVERSION!$P$39,\"\")","v":0},{"$f":"IFERROR([11]INVERSION!$Q$39,\"\")","v":0},{"$f":"IFERROR([11]INVERSION!$R$39,\"\")","v":0},{"$f":"IFERROR([11]INVERSION!$S$39,\"\")","v":"00:00:00"},{"$f":"IFERROR([11]INVERSION!$T$39,\"\")","v":"00:00:00"},{"$f":"IFERROR([11]INVERSION!$U$39,\"\")","v":0},{"$f":"IFERROR([11]INVERSION!$V$39,\"\")","v":0},{"$f":"IFERROR([11]INVERSION!$W$39,\"\")","v":0},{"$f":"IFERROR([11]INVERSION!$X$39,\"\")","v":0},{"$f":"IFERROR([11]INVERSION!$Y$39,\"\")","v":0}]
[null,null,null,null,null,null,{"$f":"IFERROR([11]INVERSION!$G$40,\"\")","v":0},{"$f":"IFERROR([11]INVERSION!$H$40,\"\")","v":0},{"$f":"IFERROR([11]INVERSION!$I$40,\"\")","v":0},{"$f":"IFERROR([11]INVERSION!$J$40,\"\")","v":0},{"$f":"IFERROR([11]INVERSION!$K$40,\"\")","v":0},{"$f":"IFERROR([11]INVERSION!$L$40,\"\")","v":0},{"$f":"IFERROR([11]INVERSION!$M$40,\"\")","v":0},{"$f":"IFERROR([11]INVERSION!$N$40,\"\")","v":0},{"$f":"IFERROR([11]INVERSION!$O$40,\"\")","v":0},{"$f":"IFERROR([11]INVERSION!$P$40,\"\")","v":0},{"$f":"IFERROR([11]INVERSION!$Q$40,\"\")","v":0},{"$f":"IFERROR([11]INVERSION!$R$40,\"\")","v":0},{"$f":"IFERROR([11]INVERSION!$S$40,\"\")","v":"00:00:00"},{"$f":"IFERROR([11]INVERSION!$T$40,\"\")","v":"00:00:00"},{"$f":"IFERROR([11]INVERSION!$U$40,\"\")","v":0},{"$f":"IFERROR([11]INVERSION!$V$40,\"\")","v":0},{"$f":"IFERROR([11]INVERSION!$W$40,\"\")","v":0},{"$f":"IFERROR([11]INVERSION!$X$40,\"\")","v":0},{"$f":"IFERROR([11]INVERSION!$Y$40,\"\")","v":0}]
[null,null,null,null,null,null,{"$f":"IFERROR([11]INVERSION!$G$41,\"\")","v":0},{"$f":"IFERROR([11]INVERSION!$H$41,\"\")","v":0},{"$f":"IFERROR([11]INVERSION!$I$41,\"\")","v":0},{"$f":"IFERROR([11]INVERSION!$J$41,\"\")","v":0},{"$f":"IFERROR([11]INVERSION!$K$41,\"\")","v":0},{"$f":"IFERROR([11]INVERSION!$L$41,\"\")","v":0},{"$f":"IFERROR([11]INVERSION!$M$41,\"\")","v":0},{"$f":"IFERROR([11]INVERSION!$N$41,\"\")","v":0},{"$f":"IFERROR([11]INVERSION!$O$41,\"\")","v":0},{"$f":"IFERROR([11]INVERSION!$P$41,\"\")","v":0},{"$f":"IFERROR([11]INVERSION!$Q$41,\"\")","v":0},{"$f":"IFERROR([11]INVERSION!$R$41,\"\")","v":0},{"$f":"IFERROR([11]INVERSION!$S$41,\"\")","v":"00:00:00"},{"$f":"IFERROR([11]INVERSION!$T$41,\"\")","v":"00:00:00"},{"$f":"IFERROR([11]INVERSION!$U$41,\"\")","v":0},{"$f":"IFERROR([11]INVERSION!$V$41,\"\")","v":0},{"$f":"IFERROR([11]INVERSION!$W$41,\"\")","v":0},{"$f":"IFERROR([11]INVERSION!$X$41,\"\")","v":0},{"$f":"IFERROR([11]INVERSION!$Y$41,\"\")","v":0}]
[null,null,null,null,null,null,{"$f":"IFERROR([11]INVERSION!$G$42,\"\")","v":0},{"$f":"IFERROR([11]INVERSION!$H$42,\"\")","v":0},{"$f":"IFERROR([11]INVERSION!$I$42,\"\")","v":0},{"$f":"IFERROR([11]INVERSION!$J$42,\"\")","v":0},{"$f":"IFERROR([11]INVERSION!$K$42,\"\")","v":0},{"$f":"IFERROR([11]INVERSION!$L$42,\"\")","v":0},{"$f":"IFERROR([11]INVERSION!$M$42,\"\")","v":0},{"$f":"IFERROR([11]INVERSION!$N$42,\"\")","v":0},{"$f":"IFERROR([11]INVERSION!$O$42,\"\")","v":0},{"$f":"IFERROR([11]INVERSION!$P$42,\"\")","v":0},{"$f":"IFERROR([11]INVERSION!$Q$42,\"\")","v":0},{"$f":"IFERROR([11]INVERSION!$R$42,\"\")","v":0},{"$f":"IFERROR([11]INVERSION!$S$42,\"\")","v":"00:00:00"},{"$f":"IFERROR([11]INVERSION!$T$42,\"\")","v":"00:00:00"},{"$f":"IFERROR([11]INVERSION!$U$42,\"\")","v":0},{"$f":"IFERROR([11]INVERSION!$V$42,\"\")","v":0},{"$f":"IFERROR([11]INVERSION!$W$42,\"\")","v":0},{"$f":"IFERROR([11]INVERSION!$X$42,\"\")","v":0},{"$f":"IFERROR([11]INVERSION!$Y$42,\"\")","v":0}]
[null,null,null,null,null,null,{"$f":"IFERROR([11]INVERSION!$G$43,\"\")","v":0},{"$f":"IFERROR([11]INVERSION!$H$43,\"\")","v":0},{"$f":"IFERROR([11]INVERSION!$I$43,\"\")","v":0},{"$f":"IFERROR([11]INVERSION!$J$43,\"\")","v":0},{"$f":"IFERROR([11]INVERSION!$K$43,\"\")","v":0},{"$f":"IFERROR([11]INVERSION!$L$43,\"\")","v":0},{"$f":"IFERROR([11]INVERSION!$M$43,\"\")","v":0},{"$f":"IFERROR([11]INVERSION!$N$43,\"\")","v":0},{"$f":"IFERROR([11]INVERSION!$O$43,\"\")","v":0},{"$f":"IFERROR([11]INVERSION!$P$43,\"\")","v":0},{"$f":"IFERROR([11]INVERSION!$Q$43,\"\")","v":0},{"$f":"IFERROR([11]INVERSION!$R$43,\"\")","v":0},{"$f":"IFERROR([11]INVERSION!$S$43,\"\")","v":"00:00:00"},{"$f":"IFERROR([11]INVERSION!$T$43,\"\")","v":"00:00:00"},{"$f":"IFERROR([11]INVERSION!$U$43,\"\")","v":0},{"$f":"IFERROR([11]INVERSION!$V$43,\"\")","v":0},{"$f":"IFERROR([11]INVERSION!$W$43,\"\")","v":0},{"$f":"IFERROR([11]INVERSION!$X$43,\"\")","v":0},{"$f":"IFERROR([11]INVERSION!$Y$43,\"\")","v":0},null,null,null,"","",null,0]
[null,null,null,null,null,null,{"$f":"IFERROR([11]INVERSION!$G$44,\"\")","v":0},{"$f":"IFERROR([11]INVERSION!$H$44,\"\")","v":0},{"$f":"IFERROR([11]INVERSION!$I$44,\"\")","v":0},{"$f":"IFERROR([11]INVERSION!$J$44,\"\")","v":0},{"$f":"IFERROR([11]INVERSION!$K$44,\"\")","v":0},{"$f":"IFERROR([11]INVERSION!$L$44,\"\")","v":0},{"$f":"IFERROR([11]INVERSION!$M$44,\"\")","v":0},{"$f":"IFERROR([11]INVERSION!$N$44,\"\")","v":0},{"$f":"IFERROR([11]INVERSION!$O$44,\"\")","v":0},{"$f":"IFERROR([11]INVERSION!$P$44,\"\")","v":0},{"$f":"IFERROR([11]INVERSION!$Q$44,\"\")","v":0},{"$f":"IFERROR([11]INVERSION!$R$44,\"\")","v":0},{"$f":"IFERROR([11]INVERSION!$S$44,\"\")","v":"00:00:00"},{"$f":"IFERROR([11]INVERSION!$T$44,\"\")","v":"00:00:00"},{"$f":"IFERROR([11]INVERSION!$U$44,\"\")","v":0},{"$f":"IFERROR([11]INVERSION!$V$44,\"\")","v":0},{"$f":"IFERROR([11]INVERSION!$W$44,\"\")","v":0},{"$f":"IFERROR([11]INVERSION!$X$44,\"\")","v":0},{"$f":"IFERROR([11]INVERSION!$Y$44,\"\")","v":0},null,null,null,"","",null,0]
[null,null,null,null,null,null,{"$f":"IFERROR([11]INVERSION!$G$45,\"\")","v":0},{"$f":"IFERROR([11]INVERSION!$H$45,\"\")","v":0},{"$f":"IFERROR([11]INVERSION!$I$45,\"\")","v":0},{"$f":"IFERROR([11]INVERSION!$J$45,\"\")","v":0},{"$f":"IFERROR([11]INVERSION!$K$45,\"\")","v":0},{"$f":"IFERROR([11]INVERSION!$L$45,\"\")","v":0},{"$f":"IFERROR([11]INVERSION!$M$45,\"\")","v":0},{"$f":"IFERROR([11]INVERSION!$N$45,\"\")","v":0},{"$f":"IFERROR([11]INVERSION!$O$45,\"\")","v":0},{"$f":"IFERROR([11]INVERSION!$P$45,\"\")","v":0},{"$f":"IFERROR([11]INVERSION!$Q$45,\"\")","v":0},{"$f":"IFERROR([11]INVERSION!$R$45,\"\")","v":0},{"$f":"IFERROR([11]INVERSION!$S$45,\"\")","v":"00:00:00"},{"$f":"IFERROR([11]INVERSION!$T$45,\"\")","v":"00:00:00"},{"$f":"IFERROR([11]INVERSION!$U$45,\"\")","v":0},{"$f":"IFERROR([11]INVERSION!$V$45,\"\")","v":0},{"$f":"IFERROR([11]INVERSION!$W$45,\"\")","v":0},{"$f":"IFERROR([11]INVERSION!$X$45,\"\")","v":0},{"$f":"IFERROR([11]INVERSION!$Y$45,\"\")","v":0},null,null,null,"","",null,0]
[null,null,"5. Impulsar el uso de mecanismos alternativos para la solución de conflictos y la ampliación de la justicia restaurativa y terapéutica y el robustecimiento de las alternativas al encarcelamiento","Seguimiento al cumplimiento de las disposiciones del CSJ que impulsan el uso de mecanismos alternativos de solución de conflictos, la ampliación de la justicia restaurativa y terapéutica y las alternativas al encarcelamiento.","% avance de implementa ción de las estrategias definidas para el seguimiento de las disposicion es adoptadas por el Consejo en materia de justicia restaurativa y terapéutica y las alternativas de encarcelami ento","2. Asegurar  el cumplimiento de los objetivos institucionales, la normatividad aplicable,  la mejora del SIGCMA y la satisfacción de los usuarios, revisando de  forma continua y sistemática la planificación de la gestión y fortaleciendo la administración de riesgos y sus controles",{"$f":"IFERROR([11]INVERSION!$G$46,\"\")","v":0},{"$f":"IFERROR([11]INVERSION!$H$46,\"\")","v":0},{"$f":"IFERROR([11]INVERSION!$I$46,\"\")","v":0},{"$f":"IFERROR([11]INVERSION!$J$46,\"\")","v":0},{"$f":"IFERROR([11]INVERSION!$K$46,\"\")","v":0},{"$f":"IFERROR([11]INVERSION!$L$46,\"\")","v":0},{"$f":"IFERROR([11]INVERSION!$M$46,\"\")","v":0},{"$f":"IFERROR([11]INVERSION!$N$46,\"\")","v":0},{"$f":"IFERROR([11]INVERSION!$O$46,\"\")","v":0},{"$f":"IFERROR([11]INVERSION!$P$46,\"\")","v":0},{"$f":"IFERROR([11]INVERSION!$Q$46,\"\")","v":0},{"$f":"IFERROR([11]INVERSION!$R$46,\"\")","v":0},{"$f":"IFERROR([11]INVERSION!$S$46,\"\")","v":"00:00:00"},{"$f":"IFERROR([11]INVERSION!$T$46,\"\")","v":"00:00:00"},{"$f":"IFERROR([11]INVERSION!$U$46,\"\")","v":0},{"$f":"IFERROR([11]INVERSION!$V$46,\"\")","v":0},{"$f":"IFERROR([11]INVERSION!$W$46,\"\")","v":0},{"$f":"IFERROR([11]INVERSION!$X$46,\"\")","v":0},{"$f":"IFERROR([11]INVERSION!$Y$46,\"\")","v":0},null,null,null,"","",null,0]
[null,null,null,null,null,null,{"$f":"IFERROR([11]INVERSION!$G$47,\"\")","v":0},{"$f":"IFERROR([11]INVERSION!$H$47,\"\")","v":0},{"$f":"IFERROR([11]INVERSION!$I$47,\"\")","v":0},{"$f":"IFERROR([11]INVERSION!$J$47,\"\")","v":0},{"$f":"IFERROR([11]INVERSION!$K$47,\"\")","v":0},{"$f":"IFERROR([11]INVERSION!$L$47,\"\")","v":0},{"$f":"IFERROR([11]INVERSION!$M$47,\"\")","v":0},{"$f":"IFERROR([11]INVERSION!$N$47,\"\")","v":0},{"$f":"IFERROR([11]INVERSION!$O$47,\"\")","v":0},{"$f":"IFERROR([11]INVERSION!$P$47,\"\")","v":0},{"$f":"IFERROR([11]INVERSION!$Q$47,\"\")","v":0},{"$f":"IFERROR([11]INVERSION!$R$47,\"\")","v":0},{"$f":"IFERROR([11]INVERSION!$S$47,\"\")","v":"00:00:00"},{"$f":"IFERROR([11]INVERSION!$T$47,\"\")","v":"00:00:00"},{"$f":"IFERROR([11]INVERSION!$U$47,\"\")","v":0},{"$f":"IFERROR([11]INVERSION!$V$47,\"\")","v":0},{"$f":"IFERROR([11]INVERSION!$W$47,\"\")","v":0},{"$f":"IFERROR([11]INVERSION!$X$47,\"\")","v":0},{"$f":"IFERROR([11]INVERSION!$Y$47,\"\")","v":0},null,null,null,"","",null,0]
[null,null,null,null,null,null,{"$f":"IFERROR([11]INVERSION!$G$48,\"\")","v":0},{"$f":"IFERROR([11]INVERSION!$H$48,\"\")","v":0},{"$f":"IFERROR([11]INVERSION!$I$48,\"\")","v":0},{"$f":"IFERROR([11]INVERSION!$J$48,\"\")","v":0},{"$f":"IFERROR([11]INVERSION!$K$48,\"\")","v":0},{"$f":"IFERROR([11]INVERSION!$L$48,\"\")","v":0},{"$f":"IFERROR([11]INVERSION!$M$48,\"\")","v":0},{"$f":"IFERROR([11]INVERSION!$N$48,\"\")","v":0},{"$f":"IFERROR([11]INVERSION!$O$48,\"\")","v":0},{"$f":"IFERROR([11]INVERSION!$P$48,\"\")","v":0},{"$f":"IFERROR([11]INVERSION!$Q$48,\"\")","v":0},{"$f":"IFERROR([11]INVERSION!$R$48,\"\")","v":0},{"$f":"IFERROR([11]INVERSION!$S$48,\"\")","v":"00:00:00"},{"$f":"IFERROR([11]INVERSION!$T$48,\"\")","v":"00:00:00"},{"$f":"IFERROR([11]INVERSION!$U$48,\"\")","v":0},{"$f":"IFERROR([11]INVERSION!$V$48,\"\")","v":0},{"$f":"IFERROR([11]INVERSION!$W$48,\"\")","v":0},{"$f":"IFERROR([11]INVERSION!$X$48,\"\")","v":0},{"$f":"IFERROR([11]INVERSION!$Y$48,\"\")","v":0}]
[null,null,null,null,null,null,{"$f":"IFERROR([11]INVERSION!$G$49,\"\")","v":0},{"$f":"IFERROR([11]INVERSION!$H$49,\"\")","v":0},{"$f":"IFERROR([11]INVERSION!$I$49,\"\")","v":0},{"$f":"IFERROR([11]INVERSION!$J$49,\"\")","v":0},{"$f":"IFERROR([11]INVERSION!$K$49,\"\")","v":0},{"$f":"IFERROR([11]INVERSION!$L$49,\"\")","v":0},{"$f":"IFERROR([11]INVERSION!$M$49,\"\")","v":0},{"$f":"IFERROR([11]INVERSION!$N$49,\"\")","v":0},{"$f":"IFERROR([11]INVERSION!$O$49,\"\")","v":0},{"$f":"IFERROR([11]INVERSION!$P$49,\"\")","v":0},{"$f":"IFERROR([11]INVERSION!$Q$49,\"\")","v":0},{"$f":"IFERROR([11]INVERSION!$R$49,\"\")","v":0},{"$f":"IFERROR([11]INVERSION!$S$49,\"\")","v":"00:00:00"},{"$f":"IFERROR([11]INVERSION!$T$49,\"\")","v":"00:00:00"},{"$f":"IFERROR([11]INVERSION!$U$49,\"\")","v":0},{"$f":"IFERROR([11]INVERSION!$V$49,\"\")","v":0},{"$f":"IFERROR([11]INVERSION!$W$49,\"\")","v":0},{"$f":"IFERROR([11]INVERSION!$X$49,\"\")","v":0},{"$f":"IFERROR([11]INVERSION!$Y$49,\"\")","v":0}]
[null,null,null,null,null,null,{"$f":"IFERROR([11]INVERSION!$G$50,\"\")","v":0},{"$f":"IFERROR([11]INVERSION!$H$50,\"\")","v":0},{"$f":"IFERROR([11]INVERSION!$I$50,\"\")","v":0},{"$f":"IFERROR([11]INVERSION!$J$50,\"\")","v":0},{"$f":"IFERROR([11]INVERSION!$K$50,\"\")","v":0},{"$f":"IFERROR([11]INVERSION!$L$50,\"\")","v":0},{"$f":"IFERROR([11]INVERSION!$M$50,\"\")","v":0},{"$f":"IFERROR([11]INVERSION!$N$50,\"\")","v":0},{"$f":"IFERROR([11]INVERSION!$O$50,\"\")","v":0},{"$f":"IFERROR([11]INVERSION!$P$50,\"\")","v":0},{"$f":"IFERROR([11]INVERSION!$Q$50,\"\")","v":0},{"$f":"IFERROR([11]INVERSION!$R$50,\"\")","v":0},{"$f":"IFERROR([11]INVERSION!$S$50,\"\")","v":"00:00:00"},{"$f":"IFERROR([11]INVERSION!$T$50,\"\")","v":"00:00:00"},{"$f":"IFERROR([11]INVERSION!$U$50,\"\")","v":0},{"$f":"IFERROR([11]INVERSION!$V$50,\"\")","v":0},{"$f":"IFERROR([11]INVERSION!$W$50,\"\")","v":0},{"$f":"IFERROR([11]INVERSION!$X$50,\"\")","v":0},{"$f":"IFERROR([11]INVERSION!$Y$50,\"\")","v":0}]
[null,null,null,null,null,null,{"$f":"IFERROR([11]INVERSION!$G$51,\"\")","v":0},{"$f":"IFERROR([11]INVERSION!$H$51,\"\")","v":0},{"$f":"IFERROR([11]INVERSION!$I$51,\"\")","v":0},{"$f":"IFERROR([11]INVERSION!$J$51,\"\")","v":0},{"$f":"IFERROR([11]INVERSION!$K$51,\"\")","v":0},{"$f":"IFERROR([11]INVERSION!$L$51,\"\")","v":0},{"$f":"IFERROR([11]INVERSION!$M$51,\"\")","v":0},{"$f":"IFERROR([11]INVERSION!$N$51,\"\")","v":0},{"$f":"IFERROR([11]INVERSION!$O$51,\"\")","v":0},{"$f":"IFERROR([11]INVERSION!$P$51,\"\")","v":0},{"$f":"IFERROR([11]INVERSION!$Q$51,\"\")","v":0},{"$f":"IFERROR([11]INVERSION!$R$51,\"\")","v":0},{"$f":"IFERROR([11]INVERSION!$S$51,\"\")","v":"00:00:00"},{"$f":"IFERROR([11]INVERSION!$T$51,\"\")","v":"00:00:00"},{"$f":"IFERROR([11]INVERSION!$U$51,\"\")","v":0},{"$f":"IFERROR([11]INVERSION!$V$51,\"\")","v":0},{"$f":"IFERROR([11]INVERSION!$W$51,\"\")","v":0},{"$f":"IFERROR([11]INVERSION!$X$51,\"\")","v":0},{"$f":"IFERROR([11]INVERSION!$Y$51,\"\")","v":0}]
[null,null,null,null,null,null,{"$f":"IFERROR([11]INVERSION!$G$52,\"\")","v":0},{"$f":"IFERROR([11]INVERSION!$H$52,\"\")","v":0},{"$f":"IFERROR([11]INVERSION!$I$52,\"\")","v":0},{"$f":"IFERROR([11]INVERSION!$J$52,\"\")","v":0},{"$f":"IFERROR([11]INVERSION!$K$52,\"\")","v":0},{"$f":"IFERROR([11]INVERSION!$L$52,\"\")","v":0},{"$f":"IFERROR([11]INVERSION!$M$52,\"\")","v":0},{"$f":"IFERROR([11]INVERSION!$N$52,\"\")","v":0},{"$f":"IFERROR([11]INVERSION!$O$52,\"\")","v":0},{"$f":"IFERROR([11]INVERSION!$P$52,\"\")","v":0},{"$f":"IFERROR([11]INVERSION!$Q$52,\"\")","v":0},{"$f":"IFERROR([11]INVERSION!$R$52,\"\")","v":0},{"$f":"IFERROR([11]INVERSION!$S$52,\"\")","v":"00:00:00"},{"$f":"IFERROR([11]INVERSION!$T$52,\"\")","v":"00:00:00"},{"$f":"IFERROR([11]INVERSION!$U$52,\"\")","v":0},{"$f":"IFERROR([11]INVERSION!$V$52,\"\")","v":0},{"$f":"IFERROR([11]INVERSION!$W$52,\"\")","v":0},{"$f":"IFERROR([11]INVERSION!$X$52,\"\")","v":0},{"$f":"IFERROR([11]INVERSION!$Y$52,\"\")","v":0}]
[null,null,null,null,null,null,{"$f":"IFERROR([11]INVERSION!$G$53,\"\")","v":0},{"$f":"IFERROR([11]INVERSION!$H$53,\"\")","v":0},{"$f":"IFERROR([11]INVERSION!$I$53,\"\")","v":0},{"$f":"IFERROR([11]INVERSION!$J$53,\"\")","v":0},{"$f":"IFERROR([11]INVERSION!$K$53,\"\")","v":0},{"$f":"IFERROR([11]INVERSION!$L$53,\"\")","v":0},{"$f":"IFERROR([11]INVERSION!$M$53,\"\")","v":0},{"$f":"IFERROR([11]INVERSION!$N$53,\"\")","v":0},{"$f":"IFERROR([11]INVERSION!$O$53,\"\")","v":0},{"$f":"IFERROR([11]INVERSION!$P$53,\"\")","v":0},{"$f":"IFERROR([11]INVERSION!$Q$53,\"\")","v":0},{"$f":"IFERROR([11]INVERSION!$R$53,\"\")","v":0},{"$f":"IFERROR([11]INVERSION!$S$53,\"\")","v":"00:00:00"},{"$f":"IFERROR([11]INVERSION!$T$53,\"\")","v":"00:00:00"},{"$f":"IFERROR([11]INVERSION!$U$53,\"\")","v":0},{"$f":"IFERROR([11]INVERSION!$V$53,\"\")","v":0},{"$f":"IFERROR([11]INVERSION!$W$53,\"\")","v":0},{"$f":"IFERROR([11]INVERSION!$X$53,\"\")","v":0},{"$f":"IFERROR([11]INVERSION!$Y$53,\"\")","v":0},null,null,null,"","",null,0]
[null,null,null,null,null,null,{"$f":"IFERROR([11]INVERSION!$G$54,\"\")","v":0},{"$f":"IFERROR([11]INVERSION!$H$54,\"\")","v":0},{"$f":"IFERROR([11]INVERSION!$I$54,\"\")","v":0},{"$f":"IFERROR([11]INVERSION!$J$54,\"\")","v":0},{"$f":"IFERROR([11]INVERSION!$K$54,\"\")","v":0},{"$f":"IFERROR([11]INVERSION!$L$54,\"\")","v":0},{"$f":"IFERROR([11]INVERSION!$M$54,\"\")","v":0},{"$f":"IFERROR([11]INVERSION!$N$54,\"\")","v":0},{"$f":"IFERROR([11]INVERSION!$O$54,\"\")","v":0},{"$f":"IFERROR([11]INVERSION!$P$54,\"\")","v":0},{"$f":"IFERROR([11]INVERSION!$Q$54,\"\")","v":0},{"$f":"IFERROR([11]INVERSION!$R$54,\"\")","v":0},{"$f":"IFERROR([11]INVERSION!$S$54,\"\")","v":"00:00:00"},{"$f":"IFERROR([11]INVERSION!$T$54,\"\")","v":"00:00:00"},{"$f":"IFERROR([11]INVERSION!$U$54,\"\")","v":0},{"$f":"IFERROR([11]INVERSION!$V$54,\"\")","v":0},{"$f":"IFERROR([11]INVERSION!$W$54,\"\")","v":0},{"$f":"IFERROR([11]INVERSION!$X$54,\"\")","v":0},{"$f":"IFERROR([11]INVERSION!$Y$54,\"\")","v":0},null,null,null,"","",null,0]
[null,null,null,null,null,null,{"$f":"IFERROR([11]INVERSION!$G$55,\"\")","v":0},{"$f":"IFERROR([11]INVERSION!$H$55,\"\")","v":0},{"$f":"IFERROR([11]INVERSION!$I$55,\"\")","v":0},{"$f":"IFERROR([11]INVERSION!$J$55,\"\")","v":0},{"$f":"IFERROR([11]INVERSION!$K$55,\"\")","v":0},{"$f":"IFERROR([11]INVERSION!$L$55,\"\")","v":0},{"$f":"IFERROR([11]INVERSION!$M$55,\"\")","v":0},{"$f":"IFERROR([11]INVERSION!$N$55,\"\")","v":0},{"$f":"IFERROR([11]INVERSION!$O$55,\"\")","v":0},{"$f":"IFERROR([11]INVERSION!$P$55,\"\")","v":0},{"$f":"IFERROR([11]INVERSION!$Q$55,\"\")","v":0},{"$f":"IFERROR([11]INVERSION!$R$55,\"\")","v":0},{"$f":"IFERROR([11]INVERSION!$S$55,\"\")","v":"00:00:00"},{"$f":"IFERROR([11]INVERSION!$T$55,\"\")","v":"00:00:00"},{"$f":"IFERROR([11]INVERSION!$U$55,\"\")","v":0},{"$f":"IFERROR([11]INVERSION!$V$55,\"\")","v":0},{"$f":"IFERROR([11]INVERSION!$W$55,\"\")","v":0},{"$f":"IFERROR([11]INVERSION!$X$55,\"\")","v":0},{"$f":"IFERROR([11]INVERSION!$Y$55,\"\")","v":0},null,null,null,"","",null,0]
["2. Servicios digitales y de tecnología, innovación y análisis de la información.","Servicios digitales y de tecnología, innovación y análisis de la información: Consolidar una justicia integrada y soportada en servicios digitales y de tecnología, innovación y análisis de la información, con una cultura digital apropiada, segura y sensible a las realidades del territorio nacional. ","1. Ampliar el acceso a la justicia a través de la consolidación del uso de los servicios digitales que conforman el sistema único integrado de gestión judicial en todos los despachos judiciales y dependencias de apoyo y, específicamente, incluyendo el despliegue e implementación del Expediente Judicial Electrónico en todas las jurisdicciones y especialidades.","Procesos\njudiciales gestionados a través del expediente electrónico por especialidad","# de procesos judiciales en gestión con expediente electrónico en cada especialida d y por categoría de despacho a nivel de circuito / # de procesos judiciales totales en gestión por cada especialida d y circuito (cabecera de circuito)","6. Proteger, preservar y administrar los activos de información  implementando acciones  para gestionar de forma adecuada los incidentes, proteger los datos personales y adoptar mecanismos  de ciberseguridad y aseguramiento de la  continuidad del negocio.",{"$f":"IFERROR([11]INVERSION!$G$56,\"\")","v":0},{"$f":"IFERROR([11]INVERSION!$H$56,\"\")","v":0},{"$f":"IFERROR([11]INVERSION!$I$56,\"\")","v":0},{"$f":"IFERROR([11]INVERSION!$J$56,\"\")","v":0},{"$f":"IFERROR([11]INVERSION!$K$56,\"\")","v":0},{"$f":"IFERROR([11]INVERSION!$L$56,\"\")","v":0},{"$f":"IFERROR([11]INVERSION!$M$56,\"\")","v":0},{"$f":"IFERROR([11]INVERSION!$N$56,\"\")","v":0},{"$f":"IFERROR([11]INVERSION!$O$56,\"\")","v":0},{"$f":"IFERROR([11]INVERSION!$P$56,\"\")","v":0},{"$f":"IFERROR([11]INVERSION!$Q$56,\"\")","v":0},{"$f":"IFERROR([11]INVERSION!$R$56,\"\")","v":0},{"$f":"IFERROR([11]INVERSION!$S$56,\"\")","v":"00:00:00"},{"$f":"IFERROR([11]INVERSION!$T$56,\"\")","v":"00:00:00"},{"$f":"IFERROR([11]INVERSION!$U$56,\"\")","v":0},{"$f":"IFERROR([11]INVERSION!$V$56,\"\")","v":0},{"$f":"IFERROR([11]INVERSION!$W$56,\"\")","v":0},{"$f":"IFERROR([11]INVERSION!$X$56,\"\")","v":0},{"$f":"IFERROR([11]INVERSION!$Y$56,\"\")","v":0},null,null,null,"","",null,0]
[null,null,null,null,null,null,{"$f":"IFERROR([11]INVERSION!$G$57,\"\")","v":0},{"$f":"IFERROR([11]INVERSION!$H$57,\"\")","v":0},{"$f":"IFERROR([11]INVERSION!$I$57,\"\")","v":0},{"$f":"IFERROR([11]INVERSION!$J$57,\"\")","v":0},{"$f":"IFERROR([11]INVERSION!$K$57,\"\")","v":0},{"$f":"IFERROR([11]INVERSION!$L$57,\"\")","v":0},{"$f":"IFERROR([11]INVERSION!$M$57,\"\")","v":0},{"$f":"IFERROR([11]INVERSION!$N$57,\"\")","v":0},{"$f":"IFERROR([11]INVERSION!$O$57,\"\")","v":0},{"$f":"IFERROR([11]INVERSION!$P$57,\"\")","v":0},{"$f":"IFERROR([11]INVERSION!$Q$57,\"\")","v":0},{"$f":"IFERROR([11]INVERSION!$R$57,\"\")","v":0},{"$f":"IFERROR([11]INVERSION!$S$57,\"\")","v":"00:00:00"},{"$f":"IFERROR([11]INVERSION!$T$57,\"\")","v":"00:00:00"},{"$f":"IFERROR([11]INVERSION!$U$57,\"\")","v":0},{"$f":"IFERROR([11]INVERSION!$V$57,\"\")","v":0},{"$f":"IFERROR([11]INVERSION!$W$57,\"\")","v":0},{"$f":"IFERROR([11]INVERSION!$X$57,\"\")","v":0},{"$f":"IFERROR([11]INVERSION!$Y$57,\"\")","v":0},null,null,null,"","",null,0]
[null,null,null,null,null,null,{"$f":"IFERROR([11]INVERSION!$G$58,\"\")","v":0},{"$f":"IFERROR([11]INVERSION!$H$58,\"\")","v":0},{"$f":"IFERROR([11]INVERSION!$I$58,\"\")","v":0},{"$f":"IFERROR([11]INVERSION!$J$58,\"\")","v":0},{"$f":"IFERROR([11]INVERSION!$K$58,\"\")","v":0},{"$f":"IFERROR([11]INVERSION!$L$58,\"\")","v":0},{"$f":"IFERROR([11]INVERSION!$M$58,\"\")","v":0},{"$f":"IFERROR([11]INVERSION!$N$58,\"\")","v":0},{"$f":"IFERROR([11]INVERSION!$O$58,\"\")","v":0},{"$f":"IFERROR([11]INVERSION!$P$58,\"\")","v":0},{"$f":"IFERROR([11]INVERSION!$Q$58,\"\")","v":0},{"$f":"IFERROR([11]INVERSION!$R$58,\"\")","v":0},{"$f":"IFERROR([11]INVERSION!$S$58,\"\")","v":"00:00:00"},{"$f":"IFERROR([11]INVERSION!$T$58,\"\")","v":"00:00:00"},{"$f":"IFERROR([11]INVERSION!$U$58,\"\")","v":0},{"$f":"IFERROR([11]INVERSION!$V$58,\"\")","v":0},{"$f":"IFERROR([11]INVERSION!$W$58,\"\")","v":0},{"$f":"IFERROR([11]INVERSION!$X$58,\"\")","v":0},{"$f":"IFERROR([11]INVERSION!$Y$58,\"\")","v":0}]
[null,null,null,null,null,null,{"$f":"IFERROR([11]INVERSION!$G$59,\"\")","v":0},{"$f":"IFERROR([11]INVERSION!$H$59,\"\")","v":0},{"$f":"IFERROR([11]INVERSION!$I$59,\"\")","v":0},{"$f":"IFERROR([11]INVERSION!$J$59,\"\")","v":0},{"$f":"IFERROR([11]INVERSION!$K$59,\"\")","v":0},{"$f":"IFERROR([11]INVERSION!$L$59,\"\")","v":0},{"$f":"IFERROR([11]INVERSION!$M$59,\"\")","v":0},{"$f":"IFERROR([11]INVERSION!$N$59,\"\")","v":0},{"$f":"IFERROR([11]INVERSION!$O$59,\"\")","v":0},{"$f":"IFERROR([11]INVERSION!$P$59,\"\")","v":0},{"$f":"IFERROR([11]INVERSION!$Q$59,\"\")","v":0},{"$f":"IFERROR([11]INVERSION!$R$59,\"\")","v":0},{"$f":"IFERROR([11]INVERSION!$S$59,\"\")","v":"00:00:00"},{"$f":"IFERROR([11]INVERSION!$T$59,\"\")","v":"00:00:00"},{"$f":"IFERROR([11]INVERSION!$U$59,\"\")","v":0},{"$f":"IFERROR([11]INVERSION!$V$59,\"\")","v":0},{"$f":"IFERROR([11]INVERSION!$W$59,\"\")","v":0},{"$f":"IFERROR([11]INVERSION!$X$59,\"\")","v":0},{"$f":"IFERROR([11]INVERSION!$Y$59,\"\")","v":0}]
[null,null,null,null,null,null,{"$f":"IFERROR([11]INVERSION!$G$60,\"\")","v":0},{"$f":"IFERROR([11]INVERSION!$H$60,\"\")","v":0},{"$f":"IFERROR([11]INVERSION!$I$60,\"\")","v":0},{"$f":"IFERROR([11]INVERSION!$J$60,\"\")","v":0},{"$f":"IFERROR([11]INVERSION!$K$60,\"\")","v":0},{"$f":"IFERROR([11]INVERSION!$L$60,\"\")","v":0},{"$f":"IFERROR([11]INVERSION!$M$60,\"\")","v":0},{"$f":"IFERROR([11]INVERSION!$N$60,\"\")","v":0},{"$f":"IFERROR([11]INVERSION!$O$60,\"\")","v":0},{"$f":"IFERROR([11]INVERSION!$P$60,\"\")","v":0},{"$f":"IFERROR([11]INVERSION!$Q$60,\"\")","v":0},{"$f":"IFERROR([11]INVERSION!$R$60,\"\")","v":0},{"$f":"IFERROR([11]INVERSION!$S$60,\"\")","v":"00:00:00"},{"$f":"IFERROR([11]INVERSION!$T$60,\"\")","v":"00:00:00"},{"$f":"IFERROR([11]INVERSION!$U$60,\"\")","v":0},{"$f":"IFERROR([11]INVERSION!$V$60,\"\")","v":0},{"$f":"IFERROR([11]INVERSION!$W$60,\"\")","v":0},{"$f":"IFERROR([11]INVERSION!$X$60,\"\")","v":0},{"$f":"IFERROR([11]INVERSION!$Y$60,\"\")","v":0}]
[null,null,null,null,null,null,{"$f":"IFERROR([11]INVERSION!$G$61,\"\")","v":0},{"$f":"IFERROR([11]INVERSION!$H$61,\"\")","v":0},{"$f":"IFERROR([11]INVERSION!$I$61,\"\")","v":0},{"$f":"IFERROR([11]INVERSION!$J$61,\"\")","v":0},{"$f":"IFERROR([11]INVERSION!$K$61,\"\")","v":0},{"$f":"IFERROR([11]INVERSION!$L$61,\"\")","v":0},{"$f":"IFERROR([11]INVERSION!$M$61,\"\")","v":0},{"$f":"IFERROR([11]INVERSION!$N$61,\"\")","v":0},{"$f":"IFERROR([11]INVERSION!$O$61,\"\")","v":0},{"$f":"IFERROR([11]INVERSION!$P$61,\"\")","v":0},{"$f":"IFERROR([11]INVERSION!$Q$61,\"\")","v":0},{"$f":"IFERROR([11]INVERSION!$R$61,\"\")","v":0},{"$f":"IFERROR([11]INVERSION!$S$61,\"\")","v":"00:00:00"},{"$f":"IFERROR([11]INVERSION!$T$61,\"\")","v":"00:00:00"},{"$f":"IFERROR([11]INVERSION!$U$61,\"\")","v":0},{"$f":"IFERROR([11]INVERSION!$V$61,\"\")","v":0},{"$f":"IFERROR([11]INVERSION!$W$61,\"\")","v":0},{"$f":"IFERROR([11]INVERSION!$X$61,\"\")","v":0},{"$f":"IFERROR([11]INVERSION!$Y$61,\"\")","v":0}]
[null,null,null,null,null,null,{"$f":"IFERROR([11]INVERSION!$G$62,\"\")","v":0},{"$f":"IFERROR([11]INVERSION!$H$62,\"\")","v":0},{"$f":"IFERROR([11]INVERSION!$I$62,\"\")","v":0},{"$f":"IFERROR([11]INVERSION!$J$62,\"\")","v":0},{"$f":"IFERROR([11]INVERSION!$K$62,\"\")","v":0},{"$f":"IFERROR([11]INVERSION!$L$62,\"\")","v":0},{"$f":"IFERROR([11]INVERSION!$M$62,\"\")","v":0},{"$f":"IFERROR([11]INVERSION!$N$62,\"\")","v":0},{"$f":"IFERROR([11]INVERSION!$O$62,\"\")","v":0},{"$f":"IFERROR([11]INVERSION!$P$62,\"\")","v":0},{"$f":"IFERROR([11]INVERSION!$Q$62,\"\")","v":0},{"$f":"IFERROR([11]INVERSION!$R$62,\"\")","v":0},{"$f":"IFERROR([11]INVERSION!$S$62,\"\")","v":"00:00:00"},{"$f":"IFERROR([11]INVERSION!$T$62,\"\")","v":"00:00:00"},{"$f":"IFERROR([11]INVERSION!$U$62,\"\")","v":0},{"$f":"IFERROR([11]INVERSION!$V$62,\"\")","v":0},{"$f":"IFERROR([11]INVERSION!$W$62,\"\")","v":0},{"$f":"IFERROR([11]INVERSION!$X$62,\"\")","v":0},{"$f":"IFERROR([11]INVERSION!$Y$62,\"\")","v":0}]
[null,null,null,null,null,null,{"$f":"IFERROR([11]INVERSION!$G$63,\"\")","v":0},{"$f":"IFERROR([11]INVERSION!$H$63,\"\")","v":0},{"$f":"IFERROR([11]INVERSION!$I$63,\"\")","v":0},{"$f":"IFERROR([11]INVERSION!$J$63,\"\")","v":0},{"$f":"IFERROR([11]INVERSION!$K$63,\"\")","v":0},{"$f":"IFERROR([11]INVERSION!$L$63,\"\")","v":0},{"$f":"IFERROR([11]INVERSION!$M$63,\"\")","v":0},{"$f":"IFERROR([11]INVERSION!$N$63,\"\")","v":0},{"$f":"IFERROR([11]INVERSION!$O$63,\"\")","v":0},{"$f":"IFERROR([11]INVERSION!$P$63,\"\")","v":0},{"$f":"IFERROR([11]INVERSION!$Q$63,\"\")","v":0},{"$f":"IFERROR([11]INVERSION!$R$63,\"\")","v":0},{"$f":"IFERROR([11]INVERSION!$S$63,\"\")","v":"00:00:00"},{"$f":"IFERROR([11]INVERSION!$T$63,\"\")","v":"00:00:00"},{"$f":"IFERROR([11]INVERSION!$U$63,\"\")","v":0},{"$f":"IFERROR([11]INVERSION!$V$63,\"\")","v":0},{"$f":"IFERROR([11]INVERSION!$W$63,\"\")","v":0},{"$f":"IFERROR([11]INVERSION!$X$63,\"\")","v":0},{"$f":"IFERROR([11]INVERSION!$Y$63,\"\")","v":0},null,null,null,"","",null,0]
[null,null,null,null,null,null,{"$f":"IFERROR([11]INVERSION!$G$64,\"\")","v":0},{"$f":"IFERROR([11]INVERSION!$H$64,\"\")","v":0},{"$f":"IFERROR([11]INVERSION!$I$64,\"\")","v":0},{"$f":"IFERROR([11]INVERSION!$J$64,\"\")","v":0},{"$f":"IFERROR([11]INVERSION!$K$64,\"\")","v":0},{"$f":"IFERROR([11]INVERSION!$L$64,\"\")","v":0},{"$f":"IFERROR([11]INVERSION!$M$64,\"\")","v":0},{"$f":"IFERROR([11]INVERSION!$N$64,\"\")","v":0},{"$f":"IFERROR([11]INVERSION!$O$64,\"\")","v":0},{"$f":"IFERROR([11]INVERSION!$P$64,\"\")","v":0},{"$f":"IFERROR([11]INVERSION!$Q$64,\"\")","v":0},{"$f":"IFERROR([11]INVERSION!$R$64,\"\")","v":0},{"$f":"IFERROR([11]INVERSION!$S$64,\"\")","v":"00:00:00"},{"$f":"IFERROR([11]INVERSION!$T$64,\"\")","v":"00:00:00"},{"$f":"IFERROR([11]INVERSION!$U$64,\"\")","v":0},{"$f":"IFERROR([11]INVERSION!$V$64,\"\")","v":0},{"$f":"IFERROR([11]INVERSION!$W$64,\"\")","v":0},{"$f":"IFERROR([11]INVERSION!$X$64,\"\")","v":0},{"$f":"IFERROR([11]INVERSION!$Y$64,\"\")","v":0},null,null,null,"","",null,0]
[null,null,null,null,null,null,{"$f":"IFERROR([11]INVERSION!$G$65,\"\")","v":0},{"$f":"IFERROR([11]INVERSION!$H$65,\"\")","v":0},{"$f":"IFERROR([11]INVERSION!$I$65,\"\")","v":0},{"$f":"IFERROR([11]INVERSION!$J$65,\"\")","v":0},{"$f":"IFERROR([11]INVERSION!$K$65,\"\")","v":0},{"$f":"IFERROR([11]INVERSION!$L$65,\"\")","v":0},{"$f":"IFERROR([11]INVERSION!$M$65,\"\")","v":0},{"$f":"IFERROR([11]INVERSION!$N$65,\"\")","v":0},{"$f":"IFERROR([11]INVERSION!$O$65,\"\")","v":0},{"$f":"IFERROR([11]INVERSION!$P$65,\"\")","v":0},{"$f":"IFERROR([11]INVERSION!$Q$65,\"\")","v":0},{"$f":"IFERROR([11]INVERSION!$R$65,\"\")","v":0},{"$f":"IFERROR([11]INVERSION!$S$65,\"\")","v":"00:00:00"},{"$f":"IFERROR([11]INVERSION!$T$65,\"\")","v":"00:00:00"},{"$f":"IFERROR([11]INVERSION!$U$65,\"\")","v":0},{"$f":"IFERROR([11]INVERSION!$V$65,\"\")","v":0},{"$f":"IFERROR([11]INVERSION!$W$65,\"\")","v":0},{"$f":"IFERROR([11]INVERSION!$X$65,\"\")","v":0},{"$f":"IFERROR([11]INVERSION!$Y$65,\"\")","v":0},null,null,null,"","",null,0]
[null,null,"2. Integrar y hacer compatibles todos los aplicativos de transición con SIUGJ, para que la migración de los expedientes judiciales a dicha plataforma sea real y no suponga afectaciones en la prestación del servicio de justicia.",null,null,null,{"$f":"IFERROR([11]INVERSION!$G$66,\"\")","v":0},{"$f":"IFERROR([11]INVERSION!$H$66,\"\")","v":0},{"$f":"IFERROR([11]INVERSION!$I$66,\"\")","v":0},{"$f":"IFERROR([11]INVERSION!$J$66,\"\")","v":0},{"$f":"IFERROR([11]INVERSION!$K$66,\"\")","v":0},{"$f":"IFERROR([11]INVERSION!$L$66,\"\")","v":0},{"$f":"IFERROR([11]INVERSION!$M$66,\"\")","v":0},{"$f":"IFERROR([11]INVERSION!$N$66,\"\")","v":0},{"$f":"IFERROR([11]INVERSION!$O$66,\"\")","v":0},{"$f":"IFERROR([11]INVERSION!$P$66,\"\")","v":0},{"$f":"IFERROR([11]INVERSION!$Q$66,\"\")","v":0},{"$f":"IFERROR([11]INVERSION!$R$66,\"\")","v":0},{"$f":"IFERROR([11]INVERSION!$S$66,\"\")","v":"00:00:00"},{"$f":"IFERROR([11]INVERSION!$T$66,\"\")","v":"00:00:00"},{"$f":"IFERROR([11]INVERSION!$U$66,\"\")","v":0},{"$f":"IFERROR([11]INVERSION!$V$66,\"\")","v":0},{"$f":"IFERROR([11]INVERSION!$W$66,\"\")","v":0},{"$f":"IFERROR([11]INVERSION!$X$66,\"\")","v":0},{"$f":"IFERROR([11]INVERSION!$Y$66,\"\")","v":0},null,null,null,"","",null,0]
[null,null,null,null,null,null,{"$f":"IFERROR([11]INVERSION!$G$67,\"\")","v":0},{"$f":"IFERROR([11]INVERSION!$H$67,\"\")","v":0},{"$f":"IFERROR([11]INVERSION!$I$67,\"\")","v":0},{"$f":"IFERROR([11]INVERSION!$J$67,\"\")","v":0},{"$f":"IFERROR([11]INVERSION!$K$67,\"\")","v":0},{"$f":"IFERROR([11]INVERSION!$L$67,\"\")","v":0},{"$f":"IFERROR([11]INVERSION!$M$67,\"\")","v":0},{"$f":"IFERROR([11]INVERSION!$N$67,\"\")","v":0},{"$f":"IFERROR([11]INVERSION!$O$67,\"\")","v":0},{"$f":"IFERROR([11]INVERSION!$P$67,\"\")","v":0},{"$f":"IFERROR([11]INVERSION!$Q$67,\"\")","v":0},{"$f":"IFERROR([11]INVERSION!$R$67,\"\")","v":0},{"$f":"IFERROR([11]INVERSION!$S$67,\"\")","v":"00:00:00"},{"$f":"IFERROR([11]INVERSION!$T$67,\"\")","v":"00:00:00"},{"$f":"IFERROR([11]INVERSION!$U$67,\"\")","v":0},{"$f":"IFERROR([11]INVERSION!$V$67,\"\")","v":0},{"$f":"IFERROR([11]INVERSION!$W$67,\"\")","v":0},{"$f":"IFERROR([11]INVERSION!$X$67,\"\")","v":0},{"$f":"IFERROR([11]INVERSION!$Y$67,\"\")","v":0},null,null,null,"","",null,0]
[null,null,null,null,null,null,{"$f":"IFERROR([11]INVERSION!$G$68,\"\")","v":0},{"$f":"IFERROR([11]INVERSION!$H$68,\"\")","v":0},{"$f":"IFERROR([11]INVERSION!$I$68,\"\")","v":0},{"$f":"IFERROR([11]INVERSION!$J$68,\"\")","v":0},{"$f":"IFERROR([11]INVERSION!$K$68,\"\")","v":0},{"$f":"IFERROR([11]INVERSION!$L$68,\"\")","v":0},{"$f":"IFERROR([11]INVERSION!$M$68,\"\")","v":0},{"$f":"IFERROR([11]INVERSION!$N$68,\"\")","v":0},{"$f":"IFERROR([11]INVERSION!$O$68,\"\")","v":0},{"$f":"IFERROR([11]INVERSION!$P$68,\"\")","v":0},{"$f":"IFERROR([11]INVERSION!$Q$68,\"\")","v":0},{"$f":"IFERROR([11]INVERSION!$R$68,\"\")","v":0},{"$f":"IFERROR([11]INVERSION!$S$68,\"\")","v":"00:00:00"},{"$f":"IFERROR([11]INVERSION!$T$68,\"\")","v":"00:00:00"},{"$f":"IFERROR([11]INVERSION!$U$68,\"\")","v":0},{"$f":"IFERROR([11]INVERSION!$V$68,\"\")","v":0},{"$f":"IFERROR([11]INVERSION!$W$68,\"\")","v":0},{"$f":"IFERROR([11]INVERSION!$X$68,\"\")","v":0},{"$f":"IFERROR([11]INVERSION!$Y$68,\"\")","v":0},null,null,null,"","",null,0]
[null,null,null,null,null,null,{"$f":"IFERROR([11]INVERSION!$G$69,\"\")","v":0},{"$f":"IFERROR([11]INVERSION!$H$69,\"\")","v":0},{"$f":"IFERROR([11]INVERSION!$I$69,\"\")","v":0},{"$f":"IFERROR([11]INVERSION!$J$69,\"\")","v":0},{"$f":"IFERROR([11]INVERSION!$K$69,\"\")","v":0},{"$f":"IFERROR([11]INVERSION!$L$69,\"\")","v":0},{"$f":"IFERROR([11]INVERSION!$M$69,\"\")","v":0},{"$f":"IFERROR([11]INVERSION!$N$69,\"\")","v":0},{"$f":"IFERROR([11]INVERSION!$O$69,\"\")","v":0},{"$f":"IFERROR([11]INVERSION!$P$69,\"\")","v":0},{"$f":"IFERROR([11]INVERSION!$Q$69,\"\")","v":0},{"$f":"IFERROR([11]INVERSION!$R$69,\"\")","v":0},{"$f":"IFERROR([11]INVERSION!$S$69,\"\")","v":"00:00:00"},{"$f":"IFERROR([11]INVERSION!$T$69,\"\")","v":"00:00:00"},{"$f":"IFERROR([11]INVERSION!$U$69,\"\")","v":0},{"$f":"IFERROR([11]INVERSION!$V$69,\"\")","v":0},{"$f":"IFERROR([11]INVERSION!$W$69,\"\")","v":0},{"$f":"IFERROR([11]INVERSION!$X$69,\"\")","v":0},{"$f":"IFERROR([11]INVERSION!$Y$69,\"\")","v":0}]
[null,null,null,null,null,null,{"$f":"IFERROR([11]INVERSION!$G$70,\"\")","v":0},{"$f":"IFERROR([11]INVERSION!$H$70,\"\")","v":0},{"$f":"IFERROR([11]INVERSION!$I$70,\"\")","v":0},{"$f":"IFERROR([11]INVERSION!$J$70,\"\")","v":0},{"$f":"IFERROR([11]INVERSION!$K$70,\"\")","v":0},{"$f":"IFERROR([11]INVERSION!$L$70,\"\")","v":0},{"$f":"IFERROR([11]INVERSION!$M$70,\"\")","v":0},{"$f":"IFERROR([11]INVERSION!$N$70,\"\")","v":0},{"$f":"IFERROR([11]INVERSION!$O$70,\"\")","v":0},{"$f":"IFERROR([11]INVERSION!$P$70,\"\")","v":0},{"$f":"IFERROR([11]INVERSION!$Q$70,\"\")","v":0},{"$f":"IFERROR([11]INVERSION!$R$70,\"\")","v":0},{"$f":"IFERROR([11]INVERSION!$S$70,\"\")","v":"00:00:00"},{"$f":"IFERROR([11]INVERSION!$T$70,\"\")","v":"00:00:00"},{"$f":"IFERROR([11]INVERSION!$U$70,\"\")","v":0},{"$f":"IFERROR([11]INVERSION!$V$70,\"\")","v":0},{"$f":"IFERROR([11]INVERSION!$W$70,\"\")","v":0},{"$f":"IFERROR([11]INVERSION!$X$70,\"\")","v":0},{"$f":"IFERROR([11]INVERSION!$Y$70,\"\")","v":0}]
[null,null,null,null,null,null,{"$f":"IFERROR([11]INVERSION!$G$71,\"\")","v":0},{"$f":"IFERROR([11]INVERSION!$H$71,\"\")","v":0},{"$f":"IFERROR([11]INVERSION!$I$71,\"\")","v":0},{"$f":"IFERROR([11]INVERSION!$J$71,\"\")","v":0},{"$f":"IFERROR([11]INVERSION!$K$71,\"\")","v":0},{"$f":"IFERROR([11]INVERSION!$L$71,\"\")","v":0},{"$f":"IFERROR([11]INVERSION!$M$71,\"\")","v":0},{"$f":"IFERROR([11]INVERSION!$N$71,\"\")","v":0},{"$f":"IFERROR([11]INVERSION!$O$71,\"\")","v":0},{"$f":"IFERROR([11]INVERSION!$P$71,\"\")","v":0},{"$f":"IFERROR([11]INVERSION!$Q$71,\"\")","v":0},{"$f":"IFERROR([11]INVERSION!$R$71,\"\")","v":0},{"$f":"IFERROR([11]INVERSION!$S$71,\"\")","v":"00:00:00"},{"$f":"IFERROR([11]INVERSION!$T$71,\"\")","v":"00:00:00"},{"$f":"IFERROR([11]INVERSION!$U$71,\"\")","v":0},{"$f":"IFERROR([11]INVERSION!$V$71,\"\")","v":0},{"$f":"IFERROR([11]INVERSION!$W$71,\"\")","v":0},{"$f":"IFERROR([11]INVERSION!$X$71,\"\")","v":0},{"$f":"IFERROR([11]INVERSION!$Y$71,\"\")","v":0}]
[null,null,null,null,null,null,{"$f":"IFERROR([11]INVERSION!$G$72,\"\")","v":0},{"$f":"IFERROR([11]INVERSION!$H$72,\"\")","v":0},{"$f":"IFERROR([11]INVERSION!$I$72,\"\")","v":0},{"$f":"IFERROR([11]INVERSION!$J$72,\"\")","v":0},{"$f":"IFERROR([11]INVERSION!$K$72,\"\")","v":0},{"$f":"IFERROR([11]INVERSION!$L$72,\"\")","v":0},{"$f":"IFERROR([11]INVERSION!$M$72,\"\")","v":0},{"$f":"IFERROR([11]INVERSION!$N$72,\"\")","v":0},{"$f":"IFERROR([11]INVERSION!$O$72,\"\")","v":0},{"$f":"IFERROR([11]INVERSION!$P$72,\"\")","v":0},{"$f":"IFERROR([11]INVERSION!$Q$72,\"\")","v":0},{"$f":"IFERROR([11]INVERSION!$R$72,\"\")","v":0},{"$f":"IFERROR([11]INVERSION!$S$72,\"\")","v":"00:00:00"},{"$f":"IFERROR([11]INVERSION!$T$72,\"\")","v":"00:00:00"},{"$f":"IFERROR([11]INVERSION!$U$72,\"\")","v":0},{"$f":"IFERROR([11]INVERSION!$V$72,\"\")","v":0},{"$f":"IFERROR([11]INVERSION!$W$72,\"\")","v":0},{"$f":"IFERROR([11]INVERSION!$X$72,\"\")","v":0},{"$f":"IFERROR([11]INVERSION!$Y$72,\"\")","v":0}]
[null,null,null,null,null,null,{"$f":"IFERROR([11]INVERSION!$G$73,\"\")","v":0},{"$f":"IFERROR([11]INVERSION!$H$73,\"\")","v":0},{"$f":"IFERROR([11]INVERSION!$I$73,\"\")","v":0},{"$f":"IFERROR([11]INVERSION!$J$73,\"\")","v":0},{"$f":"IFERROR([11]INVERSION!$K$73,\"\")","v":0},{"$f":"IFERROR([11]INVERSION!$L$73,\"\")","v":0},{"$f":"IFERROR([11]INVERSION!$M$73,\"\")","v":0},{"$f":"IFERROR([11]INVERSION!$N$73,\"\")","v":0},{"$f":"IFERROR([11]INVERSION!$O$73,\"\")","v":0},{"$f":"IFERROR([11]INVERSION!$P$73,\"\")","v":0},{"$f":"IFERROR([11]INVERSION!$Q$73,\"\")","v":0},{"$f":"IFERROR([11]INVERSION!$R$73,\"\")","v":0},{"$f":"IFERROR([11]INVERSION!$S$73,\"\")","v":"00:00:00"},{"$f":"IFERROR([11]INVERSION!$T$73,\"\")","v":"00:00:00"},{"$f":"IFERROR([11]INVERSION!$U$73,\"\")","v":0},{"$f":"IFERROR([11]INVERSION!$V$73,\"\")","v":0},{"$f":"IFERROR([11]INVERSION!$W$73,\"\")","v":0},{"$f":"IFERROR([11]INVERSION!$X$73,\"\")","v":0},{"$f":"IFERROR([11]INVERSION!$Y$73,\"\")","v":0}]
[null,null,null,null,null,null,{"$f":"IFERROR([11]INVERSION!$G$74,\"\")","v":0},{"$f":"IFERROR([11]INVERSION!$H$74,\"\")","v":0},{"$f":"IFERROR([11]INVERSION!$I$74,\"\")","v":0},{"$f":"IFERROR([11]INVERSION!$J$74,\"\")","v":0},{"$f":"IFERROR([11]INVERSION!$K$74,\"\")","v":0},{"$f":"IFERROR([11]INVERSION!$L$74,\"\")","v":0},{"$f":"IFERROR([11]INVERSION!$M$74,\"\")","v":0},{"$f":"IFERROR([11]INVERSION!$N$74,\"\")","v":0},{"$f":"IFERROR([11]INVERSION!$O$74,\"\")","v":0},{"$f":"IFERROR([11]INVERSION!$P$74,\"\")","v":0},{"$f":"IFERROR([11]INVERSION!$Q$74,\"\")","v":0},{"$f":"IFERROR([11]INVERSION!$R$74,\"\")","v":0},{"$f":"IFERROR([11]INVERSION!$S$74,\"\")","v":"00:00:00"},{"$f":"IFERROR([11]INVERSION!$T$74,\"\")","v":"00:00:00"},{"$f":"IFERROR([11]INVERSION!$U$74,\"\")","v":0},{"$f":"IFERROR([11]INVERSION!$V$74,\"\")","v":0},{"$f":"IFERROR([11]INVERSION!$W$74,\"\")","v":0},{"$f":"IFERROR([11]INVERSION!$X$74,\"\")","v":0},{"$f":"IFERROR([11]INVERSION!$Y$74,\"\")","v":0},null,null,null,"","",null,0]
[null,null,null,null,null,null,{"$f":"IFERROR([11]INVERSION!$G$75,\"\")","v":0},{"$f":"IFERROR([11]INVERSION!$H$75,\"\")","v":0},{"$f":"IFERROR([11]INVERSION!$I$75,\"\")","v":0},{"$f":"IFERROR([11]INVERSION!$J$75,\"\")","v":0},{"$f":"IFERROR([11]INVERSION!$K$75,\"\")","v":0},{"$f":"IFERROR([11]INVERSION!$L$75,\"\")","v":0},{"$f":"IFERROR([11]INVERSION!$M$75,\"\")","v":0},{"$f":"IFERROR([11]INVERSION!$N$75,\"\")","v":0},{"$f":"IFERROR([11]INVERSION!$O$75,\"\")","v":0},{"$f":"IFERROR([11]INVERSION!$P$75,\"\")","v":0},{"$f":"IFERROR([11]INVERSION!$Q$75,\"\")","v":0},{"$f":"IFERROR([11]INVERSION!$R$75,\"\")","v":0},{"$f":"IFERROR([11]INVERSION!$S$75,\"\")","v":"00:00:00"},{"$f":"IFERROR([11]INVERSION!$T$75,\"\")","v":"00:00:00"},{"$f":"IFERROR([11]INVERSION!$U$75,\"\")","v":0},{"$f":"IFERROR([11]INVERSION!$V$75,\"\")","v":0},{"$f":"IFERROR([11]INVERSION!$W$75,\"\")","v":0},{"$f":"IFERROR([11]INVERSION!$X$75,\"\")","v":0},{"$f":"IFERROR([11]INVERSION!$Y$75,\"\")","v":0},null,null,null,"","",null,0]
[null,null,"3. Fortalecer las capacidades institucionales, adecuar el modelo operativo y de servicio, bajo un enfoque de Arquitectura Empresarial y de fortalecimiento del acceso a la justicia.","Implementación del programa de gestión del cambio y las comunicaciones del PETD","# de actividades del objetivo \"aumentar el conocimient o digital y el uso de apropiación de los sistemas\" del programa de gestión del cambio y las comunicaci ones del PETD cumplidas /# de actividades del objetivo \"aumentar el conocimient o digital y el uso de apropiación de los sistemas\" del programa de gestión del cambio y las comunicaci ones del PETD programada s",null,{"$f":"IFERROR([11]INVERSION!$G$76,\"\")","v":0},{"$f":"IFERROR([11]INVERSION!$H$76,\"\")","v":0},{"$f":"IFERROR([11]INVERSION!$I$76,\"\")","v":0},{"$f":"IFERROR([11]INVERSION!$J$76,\"\")","v":0},{"$f":"IFERROR([11]INVERSION!$K$76,\"\")","v":0},{"$f":"IFERROR([11]INVERSION!$L$76,\"\")","v":0},{"$f":"IFERROR([11]INVERSION!$M$76,\"\")","v":0},{"$f":"IFERROR([11]INVERSION!$N$76,\"\")","v":0},{"$f":"IFERROR([11]INVERSION!$O$76,\"\")","v":0},{"$f":"IFERROR([11]INVERSION!$P$76,\"\")","v":0},{"$f":"IFERROR([11]INVERSION!$Q$76,\"\")","v":0},{"$f":"IFERROR([11]INVERSION!$R$76,\"\")","v":0},{"$f":"IFERROR([11]INVERSION!$S$76,\"\")","v":"00:00:00"},{"$f":"IFERROR([11]INVERSION!$T$76,\"\")","v":"00:00:00"},{"$f":"IFERROR([11]INVERSION!$U$76,\"\")","v":0},{"$f":"IFERROR([11]INVERSION!$V$76,\"\")","v":0},{"$f":"IFERROR([11]INVERSION!$W$76,\"\")","v":0},{"$f":"IFERROR([11]INVERSION!$X$76,\"\")","v":0},{"$f":"IFERROR([11]INVERSION!$Y$76,\"\")","v":0},null,null,null,"","",null,0]
[null,null,null,null,null,null,{"$f":"IFERROR([11]INVERSION!$G$77,\"\")","v":0},{"$f":"IFERROR([11]INVERSION!$H$77,\"\")","v":0},{"$f":"IFERROR([11]INVERSION!$I$77,\"\")","v":0},{"$f":"IFERROR([11]INVERSION!$J$77,\"\")","v":0},{"$f":"IFERROR([11]INVERSION!$K$77,\"\")","v":0},{"$f":"IFERROR([11]INVERSION!$L$77,\"\")","v":0},{"$f":"IFERROR([11]INVERSION!$M$77,\"\")","v":0},{"$f":"IFERROR([11]INVERSION!$N$77,\"\")","v":0},{"$f":"IFERROR([11]INVERSION!$O$77,\"\")","v":0},{"$f":"IFERROR([11]INVERSION!$P$77,\"\")","v":0},{"$f":"IFERROR([11]INVERSION!$Q$77,\"\")","v":0},{"$f":"IFERROR([11]INVERSION!$R$77,\"\")","v":0},{"$f":"IFERROR([11]INVERSION!$S$77,\"\")","v":"00:00:00"},{"$f":"IFERROR([11]INVERSION!$T$77,\"\")","v":"00:00:00"},{"$f":"IFERROR([11]INVERSION!$U$77,\"\")","v":0},{"$f":"IFERROR([11]INVERSION!$V$77,\"\")","v":0},{"$f":"IFERROR([11]INVERSION!$W$77,\"\")","v":0},{"$f":"IFERROR([11]INVERSION!$X$77,\"\")","v":0},{"$f":"IFERROR([11]INVERSION!$Y$77,\"\")","v":0},null,null,null,"","",null,0]
[null,null,null,null,null,null,{"$f":"IFERROR([11]INVERSION!$G$78,\"\")","v":0},{"$f":"IFERROR([11]INVERSION!$H$78,\"\")","v":0},{"$f":"IFERROR([11]INVERSION!$I$78,\"\")","v":0},{"$f":"IFERROR([11]INVERSION!$J$78,\"\")","v":0},{"$f":"IFERROR([11]INVERSION!$K$78,\"\")","v":0},{"$f":"IFERROR([11]INVERSION!$L$78,\"\")","v":0},{"$f":"IFERROR([11]INVERSION!$M$78,\"\")","v":0},{"$f":"IFERROR([11]INVERSION!$N$78,\"\")","v":0},{"$f":"IFERROR([11]INVERSION!$O$78,\"\")","v":0},{"$f":"IFERROR([11]INVERSION!$P$78,\"\")","v":0},{"$f":"IFERROR([11]INVERSION!$Q$78,\"\")","v":0},{"$f":"IFERROR([11]INVERSION!$R$78,\"\")","v":0},{"$f":"IFERROR([11]INVERSION!$S$78,\"\")","v":"00:00:00"},{"$f":"IFERROR([11]INVERSION!$T$78,\"\")","v":"00:00:00"},{"$f":"IFERROR([11]INVERSION!$U$78,\"\")","v":0},{"$f":"IFERROR([11]INVERSION!$V$78,\"\")","v":0},{"$f":"IFERROR([11]INVERSION!$W$78,\"\")","v":0},{"$f":"IFERROR([11]INVERSION!$X$78,\"\")","v":0},{"$f":"IFERROR([11]INVERSION!$Y$78,\"\")","v":0}]
[null,null,null,null,null,null,{"$f":"IFERROR([11]INVERSION!$G$79,\"\")","v":0},{"$f":"IFERROR([11]INVERSION!$H$79,\"\")","v":0},{"$f":"IFERROR([11]INVERSION!$I$79,\"\")","v":0},{"$f":"IFERROR([11]INVERSION!$J$79,\"\")","v":0},{"$f":"IFERROR([11]INVERSION!$K$79,\"\")","v":0},{"$f":"IFERROR([11]INVERSION!$L$79,\"\")","v":0},{"$f":"IFERROR([11]INVERSION!$M$79,\"\")","v":0},{"$f":"IFERROR([11]INVERSION!$N$79,\"\")","v":0},{"$f":"IFERROR([11]INVERSION!$O$79,\"\")","v":0},{"$f":"IFERROR([11]INVERSION!$P$79,\"\")","v":0},{"$f":"IFERROR([11]INVERSION!$Q$79,\"\")","v":0},{"$f":"IFERROR([11]INVERSION!$R$79,\"\")","v":0},{"$f":"IFERROR([11]INVERSION!$S$79,\"\")","v":"00:00:00"},{"$f":"IFERROR([11]INVERSION!$T$79,\"\")","v":"00:00:00"},{"$f":"IFERROR([11]INVERSION!$U$79,\"\")","v":0},{"$f":"IFERROR([11]INVERSION!$V$79,\"\")","v":0},{"$f":"IFERROR([11]INVERSION!$W$79,\"\")","v":0},{"$f":"IFERROR([11]INVERSION!$X$79,\"\")","v":0},{"$f":"IFERROR([11]INVERSION!$Y$79,\"\")","v":0}]
[null,null,null,null,null,null,{"$f":"IFERROR([11]INVERSION!$G$80,\"\")","v":0},{"$f":"IFERROR([11]INVERSION!$H$80,\"\")","v":0},{"$f":"IFERROR([11]INVERSION!$I$80,\"\")","v":0},{"$f":"IFERROR([11]INVERSION!$J$80,\"\")","v":0},{"$f":"IFERROR([11]INVERSION!$K$80,\"\")","v":0},{"$f":"IFERROR([11]INVERSION!$L$80,\"\")","v":0},{"$f":"IFERROR([11]INVERSION!$M$80,\"\")","v":0},{"$f":"IFERROR([11]INVERSION!$N$80,\"\")","v":0},{"$f":"IFERROR([11]INVERSION!$O$80,\"\")","v":0},{"$f":"IFERROR([11]INVERSION!$P$80,\"\")","v":0},{"$f":"IFERROR([11]INVERSION!$Q$80,\"\")","v":0},{"$f":"IFERROR([11]INVERSION!$R$80,\"\")","v":0},{"$f":"IFERROR([11]INVERSION!$S$80,\"\")","v":"00:00:00"},{"$f":"IFERROR([11]INVERSION!$T$80,\"\")","v":"00:00:00"},{"$f":"IFERROR([11]INVERSION!$U$80,\"\")","v":0},{"$f":"IFERROR([11]INVERSION!$V$80,\"\")","v":0},{"$f":"IFERROR([11]INVERSION!$W$80,\"\")","v":0},{"$f":"IFERROR([11]INVERSION!$X$80,\"\")","v":0},{"$f":"IFERROR([11]INVERSION!$Y$80,\"\")","v":0}]
[null,null,null,null,null,null,{"$f":"IFERROR([11]INVERSION!$G$81,\"\")","v":0},{"$f":"IFERROR([11]INVERSION!$H$81,\"\")","v":0},{"$f":"IFERROR([11]INVERSION!$I$81,\"\")","v":0},{"$f":"IFERROR([11]INVERSION!$J$81,\"\")","v":0},{"$f":"IFERROR([11]INVERSION!$K$81,\"\")","v":0},{"$f":"IFERROR([11]INVERSION!$L$81,\"\")","v":0},{"$f":"IFERROR([11]INVERSION!$M$81,\"\")","v":0},{"$f":"IFERROR([11]INVERSION!$N$81,\"\")","v":0},{"$f":"IFERROR([11]INVERSION!$O$81,\"\")","v":0},{"$f":"IFERROR([11]INVERSION!$P$81,\"\")","v":0},{"$f":"IFERROR([11]INVERSION!$Q$81,\"\")","v":0},{"$f":"IFERROR([11]INVERSION!$R$81,\"\")","v":0},{"$f":"IFERROR([11]INVERSION!$S$81,\"\")","v":"00:00:00"},{"$f":"IFERROR([11]INVERSION!$T$81,\"\")","v":"00:00:00"},{"$f":"IFERROR([11]INVERSION!$U$81,\"\")","v":0},{"$f":"IFERROR([11]INVERSION!$V$81,\"\")","v":0},{"$f":"IFERROR([11]INVERSION!$W$81,\"\")","v":0},{"$f":"IFERROR([11]INVERSION!$X$81,\"\")","v":0},{"$f":"IFERROR([11]INVERSION!$Y$81,\"\")","v":0}]
[null,null,null,null,null,null,{"$f":"IFERROR([11]INVERSION!$G$82,\"\")","v":0},{"$f":"IFERROR([11]INVERSION!$H$82,\"\")","v":0},{"$f":"IFERROR([11]INVERSION!$I$82,\"\")","v":0},{"$f":"IFERROR([11]INVERSION!$J$82,\"\")","v":0},{"$f":"IFERROR([11]INVERSION!$K$82,\"\")","v":0},{"$f":"IFERROR([11]INVERSION!$L$82,\"\")","v":0},{"$f":"IFERROR([11]INVERSION!$M$82,\"\")","v":0},{"$f":"IFERROR([11]INVERSION!$N$82,\"\")","v":0},{"$f":"IFERROR([11]INVERSION!$O$82,\"\")","v":0},{"$f":"IFERROR([11]INVERSION!$P$82,\"\")","v":0},{"$f":"IFERROR([11]INVERSION!$Q$82,\"\")","v":0},{"$f":"IFERROR([11]INVERSION!$R$82,\"\")","v":0},{"$f":"IFERROR([11]INVERSION!$S$82,\"\")","v":"00:00:00"},{"$f":"IFERROR([11]INVERSION!$T$82,\"\")","v":"00:00:00"},{"$f":"IFERROR([11]INVERSION!$U$82,\"\")","v":0},{"$f":"IFERROR([11]INVERSION!$V$82,\"\")","v":0},{"$f":"IFERROR([11]INVERSION!$W$82,\"\")","v":0},{"$f":"IFERROR([11]INVERSION!$X$82,\"\")","v":0},{"$f":"IFERROR([11]INVERSION!$Y$82,\"\")","v":0}]
[null,null,null,null,null,null,{"$f":"IFERROR([11]INVERSION!$G$83,\"\")","v":0},{"$f":"IFERROR([11]INVERSION!$H$83,\"\")","v":0},{"$f":"IFERROR([11]INVERSION!$I$83,\"\")","v":0},{"$f":"IFERROR([11]INVERSION!$J$83,\"\")","v":0},{"$f":"IFERROR([11]INVERSION!$K$83,\"\")","v":0},{"$f":"IFERROR([11]INVERSION!$L$83,\"\")","v":0},{"$f":"IFERROR([11]INVERSION!$M$83,\"\")","v":0},{"$f":"IFERROR([11]INVERSION!$N$83,\"\")","v":0},{"$f":"IFERROR([11]INVERSION!$O$83,\"\")","v":0},{"$f":"IFERROR([11]INVERSION!$P$83,\"\")","v":0},{"$f":"IFERROR([11]INVERSION!$Q$83,\"\")","v":0},{"$f":"IFERROR([11]INVERSION!$R$83,\"\")","v":0},{"$f":"IFERROR([11]INVERSION!$S$83,\"\")","v":"00:00:00"},{"$f":"IFERROR([11]INVERSION!$T$83,\"\")","v":"00:00:00"},{"$f":"IFERROR([11]INVERSION!$U$83,\"\")","v":0},{"$f":"IFERROR([11]INVERSION!$V$83,\"\")","v":0},{"$f":"IFERROR([11]INVERSION!$W$83,\"\")","v":0},{"$f":"IFERROR([11]INVERSION!$X$83,\"\")","v":0},{"$f":"IFERROR([11]INVERSION!$Y$83,\"\")","v":0},null,null,null,"","",null,0]
[null,null,null,null,null,null,{"$f":"IFERROR([11]INVERSION!$G$84,\"\")","v":0},{"$f":"IFERROR([11]INVERSION!$H$84,\"\")","v":0},{"$f":"IFERROR([11]INVERSION!$I$84,\"\")","v":0},{"$f":"IFERROR([11]INVERSION!$J$84,\"\")","v":0},{"$f":"IFERROR([11]INVERSION!$K$84,\"\")","v":0},{"$f":"IFERROR([11]INVERSION!$L$84,\"\")","v":0},{"$f":"IFERROR([11]INVERSION!$M$84,\"\")","v":0},{"$f":"IFERROR([11]INVERSION!$N$84,\"\")","v":0},{"$f":"IFERROR([11]INVERSION!$O$84,\"\")","v":0},{"$f":"IFERROR([11]INVERSION!$P$84,\"\")","v":0},{"$f":"IFERROR([11]INVERSION!$Q$84,\"\")","v":0},{"$f":"IFERROR([11]INVERSION!$R$84,\"\")","v":0},{"$f":"IFERROR([11]INVERSION!$S$84,\"\")","v":"00:00:00"},{"$f":"IFERROR([11]INVERSION!$T$84,\"\")","v":"00:00:00"},{"$f":"IFERROR([11]INVERSION!$U$84,\"\")","v":0},{"$f":"IFERROR([11]INVERSION!$V$84,\"\")","v":0},{"$f":"IFERROR([11]INVERSION!$W$84,\"\")","v":0},{"$f":"IFERROR([11]INVERSION!$X$84,\"\")","v":0},{"$f":"IFERROR([11]INVERSION!$Y$84,\"\")","v":0},null,null,null,"","",null,0]
[null,null,null,null,null,null,{"$f":"IFERROR([11]INVERSION!$G$85,\"\")","v":0},{"$f":"IFERROR([11]INVERSION!$H$85,\"\")","v":0},{"$f":"IFERROR([11]INVERSION!$I$85,\"\")","v":0},{"$f":"IFERROR([11]INVERSION!$J$85,\"\")","v":0},{"$f":"IFERROR([11]INVERSION!$K$85,\"\")","v":0},{"$f":"IFERROR([11]INVERSION!$L$85,\"\")","v":0},{"$f":"IFERROR([11]INVERSION!$M$85,\"\")","v":0},{"$f":"IFERROR([11]INVERSION!$N$85,\"\")","v":0},{"$f":"IFERROR([11]INVERSION!$O$85,\"\")","v":0},{"$f":"IFERROR([11]INVERSION!$P$85,\"\")","v":0},{"$f":"IFERROR([11]INVERSION!$Q$85,\"\")","v":0},{"$f":"IFERROR([11]INVERSION!$R$85,\"\")","v":0},{"$f":"IFERROR([11]INVERSION!$S$85,\"\")","v":"00:00:00"},{"$f":"IFERROR([11]INVERSION!$T$85,\"\")","v":"00:00:00"},{"$f":"IFERROR([11]INVERSION!$U$85,\"\")","v":0},{"$f":"IFERROR([11]INVERSION!$V$85,\"\")","v":0},{"$f":"IFERROR([11]INVERSION!$W$85,\"\")","v":0},{"$f":"IFERROR([11]INVERSION!$X$85,\"\")","v":0},{"$f":"IFERROR([11]INVERSION!$Y$85,\"\")","v":0},null,null,null,"","",null,0]
[null,null,"4.Consolidar la cultura y apropiación de la transformación digital en los servidores y usuarios de los servicios de la Rama Judicial y reducir brechas de acceso y conocimiento, incluyendo la oferta efectiva de información sobre el uso de las nuevas herramientas virtuales implementadas en las diferentes jurisdicciones, con especial énfasis en las zonas del país donde es evidente la brecha digital.","Cobertura de infraestructura y conectividad consolidada","# de sedes con infraestruct ura y conectivida d consolidada s/Número total de sedes",null,{"$f":"IFERROR([11]INVERSION!$G$86,\"\")","v":0},{"$f":"IFERROR([11]INVERSION!$H$86,\"\")","v":0},{"$f":"IFERROR([11]INVERSION!$I$86,\"\")","v":0},{"$f":"IFERROR([11]INVERSION!$J$86,\"\")","v":0},{"$f":"IFERROR([11]INVERSION!$K$86,\"\")","v":0},{"$f":"IFERROR([11]INVERSION!$L$86,\"\")","v":0},{"$f":"IFERROR([11]INVERSION!$M$86,\"\")","v":0},{"$f":"IFERROR([11]INVERSION!$N$86,\"\")","v":0},{"$f":"IFERROR([11]INVERSION!$O$86,\"\")","v":0},{"$f":"IFERROR([11]INVERSION!$P$86,\"\")","v":0},{"$f":"IFERROR([11]INVERSION!$Q$86,\"\")","v":0},{"$f":"IFERROR([11]INVERSION!$R$86,\"\")","v":0},{"$f":"IFERROR([11]INVERSION!$S$86,\"\")","v":"00:00:00"},{"$f":"IFERROR([11]INVERSION!$T$86,\"\")","v":"00:00:00"},{"$f":"IFERROR([11]INVERSION!$U$86,\"\")","v":0},{"$f":"IFERROR([11]INVERSION!$V$86,\"\")","v":0},{"$f":"IFERROR([11]INVERSION!$W$86,\"\")","v":0},{"$f":"IFERROR([11]INVERSION!$X$86,\"\")","v":0},{"$f":"IFERROR([11]INVERSION!$Y$86,\"\")","v":0},null,null,null,"","",null,0]
[null,null,null,null,null,null,{"$f":"IFERROR([11]INVERSION!$G$87,\"\")","v":0},{"$f":"IFERROR([11]INVERSION!$H$87,\"\")","v":0},{"$f":"IFERROR([11]INVERSION!$I$87,\"\")","v":0},{"$f":"IFERROR([11]INVERSION!$J$87,\"\")","v":0},{"$f":"IFERROR([11]INVERSION!$K$87,\"\")","v":0},{"$f":"IFERROR([11]INVERSION!$L$87,\"\")","v":0},{"$f":"IFERROR([11]INVERSION!$M$87,\"\")","v":0},{"$f":"IFERROR([11]INVERSION!$N$87,\"\")","v":0},{"$f":"IFERROR([11]INVERSION!$O$87,\"\")","v":0},{"$f":"IFERROR([11]INVERSION!$P$87,\"\")","v":0},{"$f":"IFERROR([11]INVERSION!$Q$87,\"\")","v":0},{"$f":"IFERROR([11]INVERSION!$R$87,\"\")","v":0},{"$f":"IFERROR([11]INVERSION!$S$87,\"\")","v":"00:00:00"},{"$f":"IFERROR([11]INVERSION!$T$87,\"\")","v":"00:00:00"},{"$f":"IFERROR([11]INVERSION!$U$87,\"\")","v":0},{"$f":"IFERROR([11]INVERSION!$V$87,\"\")","v":0},{"$f":"IFERROR([11]INVERSION!$W$87,\"\")","v":0},{"$f":"IFERROR([11]INVERSION!$X$87,\"\")","v":0},{"$f":"IFERROR([11]INVERSION!$Y$87,\"\")","v":0},null,null,null,"","",null,0]
[null,null,null,null,null,null,{"$f":"IFERROR([11]INVERSION!$G$88,\"\")","v":0},{"$f":"IFERROR([11]INVERSION!$H$88,\"\")","v":0},{"$f":"IFERROR([11]INVERSION!$I$88,\"\")","v":0},{"$f":"IFERROR([11]INVERSION!$J$88,\"\")","v":0},{"$f":"IFERROR([11]INVERSION!$K$88,\"\")","v":0},{"$f":"IFERROR([11]INVERSION!$L$88,\"\")","v":0},{"$f":"IFERROR([11]INVERSION!$M$88,\"\")","v":0},{"$f":"IFERROR([11]INVERSION!$N$88,\"\")","v":0},{"$f":"IFERROR([11]INVERSION!$O$88,\"\")","v":0},{"$f":"IFERROR([11]INVERSION!$P$88,\"\")","v":0},{"$f":"IFERROR([11]INVERSION!$Q$88,\"\")","v":0},{"$f":"IFERROR([11]INVERSION!$R$88,\"\")","v":0},{"$f":"IFERROR([11]INVERSION!$S$88,\"\")","v":"00:00:00"},{"$f":"IFERROR([11]INVERSION!$T$88,\"\")","v":"00:00:00"},{"$f":"IFERROR([11]INVERSION!$U$88,\"\")","v":0},{"$f":"IFERROR([11]INVERSION!$V$88,\"\")","v":0},{"$f":"IFERROR([11]INVERSION!$W$88,\"\")","v":0},{"$f":"IFERROR([11]INVERSION!$X$88,\"\")","v":0},{"$f":"IFERROR([11]INVERSION!$Y$88,\"\")","v":0}]
[null,null,null,null,null,null,{"$f":"IFERROR([11]INVERSION!$G$89,\"\")","v":0},{"$f":"IFERROR([11]INVERSION!$H$89,\"\")","v":0},{"$f":"IFERROR([11]INVERSION!$I$89,\"\")","v":0},{"$f":"IFERROR([11]INVERSION!$J$89,\"\")","v":0},{"$f":"IFERROR([11]INVERSION!$K$89,\"\")","v":0},{"$f":"IFERROR([11]INVERSION!$L$89,\"\")","v":0},{"$f":"IFERROR([11]INVERSION!$M$89,\"\")","v":0},{"$f":"IFERROR([11]INVERSION!$N$89,\"\")","v":0},{"$f":"IFERROR([11]INVERSION!$O$89,\"\")","v":0},{"$f":"IFERROR([11]INVERSION!$P$89,\"\")","v":0},{"$f":"IFERROR([11]INVERSION!$Q$89,\"\")","v":0},{"$f":"IFERROR([11]INVERSION!$R$89,\"\")","v":0},{"$f":"IFERROR([11]INVERSION!$S$89,\"\")","v":"00:00:00"},{"$f":"IFERROR([11]INVERSION!$T$89,\"\")","v":"00:00:00"},{"$f":"IFERROR([11]INVERSION!$U$89,\"\")","v":0},{"$f":"IFERROR([11]INVERSION!$V$89,\"\")","v":0},{"$f":"IFERROR([11]INVERSION!$W$89,\"\")","v":0},{"$f":"IFERROR([11]INVERSION!$X$89,\"\")","v":0},{"$f":"IFERROR([11]INVERSION!$Y$89,\"\")","v":0}]
[null,null,null,null,null,null,{"$f":"IFERROR([11]INVERSION!$G$90,\"\")","v":0},{"$f":"IFERROR([11]INVERSION!$H$90,\"\")","v":0},{"$f":"IFERROR([11]INVERSION!$I$90,\"\")","v":0},{"$f":"IFERROR([11]INVERSION!$J$90,\"\")","v":0},{"$f":"IFERROR([11]INVERSION!$K$90,\"\")","v":0},{"$f":"IFERROR([11]INVERSION!$L$90,\"\")","v":0},{"$f":"IFERROR([11]INVERSION!$M$90,\"\")","v":0},{"$f":"IFERROR([11]INVERSION!$N$90,\"\")","v":0},{"$f":"IFERROR([11]INVERSION!$O$90,\"\")","v":0},{"$f":"IFERROR([11]INVERSION!$P$90,\"\")","v":0},{"$f":"IFERROR([11]INVERSION!$Q$90,\"\")","v":0},{"$f":"IFERROR([11]INVERSION!$R$90,\"\")","v":0},{"$f":"IFERROR([11]INVERSION!$S$90,\"\")","v":"00:00:00"},{"$f":"IFERROR([11]INVERSION!$T$90,\"\")","v":"00:00:00"},{"$f":"IFERROR([11]INVERSION!$U$90,\"\")","v":0},{"$f":"IFERROR([11]INVERSION!$V$90,\"\")","v":0},{"$f":"IFERROR([11]INVERSION!$W$90,\"\")","v":0},{"$f":"IFERROR([11]INVERSION!$X$90,\"\")","v":0},{"$f":"IFERROR([11]INVERSION!$Y$90,\"\")","v":0}]
[null,null,null,null,null,null,{"$f":"IFERROR([11]INVERSION!$G$91,\"\")","v":0},{"$f":"IFERROR([11]INVERSION!$H$91,\"\")","v":0},{"$f":"IFERROR([11]INVERSION!$I$91,\"\")","v":0},{"$f":"IFERROR([11]INVERSION!$J$91,\"\")","v":0},{"$f":"IFERROR([11]INVERSION!$K$91,\"\")","v":0},{"$f":"IFERROR([11]INVERSION!$L$91,\"\")","v":0},{"$f":"IFERROR([11]INVERSION!$M$91,\"\")","v":0},{"$f":"IFERROR([11]INVERSION!$N$91,\"\")","v":0},{"$f":"IFERROR([11]INVERSION!$O$91,\"\")","v":0},{"$f":"IFERROR([11]INVERSION!$P$91,\"\")","v":0},{"$f":"IFERROR([11]INVERSION!$Q$91,\"\")","v":0},{"$f":"IFERROR([11]INVERSION!$R$91,\"\")","v":0},{"$f":"IFERROR([11]INVERSION!$S$91,\"\")","v":"00:00:00"},{"$f":"IFERROR([11]INVERSION!$T$91,\"\")","v":"00:00:00"},{"$f":"IFERROR([11]INVERSION!$U$91,\"\")","v":0},{"$f":"IFERROR([11]INVERSION!$V$91,\"\")","v":0},{"$f":"IFERROR([11]INVERSION!$W$91,\"\")","v":0},{"$f":"IFERROR([11]INVERSION!$X$91,\"\")","v":0},{"$f":"IFERROR([11]INVERSION!$Y$91,\"\")","v":0}]
[null,null,null,null,null,null,{"$f":"IFERROR([11]INVERSION!$G$92,\"\")","v":0},{"$f":"IFERROR([11]INVERSION!$H$92,\"\")","v":0},{"$f":"IFERROR([11]INVERSION!$I$92,\"\")","v":0},{"$f":"IFERROR([11]INVERSION!$J$92,\"\")","v":0},{"$f":"IFERROR([11]INVERSION!$K$92,\"\")","v":0},{"$f":"IFERROR([11]INVERSION!$L$92,\"\")","v":0},{"$f":"IFERROR([11]INVERSION!$M$92,\"\")","v":0},{"$f":"IFERROR([11]INVERSION!$N$92,\"\")","v":0},{"$f":"IFERROR([11]INVERSION!$O$92,\"\")","v":0},{"$f":"IFERROR([11]INVERSION!$P$92,\"\")","v":0},{"$f":"IFERROR([11]INVERSION!$Q$92,\"\")","v":0},{"$f":"IFERROR([11]INVERSION!$R$92,\"\")","v":0},{"$f":"IFERROR([11]INVERSION!$S$92,\"\")","v":"00:00:00"},{"$f":"IFERROR([11]INVERSION!$T$92,\"\")","v":"00:00:00"},{"$f":"IFERROR([11]INVERSION!$U$92,\"\")","v":0},{"$f":"IFERROR([11]INVERSION!$V$92,\"\")","v":0},{"$f":"IFERROR([11]INVERSION!$W$92,\"\")","v":0},{"$f":"IFERROR([11]INVERSION!$X$92,\"\")","v":0},{"$f":"IFERROR([11]INVERSION!$Y$92,\"\")","v":0}]
[null,null,null,null,null,null,{"$f":"IFERROR([11]INVERSION!$G$93,\"\")","v":0},{"$f":"IFERROR([11]INVERSION!$H$93,\"\")","v":0},{"$f":"IFERROR([11]INVERSION!$I$93,\"\")","v":0},{"$f":"IFERROR([11]INVERSION!$J$93,\"\")","v":0},{"$f":"IFERROR([11]INVERSION!$K$93,\"\")","v":0},{"$f":"IFERROR([11]INVERSION!$L$93,\"\")","v":0},{"$f":"IFERROR([11]INVERSION!$M$93,\"\")","v":0},{"$f":"IFERROR([11]INVERSION!$N$93,\"\")","v":0},{"$f":"IFERROR([11]INVERSION!$O$93,\"\")","v":0},{"$f":"IFERROR([11]INVERSION!$P$93,\"\")","v":0},{"$f":"IFERROR([11]INVERSION!$Q$93,\"\")","v":0},{"$f":"IFERROR([11]INVERSION!$R$93,\"\")","v":0},{"$f":"IFERROR([11]INVERSION!$S$93,\"\")","v":"00:00:00"},{"$f":"IFERROR([11]INVERSION!$T$93,\"\")","v":"00:00:00"},{"$f":"IFERROR([11]INVERSION!$U$93,\"\")","v":0},{"$f":"IFERROR([11]INVERSION!$V$93,\"\")","v":0},{"$f":"IFERROR([11]INVERSION!$W$93,\"\")","v":0},{"$f":"IFERROR([11]INVERSION!$X$93,\"\")","v":0},{"$f":"IFERROR([11]INVERSION!$Y$93,\"\")","v":0},null,null,null,"","",null,0]
[null,null,null,null,null,null,{"$f":"IFERROR([11]INVERSION!$G$94,\"\")","v":0},{"$f":"IFERROR([11]INVERSION!$H$94,\"\")","v":0},{"$f":"IFERROR([11]INVERSION!$I$94,\"\")","v":0},{"$f":"IFERROR([11]INVERSION!$J$94,\"\")","v":0},{"$f":"IFERROR([11]INVERSION!$K$94,\"\")","v":0},{"$f":"IFERROR([11]INVERSION!$L$94,\"\")","v":0},{"$f":"IFERROR([11]INVERSION!$M$94,\"\")","v":0},{"$f":"IFERROR([11]INVERSION!$N$94,\"\")","v":0},{"$f":"IFERROR([11]INVERSION!$O$94,\"\")","v":0},{"$f":"IFERROR([11]INVERSION!$P$94,\"\")","v":0},{"$f":"IFERROR([11]INVERSION!$Q$94,\"\")","v":0},{"$f":"IFERROR([11]INVERSION!$R$94,\"\")","v":0},{"$f":"IFERROR([11]INVERSION!$S$94,\"\")","v":"00:00:00"},{"$f":"IFERROR([11]INVERSION!$T$94,\"\")","v":"00:00:00"},{"$f":"IFERROR([11]INVERSION!$U$94,\"\")","v":0},{"$f":"IFERROR([11]INVERSION!$V$94,\"\")","v":0},{"$f":"IFERROR([11]INVERSION!$W$94,\"\")","v":0},{"$f":"IFERROR([11]INVERSION!$X$94,\"\")","v":0},{"$f":"IFERROR([11]INVERSION!$Y$94,\"\")","v":0},null,null,null,"","",null,0]
[null,null,null,null,null,null,{"$f":"IFERROR([11]INVERSION!$G$95,\"\")","v":0},{"$f":"IFERROR([11]INVERSION!$H$95,\"\")","v":0},{"$f":"IFERROR([11]INVERSION!$I$95,\"\")","v":0},{"$f":"IFERROR([11]INVERSION!$J$95,\"\")","v":0},{"$f":"IFERROR([11]INVERSION!$K$95,\"\")","v":0},{"$f":"IFERROR([11]INVERSION!$L$95,\"\")","v":0},{"$f":"IFERROR([11]INVERSION!$M$95,\"\")","v":0},{"$f":"IFERROR([11]INVERSION!$N$95,\"\")","v":0},{"$f":"IFERROR([11]INVERSION!$O$95,\"\")","v":0},{"$f":"IFERROR([11]INVERSION!$P$95,\"\")","v":0},{"$f":"IFERROR([11]INVERSION!$Q$95,\"\")","v":0},{"$f":"IFERROR([11]INVERSION!$R$95,\"\")","v":0},{"$f":"IFERROR([11]INVERSION!$S$95,\"\")","v":"00:00:00"},{"$f":"IFERROR([11]INVERSION!$T$95,\"\")","v":"00:00:00"},{"$f":"IFERROR([11]INVERSION!$U$95,\"\")","v":0},{"$f":"IFERROR([11]INVERSION!$V$95,\"\")","v":0},{"$f":"IFERROR([11]INVERSION!$W$95,\"\")","v":0},{"$f":"IFERROR([11]INVERSION!$X$95,\"\")","v":0},{"$f":"IFERROR([11]INVERSION!$Y$95,\"\")","v":0},null,null,null,"","",null,0]
[null,null,"5.Consolidar la infraestructura y los recursos necesarios para la implementación exitosa de la transformación digital, incluyendo la disposición de internet de calidad en el 100% de las sedes en la Rama Judicial y modernizar los servicios tecnológicos de soporte. ","Implementación del programa de gestión del cambio y las comunicaciones del PETD","# de actividades del objetivo \"aumentar el conocimient o digital y el uso de apropiación de los sistemas\" del programa de gestión del cambio y las comunicaci ones del PETD cumplidas /# de actividades del objetivo \"aumentar el conocimient o digital y el uso de apropiación de los sistemas\" del programa de gestión del cambio y las comunicaci ones del PETD programada s",null,{"$f":"IFERROR([11]INVERSION!$G$96,\"\")","v":0},{"$f":"IFERROR([11]INVERSION!$H$96,\"\")","v":0},{"$f":"IFERROR([11]INVERSION!$I$96,\"\")","v":0},{"$f":"IFERROR([11]INVERSION!$J$96,\"\")","v":0},{"$f":"IFERROR([11]INVERSION!$K$96,\"\")","v":0},{"$f":"IFERROR([11]INVERSION!$L$96,\"\")","v":0},{"$f":"IFERROR([11]INVERSION!$M$96,\"\")","v":0},{"$f":"IFERROR([11]INVERSION!$N$96,\"\")","v":0},{"$f":"IFERROR([11]INVERSION!$O$96,\"\")","v":0},{"$f":"IFERROR([11]INVERSION!$P$96,\"\")","v":0},{"$f":"IFERROR([11]INVERSION!$Q$96,\"\")","v":0},{"$f":"IFERROR([11]INVERSION!$R$96,\"\")","v":0},{"$f":"IFERROR([11]INVERSION!$S$96,\"\")","v":"00:00:00"},{"$f":"IFERROR([11]INVERSION!$T$96,\"\")","v":"00:00:00"},{"$f":"IFERROR([11]INVERSION!$U$96,\"\")","v":0},{"$f":"IFERROR([11]INVERSION!$V$96,\"\")","v":0},{"$f":"IFERROR([11]INVERSION!$W$96,\"\")","v":0},{"$f":"IFERROR([11]INVERSION!$X$96,\"\")","v":0},{"$f":"IFERROR([11]INVERSION!$Y$96,\"\")","v":0},null,null,null,"","",null,0]
[null,null,null,null,null,null,{"$f":"IFERROR([11]INVERSION!$G$97,\"\")","v":0},{"$f":"IFERROR([11]INVERSION!$H$97,\"\")","v":0},{"$f":"IFERROR([11]INVERSION!$I$97,\"\")","v":0},{"$f":"IFERROR([11]INVERSION!$J$97,\"\")","v":0},{"$f":"IFERROR([11]INVERSION!$K$97,\"\")","v":0},{"$f":"IFERROR([11]INVERSION!$L$97,\"\")","v":0},{"$f":"IFERROR([11]INVERSION!$M$97,\"\")","v":0},{"$f":"IFERROR([11]INVERSION!$N$97,\"\")","v":0},{"$f":"IFERROR([11]INVERSION!$O$97,\"\")","v":0},{"$f":"IFERROR([11]INVERSION!$P$97,\"\")","v":0},{"$f":"IFERROR([11]INVERSION!$Q$97,\"\")","v":0},{"$f":"IFERROR([11]INVERSION!$R$97,\"\")","v":0},{"$f":"IFERROR([11]INVERSION!$S$97,\"\")","v":"00:00:00"},{"$f":"IFERROR([11]INVERSION!$T$97,\"\")","v":"00:00:00"},{"$f":"IFERROR([11]INVERSION!$U$97,\"\")","v":0},{"$f":"IFERROR([11]INVERSION!$V$97,\"\")","v":0},{"$f":"IFERROR([11]INVERSION!$W$97,\"\")","v":0},{"$f":"IFERROR([11]INVERSION!$X$97,\"\")","v":0},{"$f":"IFERROR([11]INVERSION!$Y$97,\"\")","v":0},null,null,null,"","",null,0]
[null,null,null,null,null,null,{"$f":"IFERROR([11]INVERSION!$G$98,\"\")","v":0},{"$f":"IFERROR([11]INVERSION!$H$98,\"\")","v":0},{"$f":"IFERROR([11]INVERSION!$I$98,\"\")","v":0},{"$f":"IFERROR([11]INVERSION!$J$98,\"\")","v":0},{"$f":"IFERROR([11]INVERSION!$K$98,\"\")","v":0},{"$f":"IFERROR([11]INVERSION!$L$98,\"\")","v":0},{"$f":"IFERROR([11]INVERSION!$M$98,\"\")","v":0},{"$f":"IFERROR([11]INVERSION!$N$98,\"\")","v":0},{"$f":"IFERROR([11]INVERSION!$O$98,\"\")","v":0},{"$f":"IFERROR([11]INVERSION!$P$98,\"\")","v":0},{"$f":"IFERROR([11]INVERSION!$Q$98,\"\")","v":0},{"$f":"IFERROR([11]INVERSION!$R$98,\"\")","v":0},{"$f":"IFERROR([11]INVERSION!$S$98,\"\")","v":"00:00:00"},{"$f":"IFERROR([11]INVERSION!$T$98,\"\")","v":"00:00:00"},{"$f":"IFERROR([11]INVERSION!$U$98,\"\")","v":0},{"$f":"IFERROR([11]INVERSION!$V$98,\"\")","v":0},{"$f":"IFERROR([11]INVERSION!$W$98,\"\")","v":0},{"$f":"IFERROR([11]INVERSION!$X$98,\"\")","v":0},{"$f":"IFERROR([11]INVERSION!$Y$98,\"\")","v":0}]
[null,null,null,null,null,null,{"$f":"IFERROR([11]INVERSION!$G$99,\"\")","v":0},{"$f":"IFERROR([11]INVERSION!$H$99,\"\")","v":0},{"$f":"IFERROR([11]INVERSION!$I$99,\"\")","v":0},{"$f":"IFERROR([11]INVERSION!$J$99,\"\")","v":0},{"$f":"IFERROR([11]INVERSION!$K$99,\"\")","v":0},{"$f":"IFERROR([11]INVERSION!$L$99,\"\")","v":0},{"$f":"IFERROR([11]INVERSION!$M$99,\"\")","v":0},{"$f":"IFERROR([11]INVERSION!$N$99,\"\")","v":0},{"$f":"IFERROR([11]INVERSION!$O$99,\"\")","v":0},{"$f":"IFERROR([11]INVERSION!$P$99,\"\")","v":0},{"$f":"IFERROR([11]INVERSION!$Q$99,\"\")","v":0},{"$f":"IFERROR([11]INVERSION!$R$99,\"\")","v":0},{"$f":"IFERROR([11]INVERSION!$S$99,\"\")","v":"00:00:00"},{"$f":"IFERROR([11]INVERSION!$T$99,\"\")","v":"00:00:00"},{"$f":"IFERROR([11]INVERSION!$U$99,\"\")","v":0},{"$f":"IFERROR([11]INVERSION!$V$99,\"\")","v":0},{"$f":"IFERROR([11]INVERSION!$W$99,\"\")","v":0},{"$f":"IFERROR([11]INVERSION!$X$99,\"\")","v":0},{"$f":"IFERROR([11]INVERSION!$Y$99,\"\")","v":0}]
[null,null,null,null,null,null,{"$f":"IFERROR([11]INVERSION!$G$100,\"\")","v":0},{"$f":"IFERROR([11]INVERSION!$H$100,\"\")","v":0},{"$f":"IFERROR([11]INVERSION!$I$100,\"\")","v":0},{"$f":"IFERROR([11]INVERSION!$J$100,\"\")","v":0},{"$f":"IFERROR([11]INVERSION!$K$100,\"\")","v":0},{"$f":"IFERROR([11]INVERSION!$L$100,\"\")","v":0},{"$f":"IFERROR([11]INVERSION!$M$100,\"\")","v":0},{"$f":"IFERROR([11]INVERSION!$N$100,\"\")","v":0},{"$f":"IFERROR([11]INVERSION!$O$100,\"\")","v":0},{"$f":"IFERROR([11]INVERSION!$P$100,\"\")","v":0},{"$f":"IFERROR([11]INVERSION!$Q$100,\"\")","v":0},{"$f":"IFERROR([11]INVERSION!$R$100,\"\")","v":0},{"$f":"IFERROR([11]INVERSION!$S$100,\"\")","v":"00:00:00"},{"$f":"IFERROR([11]INVERSION!$T$100,\"\")","v":"00:00:00"},{"$f":"IFERROR([11]INVERSION!$U$100,\"\")","v":0},{"$f":"IFERROR([11]INVERSION!$V$100,\"\")","v":0},{"$f":"IFERROR([11]INVERSION!$W$100,\"\")","v":0},{"$f":"IFERROR([11]INVERSION!$X$100,\"\")","v":0},{"$f":"IFERROR([11]INVERSION!$Y$100,\"\")","v":0}]
[null,null,null,null,null,null,{"$f":"IFERROR([11]INVERSION!$G$101,\"\")","v":0},{"$f":"IFERROR([11]INVERSION!$H$101,\"\")","v":0},{"$f":"IFERROR([11]INVERSION!$I$101,\"\")","v":0},{"$f":"IFERROR([11]INVERSION!$J$101,\"\")","v":0},{"$f":"IFERROR([11]INVERSION!$K$101,\"\")","v":0},{"$f":"IFERROR([11]INVERSION!$L$101,\"\")","v":0},{"$f":"IFERROR([11]INVERSION!$M$101,\"\")","v":0},{"$f":"IFERROR([11]INVERSION!$N$101,\"\")","v":0},{"$f":"IFERROR([11]INVERSION!$O$101,\"\")","v":0},{"$f":"IFERROR([11]INVERSION!$P$101,\"\")","v":0},{"$f":"IFERROR([11]INVERSION!$Q$101,\"\")","v":0},{"$f":"IFERROR([11]INVERSION!$R$101,\"\")","v":0},{"$f":"IFERROR([11]INVERSION!$S$101,\"\")","v":"00:00:00"},{"$f":"IFERROR([11]INVERSION!$T$101,\"\")","v":"00:00:00"},{"$f":"IFERROR([11]INVERSION!$U$101,\"\")","v":0},{"$f":"IFERROR([11]INVERSION!$V$101,\"\")","v":0},{"$f":"IFERROR([11]INVERSION!$W$101,\"\")","v":0},{"$f":"IFERROR([11]INVERSION!$X$101,\"\")","v":0},{"$f":"IFERROR([11]INVERSION!$Y$101,\"\")","v":0}]
[null,null,null,null,null,null,{"$f":"IFERROR([11]INVERSION!$G$102,\"\")","v":0},{"$f":"IFERROR([11]INVERSION!$H$102,\"\")","v":0},{"$f":"IFERROR([11]INVERSION!$I$102,\"\")","v":0},{"$f":"IFERROR([11]INVERSION!$J$102,\"\")","v":0},{"$f":"IFERROR([11]INVERSION!$K$102,\"\")","v":0},{"$f":"IFERROR([11]INVERSION!$L$102,\"\")","v":0},{"$f":"IFERROR([11]INVERSION!$M$102,\"\")","v":0},{"$f":"IFERROR([11]INVERSION!$N$102,\"\")","v":0},{"$f":"IFERROR([11]INVERSION!$O$102,\"\")","v":0},{"$f":"IFERROR([11]INVERSION!$P$102,\"\")","v":0},{"$f":"IFERROR([11]INVERSION!$Q$102,\"\")","v":0},{"$f":"IFERROR([11]INVERSION!$R$102,\"\")","v":0},{"$f":"IFERROR([11]INVERSION!$S$102,\"\")","v":"00:00:00"},{"$f":"IFERROR([11]INVERSION!$T$102,\"\")","v":"00:00:00"},{"$f":"IFERROR([11]INVERSION!$U$102,\"\")","v":0},{"$f":"IFERROR([11]INVERSION!$V$102,\"\")","v":0},{"$f":"IFERROR([11]INVERSION!$W$102,\"\")","v":0},{"$f":"IFERROR([11]INVERSION!$X$102,\"\")","v":0},{"$f":"IFERROR([11]INVERSION!$Y$102,\"\")","v":0}]
[null,null,null,null,null,null,{"$f":"IFERROR([11]INVERSION!$G$103,\"\")","v":0},{"$f":"IFERROR([11]INVERSION!$H$103,\"\")","v":0},{"$f":"IFERROR([11]INVERSION!$I$103,\"\")","v":0},{"$f":"IFERROR([11]INVERSION!$J$103,\"\")","v":0},{"$f":"IFERROR([11]INVERSION!$K$103,\"\")","v":0},{"$f":"IFERROR([11]INVERSION!$L$103,\"\")","v":0},{"$f":"IFERROR([11]INVERSION!$M$103,\"\")","v":0},{"$f":"IFERROR([11]INVERSION!$N$103,\"\")","v":0},{"$f":"IFERROR([11]INVERSION!$O$103,\"\")","v":0},{"$f":"IFERROR([11]INVERSION!$P$103,\"\")","v":0},{"$f":"IFERROR([11]INVERSION!$Q$103,\"\")","v":0},{"$f":"IFERROR([11]INVERSION!$R$103,\"\")","v":0},{"$f":"IFERROR([11]INVERSION!$S$103,\"\")","v":"00:00:00"},{"$f":"IFERROR([11]INVERSION!$T$103,\"\")","v":"00:00:00"},{"$f":"IFERROR([11]INVERSION!$U$103,\"\")","v":0},{"$f":"IFERROR([11]INVERSION!$V$103,\"\")","v":0},{"$f":"IFERROR([11]INVERSION!$W$103,\"\")","v":0},{"$f":"IFERROR([11]INVERSION!$X$103,\"\")","v":0},{"$f":"IFERROR([11]INVERSION!$Y$103,\"\")","v":0},null,null,null,"","",null,0]
[null,null,null,null,null,null,{"$f":"IFERROR([11]INVERSION!$G$104,\"\")","v":0},{"$f":"IFERROR([11]INVERSION!$H$104,\"\")","v":0},{"$f":"IFERROR([11]INVERSION!$I$104,\"\")","v":0},{"$f":"IFERROR([11]INVERSION!$J$104,\"\")","v":0},{"$f":"IFERROR([11]INVERSION!$K$104,\"\")","v":0},{"$f":"IFERROR([11]INVERSION!$L$104,\"\")","v":0},{"$f":"IFERROR([11]INVERSION!$M$104,\"\")","v":0},{"$f":"IFERROR([11]INVERSION!$N$104,\"\")","v":0},{"$f":"IFERROR([11]INVERSION!$O$104,\"\")","v":0},{"$f":"IFERROR([11]INVERSION!$P$104,\"\")","v":0},{"$f":"IFERROR([11]INVERSION!$Q$104,\"\")","v":0},{"$f":"IFERROR([11]INVERSION!$R$104,\"\")","v":0},{"$f":"IFERROR([11]INVERSION!$S$104,\"\")","v":"00:00:00"},{"$f":"IFERROR([11]INVERSION!$T$104,\"\")","v":"00:00:00"},{"$f":"IFERROR([11]INVERSION!$U$104,\"\")","v":0},{"$f":"IFERROR([11]INVERSION!$V$104,\"\")","v":0},{"$f":"IFERROR([11]INVERSION!$W$104,\"\")","v":0},{"$f":"IFERROR([11]INVERSION!$X$104,\"\")","v":0},{"$f":"IFERROR([11]INVERSION!$Y$104,\"\")","v":0},null,null,null,"","",null,0]
[null,null,null,null,null,null,{"$f":"IFERROR([11]INVERSION!$G$105,\"\")","v":0},{"$f":"IFERROR([11]INVERSION!$H$105,\"\")","v":0},{"$f":"IFERROR([11]INVERSION!$I$105,\"\")","v":0},{"$f":"IFERROR([11]INVERSION!$J$105,\"\")","v":0},{"$f":"IFERROR([11]INVERSION!$K$105,\"\")","v":0},{"$f":"IFERROR([11]INVERSION!$L$105,\"\")","v":0},{"$f":"IFERROR([11]INVERSION!$M$105,\"\")","v":0},{"$f":"IFERROR([11]INVERSION!$N$105,\"\")","v":0},{"$f":"IFERROR([11]INVERSION!$O$105,\"\")","v":0},{"$f":"IFERROR([11]INVERSION!$P$105,\"\")","v":0},{"$f":"IFERROR([11]INVERSION!$Q$105,\"\")","v":0},{"$f":"IFERROR([11]INVERSION!$R$105,\"\")","v":0},{"$f":"IFERROR([11]INVERSION!$S$105,\"\")","v":"00:00:00"},{"$f":"IFERROR([11]INVERSION!$T$105,\"\")","v":"00:00:00"},{"$f":"IFERROR([11]INVERSION!$U$105,\"\")","v":0},{"$f":"IFERROR([11]INVERSION!$V$105,\"\")","v":0},{"$f":"IFERROR([11]INVERSION!$W$105,\"\")","v":0},{"$f":"IFERROR([11]INVERSION!$X$105,\"\")","v":0},{"$f":"IFERROR([11]INVERSION!$Y$105,\"\")","v":0},null,null,null,"","",null,0]
[null,null,"6.Integrar y optimizar los servicios administrativos de la Rama Judicial bajo un enfoque de transformación digital e innovación incluyendo los componentes financiero, administrativo, talento humano, entre otros.",null,null,null,{"$f":"IFERROR([11]INVERSION!$G$106,\"\")","v":0},{"$f":"IFERROR([11]INVERSION!$H$106,\"\")","v":0},{"$f":"IFERROR([11]INVERSION!$I$106,\"\")","v":0},{"$f":"IFERROR([11]INVERSION!$J$106,\"\")","v":0},{"$f":"IFERROR([11]INVERSION!$K$106,\"\")","v":0},{"$f":"IFERROR([11]INVERSION!$L$106,\"\")","v":0},{"$f":"IFERROR([11]INVERSION!$M$106,\"\")","v":0},{"$f":"IFERROR([11]INVERSION!$N$106,\"\")","v":0},{"$f":"IFERROR([11]INVERSION!$O$106,\"\")","v":0},{"$f":"IFERROR([11]INVERSION!$P$106,\"\")","v":0},{"$f":"IFERROR([11]INVERSION!$Q$106,\"\")","v":0},{"$f":"IFERROR([11]INVERSION!$R$106,\"\")","v":0},{"$f":"IFERROR([11]INVERSION!$S$106,\"\")","v":"00:00:00"},{"$f":"IFERROR([11]INVERSION!$T$106,\"\")","v":"00:00:00"},{"$f":"IFERROR([11]INVERSION!$U$106,\"\")","v":0},{"$f":"IFERROR([11]INVERSION!$V$106,\"\")","v":0},{"$f":"IFERROR([11]INVERSION!$W$106,\"\")","v":0},{"$f":"IFERROR([11]INVERSION!$X$106,\"\")","v":0},{"$f":"IFERROR([11]INVERSION!$Y$106,\"\")","v":0},null,null,null,"","",null,0]
[null,null,null,null,null,null,{"$f":"IFERROR([11]INVERSION!$G$107,\"\")","v":0},{"$f":"IFERROR([11]INVERSION!$H$107,\"\")","v":0},{"$f":"IFERROR([11]INVERSION!$I$107,\"\")","v":0},{"$f":"IFERROR([11]INVERSION!$J$107,\"\")","v":0},{"$f":"IFERROR([11]INVERSION!$K$107,\"\")","v":0},{"$f":"IFERROR([11]INVERSION!$L$107,\"\")","v":0},{"$f":"IFERROR([11]INVERSION!$M$107,\"\")","v":0},{"$f":"IFERROR([11]INVERSION!$N$107,\"\")","v":0},{"$f":"IFERROR([11]INVERSION!$O$107,\"\")","v":0},{"$f":"IFERROR([11]INVERSION!$P$107,\"\")","v":0},{"$f":"IFERROR([11]INVERSION!$Q$107,\"\")","v":0},{"$f":"IFERROR([11]INVERSION!$R$107,\"\")","v":0},{"$f":"IFERROR([11]INVERSION!$S$107,\"\")","v":"00:00:00"},{"$f":"IFERROR([11]INVERSION!$T$107,\"\")","v":"00:00:00"},{"$f":"IFERROR([11]INVERSION!$U$107,\"\")","v":0},{"$f":"IFERROR([11]INVERSION!$V$107,\"\")","v":0},{"$f":"IFERROR([11]INVERSION!$W$107,\"\")","v":0},{"$f":"IFERROR([11]INVERSION!$X$107,\"\")","v":0},{"$f":"IFERROR([11]INVERSION!$Y$107,\"\")","v":0},null,null,null,"","",null,0]
[null,null,null,null,null,null,{"$f":"IFERROR([11]INVERSION!$G$108,\"\")","v":0},{"$f":"IFERROR([11]INVERSION!$H$108,\"\")","v":0},{"$f":"IFERROR([11]INVERSION!$I$108,\"\")","v":0},{"$f":"IFERROR([11]INVERSION!$J$108,\"\")","v":0},{"$f":"IFERROR([11]INVERSION!$K$108,\"\")","v":0},{"$f":"IFERROR([11]INVERSION!$L$108,\"\")","v":0},{"$f":"IFERROR([11]INVERSION!$M$108,\"\")","v":0},{"$f":"IFERROR([11]INVERSION!$N$108,\"\")","v":0},{"$f":"IFERROR([11]INVERSION!$O$108,\"\")","v":0},{"$f":"IFERROR([11]INVERSION!$P$108,\"\")","v":0},{"$f":"IFERROR([11]INVERSION!$Q$108,\"\")","v":0},{"$f":"IFERROR([11]INVERSION!$R$108,\"\")","v":0},{"$f":"IFERROR([11]INVERSION!$S$108,\"\")","v":"00:00:00"},{"$f":"IFERROR([11]INVERSION!$T$108,\"\")","v":"00:00:00"},{"$f":"IFERROR([11]INVERSION!$U$108,\"\")","v":0},{"$f":"IFERROR([11]INVERSION!$V$108,\"\")","v":0},{"$f":"IFERROR([11]INVERSION!$W$108,\"\")","v":0},{"$f":"IFERROR([11]INVERSION!$X$108,\"\")","v":0},{"$f":"IFERROR([11]INVERSION!$Y$108,\"\")","v":0}]
[null,null,null,null,null,null,{"$f":"IFERROR([11]INVERSION!$G$109,\"\")","v":0},{"$f":"IFERROR([11]INVERSION!$H$109,\"\")","v":0},{"$f":"IFERROR([11]INVERSION!$I$109,\"\")","v":0},{"$f":"IFERROR([11]INVERSION!$J$109,\"\")","v":0},{"$f":"IFERROR([11]INVERSION!$K$109,\"\")","v":0},{"$f":"IFERROR([11]INVERSION!$L$109,\"\")","v":0},{"$f":"IFERROR([11]INVERSION!$M$109,\"\")","v":0},{"$f":"IFERROR([11]INVERSION!$N$109,\"\")","v":0},{"$f":"IFERROR([11]INVERSION!$O$109,\"\")","v":0},{"$f":"IFERROR([11]INVERSION!$P$109,\"\")","v":0},{"$f":"IFERROR([11]INVERSION!$Q$109,\"\")","v":0},{"$f":"IFERROR([11]INVERSION!$R$109,\"\")","v":0},{"$f":"IFERROR([11]INVERSION!$S$109,\"\")","v":"00:00:00"},{"$f":"IFERROR([11]INVERSION!$T$109,\"\")","v":"00:00:00"},{"$f":"IFERROR([11]INVERSION!$U$109,\"\")","v":0},{"$f":"IFERROR([11]INVERSION!$V$109,\"\")","v":0},{"$f":"IFERROR([11]INVERSION!$W$109,\"\")","v":0},{"$f":"IFERROR([11]INVERSION!$X$109,\"\")","v":0},{"$f":"IFERROR([11]INVERSION!$Y$109,\"\")","v":0}]
[null,null,null,null,null,null,{"$f":"IFERROR([11]INVERSION!$G$110,\"\")","v":0},{"$f":"IFERROR([11]INVERSION!$H$110,\"\")","v":0},{"$f":"IFERROR([11]INVERSION!$I$110,\"\")","v":0},{"$f":"IFERROR([11]INVERSION!$J$110,\"\")","v":0},{"$f":"IFERROR([11]INVERSION!$K$110,\"\")","v":0},{"$f":"IFERROR([11]INVERSION!$L$110,\"\")","v":0},{"$f":"IFERROR([11]INVERSION!$M$110,\"\")","v":0},{"$f":"IFERROR([11]INVERSION!$N$110,\"\")","v":0},{"$f":"IFERROR([11]INVERSION!$O$110,\"\")","v":0},{"$f":"IFERROR([11]INVERSION!$P$110,\"\")","v":0},{"$f":"IFERROR([11]INVERSION!$Q$110,\"\")","v":0},{"$f":"IFERROR([11]INVERSION!$R$110,\"\")","v":0},{"$f":"IFERROR([11]INVERSION!$S$110,\"\")","v":"00:00:00"},{"$f":"IFERROR([11]INVERSION!$T$110,\"\")","v":"00:00:00"},{"$f":"IFERROR([11]INVERSION!$U$110,\"\")","v":0},{"$f":"IFERROR([11]INVERSION!$V$110,\"\")","v":0},{"$f":"IFERROR([11]INVERSION!$W$110,\"\")","v":0},{"$f":"IFERROR([11]INVERSION!$X$110,\"\")","v":0},{"$f":"IFERROR([11]INVERSION!$Y$110,\"\")","v":0}]
[null,null,null,null,null,null,{"$f":"IFERROR([11]INVERSION!$G$111,\"\")","v":0},{"$f":"IFERROR([11]INVERSION!$H$111,\"\")","v":0},{"$f":"IFERROR([11]INVERSION!$I$111,\"\")","v":0},{"$f":"IFERROR([11]INVERSION!$J$111,\"\")","v":0},{"$f":"IFERROR([11]INVERSION!$K$111,\"\")","v":0},{"$f":"IFERROR([11]INVERSION!$L$111,\"\")","v":0},{"$f":"IFERROR([11]INVERSION!$M$111,\"\")","v":0},{"$f":"IFERROR([11]INVERSION!$N$111,\"\")","v":0},{"$f":"IFERROR([11]INVERSION!$O$111,\"\")","v":0},{"$f":"IFERROR([11]INVERSION!$P$111,\"\")","v":0},{"$f":"IFERROR([11]INVERSION!$Q$111,\"\")","v":0},{"$f":"IFERROR([11]INVERSION!$R$111,\"\")","v":0},{"$f":"IFERROR([11]INVERSION!$S$111,\"\")","v":"00:00:00"},{"$f":"IFERROR([11]INVERSION!$T$111,\"\")","v":"00:00:00"},{"$f":"IFERROR([11]INVERSION!$U$111,\"\")","v":0},{"$f":"IFERROR([11]INVERSION!$V$111,\"\")","v":0},{"$f":"IFERROR([11]INVERSION!$W$111,\"\")","v":0},{"$f":"IFERROR([11]INVERSION!$X$111,\"\")","v":0},{"$f":"IFERROR([11]INVERSION!$Y$111,\"\")","v":0}]
[null,null,null,null,null,null,{"$f":"IFERROR([11]INVERSION!$G$112,\"\")","v":0},{"$f":"IFERROR([11]INVERSION!$H$112,\"\")","v":0},{"$f":"IFERROR([11]INVERSION!$I$112,\"\")","v":0},{"$f":"IFERROR([11]INVERSION!$J$112,\"\")","v":0},{"$f":"IFERROR([11]INVERSION!$K$112,\"\")","v":0},{"$f":"IFERROR([11]INVERSION!$L$112,\"\")","v":0},{"$f":"IFERROR([11]INVERSION!$M$112,\"\")","v":0},{"$f":"IFERROR([11]INVERSION!$N$112,\"\")","v":0},{"$f":"IFERROR([11]INVERSION!$O$112,\"\")","v":0},{"$f":"IFERROR([11]INVERSION!$P$112,\"\")","v":0},{"$f":"IFERROR([11]INVERSION!$Q$112,\"\")","v":0},{"$f":"IFERROR([11]INVERSION!$R$112,\"\")","v":0},{"$f":"IFERROR([11]INVERSION!$S$112,\"\")","v":"00:00:00"},{"$f":"IFERROR([11]INVERSION!$T$112,\"\")","v":"00:00:00"},{"$f":"IFERROR([11]INVERSION!$U$112,\"\")","v":0},{"$f":"IFERROR([11]INVERSION!$V$112,\"\")","v":0},{"$f":"IFERROR([11]INVERSION!$W$112,\"\")","v":0},{"$f":"IFERROR([11]INVERSION!$X$112,\"\")","v":0},{"$f":"IFERROR([11]INVERSION!$Y$112,\"\")","v":0}]
[null,null,null,null,null,null,{"$f":"IFERROR([11]INVERSION!$G$113,\"\")","v":0},{"$f":"IFERROR([11]INVERSION!$H$113,\"\")","v":0},{"$f":"IFERROR([11]INVERSION!$I$113,\"\")","v":0},{"$f":"IFERROR([11]INVERSION!$J$113,\"\")","v":0},{"$f":"IFERROR([11]INVERSION!$K$113,\"\")","v":0},{"$f":"IFERROR([11]INVERSION!$L$113,\"\")","v":0},{"$f":"IFERROR([11]INVERSION!$M$113,\"\")","v":0},{"$f":"IFERROR([11]INVERSION!$N$113,\"\")","v":0},{"$f":"IFERROR([11]INVERSION!$O$113,\"\")","v":0},{"$f":"IFERROR([11]INVERSION!$P$113,\"\")","v":0},{"$f":"IFERROR([11]INVERSION!$Q$113,\"\")","v":0},{"$f":"IFERROR([11]INVERSION!$R$113,\"\")","v":0},{"$f":"IFERROR([11]INVERSION!$S$113,\"\")","v":"00:00:00"},{"$f":"IFERROR([11]INVERSION!$T$113,\"\")","v":"00:00:00"},{"$f":"IFERROR([11]INVERSION!$U$113,\"\")","v":0},{"$f":"IFERROR([11]INVERSION!$V$113,\"\")","v":0},{"$f":"IFERROR([11]INVERSION!$W$113,\"\")","v":0},{"$f":"IFERROR([11]INVERSION!$X$113,\"\")","v":0},{"$f":"IFERROR([11]INVERSION!$Y$113,\"\")","v":0},null,null,null,"","",null,0]
[null,null,null,null,null,null,{"$f":"IFERROR([11]INVERSION!$G$114,\"\")","v":0},{"$f":"IFERROR([11]INVERSION!$H$114,\"\")","v":0},{"$f":"IFERROR([11]INVERSION!$I$114,\"\")","v":0},{"$f":"IFERROR([11]INVERSION!$J$114,\"\")","v":0},{"$f":"IFERROR([11]INVERSION!$K$114,\"\")","v":0},{"$f":"IFERROR([11]INVERSION!$L$114,\"\")","v":0},{"$f":"IFERROR([11]INVERSION!$M$114,\"\")","v":0},{"$f":"IFERROR([11]INVERSION!$N$114,\"\")","v":0},{"$f":"IFERROR([11]INVERSION!$O$114,\"\")","v":0},{"$f":"IFERROR([11]INVERSION!$P$114,\"\")","v":0},{"$f":"IFERROR([11]INVERSION!$Q$114,\"\")","v":0},{"$f":"IFERROR([11]INVERSION!$R$114,\"\")","v":0},{"$f":"IFERROR([11]INVERSION!$S$114,\"\")","v":"00:00:00"},{"$f":"IFERROR([11]INVERSION!$T$114,\"\")","v":"00:00:00"},{"$f":"IFERROR([11]INVERSION!$U$114,\"\")","v":0},{"$f":"IFERROR([11]INVERSION!$V$114,\"\")","v":0},{"$f":"IFERROR([11]INVERSION!$W$114,\"\")","v":0},{"$f":"IFERROR([11]INVERSION!$X$114,\"\")","v":0},{"$f":"IFERROR([11]INVERSION!$Y$114,\"\")","v":0},null,null,null,"","",null,0]
[null,null,null,null,null,null,{"$f":"IFERROR([11]INVERSION!$G$115,\"\")","v":0},{"$f":"IFERROR([11]INVERSION!$H$115,\"\")","v":0},{"$f":"IFERROR([11]INVERSION!$I$115,\"\")","v":0},{"$f":"IFERROR([11]INVERSION!$J$115,\"\")","v":0},{"$f":"IFERROR([11]INVERSION!$K$115,\"\")","v":0},{"$f":"IFERROR([11]INVERSION!$L$115,\"\")","v":0},{"$f":"IFERROR([11]INVERSION!$M$115,\"\")","v":0},{"$f":"IFERROR([11]INVERSION!$N$115,\"\")","v":0},{"$f":"IFERROR([11]INVERSION!$O$115,\"\")","v":0},{"$f":"IFERROR([11]INVERSION!$P$115,\"\")","v":0},{"$f":"IFERROR([11]INVERSION!$Q$115,\"\")","v":0},{"$f":"IFERROR([11]INVERSION!$R$115,\"\")","v":0},{"$f":"IFERROR([11]INVERSION!$S$115,\"\")","v":"00:00:00"},{"$f":"IFERROR([11]INVERSION!$T$115,\"\")","v":"00:00:00"},{"$f":"IFERROR([11]INVERSION!$U$115,\"\")","v":0},{"$f":"IFERROR([11]INVERSION!$V$115,\"\")","v":0},{"$f":"IFERROR([11]INVERSION!$W$115,\"\")","v":0},{"$f":"IFERROR([11]INVERSION!$X$115,\"\")","v":0},{"$f":"IFERROR([11]INVERSION!$Y$115,\"\")","v":0},null,null,null,"","",null,0]
["3. Confianza pública, transparencia y rendición de cuentas","Confianza pública, transparencia y rendición de cuentas: Aumentar la confianza pública en la justicia a través de la transparencia, la rendición de cuentas y la participación, incluyendo la información de justicia y la producción, gestión y acceso a las fuentes de derecho, el fortalecimiento del sistema de gestión de calidad y medio ambiente (SIGCMA) y el mejoramiento de la calidad y publicidad de la información. ","1. Incrementar la cantidad, la calidad y pertinencia de los datos sobre el funcionamiento del servicio de justicia bajo un modelo de gobierno de datos y un liderazgo unificado. ","Modelo de\ngobierno y calidad de datos implementado","% de implementa ción del modelo de gobierno y calidad de datos","4. Hacer un uso racional de los recursos naturales aplicando los principios y fases de la Economía Circular, para prevenir, mitigar y controlar los impactos ambientales.",{"$f":"IFERROR([11]INVERSION!$G$116,\"\")","v":0},{"$f":"IFERROR([11]INVERSION!$H$116,\"\")","v":0},{"$f":"IFERROR([11]INVERSION!$I$116,\"\")","v":0},{"$f":"IFERROR([11]INVERSION!$J$116,\"\")","v":0},{"$f":"IFERROR([11]INVERSION!$K$116,\"\")","v":0},{"$f":"IFERROR([11]INVERSION!$L$116,\"\")","v":0},{"$f":"IFERROR([11]INVERSION!$M$116,\"\")","v":0},{"$f":"IFERROR([11]INVERSION!$N$116,\"\")","v":0},{"$f":"IFERROR([11]INVERSION!$O$116,\"\")","v":0},{"$f":"IFERROR([11]INVERSION!$P$116,\"\")","v":0},{"$f":"IFERROR([11]INVERSION!$Q$116,\"\")","v":0},{"$f":"IFERROR([11]INVERSION!$R$116,\"\")","v":0},{"$f":"IFERROR([11]INVERSION!$S$116,\"\")","v":"00:00:00"},{"$f":"IFERROR([11]INVERSION!$T$116,\"\")","v":"00:00:00"},{"$f":"IFERROR([11]INVERSION!$U$116,\"\")","v":0},{"$f":"IFERROR([11]INVERSION!$V$116,\"\")","v":0},{"$f":"IFERROR([11]INVERSION!$W$116,\"\")","v":0},{"$f":"IFERROR([11]INVERSION!$X$116,\"\")","v":0},{"$f":"IFERROR([11]INVERSION!$Y$116,\"\")","v":0},null,null,null,"","",null,0]
[null,null,null,null,null,null,{"$f":"IFERROR([11]INVERSION!$G$117,\"\")","v":0},{"$f":"IFERROR([11]INVERSION!$H$117,\"\")","v":0},{"$f":"IFERROR([11]INVERSION!$I$117,\"\")","v":0},{"$f":"IFERROR([11]INVERSION!$J$117,\"\")","v":0},{"$f":"IFERROR([11]INVERSION!$K$117,\"\")","v":0},{"$f":"IFERROR([11]INVERSION!$L$117,\"\")","v":0},{"$f":"IFERROR([11]INVERSION!$M$117,\"\")","v":0},{"$f":"IFERROR([11]INVERSION!$N$117,\"\")","v":0},{"$f":"IFERROR([11]INVERSION!$O$117,\"\")","v":0},{"$f":"IFERROR([11]INVERSION!$P$117,\"\")","v":0},{"$f":"IFERROR([11]INVERSION!$Q$117,\"\")","v":0},{"$f":"IFERROR([11]INVERSION!$R$117,\"\")","v":0},{"$f":"IFERROR([11]INVERSION!$S$117,\"\")","v":"00:00:00"},{"$f":"IFERROR([11]INVERSION!$T$117,\"\")","v":"00:00:00"},{"$f":"IFERROR([11]INVERSION!$U$117,\"\")","v":0},{"$f":"IFERROR([11]INVERSION!$V$117,\"\")","v":0},{"$f":"IFERROR([11]INVERSION!$W$117,\"\")","v":0},{"$f":"IFERROR([11]INVERSION!$X$117,\"\")","v":0},{"$f":"IFERROR([11]INVERSION!$Y$117,\"\")","v":0},null,null,null,"","",null,0]
[null,null,null,null,null,null,{"$f":"IFERROR([11]INVERSION!$G$118,\"\")","v":0},{"$f":"IFERROR([11]INVERSION!$H$118,\"\")","v":0},{"$f":"IFERROR([11]INVERSION!$I$118,\"\")","v":0},{"$f":"IFERROR([11]INVERSION!$J$118,\"\")","v":0},{"$f":"IFERROR([11]INVERSION!$K$118,\"\")","v":0},{"$f":"IFERROR([11]INVERSION!$L$118,\"\")","v":0},{"$f":"IFERROR([11]INVERSION!$M$118,\"\")","v":0},{"$f":"IFERROR([11]INVERSION!$N$118,\"\")","v":0},{"$f":"IFERROR([11]INVERSION!$O$118,\"\")","v":0},{"$f":"IFERROR([11]INVERSION!$P$118,\"\")","v":0},{"$f":"IFERROR([11]INVERSION!$Q$118,\"\")","v":0},{"$f":"IFERROR([11]INVERSION!$R$118,\"\")","v":0},{"$f":"IFERROR([11]INVERSION!$S$118,\"\")","v":"00:00:00"},{"$f":"IFERROR([11]INVERSION!$T$118,\"\")","v":"00:00:00"},{"$f":"IFERROR([11]INVERSION!$U$118,\"\")","v":0},{"$f":"IFERROR([11]INVERSION!$V$118,\"\")","v":0},{"$f":"IFERROR([11]INVERSION!$W$118,\"\")","v":0},{"$f":"IFERROR([11]INVERSION!$X$118,\"\")","v":0},{"$f":"IFERROR([11]INVERSION!$Y$118,\"\")","v":0}]
[null,null,null,null,null,null,{"$f":"IFERROR([11]INVERSION!$G$119,\"\")","v":0},{"$f":"IFERROR([11]INVERSION!$H$119,\"\")","v":0},{"$f":"IFERROR([11]INVERSION!$I$119,\"\")","v":0},{"$f":"IFERROR([11]INVERSION!$J$119,\"\")","v":0},{"$f":"IFERROR([11]INVERSION!$K$119,\"\")","v":0},{"$f":"IFERROR([11]INVERSION!$L$119,\"\")","v":0},{"$f":"IFERROR([11]INVERSION!$M$119,\"\")","v":0},{"$f":"IFERROR([11]INVERSION!$N$119,\"\")","v":0},{"$f":"IFERROR([11]INVERSION!$O$119,\"\")","v":0},{"$f":"IFERROR([11]INVERSION!$P$119,\"\")","v":0},{"$f":"IFERROR([11]INVERSION!$Q$119,\"\")","v":0},{"$f":"IFERROR([11]INVERSION!$R$119,\"\")","v":0},{"$f":"IFERROR([11]INVERSION!$S$119,\"\")","v":"00:00:00"},{"$f":"IFERROR([11]INVERSION!$T$119,\"\")","v":"00:00:00"},{"$f":"IFERROR([11]INVERSION!$U$119,\"\")","v":0},{"$f":"IFERROR([11]INVERSION!$V$119,\"\")","v":0},{"$f":"IFERROR([11]INVERSION!$W$119,\"\")","v":0},{"$f":"IFERROR([11]INVERSION!$X$119,\"\")","v":0},{"$f":"IFERROR([11]INVERSION!$Y$119,\"\")","v":0}]
[null,null,null,null,null,null,{"$f":"IFERROR([11]INVERSION!$G$120,\"\")","v":0},{"$f":"IFERROR([11]INVERSION!$H$120,\"\")","v":0},{"$f":"IFERROR([11]INVERSION!$I$120,\"\")","v":0},{"$f":"IFERROR([11]INVERSION!$J$120,\"\")","v":0},{"$f":"IFERROR([11]INVERSION!$K$120,\"\")","v":0},{"$f":"IFERROR([11]INVERSION!$L$120,\"\")","v":0},{"$f":"IFERROR([11]INVERSION!$M$120,\"\")","v":0},{"$f":"IFERROR([11]INVERSION!$N$120,\"\")","v":0},{"$f":"IFERROR([11]INVERSION!$O$120,\"\")","v":0},{"$f":"IFERROR([11]INVERSION!$P$120,\"\")","v":0},{"$f":"IFERROR([11]INVERSION!$Q$120,\"\")","v":0},{"$f":"IFERROR([11]INVERSION!$R$120,\"\")","v":0},{"$f":"IFERROR([11]INVERSION!$S$120,\"\")","v":"00:00:00"},{"$f":"IFERROR([11]INVERSION!$T$120,\"\")","v":"00:00:00"},{"$f":"IFERROR([11]INVERSION!$U$120,\"\")","v":0},{"$f":"IFERROR([11]INVERSION!$V$120,\"\")","v":0},{"$f":"IFERROR([11]INVERSION!$W$120,\"\")","v":0},{"$f":"IFERROR([11]INVERSION!$X$120,\"\")","v":0},{"$f":"IFERROR([11]INVERSION!$Y$120,\"\")","v":0}]
[null,null,null,null,null,null,{"$f":"IFERROR([11]INVERSION!$G$121,\"\")","v":0},{"$f":"IFERROR([11]INVERSION!$H$121,\"\")","v":0},{"$f":"IFERROR([11]INVERSION!$I$121,\"\")","v":0},{"$f":"IFERROR([11]INVERSION!$J$121,\"\")","v":0},{"$f":"IFERROR([11]INVERSION!$K$121,\"\")","v":0},{"$f":"IFERROR([11]INVERSION!$L$121,\"\")","v":0},{"$f":"IFERROR([11]INVERSION!$M$121,\"\")","v":0},{"$f":"IFERROR([11]INVERSION!$N$121,\"\")","v":0},{"$f":"IFERROR([11]INVERSION!$O$121,\"\")","v":0},{"$f":"IFERROR([11]INVERSION!$P$121,\"\")","v":0},{"$f":"IFERROR([11]INVERSION!$Q$121,\"\")","v":0},{"$f":"IFERROR([11]INVERSION!$R$121,\"\")","v":0},{"$f":"IFERROR([11]INVERSION!$S$121,\"\")","v":"00:00:00"},{"$f":"IFERROR([11]INVERSION!$T$121,\"\")","v":"00:00:00"},{"$f":"IFERROR([11]INVERSION!$U$121,\"\")","v":0},{"$f":"IFERROR([11]INVERSION!$V$121,\"\")","v":0},{"$f":"IFERROR([11]INVERSION!$W$121,\"\")","v":0},{"$f":"IFERROR([11]INVERSION!$X$121,\"\")","v":0},{"$f":"IFERROR([11]INVERSION!$Y$121,\"\")","v":0}]
[null,null,null,null,null,null,{"$f":"IFERROR([11]INVERSION!$G$122,\"\")","v":0},{"$f":"IFERROR([11]INVERSION!$H$122,\"\")","v":0},{"$f":"IFERROR([11]INVERSION!$I$122,\"\")","v":0},{"$f":"IFERROR([11]INVERSION!$J$122,\"\")","v":0},{"$f":"IFERROR([11]INVERSION!$K$122,\"\")","v":0},{"$f":"IFERROR([11]INVERSION!$L$122,\"\")","v":0},{"$f":"IFERROR([11]INVERSION!$M$122,\"\")","v":0},{"$f":"IFERROR([11]INVERSION!$N$122,\"\")","v":0},{"$f":"IFERROR([11]INVERSION!$O$122,\"\")","v":0},{"$f":"IFERROR([11]INVERSION!$P$122,\"\")","v":0},{"$f":"IFERROR([11]INVERSION!$Q$122,\"\")","v":0},{"$f":"IFERROR([11]INVERSION!$R$122,\"\")","v":0},{"$f":"IFERROR([11]INVERSION!$S$122,\"\")","v":"00:00:00"},{"$f":"IFERROR([11]INVERSION!$T$122,\"\")","v":"00:00:00"},{"$f":"IFERROR([11]INVERSION!$U$122,\"\")","v":0},{"$f":"IFERROR([11]INVERSION!$V$122,\"\")","v":0},{"$f":"IFERROR([11]INVERSION!$W$122,\"\")","v":0},{"$f":"IFERROR([11]INVERSION!$X$122,\"\")","v":0},{"$f":"IFERROR([11]INVERSION!$Y$122,\"\")","v":0}]
[null,null,null,null,null,null,{"$f":"IFERROR([11]INVERSION!$G$123,\"\")","v":0},{"$f":"IFERROR([11]INVERSION!$H$123,\"\")","v":0},{"$f":"IFERROR([11]INVERSION!$I$123,\"\")","v":0},{"$f":"IFERROR([11]INVERSION!$J$123,\"\")","v":0},{"$f":"IFERROR([11]INVERSION!$K$123,\"\")","v":0},{"$f":"IFERROR([11]INVERSION!$L$123,\"\")","v":0},{"$f":"IFERROR([11]INVERSION!$M$123,\"\")","v":0},{"$f":"IFERROR([11]INVERSION!$N$123,\"\")","v":0},{"$f":"IFERROR([11]INVERSION!$O$123,\"\")","v":0},{"$f":"IFERROR([11]INVERSION!$P$123,\"\")","v":0},{"$f":"IFERROR([11]INVERSION!$Q$123,\"\")","v":0},{"$f":"IFERROR([11]INVERSION!$R$123,\"\")","v":0},{"$f":"IFERROR([11]INVERSION!$S$123,\"\")","v":"00:00:00"},{"$f":"IFERROR([11]INVERSION!$T$123,\"\")","v":"00:00:00"},{"$f":"IFERROR([11]INVERSION!$U$123,\"\")","v":0},{"$f":"IFERROR([11]INVERSION!$V$123,\"\")","v":0},{"$f":"IFERROR([11]INVERSION!$W$123,\"\")","v":0},{"$f":"IFERROR([11]INVERSION!$X$123,\"\")","v":0},{"$f":"IFERROR([11]INVERSION!$Y$123,\"\")","v":0},null,null,null,"","",null,0]
[null,null,null,null,null,null,{"$f":"IFERROR([11]INVERSION!$G$124,\"\")","v":0},{"$f":"IFERROR([11]INVERSION!$H$124,\"\")","v":0},{"$f":"IFERROR([11]INVERSION!$I$124,\"\")","v":0},{"$f":"IFERROR([11]INVERSION!$J$124,\"\")","v":0},{"$f":"IFERROR([11]INVERSION!$K$124,\"\")","v":0},{"$f":"IFERROR([11]INVERSION!$L$124,\"\")","v":0},{"$f":"IFERROR([11]INVERSION!$M$124,\"\")","v":0},{"$f":"IFERROR([11]INVERSION!$N$124,\"\")","v":0},{"$f":"IFERROR([11]INVERSION!$O$124,\"\")","v":0},{"$f":"IFERROR([11]INVERSION!$P$124,\"\")","v":0},{"$f":"IFERROR([11]INVERSION!$Q$124,\"\")","v":0},{"$f":"IFERROR([11]INVERSION!$R$124,\"\")","v":0},{"$f":"IFERROR([11]INVERSION!$S$124,\"\")","v":"00:00:00"},{"$f":"IFERROR([11]INVERSION!$T$124,\"\")","v":"00:00:00"},{"$f":"IFERROR([11]INVERSION!$U$124,\"\")","v":0},{"$f":"IFERROR([11]INVERSION!$V$124,\"\")","v":0},{"$f":"IFERROR([11]INVERSION!$W$124,\"\")","v":0},{"$f":"IFERROR([11]INVERSION!$X$124,\"\")","v":0},{"$f":"IFERROR([11]INVERSION!$Y$124,\"\")","v":0},null,null,null,"","",null,0]
[null,null,null,null,null,null,{"$f":"IFERROR([11]INVERSION!$G$125,\"\")","v":0},{"$f":"IFERROR([11]INVERSION!$H$125,\"\")","v":0},{"$f":"IFERROR([11]INVERSION!$I$125,\"\")","v":0},{"$f":"IFERROR([11]INVERSION!$J$125,\"\")","v":0},{"$f":"IFERROR([11]INVERSION!$K$125,\"\")","v":0},{"$f":"IFERROR([11]INVERSION!$L$125,\"\")","v":0},{"$f":"IFERROR([11]INVERSION!$M$125,\"\")","v":0},{"$f":"IFERROR([11]INVERSION!$N$125,\"\")","v":0},{"$f":"IFERROR([11]INVERSION!$O$125,\"\")","v":0},{"$f":"IFERROR([11]INVERSION!$P$125,\"\")","v":0},{"$f":"IFERROR([11]INVERSION!$Q$125,\"\")","v":0},{"$f":"IFERROR([11]INVERSION!$R$125,\"\")","v":0},{"$f":"IFERROR([11]INVERSION!$S$125,\"\")","v":"00:00:00"},{"$f":"IFERROR([11]INVERSION!$T$125,\"\")","v":"00:00:00"},{"$f":"IFERROR([11]INVERSION!$U$125,\"\")","v":0},{"$f":"IFERROR([11]INVERSION!$V$125,\"\")","v":0},{"$f":"IFERROR([11]INVERSION!$W$125,\"\")","v":0},{"$f":"IFERROR([11]INVERSION!$X$125,\"\")","v":0},{"$f":"IFERROR([11]INVERSION!$Y$125,\"\")","v":0},null,null,null,"","",null,0]
[null,null,"2. Consolidar la administración de la información entendida como todas las acciones rientadas a garantizar el acceso, consulta, uso y conservación de la información de justicia de manera ágil, flexible e inteligente, bajo un enfoque de innovación.","Modelo de producción, acceso, consulta y conservación del conocimiento jurídico","% de implementa ción del modelo de producción, acceso, consulta y conservació n del conocimient o jurídico",null,{"$f":"IFERROR([11]INVERSION!$G$126,\"\")","v":0},{"$f":"IFERROR([11]INVERSION!$H$126,\"\")","v":0},{"$f":"IFERROR([11]INVERSION!$I$126,\"\")","v":0},{"$f":"IFERROR([11]INVERSION!$J$126,\"\")","v":0},{"$f":"IFERROR([11]INVERSION!$K$126,\"\")","v":0},{"$f":"IFERROR([11]INVERSION!$L$126,\"\")","v":0},{"$f":"IFERROR([11]INVERSION!$M$126,\"\")","v":0},{"$f":"IFERROR([11]INVERSION!$N$126,\"\")","v":0},{"$f":"IFERROR([11]INVERSION!$O$126,\"\")","v":0},{"$f":"IFERROR([11]INVERSION!$P$126,\"\")","v":0},{"$f":"IFERROR([11]INVERSION!$Q$126,\"\")","v":0},{"$f":"IFERROR([11]INVERSION!$R$126,\"\")","v":0},{"$f":"IFERROR([11]INVERSION!$S$126,\"\")","v":"00:00:00"},{"$f":"IFERROR([11]INVERSION!$T$126,\"\")","v":"00:00:00"},{"$f":"IFERROR([11]INVERSION!$U$126,\"\")","v":0},{"$f":"IFERROR([11]INVERSION!$V$126,\"\")","v":0},{"$f":"IFERROR([11]INVERSION!$W$126,\"\")","v":0},{"$f":"IFERROR([11]INVERSION!$X$126,\"\")","v":0},{"$f":"IFERROR([11]INVERSION!$Y$126,\"\")","v":0},null,null,null,"","",null,0]
[null,null,null,null,null,null,{"$f":"IFERROR([11]INVERSION!$G$127,\"\")","v":0},{"$f":"IFERROR([11]INVERSION!$H$127,\"\")","v":0},{"$f":"IFERROR([11]INVERSION!$I$127,\"\")","v":0},{"$f":"IFERROR([11]INVERSION!$J$127,\"\")","v":0},{"$f":"IFERROR([11]INVERSION!$K$127,\"\")","v":0},{"$f":"IFERROR([11]INVERSION!$L$127,\"\")","v":0},{"$f":"IFERROR([11]INVERSION!$M$127,\"\")","v":0},{"$f":"IFERROR([11]INVERSION!$N$127,\"\")","v":0},{"$f":"IFERROR([11]INVERSION!$O$127,\"\")","v":0},{"$f":"IFERROR([11]INVERSION!$P$127,\"\")","v":0},{"$f":"IFERROR([11]INVERSION!$Q$127,\"\")","v":0},{"$f":"IFERROR([11]INVERSION!$R$127,\"\")","v":0},{"$f":"IFERROR([11]INVERSION!$S$127,\"\")","v":"00:00:00"},{"$f":"IFERROR([11]INVERSION!$T$127,\"\")","v":"00:00:00"},{"$f":"IFERROR([11]INVERSION!$U$127,\"\")","v":0},{"$f":"IFERROR([11]INVERSION!$V$127,\"\")","v":0},{"$f":"IFERROR([11]INVERSION!$W$127,\"\")","v":0},{"$f":"IFERROR([11]INVERSION!$X$127,\"\")","v":0},{"$f":"IFERROR([11]INVERSION!$Y$127,\"\")","v":0},null,null,null,"","",null,0]
[null,null,null,null,null,null,{"$f":"IFERROR([11]INVERSION!$G$128,\"\")","v":0},{"$f":"IFERROR([11]INVERSION!$H$128,\"\")","v":0},{"$f":"IFERROR([11]INVERSION!$I$128,\"\")","v":0},{"$f":"IFERROR([11]INVERSION!$J$128,\"\")","v":0},{"$f":"IFERROR([11]INVERSION!$K$128,\"\")","v":0},{"$f":"IFERROR([11]INVERSION!$L$128,\"\")","v":0},{"$f":"IFERROR([11]INVERSION!$M$128,\"\")","v":0},{"$f":"IFERROR([11]INVERSION!$N$128,\"\")","v":0},{"$f":"IFERROR([11]INVERSION!$O$128,\"\")","v":0},{"$f":"IFERROR([11]INVERSION!$P$128,\"\")","v":0},{"$f":"IFERROR([11]INVERSION!$Q$128,\"\")","v":0},{"$f":"IFERROR([11]INVERSION!$R$128,\"\")","v":0},{"$f":"IFERROR([11]INVERSION!$S$128,\"\")","v":"00:00:00"},{"$f":"IFERROR([11]INVERSION!$T$128,\"\")","v":"00:00:00"},{"$f":"IFERROR([11]INVERSION!$U$128,\"\")","v":0},{"$f":"IFERROR([11]INVERSION!$V$128,\"\")","v":0},{"$f":"IFERROR([11]INVERSION!$W$128,\"\")","v":0},{"$f":"IFERROR([11]INVERSION!$X$128,\"\")","v":0},{"$f":"IFERROR([11]INVERSION!$Y$128,\"\")","v":0}]
[null,null,null,null,null,null,{"$f":"IFERROR([11]INVERSION!$G$129,\"\")","v":0},{"$f":"IFERROR([11]INVERSION!$H$129,\"\")","v":0},{"$f":"IFERROR([11]INVERSION!$I$129,\"\")","v":0},{"$f":"IFERROR([11]INVERSION!$J$129,\"\")","v":0},{"$f":"IFERROR([11]INVERSION!$K$129,\"\")","v":0},{"$f":"IFERROR([11]INVERSION!$L$129,\"\")","v":0},{"$f":"IFERROR([11]INVERSION!$M$129,\"\")","v":0},{"$f":"IFERROR([11]INVERSION!$N$129,\"\")","v":0},{"$f":"IFERROR([11]INVERSION!$O$129,\"\")","v":0},{"$f":"IFERROR([11]INVERSION!$P$129,\"\")","v":0},{"$f":"IFERROR([11]INVERSION!$Q$129,\"\")","v":0},{"$f":"IFERROR([11]INVERSION!$R$129,\"\")","v":0},{"$f":"IFERROR([11]INVERSION!$S$129,\"\")","v":"00:00:00"},{"$f":"IFERROR([11]INVERSION!$T$129,\"\")","v":"00:00:00"},{"$f":"IFERROR([11]INVERSION!$U$129,\"\")","v":0},{"$f":"IFERROR([11]INVERSION!$V$129,\"\")","v":0},{"$f":"IFERROR([11]INVERSION!$W$129,\"\")","v":0},{"$f":"IFERROR([11]INVERSION!$X$129,\"\")","v":0},{"$f":"IFERROR([11]INVERSION!$Y$129,\"\")","v":0}]
[null,null,null,null,null,null,{"$f":"IFERROR([11]INVERSION!$G$130,\"\")","v":0},{"$f":"IFERROR([11]INVERSION!$H$130,\"\")","v":0},{"$f":"IFERROR([11]INVERSION!$I$130,\"\")","v":0},{"$f":"IFERROR([11]INVERSION!$J$130,\"\")","v":0},{"$f":"IFERROR([11]INVERSION!$K$130,\"\")","v":0},{"$f":"IFERROR([11]INVERSION!$L$130,\"\")","v":0},{"$f":"IFERROR([11]INVERSION!$M$130,\"\")","v":0},{"$f":"IFERROR([11]INVERSION!$N$130,\"\")","v":0},{"$f":"IFERROR([11]INVERSION!$O$130,\"\")","v":0},{"$f":"IFERROR([11]INVERSION!$P$130,\"\")","v":0},{"$f":"IFERROR([11]INVERSION!$Q$130,\"\")","v":0},{"$f":"IFERROR([11]INVERSION!$R$130,\"\")","v":0},{"$f":"IFERROR([11]INVERSION!$S$130,\"\")","v":"00:00:00"},{"$f":"IFERROR([11]INVERSION!$T$130,\"\")","v":"00:00:00"},{"$f":"IFERROR([11]INVERSION!$U$130,\"\")","v":0},{"$f":"IFERROR([11]INVERSION!$V$130,\"\")","v":0},{"$f":"IFERROR([11]INVERSION!$W$130,\"\")","v":0},{"$f":"IFERROR([11]INVERSION!$X$130,\"\")","v":0},{"$f":"IFERROR([11]INVERSION!$Y$130,\"\")","v":0}]
[null,null,null,null,null,null,{"$f":"IFERROR([11]INVERSION!$G$131,\"\")","v":0},{"$f":"IFERROR([11]INVERSION!$H$131,\"\")","v":0},{"$f":"IFERROR([11]INVERSION!$I$131,\"\")","v":0},{"$f":"IFERROR([11]INVERSION!$J$131,\"\")","v":0},{"$f":"IFERROR([11]INVERSION!$K$131,\"\")","v":0},{"$f":"IFERROR([11]INVERSION!$L$131,\"\")","v":0},{"$f":"IFERROR([11]INVERSION!$M$131,\"\")","v":0},{"$f":"IFERROR([11]INVERSION!$N$131,\"\")","v":0},{"$f":"IFERROR([11]INVERSION!$O$131,\"\")","v":0},{"$f":"IFERROR([11]INVERSION!$P$131,\"\")","v":0},{"$f":"IFERROR([11]INVERSION!$Q$131,\"\")","v":0},{"$f":"IFERROR([11]INVERSION!$R$131,\"\")","v":0},{"$f":"IFERROR([11]INVERSION!$S$131,\"\")","v":"00:00:00"},{"$f":"IFERROR([11]INVERSION!$T$131,\"\")","v":"00:00:00"},{"$f":"IFERROR([11]INVERSION!$U$131,\"\")","v":0},{"$f":"IFERROR([11]INVERSION!$V$131,\"\")","v":0},{"$f":"IFERROR([11]INVERSION!$W$131,\"\")","v":0},{"$f":"IFERROR([11]INVERSION!$X$131,\"\")","v":0},{"$f":"IFERROR([11]INVERSION!$Y$131,\"\")","v":0}]
[null,null,null,null,null,null,{"$f":"IFERROR([11]INVERSION!$G$132,\"\")","v":0},{"$f":"IFERROR([11]INVERSION!$H$132,\"\")","v":0},{"$f":"IFERROR([11]INVERSION!$I$132,\"\")","v":0},{"$f":"IFERROR([11]INVERSION!$J$132,\"\")","v":0},{"$f":"IFERROR([11]INVERSION!$K$132,\"\")","v":0},{"$f":"IFERROR([11]INVERSION!$L$132,\"\")","v":0},{"$f":"IFERROR([11]INVERSION!$M$132,\"\")","v":0},{"$f":"IFERROR([11]INVERSION!$N$132,\"\")","v":0},{"$f":"IFERROR([11]INVERSION!$O$132,\"\")","v":0},{"$f":"IFERROR([11]INVERSION!$P$132,\"\")","v":0},{"$f":"IFERROR([11]INVERSION!$Q$132,\"\")","v":0},{"$f":"IFERROR([11]INVERSION!$R$132,\"\")","v":0},{"$f":"IFERROR([11]INVERSION!$S$132,\"\")","v":"00:00:00"},{"$f":"IFERROR([11]INVERSION!$T$132,\"\")","v":"00:00:00"},{"$f":"IFERROR([11]INVERSION!$U$132,\"\")","v":0},{"$f":"IFERROR([11]INVERSION!$V$132,\"\")","v":0},{"$f":"IFERROR([11]INVERSION!$W$132,\"\")","v":0},{"$f":"IFERROR([11]INVERSION!$X$132,\"\")","v":0},{"$f":"IFERROR([11]INVERSION!$Y$132,\"\")","v":0}]
[null,null,null,null,null,null,{"$f":"IFERROR([11]INVERSION!$G$133,\"\")","v":0},{"$f":"IFERROR([11]INVERSION!$H$133,\"\")","v":0},{"$f":"IFERROR([11]INVERSION!$I$133,\"\")","v":0},{"$f":"IFERROR([11]INVERSION!$J$133,\"\")","v":0},{"$f":"IFERROR([11]INVERSION!$K$133,\"\")","v":0},{"$f":"IFERROR([11]INVERSION!$L$133,\"\")","v":0},{"$f":"IFERROR([11]INVERSION!$M$133,\"\")","v":0},{"$f":"IFERROR([11]INVERSION!$N$133,\"\")","v":0},{"$f":"IFERROR([11]INVERSION!$O$133,\"\")","v":0},{"$f":"IFERROR([11]INVERSION!$P$133,\"\")","v":0},{"$f":"IFERROR([11]INVERSION!$Q$133,\"\")","v":0},{"$f":"IFERROR([11]INVERSION!$R$133,\"\")","v":0},{"$f":"IFERROR([11]INVERSION!$S$133,\"\")","v":"00:00:00"},{"$f":"IFERROR([11]INVERSION!$T$133,\"\")","v":"00:00:00"},{"$f":"IFERROR([11]INVERSION!$U$133,\"\")","v":0},{"$f":"IFERROR([11]INVERSION!$V$133,\"\")","v":0},{"$f":"IFERROR([11]INVERSION!$W$133,\"\")","v":0},{"$f":"IFERROR([11]INVERSION!$X$133,\"\")","v":0},{"$f":"IFERROR([11]INVERSION!$Y$133,\"\")","v":0},null,null,null,"","",null,0]
[null,null,null,null,null,null,{"$f":"IFERROR([11]INVERSION!$G$134,\"\")","v":0},{"$f":"IFERROR([11]INVERSION!$H$134,\"\")","v":0},{"$f":"IFERROR([11]INVERSION!$I$134,\"\")","v":0},{"$f":"IFERROR([11]INVERSION!$J$134,\"\")","v":0},{"$f":"IFERROR([11]INVERSION!$K$134,\"\")","v":0},{"$f":"IFERROR([11]INVERSION!$L$134,\"\")","v":0},{"$f":"IFERROR([11]INVERSION!$M$134,\"\")","v":0},{"$f":"IFERROR([11]INVERSION!$N$134,\"\")","v":0},{"$f":"IFERROR([11]INVERSION!$O$134,\"\")","v":0},{"$f":"IFERROR([11]INVERSION!$P$134,\"\")","v":0},{"$f":"IFERROR([11]INVERSION!$Q$134,\"\")","v":0},{"$f":"IFERROR([11]INVERSION!$R$134,\"\")","v":0},{"$f":"IFERROR([11]INVERSION!$S$134,\"\")","v":"00:00:00"},{"$f":"IFERROR([11]INVERSION!$T$134,\"\")","v":"00:00:00"},{"$f":"IFERROR([11]INVERSION!$U$134,\"\")","v":0},{"$f":"IFERROR([11]INVERSION!$V$134,\"\")","v":0},{"$f":"IFERROR([11]INVERSION!$W$134,\"\")","v":0},{"$f":"IFERROR([11]INVERSION!$X$134,\"\")","v":0},{"$f":"IFERROR([11]INVERSION!$Y$134,\"\")","v":0},null,null,null,"","",null,0]
[null,null,null,null,null,null,{"$f":"IFERROR([11]INVERSION!$G$135,\"\")","v":0},{"$f":"IFERROR([11]INVERSION!$H$135,\"\")","v":0},{"$f":"IFERROR([11]INVERSION!$I$135,\"\")","v":0},{"$f":"IFERROR([11]INVERSION!$J$135,\"\")","v":0},{"$f":"IFERROR([11]INVERSION!$K$135,\"\")","v":0},{"$f":"IFERROR([11]INVERSION!$L$135,\"\")","v":0},{"$f":"IFERROR([11]INVERSION!$M$135,\"\")","v":0},{"$f":"IFERROR([11]INVERSION!$N$135,\"\")","v":0},{"$f":"IFERROR([11]INVERSION!$O$135,\"\")","v":0},{"$f":"IFERROR([11]INVERSION!$P$135,\"\")","v":0},{"$f":"IFERROR([11]INVERSION!$Q$135,\"\")","v":0},{"$f":"IFERROR([11]INVERSION!$R$135,\"\")","v":0},{"$f":"IFERROR([11]INVERSION!$S$135,\"\")","v":"00:00:00"},{"$f":"IFERROR([11]INVERSION!$T$135,\"\")","v":"00:00:00"},{"$f":"IFERROR([11]INVERSION!$U$135,\"\")","v":0},{"$f":"IFERROR([11]INVERSION!$V$135,\"\")","v":0},{"$f":"IFERROR([11]INVERSION!$W$135,\"\")","v":0},{"$f":"IFERROR([11]INVERSION!$X$135,\"\")","v":0},{"$f":"IFERROR([11]INVERSION!$Y$135,\"\")","v":0},null,null,null,"","",null,0]
[null,null,"3. Fortalecer el Sistema integrado de Gestión de la Rama, orientado a la implementación y certificación de las normas antisoborno.","Certificación del Sistema Integrado de Gestión de la Rama en norma antisoborno","# de dependenci as judiciales y administrati vas certificadas en norma antisoborno /# total de despachos certificados en calidad","1. Gestionar el desarrollo de las competencias, la toma de conciencia , la cultura  organizacional  y el compromiso de los  servidores judiciales, contratistas, practicantes y  judicantes de contribuir a generar valor público en la administración de justicia, en el marco de  cumplimiento de los requisitos  aplicables y el comportamiento ético.\n3. Fomentar la transparencia y la participación generando lineamientos y promoviendo la rendición de cuentas ,la consulta, reporte y planteamiento de inquietudes en relación con las decisiones y aspectos del SIGCMA.",{"$f":"IFERROR([11]INVERSION!$G$136,\"\")","v":0},{"$f":"IFERROR([11]INVERSION!$H$136,\"\")","v":0},{"$f":"IFERROR([11]INVERSION!$I$136,\"\")","v":0},{"$f":"IFERROR([11]INVERSION!$J$136,\"\")","v":0},{"$f":"IFERROR([11]INVERSION!$K$136,\"\")","v":0},{"$f":"IFERROR([11]INVERSION!$L$136,\"\")","v":0},{"$f":"IFERROR([11]INVERSION!$M$136,\"\")","v":0},{"$f":"IFERROR([11]INVERSION!$N$136,\"\")","v":0},{"$f":"IFERROR([11]INVERSION!$O$136,\"\")","v":0},{"$f":"IFERROR([11]INVERSION!$P$136,\"\")","v":0},{"$f":"IFERROR([11]INVERSION!$Q$136,\"\")","v":0},{"$f":"IFERROR([11]INVERSION!$R$136,\"\")","v":0},{"$f":"IFERROR([11]INVERSION!$S$136,\"\")","v":"00:00:00"},{"$f":"IFERROR([11]INVERSION!$T$136,\"\")","v":"00:00:00"},{"$f":"IFERROR([11]INVERSION!$U$136,\"\")","v":0},{"$f":"IFERROR([11]INVERSION!$V$136,\"\")","v":0},{"$f":"IFERROR([11]INVERSION!$W$136,\"\")","v":0},{"$f":"IFERROR([11]INVERSION!$X$136,\"\")","v":0},{"$f":"IFERROR([11]INVERSION!$Y$136,\"\")","v":0},null,null,null,"","",null,{"$f":"IFERROR(P136-AB136,\"\")","v":0}]
[null,null,null,null,null,null,{"$f":"IFERROR([11]INVERSION!$G$137,\"\")","v":0},{"$f":"IFERROR([11]INVERSION!$H$137,\"\")","v":0},{"$f":"IFERROR([11]INVERSION!$I$137,\"\")","v":0},{"$f":"IFERROR([11]INVERSION!$J$137,\"\")","v":0},{"$f":"IFERROR([11]INVERSION!$K$137,\"\")","v":0},{"$f":"IFERROR([11]INVERSION!$L$137,\"\")","v":0},{"$f":"IFERROR([11]INVERSION!$M$137,\"\")","v":0},{"$f":"IFERROR([11]INVERSION!$N$137,\"\")","v":0},{"$f":"IFERROR([11]INVERSION!$O$137,\"\")","v":0},{"$f":"IFERROR([11]INVERSION!$P$137,\"\")","v":0},{"$f":"IFERROR([11]INVERSION!$Q$137,\"\")","v":0},{"$f":"IFERROR([11]INVERSION!$R$137,\"\")","v":0},{"$f":"IFERROR([11]INVERSION!$S$137,\"\")","v":"00:00:00"},{"$f":"IFERROR([11]INVERSION!$T$137,\"\")","v":"00:00:00"},{"$f":"IFERROR([11]INVERSION!$U$137,\"\")","v":0},{"$f":"IFERROR([11]INVERSION!$V$137,\"\")","v":0},{"$f":"IFERROR([11]INVERSION!$W$137,\"\")","v":0},{"$f":"IFERROR([11]INVERSION!$X$137,\"\")","v":0},{"$f":"IFERROR([11]INVERSION!$Y$137,\"\")","v":0},null,null,null,{"$f":"IFERROR(AB137/P137,\"\")","v":""},{"$f":"IFERROR(AA137/Y137,\"\")","v":""},null,0]
[null,null,null,null,null,null,{"$f":"IFERROR([11]INVERSION!$G$138,\"\")","v":0},{"$f":"IFERROR([11]INVERSION!$H$138,\"\")","v":0},{"$f":"IFERROR([11]INVERSION!$I$138,\"\")","v":0},{"$f":"IFERROR([11]INVERSION!$J$138,\"\")","v":0},{"$f":"IFERROR([11]INVERSION!$K$138,\"\")","v":0},{"$f":"IFERROR([11]INVERSION!$L$138,\"\")","v":0},{"$f":"IFERROR([11]INVERSION!$M$138,\"\")","v":0},{"$f":"IFERROR([11]INVERSION!$N$138,\"\")","v":0},{"$f":"IFERROR([11]INVERSION!$O$138,\"\")","v":0},{"$f":"IFERROR([11]INVERSION!$P$138,\"\")","v":0},{"$f":"IFERROR([11]INVERSION!$Q$138,\"\")","v":0},{"$f":"IFERROR([11]INVERSION!$R$138,\"\")","v":0},{"$f":"IFERROR([11]INVERSION!$S$138,\"\")","v":"00:00:00"},{"$f":"IFERROR([11]INVERSION!$T$138,\"\")","v":"00:00:00"},{"$f":"IFERROR([11]INVERSION!$U$138,\"\")","v":0},{"$f":"IFERROR([11]INVERSION!$V$138,\"\")","v":0},{"$f":"IFERROR([11]INVERSION!$W$138,\"\")","v":0},{"$f":"IFERROR([11]INVERSION!$X$138,\"\")","v":0},{"$f":"IFERROR([11]INVERSION!$Y$138,\"\")","v":0}]
[null,null,null,null,null,null,{"$f":"IFERROR([11]INVERSION!$G$139,\"\")","v":0},{"$f":"IFERROR([11]INVERSION!$H$139,\"\")","v":0},{"$f":"IFERROR([11]INVERSION!$I$139,\"\")","v":0},{"$f":"IFERROR([11]INVERSION!$J$139,\"\")","v":0},{"$f":"IFERROR([11]INVERSION!$K$139,\"\")","v":0},{"$f":"IFERROR([11]INVERSION!$L$139,\"\")","v":0},{"$f":"IFERROR([11]INVERSION!$M$139,\"\")","v":0},{"$f":"IFERROR([11]INVERSION!$N$139,\"\")","v":0},{"$f":"IFERROR([11]INVERSION!$O$139,\"\")","v":0},{"$f":"IFERROR([11]INVERSION!$P$139,\"\")","v":0},{"$f":"IFERROR([11]INVERSION!$Q$139,\"\")","v":0},{"$f":"IFERROR([11]INVERSION!$R$139,\"\")","v":0},{"$f":"IFERROR([11]INVERSION!$S$139,\"\")","v":"00:00:00"},{"$f":"IFERROR([11]INVERSION!$T$139,\"\")","v":"00:00:00"},{"$f":"IFERROR([11]INVERSION!$U$139,\"\")","v":0},{"$f":"IFERROR([11]INVERSION!$V$139,\"\")","v":0},{"$f":"IFERROR([11]INVERSION!$W$139,\"\")","v":0},{"$f":"IFERROR([11]INVERSION!$X$139,\"\")","v":0},{"$f":"IFERROR([11]INVERSION!$Y$139,\"\")","v":0}]
[null,null,null,null,null,null,{"$f":"IFERROR([11]INVERSION!$G$140,\"\")","v":0},{"$f":"IFERROR([11]INVERSION!$H$140,\"\")","v":0},{"$f":"IFERROR([11]INVERSION!$I$140,\"\")","v":0},{"$f":"IFERROR([11]INVERSION!$J$140,\"\")","v":0},{"$f":"IFERROR([11]INVERSION!$K$140,\"\")","v":0},{"$f":"IFERROR([11]INVERSION!$L$140,\"\")","v":0},{"$f":"IFERROR([11]INVERSION!$M$140,\"\")","v":0},{"$f":"IFERROR([11]INVERSION!$N$140,\"\")","v":0},{"$f":"IFERROR([11]INVERSION!$O$140,\"\")","v":0},{"$f":"IFERROR([11]INVERSION!$P$140,\"\")","v":0},{"$f":"IFERROR([11]INVERSION!$Q$140,\"\")","v":0},{"$f":"IFERROR([11]INVERSION!$R$140,\"\")","v":0},{"$f":"IFERROR([11]INVERSION!$S$140,\"\")","v":"00:00:00"},{"$f":"IFERROR([11]INVERSION!$T$140,\"\")","v":"00:00:00"},{"$f":"IFERROR([11]INVERSION!$U$140,\"\")","v":0},{"$f":"IFERROR([11]INVERSION!$V$140,\"\")","v":0},{"$f":"IFERROR([11]INVERSION!$W$140,\"\")","v":0},{"$f":"IFERROR([11]INVERSION!$X$140,\"\")","v":0},{"$f":"IFERROR([11]INVERSION!$Y$140,\"\")","v":0}]
[null,null,null,null,null,null,{"$f":"IFERROR([11]INVERSION!$G$141,\"\")","v":0},{"$f":"IFERROR([11]INVERSION!$H$141,\"\")","v":0},{"$f":"IFERROR([11]INVERSION!$I$141,\"\")","v":0},{"$f":"IFERROR([11]INVERSION!$J$141,\"\")","v":0},{"$f":"IFERROR([11]INVERSION!$K$141,\"\")","v":0},{"$f":"IFERROR([11]INVERSION!$L$141,\"\")","v":0},{"$f":"IFERROR([11]INVERSION!$M$141,\"\")","v":0},{"$f":"IFERROR([11]INVERSION!$N$141,\"\")","v":0},{"$f":"IFERROR([11]INVERSION!$O$141,\"\")","v":0},{"$f":"IFERROR([11]INVERSION!$P$141,\"\")","v":0},{"$f":"IFERROR([11]INVERSION!$Q$141,\"\")","v":0},{"$f":"IFERROR([11]INVERSION!$R$141,\"\")","v":0},{"$f":"IFERROR([11]INVERSION!$S$141,\"\")","v":"00:00:00"},{"$f":"IFERROR([11]INVERSION!$T$141,\"\")","v":"00:00:00"},{"$f":"IFERROR([11]INVERSION!$U$141,\"\")","v":0},{"$f":"IFERROR([11]INVERSION!$V$141,\"\")","v":0},{"$f":"IFERROR([11]INVERSION!$W$141,\"\")","v":0},{"$f":"IFERROR([11]INVERSION!$X$141,\"\")","v":0},{"$f":"IFERROR([11]INVERSION!$Y$141,\"\")","v":0}]
[null,null,null,null,null,null,{"$f":"IFERROR([11]INVERSION!$G$142,\"\")","v":0},{"$f":"IFERROR([11]INVERSION!$H$142,\"\")","v":0},{"$f":"IFERROR([11]INVERSION!$I$142,\"\")","v":0},{"$f":"IFERROR([11]INVERSION!$J$142,\"\")","v":0},{"$f":"IFERROR([11]INVERSION!$K$142,\"\")","v":0},{"$f":"IFERROR([11]INVERSION!$L$142,\"\")","v":0},{"$f":"IFERROR([11]INVERSION!$M$142,\"\")","v":0},{"$f":"IFERROR([11]INVERSION!$N$142,\"\")","v":0},{"$f":"IFERROR([11]INVERSION!$O$142,\"\")","v":0},{"$f":"IFERROR([11]INVERSION!$P$142,\"\")","v":0},{"$f":"IFERROR([11]INVERSION!$Q$142,\"\")","v":0},{"$f":"IFERROR([11]INVERSION!$R$142,\"\")","v":0},{"$f":"IFERROR([11]INVERSION!$S$142,\"\")","v":"00:00:00"},{"$f":"IFERROR([11]INVERSION!$T$142,\"\")","v":"00:00:00"},{"$f":"IFERROR([11]INVERSION!$U$142,\"\")","v":0},{"$f":"IFERROR([11]INVERSION!$V$142,\"\")","v":0},{"$f":"IFERROR([11]INVERSION!$W$142,\"\")","v":0},{"$f":"IFERROR([11]INVERSION!$X$142,\"\")","v":0},{"$f":"IFERROR([11]INVERSION!$Y$142,\"\")","v":0}]
[null,null,null,null,null,null,{"$f":"IFERROR([11]INVERSION!$G$143,\"\")","v":0},{"$f":"IFERROR([11]INVERSION!$H$143,\"\")","v":0},{"$f":"IFERROR([11]INVERSION!$I$143,\"\")","v":0},{"$f":"IFERROR([11]INVERSION!$J$143,\"\")","v":0},{"$f":"IFERROR([11]INVERSION!$K$143,\"\")","v":0},{"$f":"IFERROR([11]INVERSION!$L$143,\"\")","v":0},{"$f":"IFERROR([11]INVERSION!$M$143,\"\")","v":0},{"$f":"IFERROR([11]INVERSION!$N$143,\"\")","v":0},{"$f":"IFERROR([11]INVERSION!$O$143,\"\")","v":0},{"$f":"IFERROR([11]INVERSION!$P$143,\"\")","v":0},{"$f":"IFERROR([11]INVERSION!$Q$143,\"\")","v":0},{"$f":"IFERROR([11]INVERSION!$R$143,\"\")","v":0},{"$f":"IFERROR([11]INVERSION!$S$143,\"\")","v":"00:00:00"},{"$f":"IFERROR([11]INVERSION!$T$143,\"\")","v":"00:00:00"},{"$f":"IFERROR([11]INVERSION!$U$143,\"\")","v":0},{"$f":"IFERROR([11]INVERSION!$V$143,\"\")","v":0},{"$f":"IFERROR([11]INVERSION!$W$143,\"\")","v":0},{"$f":"IFERROR([11]INVERSION!$X$143,\"\")","v":0},{"$f":"IFERROR([11]INVERSION!$Y$143,\"\")","v":0},null,null,null,"","",null,0]
[null,null,null,null,null,null,{"$f":"IFERROR([11]INVERSION!$G$144,\"\")","v":0},{"$f":"IFERROR([11]INVERSION!$H$144,\"\")","v":0},{"$f":"IFERROR([11]INVERSION!$I$144,\"\")","v":0},{"$f":"IFERROR([11]INVERSION!$J$144,\"\")","v":0},{"$f":"IFERROR([11]INVERSION!$K$144,\"\")","v":0},{"$f":"IFERROR([11]INVERSION!$L$144,\"\")","v":0},{"$f":"IFERROR([11]INVERSION!$M$144,\"\")","v":0},{"$f":"IFERROR([11]INVERSION!$N$144,\"\")","v":0},{"$f":"IFERROR([11]INVERSION!$O$144,\"\")","v":0},{"$f":"IFERROR([11]INVERSION!$P$144,\"\")","v":0},{"$f":"IFERROR([11]INVERSION!$Q$144,\"\")","v":0},{"$f":"IFERROR([11]INVERSION!$R$144,\"\")","v":0},{"$f":"IFERROR([11]INVERSION!$S$144,\"\")","v":"00:00:00"},{"$f":"IFERROR([11]INVERSION!$T$144,\"\")","v":"00:00:00"},{"$f":"IFERROR([11]INVERSION!$U$144,\"\")","v":0},{"$f":"IFERROR([11]INVERSION!$V$144,\"\")","v":0},{"$f":"IFERROR([11]INVERSION!$W$144,\"\")","v":0},{"$f":"IFERROR([11]INVERSION!$X$144,\"\")","v":0},{"$f":"IFERROR([11]INVERSION!$Y$144,\"\")","v":0},null,null,null,"","",null,0]
[null,null,null,null,null,null,{"$f":"IFERROR([11]INVERSION!$G$145,\"\")","v":0},{"$f":"IFERROR([11]INVERSION!$H$145,\"\")","v":0},{"$f":"IFERROR([11]INVERSION!$I$145,\"\")","v":0},{"$f":"IFERROR([11]INVERSION!$J$145,\"\")","v":0},{"$f":"IFERROR([11]INVERSION!$K$145,\"\")","v":0},{"$f":"IFERROR([11]INVERSION!$L$145,\"\")","v":0},{"$f":"IFERROR([11]INVERSION!$M$145,\"\")","v":0},{"$f":"IFERROR([11]INVERSION!$N$145,\"\")","v":0},{"$f":"IFERROR([11]INVERSION!$O$145,\"\")","v":0},{"$f":"IFERROR([11]INVERSION!$P$145,\"\")","v":0},{"$f":"IFERROR([11]INVERSION!$Q$145,\"\")","v":0},{"$f":"IFERROR([11]INVERSION!$R$145,\"\")","v":0},{"$f":"IFERROR([11]INVERSION!$S$145,\"\")","v":"00:00:00"},{"$f":"IFERROR([11]INVERSION!$T$145,\"\")","v":"00:00:00"},{"$f":"IFERROR([11]INVERSION!$U$145,\"\")","v":0},{"$f":"IFERROR([11]INVERSION!$V$145,\"\")","v":0},{"$f":"IFERROR([11]INVERSION!$W$145,\"\")","v":0},{"$f":"IFERROR([11]INVERSION!$X$145,\"\")","v":0},{"$f":"IFERROR([11]INVERSION!$Y$145,\"\")","v":0},null,null,null,"","",null,0]
[null,null,"4. Aumentar la confianza, la cercanía y acceso a los servicios de la Rama Judicial a través, entre otros, de una comunicación clara y asertiva con la ciudadanía.","Satisfacción de la ciudadanía con la administración de justicia","% de satisfacción de la ciudadanía alto o muy alto con la administraci ón de justicia","3. Fomentar la transparencia y la participación generando lineamientos y promoviendo la rendición de cuentas ,la consulta, reporte y planteamiento de inquietudes en relación con las decisiones y aspectos del SIGCMA.",{"$f":"IFERROR([11]INVERSION!$G$146,\"\")","v":0},{"$f":"IFERROR([11]INVERSION!$H$146,\"\")","v":0},{"$f":"IFERROR([11]INVERSION!$I$146,\"\")","v":0},{"$f":"IFERROR([11]INVERSION!$J$146,\"\")","v":0},{"$f":"IFERROR([11]INVERSION!$K$146,\"\")","v":0},{"$f":"IFERROR([11]INVERSION!$L$146,\"\")","v":0},{"$f":"IFERROR([11]INVERSION!$M$146,\"\")","v":0},{"$f":"IFERROR([11]INVERSION!$N$146,\"\")","v":0},{"$f":"IFERROR([11]INVERSION!$O$146,\"\")","v":0},{"$f":"IFERROR([11]INVERSION!$P$146,\"\")","v":0},{"$f":"IFERROR([11]INVERSION!$Q$146,\"\")","v":0},{"$f":"IFERROR([11]INVERSION!$R$146,\"\")","v":0},{"$f":"IFERROR([11]INVERSION!$S$146,\"\")","v":"00:00:00"},{"$f":"IFERROR([11]INVERSION!$T$146,\"\")","v":"00:00:00"},{"$f":"IFERROR([11]INVERSION!$U$146,\"\")","v":0},{"$f":"IFERROR([11]INVERSION!$V$146,\"\")","v":0},{"$f":"IFERROR([11]INVERSION!$W$146,\"\")","v":0},{"$f":"IFERROR([11]INVERSION!$X$146,\"\")","v":0},{"$f":"IFERROR([11]INVERSION!$Y$146,\"\")","v":0},null,null,null,"","",null,0]
[null,null,null,null,null,null,{"$f":"IFERROR([11]INVERSION!$G$147,\"\")","v":0},{"$f":"IFERROR([11]INVERSION!$H$147,\"\")","v":0},{"$f":"IFERROR([11]INVERSION!$I$147,\"\")","v":0},{"$f":"IFERROR([11]INVERSION!$J$147,\"\")","v":0},{"$f":"IFERROR([11]INVERSION!$K$147,\"\")","v":0},{"$f":"IFERROR([11]INVERSION!$L$147,\"\")","v":0},{"$f":"IFERROR([11]INVERSION!$M$147,\"\")","v":0},{"$f":"IFERROR([11]INVERSION!$N$147,\"\")","v":0},{"$f":"IFERROR([11]INVERSION!$O$147,\"\")","v":0},{"$f":"IFERROR([11]INVERSION!$P$147,\"\")","v":0},{"$f":"IFERROR([11]INVERSION!$Q$147,\"\")","v":0},{"$f":"IFERROR([11]INVERSION!$R$147,\"\")","v":0},{"$f":"IFERROR([11]INVERSION!$S$147,\"\")","v":"00:00:00"},{"$f":"IFERROR([11]INVERSION!$T$147,\"\")","v":"00:00:00"},{"$f":"IFERROR([11]INVERSION!$U$147,\"\")","v":0},{"$f":"IFERROR([11]INVERSION!$V$147,\"\")","v":0},{"$f":"IFERROR([11]INVERSION!$W$147,\"\")","v":0},{"$f":"IFERROR([11]INVERSION!$X$147,\"\")","v":0},{"$f":"IFERROR([11]INVERSION!$Y$147,\"\")","v":0},null,null,null,"","",null,0]
[null,null,null,null,null,null,{"$f":"IFERROR([11]INVERSION!$G$148,\"\")","v":0},{"$f":"IFERROR([11]INVERSION!$H$148,\"\")","v":0},{"$f":"IFERROR([11]INVERSION!$I$148,\"\")","v":0},{"$f":"IFERROR([11]INVERSION!$J$148,\"\")","v":0},{"$f":"IFERROR([11]INVERSION!$K$148,\"\")","v":0},{"$f":"IFERROR([11]INVERSION!$L$148,\"\")","v":0},{"$f":"IFERROR([11]INVERSION!$M$148,\"\")","v":0},{"$f":"IFERROR([11]INVERSION!$N$148,\"\")","v":0},{"$f":"IFERROR([11]INVERSION!$O$148,\"\")","v":0},{"$f":"IFERROR([11]INVERSION!$P$148,\"\")","v":0},{"$f":"IFERROR([11]INVERSION!$Q$148,\"\")","v":0},{"$f":"IFERROR([11]INVERSION!$R$148,\"\")","v":0},{"$f":"IFERROR([11]INVERSION!$S$148,\"\")","v":"00:00:00"},{"$f":"IFERROR([11]INVERSION!$T$148,\"\")","v":"00:00:00"},{"$f":"IFERROR([11]INVERSION!$U$148,\"\")","v":0},{"$f":"IFERROR([11]INVERSION!$V$148,\"\")","v":0},{"$f":"IFERROR([11]INVERSION!$W$148,\"\")","v":0},{"$f":"IFERROR([11]INVERSION!$X$148,\"\")","v":0},{"$f":"IFERROR([11]INVERSION!$Y$148,\"\")","v":0}]
[null,null,null,null,null,null,{"$f":"IFERROR([11]INVERSION!$G$149,\"\")","v":0},{"$f":"IFERROR([11]INVERSION!$H$149,\"\")","v":0},{"$f":"IFERROR([11]INVERSION!$I$149,\"\")","v":0},{"$f":"IFERROR([11]INVERSION!$J$149,\"\")","v":0},{"$f":"IFERROR([11]INVERSION!$K$149,\"\")","v":0},{"$f":"IFERROR([11]INVERSION!$L$149,\"\")","v":0},{"$f":"IFERROR([11]INVERSION!$M$149,\"\")","v":0},{"$f":"IFERROR([11]INVERSION!$N$149,\"\")","v":0},{"$f":"IFERROR([11]INVERSION!$O$149,\"\")","v":0},{"$f":"IFERROR([11]INVERSION!$P$149,\"\")","v":0},{"$f":"IFERROR([11]INVERSION!$Q$149,\"\")","v":0},{"$f":"IFERROR([11]INVERSION!$R$149,\"\")","v":0},{"$f":"IFERROR([11]INVERSION!$S$149,\"\")","v":"00:00:00"},{"$f":"IFERROR([11]INVERSION!$T$149,\"\")","v":"00:00:00"},{"$f":"IFERROR([11]INVERSION!$U$149,\"\")","v":0},{"$f":"IFERROR([11]INVERSION!$V$149,\"\")","v":0},{"$f":"IFERROR([11]INVERSION!$W$149,\"\")","v":0},{"$f":"IFERROR([11]INVERSION!$X$149,\"\")","v":0},{"$f":"IFERROR([11]INVERSION!$Y$149,\"\")","v":0}]
[null,null,null,null,null,null,{"$f":"IFERROR([11]INVERSION!$G$150,\"\")","v":0},{"$f":"IFERROR([11]INVERSION!$H$150,\"\")","v":0},{"$f":"IFERROR([11]INVERSION!$I$150,\"\")","v":0},{"$f":"IFERROR([11]INVERSION!$J$150,\"\")","v":0},{"$f":"IFERROR([11]INVERSION!$K$150,\"\")","v":0},{"$f":"IFERROR([11]INVERSION!$L$150,\"\")","v":0},{"$f":"IFERROR([11]INVERSION!$M$150,\"\")","v":0},{"$f":"IFERROR([11]INVERSION!$N$150,\"\")","v":0},{"$f":"IFERROR([11]INVERSION!$O$150,\"\")","v":0},{"$f":"IFERROR([11]INVERSION!$P$150,\"\")","v":0},{"$f":"IFERROR([11]INVERSION!$Q$150,\"\")","v":0},{"$f":"IFERROR([11]INVERSION!$R$150,\"\")","v":0},{"$f":"IFERROR([11]INVERSION!$S$150,\"\")","v":"00:00:00"},{"$f":"IFERROR([11]INVERSION!$T$150,\"\")","v":"00:00:00"},{"$f":"IFERROR([11]INVERSION!$U$150,\"\")","v":0},{"$f":"IFERROR([11]INVERSION!$V$150,\"\")","v":0},{"$f":"IFERROR([11]INVERSION!$W$150,\"\")","v":0},{"$f":"IFERROR([11]INVERSION!$X$150,\"\")","v":0},{"$f":"IFERROR([11]INVERSION!$Y$150,\"\")","v":0}]
[null,null,null,null,null,null,{"$f":"IFERROR([11]INVERSION!$G$151,\"\")","v":0},{"$f":"IFERROR([11]INVERSION!$H$151,\"\")","v":0},{"$f":"IFERROR([11]INVERSION!$I$151,\"\")","v":0},{"$f":"IFERROR([11]INVERSION!$J$151,\"\")","v":0},{"$f":"IFERROR([11]INVERSION!$K$151,\"\")","v":0},{"$f":"IFERROR([11]INVERSION!$L$151,\"\")","v":0},{"$f":"IFERROR([11]INVERSION!$M$151,\"\")","v":0},{"$f":"IFERROR([11]INVERSION!$N$151,\"\")","v":0},{"$f":"IFERROR([11]INVERSION!$O$151,\"\")","v":0},{"$f":"IFERROR([11]INVERSION!$P$151,\"\")","v":0},{"$f":"IFERROR([11]INVERSION!$Q$151,\"\")","v":0},{"$f":"IFERROR([11]INVERSION!$R$151,\"\")","v":0},{"$f":"IFERROR([11]INVERSION!$S$151,\"\")","v":"00:00:00"},{"$f":"IFERROR([11]INVERSION!$T$151,\"\")","v":"00:00:00"},{"$f":"IFERROR([11]INVERSION!$U$151,\"\")","v":0},{"$f":"IFERROR([11]INVERSION!$V$151,\"\")","v":0},{"$f":"IFERROR([11]INVERSION!$W$151,\"\")","v":0},{"$f":"IFERROR([11]INVERSION!$X$151,\"\")","v":0},{"$f":"IFERROR([11]INVERSION!$Y$151,\"\")","v":0}]
[null,null,null,null,null,null,{"$f":"IFERROR([11]INVERSION!$G$152,\"\")","v":0},{"$f":"IFERROR([11]INVERSION!$H$152,\"\")","v":0},{"$f":"IFERROR([11]INVERSION!$I$152,\"\")","v":0},{"$f":"IFERROR([11]INVERSION!$J$152,\"\")","v":0},{"$f":"IFERROR([11]INVERSION!$K$152,\"\")","v":0},{"$f":"IFERROR([11]INVERSION!$L$152,\"\")","v":0},{"$f":"IFERROR([11]INVERSION!$M$152,\"\")","v":0},{"$f":"IFERROR([11]INVERSION!$N$152,\"\")","v":0},{"$f":"IFERROR([11]INVERSION!$O$152,\"\")","v":0},{"$f":"IFERROR([11]INVERSION!$P$152,\"\")","v":0},{"$f":"IFERROR([11]INVERSION!$Q$152,\"\")","v":0},{"$f":"IFERROR([11]INVERSION!$R$152,\"\")","v":0},{"$f":"IFERROR([11]INVERSION!$S$152,\"\")","v":"00:00:00"},{"$f":"IFERROR([11]INVERSION!$T$152,\"\")","v":"00:00:00"},{"$f":"IFERROR([11]INVERSION!$U$152,\"\")","v":0},{"$f":"IFERROR([11]INVERSION!$V$152,\"\")","v":0},{"$f":"IFERROR([11]INVERSION!$W$152,\"\")","v":0},{"$f":"IFERROR([11]INVERSION!$X$152,\"\")","v":0},{"$f":"IFERROR([11]INVERSION!$Y$152,\"\")","v":0}]
[null,null,null,null,null,null,{"$f":"IFERROR([11]INVERSION!$G$153,\"\")","v":0},{"$f":"IFERROR([11]INVERSION!$H$153,\"\")","v":0},{"$f":"IFERROR([11]INVERSION!$I$153,\"\")","v":0},{"$f":"IFERROR([11]INVERSION!$J$153,\"\")","v":0},{"$f":"IFERROR([11]INVERSION!$K$153,\"\")","v":0},{"$f":"IFERROR([11]INVERSION!$L$153,\"\")","v":0},{"$f":"IFERROR([11]INVERSION!$M$153,\"\")","v":0},{"$f":"IFERROR([11]INVERSION!$N$153,\"\")","v":0},{"$f":"IFERROR([11]INVERSION!$O$153,\"\")","v":0},{"$f":"IFERROR([11]INVERSION!$P$153,\"\")","v":0},{"$f":"IFERROR([11]INVERSION!$Q$153,\"\")","v":0},{"$f":"IFERROR([11]INVERSION!$R$153,\"\")","v":0},{"$f":"IFERROR([11]INVERSION!$S$153,\"\")","v":"00:00:00"},{"$f":"IFERROR([11]INVERSION!$T$153,\"\")","v":"00:00:00"},{"$f":"IFERROR([11]INVERSION!$U$153,\"\")","v":0},{"$f":"IFERROR([11]INVERSION!$V$153,\"\")","v":0},{"$f":"IFERROR([11]INVERSION!$W$153,\"\")","v":0},{"$f":"IFERROR([11]INVERSION!$X$153,\"\")","v":0},{"$f":"IFERROR([11]INVERSION!$Y$153,\"\")","v":0},null,null,null,"","",null,0]
[null,null,null,null,null,null,{"$f":"IFERROR([11]INVERSION!$G$154,\"\")","v":0},{"$f":"IFERROR([11]INVERSION!$H$154,\"\")","v":0},{"$f":"IFERROR([11]INVERSION!$I$154,\"\")","v":0},{"$f":"IFERROR([11]INVERSION!$J$154,\"\")","v":0},{"$f":"IFERROR([11]INVERSION!$K$154,\"\")","v":0},{"$f":"IFERROR([11]INVERSION!$L$154,\"\")","v":0},{"$f":"IFERROR([11]INVERSION!$M$154,\"\")","v":0},{"$f":"IFERROR([11]INVERSION!$N$154,\"\")","v":0},{"$f":"IFERROR([11]INVERSION!$O$154,\"\")","v":0},{"$f":"IFERROR([11]INVERSION!$P$154,\"\")","v":0},{"$f":"IFERROR([11]INVERSION!$Q$154,\"\")","v":0},{"$f":"IFERROR([11]INVERSION!$R$154,\"\")","v":0},{"$f":"IFERROR([11]INVERSION!$S$154,\"\")","v":"00:00:00"},{"$f":"IFERROR([11]INVERSION!$T$154,\"\")","v":"00:00:00"},{"$f":"IFERROR([11]INVERSION!$U$154,\"\")","v":0},{"$f":"IFERROR([11]INVERSION!$V$154,\"\")","v":0},{"$f":"IFERROR([11]INVERSION!$W$154,\"\")","v":0},{"$f":"IFERROR([11]INVERSION!$X$154,\"\")","v":0},{"$f":"IFERROR([11]INVERSION!$Y$154,\"\")","v":0},null,null,null,"","",null,0]
[null,null,null,null,null,null,{"$f":"IFERROR([11]INVERSION!$G$155,\"\")","v":0},{"$f":"IFERROR([11]INVERSION!$H$155,\"\")","v":0},{"$f":"IFERROR([11]INVERSION!$I$155,\"\")","v":0},{"$f":"IFERROR([11]INVERSION!$J$155,\"\")","v":0},{"$f":"IFERROR([11]INVERSION!$K$155,\"\")","v":0},{"$f":"IFERROR([11]INVERSION!$L$155,\"\")","v":0},{"$f":"IFERROR([11]INVERSION!$M$155,\"\")","v":0},{"$f":"IFERROR([11]INVERSION!$N$155,\"\")","v":0},{"$f":"IFERROR([11]INVERSION!$O$155,\"\")","v":0},{"$f":"IFERROR([11]INVERSION!$P$155,\"\")","v":0},{"$f":"IFERROR([11]INVERSION!$Q$155,\"\")","v":0},{"$f":"IFERROR([11]INVERSION!$R$155,\"\")","v":0},{"$f":"IFERROR([11]INVERSION!$S$155,\"\")","v":"00:00:00"},{"$f":"IFERROR([11]INVERSION!$T$155,\"\")","v":"00:00:00"},{"$f":"IFERROR([11]INVERSION!$U$155,\"\")","v":0},{"$f":"IFERROR([11]INVERSION!$V$155,\"\")","v":0},{"$f":"IFERROR([11]INVERSION!$W$155,\"\")","v":0},{"$f":"IFERROR([11]INVERSION!$X$155,\"\")","v":0},{"$f":"IFERROR([11]INVERSION!$Y$155,\"\")","v":0},null,null,null,"","",null,0]
[null,null,"5. Prevenir fenómenos asociados con actos de corrupción en la Rama Judicial y reducir las experiencias de corrupción de usuarios y servidores judiciales.","Cumplimiento del Plan Anticorrupción y de Atención al Ciudadano de la Rama Judicial","# Actividades cumplidas del PAAC/# Actividades programada s del PAAC*100",null,{"$f":"IFERROR([11]INVERSION!$G$156,\"\")","v":0},{"$f":"IFERROR([11]INVERSION!$H$156,\"\")","v":0},{"$f":"IFERROR([11]INVERSION!$I$156,\"\")","v":0},{"$f":"IFERROR([11]INVERSION!$J$156,\"\")","v":0},{"$f":"IFERROR([11]INVERSION!$K$156,\"\")","v":0},{"$f":"IFERROR([11]INVERSION!$L$156,\"\")","v":0},{"$f":"IFERROR([11]INVERSION!$M$156,\"\")","v":0},{"$f":"IFERROR([11]INVERSION!$N$156,\"\")","v":0},{"$f":"IFERROR([11]INVERSION!$O$156,\"\")","v":0},{"$f":"IFERROR([11]INVERSION!$P$156,\"\")","v":0},{"$f":"IFERROR([11]INVERSION!$Q$156,\"\")","v":0},{"$f":"IFERROR([11]INVERSION!$R$156,\"\")","v":0},{"$f":"IFERROR([11]INVERSION!$S$156,\"\")","v":"00:00:00"},{"$f":"IFERROR([11]INVERSION!$T$156,\"\")","v":"00:00:00"},{"$f":"IFERROR([11]INVERSION!$U$156,\"\")","v":0},{"$f":"IFERROR([11]INVERSION!$V$156,\"\")","v":0},{"$f":"IFERROR([11]INVERSION!$W$156,\"\")","v":0},{"$f":"IFERROR([11]INVERSION!$X$156,\"\")","v":0},{"$f":"IFERROR([11]INVERSION!$Y$156,\"\")","v":0},null,null,null,"","",null,0]
[null,null,null,null,null,null,{"$f":"IFERROR([11]INVERSION!$G$157,\"\")","v":0},{"$f":"IFERROR([11]INVERSION!$H$157,\"\")","v":0},{"$f":"IFERROR([11]INVERSION!$I$157,\"\")","v":0},{"$f":"IFERROR([11]INVERSION!$J$157,\"\")","v":0},{"$f":"IFERROR([11]INVERSION!$K$157,\"\")","v":0},{"$f":"IFERROR([11]INVERSION!$L$157,\"\")","v":0},{"$f":"IFERROR([11]INVERSION!$M$157,\"\")","v":0},{"$f":"IFERROR([11]INVERSION!$N$157,\"\")","v":0},{"$f":"IFERROR([11]INVERSION!$O$157,\"\")","v":0},{"$f":"IFERROR([11]INVERSION!$P$157,\"\")","v":0},{"$f":"IFERROR([11]INVERSION!$Q$157,\"\")","v":0},{"$f":"IFERROR([11]INVERSION!$R$157,\"\")","v":0},{"$f":"IFERROR([11]INVERSION!$S$157,\"\")","v":"00:00:00"},{"$f":"IFERROR([11]INVERSION!$T$157,\"\")","v":"00:00:00"},{"$f":"IFERROR([11]INVERSION!$U$157,\"\")","v":0},{"$f":"IFERROR([11]INVERSION!$V$157,\"\")","v":0},{"$f":"IFERROR([11]INVERSION!$W$157,\"\")","v":0},{"$f":"IFERROR([11]INVERSION!$X$157,\"\")","v":0},{"$f":"IFERROR([11]INVERSION!$Y$157,\"\")","v":0}]
[null,null,null,null,null,null,{"$f":"IFERROR([11]INVERSION!$G$158,\"\")","v":0},{"$f":"IFERROR([11]INVERSION!$H$158,\"\")","v":0},{"$f":"IFERROR([11]INVERSION!$I$158,\"\")","v":0},{"$f":"IFERROR([11]INVERSION!$J$158,\"\")","v":0},{"$f":"IFERROR([11]INVERSION!$K$158,\"\")","v":0},{"$f":"IFERROR([11]INVERSION!$L$158,\"\")","v":0},{"$f":"IFERROR([11]INVERSION!$M$158,\"\")","v":0},{"$f":"IFERROR([11]INVERSION!$N$158,\"\")","v":0},{"$f":"IFERROR([11]INVERSION!$O$158,\"\")","v":0},{"$f":"IFERROR([11]INVERSION!$P$158,\"\")","v":0},{"$f":"IFERROR([11]INVERSION!$Q$158,\"\")","v":0},{"$f":"IFERROR([11]INVERSION!$R$158,\"\")","v":0},{"$f":"IFERROR([11]INVERSION!$S$158,\"\")","v":"00:00:00"},{"$f":"IFERROR([11]INVERSION!$T$158,\"\")","v":"00:00:00"},{"$f":"IFERROR([11]INVERSION!$U$158,\"\")","v":0},{"$f":"IFERROR([11]INVERSION!$V$158,\"\")","v":0},{"$f":"IFERROR([11]INVERSION!$W$158,\"\")","v":0},{"$f":"IFERROR([11]INVERSION!$X$158,\"\")","v":0},{"$f":"IFERROR([11]INVERSION!$Y$158,\"\")","v":0}]
[null,null,null,null,null,null,{"$f":"IFERROR([11]INVERSION!$G$159,\"\")","v":0},{"$f":"IFERROR([11]INVERSION!$H$159,\"\")","v":0},{"$f":"IFERROR([11]INVERSION!$I$159,\"\")","v":0},{"$f":"IFERROR([11]INVERSION!$J$159,\"\")","v":0},{"$f":"IFERROR([11]INVERSION!$K$159,\"\")","v":0},{"$f":"IFERROR([11]INVERSION!$L$159,\"\")","v":0},{"$f":"IFERROR([11]INVERSION!$M$159,\"\")","v":0},{"$f":"IFERROR([11]INVERSION!$N$159,\"\")","v":0},{"$f":"IFERROR([11]INVERSION!$O$159,\"\")","v":0},{"$f":"IFERROR([11]INVERSION!$P$159,\"\")","v":0},{"$f":"IFERROR([11]INVERSION!$Q$159,\"\")","v":0},{"$f":"IFERROR([11]INVERSION!$R$159,\"\")","v":0},{"$f":"IFERROR([11]INVERSION!$S$159,\"\")","v":"00:00:00"},{"$f":"IFERROR([11]INVERSION!$T$159,\"\")","v":"00:00:00"},{"$f":"IFERROR([11]INVERSION!$U$159,\"\")","v":0},{"$f":"IFERROR([11]INVERSION!$V$159,\"\")","v":0},{"$f":"IFERROR([11]INVERSION!$W$159,\"\")","v":0},{"$f":"IFERROR([11]INVERSION!$X$159,\"\")","v":0},{"$f":"IFERROR([11]INVERSION!$Y$159,\"\")","v":0}]
[null,null,null,null,null,null,{"$f":"IFERROR([11]INVERSION!$G$160,\"\")","v":0},{"$f":"IFERROR([11]INVERSION!$H$160,\"\")","v":0},{"$f":"IFERROR([11]INVERSION!$I$160,\"\")","v":0},{"$f":"IFERROR([11]INVERSION!$J$160,\"\")","v":0},{"$f":"IFERROR([11]INVERSION!$K$160,\"\")","v":0},{"$f":"IFERROR([11]INVERSION!$L$160,\"\")","v":0},{"$f":"IFERROR([11]INVERSION!$M$160,\"\")","v":0},{"$f":"IFERROR([11]INVERSION!$N$160,\"\")","v":0},{"$f":"IFERROR([11]INVERSION!$O$160,\"\")","v":0},{"$f":"IFERROR([11]INVERSION!$P$160,\"\")","v":0},{"$f":"IFERROR([11]INVERSION!$Q$160,\"\")","v":0},{"$f":"IFERROR([11]INVERSION!$R$160,\"\")","v":0},{"$f":"IFERROR([11]INVERSION!$S$160,\"\")","v":"00:00:00"},{"$f":"IFERROR([11]INVERSION!$T$160,\"\")","v":"00:00:00"},{"$f":"IFERROR([11]INVERSION!$U$160,\"\")","v":0},{"$f":"IFERROR([11]INVERSION!$V$160,\"\")","v":0},{"$f":"IFERROR([11]INVERSION!$W$160,\"\")","v":0},{"$f":"IFERROR([11]INVERSION!$X$160,\"\")","v":0},{"$f":"IFERROR([11]INVERSION!$Y$160,\"\")","v":0}]
[null,null,null,null,null,null,{"$f":"IFERROR([11]INVERSION!$G$161,\"\")","v":0},{"$f":"IFERROR([11]INVERSION!$H$161,\"\")","v":0},{"$f":"IFERROR([11]INVERSION!$I$161,\"\")","v":0},{"$f":"IFERROR([11]INVERSION!$J$161,\"\")","v":0},{"$f":"IFERROR([11]INVERSION!$K$161,\"\")","v":0},{"$f":"IFERROR([11]INVERSION!$L$161,\"\")","v":0},{"$f":"IFERROR([11]INVERSION!$M$161,\"\")","v":0},{"$f":"IFERROR([11]INVERSION!$N$161,\"\")","v":0},{"$f":"IFERROR([11]INVERSION!$O$161,\"\")","v":0},{"$f":"IFERROR([11]INVERSION!$P$161,\"\")","v":0},{"$f":"IFERROR([11]INVERSION!$Q$161,\"\")","v":0},{"$f":"IFERROR([11]INVERSION!$R$161,\"\")","v":0},{"$f":"IFERROR([11]INVERSION!$S$161,\"\")","v":"00:00:00"},{"$f":"IFERROR([11]INVERSION!$T$161,\"\")","v":"00:00:00"},{"$f":"IFERROR([11]INVERSION!$U$161,\"\")","v":0},{"$f":"IFERROR([11]INVERSION!$V$161,\"\")","v":0},{"$f":"IFERROR([11]INVERSION!$W$161,\"\")","v":0},{"$f":"IFERROR([11]INVERSION!$X$161,\"\")","v":0},{"$f":"IFERROR([11]INVERSION!$Y$161,\"\")","v":0}]
[null,null,null,null,null,null,{"$f":"IFERROR([11]INVERSION!$G$162,\"\")","v":0},{"$f":"IFERROR([11]INVERSION!$H$162,\"\")","v":0},{"$f":"IFERROR([11]INVERSION!$I$162,\"\")","v":0},{"$f":"IFERROR([11]INVERSION!$J$162,\"\")","v":0},{"$f":"IFERROR([11]INVERSION!$K$162,\"\")","v":0},{"$f":"IFERROR([11]INVERSION!$L$162,\"\")","v":0},{"$f":"IFERROR([11]INVERSION!$M$162,\"\")","v":0},{"$f":"IFERROR([11]INVERSION!$N$162,\"\")","v":0},{"$f":"IFERROR([11]INVERSION!$O$162,\"\")","v":0},{"$f":"IFERROR([11]INVERSION!$P$162,\"\")","v":0},{"$f":"IFERROR([11]INVERSION!$Q$162,\"\")","v":0},{"$f":"IFERROR([11]INVERSION!$R$162,\"\")","v":0},{"$f":"IFERROR([11]INVERSION!$S$162,\"\")","v":"00:00:00"},{"$f":"IFERROR([11]INVERSION!$T$162,\"\")","v":"00:00:00"},{"$f":"IFERROR([11]INVERSION!$U$162,\"\")","v":0},{"$f":"IFERROR([11]INVERSION!$V$162,\"\")","v":0},{"$f":"IFERROR([11]INVERSION!$W$162,\"\")","v":0},{"$f":"IFERROR([11]INVERSION!$X$162,\"\")","v":0},{"$f":"IFERROR([11]INVERSION!$Y$162,\"\")","v":0},null,null,null,"","",null,0]
[null,null,null,null,null,null,{"$f":"IFERROR([11]INVERSION!$G$163,\"\")","v":0},{"$f":"IFERROR([11]INVERSION!$H$163,\"\")","v":0},{"$f":"IFERROR([11]INVERSION!$I$163,\"\")","v":0},{"$f":"IFERROR([11]INVERSION!$J$163,\"\")","v":0},{"$f":"IFERROR([11]INVERSION!$K$163,\"\")","v":0},{"$f":"IFERROR([11]INVERSION!$L$163,\"\")","v":0},{"$f":"IFERROR([11]INVERSION!$M$163,\"\")","v":0},{"$f":"IFERROR([11]INVERSION!$N$163,\"\")","v":0},{"$f":"IFERROR([11]INVERSION!$O$163,\"\")","v":0},{"$f":"IFERROR([11]INVERSION!$P$163,\"\")","v":0},{"$f":"IFERROR([11]INVERSION!$Q$163,\"\")","v":0},{"$f":"IFERROR([11]INVERSION!$R$163,\"\")","v":0},{"$f":"IFERROR([11]INVERSION!$S$163,\"\")","v":"00:00:00"},{"$f":"IFERROR([11]INVERSION!$T$163,\"\")","v":"00:00:00"},{"$f":"IFERROR([11]INVERSION!$U$163,\"\")","v":0},{"$f":"IFERROR([11]INVERSION!$V$163,\"\")","v":0},{"$f":"IFERROR([11]INVERSION!$W$163,\"\")","v":0},{"$f":"IFERROR([11]INVERSION!$X$163,\"\")","v":0},{"$f":"IFERROR([11]INVERSION!$Y$163,\"\")","v":0},null,null,null,"","",null,0]
[null,null,null,null,null,null,{"$f":"IFERROR([11]INVERSION!$G$164,\"\")","v":0},{"$f":"IFERROR([11]INVERSION!$H$164,\"\")","v":0},{"$f":"IFERROR([11]INVERSION!$I$164,\"\")","v":0},{"$f":"IFERROR([11]INVERSION!$J$164,\"\")","v":0},{"$f":"IFERROR([11]INVERSION!$K$164,\"\")","v":0},{"$f":"IFERROR([11]INVERSION!$L$164,\"\")","v":0},{"$f":"IFERROR([11]INVERSION!$M$164,\"\")","v":0},{"$f":"IFERROR([11]INVERSION!$N$164,\"\")","v":0},{"$f":"IFERROR([11]INVERSION!$O$164,\"\")","v":0},{"$f":"IFERROR([11]INVERSION!$P$164,\"\")","v":0},{"$f":"IFERROR([11]INVERSION!$Q$164,\"\")","v":0},{"$f":"IFERROR([11]INVERSION!$R$164,\"\")","v":0},{"$f":"IFERROR([11]INVERSION!$S$164,\"\")","v":"00:00:00"},{"$f":"IFERROR([11]INVERSION!$T$164,\"\")","v":"00:00:00"},{"$f":"IFERROR([11]INVERSION!$U$164,\"\")","v":0},{"$f":"IFERROR([11]INVERSION!$V$164,\"\")","v":0},{"$f":"IFERROR([11]INVERSION!$W$164,\"\")","v":0},{"$f":"IFERROR([11]INVERSION!$X$164,\"\")","v":0},{"$f":"IFERROR([11]INVERSION!$Y$164,\"\")","v":0},null,null,null,"","",null,0]
[null,null,null,null,null,null,{"$f":"IFERROR([11]INVERSION!$G$165,\"\")","v":0},{"$f":"IFERROR([11]INVERSION!$H$165,\"\")","v":0},{"$f":"IFERROR([11]INVERSION!$I$165,\"\")","v":0},{"$f":"IFERROR([11]INVERSION!$J$165,\"\")","v":0},{"$f":"IFERROR([11]INVERSION!$K$165,\"\")","v":0},{"$f":"IFERROR([11]INVERSION!$L$165,\"\")","v":0},{"$f":"IFERROR([11]INVERSION!$M$165,\"\")","v":0},{"$f":"IFERROR([11]INVERSION!$N$165,\"\")","v":0},{"$f":"IFERROR([11]INVERSION!$O$165,\"\")","v":0},{"$f":"IFERROR([11]INVERSION!$P$165,\"\")","v":0},{"$f":"IFERROR([11]INVERSION!$Q$165,\"\")","v":0},{"$f":"IFERROR([11]INVERSION!$R$165,\"\")","v":0},{"$f":"IFERROR([11]INVERSION!$S$165,\"\")","v":"00:00:00"},{"$f":"IFERROR([11]INVERSION!$T$165,\"\")","v":"00:00:00"},{"$f":"IFERROR([11]INVERSION!$U$165,\"\")","v":0},{"$f":"IFERROR([11]INVERSION!$V$165,\"\")","v":0},{"$f":"IFERROR([11]INVERSION!$W$165,\"\")","v":0},{"$f":"IFERROR([11]INVERSION!$X$165,\"\")","v":0},{"$f":"IFERROR([11]INVERSION!$Y$165,\"\")","v":0},null,null,null,"","",null,0]
[null,null,"6. Promover la rendición de cuentas y la colaboración real con la ciudadanía como fundamento para diseñar acciones de mejoramiento del acceso a la justicia.","Estrategias para implementar la colaboración real con la ciudadanía en el marco de la \"justicia abierta\" implementadas","% de implementa ción de las estrategias de colaboració n real con la ciudadanía en el marco de la \"justicia abierta\" definidas para cada anualidad",null,{"$f":"IFERROR([11]INVERSION!$G$166,\"\")","v":0},{"$f":"IFERROR([11]INVERSION!$H$166,\"\")","v":0},{"$f":"IFERROR([11]INVERSION!$I$166,\"\")","v":0},{"$f":"IFERROR([11]INVERSION!$J$166,\"\")","v":0},{"$f":"IFERROR([11]INVERSION!$K$166,\"\")","v":0},{"$f":"IFERROR([11]INVERSION!$L$166,\"\")","v":0},{"$f":"IFERROR([11]INVERSION!$M$166,\"\")","v":0},{"$f":"IFERROR([11]INVERSION!$N$166,\"\")","v":0},{"$f":"IFERROR([11]INVERSION!$O$166,\"\")","v":0},{"$f":"IFERROR([11]INVERSION!$P$166,\"\")","v":0},{"$f":"IFERROR([11]INVERSION!$Q$166,\"\")","v":0},{"$f":"IFERROR([11]INVERSION!$R$166,\"\")","v":0},{"$f":"IFERROR([11]INVERSION!$S$166,\"\")","v":"00:00:00"},{"$f":"IFERROR([11]INVERSION!$T$166,\"\")","v":"00:00:00"},{"$f":"IFERROR([11]INVERSION!$U$166,\"\")","v":0},{"$f":"IFERROR([11]INVERSION!$V$166,\"\")","v":0},{"$f":"IFERROR([11]INVERSION!$W$166,\"\")","v":0},{"$f":"IFERROR([11]INVERSION!$X$166,\"\")","v":0},{"$f":"IFERROR([11]INVERSION!$Y$166,\"\")","v":0},null,null,null,"","",null,0]
[null,null,null,null,null,null,{"$f":"IFERROR([11]INVERSION!$G$167,\"\")","v":0},{"$f":"IFERROR([11]INVERSION!$H$167,\"\")","v":0},{"$f":"IFERROR([11]INVERSION!$I$167,\"\")","v":0},{"$f":"IFERROR([11]INVERSION!$J$167,\"\")","v":0},{"$f":"IFERROR([11]INVERSION!$K$167,\"\")","v":0},{"$f":"IFERROR([11]INVERSION!$L$167,\"\")","v":0},{"$f":"IFERROR([11]INVERSION!$M$167,\"\")","v":0},{"$f":"IFERROR([11]INVERSION!$N$167,\"\")","v":0},{"$f":"IFERROR([11]INVERSION!$O$167,\"\")","v":0},{"$f":"IFERROR([11]INVERSION!$P$167,\"\")","v":0},{"$f":"IFERROR([11]INVERSION!$Q$167,\"\")","v":0},{"$f":"IFERROR([11]INVERSION!$R$167,\"\")","v":0},{"$f":"IFERROR([11]INVERSION!$S$167,\"\")","v":"00:00:00"},{"$f":"IFERROR([11]INVERSION!$T$167,\"\")","v":"00:00:00"},{"$f":"IFERROR([11]INVERSION!$U$167,\"\")","v":0},{"$f":"IFERROR([11]INVERSION!$V$167,\"\")","v":0},{"$f":"IFERROR([11]INVERSION!$W$167,\"\")","v":0},{"$f":"IFERROR([11]INVERSION!$X$167,\"\")","v":0},{"$f":"IFERROR([11]INVERSION!$Y$167,\"\")","v":0},null,null,null,"","",null,0]
[null,null,null,null,null,null,{"$f":"IFERROR([11]INVERSION!$G$168,\"\")","v":0},{"$f":"IFERROR([11]INVERSION!$H$168,\"\")","v":0},{"$f":"IFERROR([11]INVERSION!$I$168,\"\")","v":0},{"$f":"IFERROR([11]INVERSION!$J$168,\"\")","v":0},{"$f":"IFERROR([11]INVERSION!$K$168,\"\")","v":0},{"$f":"IFERROR([11]INVERSION!$L$168,\"\")","v":0},{"$f":"IFERROR([11]INVERSION!$M$168,\"\")","v":0},{"$f":"IFERROR([11]INVERSION!$N$168,\"\")","v":0},{"$f":"IFERROR([11]INVERSION!$O$168,\"\")","v":0},{"$f":"IFERROR([11]INVERSION!$P$168,\"\")","v":0},{"$f":"IFERROR([11]INVERSION!$Q$168,\"\")","v":0},{"$f":"IFERROR([11]INVERSION!$R$168,\"\")","v":0},{"$f":"IFERROR([11]INVERSION!$S$168,\"\")","v":"00:00:00"},{"$f":"IFERROR([11]INVERSION!$T$168,\"\")","v":"00:00:00"},{"$f":"IFERROR([11]INVERSION!$U$168,\"\")","v":0},{"$f":"IFERROR([11]INVERSION!$V$168,\"\")","v":0},{"$f":"IFERROR([11]INVERSION!$W$168,\"\")","v":0},{"$f":"IFERROR([11]INVERSION!$X$168,\"\")","v":0},{"$f":"IFERROR([11]INVERSION!$Y$168,\"\")","v":0}]
[null,null,null,null,null,null,{"$f":"IFERROR([11]INVERSION!$G$169,\"\")","v":0},{"$f":"IFERROR([11]INVERSION!$H$169,\"\")","v":0},{"$f":"IFERROR([11]INVERSION!$I$169,\"\")","v":0},{"$f":"IFERROR([11]INVERSION!$J$169,\"\")","v":0},{"$f":"IFERROR([11]INVERSION!$K$169,\"\")","v":0},{"$f":"IFERROR([11]INVERSION!$L$169,\"\")","v":0},{"$f":"IFERROR([11]INVERSION!$M$169,\"\")","v":0},{"$f":"IFERROR([11]INVERSION!$N$169,\"\")","v":0},{"$f":"IFERROR([11]INVERSION!$O$169,\"\")","v":0},{"$f":"IFERROR([11]INVERSION!$P$169,\"\")","v":0},{"$f":"IFERROR([11]INVERSION!$Q$169,\"\")","v":0},{"$f":"IFERROR([11]INVERSION!$R$169,\"\")","v":0},{"$f":"IFERROR([11]INVERSION!$S$169,\"\")","v":"00:00:00"},{"$f":"IFERROR([11]INVERSION!$T$169,\"\")","v":"00:00:00"},{"$f":"IFERROR([11]INVERSION!$U$169,\"\")","v":0},{"$f":"IFERROR([11]INVERSION!$V$169,\"\")","v":0},{"$f":"IFERROR([11]INVERSION!$W$169,\"\")","v":0},{"$f":"IFERROR([11]INVERSION!$X$169,\"\")","v":0},{"$f":"IFERROR([11]INVERSION!$Y$169,\"\")","v":0}]
[null,null,null,null,null,null,{"$f":"IFERROR([11]INVERSION!$G$170,\"\")","v":0},{"$f":"IFERROR([11]INVERSION!$H$170,\"\")","v":0},{"$f":"IFERROR([11]INVERSION!$I$170,\"\")","v":0},{"$f":"IFERROR([11]INVERSION!$J$170,\"\")","v":0},{"$f":"IFERROR([11]INVERSION!$K$170,\"\")","v":0},{"$f":"IFERROR([11]INVERSION!$L$170,\"\")","v":0},{"$f":"IFERROR([11]INVERSION!$M$170,\"\")","v":0},{"$f":"IFERROR([11]INVERSION!$N$170,\"\")","v":0},{"$f":"IFERROR([11]INVERSION!$O$170,\"\")","v":0},{"$f":"IFERROR([11]INVERSION!$P$170,\"\")","v":0},{"$f":"IFERROR([11]INVERSION!$Q$170,\"\")","v":0},{"$f":"IFERROR([11]INVERSION!$R$170,\"\")","v":0},{"$f":"IFERROR([11]INVERSION!$S$170,\"\")","v":"00:00:00"},{"$f":"IFERROR([11]INVERSION!$T$170,\"\")","v":"00:00:00"},{"$f":"IFERROR([11]INVERSION!$U$170,\"\")","v":0},{"$f":"IFERROR([11]INVERSION!$V$170,\"\")","v":0},{"$f":"IFERROR([11]INVERSION!$W$170,\"\")","v":0},{"$f":"IFERROR([11]INVERSION!$X$170,\"\")","v":0},{"$f":"IFERROR([11]INVERSION!$Y$170,\"\")","v":0}]
[null,null,null,null,null,null,{"$f":"IFERROR([11]INVERSION!$G$171,\"\")","v":0},{"$f":"IFERROR([11]INVERSION!$H$171,\"\")","v":0},{"$f":"IFERROR([11]INVERSION!$I$171,\"\")","v":0},{"$f":"IFERROR([11]INVERSION!$J$171,\"\")","v":0},{"$f":"IFERROR([11]INVERSION!$K$171,\"\")","v":0},{"$f":"IFERROR([11]INVERSION!$L$171,\"\")","v":0},{"$f":"IFERROR([11]INVERSION!$M$171,\"\")","v":0},{"$f":"IFERROR([11]INVERSION!$N$171,\"\")","v":0},{"$f":"IFERROR([11]INVERSION!$O$171,\"\")","v":0},{"$f":"IFERROR([11]INVERSION!$P$171,\"\")","v":0},{"$f":"IFERROR([11]INVERSION!$Q$171,\"\")","v":0},{"$f":"IFERROR([11]INVERSION!$R$171,\"\")","v":0},{"$f":"IFERROR([11]INVERSION!$S$171,\"\")","v":"00:00:00"},{"$f":"IFERROR([11]INVERSION!$T$171,\"\")","v":"00:00:00"},{"$f":"IFERROR([11]INVERSION!$U$171,\"\")","v":0},{"$f":"IFERROR([11]INVERSION!$V$171,\"\")","v":0},{"$f":"IFERROR([11]INVERSION!$W$171,\"\")","v":0},{"$f":"IFERROR([11]INVERSION!$X$171,\"\")","v":0},{"$f":"IFERROR([11]INVERSION!$Y$171,\"\")","v":0}]
[null,null,null,null,null,null,{"$f":"IFERROR([11]INVERSION!$G$172,\"\")","v":0},{"$f":"IFERROR([11]INVERSION!$H$172,\"\")","v":0},{"$f":"IFERROR([11]INVERSION!$I$172,\"\")","v":0},{"$f":"IFERROR([11]INVERSION!$J$172,\"\")","v":0},{"$f":"IFERROR([11]INVERSION!$K$172,\"\")","v":0},{"$f":"IFERROR([11]INVERSION!$L$172,\"\")","v":0},{"$f":"IFERROR([11]INVERSION!$M$172,\"\")","v":0},{"$f":"IFERROR([11]INVERSION!$N$172,\"\")","v":0},{"$f":"IFERROR([11]INVERSION!$O$172,\"\")","v":0},{"$f":"IFERROR([11]INVERSION!$P$172,\"\")","v":0},{"$f":"IFERROR([11]INVERSION!$Q$172,\"\")","v":0},{"$f":"IFERROR([11]INVERSION!$R$172,\"\")","v":0},{"$f":"IFERROR([11]INVERSION!$S$172,\"\")","v":"00:00:00"},{"$f":"IFERROR([11]INVERSION!$T$172,\"\")","v":"00:00:00"},{"$f":"IFERROR([11]INVERSION!$U$172,\"\")","v":0},{"$f":"IFERROR([11]INVERSION!$V$172,\"\")","v":0},{"$f":"IFERROR([11]INVERSION!$W$172,\"\")","v":0},{"$f":"IFERROR([11]INVERSION!$X$172,\"\")","v":0},{"$f":"IFERROR([11]INVERSION!$Y$172,\"\")","v":0}]
[null,null,null,null,null,null,{"$f":"IFERROR([11]INVERSION!$G$173,\"\")","v":0},{"$f":"IFERROR([11]INVERSION!$H$173,\"\")","v":0},{"$f":"IFERROR([11]INVERSION!$I$173,\"\")","v":0},{"$f":"IFERROR([11]INVERSION!$J$173,\"\")","v":0},{"$f":"IFERROR([11]INVERSION!$K$173,\"\")","v":0},{"$f":"IFERROR([11]INVERSION!$L$173,\"\")","v":0},{"$f":"IFERROR([11]INVERSION!$M$173,\"\")","v":0},{"$f":"IFERROR([11]INVERSION!$N$173,\"\")","v":0},{"$f":"IFERROR([11]INVERSION!$O$173,\"\")","v":0},{"$f":"IFERROR([11]INVERSION!$P$173,\"\")","v":0},{"$f":"IFERROR([11]INVERSION!$Q$173,\"\")","v":0},{"$f":"IFERROR([11]INVERSION!$R$173,\"\")","v":0},{"$f":"IFERROR([11]INVERSION!$S$173,\"\")","v":"00:00:00"},{"$f":"IFERROR([11]INVERSION!$T$173,\"\")","v":"00:00:00"},{"$f":"IFERROR([11]INVERSION!$U$173,\"\")","v":0},{"$f":"IFERROR([11]INVERSION!$V$173,\"\")","v":0},{"$f":"IFERROR([11]INVERSION!$W$173,\"\")","v":0},{"$f":"IFERROR([11]INVERSION!$X$173,\"\")","v":0},{"$f":"IFERROR([11]INVERSION!$Y$173,\"\")","v":0},null,null,null,"","",null,0]
[null,null,null,null,null,null,{"$f":"IFERROR([11]INVERSION!$G$174,\"\")","v":0},{"$f":"IFERROR([11]INVERSION!$H$174,\"\")","v":0},{"$f":"IFERROR([11]INVERSION!$I$174,\"\")","v":0},{"$f":"IFERROR([11]INVERSION!$J$174,\"\")","v":0},{"$f":"IFERROR([11]INVERSION!$K$174,\"\")","v":0},{"$f":"IFERROR([11]INVERSION!$L$174,\"\")","v":0},{"$f":"IFERROR([11]INVERSION!$M$174,\"\")","v":0},{"$f":"IFERROR([11]INVERSION!$N$174,\"\")","v":0},{"$f":"IFERROR([11]INVERSION!$O$174,\"\")","v":0},{"$f":"IFERROR([11]INVERSION!$P$174,\"\")","v":0},{"$f":"IFERROR([11]INVERSION!$Q$174,\"\")","v":0},{"$f":"IFERROR([11]INVERSION!$R$174,\"\")","v":0},{"$f":"IFERROR([11]INVERSION!$S$174,\"\")","v":"00:00:00"},{"$f":"IFERROR([11]INVERSION!$T$174,\"\")","v":"00:00:00"},{"$f":"IFERROR([11]INVERSION!$U$174,\"\")","v":0},{"$f":"IFERROR([11]INVERSION!$V$174,\"\")","v":0},{"$f":"IFERROR([11]INVERSION!$W$174,\"\")","v":0},{"$f":"IFERROR([11]INVERSION!$X$174,\"\")","v":0},{"$f":"IFERROR([11]INVERSION!$Y$174,\"\")","v":0},null,null,null,"","",null,0]
[null,null,null,null,null,null,{"$f":"IFERROR([11]INVERSION!$G$175,\"\")","v":0},{"$f":"IFERROR([11]INVERSION!$H$175,\"\")","v":0},{"$f":"IFERROR([11]INVERSION!$I$175,\"\")","v":0},{"$f":"IFERROR([11]INVERSION!$J$175,\"\")","v":0},{"$f":"IFERROR([11]INVERSION!$K$175,\"\")","v":0},{"$f":"IFERROR([11]INVERSION!$L$175,\"\")","v":0},{"$f":"IFERROR([11]INVERSION!$M$175,\"\")","v":0},{"$f":"IFERROR([11]INVERSION!$N$175,\"\")","v":0},{"$f":"IFERROR([11]INVERSION!$O$175,\"\")","v":0},{"$f":"IFERROR([11]INVERSION!$P$175,\"\")","v":0},{"$f":"IFERROR([11]INVERSION!$Q$175,\"\")","v":0},{"$f":"IFERROR([11]INVERSION!$R$175,\"\")","v":0},{"$f":"IFERROR([11]INVERSION!$S$175,\"\")","v":"00:00:00"},{"$f":"IFERROR([11]INVERSION!$T$175,\"\")","v":"00:00:00"},{"$f":"IFERROR([11]INVERSION!$U$175,\"\")","v":0},{"$f":"IFERROR([11]INVERSION!$V$175,\"\")","v":0},{"$f":"IFERROR([11]INVERSION!$W$175,\"\")","v":0},{"$f":"IFERROR([11]INVERSION!$X$175,\"\")","v":0},{"$f":"IFERROR([11]INVERSION!$Y$175,\"\")","v":0},null,null,null,"","",null,0]
[null,null,"7. Continuar la consolidación del SIGCMA, a través de los procesos de formación en modelos de gestión, logrando la implementación y ampliación de este en los esquemas certificados de manera gradual, teniendo en cuenta las capacidades de los diferentes despachos judiciales y dependencias de la Rama Judicial y articulando el enfoque de Arquitectura Empresarial para el desarrollo del PETD a través de la gestión del conocimiento para la gestión del cambio propendiendo por una cultura de la calidad, la transparencia, la rendición de cuentas, la anticorrupción y el antisoborno","Procesos de formación en modelos de gestión aplicados","# de servidores judiciales formados en modelos de gestión de las dependenci as judiciales y administrati vas certificadas en SIGCMA que implementa n el PETD / # total de servidores judiciales de las dependenci as judiciales y administrati vas certificadas en SIGCMA que implementa n el PETD","1. Gestionar el desarrollo de las competencias, la toma de conciencia , la cultura  organizacional  y el compromiso de los  servidores judiciales, contratistas, practicantes y  judicantes de contribuir a generar valor público en la administración de justicia, en el marco de  cumplimiento de los requisitos  aplicables y el comportamiento ético.\n4. Hacer un uso racional de los recursos naturales aplicando los principios y fases de la Economía Circular, para prevenir, mitigar y controlar los impactos ambientales.",{"$f":"IFERROR([11]INVERSION!$G$176,\"\")","v":0},{"$f":"IFERROR([11]INVERSION!$H$176,\"\")","v":0},{"$f":"IFERROR([11]INVERSION!$I$176,\"\")","v":0},{"$f":"IFERROR([11]INVERSION!$J$176,\"\")","v":0},{"$f":"IFERROR([11]INVERSION!$K$176,\"\")","v":0},{"$f":"IFERROR([11]INVERSION!$L$176,\"\")","v":0},{"$f":"IFERROR([11]INVERSION!$M$176,\"\")","v":0},{"$f":"IFERROR([11]INVERSION!$N$176,\"\")","v":0},{"$f":"IFERROR([11]INVERSION!$O$176,\"\")","v":0},{"$f":"IFERROR([11]INVERSION!$P$176,\"\")","v":0},{"$f":"IFERROR([11]INVERSION!$Q$176,\"\")","v":0},{"$f":"IFERROR([11]INVERSION!$R$176,\"\")","v":0},{"$f":"IFERROR([11]INVERSION!$S$176,\"\")","v":"00:00:00"},{"$f":"IFERROR([11]INVERSION!$T$176,\"\")","v":"00:00:00"},{"$f":"IFERROR([11]INVERSION!$U$176,\"\")","v":0},{"$f":"IFERROR([11]INVERSION!$V$176,\"\")","v":0},{"$f":"IFERROR([11]INVERSION!$W$176,\"\")","v":0},{"$f":"IFERROR([11]INVERSION!$X$176,\"\")","v":0},{"$f":"IFERROR([11]INVERSION!$Y$176,\"\")","v":0},null,null,null,"","",null,0]
[null,null,null,null,null,null,{"$f":"IFERROR([11]INVERSION!$G$177,\"\")","v":0},{"$f":"IFERROR([11]INVERSION!$H$177,\"\")","v":0},{"$f":"IFERROR([11]INVERSION!$I$177,\"\")","v":0},{"$f":"IFERROR([11]INVERSION!$J$177,\"\")","v":0},{"$f":"IFERROR([11]INVERSION!$K$177,\"\")","v":0},{"$f":"IFERROR([11]INVERSION!$L$177,\"\")","v":0},{"$f":"IFERROR([11]INVERSION!$M$177,\"\")","v":0},{"$f":"IFERROR([11]INVERSION!$N$177,\"\")","v":0},{"$f":"IFERROR([11]INVERSION!$O$177,\"\")","v":0},{"$f":"IFERROR([11]INVERSION!$P$177,\"\")","v":0},{"$f":"IFERROR([11]INVERSION!$Q$177,\"\")","v":0},{"$f":"IFERROR([11]INVERSION!$R$177,\"\")","v":0},{"$f":"IFERROR([11]INVERSION!$S$177,\"\")","v":"00:00:00"},{"$f":"IFERROR([11]INVERSION!$T$177,\"\")","v":"00:00:00"},{"$f":"IFERROR([11]INVERSION!$U$177,\"\")","v":0},{"$f":"IFERROR([11]INVERSION!$V$177,\"\")","v":0},{"$f":"IFERROR([11]INVERSION!$W$177,\"\")","v":0},{"$f":"IFERROR([11]INVERSION!$X$177,\"\")","v":0},{"$f":"IFERROR([11]INVERSION!$Y$177,\"\")","v":0},null,null,null,"","",null,0]
[null,null,null,null,null,null,{"$f":"IFERROR([11]INVERSION!$G$178,\"\")","v":0},{"$f":"IFERROR([11]INVERSION!$H$178,\"\")","v":0},{"$f":"IFERROR([11]INVERSION!$I$178,\"\")","v":0},{"$f":"IFERROR([11]INVERSION!$J$178,\"\")","v":0},{"$f":"IFERROR([11]INVERSION!$K$178,\"\")","v":0},{"$f":"IFERROR([11]INVERSION!$L$178,\"\")","v":0},{"$f":"IFERROR([11]INVERSION!$M$178,\"\")","v":0},{"$f":"IFERROR([11]INVERSION!$N$178,\"\")","v":0},{"$f":"IFERROR([11]INVERSION!$O$178,\"\")","v":0},{"$f":"IFERROR([11]INVERSION!$P$178,\"\")","v":0},{"$f":"IFERROR([11]INVERSION!$Q$178,\"\")","v":0},{"$f":"IFERROR([11]INVERSION!$R$178,\"\")","v":0},{"$f":"IFERROR([11]INVERSION!$S$178,\"\")","v":"00:00:00"},{"$f":"IFERROR([11]INVERSION!$T$178,\"\")","v":"00:00:00"},{"$f":"IFERROR([11]INVERSION!$U$178,\"\")","v":0},{"$f":"IFERROR([11]INVERSION!$V$178,\"\")","v":0},{"$f":"IFERROR([11]INVERSION!$W$178,\"\")","v":0},{"$f":"IFERROR([11]INVERSION!$X$178,\"\")","v":0},{"$f":"IFERROR([11]INVERSION!$Y$178,\"\")","v":0}]
[null,null,null,null,null,null,{"$f":"IFERROR([11]INVERSION!$G$179,\"\")","v":0},{"$f":"IFERROR([11]INVERSION!$H$179,\"\")","v":0},{"$f":"IFERROR([11]INVERSION!$I$179,\"\")","v":0},{"$f":"IFERROR([11]INVERSION!$J$179,\"\")","v":0},{"$f":"IFERROR([11]INVERSION!$K$179,\"\")","v":0},{"$f":"IFERROR([11]INVERSION!$L$179,\"\")","v":0},{"$f":"IFERROR([11]INVERSION!$M$179,\"\")","v":0},{"$f":"IFERROR([11]INVERSION!$N$179,\"\")","v":0},{"$f":"IFERROR([11]INVERSION!$O$179,\"\")","v":0},{"$f":"IFERROR([11]INVERSION!$P$179,\"\")","v":0},{"$f":"IFERROR([11]INVERSION!$Q$179,\"\")","v":0},{"$f":"IFERROR([11]INVERSION!$R$179,\"\")","v":0},{"$f":"IFERROR([11]INVERSION!$S$179,\"\")","v":"00:00:00"},{"$f":"IFERROR([11]INVERSION!$T$179,\"\")","v":"00:00:00"},{"$f":"IFERROR([11]INVERSION!$U$179,\"\")","v":0},{"$f":"IFERROR([11]INVERSION!$V$179,\"\")","v":0},{"$f":"IFERROR([11]INVERSION!$W$179,\"\")","v":0},{"$f":"IFERROR([11]INVERSION!$X$179,\"\")","v":0},{"$f":"IFERROR([11]INVERSION!$Y$179,\"\")","v":0}]
[null,null,null,null,null,null,{"$f":"IFERROR([11]INVERSION!$G$180,\"\")","v":0},{"$f":"IFERROR([11]INVERSION!$H$180,\"\")","v":0},{"$f":"IFERROR([11]INVERSION!$I$180,\"\")","v":0},{"$f":"IFERROR([11]INVERSION!$J$180,\"\")","v":0},{"$f":"IFERROR([11]INVERSION!$K$180,\"\")","v":0},{"$f":"IFERROR([11]INVERSION!$L$180,\"\")","v":0},{"$f":"IFERROR([11]INVERSION!$M$180,\"\")","v":0},{"$f":"IFERROR([11]INVERSION!$N$180,\"\")","v":0},{"$f":"IFERROR([11]INVERSION!$O$180,\"\")","v":0},{"$f":"IFERROR([11]INVERSION!$P$180,\"\")","v":0},{"$f":"IFERROR([11]INVERSION!$Q$180,\"\")","v":0},{"$f":"IFERROR([11]INVERSION!$R$180,\"\")","v":0},{"$f":"IFERROR([11]INVERSION!$S$180,\"\")","v":"00:00:00"},{"$f":"IFERROR([11]INVERSION!$T$180,\"\")","v":"00:00:00"},{"$f":"IFERROR([11]INVERSION!$U$180,\"\")","v":0},{"$f":"IFERROR([11]INVERSION!$V$180,\"\")","v":0},{"$f":"IFERROR([11]INVERSION!$W$180,\"\")","v":0},{"$f":"IFERROR([11]INVERSION!$X$180,\"\")","v":0},{"$f":"IFERROR([11]INVERSION!$Y$180,\"\")","v":0}]
[null,null,null,null,null,null,{"$f":"IFERROR([11]INVERSION!$G$181,\"\")","v":0},{"$f":"IFERROR([11]INVERSION!$H$181,\"\")","v":0},{"$f":"IFERROR([11]INVERSION!$I$181,\"\")","v":0},{"$f":"IFERROR([11]INVERSION!$J$181,\"\")","v":0},{"$f":"IFERROR([11]INVERSION!$K$181,\"\")","v":0},{"$f":"IFERROR([11]INVERSION!$L$181,\"\")","v":0},{"$f":"IFERROR([11]INVERSION!$M$181,\"\")","v":0},{"$f":"IFERROR([11]INVERSION!$N$181,\"\")","v":0},{"$f":"IFERROR([11]INVERSION!$O$181,\"\")","v":0},{"$f":"IFERROR([11]INVERSION!$P$181,\"\")","v":0},{"$f":"IFERROR([11]INVERSION!$Q$181,\"\")","v":0},{"$f":"IFERROR([11]INVERSION!$R$181,\"\")","v":0},{"$f":"IFERROR([11]INVERSION!$S$181,\"\")","v":"00:00:00"},{"$f":"IFERROR([11]INVERSION!$T$181,\"\")","v":"00:00:00"},{"$f":"IFERROR([11]INVERSION!$U$181,\"\")","v":0},{"$f":"IFERROR([11]INVERSION!$V$181,\"\")","v":0},{"$f":"IFERROR([11]INVERSION!$W$181,\"\")","v":0},{"$f":"IFERROR([11]INVERSION!$X$181,\"\")","v":0},{"$f":"IFERROR([11]INVERSION!$Y$181,\"\")","v":0}]
[null,null,null,null,null,null,{"$f":"IFERROR([11]INVERSION!$G$182,\"\")","v":0},{"$f":"IFERROR([11]INVERSION!$H$182,\"\")","v":0},{"$f":"IFERROR([11]INVERSION!$I$182,\"\")","v":0},{"$f":"IFERROR([11]INVERSION!$J$182,\"\")","v":0},{"$f":"IFERROR([11]INVERSION!$K$182,\"\")","v":0},{"$f":"IFERROR([11]INVERSION!$L$182,\"\")","v":0},{"$f":"IFERROR([11]INVERSION!$M$182,\"\")","v":0},{"$f":"IFERROR([11]INVERSION!$N$182,\"\")","v":0},{"$f":"IFERROR([11]INVERSION!$O$182,\"\")","v":0},{"$f":"IFERROR([11]INVERSION!$P$182,\"\")","v":0},{"$f":"IFERROR([11]INVERSION!$Q$182,\"\")","v":0},{"$f":"IFERROR([11]INVERSION!$R$182,\"\")","v":0},{"$f":"IFERROR([11]INVERSION!$S$182,\"\")","v":"00:00:00"},{"$f":"IFERROR([11]INVERSION!$T$182,\"\")","v":"00:00:00"},{"$f":"IFERROR([11]INVERSION!$U$182,\"\")","v":0},{"$f":"IFERROR([11]INVERSION!$V$182,\"\")","v":0},{"$f":"IFERROR([11]INVERSION!$W$182,\"\")","v":0},{"$f":"IFERROR([11]INVERSION!$X$182,\"\")","v":0},{"$f":"IFERROR([11]INVERSION!$Y$182,\"\")","v":0}]
[null,null,null,null,null,null,{"$f":"IFERROR([11]INVERSION!$G$183,\"\")","v":0},{"$f":"IFERROR([11]INVERSION!$H$183,\"\")","v":0},{"$f":"IFERROR([11]INVERSION!$I$183,\"\")","v":0},{"$f":"IFERROR([11]INVERSION!$J$183,\"\")","v":0},{"$f":"IFERROR([11]INVERSION!$K$183,\"\")","v":0},{"$f":"IFERROR([11]INVERSION!$L$183,\"\")","v":0},{"$f":"IFERROR([11]INVERSION!$M$183,\"\")","v":0},{"$f":"IFERROR([11]INVERSION!$N$183,\"\")","v":0},{"$f":"IFERROR([11]INVERSION!$O$183,\"\")","v":0},{"$f":"IFERROR([11]INVERSION!$P$183,\"\")","v":0},{"$f":"IFERROR([11]INVERSION!$Q$183,\"\")","v":0},{"$f":"IFERROR([11]INVERSION!$R$183,\"\")","v":0},{"$f":"IFERROR([11]INVERSION!$S$183,\"\")","v":"00:00:00"},{"$f":"IFERROR([11]INVERSION!$T$183,\"\")","v":"00:00:00"},{"$f":"IFERROR([11]INVERSION!$U$183,\"\")","v":0},{"$f":"IFERROR([11]INVERSION!$V$183,\"\")","v":0},{"$f":"IFERROR([11]INVERSION!$W$183,\"\")","v":0},{"$f":"IFERROR([11]INVERSION!$X$183,\"\")","v":0},{"$f":"IFERROR([11]INVERSION!$Y$183,\"\")","v":0},null,null,null,"","",null,0]
[null,null,null,null,null,null,{"$f":"IFERROR([11]INVERSION!$G$184,\"\")","v":0},{"$f":"IFERROR([11]INVERSION!$H$184,\"\")","v":0},{"$f":"IFERROR([11]INVERSION!$I$184,\"\")","v":0},{"$f":"IFERROR([11]INVERSION!$J$184,\"\")","v":0},{"$f":"IFERROR([11]INVERSION!$K$184,\"\")","v":0},{"$f":"IFERROR([11]INVERSION!$L$184,\"\")","v":0},{"$f":"IFERROR([11]INVERSION!$M$184,\"\")","v":0},{"$f":"IFERROR([11]INVERSION!$N$184,\"\")","v":0},{"$f":"IFERROR([11]INVERSION!$O$184,\"\")","v":0},{"$f":"IFERROR([11]INVERSION!$P$184,\"\")","v":0},{"$f":"IFERROR([11]INVERSION!$Q$184,\"\")","v":0},{"$f":"IFERROR([11]INVERSION!$R$184,\"\")","v":0},{"$f":"IFERROR([11]INVERSION!$S$184,\"\")","v":"00:00:00"},{"$f":"IFERROR([11]INVERSION!$T$184,\"\")","v":"00:00:00"},{"$f":"IFERROR([11]INVERSION!$U$184,\"\")","v":0},{"$f":"IFERROR([11]INVERSION!$V$184,\"\")","v":0},{"$f":"IFERROR([11]INVERSION!$W$184,\"\")","v":0},{"$f":"IFERROR([11]INVERSION!$X$184,\"\")","v":0},{"$f":"IFERROR([11]INVERSION!$Y$184,\"\")","v":0},null,null,null,"","",null,0]
[null,null,null,null,null,null,{"$f":"IFERROR([11]INVERSION!$G$185,\"\")","v":0},{"$f":"IFERROR([11]INVERSION!$H$185,\"\")","v":0},{"$f":"IFERROR([11]INVERSION!$I$185,\"\")","v":0},{"$f":"IFERROR([11]INVERSION!$J$185,\"\")","v":0},{"$f":"IFERROR([11]INVERSION!$K$185,\"\")","v":0},{"$f":"IFERROR([11]INVERSION!$L$185,\"\")","v":0},{"$f":"IFERROR([11]INVERSION!$M$185,\"\")","v":0},{"$f":"IFERROR([11]INVERSION!$N$185,\"\")","v":0},{"$f":"IFERROR([11]INVERSION!$O$185,\"\")","v":0},{"$f":"IFERROR([11]INVERSION!$P$185,\"\")","v":0},{"$f":"IFERROR([11]INVERSION!$Q$185,\"\")","v":0},{"$f":"IFERROR([11]INVERSION!$R$185,\"\")","v":0},{"$f":"IFERROR([11]INVERSION!$S$185,\"\")","v":"00:00:00"},{"$f":"IFERROR([11]INVERSION!$T$185,\"\")","v":"00:00:00"},{"$f":"IFERROR([11]INVERSION!$U$185,\"\")","v":0},{"$f":"IFERROR([11]INVERSION!$V$185,\"\")","v":0},{"$f":"IFERROR([11]INVERSION!$W$185,\"\")","v":0},{"$f":"IFERROR([11]INVERSION!$X$185,\"\")","v":0},{"$f":"IFERROR([11]INVERSION!$Y$185,\"\")","v":0},null,null,null,"","",null,0]
["4. Talento Humano","Talento Humano: Fortalecer el talento humano en la Rama Judicial para que sea eficiente, capacitado y realice su labor en ambientes saludables y seguros. Ampliar la cobertura de la carrera judicial y mejorar la oferta de formación, que esté disponible para todos los servidores judiciales e impacte positivamente el servicio de justicia y responda a las necesidades reales del ejercicio de la función judicial.","1. Ampliar la cobertura de la carrera judicial optimizando los procesos de los concursos de méritos y propender por mitigar su litigiosidad.","Cobertura de la carrera judicial diferenciada entre magistrados, jueces y empleados","# de cargos provistos por carrera judicial/# de cargos de carrera judicial","1. Gestionar el desarrollo de las competencias, la toma de conciencia , la cultura  organizacional  y el compromiso de los  servidores judiciales, contratistas, practicantes y  judicantes de contribuir a generar valor público en la administración de justicia, en el marco de  cumplimiento de los requisitos  aplicables y el comportamiento ético.",{"$f":"IFERROR([11]INVERSION!$G$186,\"\")","v":0},{"$f":"IFERROR([11]INVERSION!$H$186,\"\")","v":0},{"$f":"IFERROR([11]INVERSION!$I$186,\"\")","v":0},{"$f":"IFERROR([11]INVERSION!$J$186,\"\")","v":0},{"$f":"IFERROR([11]INVERSION!$K$186,\"\")","v":0},{"$f":"IFERROR([11]INVERSION!$L$186,\"\")","v":0},{"$f":"IFERROR([11]INVERSION!$M$186,\"\")","v":0},{"$f":"IFERROR([11]INVERSION!$N$186,\"\")","v":0},{"$f":"IFERROR([11]INVERSION!$O$186,\"\")","v":0},{"$f":"IFERROR([11]INVERSION!$P$186,\"\")","v":0},{"$f":"IFERROR([11]INVERSION!$Q$186,\"\")","v":0},{"$f":"IFERROR([11]INVERSION!$R$186,\"\")","v":0},{"$f":"IFERROR([11]INVERSION!$S$186,\"\")","v":"00:00:00"},{"$f":"IFERROR([11]INVERSION!$T$186,\"\")","v":"00:00:00"},{"$f":"IFERROR([11]INVERSION!$U$186,\"\")","v":0},{"$f":"IFERROR([11]INVERSION!$V$186,\"\")","v":0},{"$f":"IFERROR([11]INVERSION!$W$186,\"\")","v":0},{"$f":"IFERROR([11]INVERSION!$X$186,\"\")","v":0},{"$f":"IFERROR([11]INVERSION!$Y$186,\"\")","v":0},null,null,null,"","",null,0]
[null,null,null,null,null,null,{"$f":"IFERROR([11]INVERSION!$G$187,\"\")","v":0},{"$f":"IFERROR([11]INVERSION!$H$187,\"\")","v":0},{"$f":"IFERROR([11]INVERSION!$I$187,\"\")","v":0},{"$f":"IFERROR([11]INVERSION!$J$187,\"\")","v":0},{"$f":"IFERROR([11]INVERSION!$K$187,\"\")","v":0},{"$f":"IFERROR([11]INVERSION!$L$187,\"\")","v":0},{"$f":"IFERROR([11]INVERSION!$M$187,\"\")","v":0},{"$f":"IFERROR([11]INVERSION!$N$187,\"\")","v":0},{"$f":"IFERROR([11]INVERSION!$O$187,\"\")","v":0},{"$f":"IFERROR([11]INVERSION!$P$187,\"\")","v":0},{"$f":"IFERROR([11]INVERSION!$Q$187,\"\")","v":0},{"$f":"IFERROR([11]INVERSION!$R$187,\"\")","v":0},{"$f":"IFERROR([11]INVERSION!$S$187,\"\")","v":"00:00:00"},{"$f":"IFERROR([11]INVERSION!$T$187,\"\")","v":"00:00:00"},{"$f":"IFERROR([11]INVERSION!$U$187,\"\")","v":0},{"$f":"IFERROR([11]INVERSION!$V$187,\"\")","v":0},{"$f":"IFERROR([11]INVERSION!$W$187,\"\")","v":0},{"$f":"IFERROR([11]INVERSION!$X$187,\"\")","v":0},{"$f":"IFERROR([11]INVERSION!$Y$187,\"\")","v":0},null,null,null,"","",null,0]
[null,null,null,null,null,null,{"$f":"IFERROR([11]INVERSION!$G$188,\"\")","v":0},{"$f":"IFERROR([11]INVERSION!$H$188,\"\")","v":0},{"$f":"IFERROR([11]INVERSION!$I$188,\"\")","v":0},{"$f":"IFERROR([11]INVERSION!$J$188,\"\")","v":0},{"$f":"IFERROR([11]INVERSION!$K$188,\"\")","v":0},{"$f":"IFERROR([11]INVERSION!$L$188,\"\")","v":0},{"$f":"IFERROR([11]INVERSION!$M$188,\"\")","v":0},{"$f":"IFERROR([11]INVERSION!$N$188,\"\")","v":0},{"$f":"IFERROR([11]INVERSION!$O$188,\"\")","v":0},{"$f":"IFERROR([11]INVERSION!$P$188,\"\")","v":0},{"$f":"IFERROR([11]INVERSION!$Q$188,\"\")","v":0},{"$f":"IFERROR([11]INVERSION!$R$188,\"\")","v":0},{"$f":"IFERROR([11]INVERSION!$S$188,\"\")","v":"00:00:00"},{"$f":"IFERROR([11]INVERSION!$T$188,\"\")","v":"00:00:00"},{"$f":"IFERROR([11]INVERSION!$U$188,\"\")","v":0},{"$f":"IFERROR([11]INVERSION!$V$188,\"\")","v":0},{"$f":"IFERROR([11]INVERSION!$W$188,\"\")","v":0},{"$f":"IFERROR([11]INVERSION!$X$188,\"\")","v":0},{"$f":"IFERROR([11]INVERSION!$Y$188,\"\")","v":0}]
[null,null,null,null,null,null,{"$f":"IFERROR([11]INVERSION!$G$189,\"\")","v":0},{"$f":"IFERROR([11]INVERSION!$H$189,\"\")","v":0},{"$f":"IFERROR([11]INVERSION!$I$189,\"\")","v":0},{"$f":"IFERROR([11]INVERSION!$J$189,\"\")","v":0},{"$f":"IFERROR([11]INVERSION!$K$189,\"\")","v":0},{"$f":"IFERROR([11]INVERSION!$L$189,\"\")","v":0},{"$f":"IFERROR([11]INVERSION!$M$189,\"\")","v":0},{"$f":"IFERROR([11]INVERSION!$N$189,\"\")","v":0},{"$f":"IFERROR([11]INVERSION!$O$189,\"\")","v":0},{"$f":"IFERROR([11]INVERSION!$P$189,\"\")","v":0},{"$f":"IFERROR([11]INVERSION!$Q$189,\"\")","v":0},{"$f":"IFERROR([11]INVERSION!$R$189,\"\")","v":0},{"$f":"IFERROR([11]INVERSION!$S$189,\"\")","v":"00:00:00"},{"$f":"IFERROR([11]INVERSION!$T$189,\"\")","v":"00:00:00"},{"$f":"IFERROR([11]INVERSION!$U$189,\"\")","v":0},{"$f":"IFERROR([11]INVERSION!$V$189,\"\")","v":0},{"$f":"IFERROR([11]INVERSION!$W$189,\"\")","v":0},{"$f":"IFERROR([11]INVERSION!$X$189,\"\")","v":0},{"$f":"IFERROR([11]INVERSION!$Y$189,\"\")","v":0}]
[null,null,null,null,null,null,{"$f":"IFERROR([11]INVERSION!$G$190,\"\")","v":0},{"$f":"IFERROR([11]INVERSION!$H$190,\"\")","v":0},{"$f":"IFERROR([11]INVERSION!$I$190,\"\")","v":0},{"$f":"IFERROR([11]INVERSION!$J$190,\"\")","v":0},{"$f":"IFERROR([11]INVERSION!$K$190,\"\")","v":0},{"$f":"IFERROR([11]INVERSION!$L$190,\"\")","v":0},{"$f":"IFERROR([11]INVERSION!$M$190,\"\")","v":0},{"$f":"IFERROR([11]INVERSION!$N$190,\"\")","v":0},{"$f":"IFERROR([11]INVERSION!$O$190,\"\")","v":0},{"$f":"IFERROR([11]INVERSION!$P$190,\"\")","v":0},{"$f":"IFERROR([11]INVERSION!$Q$190,\"\")","v":0},{"$f":"IFERROR([11]INVERSION!$R$190,\"\")","v":0},{"$f":"IFERROR([11]INVERSION!$S$190,\"\")","v":"00:00:00"},{"$f":"IFERROR([11]INVERSION!$T$190,\"\")","v":"00:00:00"},{"$f":"IFERROR([11]INVERSION!$U$190,\"\")","v":0},{"$f":"IFERROR([11]INVERSION!$V$190,\"\")","v":0},{"$f":"IFERROR([11]INVERSION!$W$190,\"\")","v":0},{"$f":"IFERROR([11]INVERSION!$X$190,\"\")","v":0},{"$f":"IFERROR([11]INVERSION!$Y$190,\"\")","v":0}]
[null,null,null,null,null,null,{"$f":"IFERROR([11]INVERSION!$G$191,\"\")","v":0},{"$f":"IFERROR([11]INVERSION!$H$191,\"\")","v":0},{"$f":"IFERROR([11]INVERSION!$I$191,\"\")","v":0},{"$f":"IFERROR([11]INVERSION!$J$191,\"\")","v":0},{"$f":"IFERROR([11]INVERSION!$K$191,\"\")","v":0},{"$f":"IFERROR([11]INVERSION!$L$191,\"\")","v":0},{"$f":"IFERROR([11]INVERSION!$M$191,\"\")","v":0},{"$f":"IFERROR([11]INVERSION!$N$191,\"\")","v":0},{"$f":"IFERROR([11]INVERSION!$O$191,\"\")","v":0},{"$f":"IFERROR([11]INVERSION!$P$191,\"\")","v":0},{"$f":"IFERROR([11]INVERSION!$Q$191,\"\")","v":0},{"$f":"IFERROR([11]INVERSION!$R$191,\"\")","v":0},{"$f":"IFERROR([11]INVERSION!$S$191,\"\")","v":"00:00:00"},{"$f":"IFERROR([11]INVERSION!$T$191,\"\")","v":"00:00:00"},{"$f":"IFERROR([11]INVERSION!$U$191,\"\")","v":0},{"$f":"IFERROR([11]INVERSION!$V$191,\"\")","v":0},{"$f":"IFERROR([11]INVERSION!$W$191,\"\")","v":0},{"$f":"IFERROR([11]INVERSION!$X$191,\"\")","v":0},{"$f":"IFERROR([11]INVERSION!$Y$191,\"\")","v":0}]
[null,null,null,null,null,null,{"$f":"IFERROR([11]INVERSION!$G$192,\"\")","v":0},{"$f":"IFERROR([11]INVERSION!$H$192,\"\")","v":0},{"$f":"IFERROR([11]INVERSION!$I$192,\"\")","v":0},{"$f":"IFERROR([11]INVERSION!$J$192,\"\")","v":0},{"$f":"IFERROR([11]INVERSION!$K$192,\"\")","v":0},{"$f":"IFERROR([11]INVERSION!$L$192,\"\")","v":0},{"$f":"IFERROR([11]INVERSION!$M$192,\"\")","v":0},{"$f":"IFERROR([11]INVERSION!$N$192,\"\")","v":0},{"$f":"IFERROR([11]INVERSION!$O$192,\"\")","v":0},{"$f":"IFERROR([11]INVERSION!$P$192,\"\")","v":0},{"$f":"IFERROR([11]INVERSION!$Q$192,\"\")","v":0},{"$f":"IFERROR([11]INVERSION!$R$192,\"\")","v":0},{"$f":"IFERROR([11]INVERSION!$S$192,\"\")","v":"00:00:00"},{"$f":"IFERROR([11]INVERSION!$T$192,\"\")","v":"00:00:00"},{"$f":"IFERROR([11]INVERSION!$U$192,\"\")","v":0},{"$f":"IFERROR([11]INVERSION!$V$192,\"\")","v":0},{"$f":"IFERROR([11]INVERSION!$W$192,\"\")","v":0},{"$f":"IFERROR([11]INVERSION!$X$192,\"\")","v":0},{"$f":"IFERROR([11]INVERSION!$Y$192,\"\")","v":0}]
[null,null,null,null,null,null,{"$f":"IFERROR([11]INVERSION!$G$193,\"\")","v":0},{"$f":"IFERROR([11]INVERSION!$H$193,\"\")","v":0},{"$f":"IFERROR([11]INVERSION!$I$193,\"\")","v":0},{"$f":"IFERROR([11]INVERSION!$J$193,\"\")","v":0},{"$f":"IFERROR([11]INVERSION!$K$193,\"\")","v":0},{"$f":"IFERROR([11]INVERSION!$L$193,\"\")","v":0},{"$f":"IFERROR([11]INVERSION!$M$193,\"\")","v":0},{"$f":"IFERROR([11]INVERSION!$N$193,\"\")","v":0},{"$f":"IFERROR([11]INVERSION!$O$193,\"\")","v":0},{"$f":"IFERROR([11]INVERSION!$P$193,\"\")","v":0},{"$f":"IFERROR([11]INVERSION!$Q$193,\"\")","v":0},{"$f":"IFERROR([11]INVERSION!$R$193,\"\")","v":0},{"$f":"IFERROR([11]INVERSION!$S$193,\"\")","v":"00:00:00"},{"$f":"IFERROR([11]INVERSION!$T$193,\"\")","v":"00:00:00"},{"$f":"IFERROR([11]INVERSION!$U$193,\"\")","v":0},{"$f":"IFERROR([11]INVERSION!$V$193,\"\")","v":0},{"$f":"IFERROR([11]INVERSION!$W$193,\"\")","v":0},{"$f":"IFERROR([11]INVERSION!$X$193,\"\")","v":0},{"$f":"IFERROR([11]INVERSION!$Y$193,\"\")","v":0},null,null,null,"","",null,0]
[null,null,null,null,null,null,{"$f":"IFERROR([11]INVERSION!$G$194,\"\")","v":0},{"$f":"IFERROR([11]INVERSION!$H$194,\"\")","v":0},{"$f":"IFERROR([11]INVERSION!$I$194,\"\")","v":0},{"$f":"IFERROR([11]INVERSION!$J$194,\"\")","v":0},{"$f":"IFERROR([11]INVERSION!$K$194,\"\")","v":0},{"$f":"IFERROR([11]INVERSION!$L$194,\"\")","v":0},{"$f":"IFERROR([11]INVERSION!$M$194,\"\")","v":0},{"$f":"IFERROR([11]INVERSION!$N$194,\"\")","v":0},{"$f":"IFERROR([11]INVERSION!$O$194,\"\")","v":0},{"$f":"IFERROR([11]INVERSION!$P$194,\"\")","v":0},{"$f":"IFERROR([11]INVERSION!$Q$194,\"\")","v":0},{"$f":"IFERROR([11]INVERSION!$R$194,\"\")","v":0},{"$f":"IFERROR([11]INVERSION!$S$194,\"\")","v":"00:00:00"},{"$f":"IFERROR([11]INVERSION!$T$194,\"\")","v":"00:00:00"},{"$f":"IFERROR([11]INVERSION!$U$194,\"\")","v":0},{"$f":"IFERROR([11]INVERSION!$V$194,\"\")","v":0},{"$f":"IFERROR([11]INVERSION!$W$194,\"\")","v":0},{"$f":"IFERROR([11]INVERSION!$X$194,\"\")","v":0},{"$f":"IFERROR([11]INVERSION!$Y$194,\"\")","v":0},null,null,null,"","",null,0]
[null,null,null,null,null,null,{"$f":"IFERROR([11]INVERSION!$G$195,\"\")","v":0},{"$f":"IFERROR([11]INVERSION!$H$195,\"\")","v":0},{"$f":"IFERROR([11]INVERSION!$I$195,\"\")","v":0},{"$f":"IFERROR([11]INVERSION!$J$195,\"\")","v":0},{"$f":"IFERROR([11]INVERSION!$K$195,\"\")","v":0},{"$f":"IFERROR([11]INVERSION!$L$195,\"\")","v":0},{"$f":"IFERROR([11]INVERSION!$M$195,\"\")","v":0},{"$f":"IFERROR([11]INVERSION!$N$195,\"\")","v":0},{"$f":"IFERROR([11]INVERSION!$O$195,\"\")","v":0},{"$f":"IFERROR([11]INVERSION!$P$195,\"\")","v":0},{"$f":"IFERROR([11]INVERSION!$Q$195,\"\")","v":0},{"$f":"IFERROR([11]INVERSION!$R$195,\"\")","v":0},{"$f":"IFERROR([11]INVERSION!$S$195,\"\")","v":"00:00:00"},{"$f":"IFERROR([11]INVERSION!$T$195,\"\")","v":"00:00:00"},{"$f":"IFERROR([11]INVERSION!$U$195,\"\")","v":0},{"$f":"IFERROR([11]INVERSION!$V$195,\"\")","v":0},{"$f":"IFERROR([11]INVERSION!$W$195,\"\")","v":0},{"$f":"IFERROR([11]INVERSION!$X$195,\"\")","v":0},{"$f":"IFERROR([11]INVERSION!$Y$195,\"\")","v":0},null,null,null,"","",null,0]
[null,null,"2. Impactar la función y servicios que presta la Rama Judicial, a través de una formación integral desde una visión de gestión del conocimiento, relacionada con los problemas de la justicia y los problemas de gestión de quienes administran los recursos de la justicia, y potenciando el uso de medios virtuales.","Cobertura de la formación impartida por la Escuela Judicial en el fortalecimiento de las competencias de los servidores judiciales","# servidores que no han recibido ningún curso de formación en los dos años anteriores al proceso de formación, discriminad o por funcionarios y empleados, municipio y especialida d /# servidores totales, discriminad o por funcionarios y empleados, municipio y especialida d",null,{"$f":"IFERROR([11]INVERSION!$G$196,\"\")","v":0},{"$f":"IFERROR([11]INVERSION!$H$196,\"\")","v":0},{"$f":"IFERROR([11]INVERSION!$I$196,\"\")","v":0},{"$f":"IFERROR([11]INVERSION!$J$196,\"\")","v":0},{"$f":"IFERROR([11]INVERSION!$K$196,\"\")","v":0},{"$f":"IFERROR([11]INVERSION!$L$196,\"\")","v":0},{"$f":"IFERROR([11]INVERSION!$M$196,\"\")","v":0},{"$f":"IFERROR([11]INVERSION!$N$196,\"\")","v":0},{"$f":"IFERROR([11]INVERSION!$O$196,\"\")","v":0},{"$f":"IFERROR([11]INVERSION!$P$196,\"\")","v":0},{"$f":"IFERROR([11]INVERSION!$Q$196,\"\")","v":0},{"$f":"IFERROR([11]INVERSION!$R$196,\"\")","v":0},{"$f":"IFERROR([11]INVERSION!$S$196,\"\")","v":"00:00:00"},{"$f":"IFERROR([11]INVERSION!$T$196,\"\")","v":"00:00:00"},{"$f":"IFERROR([11]INVERSION!$U$196,\"\")","v":0},{"$f":"IFERROR([11]INVERSION!$V$196,\"\")","v":0},{"$f":"IFERROR([11]INVERSION!$W$196,\"\")","v":0},{"$f":"IFERROR([11]INVERSION!$X$196,\"\")","v":0},{"$f":"IFERROR([11]INVERSION!$Y$196,\"\")","v":0},null,null,null,"","",null,0]
[null,null,null,null,null,null,{"$f":"IFERROR([11]INVERSION!$G$197,\"\")","v":0},{"$f":"IFERROR([11]INVERSION!$H$197,\"\")","v":0},{"$f":"IFERROR([11]INVERSION!$I$197,\"\")","v":0},{"$f":"IFERROR([11]INVERSION!$J$197,\"\")","v":0},{"$f":"IFERROR([11]INVERSION!$K$197,\"\")","v":0},{"$f":"IFERROR([11]INVERSION!$L$197,\"\")","v":0},{"$f":"IFERROR([11]INVERSION!$M$197,\"\")","v":0},{"$f":"IFERROR([11]INVERSION!$N$197,\"\")","v":0},{"$f":"IFERROR([11]INVERSION!$O$197,\"\")","v":0},{"$f":"IFERROR([11]INVERSION!$P$197,\"\")","v":0},{"$f":"IFERROR([11]INVERSION!$Q$197,\"\")","v":0},{"$f":"IFERROR([11]INVERSION!$R$197,\"\")","v":0},{"$f":"IFERROR([11]INVERSION!$S$197,\"\")","v":"00:00:00"},{"$f":"IFERROR([11]INVERSION!$T$197,\"\")","v":"00:00:00"},{"$f":"IFERROR([11]INVERSION!$U$197,\"\")","v":0},{"$f":"IFERROR([11]INVERSION!$V$197,\"\")","v":0},{"$f":"IFERROR([11]INVERSION!$W$197,\"\")","v":0},{"$f":"IFERROR([11]INVERSION!$X$197,\"\")","v":0},{"$f":"IFERROR([11]INVERSION!$Y$197,\"\")","v":0},null,null,null,"","",null,0]
[null,null,null,null,null,null,{"$f":"IFERROR([11]INVERSION!$G$198,\"\")","v":0},{"$f":"IFERROR([11]INVERSION!$H$198,\"\")","v":0},{"$f":"IFERROR([11]INVERSION!$I$198,\"\")","v":0},{"$f":"IFERROR([11]INVERSION!$J$198,\"\")","v":0},{"$f":"IFERROR([11]INVERSION!$K$198,\"\")","v":0},{"$f":"IFERROR([11]INVERSION!$L$198,\"\")","v":0},{"$f":"IFERROR([11]INVERSION!$M$198,\"\")","v":0},{"$f":"IFERROR([11]INVERSION!$N$198,\"\")","v":0},{"$f":"IFERROR([11]INVERSION!$O$198,\"\")","v":0},{"$f":"IFERROR([11]INVERSION!$P$198,\"\")","v":0},{"$f":"IFERROR([11]INVERSION!$Q$198,\"\")","v":0},{"$f":"IFERROR([11]INVERSION!$R$198,\"\")","v":0},{"$f":"IFERROR([11]INVERSION!$S$198,\"\")","v":"00:00:00"},{"$f":"IFERROR([11]INVERSION!$T$198,\"\")","v":"00:00:00"},{"$f":"IFERROR([11]INVERSION!$U$198,\"\")","v":0},{"$f":"IFERROR([11]INVERSION!$V$198,\"\")","v":0},{"$f":"IFERROR([11]INVERSION!$W$198,\"\")","v":0},{"$f":"IFERROR([11]INVERSION!$X$198,\"\")","v":0},{"$f":"IFERROR([11]INVERSION!$Y$198,\"\")","v":0}]
[null,null,null,null,null,null,{"$f":"IFERROR([11]INVERSION!$G$199,\"\")","v":0},{"$f":"IFERROR([11]INVERSION!$H$199,\"\")","v":0},{"$f":"IFERROR([11]INVERSION!$I$199,\"\")","v":0},{"$f":"IFERROR([11]INVERSION!$J$199,\"\")","v":0},{"$f":"IFERROR([11]INVERSION!$K$199,\"\")","v":0},{"$f":"IFERROR([11]INVERSION!$L$199,\"\")","v":0},{"$f":"IFERROR([11]INVERSION!$M$199,\"\")","v":0},{"$f":"IFERROR([11]INVERSION!$N$199,\"\")","v":0},{"$f":"IFERROR([11]INVERSION!$O$199,\"\")","v":0},{"$f":"IFERROR([11]INVERSION!$P$199,\"\")","v":0},{"$f":"IFERROR([11]INVERSION!$Q$199,\"\")","v":0},{"$f":"IFERROR([11]INVERSION!$R$199,\"\")","v":0},{"$f":"IFERROR([11]INVERSION!$S$199,\"\")","v":"00:00:00"},{"$f":"IFERROR([11]INVERSION!$T$199,\"\")","v":"00:00:00"},{"$f":"IFERROR([11]INVERSION!$U$199,\"\")","v":0},{"$f":"IFERROR([11]INVERSION!$V$199,\"\")","v":0},{"$f":"IFERROR([11]INVERSION!$W$199,\"\")","v":0},{"$f":"IFERROR([11]INVERSION!$X$199,\"\")","v":0},{"$f":"IFERROR([11]INVERSION!$Y$199,\"\")","v":0}]
[null,null,null,null,null,null,{"$f":"IFERROR([11]INVERSION!$G$200,\"\")","v":0},{"$f":"IFERROR([11]INVERSION!$H$200,\"\")","v":0},{"$f":"IFERROR([11]INVERSION!$I$200,\"\")","v":0},{"$f":"IFERROR([11]INVERSION!$J$200,\"\")","v":0},{"$f":"IFERROR([11]INVERSION!$K$200,\"\")","v":0},{"$f":"IFERROR([11]INVERSION!$L$200,\"\")","v":0},{"$f":"IFERROR([11]INVERSION!$M$200,\"\")","v":0},{"$f":"IFERROR([11]INVERSION!$N$200,\"\")","v":0},{"$f":"IFERROR([11]INVERSION!$O$200,\"\")","v":0},{"$f":"IFERROR([11]INVERSION!$P$200,\"\")","v":0},{"$f":"IFERROR([11]INVERSION!$Q$200,\"\")","v":0},{"$f":"IFERROR([11]INVERSION!$R$200,\"\")","v":0},{"$f":"IFERROR([11]INVERSION!$S$200,\"\")","v":"00:00:00"},{"$f":"IFERROR([11]INVERSION!$T$200,\"\")","v":"00:00:00"},{"$f":"IFERROR([11]INVERSION!$U$200,\"\")","v":0},{"$f":"IFERROR([11]INVERSION!$V$200,\"\")","v":0},{"$f":"IFERROR([11]INVERSION!$W$200,\"\")","v":0},{"$f":"IFERROR([11]INVERSION!$X$200,\"\")","v":0},{"$f":"IFERROR([11]INVERSION!$Y$200,\"\")","v":0}]
[null,null,null,null,null,null,{"$f":"IFERROR([11]INVERSION!$G$201,\"\")","v":0},{"$f":"IFERROR([11]INVERSION!$H$201,\"\")","v":0},{"$f":"IFERROR([11]INVERSION!$I$201,\"\")","v":0},{"$f":"IFERROR([11]INVERSION!$J$201,\"\")","v":0},{"$f":"IFERROR([11]INVERSION!$K$201,\"\")","v":0},{"$f":"IFERROR([11]INVERSION!$L$201,\"\")","v":0},{"$f":"IFERROR([11]INVERSION!$M$201,\"\")","v":0},{"$f":"IFERROR([11]INVERSION!$N$201,\"\")","v":0},{"$f":"IFERROR([11]INVERSION!$O$201,\"\")","v":0},{"$f":"IFERROR([11]INVERSION!$P$201,\"\")","v":0},{"$f":"IFERROR([11]INVERSION!$Q$201,\"\")","v":0},{"$f":"IFERROR([11]INVERSION!$R$201,\"\")","v":0},{"$f":"IFERROR([11]INVERSION!$S$201,\"\")","v":"00:00:00"},{"$f":"IFERROR([11]INVERSION!$T$201,\"\")","v":"00:00:00"},{"$f":"IFERROR([11]INVERSION!$U$201,\"\")","v":0},{"$f":"IFERROR([11]INVERSION!$V$201,\"\")","v":0},{"$f":"IFERROR([11]INVERSION!$W$201,\"\")","v":0},{"$f":"IFERROR([11]INVERSION!$X$201,\"\")","v":0},{"$f":"IFERROR([11]INVERSION!$Y$201,\"\")","v":0}]
[null,null,null,null,null,null,{"$f":"IFERROR([11]INVERSION!$G$202,\"\")","v":0},{"$f":"IFERROR([11]INVERSION!$H$202,\"\")","v":0},{"$f":"IFERROR([11]INVERSION!$I$202,\"\")","v":0},{"$f":"IFERROR([11]INVERSION!$J$202,\"\")","v":0},{"$f":"IFERROR([11]INVERSION!$K$202,\"\")","v":0},{"$f":"IFERROR([11]INVERSION!$L$202,\"\")","v":0},{"$f":"IFERROR([11]INVERSION!$M$202,\"\")","v":0},{"$f":"IFERROR([11]INVERSION!$N$202,\"\")","v":0},{"$f":"IFERROR([11]INVERSION!$O$202,\"\")","v":0},{"$f":"IFERROR([11]INVERSION!$P$202,\"\")","v":0},{"$f":"IFERROR([11]INVERSION!$Q$202,\"\")","v":0},{"$f":"IFERROR([11]INVERSION!$R$202,\"\")","v":0},{"$f":"IFERROR([11]INVERSION!$S$202,\"\")","v":"00:00:00"},{"$f":"IFERROR([11]INVERSION!$T$202,\"\")","v":"00:00:00"},{"$f":"IFERROR([11]INVERSION!$U$202,\"\")","v":0},{"$f":"IFERROR([11]INVERSION!$V$202,\"\")","v":0},{"$f":"IFERROR([11]INVERSION!$W$202,\"\")","v":0},{"$f":"IFERROR([11]INVERSION!$X$202,\"\")","v":0},{"$f":"IFERROR([11]INVERSION!$Y$202,\"\")","v":0}]
[null,null,null,null,null,null,{"$f":"IFERROR([11]INVERSION!$G$203,\"\")","v":0},{"$f":"IFERROR([11]INVERSION!$H$203,\"\")","v":0},{"$f":"IFERROR([11]INVERSION!$I$203,\"\")","v":0},{"$f":"IFERROR([11]INVERSION!$J$203,\"\")","v":0},{"$f":"IFERROR([11]INVERSION!$K$203,\"\")","v":0},{"$f":"IFERROR([11]INVERSION!$L$203,\"\")","v":0},{"$f":"IFERROR([11]INVERSION!$M$203,\"\")","v":0},{"$f":"IFERROR([11]INVERSION!$N$203,\"\")","v":0},{"$f":"IFERROR([11]INVERSION!$O$203,\"\")","v":0},{"$f":"IFERROR([11]INVERSION!$P$203,\"\")","v":0},{"$f":"IFERROR([11]INVERSION!$Q$203,\"\")","v":0},{"$f":"IFERROR([11]INVERSION!$R$203,\"\")","v":0},{"$f":"IFERROR([11]INVERSION!$S$203,\"\")","v":"00:00:00"},{"$f":"IFERROR([11]INVERSION!$T$203,\"\")","v":"00:00:00"},{"$f":"IFERROR([11]INVERSION!$U$203,\"\")","v":0},{"$f":"IFERROR([11]INVERSION!$V$203,\"\")","v":0},{"$f":"IFERROR([11]INVERSION!$W$203,\"\")","v":0},{"$f":"IFERROR([11]INVERSION!$X$203,\"\")","v":0},{"$f":"IFERROR([11]INVERSION!$Y$203,\"\")","v":0},null,null,null,"","",null,0]
[null,null,null,null,null,null,{"$f":"IFERROR([11]INVERSION!$G$204,\"\")","v":0},{"$f":"IFERROR([11]INVERSION!$H$204,\"\")","v":0},{"$f":"IFERROR([11]INVERSION!$I$204,\"\")","v":0},{"$f":"IFERROR([11]INVERSION!$J$204,\"\")","v":0},{"$f":"IFERROR([11]INVERSION!$K$204,\"\")","v":0},{"$f":"IFERROR([11]INVERSION!$L$204,\"\")","v":0},{"$f":"IFERROR([11]INVERSION!$M$204,\"\")","v":0},{"$f":"IFERROR([11]INVERSION!$N$204,\"\")","v":0},{"$f":"IFERROR([11]INVERSION!$O$204,\"\")","v":0},{"$f":"IFERROR([11]INVERSION!$P$204,\"\")","v":0},{"$f":"IFERROR([11]INVERSION!$Q$204,\"\")","v":0},{"$f":"IFERROR([11]INVERSION!$R$204,\"\")","v":0},{"$f":"IFERROR([11]INVERSION!$S$204,\"\")","v":"00:00:00"},{"$f":"IFERROR([11]INVERSION!$T$204,\"\")","v":"00:00:00"},{"$f":"IFERROR([11]INVERSION!$U$204,\"\")","v":0},{"$f":"IFERROR([11]INVERSION!$V$204,\"\")","v":0},{"$f":"IFERROR([11]INVERSION!$W$204,\"\")","v":0},{"$f":"IFERROR([11]INVERSION!$X$204,\"\")","v":0},{"$f":"IFERROR([11]INVERSION!$Y$204,\"\")","v":0},null,null,null,"","",null,0]
[null,null,null,null,null,null,{"$f":"IFERROR([11]INVERSION!$G$205,\"\")","v":0},{"$f":"IFERROR([11]INVERSION!$H$205,\"\")","v":0},{"$f":"IFERROR([11]INVERSION!$I$205,\"\")","v":0},{"$f":"IFERROR([11]INVERSION!$J$205,\"\")","v":0},{"$f":"IFERROR([11]INVERSION!$K$205,\"\")","v":0},{"$f":"IFERROR([11]INVERSION!$L$205,\"\")","v":0},{"$f":"IFERROR([11]INVERSION!$M$205,\"\")","v":0},{"$f":"IFERROR([11]INVERSION!$N$205,\"\")","v":0},{"$f":"IFERROR([11]INVERSION!$O$205,\"\")","v":0},{"$f":"IFERROR([11]INVERSION!$P$205,\"\")","v":0},{"$f":"IFERROR([11]INVERSION!$Q$205,\"\")","v":0},{"$f":"IFERROR([11]INVERSION!$R$205,\"\")","v":0},{"$f":"IFERROR([11]INVERSION!$S$205,\"\")","v":"00:00:00"},{"$f":"IFERROR([11]INVERSION!$T$205,\"\")","v":"00:00:00"},{"$f":"IFERROR([11]INVERSION!$U$205,\"\")","v":0},{"$f":"IFERROR([11]INVERSION!$V$205,\"\")","v":0},{"$f":"IFERROR([11]INVERSION!$W$205,\"\")","v":0},{"$f":"IFERROR([11]INVERSION!$X$205,\"\")","v":0},{"$f":"IFERROR([11]INVERSION!$Y$205,\"\")","v":0},null,null,null,"","",null,0]
[null,null,"3. Promover la incorporación de la perspectiva de género y el enfoque diferencial en los fallos judiciales y en la atención a los ciudadanos, la administración de la Rama Judicial, la administración de la carrera judicial y la elaboración de listas para altas Cortes. ","Enfoque diferencial y perspectiva de género en las decisiones judiciales de la Rama Judicial","# de decisiones judiciales postuladas al Concurso de “Reconocim iento a la incorporaci ón del derecho a la igualdad y la no discriminaci ón en las sentencias judiciales” en el año corriente/# de decisiones judiciales postuladas al Concurso de “Reconocim iento a la incorporaci ón del derecho a la igualdad y la no discriminaci ón en las sentencias judiciales” en el año inmediatam ente anterior",null,{"$f":"IFERROR([11]INVERSION!$G$206,\"\")","v":0},{"$f":"IFERROR([11]INVERSION!$H$206,\"\")","v":0},{"$f":"IFERROR([11]INVERSION!$I$206,\"\")","v":0},{"$f":"IFERROR([11]INVERSION!$J$206,\"\")","v":0},{"$f":"IFERROR([11]INVERSION!$K$206,\"\")","v":0},{"$f":"IFERROR([11]INVERSION!$L$206,\"\")","v":0},{"$f":"IFERROR([11]INVERSION!$M$206,\"\")","v":0},{"$f":"IFERROR([11]INVERSION!$N$206,\"\")","v":0},{"$f":"IFERROR([11]INVERSION!$O$206,\"\")","v":0},{"$f":"IFERROR([11]INVERSION!$P$206,\"\")","v":0},{"$f":"IFERROR([11]INVERSION!$Q$206,\"\")","v":0},{"$f":"IFERROR([11]INVERSION!$R$206,\"\")","v":0},{"$f":"IFERROR([11]INVERSION!$S$206,\"\")","v":"00:00:00"},{"$f":"IFERROR([11]INVERSION!$T$206,\"\")","v":"00:00:00"},{"$f":"IFERROR([11]INVERSION!$U$206,\"\")","v":0},{"$f":"IFERROR([11]INVERSION!$V$206,\"\")","v":0},{"$f":"IFERROR([11]INVERSION!$W$206,\"\")","v":0},{"$f":"IFERROR([11]INVERSION!$X$206,\"\")","v":0},{"$f":"IFERROR([11]INVERSION!$Y$206,\"\")","v":0},null,null,null,"","",null,0]
[null,null,null,null,null,null,{"$f":"IFERROR([11]INVERSION!$G$207,\"\")","v":0},{"$f":"IFERROR([11]INVERSION!$H$207,\"\")","v":0},{"$f":"IFERROR([11]INVERSION!$I$207,\"\")","v":0},{"$f":"IFERROR([11]INVERSION!$J$207,\"\")","v":0},{"$f":"IFERROR([11]INVERSION!$K$207,\"\")","v":0},{"$f":"IFERROR([11]INVERSION!$L$207,\"\")","v":0},{"$f":"IFERROR([11]INVERSION!$M$207,\"\")","v":0},{"$f":"IFERROR([11]INVERSION!$N$207,\"\")","v":0},{"$f":"IFERROR([11]INVERSION!$O$207,\"\")","v":0},{"$f":"IFERROR([11]INVERSION!$P$207,\"\")","v":0},{"$f":"IFERROR([11]INVERSION!$Q$207,\"\")","v":0},{"$f":"IFERROR([11]INVERSION!$R$207,\"\")","v":0},{"$f":"IFERROR([11]INVERSION!$S$207,\"\")","v":"00:00:00"},{"$f":"IFERROR([11]INVERSION!$T$207,\"\")","v":"00:00:00"},{"$f":"IFERROR([11]INVERSION!$U$207,\"\")","v":0},{"$f":"IFERROR([11]INVERSION!$V$207,\"\")","v":0},{"$f":"IFERROR([11]INVERSION!$W$207,\"\")","v":0},{"$f":"IFERROR([11]INVERSION!$X$207,\"\")","v":0},{"$f":"IFERROR([11]INVERSION!$Y$207,\"\")","v":0},null,null,null,"","",null,0]
[null,null,null,null,null,null,{"$f":"IFERROR([11]INVERSION!$G$208,\"\")","v":0},{"$f":"IFERROR([11]INVERSION!$H$208,\"\")","v":0},{"$f":"IFERROR([11]INVERSION!$I$208,\"\")","v":0},{"$f":"IFERROR([11]INVERSION!$J$208,\"\")","v":0},{"$f":"IFERROR([11]INVERSION!$K$208,\"\")","v":0},{"$f":"IFERROR([11]INVERSION!$L$208,\"\")","v":0},{"$f":"IFERROR([11]INVERSION!$M$208,\"\")","v":0},{"$f":"IFERROR([11]INVERSION!$N$208,\"\")","v":0},{"$f":"IFERROR([11]INVERSION!$O$208,\"\")","v":0},{"$f":"IFERROR([11]INVERSION!$P$208,\"\")","v":0},{"$f":"IFERROR([11]INVERSION!$Q$208,\"\")","v":0},{"$f":"IFERROR([11]INVERSION!$R$208,\"\")","v":0},{"$f":"IFERROR([11]INVERSION!$S$208,\"\")","v":"00:00:00"},{"$f":"IFERROR([11]INVERSION!$T$208,\"\")","v":"00:00:00"},{"$f":"IFERROR([11]INVERSION!$U$208,\"\")","v":0},{"$f":"IFERROR([11]INVERSION!$V$208,\"\")","v":0},{"$f":"IFERROR([11]INVERSION!$W$208,\"\")","v":0},{"$f":"IFERROR([11]INVERSION!$X$208,\"\")","v":0},{"$f":"IFERROR([11]INVERSION!$Y$208,\"\")","v":0}]
[null,null,null,null,null,null,{"$f":"IFERROR([11]INVERSION!$G$209,\"\")","v":0},{"$f":"IFERROR([11]INVERSION!$H$209,\"\")","v":0},{"$f":"IFERROR([11]INVERSION!$I$209,\"\")","v":0},{"$f":"IFERROR([11]INVERSION!$J$209,\"\")","v":0},{"$f":"IFERROR([11]INVERSION!$K$209,\"\")","v":0},{"$f":"IFERROR([11]INVERSION!$L$209,\"\")","v":0},{"$f":"IFERROR([11]INVERSION!$M$209,\"\")","v":0},{"$f":"IFERROR([11]INVERSION!$N$209,\"\")","v":0},{"$f":"IFERROR([11]INVERSION!$O$209,\"\")","v":0},{"$f":"IFERROR([11]INVERSION!$P$209,\"\")","v":0},{"$f":"IFERROR([11]INVERSION!$Q$209,\"\")","v":0},{"$f":"IFERROR([11]INVERSION!$R$209,\"\")","v":0},{"$f":"IFERROR([11]INVERSION!$S$209,\"\")","v":"00:00:00"},{"$f":"IFERROR([11]INVERSION!$T$209,\"\")","v":"00:00:00"},{"$f":"IFERROR([11]INVERSION!$U$209,\"\")","v":0},{"$f":"IFERROR([11]INVERSION!$V$209,\"\")","v":0},{"$f":"IFERROR([11]INVERSION!$W$209,\"\")","v":0},{"$f":"IFERROR([11]INVERSION!$X$209,\"\")","v":0},{"$f":"IFERROR([11]INVERSION!$Y$209,\"\")","v":0}]
[null,null,null,null,null,null,{"$f":"IFERROR([11]INVERSION!$G$210,\"\")","v":0},{"$f":"IFERROR([11]INVERSION!$H$210,\"\")","v":0},{"$f":"IFERROR([11]INVERSION!$I$210,\"\")","v":0},{"$f":"IFERROR([11]INVERSION!$J$210,\"\")","v":0},{"$f":"IFERROR([11]INVERSION!$K$210,\"\")","v":0},{"$f":"IFERROR([11]INVERSION!$L$210,\"\")","v":0},{"$f":"IFERROR([11]INVERSION!$M$210,\"\")","v":0},{"$f":"IFERROR([11]INVERSION!$N$210,\"\")","v":0},{"$f":"IFERROR([11]INVERSION!$O$210,\"\")","v":0},{"$f":"IFERROR([11]INVERSION!$P$210,\"\")","v":0},{"$f":"IFERROR([11]INVERSION!$Q$210,\"\")","v":0},{"$f":"IFERROR([11]INVERSION!$R$210,\"\")","v":0},{"$f":"IFERROR([11]INVERSION!$S$210,\"\")","v":"00:00:00"},{"$f":"IFERROR([11]INVERSION!$T$210,\"\")","v":"00:00:00"},{"$f":"IFERROR([11]INVERSION!$U$210,\"\")","v":0},{"$f":"IFERROR([11]INVERSION!$V$210,\"\")","v":0},{"$f":"IFERROR([11]INVERSION!$W$210,\"\")","v":0},{"$f":"IFERROR([11]INVERSION!$X$210,\"\")","v":0},{"$f":"IFERROR([11]INVERSION!$Y$210,\"\")","v":0}]
[null,null,null,null,null,null,{"$f":"IFERROR([11]INVERSION!$G$211,\"\")","v":0},{"$f":"IFERROR([11]INVERSION!$H$211,\"\")","v":0},{"$f":"IFERROR([11]INVERSION!$I$211,\"\")","v":0},{"$f":"IFERROR([11]INVERSION!$J$211,\"\")","v":0},{"$f":"IFERROR([11]INVERSION!$K$211,\"\")","v":0},{"$f":"IFERROR([11]INVERSION!$L$211,\"\")","v":0},{"$f":"IFERROR([11]INVERSION!$M$211,\"\")","v":0},{"$f":"IFERROR([11]INVERSION!$N$211,\"\")","v":0},{"$f":"IFERROR([11]INVERSION!$O$211,\"\")","v":0},{"$f":"IFERROR([11]INVERSION!$P$211,\"\")","v":0},{"$f":"IFERROR([11]INVERSION!$Q$211,\"\")","v":0},{"$f":"IFERROR([11]INVERSION!$R$211,\"\")","v":0},{"$f":"IFERROR([11]INVERSION!$S$211,\"\")","v":"00:00:00"},{"$f":"IFERROR([11]INVERSION!$T$211,\"\")","v":"00:00:00"},{"$f":"IFERROR([11]INVERSION!$U$211,\"\")","v":0},{"$f":"IFERROR([11]INVERSION!$V$211,\"\")","v":0},{"$f":"IFERROR([11]INVERSION!$W$211,\"\")","v":0},{"$f":"IFERROR([11]INVERSION!$X$211,\"\")","v":0},{"$f":"IFERROR([11]INVERSION!$Y$211,\"\")","v":0}]
[null,null,null,null,null,null,{"$f":"IFERROR([11]INVERSION!$G$212,\"\")","v":0},{"$f":"IFERROR([11]INVERSION!$H$212,\"\")","v":0},{"$f":"IFERROR([11]INVERSION!$I$212,\"\")","v":0},{"$f":"IFERROR([11]INVERSION!$J$212,\"\")","v":0},{"$f":"IFERROR([11]INVERSION!$K$212,\"\")","v":0},{"$f":"IFERROR([11]INVERSION!$L$212,\"\")","v":0},{"$f":"IFERROR([11]INVERSION!$M$212,\"\")","v":0},{"$f":"IFERROR([11]INVERSION!$N$212,\"\")","v":0},{"$f":"IFERROR([11]INVERSION!$O$212,\"\")","v":0},{"$f":"IFERROR([11]INVERSION!$P$212,\"\")","v":0},{"$f":"IFERROR([11]INVERSION!$Q$212,\"\")","v":0},{"$f":"IFERROR([11]INVERSION!$R$212,\"\")","v":0},{"$f":"IFERROR([11]INVERSION!$S$212,\"\")","v":"00:00:00"},{"$f":"IFERROR([11]INVERSION!$T$212,\"\")","v":"00:00:00"},{"$f":"IFERROR([11]INVERSION!$U$212,\"\")","v":0},{"$f":"IFERROR([11]INVERSION!$V$212,\"\")","v":0},{"$f":"IFERROR([11]INVERSION!$W$212,\"\")","v":0},{"$f":"IFERROR([11]INVERSION!$X$212,\"\")","v":0},{"$f":"IFERROR([11]INVERSION!$Y$212,\"\")","v":0}]
[null,null,null,null,null,null,{"$f":"IFERROR([11]INVERSION!$G$213,\"\")","v":0},{"$f":"IFERROR([11]INVERSION!$H$213,\"\")","v":0},{"$f":"IFERROR([11]INVERSION!$I$213,\"\")","v":0},{"$f":"IFERROR([11]INVERSION!$J$213,\"\")","v":0},{"$f":"IFERROR([11]INVERSION!$K$213,\"\")","v":0},{"$f":"IFERROR([11]INVERSION!$L$213,\"\")","v":0},{"$f":"IFERROR([11]INVERSION!$M$213,\"\")","v":0},{"$f":"IFERROR([11]INVERSION!$N$213,\"\")","v":0},{"$f":"IFERROR([11]INVERSION!$O$213,\"\")","v":0},{"$f":"IFERROR([11]INVERSION!$P$213,\"\")","v":0},{"$f":"IFERROR([11]INVERSION!$Q$213,\"\")","v":0},{"$f":"IFERROR([11]INVERSION!$R$213,\"\")","v":0},{"$f":"IFERROR([11]INVERSION!$S$213,\"\")","v":"00:00:00"},{"$f":"IFERROR([11]INVERSION!$T$213,\"\")","v":"00:00:00"},{"$f":"IFERROR([11]INVERSION!$U$213,\"\")","v":0},{"$f":"IFERROR([11]INVERSION!$V$213,\"\")","v":0},{"$f":"IFERROR([11]INVERSION!$W$213,\"\")","v":0},{"$f":"IFERROR([11]INVERSION!$X$213,\"\")","v":0},{"$f":"IFERROR([11]INVERSION!$Y$213,\"\")","v":0},null,null,null,"","",null,0]
[null,null,null,null,null,null,{"$f":"IFERROR([11]INVERSION!$G$214,\"\")","v":0},{"$f":"IFERROR([11]INVERSION!$H$214,\"\")","v":0},{"$f":"IFERROR([11]INVERSION!$I$214,\"\")","v":0},{"$f":"IFERROR([11]INVERSION!$J$214,\"\")","v":0},{"$f":"IFERROR([11]INVERSION!$K$214,\"\")","v":0},{"$f":"IFERROR([11]INVERSION!$L$214,\"\")","v":0},{"$f":"IFERROR([11]INVERSION!$M$214,\"\")","v":0},{"$f":"IFERROR([11]INVERSION!$N$214,\"\")","v":0},{"$f":"IFERROR([11]INVERSION!$O$214,\"\")","v":0},{"$f":"IFERROR([11]INVERSION!$P$214,\"\")","v":0},{"$f":"IFERROR([11]INVERSION!$Q$214,\"\")","v":0},{"$f":"IFERROR([11]INVERSION!$R$214,\"\")","v":0},{"$f":"IFERROR([11]INVERSION!$S$214,\"\")","v":"00:00:00"},{"$f":"IFERROR([11]INVERSION!$T$214,\"\")","v":"00:00:00"},{"$f":"IFERROR([11]INVERSION!$U$214,\"\")","v":0},{"$f":"IFERROR([11]INVERSION!$V$214,\"\")","v":0},{"$f":"IFERROR([11]INVERSION!$W$214,\"\")","v":0},{"$f":"IFERROR([11]INVERSION!$X$214,\"\")","v":0},{"$f":"IFERROR([11]INVERSION!$Y$214,\"\")","v":0},null,null,null,"","",null,0]
[null,null,null,null,null,null,{"$f":"IFERROR([11]INVERSION!$G$215,\"\")","v":0},{"$f":"IFERROR([11]INVERSION!$H$215,\"\")","v":0},{"$f":"IFERROR([11]INVERSION!$I$215,\"\")","v":0},{"$f":"IFERROR([11]INVERSION!$J$215,\"\")","v":0},{"$f":"IFERROR([11]INVERSION!$K$215,\"\")","v":0},{"$f":"IFERROR([11]INVERSION!$L$215,\"\")","v":0},{"$f":"IFERROR([11]INVERSION!$M$215,\"\")","v":0},{"$f":"IFERROR([11]INVERSION!$N$215,\"\")","v":0},{"$f":"IFERROR([11]INVERSION!$O$215,\"\")","v":0},{"$f":"IFERROR([11]INVERSION!$P$215,\"\")","v":0},{"$f":"IFERROR([11]INVERSION!$Q$215,\"\")","v":0},{"$f":"IFERROR([11]INVERSION!$R$215,\"\")","v":0},{"$f":"IFERROR([11]INVERSION!$S$215,\"\")","v":"00:00:00"},{"$f":"IFERROR([11]INVERSION!$T$215,\"\")","v":"00:00:00"},{"$f":"IFERROR([11]INVERSION!$U$215,\"\")","v":0},{"$f":"IFERROR([11]INVERSION!$V$215,\"\")","v":0},{"$f":"IFERROR([11]INVERSION!$W$215,\"\")","v":0},{"$f":"IFERROR([11]INVERSION!$X$215,\"\")","v":0},{"$f":"IFERROR([11]INVERSION!$Y$215,\"\")","v":0},null,null,null,"","",null,0]
[null,null,"4. Desarrollar en los servidores judiciales y demás grupos de valor relevantes las competencias necesarias para la efectividad de la transformación digital de modo que puedan, entre otros, utilizar con solvencia las herramientas digitales dispuestas para sus respectivas funciones. Además, fortalecer y actualizar los conocimientos del personal a cargo de la gestión de proyectos de tecnología.","Cobertura de la formación impartida por la Escuela Judicial en Tecnologías de la Información y las Comunicaciones TIC para la práctica judicial.","# servidores que no han recibido ningún curso de formación en Tecnología s de la Información y las Comunicaci ones TIC en la vigencia del plan sectorial, discriminad o por funcionarios y empleados, municipio y especialida d /# servidores totales, discriminad o por funcionarios y empleados, municipio y especialida d",null,{"$f":"IFERROR([11]INVERSION!$G$216,\"\")","v":0},{"$f":"IFERROR([11]INVERSION!$H$216,\"\")","v":0},{"$f":"IFERROR([11]INVERSION!$I$216,\"\")","v":0},{"$f":"IFERROR([11]INVERSION!$J$216,\"\")","v":0},{"$f":"IFERROR([11]INVERSION!$K$216,\"\")","v":0},{"$f":"IFERROR([11]INVERSION!$L$216,\"\")","v":0},{"$f":"IFERROR([11]INVERSION!$M$216,\"\")","v":0},{"$f":"IFERROR([11]INVERSION!$N$216,\"\")","v":0},{"$f":"IFERROR([11]INVERSION!$O$216,\"\")","v":0},{"$f":"IFERROR([11]INVERSION!$P$216,\"\")","v":0},{"$f":"IFERROR([11]INVERSION!$Q$216,\"\")","v":0},{"$f":"IFERROR([11]INVERSION!$R$216,\"\")","v":0},{"$f":"IFERROR([11]INVERSION!$S$216,\"\")","v":"00:00:00"},{"$f":"IFERROR([11]INVERSION!$T$216,\"\")","v":"00:00:00"},{"$f":"IFERROR([11]INVERSION!$U$216,\"\")","v":0},{"$f":"IFERROR([11]INVERSION!$V$216,\"\")","v":0},{"$f":"IFERROR([11]INVERSION!$W$216,\"\")","v":0},{"$f":"IFERROR([11]INVERSION!$X$216,\"\")","v":0},{"$f":"IFERROR([11]INVERSION!$Y$216,\"\")","v":0},null,null,null,"","",null,0]
[null,null,null,null,null,null,{"$f":"IFERROR([11]INVERSION!$G$217,\"\")","v":0},{"$f":"IFERROR([11]INVERSION!$H$217,\"\")","v":0},{"$f":"IFERROR([11]INVERSION!$I$217,\"\")","v":0},{"$f":"IFERROR([11]INVERSION!$J$217,\"\")","v":0},{"$f":"IFERROR([11]INVERSION!$K$217,\"\")","v":0},{"$f":"IFERROR([11]INVERSION!$L$217,\"\")","v":0},{"$f":"IFERROR([11]INVERSION!$M$217,\"\")","v":0},{"$f":"IFERROR([11]INVERSION!$N$217,\"\")","v":0},{"$f":"IFERROR([11]INVERSION!$O$217,\"\")","v":0},{"$f":"IFERROR([11]INVERSION!$P$217,\"\")","v":0},{"$f":"IFERROR([11]INVERSION!$Q$217,\"\")","v":0},{"$f":"IFERROR([11]INVERSION!$R$217,\"\")","v":0},{"$f":"IFERROR([11]INVERSION!$S$217,\"\")","v":"00:00:00"},{"$f":"IFERROR([11]INVERSION!$T$217,\"\")","v":"00:00:00"},{"$f":"IFERROR([11]INVERSION!$U$217,\"\")","v":0},{"$f":"IFERROR([11]INVERSION!$V$217,\"\")","v":0},{"$f":"IFERROR([11]INVERSION!$W$217,\"\")","v":0},{"$f":"IFERROR([11]INVERSION!$X$217,\"\")","v":0},{"$f":"IFERROR([11]INVERSION!$Y$217,\"\")","v":0},null,null,null,"","",null,0]
[null,null,null,null,null,null,{"$f":"IFERROR([11]INVERSION!$G$218,\"\")","v":0},{"$f":"IFERROR([11]INVERSION!$H$218,\"\")","v":0},{"$f":"IFERROR([11]INVERSION!$I$218,\"\")","v":0},{"$f":"IFERROR([11]INVERSION!$J$218,\"\")","v":0},{"$f":"IFERROR([11]INVERSION!$K$218,\"\")","v":0},{"$f":"IFERROR([11]INVERSION!$L$218,\"\")","v":0},{"$f":"IFERROR([11]INVERSION!$M$218,\"\")","v":0},{"$f":"IFERROR([11]INVERSION!$N$218,\"\")","v":0},{"$f":"IFERROR([11]INVERSION!$O$218,\"\")","v":0},{"$f":"IFERROR([11]INVERSION!$P$218,\"\")","v":0},{"$f":"IFERROR([11]INVERSION!$Q$218,\"\")","v":0},{"$f":"IFERROR([11]INVERSION!$R$218,\"\")","v":0},{"$f":"IFERROR([11]INVERSION!$S$218,\"\")","v":"00:00:00"},{"$f":"IFERROR([11]INVERSION!$T$218,\"\")","v":"00:00:00"},{"$f":"IFERROR([11]INVERSION!$U$218,\"\")","v":0},{"$f":"IFERROR([11]INVERSION!$V$218,\"\")","v":0},{"$f":"IFERROR([11]INVERSION!$W$218,\"\")","v":0},{"$f":"IFERROR([11]INVERSION!$X$218,\"\")","v":0},{"$f":"IFERROR([11]INVERSION!$Y$218,\"\")","v":0}]
[null,null,null,null,null,null,{"$f":"IFERROR([11]INVERSION!$G$219,\"\")","v":0},{"$f":"IFERROR([11]INVERSION!$H$219,\"\")","v":0},{"$f":"IFERROR([11]INVERSION!$I$219,\"\")","v":0},{"$f":"IFERROR([11]INVERSION!$J$219,\"\")","v":0},{"$f":"IFERROR([11]INVERSION!$K$219,\"\")","v":0},{"$f":"IFERROR([11]INVERSION!$L$219,\"\")","v":0},{"$f":"IFERROR([11]INVERSION!$M$219,\"\")","v":0},{"$f":"IFERROR([11]INVERSION!$N$219,\"\")","v":0},{"$f":"IFERROR([11]INVERSION!$O$219,\"\")","v":0},{"$f":"IFERROR([11]INVERSION!$P$219,\"\")","v":0},{"$f":"IFERROR([11]INVERSION!$Q$219,\"\")","v":0},{"$f":"IFERROR([11]INVERSION!$R$219,\"\")","v":0},{"$f":"IFERROR([11]INVERSION!$S$219,\"\")","v":"00:00:00"},{"$f":"IFERROR([11]INVERSION!$T$219,\"\")","v":"00:00:00"},{"$f":"IFERROR([11]INVERSION!$U$219,\"\")","v":0},{"$f":"IFERROR([11]INVERSION!$V$219,\"\")","v":0},{"$f":"IFERROR([11]INVERSION!$W$219,\"\")","v":0},{"$f":"IFERROR([11]INVERSION!$X$219,\"\")","v":0},{"$f":"IFERROR([11]INVERSION!$Y$219,\"\")","v":0}]
[null,null,null,null,null,null,{"$f":"IFERROR([11]INVERSION!$G$220,\"\")","v":0},{"$f":"IFERROR([11]INVERSION!$H$220,\"\")","v":0},{"$f":"IFERROR([11]INVERSION!$I$220,\"\")","v":0},{"$f":"IFERROR([11]INVERSION!$J$220,\"\")","v":0},{"$f":"IFERROR([11]INVERSION!$K$220,\"\")","v":0},{"$f":"IFERROR([11]INVERSION!$L$220,\"\")","v":0},{"$f":"IFERROR([11]INVERSION!$M$220,\"\")","v":0},{"$f":"IFERROR([11]INVERSION!$N$220,\"\")","v":0},{"$f":"IFERROR([11]INVERSION!$O$220,\"\")","v":0},{"$f":"IFERROR([11]INVERSION!$P$220,\"\")","v":0},{"$f":"IFERROR([11]INVERSION!$Q$220,\"\")","v":0},{"$f":"IFERROR([11]INVERSION!$R$220,\"\")","v":0},{"$f":"IFERROR([11]INVERSION!$S$220,\"\")","v":"00:00:00"},{"$f":"IFERROR([11]INVERSION!$T$220,\"\")","v":"00:00:00"},{"$f":"IFERROR([11]INVERSION!$U$220,\"\")","v":0},{"$f":"IFERROR([11]INVERSION!$V$220,\"\")","v":0},{"$f":"IFERROR([11]INVERSION!$W$220,\"\")","v":0},{"$f":"IFERROR([11]INVERSION!$X$220,\"\")","v":0},{"$f":"IFERROR([11]INVERSION!$Y$220,\"\")","v":0}]
[null,null,null,null,null,null,{"$f":"IFERROR([11]INVERSION!$G$221,\"\")","v":0},{"$f":"IFERROR([11]INVERSION!$H$221,\"\")","v":0},{"$f":"IFERROR([11]INVERSION!$I$221,\"\")","v":0},{"$f":"IFERROR([11]INVERSION!$J$221,\"\")","v":0},{"$f":"IFERROR([11]INVERSION!$K$221,\"\")","v":0},{"$f":"IFERROR([11]INVERSION!$L$221,\"\")","v":0},{"$f":"IFERROR([11]INVERSION!$M$221,\"\")","v":0},{"$f":"IFERROR([11]INVERSION!$N$221,\"\")","v":0},{"$f":"IFERROR([11]INVERSION!$O$221,\"\")","v":0},{"$f":"IFERROR([11]INVERSION!$P$221,\"\")","v":0},{"$f":"IFERROR([11]INVERSION!$Q$221,\"\")","v":0},{"$f":"IFERROR([11]INVERSION!$R$221,\"\")","v":0},{"$f":"IFERROR([11]INVERSION!$S$221,\"\")","v":"00:00:00"},{"$f":"IFERROR([11]INVERSION!$T$221,\"\")","v":"00:00:00"},{"$f":"IFERROR([11]INVERSION!$U$221,\"\")","v":0},{"$f":"IFERROR([11]INVERSION!$V$221,\"\")","v":0},{"$f":"IFERROR([11]INVERSION!$W$221,\"\")","v":0},{"$f":"IFERROR([11]INVERSION!$X$221,\"\")","v":0},{"$f":"IFERROR([11]INVERSION!$Y$221,\"\")","v":0}]
[null,null,null,null,null,null,{"$f":"IFERROR([11]INVERSION!$G$222,\"\")","v":0},{"$f":"IFERROR([11]INVERSION!$H$222,\"\")","v":0},{"$f":"IFERROR([11]INVERSION!$I$222,\"\")","v":0},{"$f":"IFERROR([11]INVERSION!$J$222,\"\")","v":0},{"$f":"IFERROR([11]INVERSION!$K$222,\"\")","v":0},{"$f":"IFERROR([11]INVERSION!$L$222,\"\")","v":0},{"$f":"IFERROR([11]INVERSION!$M$222,\"\")","v":0},{"$f":"IFERROR([11]INVERSION!$N$222,\"\")","v":0},{"$f":"IFERROR([11]INVERSION!$O$222,\"\")","v":0},{"$f":"IFERROR([11]INVERSION!$P$222,\"\")","v":0},{"$f":"IFERROR([11]INVERSION!$Q$222,\"\")","v":0},{"$f":"IFERROR([11]INVERSION!$R$222,\"\")","v":0},{"$f":"IFERROR([11]INVERSION!$S$222,\"\")","v":"00:00:00"},{"$f":"IFERROR([11]INVERSION!$T$222,\"\")","v":"00:00:00"},{"$f":"IFERROR([11]INVERSION!$U$222,\"\")","v":0},{"$f":"IFERROR([11]INVERSION!$V$222,\"\")","v":0},{"$f":"IFERROR([11]INVERSION!$W$222,\"\")","v":0},{"$f":"IFERROR([11]INVERSION!$X$222,\"\")","v":0},{"$f":"IFERROR([11]INVERSION!$Y$222,\"\")","v":0}]
[null,null,null,null,null,null,{"$f":"IFERROR([11]INVERSION!$G$223,\"\")","v":0},{"$f":"IFERROR([11]INVERSION!$H$223,\"\")","v":0},{"$f":"IFERROR([11]INVERSION!$I$223,\"\")","v":0},{"$f":"IFERROR([11]INVERSION!$J$223,\"\")","v":0},{"$f":"IFERROR([11]INVERSION!$K$223,\"\")","v":0},{"$f":"IFERROR([11]INVERSION!$L$223,\"\")","v":0},{"$f":"IFERROR([11]INVERSION!$M$223,\"\")","v":0},{"$f":"IFERROR([11]INVERSION!$N$223,\"\")","v":0},{"$f":"IFERROR([11]INVERSION!$O$223,\"\")","v":0},{"$f":"IFERROR([11]INVERSION!$P$223,\"\")","v":0},{"$f":"IFERROR([11]INVERSION!$Q$223,\"\")","v":0},{"$f":"IFERROR([11]INVERSION!$R$223,\"\")","v":0},{"$f":"IFERROR([11]INVERSION!$S$223,\"\")","v":"00:00:00"},{"$f":"IFERROR([11]INVERSION!$T$223,\"\")","v":"00:00:00"},{"$f":"IFERROR([11]INVERSION!$U$223,\"\")","v":0},{"$f":"IFERROR([11]INVERSION!$V$223,\"\")","v":0},{"$f":"IFERROR([11]INVERSION!$W$223,\"\")","v":0},{"$f":"IFERROR([11]INVERSION!$X$223,\"\")","v":0},{"$f":"IFERROR([11]INVERSION!$Y$223,\"\")","v":0},null,null,null,"","",null,0]
[null,null,null,null,null,null,{"$f":"IFERROR([11]INVERSION!$G$224,\"\")","v":0},{"$f":"IFERROR([11]INVERSION!$H$224,\"\")","v":0},{"$f":"IFERROR([11]INVERSION!$I$224,\"\")","v":0},{"$f":"IFERROR([11]INVERSION!$J$224,\"\")","v":0},{"$f":"IFERROR([11]INVERSION!$K$224,\"\")","v":0},{"$f":"IFERROR([11]INVERSION!$L$224,\"\")","v":0},{"$f":"IFERROR([11]INVERSION!$M$224,\"\")","v":0},{"$f":"IFERROR([11]INVERSION!$N$224,\"\")","v":0},{"$f":"IFERROR([11]INVERSION!$O$224,\"\")","v":0},{"$f":"IFERROR([11]INVERSION!$P$224,\"\")","v":0},{"$f":"IFERROR([11]INVERSION!$Q$224,\"\")","v":0},{"$f":"IFERROR([11]INVERSION!$R$224,\"\")","v":0},{"$f":"IFERROR([11]INVERSION!$S$224,\"\")","v":"00:00:00"},{"$f":"IFERROR([11]INVERSION!$T$224,\"\")","v":"00:00:00"},{"$f":"IFERROR([11]INVERSION!$U$224,\"\")","v":0},{"$f":"IFERROR([11]INVERSION!$V$224,\"\")","v":0},{"$f":"IFERROR([11]INVERSION!$W$224,\"\")","v":0},{"$f":"IFERROR([11]INVERSION!$X$224,\"\")","v":0},{"$f":"IFERROR([11]INVERSION!$Y$224,\"\")","v":0},null,null,null,"","",null,0]
[null,null,null,null,null,null,{"$f":"IFERROR([11]INVERSION!$G$225,\"\")","v":0},{"$f":"IFERROR([11]INVERSION!$H$225,\"\")","v":0},{"$f":"IFERROR([11]INVERSION!$I$225,\"\")","v":0},{"$f":"IFERROR([11]INVERSION!$J$225,\"\")","v":0},{"$f":"IFERROR([11]INVERSION!$K$225,\"\")","v":0},{"$f":"IFERROR([11]INVERSION!$L$225,\"\")","v":0},{"$f":"IFERROR([11]INVERSION!$M$225,\"\")","v":0},{"$f":"IFERROR([11]INVERSION!$N$225,\"\")","v":0},{"$f":"IFERROR([11]INVERSION!$O$225,\"\")","v":0},{"$f":"IFERROR([11]INVERSION!$P$225,\"\")","v":0},{"$f":"IFERROR([11]INVERSION!$Q$225,\"\")","v":0},{"$f":"IFERROR([11]INVERSION!$R$225,\"\")","v":0},{"$f":"IFERROR([11]INVERSION!$S$225,\"\")","v":"00:00:00"},{"$f":"IFERROR([11]INVERSION!$T$225,\"\")","v":"00:00:00"},{"$f":"IFERROR([11]INVERSION!$U$225,\"\")","v":0},{"$f":"IFERROR([11]INVERSION!$V$225,\"\")","v":0},{"$f":"IFERROR([11]INVERSION!$W$225,\"\")","v":0},{"$f":"IFERROR([11]INVERSION!$X$225,\"\")","v":0},{"$f":"IFERROR([11]INVERSION!$Y$225,\"\")","v":0},null,null,null,"","",null,0]
[null,null,"5. Promover el bienestar de todos los servidores judiciales a través de la implementación de un sistema que contemple los diferentes niveles de estrategias y acciones necesarios para mejorar el clima laboral, la salud física y mental y la calidad del tiempo de descanso.","Satisfacción de los servidores judiciales con el clima laboral","(# respuestas con concepto de bueno o excelente / # total de respuestas) *100","5. Generar espacios de trabajo seguros y saludables que contribuyan a minimizar los  incidentes, accidentes y enfermedades laborales derivados de las condiciones y actos  inseguros y fomentar  el autocuidado, los  estilos de vida y el trabajo saludable en los servidores judiciales, contratistas, judicantes y practicantes.",{"$f":"IFERROR([11]INVERSION!$G$226,\"\")","v":0},{"$f":"IFERROR([11]INVERSION!$H$226,\"\")","v":0},{"$f":"IFERROR([11]INVERSION!$I$226,\"\")","v":0},{"$f":"IFERROR([11]INVERSION!$J$226,\"\")","v":0},{"$f":"IFERROR([11]INVERSION!$K$226,\"\")","v":0},{"$f":"IFERROR([11]INVERSION!$L$226,\"\")","v":0},{"$f":"IFERROR([11]INVERSION!$M$226,\"\")","v":0},{"$f":"IFERROR([11]INVERSION!$N$226,\"\")","v":0},{"$f":"IFERROR([11]INVERSION!$O$226,\"\")","v":0},{"$f":"IFERROR([11]INVERSION!$P$226,\"\")","v":0},{"$f":"IFERROR([11]INVERSION!$Q$226,\"\")","v":0},{"$f":"IFERROR([11]INVERSION!$R$226,\"\")","v":0},{"$f":"IFERROR([11]INVERSION!$S$226,\"\")","v":"00:00:00"},{"$f":"IFERROR([11]INVERSION!$T$226,\"\")","v":"00:00:00"},{"$f":"IFERROR([11]INVERSION!$U$226,\"\")","v":0},{"$f":"IFERROR([11]INVERSION!$V$226,\"\")","v":0},{"$f":"IFERROR([11]INVERSION!$W$226,\"\")","v":0},{"$f":"IFERROR([11]INVERSION!$X$226,\"\")","v":0},{"$f":"IFERROR([11]INVERSION!$Y$226,\"\")","v":0},null,null,null,"","",null,0]
[null,null,null,null,null,null,{"$f":"IFERROR([11]INVERSION!$G$227,\"\")","v":0},{"$f":"IFERROR([11]INVERSION!$H$227,\"\")","v":0},{"$f":"IFERROR([11]INVERSION!$I$227,\"\")","v":0},{"$f":"IFERROR([11]INVERSION!$J$227,\"\")","v":0},{"$f":"IFERROR([11]INVERSION!$K$227,\"\")","v":0},{"$f":"IFERROR([11]INVERSION!$L$227,\"\")","v":0},{"$f":"IFERROR([11]INVERSION!$M$227,\"\")","v":0},{"$f":"IFERROR([11]INVERSION!$N$227,\"\")","v":0},{"$f":"IFERROR([11]INVERSION!$O$227,\"\")","v":0},{"$f":"IFERROR([11]INVERSION!$P$227,\"\")","v":0},{"$f":"IFERROR([11]INVERSION!$Q$227,\"\")","v":0},{"$f":"IFERROR([11]INVERSION!$R$227,\"\")","v":0},{"$f":"IFERROR([11]INVERSION!$S$227,\"\")","v":"00:00:00"},{"$f":"IFERROR([11]INVERSION!$T$227,\"\")","v":"00:00:00"},{"$f":"IFERROR([11]INVERSION!$U$227,\"\")","v":0},{"$f":"IFERROR([11]INVERSION!$V$227,\"\")","v":0},{"$f":"IFERROR([11]INVERSION!$W$227,\"\")","v":0},{"$f":"IFERROR([11]INVERSION!$X$227,\"\")","v":0},{"$f":"IFERROR([11]INVERSION!$Y$227,\"\")","v":0},null,null,null,"","",null,0]
[null,null,null,null,null,null,{"$f":"IFERROR([11]INVERSION!$G$228,\"\")","v":0},{"$f":"IFERROR([11]INVERSION!$H$228,\"\")","v":0},{"$f":"IFERROR([11]INVERSION!$I$228,\"\")","v":0},{"$f":"IFERROR([11]INVERSION!$J$228,\"\")","v":0},{"$f":"IFERROR([11]INVERSION!$K$228,\"\")","v":0},{"$f":"IFERROR([11]INVERSION!$L$228,\"\")","v":0},{"$f":"IFERROR([11]INVERSION!$M$228,\"\")","v":0},{"$f":"IFERROR([11]INVERSION!$N$228,\"\")","v":0},{"$f":"IFERROR([11]INVERSION!$O$228,\"\")","v":0},{"$f":"IFERROR([11]INVERSION!$P$228,\"\")","v":0},{"$f":"IFERROR([11]INVERSION!$Q$228,\"\")","v":0},{"$f":"IFERROR([11]INVERSION!$R$228,\"\")","v":0},{"$f":"IFERROR([11]INVERSION!$S$228,\"\")","v":"00:00:00"},{"$f":"IFERROR([11]INVERSION!$T$228,\"\")","v":"00:00:00"},{"$f":"IFERROR([11]INVERSION!$U$228,\"\")","v":0},{"$f":"IFERROR([11]INVERSION!$V$228,\"\")","v":0},{"$f":"IFERROR([11]INVERSION!$W$228,\"\")","v":0},{"$f":"IFERROR([11]INVERSION!$X$228,\"\")","v":0},{"$f":"IFERROR([11]INVERSION!$Y$228,\"\")","v":0}]
[null,null,null,null,null,null,{"$f":"IFERROR([11]INVERSION!$G$229,\"\")","v":0},{"$f":"IFERROR([11]INVERSION!$H$229,\"\")","v":0},{"$f":"IFERROR([11]INVERSION!$I$229,\"\")","v":0},{"$f":"IFERROR([11]INVERSION!$J$229,\"\")","v":0},{"$f":"IFERROR([11]INVERSION!$K$229,\"\")","v":0},{"$f":"IFERROR([11]INVERSION!$L$229,\"\")","v":0},{"$f":"IFERROR([11]INVERSION!$M$229,\"\")","v":0},{"$f":"IFERROR([11]INVERSION!$N$229,\"\")","v":0},{"$f":"IFERROR([11]INVERSION!$O$229,\"\")","v":0},{"$f":"IFERROR([11]INVERSION!$P$229,\"\")","v":0},{"$f":"IFERROR([11]INVERSION!$Q$229,\"\")","v":0},{"$f":"IFERROR([11]INVERSION!$R$229,\"\")","v":0},{"$f":"IFERROR([11]INVERSION!$S$229,\"\")","v":"00:00:00"},{"$f":"IFERROR([11]INVERSION!$T$229,\"\")","v":"00:00:00"},{"$f":"IFERROR([11]INVERSION!$U$229,\"\")","v":0},{"$f":"IFERROR([11]INVERSION!$V$229,\"\")","v":0},{"$f":"IFERROR([11]INVERSION!$W$229,\"\")","v":0},{"$f":"IFERROR([11]INVERSION!$X$229,\"\")","v":0},{"$f":"IFERROR([11]INVERSION!$Y$229,\"\")","v":0}]
[null,null,null,null,null,null,{"$f":"IFERROR([11]INVERSION!$G$230,\"\")","v":0},{"$f":"IFERROR([11]INVERSION!$H$230,\"\")","v":0},{"$f":"IFERROR([11]INVERSION!$I$230,\"\")","v":0},{"$f":"IFERROR([11]INVERSION!$J$230,\"\")","v":0},{"$f":"IFERROR([11]INVERSION!$K$230,\"\")","v":0},{"$f":"IFERROR([11]INVERSION!$L$230,\"\")","v":0},{"$f":"IFERROR([11]INVERSION!$M$230,\"\")","v":0},{"$f":"IFERROR([11]INVERSION!$N$230,\"\")","v":0},{"$f":"IFERROR([11]INVERSION!$O$230,\"\")","v":0},{"$f":"IFERROR([11]INVERSION!$P$230,\"\")","v":0},{"$f":"IFERROR([11]INVERSION!$Q$230,\"\")","v":0},{"$f":"IFERROR([11]INVERSION!$R$230,\"\")","v":0},{"$f":"IFERROR([11]INVERSION!$S$230,\"\")","v":"00:00:00"},{"$f":"IFERROR([11]INVERSION!$T$230,\"\")","v":"00:00:00"},{"$f":"IFERROR([11]INVERSION!$U$230,\"\")","v":0},{"$f":"IFERROR([11]INVERSION!$V$230,\"\")","v":0},{"$f":"IFERROR([11]INVERSION!$W$230,\"\")","v":0},{"$f":"IFERROR([11]INVERSION!$X$230,\"\")","v":0},{"$f":"IFERROR([11]INVERSION!$Y$230,\"\")","v":0}]
[null,null,null,null,null,null,{"$f":"IFERROR([11]INVERSION!$G$231,\"\")","v":0},{"$f":"IFERROR([11]INVERSION!$H$231,\"\")","v":0},{"$f":"IFERROR([11]INVERSION!$I$231,\"\")","v":0},{"$f":"IFERROR([11]INVERSION!$J$231,\"\")","v":0},{"$f":"IFERROR([11]INVERSION!$K$231,\"\")","v":0},{"$f":"IFERROR([11]INVERSION!$L$231,\"\")","v":0},{"$f":"IFERROR([11]INVERSION!$M$231,\"\")","v":0},{"$f":"IFERROR([11]INVERSION!$N$231,\"\")","v":0},{"$f":"IFERROR([11]INVERSION!$O$231,\"\")","v":0},{"$f":"IFERROR([11]INVERSION!$P$231,\"\")","v":0},{"$f":"IFERROR([11]INVERSION!$Q$231,\"\")","v":0},{"$f":"IFERROR([11]INVERSION!$R$231,\"\")","v":0},{"$f":"IFERROR([11]INVERSION!$S$231,\"\")","v":"00:00:00"},{"$f":"IFERROR([11]INVERSION!$T$231,\"\")","v":"00:00:00"},{"$f":"IFERROR([11]INVERSION!$U$231,\"\")","v":0},{"$f":"IFERROR([11]INVERSION!$V$231,\"\")","v":0},{"$f":"IFERROR([11]INVERSION!$W$231,\"\")","v":0},{"$f":"IFERROR([11]INVERSION!$X$231,\"\")","v":0},{"$f":"IFERROR([11]INVERSION!$Y$231,\"\")","v":0}]
[null,null,null,null,null,null,{"$f":"IFERROR([11]INVERSION!$G$232,\"\")","v":0},{"$f":"IFERROR([11]INVERSION!$H$232,\"\")","v":0},{"$f":"IFERROR([11]INVERSION!$I$232,\"\")","v":0},{"$f":"IFERROR([11]INVERSION!$J$232,\"\")","v":0},{"$f":"IFERROR([11]INVERSION!$K$232,\"\")","v":0},{"$f":"IFERROR([11]INVERSION!$L$232,\"\")","v":0},{"$f":"IFERROR([11]INVERSION!$M$232,\"\")","v":0},{"$f":"IFERROR([11]INVERSION!$N$232,\"\")","v":0},{"$f":"IFERROR([11]INVERSION!$O$232,\"\")","v":0},{"$f":"IFERROR([11]INVERSION!$P$232,\"\")","v":0},{"$f":"IFERROR([11]INVERSION!$Q$232,\"\")","v":0},{"$f":"IFERROR([11]INVERSION!$R$232,\"\")","v":0},{"$f":"IFERROR([11]INVERSION!$S$232,\"\")","v":"00:00:00"},{"$f":"IFERROR([11]INVERSION!$T$232,\"\")","v":"00:00:00"},{"$f":"IFERROR([11]INVERSION!$U$232,\"\")","v":0},{"$f":"IFERROR([11]INVERSION!$V$232,\"\")","v":0},{"$f":"IFERROR([11]INVERSION!$W$232,\"\")","v":0},{"$f":"IFERROR([11]INVERSION!$X$232,\"\")","v":0},{"$f":"IFERROR([11]INVERSION!$Y$232,\"\")","v":0}]
[null,null,null,null,null,null,{"$f":"IFERROR([11]INVERSION!$G$233,\"\")","v":0},{"$f":"IFERROR([11]INVERSION!$H$233,\"\")","v":0},{"$f":"IFERROR([11]INVERSION!$I$233,\"\")","v":0},{"$f":"IFERROR([11]INVERSION!$J$233,\"\")","v":0},{"$f":"IFERROR([11]INVERSION!$K$233,\"\")","v":0},{"$f":"IFERROR([11]INVERSION!$L$233,\"\")","v":0},{"$f":"IFERROR([11]INVERSION!$M$233,\"\")","v":0},{"$f":"IFERROR([11]INVERSION!$N$233,\"\")","v":0},{"$f":"IFERROR([11]INVERSION!$O$233,\"\")","v":0},{"$f":"IFERROR([11]INVERSION!$P$233,\"\")","v":0},{"$f":"IFERROR([11]INVERSION!$Q$233,\"\")","v":0},{"$f":"IFERROR([11]INVERSION!$R$233,\"\")","v":0},{"$f":"IFERROR([11]INVERSION!$S$233,\"\")","v":"00:00:00"},{"$f":"IFERROR([11]INVERSION!$T$233,\"\")","v":"00:00:00"},{"$f":"IFERROR([11]INVERSION!$U$233,\"\")","v":0},{"$f":"IFERROR([11]INVERSION!$V$233,\"\")","v":0},{"$f":"IFERROR([11]INVERSION!$W$233,\"\")","v":0},{"$f":"IFERROR([11]INVERSION!$X$233,\"\")","v":0},{"$f":"IFERROR([11]INVERSION!$Y$233,\"\")","v":0},null,null,null,"","",null,0]
[null,null,null,null,null,null,{"$f":"IFERROR([11]INVERSION!$G$234,\"\")","v":0},{"$f":"IFERROR([11]INVERSION!$H$234,\"\")","v":0},{"$f":"IFERROR([11]INVERSION!$I$234,\"\")","v":0},{"$f":"IFERROR([11]INVERSION!$J$234,\"\")","v":0},{"$f":"IFERROR([11]INVERSION!$K$234,\"\")","v":0},{"$f":"IFERROR([11]INVERSION!$L$234,\"\")","v":0},{"$f":"IFERROR([11]INVERSION!$M$234,\"\")","v":0},{"$f":"IFERROR([11]INVERSION!$N$234,\"\")","v":0},{"$f":"IFERROR([11]INVERSION!$O$234,\"\")","v":0},{"$f":"IFERROR([11]INVERSION!$P$234,\"\")","v":0},{"$f":"IFERROR([11]INVERSION!$Q$234,\"\")","v":0},{"$f":"IFERROR([11]INVERSION!$R$234,\"\")","v":0},{"$f":"IFERROR([11]INVERSION!$S$234,\"\")","v":"00:00:00"},{"$f":"IFERROR([11]INVERSION!$T$234,\"\")","v":"00:00:00"},{"$f":"IFERROR([11]INVERSION!$U$234,\"\")","v":0},{"$f":"IFERROR([11]INVERSION!$V$234,\"\")","v":0},{"$f":"IFERROR([11]INVERSION!$W$234,\"\")","v":0},{"$f":"IFERROR([11]INVERSION!$X$234,\"\")","v":0},{"$f":"IFERROR([11]INVERSION!$Y$234,\"\")","v":0},null,null,null,"","",null,0]
[null,null,null,null,null,null,{"$f":"IFERROR([11]INVERSION!$G$235,\"\")","v":0},{"$f":"IFERROR([11]INVERSION!$H$235,\"\")","v":0},{"$f":"IFERROR([11]INVERSION!$I$235,\"\")","v":0},{"$f":"IFERROR([11]INVERSION!$J$235,\"\")","v":0},{"$f":"IFERROR([11]INVERSION!$K$235,\"\")","v":0},{"$f":"IFERROR([11]INVERSION!$L$235,\"\")","v":0},{"$f":"IFERROR([11]INVERSION!$M$235,\"\")","v":0},{"$f":"IFERROR([11]INVERSION!$N$235,\"\")","v":0},{"$f":"IFERROR([11]INVERSION!$O$235,\"\")","v":0},{"$f":"IFERROR([11]INVERSION!$P$235,\"\")","v":0},{"$f":"IFERROR([11]INVERSION!$Q$235,\"\")","v":0},{"$f":"IFERROR([11]INVERSION!$R$235,\"\")","v":0},{"$f":"IFERROR([11]INVERSION!$S$235,\"\")","v":"00:00:00"},{"$f":"IFERROR([11]INVERSION!$T$235,\"\")","v":"00:00:00"},{"$f":"IFERROR([11]INVERSION!$U$235,\"\")","v":0},{"$f":"IFERROR([11]INVERSION!$V$235,\"\")","v":0},{"$f":"IFERROR([11]INVERSION!$W$235,\"\")","v":0},{"$f":"IFERROR([11]INVERSION!$X$235,\"\")","v":0},{"$f":"IFERROR([11]INVERSION!$Y$235,\"\")","v":0},null,null,null,"","",null,0]
["5. Gobernanza, planeación estratégica y capacidad de toma de decisiones","Gobernanza, planeación estratégica y capacidad de toma de decisiones: Fortalecer la gobernanza, la planeación estratégica y la capacidad de toma de decisiones de la Rama Judicial con base en la evidencia empírica y la articulación efectiva con las demás entidades, para que la perspectiva de género y el enfoque diferencial sean transversales en el presente plan. ","1. Implementar un nuevo modelo integrado para la planeación estratégica, el seguimiento y la medición del desempeño institucional.","Modelo integrado para la planeación estratégica, seguimiento y medición del desempeño institucional implementado","% de implementa ción del modelo integrado","2. Asegurar  el cumplimiento de los objetivos institucionales, la normatividad aplicable,  la mejora del SIGCMA y la satisfacción de los usuarios, revisando de  forma continua y sistemática la planificación de la gestión y fortaleciendo la administración de riesgos y sus controles.",{"$f":"IFERROR([11]INVERSION!$G$236,\"\")","v":0},{"$f":"IFERROR([11]INVERSION!$H$236,\"\")","v":0},{"$f":"IFERROR([11]INVERSION!$I$236,\"\")","v":0},{"$f":"IFERROR([11]INVERSION!$J$236,\"\")","v":0},{"$f":"IFERROR([11]INVERSION!$K$236,\"\")","v":0},{"$f":"IFERROR([11]INVERSION!$L$236,\"\")","v":0},{"$f":"IFERROR([11]INVERSION!$M$236,\"\")","v":0},{"$f":"IFERROR([11]INVERSION!$N$236,\"\")","v":0},{"$f":"IFERROR([11]INVERSION!$O$236,\"\")","v":0},{"$f":"IFERROR([11]INVERSION!$P$236,\"\")","v":0},{"$f":"IFERROR([11]INVERSION!$Q$236,\"\")","v":0},{"$f":"IFERROR([11]INVERSION!$R$236,\"\")","v":0},{"$f":"IFERROR([11]INVERSION!$S$236,\"\")","v":"00:00:00"},{"$f":"IFERROR([11]INVERSION!$T$236,\"\")","v":"00:00:00"},{"$f":"IFERROR([11]INVERSION!$U$236,\"\")","v":0},{"$f":"IFERROR([11]INVERSION!$V$236,\"\")","v":0},{"$f":"IFERROR([11]INVERSION!$W$236,\"\")","v":0},{"$f":"IFERROR([11]INVERSION!$X$236,\"\")","v":0},{"$f":"IFERROR([11]INVERSION!$Y$236,\"\")","v":0},null,null,null,"","",null,0]
[null,null,null,null,null,null,{"$f":"IFERROR([11]INVERSION!$G$237,\"\")","v":0},{"$f":"IFERROR([11]INVERSION!$H$237,\"\")","v":0},{"$f":"IFERROR([11]INVERSION!$I$237,\"\")","v":0},{"$f":"IFERROR([11]INVERSION!$J$237,\"\")","v":0},{"$f":"IFERROR([11]INVERSION!$K$237,\"\")","v":0},{"$f":"IFERROR([11]INVERSION!$L$237,\"\")","v":0},{"$f":"IFERROR([11]INVERSION!$M$237,\"\")","v":0},{"$f":"IFERROR([11]INVERSION!$N$237,\"\")","v":0},{"$f":"IFERROR([11]INVERSION!$O$237,\"\")","v":0},{"$f":"IFERROR([11]INVERSION!$P$237,\"\")","v":0},{"$f":"IFERROR([11]INVERSION!$Q$237,\"\")","v":0},{"$f":"IFERROR([11]INVERSION!$R$237,\"\")","v":0},{"$f":"IFERROR([11]INVERSION!$S$237,\"\")","v":"00:00:00"},{"$f":"IFERROR([11]INVERSION!$T$237,\"\")","v":"00:00:00"},{"$f":"IFERROR([11]INVERSION!$U$237,\"\")","v":0},{"$f":"IFERROR([11]INVERSION!$V$237,\"\")","v":0},{"$f":"IFERROR([11]INVERSION!$W$237,\"\")","v":0},{"$f":"IFERROR([11]INVERSION!$X$237,\"\")","v":0},{"$f":"IFERROR([11]INVERSION!$Y$237,\"\")","v":0},null,null,null,"","",null,0]
[null,null,null,null,null,null,{"$f":"IFERROR([11]INVERSION!$G$238,\"\")","v":0},{"$f":"IFERROR([11]INVERSION!$H$238,\"\")","v":0},{"$f":"IFERROR([11]INVERSION!$I$238,\"\")","v":0},{"$f":"IFERROR([11]INVERSION!$J$238,\"\")","v":0},{"$f":"IFERROR([11]INVERSION!$K$238,\"\")","v":0},{"$f":"IFERROR([11]INVERSION!$L$238,\"\")","v":0},{"$f":"IFERROR([11]INVERSION!$M$238,\"\")","v":0},{"$f":"IFERROR([11]INVERSION!$N$238,\"\")","v":0},{"$f":"IFERROR([11]INVERSION!$O$238,\"\")","v":0},{"$f":"IFERROR([11]INVERSION!$P$238,\"\")","v":0},{"$f":"IFERROR([11]INVERSION!$Q$238,\"\")","v":0},{"$f":"IFERROR([11]INVERSION!$R$238,\"\")","v":0},{"$f":"IFERROR([11]INVERSION!$S$238,\"\")","v":"00:00:00"},{"$f":"IFERROR([11]INVERSION!$T$238,\"\")","v":"00:00:00"},{"$f":"IFERROR([11]INVERSION!$U$238,\"\")","v":0},{"$f":"IFERROR([11]INVERSION!$V$238,\"\")","v":0},{"$f":"IFERROR([11]INVERSION!$W$238,\"\")","v":0},{"$f":"IFERROR([11]INVERSION!$X$238,\"\")","v":0},{"$f":"IFERROR([11]INVERSION!$Y$238,\"\")","v":0}]
[null,null,null,null,null,null,{"$f":"IFERROR([11]INVERSION!$G$239,\"\")","v":0},{"$f":"IFERROR([11]INVERSION!$H$239,\"\")","v":0},{"$f":"IFERROR([11]INVERSION!$I$239,\"\")","v":0},{"$f":"IFERROR([11]INVERSION!$J$239,\"\")","v":0},{"$f":"IFERROR([11]INVERSION!$K$239,\"\")","v":0},{"$f":"IFERROR([11]INVERSION!$L$239,\"\")","v":0},{"$f":"IFERROR([11]INVERSION!$M$239,\"\")","v":0},{"$f":"IFERROR([11]INVERSION!$N$239,\"\")","v":0},{"$f":"IFERROR([11]INVERSION!$O$239,\"\")","v":0},{"$f":"IFERROR([11]INVERSION!$P$239,\"\")","v":0},{"$f":"IFERROR([11]INVERSION!$Q$239,\"\")","v":0},{"$f":"IFERROR([11]INVERSION!$R$239,\"\")","v":0},{"$f":"IFERROR([11]INVERSION!$S$239,\"\")","v":"00:00:00"},{"$f":"IFERROR([11]INVERSION!$T$239,\"\")","v":"00:00:00"},{"$f":"IFERROR([11]INVERSION!$U$239,\"\")","v":0},{"$f":"IFERROR([11]INVERSION!$V$239,\"\")","v":0},{"$f":"IFERROR([11]INVERSION!$W$239,\"\")","v":0},{"$f":"IFERROR([11]INVERSION!$X$239,\"\")","v":0},{"$f":"IFERROR([11]INVERSION!$Y$239,\"\")","v":0}]
[null,null,null,null,null,null,{"$f":"IFERROR([11]INVERSION!$G$240,\"\")","v":0},{"$f":"IFERROR([11]INVERSION!$H$240,\"\")","v":0},{"$f":"IFERROR([11]INVERSION!$I$240,\"\")","v":0},{"$f":"IFERROR([11]INVERSION!$J$240,\"\")","v":0},{"$f":"IFERROR([11]INVERSION!$K$240,\"\")","v":0},{"$f":"IFERROR([11]INVERSION!$L$240,\"\")","v":0},{"$f":"IFERROR([11]INVERSION!$M$240,\"\")","v":0},{"$f":"IFERROR([11]INVERSION!$N$240,\"\")","v":0},{"$f":"IFERROR([11]INVERSION!$O$240,\"\")","v":0},{"$f":"IFERROR([11]INVERSION!$P$240,\"\")","v":0},{"$f":"IFERROR([11]INVERSION!$Q$240,\"\")","v":0},{"$f":"IFERROR([11]INVERSION!$R$240,\"\")","v":0},{"$f":"IFERROR([11]INVERSION!$S$240,\"\")","v":"00:00:00"},{"$f":"IFERROR([11]INVERSION!$T$240,\"\")","v":"00:00:00"},{"$f":"IFERROR([11]INVERSION!$U$240,\"\")","v":0},{"$f":"IFERROR([11]INVERSION!$V$240,\"\")","v":0},{"$f":"IFERROR([11]INVERSION!$W$240,\"\")","v":0},{"$f":"IFERROR([11]INVERSION!$X$240,\"\")","v":0},{"$f":"IFERROR([11]INVERSION!$Y$240,\"\")","v":0}]
[null,null,null,null,null,null,{"$f":"IFERROR([11]INVERSION!$G$241,\"\")","v":0},{"$f":"IFERROR([11]INVERSION!$H$241,\"\")","v":0},{"$f":"IFERROR([11]INVERSION!$I$241,\"\")","v":0},{"$f":"IFERROR([11]INVERSION!$J$241,\"\")","v":0},{"$f":"IFERROR([11]INVERSION!$K$241,\"\")","v":0},{"$f":"IFERROR([11]INVERSION!$L$241,\"\")","v":0},{"$f":"IFERROR([11]INVERSION!$M$241,\"\")","v":0},{"$f":"IFERROR([11]INVERSION!$N$241,\"\")","v":0},{"$f":"IFERROR([11]INVERSION!$O$241,\"\")","v":0},{"$f":"IFERROR([11]INVERSION!$P$241,\"\")","v":0},{"$f":"IFERROR([11]INVERSION!$Q$241,\"\")","v":0},{"$f":"IFERROR([11]INVERSION!$R$241,\"\")","v":0},{"$f":"IFERROR([11]INVERSION!$S$241,\"\")","v":"00:00:00"},{"$f":"IFERROR([11]INVERSION!$T$241,\"\")","v":"00:00:00"},{"$f":"IFERROR([11]INVERSION!$U$241,\"\")","v":0},{"$f":"IFERROR([11]INVERSION!$V$241,\"\")","v":0},{"$f":"IFERROR([11]INVERSION!$W$241,\"\")","v":0},{"$f":"IFERROR([11]INVERSION!$X$241,\"\")","v":0},{"$f":"IFERROR([11]INVERSION!$Y$241,\"\")","v":0}]
[null,null,null,null,null,null,{"$f":"IFERROR([11]INVERSION!$G$242,\"\")","v":0},{"$f":"IFERROR([11]INVERSION!$H$242,\"\")","v":0},{"$f":"IFERROR([11]INVERSION!$I$242,\"\")","v":0},{"$f":"IFERROR([11]INVERSION!$J$242,\"\")","v":0},{"$f":"IFERROR([11]INVERSION!$K$242,\"\")","v":0},{"$f":"IFERROR([11]INVERSION!$L$242,\"\")","v":0},{"$f":"IFERROR([11]INVERSION!$M$242,\"\")","v":0},{"$f":"IFERROR([11]INVERSION!$N$242,\"\")","v":0},{"$f":"IFERROR([11]INVERSION!$O$242,\"\")","v":0},{"$f":"IFERROR([11]INVERSION!$P$242,\"\")","v":0},{"$f":"IFERROR([11]INVERSION!$Q$242,\"\")","v":0},{"$f":"IFERROR([11]INVERSION!$R$242,\"\")","v":0},{"$f":"IFERROR([11]INVERSION!$S$242,\"\")","v":"00:00:00"},{"$f":"IFERROR([11]INVERSION!$T$242,\"\")","v":"00:00:00"},{"$f":"IFERROR([11]INVERSION!$U$242,\"\")","v":0},{"$f":"IFERROR([11]INVERSION!$V$242,\"\")","v":0},{"$f":"IFERROR([11]INVERSION!$W$242,\"\")","v":0},{"$f":"IFERROR([11]INVERSION!$X$242,\"\")","v":0},{"$f":"IFERROR([11]INVERSION!$Y$242,\"\")","v":0}]
[null,null,null,null,null,null,{"$f":"IFERROR([11]INVERSION!$G$243,\"\")","v":0},{"$f":"IFERROR([11]INVERSION!$H$243,\"\")","v":0},{"$f":"IFERROR([11]INVERSION!$I$243,\"\")","v":0},{"$f":"IFERROR([11]INVERSION!$J$243,\"\")","v":0},{"$f":"IFERROR([11]INVERSION!$K$243,\"\")","v":0},{"$f":"IFERROR([11]INVERSION!$L$243,\"\")","v":0},{"$f":"IFERROR([11]INVERSION!$M$243,\"\")","v":0},{"$f":"IFERROR([11]INVERSION!$N$243,\"\")","v":0},{"$f":"IFERROR([11]INVERSION!$O$243,\"\")","v":0},{"$f":"IFERROR([11]INVERSION!$P$243,\"\")","v":0},{"$f":"IFERROR([11]INVERSION!$Q$243,\"\")","v":0},{"$f":"IFERROR([11]INVERSION!$R$243,\"\")","v":0},{"$f":"IFERROR([11]INVERSION!$S$243,\"\")","v":"00:00:00"},{"$f":"IFERROR([11]INVERSION!$T$243,\"\")","v":"00:00:00"},{"$f":"IFERROR([11]INVERSION!$U$243,\"\")","v":0},{"$f":"IFERROR([11]INVERSION!$V$243,\"\")","v":0},{"$f":"IFERROR([11]INVERSION!$W$243,\"\")","v":0},{"$f":"IFERROR([11]INVERSION!$X$243,\"\")","v":0},{"$f":"IFERROR([11]INVERSION!$Y$243,\"\")","v":0},null,null,null,"","",null,0]
[null,null,null,null,null,null,{"$f":"IFERROR([11]INVERSION!$G$244,\"\")","v":0},{"$f":"IFERROR([11]INVERSION!$H$244,\"\")","v":0},{"$f":"IFERROR([11]INVERSION!$I$244,\"\")","v":0},{"$f":"IFERROR([11]INVERSION!$J$244,\"\")","v":0},{"$f":"IFERROR([11]INVERSION!$K$244,\"\")","v":0},{"$f":"IFERROR([11]INVERSION!$L$244,\"\")","v":0},{"$f":"IFERROR([11]INVERSION!$M$244,\"\")","v":0},{"$f":"IFERROR([11]INVERSION!$N$244,\"\")","v":0},{"$f":"IFERROR([11]INVERSION!$O$244,\"\")","v":0},{"$f":"IFERROR([11]INVERSION!$P$244,\"\")","v":0},{"$f":"IFERROR([11]INVERSION!$Q$244,\"\")","v":0},{"$f":"IFERROR([11]INVERSION!$R$244,\"\")","v":0},{"$f":"IFERROR([11]INVERSION!$S$244,\"\")","v":"00:00:00"},{"$f":"IFERROR([11]INVERSION!$T$244,\"\")","v":"00:00:00"},{"$f":"IFERROR([11]INVERSION!$U$244,\"\")","v":0},{"$f":"IFERROR([11]INVERSION!$V$244,\"\")","v":0},{"$f":"IFERROR([11]INVERSION!$W$244,\"\")","v":0},{"$f":"IFERROR([11]INVERSION!$X$244,\"\")","v":0},{"$f":"IFERROR([11]INVERSION!$Y$244,\"\")","v":0},null,null,null,"","",null,0]
[null,null,null,null,null,null,{"$f":"IFERROR([11]INVERSION!$G$245,\"\")","v":0},{"$f":"IFERROR([11]INVERSION!$H$245,\"\")","v":0},{"$f":"IFERROR([11]INVERSION!$I$245,\"\")","v":0},{"$f":"IFERROR([11]INVERSION!$J$245,\"\")","v":0},{"$f":"IFERROR([11]INVERSION!$K$245,\"\")","v":0},{"$f":"IFERROR([11]INVERSION!$L$245,\"\")","v":0},{"$f":"IFERROR([11]INVERSION!$M$245,\"\")","v":0},{"$f":"IFERROR([11]INVERSION!$N$245,\"\")","v":0},{"$f":"IFERROR([11]INVERSION!$O$245,\"\")","v":0},{"$f":"IFERROR([11]INVERSION!$P$245,\"\")","v":0},{"$f":"IFERROR([11]INVERSION!$Q$245,\"\")","v":0},{"$f":"IFERROR([11]INVERSION!$R$245,\"\")","v":0},{"$f":"IFERROR([11]INVERSION!$S$245,\"\")","v":"00:00:00"},{"$f":"IFERROR([11]INVERSION!$T$245,\"\")","v":"00:00:00"},{"$f":"IFERROR([11]INVERSION!$U$245,\"\")","v":0},{"$f":"IFERROR([11]INVERSION!$V$245,\"\")","v":0},{"$f":"IFERROR([11]INVERSION!$W$245,\"\")","v":0},{"$f":"IFERROR([11]INVERSION!$X$245,\"\")","v":0},{"$f":"IFERROR([11]INVERSION!$Y$245,\"\")","v":0},null,null,null,"","",null,0]
[null,null,"2. Definir e implementar el modelo optimizado de formulación, seguimiento y evaluación de la política pública judicial.",null,null,null,{"$f":"IFERROR([11]INVERSION!$G$246,\"\")","v":0},{"$f":"IFERROR([11]INVERSION!$H$246,\"\")","v":0},{"$f":"IFERROR([11]INVERSION!$I$246,\"\")","v":0},{"$f":"IFERROR([11]INVERSION!$J$246,\"\")","v":0},{"$f":"IFERROR([11]INVERSION!$K$246,\"\")","v":0},{"$f":"IFERROR([11]INVERSION!$L$246,\"\")","v":0},{"$f":"IFERROR([11]INVERSION!$M$246,\"\")","v":0},{"$f":"IFERROR([11]INVERSION!$N$246,\"\")","v":0},{"$f":"IFERROR([11]INVERSION!$O$246,\"\")","v":0},{"$f":"IFERROR([11]INVERSION!$P$246,\"\")","v":0},{"$f":"IFERROR([11]INVERSION!$Q$246,\"\")","v":0},{"$f":"IFERROR([11]INVERSION!$R$246,\"\")","v":0},{"$f":"IFERROR([11]INVERSION!$S$246,\"\")","v":"00:00:00"},{"$f":"IFERROR([11]INVERSION!$T$246,\"\")","v":"00:00:00"},{"$f":"IFERROR([11]INVERSION!$U$246,\"\")","v":0},{"$f":"IFERROR([11]INVERSION!$V$246,\"\")","v":0},{"$f":"IFERROR([11]INVERSION!$W$246,\"\")","v":0},{"$f":"IFERROR([11]INVERSION!$X$246,\"\")","v":0},{"$f":"IFERROR([11]INVERSION!$Y$246,\"\")","v":0},null,null,null,"","",null,0]
[null,null,null,null,null,null,{"$f":"IFERROR([11]INVERSION!$G$247,\"\")","v":0},{"$f":"IFERROR([11]INVERSION!$H$247,\"\")","v":0},{"$f":"IFERROR([11]INVERSION!$I$247,\"\")","v":0},{"$f":"IFERROR([11]INVERSION!$J$247,\"\")","v":0},{"$f":"IFERROR([11]INVERSION!$K$247,\"\")","v":0},{"$f":"IFERROR([11]INVERSION!$L$247,\"\")","v":0},{"$f":"IFERROR([11]INVERSION!$M$247,\"\")","v":0},{"$f":"IFERROR([11]INVERSION!$N$247,\"\")","v":0},{"$f":"IFERROR([11]INVERSION!$O$247,\"\")","v":0},{"$f":"IFERROR([11]INVERSION!$P$247,\"\")","v":0},{"$f":"IFERROR([11]INVERSION!$Q$247,\"\")","v":0},{"$f":"IFERROR([11]INVERSION!$R$247,\"\")","v":0},{"$f":"IFERROR([11]INVERSION!$S$247,\"\")","v":"00:00:00"},{"$f":"IFERROR([11]INVERSION!$T$247,\"\")","v":"00:00:00"},{"$f":"IFERROR([11]INVERSION!$U$247,\"\")","v":0},{"$f":"IFERROR([11]INVERSION!$V$247,\"\")","v":0},{"$f":"IFERROR([11]INVERSION!$W$247,\"\")","v":0},{"$f":"IFERROR([11]INVERSION!$X$247,\"\")","v":0},{"$f":"IFERROR([11]INVERSION!$Y$247,\"\")","v":0},null,null,null,"","",null,0]
[null,null,null,null,null,null,{"$f":"IFERROR([11]INVERSION!$G$248,\"\")","v":0},{"$f":"IFERROR([11]INVERSION!$H$248,\"\")","v":0},{"$f":"IFERROR([11]INVERSION!$I$248,\"\")","v":0},{"$f":"IFERROR([11]INVERSION!$J$248,\"\")","v":0},{"$f":"IFERROR([11]INVERSION!$K$248,\"\")","v":0},{"$f":"IFERROR([11]INVERSION!$L$248,\"\")","v":0},{"$f":"IFERROR([11]INVERSION!$M$248,\"\")","v":0},{"$f":"IFERROR([11]INVERSION!$N$248,\"\")","v":0},{"$f":"IFERROR([11]INVERSION!$O$248,\"\")","v":0},{"$f":"IFERROR([11]INVERSION!$P$248,\"\")","v":0},{"$f":"IFERROR([11]INVERSION!$Q$248,\"\")","v":0},{"$f":"IFERROR([11]INVERSION!$R$248,\"\")","v":0},{"$f":"IFERROR([11]INVERSION!$S$248,\"\")","v":"00:00:00"},{"$f":"IFERROR([11]INVERSION!$T$248,\"\")","v":"00:00:00"},{"$f":"IFERROR([11]INVERSION!$U$248,\"\")","v":0},{"$f":"IFERROR([11]INVERSION!$V$248,\"\")","v":0},{"$f":"IFERROR([11]INVERSION!$W$248,\"\")","v":0},{"$f":"IFERROR([11]INVERSION!$X$248,\"\")","v":0},{"$f":"IFERROR([11]INVERSION!$Y$248,\"\")","v":0}]
[null,null,null,null,null,null,{"$f":"IFERROR([11]INVERSION!$G$249,\"\")","v":0},{"$f":"IFERROR([11]INVERSION!$H$249,\"\")","v":0},{"$f":"IFERROR([11]INVERSION!$I$249,\"\")","v":0},{"$f":"IFERROR([11]INVERSION!$J$249,\"\")","v":0},{"$f":"IFERROR([11]INVERSION!$K$249,\"\")","v":0},{"$f":"IFERROR([11]INVERSION!$L$249,\"\")","v":0},{"$f":"IFERROR([11]INVERSION!$M$249,\"\")","v":0},{"$f":"IFERROR([11]INVERSION!$N$249,\"\")","v":0},{"$f":"IFERROR([11]INVERSION!$O$249,\"\")","v":0},{"$f":"IFERROR([11]INVERSION!$P$249,\"\")","v":0},{"$f":"IFERROR([11]INVERSION!$Q$249,\"\")","v":0},{"$f":"IFERROR([11]INVERSION!$R$249,\"\")","v":0},{"$f":"IFERROR([11]INVERSION!$S$249,\"\")","v":"00:00:00"},{"$f":"IFERROR([11]INVERSION!$T$249,\"\")","v":"00:00:00"},{"$f":"IFERROR([11]INVERSION!$U$249,\"\")","v":0},{"$f":"IFERROR([11]INVERSION!$V$249,\"\")","v":0},{"$f":"IFERROR([11]INVERSION!$W$249,\"\")","v":0},{"$f":"IFERROR([11]INVERSION!$X$249,\"\")","v":0},{"$f":"IFERROR([11]INVERSION!$Y$249,\"\")","v":0}]
[null,null,null,null,null,null,{"$f":"IFERROR([11]INVERSION!$G$250,\"\")","v":0},{"$f":"IFERROR([11]INVERSION!$H$250,\"\")","v":0},{"$f":"IFERROR([11]INVERSION!$I$250,\"\")","v":0},{"$f":"IFERROR([11]INVERSION!$J$250,\"\")","v":0},{"$f":"IFERROR([11]INVERSION!$K$250,\"\")","v":0},{"$f":"IFERROR([11]INVERSION!$L$250,\"\")","v":0},{"$f":"IFERROR([11]INVERSION!$M$250,\"\")","v":0},{"$f":"IFERROR([11]INVERSION!$N$250,\"\")","v":0},{"$f":"IFERROR([11]INVERSION!$O$250,\"\")","v":0},{"$f":"IFERROR([11]INVERSION!$P$250,\"\")","v":0},{"$f":"IFERROR([11]INVERSION!$Q$250,\"\")","v":0},{"$f":"IFERROR([11]INVERSION!$R$250,\"\")","v":0},{"$f":"IFERROR([11]INVERSION!$S$250,\"\")","v":"00:00:00"},{"$f":"IFERROR([11]INVERSION!$T$250,\"\")","v":"00:00:00"},{"$f":"IFERROR([11]INVERSION!$U$250,\"\")","v":0},{"$f":"IFERROR([11]INVERSION!$V$250,\"\")","v":0},{"$f":"IFERROR([11]INVERSION!$W$250,\"\")","v":0},{"$f":"IFERROR([11]INVERSION!$X$250,\"\")","v":0},{"$f":"IFERROR([11]INVERSION!$Y$250,\"\")","v":0}]
[null,null,null,null,null,null,{"$f":"IFERROR([11]INVERSION!$G$251,\"\")","v":0},{"$f":"IFERROR([11]INVERSION!$H$251,\"\")","v":0},{"$f":"IFERROR([11]INVERSION!$I$251,\"\")","v":0},{"$f":"IFERROR([11]INVERSION!$J$251,\"\")","v":0},{"$f":"IFERROR([11]INVERSION!$K$251,\"\")","v":0},{"$f":"IFERROR([11]INVERSION!$L$251,\"\")","v":0},{"$f":"IFERROR([11]INVERSION!$M$251,\"\")","v":0},{"$f":"IFERROR([11]INVERSION!$N$251,\"\")","v":0},{"$f":"IFERROR([11]INVERSION!$O$251,\"\")","v":0},{"$f":"IFERROR([11]INVERSION!$P$251,\"\")","v":0},{"$f":"IFERROR([11]INVERSION!$Q$251,\"\")","v":0},{"$f":"IFERROR([11]INVERSION!$R$251,\"\")","v":0},{"$f":"IFERROR([11]INVERSION!$S$251,\"\")","v":"00:00:00"},{"$f":"IFERROR([11]INVERSION!$T$251,\"\")","v":"00:00:00"},{"$f":"IFERROR([11]INVERSION!$U$251,\"\")","v":0},{"$f":"IFERROR([11]INVERSION!$V$251,\"\")","v":0},{"$f":"IFERROR([11]INVERSION!$W$251,\"\")","v":0},{"$f":"IFERROR([11]INVERSION!$X$251,\"\")","v":0},{"$f":"IFERROR([11]INVERSION!$Y$251,\"\")","v":0}]
[null,null,null,null,null,null,{"$f":"IFERROR([11]INVERSION!$G$252,\"\")","v":0},{"$f":"IFERROR([11]INVERSION!$H$252,\"\")","v":0},{"$f":"IFERROR([11]INVERSION!$I$252,\"\")","v":0},{"$f":"IFERROR([11]INVERSION!$J$252,\"\")","v":0},{"$f":"IFERROR([11]INVERSION!$K$252,\"\")","v":0},{"$f":"IFERROR([11]INVERSION!$L$252,\"\")","v":0},{"$f":"IFERROR([11]INVERSION!$M$252,\"\")","v":0},{"$f":"IFERROR([11]INVERSION!$N$252,\"\")","v":0},{"$f":"IFERROR([11]INVERSION!$O$252,\"\")","v":0},{"$f":"IFERROR([11]INVERSION!$P$252,\"\")","v":0},{"$f":"IFERROR([11]INVERSION!$Q$252,\"\")","v":0},{"$f":"IFERROR([11]INVERSION!$R$252,\"\")","v":0},{"$f":"IFERROR([11]INVERSION!$S$252,\"\")","v":"00:00:00"},{"$f":"IFERROR([11]INVERSION!$T$252,\"\")","v":"00:00:00"},{"$f":"IFERROR([11]INVERSION!$U$252,\"\")","v":0},{"$f":"IFERROR([11]INVERSION!$V$252,\"\")","v":0},{"$f":"IFERROR([11]INVERSION!$W$252,\"\")","v":0},{"$f":"IFERROR([11]INVERSION!$X$252,\"\")","v":0},{"$f":"IFERROR([11]INVERSION!$Y$252,\"\")","v":0}]
[null,null,null,null,null,null,{"$f":"IFERROR([11]INVERSION!$G$253,\"\")","v":0},{"$f":"IFERROR([11]INVERSION!$H$253,\"\")","v":0},{"$f":"IFERROR([11]INVERSION!$I$253,\"\")","v":0},{"$f":"IFERROR([11]INVERSION!$J$253,\"\")","v":0},{"$f":"IFERROR([11]INVERSION!$K$253,\"\")","v":0},{"$f":"IFERROR([11]INVERSION!$L$253,\"\")","v":0},{"$f":"IFERROR([11]INVERSION!$M$253,\"\")","v":0},{"$f":"IFERROR([11]INVERSION!$N$253,\"\")","v":0},{"$f":"IFERROR([11]INVERSION!$O$253,\"\")","v":0},{"$f":"IFERROR([11]INVERSION!$P$253,\"\")","v":0},{"$f":"IFERROR([11]INVERSION!$Q$253,\"\")","v":0},{"$f":"IFERROR([11]INVERSION!$R$253,\"\")","v":0},{"$f":"IFERROR([11]INVERSION!$S$253,\"\")","v":"00:00:00"},{"$f":"IFERROR([11]INVERSION!$T$253,\"\")","v":"00:00:00"},{"$f":"IFERROR([11]INVERSION!$U$253,\"\")","v":0},{"$f":"IFERROR([11]INVERSION!$V$253,\"\")","v":0},{"$f":"IFERROR([11]INVERSION!$W$253,\"\")","v":0},{"$f":"IFERROR([11]INVERSION!$X$253,\"\")","v":0},{"$f":"IFERROR([11]INVERSION!$Y$253,\"\")","v":0},null,null,null,"","",null,0]
[null,null,null,null,null,null,{"$f":"IFERROR([11]INVERSION!$G$254,\"\")","v":0},{"$f":"IFERROR([11]INVERSION!$H$254,\"\")","v":0},{"$f":"IFERROR([11]INVERSION!$I$254,\"\")","v":0},{"$f":"IFERROR([11]INVERSION!$J$254,\"\")","v":0},{"$f":"IFERROR([11]INVERSION!$K$254,\"\")","v":0},{"$f":"IFERROR([11]INVERSION!$L$254,\"\")","v":0},{"$f":"IFERROR([11]INVERSION!$M$254,\"\")","v":0},{"$f":"IFERROR([11]INVERSION!$N$254,\"\")","v":0},{"$f":"IFERROR([11]INVERSION!$O$254,\"\")","v":0},{"$f":"IFERROR([11]INVERSION!$P$254,\"\")","v":0},{"$f":"IFERROR([11]INVERSION!$Q$254,\"\")","v":0},{"$f":"IFERROR([11]INVERSION!$R$254,\"\")","v":0},{"$f":"IFERROR([11]INVERSION!$S$254,\"\")","v":"00:00:00"},{"$f":"IFERROR([11]INVERSION!$T$254,\"\")","v":"00:00:00"},{"$f":"IFERROR([11]INVERSION!$U$254,\"\")","v":0},{"$f":"IFERROR([11]INVERSION!$V$254,\"\")","v":0},{"$f":"IFERROR([11]INVERSION!$W$254,\"\")","v":0},{"$f":"IFERROR([11]INVERSION!$X$254,\"\")","v":0},{"$f":"IFERROR([11]INVERSION!$Y$254,\"\")","v":0},null,null,null,"","",null,0]
[null,null,null,null,null,null,{"$f":"IFERROR([11]INVERSION!$G$255,\"\")","v":0},{"$f":"IFERROR([11]INVERSION!$H$255,\"\")","v":0},{"$f":"IFERROR([11]INVERSION!$I$255,\"\")","v":0},{"$f":"IFERROR([11]INVERSION!$J$255,\"\")","v":0},{"$f":"IFERROR([11]INVERSION!$K$255,\"\")","v":0},{"$f":"IFERROR([11]INVERSION!$L$255,\"\")","v":0},{"$f":"IFERROR([11]INVERSION!$M$255,\"\")","v":0},{"$f":"IFERROR([11]INVERSION!$N$255,\"\")","v":0},{"$f":"IFERROR([11]INVERSION!$O$255,\"\")","v":0},{"$f":"IFERROR([11]INVERSION!$P$255,\"\")","v":0},{"$f":"IFERROR([11]INVERSION!$Q$255,\"\")","v":0},{"$f":"IFERROR([11]INVERSION!$R$255,\"\")","v":0},{"$f":"IFERROR([11]INVERSION!$S$255,\"\")","v":"00:00:00"},{"$f":"IFERROR([11]INVERSION!$T$255,\"\")","v":"00:00:00"},{"$f":"IFERROR([11]INVERSION!$U$255,\"\")","v":0},{"$f":"IFERROR([11]INVERSION!$V$255,\"\")","v":0},{"$f":"IFERROR([11]INVERSION!$W$255,\"\")","v":0},{"$f":"IFERROR([11]INVERSION!$X$255,\"\")","v":0},{"$f":"IFERROR([11]INVERSION!$Y$255,\"\")","v":0},null,null,null,"","",null,0]

{"sheet":"JURISDICCIONAL","index":16,"n_rows":29,"n_cols":16,"rows_kept":29,"cut":false,"hidden":true,"merged":[[1,2,1,13],[2,0,3,0],[2,1,3,1],[2,2,3,2],[2,3,3,3],[2,4,3,4],[2,5,2,7],[2,8,2,10],[2,11,3,11],[2,12,2,13],[2,14,2,15],[4,0,8,0],[4,1,8,1],[4,3,8,3],[9,0,14,0],[9,1,14,1],[9,3,14,3],[27,0,28,0],[27,1,28,1],[27,3,28,3],[15,0,21,0],[15,1,21,1],[15,3,21,3],[22,0,26,0],[22,1,26,1],[22,3,26,3]]}
[]
[null,null,"CONSEJO SUPERIOR DE LA JUDICATURA \nUNIDADES MISIONALES DEL CONSEJO SUPERIOR DE LA JUDICATURA - \nDIRECCIÓN EJECUTIVA DE ADMINISTRACIÓN JUDICIAL -UNIDADES MISIONALES DE LA DEAJ\nDIRECCIONES SECCIONALES DE ADMINISTRACIÓN JUDICIAL "]
["No. ","OBJETIVOS ESTRATEGICOS PLAN SECTORIAL DE DESARROLLO 2023-2026","OBJETIVOS ESPECIFICOS PLAN SECTORIAL DE DESARROLLO 2023-2026","OBJETIVOS DEL SIGCMA","DESCRIPCIÓN DE LA ACTIVIDAD (INVERSIÓN O DE GESTIÓN) ","MAPA DE PROCESO DEL SIGCMA (RELACIONE  EL PROCESO ESTRATÉGICO, MISIONAL, APOYO y EVALUACIÓN - MEJORA)",null,null,"MEDICIÓN DE LA GESTIÓN ",null,null,"RESPONSABLE POR PROYECTO O ACTIVIDAD","FECHA DEL PROYECTO/ACTIVIDAD",null,"ANÁLISIS DE RESULTADOS"]
[null,null,null,null,null,"NOMBRE DEL PROCESO","CENTRAL","SECCIONAL","ENTREGABLE","INDICADOR","DESCRIBIR EL INDICADOR",null,"INICIO \nDÍA/MES/AÑO","FIN\nDÍA/MES/AÑO","CUMPLIMIENTO DEL OBJETIVO (ACUMULADO DE LOS 4 TRIMESTRES)"," ANÁLISIS RESULTADO\nFINAL - ACUMULADO"]
[1,"Acceso a Infraestructura Física"," 1. Ampliar el acceso a justicia para atender las necesidades jurídicas de los \nciudadanos con un enfoque diferencial, de una manera pronta, reduciendo las \ninequidades y las brechas territoriales de acceso.","\n2. Asegurar  el cumplimiento de los objetivos institucionales, la normatividad aplicable,  la mejora del SIGCMA y la satisfacción de los usuarios, revisando de  forma continua y sistemática la planificación de la gestión y fortaleciendo la administración de riesgos y sus controles. (1,2,3 y 5)\n\n4. Hacer un uso racional de los recursos naturales aplicando los principios y fases de la Economía Circular, para prevenir, mitigar y controlar los impactos ambientales. (4)\n\n"]
[null,null,"2. Mejorar los tiempos de respuesta de la Rama Judicial y reducir el inventario de \nprocesos, identificando los retos internos y promoviendo tanto acciones articuladas\nespecíficas para abordarlos como estrategias coordinadas para enfrentar las \nbarreras que dependen de otras entidades."]
[null,null,"3. Coadyuvar en la garantía de la idoneidad en el ejercicio de la profesión jurídica de acuerdo con lo establecido en la Ley 1905 de 2018"]
[null,null,"4. Avanzar en la disposición de una infraestructura óptima para el acceso a la justicia en la Rama Judicial de modo que se fortalezca la presencia territorial, teniendo en cuenta las posibilidades que ofrece la transformación digital y las necesidades que se derivan de ella, y considerando tanto las necesidades de los usuarios como las de los servidores judiciales."]
[null,null,"5. Impulsar el uso de mecanismos alternativos para la solución de conflictos y la \nampliación de la justicia restaurativa y terapéutica y el robustecimiento de las alternativas al encarcelamiento"]
[2,"Servicios digitales y de tecnología, innovación y análisis de la información","1. Ampliar el acceso a la justicia a través de la consolidación del uso de los servicios \ndigitales que conforman el sistema único integrado de gestión judicial en todos los \ndespachos judiciales y dependencias de apoyo y, específicamente, incluyendo el \ndespliegue e implementación del Expediente Judicial Electrónico en todas las \njurisdicciones y especialidades.","6. Proteger, preservar y administrar los activos de información  implementando acciones  para gestionar de forma adecuada los incidentes  , proteger los datos personales y adoptar mecanismos  de ciberseguridad y aseguramiento de la  continuidad del negocio (1, 2, 3, 4, 5 y 6)"]
[null,null,"2. Integrar y hacer compatibles todos los aplicativos de transición con SIUGJ, para que la migración de los expedientes judiciales a dicha plataforma sea real y no suponga afectaciones en la prestación del servicio de justicia."]
[null,null,"\n3. Fortalecer las capacidades institucionales, adecuar el modelo operativo y de \nservicio, bajo un enfoque de Arquitectura Empresarial y de fortalecimiento del \nacceso a la justicia."]
[null,null,"\n4.Consolidar la cultura y apropiación de la transformación digital en los servidores y \nusuarios de los servicios de la Rama Judicial y reducir brechas de acceso y conocimiento, incluyendo la oferta efectiva de información sobre el uso de las nuevas herramientas virtuales implementadas en las diferentes jurisdicciones, con especial énfasis en las zonas del país donde es evidente la brecha digital."]
[null,null,"\n5.Consolidar la infraestructura y los recursos necesarios para la implementación exitosa de la transformación digital, incluyendo la disposición de internet de calidad en el 100% de las sedes en la Rama Judicial y modernizar los servicios tecnológicos de soporte. "]
[null,null,"\n6.Integrar y optimizar los servicios administrativos de la Rama Judicial bajo un enfoque de transformación digital e innovación incluyendo los componentes financiero, administrativo, talento humano, entre otros"]
[3,"Confianza pública, transparencia y rendición de cuentas","1. Incrementar la cantidad, la calidad y pertinencia de los datos sobre el funcionamiento del servicio de justicia bajo un modelo de gobierno de datos y un liderazgo unificado. \n","1. Gestionar el desarrollo de las competencias, la toma de conciencia , la cultura  organizacional  y el compromiso de los  servidores judiciales, contratistas, practicantes y  judicantes de contribuir a generar valor público en la administración de justicia, en el marco de  cumplimiento de los requisitos  aplicables y el comportamiento ético. (3 y 7)\n\n3. Fomentar la transparencia y la participación generando lineamientos y promoviendo la rendición de cuentas ,la consulta, reporte y planteamiento de inquietudes en relación con las decisiones y aspectos del SIGCMA. (3, 4, 5 y 6)\n\n4. Hacer un uso racional de los recursos naturales aplicando los principios y fases de la Economía Circular, para prevenir, mitigar y controlar los impactos ambientales. (1 y 7)\n"]
[null,null,"2. Consolidar la administración de la información entendida como todas las acciones \norientadas a garantizar el acceso, consulta, uso y conservación de la información \nde justicia de manera ágil, flexible e inteligente, bajo un enfoque de innovación."]
[null,null,"3. Fortalecer el Sistema integrado de Gestión de la Rama, orientado a la implementación y certificación de las normas antisoborno."]
[null,null,"4. Aumentar la confianza, la cercanía y acceso a los servicios de la Rama Judicial a \ntravés, entre otros, de una comunicación clara y asertiva con la ciudadanía."]
[null,null,"5. Prevenir fenómenos asociados con actos de corrupción en la Rama Judicial y \nreducir las experiencias de corrupción de usuarios y servidores judiciales."]
[null,null,"6. Promover la rendición de cuentas y la colaboración real con la ciudadanía como \nfundamento para diseñar acciones de mejoramiento del acceso a la justicia."]
[null,null,"7. Continuar la consolidación del SIGCMA, a través de los procesos de formación en \nmodelos de gestión, logrando la implementación y ampliación de este en los esquemas certificados de manera gradual, teniendo en cuenta las capacidades de los diferentes despachos judiciales y dependencias de la Rama Judicial y articulando el enfoque de Arquitectura Empresarial para el desarrollo del PETD a través de la gestión del conocimiento para la gestión del cambio propendiendo por una cultura de la calidad, la transparencia, la rendición de cuentas, la anticorrupción y el antisoborno"]
[4,"Talento Humano","1. Ampliar la cobertura de la carrera judicial optimizando los procesos de los concursos de méritos y propender por mitigar su litigiosidad.","1. Gestionar el desarrollo de las competencias, la toma de conciencia , la cultura  organizacional  y el compromiso de los  servidores judiciales, contratistas, practicantes y  judicantes de contribuir a generar valor público en la administración de justicia, en el marco de  cumplimiento de los requisitos  aplicables y el comportamiento ético. (1, 2, 3 y 4)\n\n5. Generar espacios de trabajo seguros y saludables que contribuyan a minimizar los  incidentes, accidentes y enfermedades laborales derivados de las condiciones y actos  inseguros y fomentar  el autocuidado, los  estilos de vida y el trabajo saludable en los servidores judiciales, contratistas, judicantes y practicantes. (5)\n"]
[null,null,"2. Impactar la función y servicios que presta la Rama Judicial, a través de una\nformación integral desde una visión de gestión del conocimiento, relacionada con \nlos problemas de la justicia y los problemas de gestión de quienes administran los \nrecursos de la justicia, y potenciando el uso de medios virtuales."]
[null,null,"3. Promover la incorporación de la perspectiva de género y el enfoque diferencial en \nlos fallos judiciales y en la atención a los ciudadanos, la administración de la Rama \nJudicial, la administración de la carrera judicial y la elaboración de listas para altas \nCortes. "]
[null,null,"4. Desarrollar en los servidores judiciales y demás grupos de valor relevantes las \ncompetencias necesarias para la efectividad de la transformación digital de modo \nque puedan, entre otros, utilizar con solvencia las herramientas digitales dispuestas \npara sus respectivas funciones. Además, fortalecer y actualizar los conocimientos \ndel personal a cargo de la gestión de proyectos de tecnología."]
[null,null,"5. Promover el bienestar de todos los servidores judiciales a través de la implementación de un sistema que contemple los diferentes niveles de estrategias y acciones necesarios para mejorar el clima laboral, la salud física y mental y la calidad del tiempo de descanso."]
[5,"Gobernanza, planeación estratégica y capacidad de toma de decisiones","1. Implementar un nuevo modelo integrado para la planeación estratégica, el \nseguimiento y la medición del desempeño institucional.","\n2. Asegurar  el cumplimiento de los objetivos institucionales, la normatividad aplicable,  la mejora del SIGCMA y la satisfacción de los usuarios, revisando de  forma continua y sistemática la planificación de la gestión y fortaleciendo la administración de riesgos y sus controles. (1 y 2)"]
[null,null,"2. Definir e implementar el modelo optimizado de formulación, seguimiento y \nevaluación de la política pública judicial."]